{"text_format":"1","workbook":"xlsx","n_sheets":10,"sheets":["X0withPad","im2col","W1_Bias","im2col_W1","truncate","plusBias","Relu","outCh0","X0の2進","W1の2進"],"not_rendered":{"charts":0,"images":0,"macros":1,"external_links":0,"defined_names":0,"comments":0,"pivot_tables":0},"unopened":[],"bounds":{"document_bytes":16777216,"sheet_cells":100000,"rows_first":2000,"rows_last":500,"rows_between":2000,"halvings":0,"cell_chars":16384,"cell_head_chars":4096},"cells_cut":0,"cells_raw":0,"read":"whole","date_system":"1900"}

{"sheet":"X0withPad","index":0,"n_rows":35,"n_cols":30,"rows_kept":35,"cut":false,"hidden":false,"merged":[]}
[0,0,0,0,0,0,0,0,0,0,0,0,0,0,0,0,0,0,0,0,0,0,0,0,0,0,0,0,0,0]
[0,0,0,0,0,0,0,0,0,0,0,0,0,0,0,0,0,0,0,0,0,0,0,0,0,0,0,0,0,0]
[0,0,0,0,0,0,0,0,0,0,0,0,0,0,0,0,0,0,0,0,0,0,0,0,0,0,0,0,0,0]
[0,0,0,0,0,0,0,0,0,0,0,0,0,0,0,0,0,0,0,0,0,0,0,0,0,0,0,0,0,0]
[0,0,0,0,0,0,0,0,0,0,0,0,0,0,0,0,0,0,0,0,0,0,0,0,0,0,0,0,0,0]
[0,0,0,0,0,0,0,0,0,0,0,0,0,0,0,0,0,0,0,0,0,0,0,0,0,0,0,0,0,0]
[0,0,0,0,0,0,0,0,0,0,0,0,0,0,0,0,0,0,0,0,0,0,0,0,0,0,0,0,0,0]
[0,0,0,0,0,0,0,0,0,0,0,0,0,0,0,0,0,0,0,0,0,0,0,0,0,0,0,0,0,0]
[0,0,0,0,0,0,0,84,185,159,151,60,36,0,0,0,0,0,0,0,0,0,0,0,0,0,0,0,0,0]
[0,0,0,0,0,0,0,222,254,254,254,254,241,198,198,198,198,198,198,198,198,170,52,0,0,0,0,0,0,0]
[0,0,0,0,0,0,0,67,114,72,114,163,227,254,225,254,254,254,250,229,254,254,140,0,0,0,0,0,0,0]
[0,0,0,0,0,0,0,0,0,0,0,0,17,66,14,67,67,67,59,21,236,254,106,0,0,0,0,0,0,0]
[0,0,0,0,0,0,0,0,0,0,0,0,0,0,0,0,0,0,0,83,253,209,18,0,0,0,0,0,0,0]
[0,0,0,0,0,0,0,0,0,0,0,0,0,0,0,0,0,0,22,233,255,83,0,0,0,0,0,0,0,0]
[0,0,0,0,0,0,0,0,0,0,0,0,0,0,0,0,0,0,129,254,238,44,0,0,0,0,0,0,0,0]
[0,0,0,0,0,0,0,0,0,0,0,0,0,0,0,0,0,59,249,254,62,0,0,0,0,0,0,0,0,0]
[0,0,0,0,0,0,0,0,0,0,0,0,0,0,0,0,0,133,254,187,5,0,0,0,0,0,0,0,0,0]
[0,0,0,0,0,0,0,0,0,0,0,0,0,0,0,0,9,205,248,58,0,0,0,0,0,0,0,0,0,0]
[0,0,0,0,0,0,0,0,0,0,0,0,0,0,0,0,126,254,182,0,0,0,0,0,0,0,0,0,0,0]
[0,0,0,0,0,0,0,0,0,0,0,0,0,0,0,75,251,240,57,0,0,0,0,0,0,0,0,0,0,0]
[0,0,0,0,0,0,0,0,0,0,0,0,0,0,19,221,254,166,0,0,0,0,0,0,0,0,0,0,0,0]
[0,0,0,0,0,0,0,0,0,0,0,0,0,3,203,254,219,35,0,0,0,0,0,0,0,0,0,0,0,0]
[0,0,0,0,0,0,0,0,0,0,0,0,0,38,254,254,77,0,0,0,0,0,0,0,0,0,0,0,0,0]
[0,0,0,0,0,0,0,0,0,0,0,0,31,224,254,115,1,0,0,0,0,0,0,0,0,0,0,0,0,0]
[0,0,0,0,0,0,0,0,0,0,0,0,133,254,254,52,0,0,0,0,0,0,0,0,0,0,0,0,0,0]
[0,0,0,0,0,0,0,0,0,0,0,61,242,254,254,52,0,0,0,0,0,0,0,0,0,0,0,0,0,0]
[0,0,0,0,0,0,0,0,0,0,0,121,254,254,219,40,0,0,0,0,0,0,0,0,0,0,0,0,0,0]
[0,0,0,0,0,0,0,0,0,0,0,121,254,207,18,0,0,0,0,0,0,0,0,0,0,0,0,0,0,0]
[0,0,0,0,0,0,0,0,0,0,0,0,0,0,0,0,0,0,0,0,0,0,0,0,0,0,0,0,0,0]
[0,0,0,0,0,0,0,0,0,0,0,0,0,0,0,0,0,0,0,0,0,0,0,0,0,0,0,0,0,0]
[]
[]
[]
[]
[1,2,3,4,5,6,7,8,9,10,11,12,13,14,15,16,17,18,19,20,21,22,23,24,25,26,27,28,29,30]

{"sheet":"im2col","index":1,"n_rows":784,"n_cols":9,"rows_kept":784,"cut":false,"hidden":false,"merged":[]}
[{"$f":"OFFSET(X0withPad!$A$1, INT((ROW()-1)/28), MOD(ROW()-1, 28))","v":0},{"$f":"OFFSET(X0withPad!$B$1, INT((ROW()-1)/28), MOD(ROW()-1, 28))","v":0},{"$f":"OFFSET(X0withPad!$C$1, INT((ROW()-1)/28), MOD(ROW()-1, 28))","v":0},{"$f":"OFFSET(X0withPad!$A$2, INT((ROW()-1)/28), MOD(ROW()-1, 28))","v":0},{"$f":"OFFSET(X0withPad!$B$2, INT((ROW()-1)/28), MOD(ROW()-1, 28))","v":0},{"$f":"OFFSET(X0withPad!$C$2, INT((ROW()-1)/28), MOD(ROW()-1, 28))","v":0},{"$f":"OFFSET(X0withPad!$A$3, INT((ROW()-1)/28), MOD(ROW()-1, 28))","v":0},{"$f":"OFFSET(X0withPad!$B$3, INT((ROW()-1)/28), MOD(ROW()-1, 28))","v":0},{"$f":"OFFSET(X0withPad!$C$3, INT((ROW()-1)/28), MOD(ROW()-1, 28))","v":0}]
[{"$f":"OFFSET(X0withPad!$A$1, INT((ROW()-1)/28), MOD(ROW()-1, 28))","v":0},{"$f":"OFFSET(X0withPad!$B$1, INT((ROW()-1)/28), MOD(ROW()-1, 28))","v":0},{"$f":"OFFSET(X0withPad!$C$1, INT((ROW()-1)/28), MOD(ROW()-1, 28))","v":0},{"$f":"OFFSET(X0withPad!$A$2, INT((ROW()-1)/28), MOD(ROW()-1, 28))","v":0},{"$f":"OFFSET(X0withPad!$B$2, INT((ROW()-1)/28), MOD(ROW()-1, 28))","v":0},{"$f":"OFFSET(X0withPad!$C$2, INT((ROW()-1)/28), MOD(ROW()-1, 28))","v":0},{"$f":"OFFSET(X0withPad!$A$3, INT((ROW()-1)/28), MOD(ROW()-1, 28))","v":0},{"$f":"OFFSET(X0withPad!$B$3, INT((ROW()-1)/28), MOD(ROW()-1, 28))","v":0},{"$f":"OFFSET(X0withPad!$C$3, INT((ROW()-1)/28), MOD(ROW()-1, 28))","v":0}]
[{"$f":"OFFSET(X0withPad!$A$1, INT((ROW()-1)/28), MOD(ROW()-1, 28))","v":0},{"$f":"OFFSET(X0withPad!$B$1, INT((ROW()-1)/28), MOD(ROW()-1, 28))","v":0},{"$f":"OFFSET(X0withPad!$C$1, INT((ROW()-1)/28), MOD(ROW()-1, 28))","v":0},{"$f":"OFFSET(X0withPad!$A$2, INT((ROW()-1)/28), MOD(ROW()-1, 28))","v":0},{"$f":"OFFSET(X0withPad!$B$2, INT((ROW()-1)/28), MOD(ROW()-1, 28))","v":0},{"$f":"OFFSET(X0withPad!$C$2, INT((ROW()-1)/28), MOD(ROW()-1, 28))","v":0},{"$f":"OFFSET(X0withPad!$A$3, INT((ROW()-1)/28), MOD(ROW()-1, 28))","v":0},{"$f":"OFFSET(X0withPad!$B$3, INT((ROW()-1)/28), MOD(ROW()-1, 28))","v":0},{"$f":"OFFSET(X0withPad!$C$3, INT((ROW()-1)/28), MOD(ROW()-1, 28))","v":0}]
[{"$f":"OFFSET(X0withPad!$A$1, INT((ROW()-1)/28), MOD(ROW()-1, 28))","v":0},{"$f":"OFFSET(X0withPad!$B$1, INT((ROW()-1)/28), MOD(ROW()-1, 28))","v":0},{"$f":"OFFSET(X0withPad!$C$1, INT((ROW()-1)/28), MOD(ROW()-1, 28))","v":0},{"$f":"OFFSET(X0withPad!$A$2, INT((ROW()-1)/28), MOD(ROW()-1, 28))","v":0},{"$f":"OFFSET(X0withPad!$B$2, INT((ROW()-1)/28), MOD(ROW()-1, 28))","v":0},{"$f":"OFFSET(X0withPad!$C$2, INT((ROW()-1)/28), MOD(ROW()-1, 28))","v":0},{"$f":"OFFSET(X0withPad!$A$3, INT((ROW()-1)/28), MOD(ROW()-1, 28))","v":0},{"$f":"OFFSET(X0withPad!$B$3, INT((ROW()-1)/28), MOD(ROW()-1, 28))","v":0},{"$f":"OFFSET(X0withPad!$C$3, INT((ROW()-1)/28), MOD(ROW()-1, 28))","v":0}]
[{"$f":"OFFSET(X0withPad!$A$1, INT((ROW()-1)/28), MOD(ROW()-1, 28))","v":0},{"$f":"OFFSET(X0withPad!$B$1, INT((ROW()-1)/28), MOD(ROW()-1, 28))","v":0},{"$f":"OFFSET(X0withPad!$C$1, INT((ROW()-1)/28), MOD(ROW()-1, 28))","v":0},{"$f":"OFFSET(X0withPad!$A$2, INT((ROW()-1)/28), MOD(ROW()-1, 28))","v":0},{"$f":"OFFSET(X0withPad!$B$2, INT((ROW()-1)/28), MOD(ROW()-1, 28))","v":0},{"$f":"OFFSET(X0withPad!$C$2, INT((ROW()-1)/28), MOD(ROW()-1, 28))","v":0},{"$f":"OFFSET(X0withPad!$A$3, INT((ROW()-1)/28), MOD(ROW()-1, 28))","v":0},{"$f":"OFFSET(X0withPad!$B$3, INT((ROW()-1)/28), MOD(ROW()-1, 28))","v":0},{"$f":"OFFSET(X0withPad!$C$3, INT((ROW()-1)/28), MOD(ROW()-1, 28))","v":0}]
[{"$f":"OFFSET(X0withPad!$A$1, INT((ROW()-1)/28), MOD(ROW()-1, 28))","v":0},{"$f":"OFFSET(X0withPad!$B$1, INT((ROW()-1)/28), MOD(ROW()-1, 28))","v":0},{"$f":"OFFSET(X0withPad!$C$1, INT((ROW()-1)/28), MOD(ROW()-1, 28))","v":0},{"$f":"OFFSET(X0withPad!$A$2, INT((ROW()-1)/28), MOD(ROW()-1, 28))","v":0},{"$f":"OFFSET(X0withPad!$B$2, INT((ROW()-1)/28), MOD(ROW()-1, 28))","v":0},{"$f":"OFFSET(X0withPad!$C$2, INT((ROW()-1)/28), MOD(ROW()-1, 28))","v":0},{"$f":"OFFSET(X0withPad!$A$3, INT((ROW()-1)/28), MOD(ROW()-1, 28))","v":0},{"$f":"OFFSET(X0withPad!$B$3, INT((ROW()-1)/28), MOD(ROW()-1, 28))","v":0},{"$f":"OFFSET(X0withPad!$C$3, INT((ROW()-1)/28), MOD(ROW()-1, 28))","v":0}]
[{"$f":"OFFSET(X0withPad!$A$1, INT((ROW()-1)/28), MOD(ROW()-1, 28))","v":0},{"$f":"OFFSET(X0withPad!$B$1, INT((ROW()-1)/28), MOD(ROW()-1, 28))","v":0},{"$f":"OFFSET(X0withPad!$C$1, INT((ROW()-1)/28), MOD(ROW()-1, 28))","v":0},{"$f":"OFFSET(X0withPad!$A$2, INT((ROW()-1)/28), MOD(ROW()-1, 28))","v":0},{"$f":"OFFSET(X0withPad!$B$2, INT((ROW()-1)/28), MOD(ROW()-1, 28))","v":0},{"$f":"OFFSET(X0withPad!$C$2, INT((ROW()-1)/28), MOD(ROW()-1, 28))","v":0},{"$f":"OFFSET(X0withPad!$A$3, INT((ROW()-1)/28), MOD(ROW()-1, 28))","v":0},{"$f":"OFFSET(X0withPad!$B$3, INT((ROW()-1)/28), MOD(ROW()-1, 28))","v":0},{"$f":"OFFSET(X0withPad!$C$3, INT((ROW()-1)/28), MOD(ROW()-1, 28))","v":0}]
[{"$f":"OFFSET(X0withPad!$A$1, INT((ROW()-1)/28), MOD(ROW()-1, 28))","v":0},{"$f":"OFFSET(X0withPad!$B$1, INT((ROW()-1)/28), MOD(ROW()-1, 28))","v":0},{"$f":"OFFSET(X0withPad!$C$1, INT((ROW()-1)/28), MOD(ROW()-1, 28))","v":0},{"$f":"OFFSET(X0withPad!$A$2, INT((ROW()-1)/28), MOD(ROW()-1, 28))","v":0},{"$f":"OFFSET(X0withPad!$B$2, INT((ROW()-1)/28), MOD(ROW()-1, 28))","v":0},{"$f":"OFFSET(X0withPad!$C$2, INT((ROW()-1)/28), MOD(ROW()-1, 28))","v":0},{"$f":"OFFSET(X0withPad!$A$3, INT((ROW()-1)/28), MOD(ROW()-1, 28))","v":0},{"$f":"OFFSET(X0withPad!$B$3, INT((ROW()-1)/28), MOD(ROW()-1, 28))","v":0},{"$f":"OFFSET(X0withPad!$C$3, INT((ROW()-1)/28), MOD(ROW()-1, 28))","v":0}]
[{"$f":"OFFSET(X0withPad!$A$1, INT((ROW()-1)/28), MOD(ROW()-1, 28))","v":0},{"$f":"OFFSET(X0withPad!$B$1, INT((ROW()-1)/28), MOD(ROW()-1, 28))","v":0},{"$f":"OFFSET(X0withPad!$C$1, INT((ROW()-1)/28), MOD(ROW()-1, 28))","v":0},{"$f":"OFFSET(X0withPad!$A$2, INT((ROW()-1)/28), MOD(ROW()-1, 28))","v":0},{"$f":"OFFSET(X0withPad!$B$2, INT((ROW()-1)/28), MOD(ROW()-1, 28))","v":0},{"$f":"OFFSET(X0withPad!$C$2, INT((ROW()-1)/28), MOD(ROW()-1, 28))","v":0},{"$f":"OFFSET(X0withPad!$A$3, INT((ROW()-1)/28), MOD(ROW()-1, 28))","v":0},{"$f":"OFFSET(X0withPad!$B$3, INT((ROW()-1)/28), MOD(ROW()-1, 28))","v":0},{"$f":"OFFSET(X0withPad!$C$3, INT((ROW()-1)/28), MOD(ROW()-1, 28))","v":0}]
[{"$f":"OFFSET(X0withPad!$A$1, INT((ROW()-1)/28), MOD(ROW()-1, 28))","v":0},{"$f":"OFFSET(X0withPad!$B$1, INT((ROW()-1)/28), MOD(ROW()-1, 28))","v":0},{"$f":"OFFSET(X0withPad!$C$1, INT((ROW()-1)/28), MOD(ROW()-1, 28))","v":0},{"$f":"OFFSET(X0withPad!$A$2, INT((ROW()-1)/28), MOD(ROW()-1, 28))","v":0},{"$f":"OFFSET(X0withPad!$B$2, INT((ROW()-1)/28), MOD(ROW()-1, 28))","v":0},{"$f":"OFFSET(X0withPad!$C$2, INT((ROW()-1)/28), MOD(ROW()-1, 28))","v":0},{"$f":"OFFSET(X0withPad!$A$3, INT((ROW()-1)/28), MOD(ROW()-1, 28))","v":0},{"$f":"OFFSET(X0withPad!$B$3, INT((ROW()-1)/28), MOD(ROW()-1, 28))","v":0},{"$f":"OFFSET(X0withPad!$C$3, INT((ROW()-1)/28), MOD(ROW()-1, 28))","v":0}]
[{"$f":"OFFSET(X0withPad!$A$1, INT((ROW()-1)/28), MOD(ROW()-1, 28))","v":0},{"$f":"OFFSET(X0withPad!$B$1, INT((ROW()-1)/28), MOD(ROW()-1, 28))","v":0},{"$f":"OFFSET(X0withPad!$C$1, INT((ROW()-1)/28), MOD(ROW()-1, 28))","v":0},{"$f":"OFFSET(X0withPad!$A$2, INT((ROW()-1)/28), MOD(ROW()-1, 28))","v":0},{"$f":"OFFSET(X0withPad!$B$2, INT((ROW()-1)/28), MOD(ROW()-1, 28))","v":0},{"$f":"OFFSET(X0withPad!$C$2, INT((ROW()-1)/28), MOD(ROW()-1, 28))","v":0},{"$f":"OFFSET(X0withPad!$A$3, INT((ROW()-1)/28), MOD(ROW()-1, 28))","v":0},{"$f":"OFFSET(X0withPad!$B$3, INT((ROW()-1)/28), MOD(ROW()-1, 28))","v":0},{"$f":"OFFSET(X0withPad!$C$3, INT((ROW()-1)/28), MOD(ROW()-1, 28))","v":0}]
[{"$f":"OFFSET(X0withPad!$A$1, INT((ROW()-1)/28), MOD(ROW()-1, 28))","v":0},{"$f":"OFFSET(X0withPad!$B$1, INT((ROW()-1)/28), MOD(ROW()-1, 28))","v":0},{"$f":"OFFSET(X0withPad!$C$1, INT((ROW()-1)/28), MOD(ROW()-1, 28))","v":0},{"$f":"OFFSET(X0withPad!$A$2, INT((ROW()-1)/28), MOD(ROW()-1, 28))","v":0},{"$f":"OFFSET(X0withPad!$B$2, INT((ROW()-1)/28), MOD(ROW()-1, 28))","v":0},{"$f":"OFFSET(X0withPad!$C$2, INT((ROW()-1)/28), MOD(ROW()-1, 28))","v":0},{"$f":"OFFSET(X0withPad!$A$3, INT((ROW()-1)/28), MOD(ROW()-1, 28))","v":0},{"$f":"OFFSET(X0withPad!$B$3, INT((ROW()-1)/28), MOD(ROW()-1, 28))","v":0},{"$f":"OFFSET(X0withPad!$C$3, INT((ROW()-1)/28), MOD(ROW()-1, 28))","v":0}]
[{"$f":"OFFSET(X0withPad!$A$1, INT((ROW()-1)/28), MOD(ROW()-1, 28))","v":0},{"$f":"OFFSET(X0withPad!$B$1, INT((ROW()-1)/28), MOD(ROW()-1, 28))","v":0},{"$f":"OFFSET(X0withPad!$C$1, INT((ROW()-1)/28), MOD(ROW()-1, 28))","v":0},{"$f":"OFFSET(X0withPad!$A$2, INT((ROW()-1)/28), MOD(ROW()-1, 28))","v":0},{"$f":"OFFSET(X0withPad!$B$2, INT((ROW()-1)/28), MOD(ROW()-1, 28))","v":0},{"$f":"OFFSET(X0withPad!$C$2, INT((ROW()-1)/28), MOD(ROW()-1, 28))","v":0},{"$f":"OFFSET(X0withPad!$A$3, INT((ROW()-1)/28), MOD(ROW()-1, 28))","v":0},{"$f":"OFFSET(X0withPad!$B$3, INT((ROW()-1)/28), MOD(ROW()-1, 28))","v":0},{"$f":"OFFSET(X0withPad!$C$3, INT((ROW()-1)/28), MOD(ROW()-1, 28))","v":0}]
[{"$f":"OFFSET(X0withPad!$A$1, INT((ROW()-1)/28), MOD(ROW()-1, 28))","v":0},{"$f":"OFFSET(X0withPad!$B$1, INT((ROW()-1)/28), MOD(ROW()-1, 28))","v":0},{"$f":"OFFSET(X0withPad!$C$1, INT((ROW()-1)/28), MOD(ROW()-1, 28))","v":0},{"$f":"OFFSET(X0withPad!$A$2, INT((ROW()-1)/28), MOD(ROW()-1, 28))","v":0},{"$f":"OFFSET(X0withPad!$B$2, INT((ROW()-1)/28), MOD(ROW()-1, 28))","v":0},{"$f":"OFFSET(X0withPad!$C$2, INT((ROW()-1)/28), MOD(ROW()-1, 28))","v":0},{"$f":"OFFSET(X0withPad!$A$3, INT((ROW()-1)/28), MOD(ROW()-1, 28))","v":0},{"$f":"OFFSET(X0withPad!$B$3, INT((ROW()-1)/28), MOD(ROW()-1, 28))","v":0},{"$f":"OFFSET(X0withPad!$C$3, INT((ROW()-1)/28), MOD(ROW()-1, 28))","v":0}]
[{"$f":"OFFSET(X0withPad!$A$1, INT((ROW()-1)/28), MOD(ROW()-1, 28))","v":0},{"$f":"OFFSET(X0withPad!$B$1, INT((ROW()-1)/28), MOD(ROW()-1, 28))","v":0},{"$f":"OFFSET(X0withPad!$C$1, INT((ROW()-1)/28), MOD(ROW()-1, 28))","v":0},{"$f":"OFFSET(X0withPad!$A$2, INT((ROW()-1)/28), MOD(ROW()-1, 28))","v":0},{"$f":"OFFSET(X0withPad!$B$2, INT((ROW()-1)/28), MOD(ROW()-1, 28))","v":0},{"$f":"OFFSET(X0withPad!$C$2, INT((ROW()-1)/28), MOD(ROW()-1, 28))","v":0},{"$f":"OFFSET(X0withPad!$A$3, INT((ROW()-1)/28), MOD(ROW()-1, 28))","v":0},{"$f":"OFFSET(X0withPad!$B$3, INT((ROW()-1)/28), MOD(ROW()-1, 28))","v":0},{"$f":"OFFSET(X0withPad!$C$3, INT((ROW()-1)/28), MOD(ROW()-1, 28))","v":0}]
[{"$f":"OFFSET(X0withPad!$A$1, INT((ROW()-1)/28), MOD(ROW()-1, 28))","v":0},{"$f":"OFFSET(X0withPad!$B$1, INT((ROW()-1)/28), MOD(ROW()-1, 28))","v":0},{"$f":"OFFSET(X0withPad!$C$1, INT((ROW()-1)/28), MOD(ROW()-1, 28))","v":0},{"$f":"OFFSET(X0withPad!$A$2, INT((ROW()-1)/28), MOD(ROW()-1, 28))","v":0},{"$f":"OFFSET(X0withPad!$B$2, INT((ROW()-1)/28), MOD(ROW()-1, 28))","v":0},{"$f":"OFFSET(X0withPad!$C$2, INT((ROW()-1)/28), MOD(ROW()-1, 28))","v":0},{"$f":"OFFSET(X0withPad!$A$3, INT((ROW()-1)/28), MOD(ROW()-1, 28))","v":0},{"$f":"OFFSET(X0withPad!$B$3, INT((ROW()-1)/28), MOD(ROW()-1, 28))","v":0},{"$f":"OFFSET(X0withPad!$C$3, INT((ROW()-1)/28), MOD(ROW()-1, 28))","v":0}]
[{"$f":"OFFSET(X0withPad!$A$1, INT((ROW()-1)/28), MOD(ROW()-1, 28))","v":0},{"$f":"OFFSET(X0withPad!$B$1, INT((ROW()-1)/28), MOD(ROW()-1, 28))","v":0},{"$f":"OFFSET(X0withPad!$C$1, INT((ROW()-1)/28), MOD(ROW()-1, 28))","v":0},{"$f":"OFFSET(X0withPad!$A$2, INT((ROW()-1)/28), MOD(ROW()-1, 28))","v":0},{"$f":"OFFSET(X0withPad!$B$2, INT((ROW()-1)/28), MOD(ROW()-1, 28))","v":0},{"$f":"OFFSET(X0withPad!$C$2, INT((ROW()-1)/28), MOD(ROW()-1, 28))","v":0},{"$f":"OFFSET(X0withPad!$A$3, INT((ROW()-1)/28), MOD(ROW()-1, 28))","v":0},{"$f":"OFFSET(X0withPad!$B$3, INT((ROW()-1)/28), MOD(ROW()-1, 28))","v":0},{"$f":"OFFSET(X0withPad!$C$3, INT((ROW()-1)/28), MOD(ROW()-1, 28))","v":0}]
[{"$f":"OFFSET(X0withPad!$A$1, INT((ROW()-1)/28), MOD(ROW()-1, 28))","v":0},{"$f":"OFFSET(X0withPad!$B$1, INT((ROW()-1)/28), MOD(ROW()-1, 28))","v":0},{"$f":"OFFSET(X0withPad!$C$1, INT((ROW()-1)/28), MOD(ROW()-1, 28))","v":0},{"$f":"OFFSET(X0withPad!$A$2, INT((ROW()-1)/28), MOD(ROW()-1, 28))","v":0},{"$f":"OFFSET(X0withPad!$B$2, INT((ROW()-1)/28), MOD(ROW()-1, 28))","v":0},{"$f":"OFFSET(X0withPad!$C$2, INT((ROW()-1)/28), MOD(ROW()-1, 28))","v":0},{"$f":"OFFSET(X0withPad!$A$3, INT((ROW()-1)/28), MOD(ROW()-1, 28))","v":0},{"$f":"OFFSET(X0withPad!$B$3, INT((ROW()-1)/28), MOD(ROW()-1, 28))","v":0},{"$f":"OFFSET(X0withPad!$C$3, INT((ROW()-1)/28), MOD(ROW()-1, 28))","v":0}]
[{"$f":"OFFSET(X0withPad!$A$1, INT((ROW()-1)/28), MOD(ROW()-1, 28))","v":0},{"$f":"OFFSET(X0withPad!$B$1, INT((ROW()-1)/28), MOD(ROW()-1, 28))","v":0},{"$f":"OFFSET(X0withPad!$C$1, INT((ROW()-1)/28), MOD(ROW()-1, 28))","v":0},{"$f":"OFFSET(X0withPad!$A$2, INT((ROW()-1)/28), MOD(ROW()-1, 28))","v":0},{"$f":"OFFSET(X0withPad!$B$2, INT((ROW()-1)/28), MOD(ROW()-1, 28))","v":0},{"$f":"OFFSET(X0withPad!$C$2, INT((ROW()-1)/28), MOD(ROW()-1, 28))","v":0},{"$f":"OFFSET(X0withPad!$A$3, INT((ROW()-1)/28), MOD(ROW()-1, 28))","v":0},{"$f":"OFFSET(X0withPad!$B$3, INT((ROW()-1)/28), MOD(ROW()-1, 28))","v":0},{"$f":"OFFSET(X0withPad!$C$3, INT((ROW()-1)/28), MOD(ROW()-1, 28))","v":0}]
[{"$f":"OFFSET(X0withPad!$A$1, INT((ROW()-1)/28), MOD(ROW()-1, 28))","v":0},{"$f":"OFFSET(X0withPad!$B$1, INT((ROW()-1)/28), MOD(ROW()-1, 28))","v":0},{"$f":"OFFSET(X0withPad!$C$1, INT((ROW()-1)/28), MOD(ROW()-1, 28))","v":0},{"$f":"OFFSET(X0withPad!$A$2, INT((ROW()-1)/28), MOD(ROW()-1, 28))","v":0},{"$f":"OFFSET(X0withPad!$B$2, INT((ROW()-1)/28), MOD(ROW()-1, 28))","v":0},{"$f":"OFFSET(X0withPad!$C$2, INT((ROW()-1)/28), MOD(ROW()-1, 28))","v":0},{"$f":"OFFSET(X0withPad!$A$3, INT((ROW()-1)/28), MOD(ROW()-1, 28))","v":0},{"$f":"OFFSET(X0withPad!$B$3, INT((ROW()-1)/28), MOD(ROW()-1, 28))","v":0},{"$f":"OFFSET(X0withPad!$C$3, INT((ROW()-1)/28), MOD(ROW()-1, 28))","v":0}]
[{"$f":"OFFSET(X0withPad!$A$1, INT((ROW()-1)/28), MOD(ROW()-1, 28))","v":0},{"$f":"OFFSET(X0withPad!$B$1, INT((ROW()-1)/28), MOD(ROW()-1, 28))","v":0},{"$f":"OFFSET(X0withPad!$C$1, INT((ROW()-1)/28), MOD(ROW()-1, 28))","v":0},{"$f":"OFFSET(X0withPad!$A$2, INT((ROW()-1)/28), MOD(ROW()-1, 28))","v":0},{"$f":"OFFSET(X0withPad!$B$2, INT((ROW()-1)/28), MOD(ROW()-1, 28))","v":0},{"$f":"OFFSET(X0withPad!$C$2, INT((ROW()-1)/28), MOD(ROW()-1, 28))","v":0},{"$f":"OFFSET(X0withPad!$A$3, INT((ROW()-1)/28), MOD(ROW()-1, 28))","v":0},{"$f":"OFFSET(X0withPad!$B$3, INT((ROW()-1)/28), MOD(ROW()-1, 28))","v":0},{"$f":"OFFSET(X0withPad!$C$3, INT((ROW()-1)/28), MOD(ROW()-1, 28))","v":0}]
[{"$f":"OFFSET(X0withPad!$A$1, INT((ROW()-1)/28), MOD(ROW()-1, 28))","v":0},{"$f":"OFFSET(X0withPad!$B$1, INT((ROW()-1)/28), MOD(ROW()-1, 28))","v":0},{"$f":"OFFSET(X0withPad!$C$1, INT((ROW()-1)/28), MOD(ROW()-1, 28))","v":0},{"$f":"OFFSET(X0withPad!$A$2, INT((ROW()-1)/28), MOD(ROW()-1, 28))","v":0},{"$f":"OFFSET(X0withPad!$B$2, INT((ROW()-1)/28), MOD(ROW()-1, 28))","v":0},{"$f":"OFFSET(X0withPad!$C$2, INT((ROW()-1)/28), MOD(ROW()-1, 28))","v":0},{"$f":"OFFSET(X0withPad!$A$3, INT((ROW()-1)/28), MOD(ROW()-1, 28))","v":0},{"$f":"OFFSET(X0withPad!$B$3, INT((ROW()-1)/28), MOD(ROW()-1, 28))","v":0},{"$f":"OFFSET(X0withPad!$C$3, INT((ROW()-1)/28), MOD(ROW()-1, 28))","v":0}]
[{"$f":"OFFSET(X0withPad!$A$1, INT((ROW()-1)/28), MOD(ROW()-1, 28))","v":0},{"$f":"OFFSET(X0withPad!$B$1, INT((ROW()-1)/28), MOD(ROW()-1, 28))","v":0},{"$f":"OFFSET(X0withPad!$C$1, INT((ROW()-1)/28), MOD(ROW()-1, 28))","v":0},{"$f":"OFFSET(X0withPad!$A$2, INT((ROW()-1)/28), MOD(ROW()-1, 28))","v":0},{"$f":"OFFSET(X0withPad!$B$2, INT((ROW()-1)/28), MOD(ROW()-1, 28))","v":0},{"$f":"OFFSET(X0withPad!$C$2, INT((ROW()-1)/28), MOD(ROW()-1, 28))","v":0},{"$f":"OFFSET(X0withPad!$A$3, INT((ROW()-1)/28), MOD(ROW()-1, 28))","v":0},{"$f":"OFFSET(X0withPad!$B$3, INT((ROW()-1)/28), MOD(ROW()-1, 28))","v":0},{"$f":"OFFSET(X0withPad!$C$3, INT((ROW()-1)/28), MOD(ROW()-1, 28))","v":0}]
[{"$f":"OFFSET(X0withPad!$A$1, INT((ROW()-1)/28), MOD(ROW()-1, 28))","v":0},{"$f":"OFFSET(X0withPad!$B$1, INT((ROW()-1)/28), MOD(ROW()-1, 28))","v":0},{"$f":"OFFSET(X0withPad!$C$1, INT((ROW()-1)/28), MOD(ROW()-1, 28))","v":0},{"$f":"OFFSET(X0withPad!$A$2, INT((ROW()-1)/28), MOD(ROW()-1, 28))","v":0},{"$f":"OFFSET(X0withPad!$B$2, INT((ROW()-1)/28), MOD(ROW()-1, 28))","v":0},{"$f":"OFFSET(X0withPad!$C$2, INT((ROW()-1)/28), MOD(ROW()-1, 28))","v":0},{"$f":"OFFSET(X0withPad!$A$3, INT((ROW()-1)/28), MOD(ROW()-1, 28))","v":0},{"$f":"OFFSET(X0withPad!$B$3, INT((ROW()-1)/28), MOD(ROW()-1, 28))","v":0},{"$f":"OFFSET(X0withPad!$C$3, INT((ROW()-1)/28), MOD(ROW()-1, 28))","v":0}]
[{"$f":"OFFSET(X0withPad!$A$1, INT((ROW()-1)/28), MOD(ROW()-1, 28))","v":0},{"$f":"OFFSET(X0withPad!$B$1, INT((ROW()-1)/28), MOD(ROW()-1, 28))","v":0},{"$f":"OFFSET(X0withPad!$C$1, INT((ROW()-1)/28), MOD(ROW()-1, 28))","v":0},{"$f":"OFFSET(X0withPad!$A$2, INT((ROW()-1)/28), MOD(ROW()-1, 28))","v":0},{"$f":"OFFSET(X0withPad!$B$2, INT((ROW()-1)/28), MOD(ROW()-1, 28))","v":0},{"$f":"OFFSET(X0withPad!$C$2, INT((ROW()-1)/28), MOD(ROW()-1, 28))","v":0},{"$f":"OFFSET(X0withPad!$A$3, INT((ROW()-1)/28), MOD(ROW()-1, 28))","v":0},{"$f":"OFFSET(X0withPad!$B$3, INT((ROW()-1)/28), MOD(ROW()-1, 28))","v":0},{"$f":"OFFSET(X0withPad!$C$3, INT((ROW()-1)/28), MOD(ROW()-1, 28))","v":0}]
[{"$f":"OFFSET(X0withPad!$A$1, INT((ROW()-1)/28), MOD(ROW()-1, 28))","v":0},{"$f":"OFFSET(X0withPad!$B$1, INT((ROW()-1)/28), MOD(ROW()-1, 28))","v":0},{"$f":"OFFSET(X0withPad!$C$1, INT((ROW()-1)/28), MOD(ROW()-1, 28))","v":0},{"$f":"OFFSET(X0withPad!$A$2, INT((ROW()-1)/28), MOD(ROW()-1, 28))","v":0},{"$f":"OFFSET(X0withPad!$B$2, INT((ROW()-1)/28), MOD(ROW()-1, 28))","v":0},{"$f":"OFFSET(X0withPad!$C$2, INT((ROW()-1)/28), MOD(ROW()-1, 28))","v":0},{"$f":"OFFSET(X0withPad!$A$3, INT((ROW()-1)/28), MOD(ROW()-1, 28))","v":0},{"$f":"OFFSET(X0withPad!$B$3, INT((ROW()-1)/28), MOD(ROW()-1, 28))","v":0},{"$f":"OFFSET(X0withPad!$C$3, INT((ROW()-1)/28), MOD(ROW()-1, 28))","v":0}]
[{"$f":"OFFSET(X0withPad!$A$1, INT((ROW()-1)/28), MOD(ROW()-1, 28))","v":0},{"$f":"OFFSET(X0withPad!$B$1, INT((ROW()-1)/28), MOD(ROW()-1, 28))","v":0},{"$f":"OFFSET(X0withPad!$C$1, INT((ROW()-1)/28), MOD(ROW()-1, 28))","v":0},{"$f":"OFFSET(X0withPad!$A$2, INT((ROW()-1)/28), MOD(ROW()-1, 28))","v":0},{"$f":"OFFSET(X0withPad!$B$2, INT((ROW()-1)/28), MOD(ROW()-1, 28))","v":0},{"$f":"OFFSET(X0withPad!$C$2, INT((ROW()-1)/28), MOD(ROW()-1, 28))","v":0},{"$f":"OFFSET(X0withPad!$A$3, INT((ROW()-1)/28), MOD(ROW()-1, 28))","v":0},{"$f":"OFFSET(X0withPad!$B$3, INT((ROW()-1)/28), MOD(ROW()-1, 28))","v":0},{"$f":"OFFSET(X0withPad!$C$3, INT((ROW()-1)/28), MOD(ROW()-1, 28))","v":0}]
[{"$f":"OFFSET(X0withPad!$A$1, INT((ROW()-1)/28), MOD(ROW()-1, 28))","v":0},{"$f":"OFFSET(X0withPad!$B$1, INT((ROW()-1)/28), MOD(ROW()-1, 28))","v":0},{"$f":"OFFSET(X0withPad!$C$1, INT((ROW()-1)/28), MOD(ROW()-1, 28))","v":0},{"$f":"OFFSET(X0withPad!$A$2, INT((ROW()-1)/28), MOD(ROW()-1, 28))","v":0},{"$f":"OFFSET(X0withPad!$B$2, INT((ROW()-1)/28), MOD(ROW()-1, 28))","v":0},{"$f":"OFFSET(X0withPad!$C$2, INT((ROW()-1)/28), MOD(ROW()-1, 28))","v":0},{"$f":"OFFSET(X0withPad!$A$3, INT((ROW()-1)/28), MOD(ROW()-1, 28))","v":0},{"$f":"OFFSET(X0withPad!$B$3, INT((ROW()-1)/28), MOD(ROW()-1, 28))","v":0},{"$f":"OFFSET(X0withPad!$C$3, INT((ROW()-1)/28), MOD(ROW()-1, 28))","v":0}]
[{"$f":"OFFSET(X0withPad!$A$1, INT((ROW()-1)/28), MOD(ROW()-1, 28))","v":0},{"$f":"OFFSET(X0withPad!$B$1, INT((ROW()-1)/28), MOD(ROW()-1, 28))","v":0},{"$f":"OFFSET(X0withPad!$C$1, INT((ROW()-1)/28), MOD(ROW()-1, 28))","v":0},{"$f":"OFFSET(X0withPad!$A$2, INT((ROW()-1)/28), MOD(ROW()-1, 28))","v":0},{"$f":"OFFSET(X0withPad!$B$2, INT((ROW()-1)/28), MOD(ROW()-1, 28))","v":0},{"$f":"OFFSET(X0withPad!$C$2, INT((ROW()-1)/28), MOD(ROW()-1, 28))","v":0},{"$f":"OFFSET(X0withPad!$A$3, INT((ROW()-1)/28), MOD(ROW()-1, 28))","v":0},{"$f":"OFFSET(X0withPad!$B$3, INT((ROW()-1)/28), MOD(ROW()-1, 28))","v":0},{"$f":"OFFSET(X0withPad!$C$3, INT((ROW()-1)/28), MOD(ROW()-1, 28))","v":0}]
[{"$f":"OFFSET(X0withPad!$A$1, INT((ROW()-1)/28), MOD(ROW()-1, 28))","v":0},{"$f":"OFFSET(X0withPad!$B$1, INT((ROW()-1)/28), MOD(ROW()-1, 28))","v":0},{"$f":"OFFSET(X0withPad!$C$1, INT((ROW()-1)/28), MOD(ROW()-1, 28))","v":0},{"$f":"OFFSET(X0withPad!$A$2, INT((ROW()-1)/28), MOD(ROW()-1, 28))","v":0},{"$f":"OFFSET(X0withPad!$B$2, INT((ROW()-1)/28), MOD(ROW()-1, 28))","v":0},{"$f":"OFFSET(X0withPad!$C$2, INT((ROW()-1)/28), MOD(ROW()-1, 28))","v":0},{"$f":"OFFSET(X0withPad!$A$3, INT((ROW()-1)/28), MOD(ROW()-1, 28))","v":0},{"$f":"OFFSET(X0withPad!$B$3, INT((ROW()-1)/28), MOD(ROW()-1, 28))","v":0},{"$f":"OFFSET(X0withPad!$C$3, INT((ROW()-1)/28), MOD(ROW()-1, 28))","v":0}]
[{"$f":"OFFSET(X0withPad!$A$1, INT((ROW()-1)/28), MOD(ROW()-1, 28))","v":0},{"$f":"OFFSET(X0withPad!$B$1, INT((ROW()-1)/28), MOD(ROW()-1, 28))","v":0},{"$f":"OFFSET(X0withPad!$C$1, INT((ROW()-1)/28), MOD(ROW()-1, 28))","v":0},{"$f":"OFFSET(X0withPad!$A$2, INT((ROW()-1)/28), MOD(ROW()-1, 28))","v":0},{"$f":"OFFSET(X0withPad!$B$2, INT((ROW()-1)/28), MOD(ROW()-1, 28))","v":0},{"$f":"OFFSET(X0withPad!$C$2, INT((ROW()-1)/28), MOD(ROW()-1, 28))","v":0},{"$f":"OFFSET(X0withPad!$A$3, INT((ROW()-1)/28), MOD(ROW()-1, 28))","v":0},{"$f":"OFFSET(X0withPad!$B$3, INT((ROW()-1)/28), MOD(ROW()-1, 28))","v":0},{"$f":"OFFSET(X0withPad!$C$3, INT((ROW()-1)/28), MOD(ROW()-1, 28))","v":0}]
[{"$f":"OFFSET(X0withPad!$A$1, INT((ROW()-1)/28), MOD(ROW()-1, 28))","v":0},{"$f":"OFFSET(X0withPad!$B$1, INT((ROW()-1)/28), MOD(ROW()-1, 28))","v":0},{"$f":"OFFSET(X0withPad!$C$1, INT((ROW()-1)/28), MOD(ROW()-1, 28))","v":0},{"$f":"OFFSET(X0withPad!$A$2, INT((ROW()-1)/28), MOD(ROW()-1, 28))","v":0},{"$f":"OFFSET(X0withPad!$B$2, INT((ROW()-1)/28), MOD(ROW()-1, 28))","v":0},{"$f":"OFFSET(X0withPad!$C$2, INT((ROW()-1)/28), MOD(ROW()-1, 28))","v":0},{"$f":"OFFSET(X0withPad!$A$3, INT((ROW()-1)/28), MOD(ROW()-1, 28))","v":0},{"$f":"OFFSET(X0withPad!$B$3, INT((ROW()-1)/28), MOD(ROW()-1, 28))","v":0},{"$f":"OFFSET(X0withPad!$C$3, INT((ROW()-1)/28), MOD(ROW()-1, 28))","v":0}]
[{"$f":"OFFSET(X0withPad!$A$1, INT((ROW()-1)/28), MOD(ROW()-1, 28))","v":0},{"$f":"OFFSET(X0withPad!$B$1, INT((ROW()-1)/28), MOD(ROW()-1, 28))","v":0},{"$f":"OFFSET(X0withPad!$C$1, INT((ROW()-1)/28), MOD(ROW()-1, 28))","v":0},{"$f":"OFFSET(X0withPad!$A$2, INT((ROW()-1)/28), MOD(ROW()-1, 28))","v":0},{"$f":"OFFSET(X0withPad!$B$2, INT((ROW()-1)/28), MOD(ROW()-1, 28))","v":0},{"$f":"OFFSET(X0withPad!$C$2, INT((ROW()-1)/28), MOD(ROW()-1, 28))","v":0},{"$f":"OFFSET(X0withPad!$A$3, INT((ROW()-1)/28), MOD(ROW()-1, 28))","v":0},{"$f":"OFFSET(X0withPad!$B$3, INT((ROW()-1)/28), MOD(ROW()-1, 28))","v":0},{"$f":"OFFSET(X0withPad!$C$3, INT((ROW()-1)/28), MOD(ROW()-1, 28))","v":0}]
[{"$f":"OFFSET(X0withPad!$A$1, INT((ROW()-1)/28), MOD(ROW()-1, 28))","v":0},{"$f":"OFFSET(X0withPad!$B$1, INT((ROW()-1)/28), MOD(ROW()-1, 28))","v":0},{"$f":"OFFSET(X0withPad!$C$1, INT((ROW()-1)/28), MOD(ROW()-1, 28))","v":0},{"$f":"OFFSET(X0withPad!$A$2, INT((ROW()-1)/28), MOD(ROW()-1, 28))","v":0},{"$f":"OFFSET(X0withPad!$B$2, INT((ROW()-1)/28), MOD(ROW()-1, 28))","v":0},{"$f":"OFFSET(X0withPad!$C$2, INT((ROW()-1)/28), MOD(ROW()-1, 28))","v":0},{"$f":"OFFSET(X0withPad!$A$3, INT((ROW()-1)/28), MOD(ROW()-1, 28))","v":0},{"$f":"OFFSET(X0withPad!$B$3, INT((ROW()-1)/28), MOD(ROW()-1, 28))","v":0},{"$f":"OFFSET(X0withPad!$C$3, INT((ROW()-1)/28), MOD(ROW()-1, 28))","v":0}]
[{"$f":"OFFSET(X0withPad!$A$1, INT((ROW()-1)/28), MOD(ROW()-1, 28))","v":0},{"$f":"OFFSET(X0withPad!$B$1, INT((ROW()-1)/28), MOD(ROW()-1, 28))","v":0},{"$f":"OFFSET(X0withPad!$C$1, INT((ROW()-1)/28), MOD(ROW()-1, 28))","v":0},{"$f":"OFFSET(X0withPad!$A$2, INT((ROW()-1)/28), MOD(ROW()-1, 28))","v":0},{"$f":"OFFSET(X0withPad!$B$2, INT((ROW()-1)/28), MOD(ROW()-1, 28))","v":0},{"$f":"OFFSET(X0withPad!$C$2, INT((ROW()-1)/28), MOD(ROW()-1, 28))","v":0},{"$f":"OFFSET(X0withPad!$A$3, INT((ROW()-1)/28), MOD(ROW()-1, 28))","v":0},{"$f":"OFFSET(X0withPad!$B$3, INT((ROW()-1)/28), MOD(ROW()-1, 28))","v":0},{"$f":"OFFSET(X0withPad!$C$3, INT((ROW()-1)/28), MOD(ROW()-1, 28))","v":0}]
[{"$f":"OFFSET(X0withPad!$A$1, INT((ROW()-1)/28), MOD(ROW()-1, 28))","v":0},{"$f":"OFFSET(X0withPad!$B$1, INT((ROW()-1)/28), MOD(ROW()-1, 28))","v":0},{"$f":"OFFSET(X0withPad!$C$1, INT((ROW()-1)/28), MOD(ROW()-1, 28))","v":0},{"$f":"OFFSET(X0withPad!$A$2, INT((ROW()-1)/28), MOD(ROW()-1, 28))","v":0},{"$f":"OFFSET(X0withPad!$B$2, INT((ROW()-1)/28), MOD(ROW()-1, 28))","v":0},{"$f":"OFFSET(X0withPad!$C$2, INT((ROW()-1)/28), MOD(ROW()-1, 28))","v":0},{"$f":"OFFSET(X0withPad!$A$3, INT((ROW()-1)/28), MOD(ROW()-1, 28))","v":0},{"$f":"OFFSET(X0withPad!$B$3, INT((ROW()-1)/28), MOD(ROW()-1, 28))","v":0},{"$f":"OFFSET(X0withPad!$C$3, INT((ROW()-1)/28), MOD(ROW()-1, 28))","v":0}]
[{"$f":"OFFSET(X0withPad!$A$1, INT((ROW()-1)/28), MOD(ROW()-1, 28))","v":0},{"$f":"OFFSET(X0withPad!$B$1, INT((ROW()-1)/28), MOD(ROW()-1, 28))","v":0},{"$f":"OFFSET(X0withPad!$C$1, INT((ROW()-1)/28), MOD(ROW()-1, 28))","v":0},{"$f":"OFFSET(X0withPad!$A$2, INT((ROW()-1)/28), MOD(ROW()-1, 28))","v":0},{"$f":"OFFSET(X0withPad!$B$2, INT((ROW()-1)/28), MOD(ROW()-1, 28))","v":0},{"$f":"OFFSET(X0withPad!$C$2, INT((ROW()-1)/28), MOD(ROW()-1, 28))","v":0},{"$f":"OFFSET(X0withPad!$A$3, INT((ROW()-1)/28), MOD(ROW()-1, 28))","v":0},{"$f":"OFFSET(X0withPad!$B$3, INT((ROW()-1)/28), MOD(ROW()-1, 28))","v":0},{"$f":"OFFSET(X0withPad!$C$3, INT((ROW()-1)/28), MOD(ROW()-1, 28))","v":0}]
[{"$f":"OFFSET(X0withPad!$A$1, INT((ROW()-1)/28), MOD(ROW()-1, 28))","v":0},{"$f":"OFFSET(X0withPad!$B$1, INT((ROW()-1)/28), MOD(ROW()-1, 28))","v":0},{"$f":"OFFSET(X0withPad!$C$1, INT((ROW()-1)/28), MOD(ROW()-1, 28))","v":0},{"$f":"OFFSET(X0withPad!$A$2, INT((ROW()-1)/28), MOD(ROW()-1, 28))","v":0},{"$f":"OFFSET(X0withPad!$B$2, INT((ROW()-1)/28), MOD(ROW()-1, 28))","v":0},{"$f":"OFFSET(X0withPad!$C$2, INT((ROW()-1)/28), MOD(ROW()-1, 28))","v":0},{"$f":"OFFSET(X0withPad!$A$3, INT((ROW()-1)/28), MOD(ROW()-1, 28))","v":0},{"$f":"OFFSET(X0withPad!$B$3, INT((ROW()-1)/28), MOD(ROW()-1, 28))","v":0},{"$f":"OFFSET(X0withPad!$C$3, INT((ROW()-1)/28), MOD(ROW()-1, 28))","v":0}]
[{"$f":"OFFSET(X0withPad!$A$1, INT((ROW()-1)/28), MOD(ROW()-1, 28))","v":0},{"$f":"OFFSET(X0withPad!$B$1, INT((ROW()-1)/28), MOD(ROW()-1, 28))","v":0},{"$f":"OFFSET(X0withPad!$C$1, INT((ROW()-1)/28), MOD(ROW()-1, 28))","v":0},{"$f":"OFFSET(X0withPad!$A$2, INT((ROW()-1)/28), MOD(ROW()-1, 28))","v":0},{"$f":"OFFSET(X0withPad!$B$2, INT((ROW()-1)/28), MOD(ROW()-1, 28))","v":0},{"$f":"OFFSET(X0withPad!$C$2, INT((ROW()-1)/28), MOD(ROW()-1, 28))","v":0},{"$f":"OFFSET(X0withPad!$A$3, INT((ROW()-1)/28), MOD(ROW()-1, 28))","v":0},{"$f":"OFFSET(X0withPad!$B$3, INT((ROW()-1)/28), MOD(ROW()-1, 28))","v":0},{"$f":"OFFSET(X0withPad!$C$3, INT((ROW()-1)/28), MOD(ROW()-1, 28))","v":0}]
[{"$f":"OFFSET(X0withPad!$A$1, INT((ROW()-1)/28), MOD(ROW()-1, 28))","v":0},{"$f":"OFFSET(X0withPad!$B$1, INT((ROW()-1)/28), MOD(ROW()-1, 28))","v":0},{"$f":"OFFSET(X0withPad!$C$1, INT((ROW()-1)/28), MOD(ROW()-1, 28))","v":0},{"$f":"OFFSET(X0withPad!$A$2, INT((ROW()-1)/28), MOD(ROW()-1, 28))","v":0},{"$f":"OFFSET(X0withPad!$B$2, INT((ROW()-1)/28), MOD(ROW()-1, 28))","v":0},{"$f":"OFFSET(X0withPad!$C$2, INT((ROW()-1)/28), MOD(ROW()-1, 28))","v":0},{"$f":"OFFSET(X0withPad!$A$3, INT((ROW()-1)/28), MOD(ROW()-1, 28))","v":0},{"$f":"OFFSET(X0withPad!$B$3, INT((ROW()-1)/28), MOD(ROW()-1, 28))","v":0},{"$f":"OFFSET(X0withPad!$C$3, INT((ROW()-1)/28), MOD(ROW()-1, 28))","v":0}]
[{"$f":"OFFSET(X0withPad!$A$1, INT((ROW()-1)/28), MOD(ROW()-1, 28))","v":0},{"$f":"OFFSET(X0withPad!$B$1, INT((ROW()-1)/28), MOD(ROW()-1, 28))","v":0},{"$f":"OFFSET(X0withPad!$C$1, INT((ROW()-1)/28), MOD(ROW()-1, 28))","v":0},{"$f":"OFFSET(X0withPad!$A$2, INT((ROW()-1)/28), MOD(ROW()-1, 28))","v":0},{"$f":"OFFSET(X0withPad!$B$2, INT((ROW()-1)/28), MOD(ROW()-1, 28))","v":0},{"$f":"OFFSET(X0withPad!$C$2, INT((ROW()-1)/28), MOD(ROW()-1, 28))","v":0},{"$f":"OFFSET(X0withPad!$A$3, INT((ROW()-1)/28), MOD(ROW()-1, 28))","v":0},{"$f":"OFFSET(X0withPad!$B$3, INT((ROW()-1)/28), MOD(ROW()-1, 28))","v":0},{"$f":"OFFSET(X0withPad!$C$3, INT((ROW()-1)/28), MOD(ROW()-1, 28))","v":0}]
[{"$f":"OFFSET(X0withPad!$A$1, INT((ROW()-1)/28), MOD(ROW()-1, 28))","v":0},{"$f":"OFFSET(X0withPad!$B$1, INT((ROW()-1)/28), MOD(ROW()-1, 28))","v":0},{"$f":"OFFSET(X0withPad!$C$1, INT((ROW()-1)/28), MOD(ROW()-1, 28))","v":0},{"$f":"OFFSET(X0withPad!$A$2, INT((ROW()-1)/28), MOD(ROW()-1, 28))","v":0},{"$f":"OFFSET(X0withPad!$B$2, INT((ROW()-1)/28), MOD(ROW()-1, 28))","v":0},{"$f":"OFFSET(X0withPad!$C$2, INT((ROW()-1)/28), MOD(ROW()-1, 28))","v":0},{"$f":"OFFSET(X0withPad!$A$3, INT((ROW()-1)/28), MOD(ROW()-1, 28))","v":0},{"$f":"OFFSET(X0withPad!$B$3, INT((ROW()-1)/28), MOD(ROW()-1, 28))","v":0},{"$f":"OFFSET(X0withPad!$C$3, INT((ROW()-1)/28), MOD(ROW()-1, 28))","v":0}]
[{"$f":"OFFSET(X0withPad!$A$1, INT((ROW()-1)/28), MOD(ROW()-1, 28))","v":0},{"$f":"OFFSET(X0withPad!$B$1, INT((ROW()-1)/28), MOD(ROW()-1, 28))","v":0},{"$f":"OFFSET(X0withPad!$C$1, INT((ROW()-1)/28), MOD(ROW()-1, 28))","v":0},{"$f":"OFFSET(X0withPad!$A$2, INT((ROW()-1)/28), MOD(ROW()-1, 28))","v":0},{"$f":"OFFSET(X0withPad!$B$2, INT((ROW()-1)/28), MOD(ROW()-1, 28))","v":0},{"$f":"OFFSET(X0withPad!$C$2, INT((ROW()-1)/28), MOD(ROW()-1, 28))","v":0},{"$f":"OFFSET(X0withPad!$A$3, INT((ROW()-1)/28), MOD(ROW()-1, 28))","v":0},{"$f":"OFFSET(X0withPad!$B$3, INT((ROW()-1)/28), MOD(ROW()-1, 28))","v":0},{"$f":"OFFSET(X0withPad!$C$3, INT((ROW()-1)/28), MOD(ROW()-1, 28))","v":0}]
[{"$f":"OFFSET(X0withPad!$A$1, INT((ROW()-1)/28), MOD(ROW()-1, 28))","v":0},{"$f":"OFFSET(X0withPad!$B$1, INT((ROW()-1)/28), MOD(ROW()-1, 28))","v":0},{"$f":"OFFSET(X0withPad!$C$1, INT((ROW()-1)/28), MOD(ROW()-1, 28))","v":0},{"$f":"OFFSET(X0withPad!$A$2, INT((ROW()-1)/28), MOD(ROW()-1, 28))","v":0},{"$f":"OFFSET(X0withPad!$B$2, INT((ROW()-1)/28), MOD(ROW()-1, 28))","v":0},{"$f":"OFFSET(X0withPad!$C$2, INT((ROW()-1)/28), MOD(ROW()-1, 28))","v":0},{"$f":"OFFSET(X0withPad!$A$3, INT((ROW()-1)/28), MOD(ROW()-1, 28))","v":0},{"$f":"OFFSET(X0withPad!$B$3, INT((ROW()-1)/28), MOD(ROW()-1, 28))","v":0},{"$f":"OFFSET(X0withPad!$C$3, INT((ROW()-1)/28), MOD(ROW()-1, 28))","v":0}]
[{"$f":"OFFSET(X0withPad!$A$1, INT((ROW()-1)/28), MOD(ROW()-1, 28))","v":0},{"$f":"OFFSET(X0withPad!$B$1, INT((ROW()-1)/28), MOD(ROW()-1, 28))","v":0},{"$f":"OFFSET(X0withPad!$C$1, INT((ROW()-1)/28), MOD(ROW()-1, 28))","v":0},{"$f":"OFFSET(X0withPad!$A$2, INT((ROW()-1)/28), MOD(ROW()-1, 28))","v":0},{"$f":"OFFSET(X0withPad!$B$2, INT((ROW()-1)/28), MOD(ROW()-1, 28))","v":0},{"$f":"OFFSET(X0withPad!$C$2, INT((ROW()-1)/28), MOD(ROW()-1, 28))","v":0},{"$f":"OFFSET(X0withPad!$A$3, INT((ROW()-1)/28), MOD(ROW()-1, 28))","v":0},{"$f":"OFFSET(X0withPad!$B$3, INT((ROW()-1)/28), MOD(ROW()-1, 28))","v":0},{"$f":"OFFSET(X0withPad!$C$3, INT((ROW()-1)/28), MOD(ROW()-1, 28))","v":0}]
[{"$f":"OFFSET(X0withPad!$A$1, INT((ROW()-1)/28), MOD(ROW()-1, 28))","v":0},{"$f":"OFFSET(X0withPad!$B$1, INT((ROW()-1)/28), MOD(ROW()-1, 28))","v":0},{"$f":"OFFSET(X0withPad!$C$1, INT((ROW()-1)/28), MOD(ROW()-1, 28))","v":0},{"$f":"OFFSET(X0withPad!$A$2, INT((ROW()-1)/28), MOD(ROW()-1, 28))","v":0},{"$f":"OFFSET(X0withPad!$B$2, INT((ROW()-1)/28), MOD(ROW()-1, 28))","v":0},{"$f":"OFFSET(X0withPad!$C$2, INT((ROW()-1)/28), MOD(ROW()-1, 28))","v":0},{"$f":"OFFSET(X0withPad!$A$3, INT((ROW()-1)/28), MOD(ROW()-1, 28))","v":0},{"$f":"OFFSET(X0withPad!$B$3, INT((ROW()-1)/28), MOD(ROW()-1, 28))","v":0},{"$f":"OFFSET(X0withPad!$C$3, INT((ROW()-1)/28), MOD(ROW()-1, 28))","v":0}]
[{"$f":"OFFSET(X0withPad!$A$1, INT((ROW()-1)/28), MOD(ROW()-1, 28))","v":0},{"$f":"OFFSET(X0withPad!$B$1, INT((ROW()-1)/28), MOD(ROW()-1, 28))","v":0},{"$f":"OFFSET(X0withPad!$C$1, INT((ROW()-1)/28), MOD(ROW()-1, 28))","v":0},{"$f":"OFFSET(X0withPad!$A$2, INT((ROW()-1)/28), MOD(ROW()-1, 28))","v":0},{"$f":"OFFSET(X0withPad!$B$2, INT((ROW()-1)/28), MOD(ROW()-1, 28))","v":0},{"$f":"OFFSET(X0withPad!$C$2, INT((ROW()-1)/28), MOD(ROW()-1, 28))","v":0},{"$f":"OFFSET(X0withPad!$A$3, INT((ROW()-1)/28), MOD(ROW()-1, 28))","v":0},{"$f":"OFFSET(X0withPad!$B$3, INT((ROW()-1)/28), MOD(ROW()-1, 28))","v":0},{"$f":"OFFSET(X0withPad!$C$3, INT((ROW()-1)/28), MOD(ROW()-1, 28))","v":0}]
[{"$f":"OFFSET(X0withPad!$A$1, INT((ROW()-1)/28), MOD(ROW()-1, 28))","v":0},{"$f":"OFFSET(X0withPad!$B$1, INT((ROW()-1)/28), MOD(ROW()-1, 28))","v":0},{"$f":"OFFSET(X0withPad!$C$1, INT((ROW()-1)/28), MOD(ROW()-1, 28))","v":0},{"$f":"OFFSET(X0withPad!$A$2, INT((ROW()-1)/28), MOD(ROW()-1, 28))","v":0},{"$f":"OFFSET(X0withPad!$B$2, INT((ROW()-1)/28), MOD(ROW()-1, 28))","v":0},{"$f":"OFFSET(X0withPad!$C$2, INT((ROW()-1)/28), MOD(ROW()-1, 28))","v":0},{"$f":"OFFSET(X0withPad!$A$3, INT((ROW()-1)/28), MOD(ROW()-1, 28))","v":0},{"$f":"OFFSET(X0withPad!$B$3, INT((ROW()-1)/28), MOD(ROW()-1, 28))","v":0},{"$f":"OFFSET(X0withPad!$C$3, INT((ROW()-1)/28), MOD(ROW()-1, 28))","v":0}]
[{"$f":"OFFSET(X0withPad!$A$1, INT((ROW()-1)/28), MOD(ROW()-1, 28))","v":0},{"$f":"OFFSET(X0withPad!$B$1, INT((ROW()-1)/28), MOD(ROW()-1, 28))","v":0},{"$f":"OFFSET(X0withPad!$C$1, INT((ROW()-1)/28), MOD(ROW()-1, 28))","v":0},{"$f":"OFFSET(X0withPad!$A$2, INT((ROW()-1)/28), MOD(ROW()-1, 28))","v":0},{"$f":"OFFSET(X0withPad!$B$2, INT((ROW()-1)/28), MOD(ROW()-1, 28))","v":0},{"$f":"OFFSET(X0withPad!$C$2, INT((ROW()-1)/28), MOD(ROW()-1, 28))","v":0},{"$f":"OFFSET(X0withPad!$A$3, INT((ROW()-1)/28), MOD(ROW()-1, 28))","v":0},{"$f":"OFFSET(X0withPad!$B$3, INT((ROW()-1)/28), MOD(ROW()-1, 28))","v":0},{"$f":"OFFSET(X0withPad!$C$3, INT((ROW()-1)/28), MOD(ROW()-1, 28))","v":0}]
[{"$f":"OFFSET(X0withPad!$A$1, INT((ROW()-1)/28), MOD(ROW()-1, 28))","v":0},{"$f":"OFFSET(X0withPad!$B$1, INT((ROW()-1)/28), MOD(ROW()-1, 28))","v":0},{"$f":"OFFSET(X0withPad!$C$1, INT((ROW()-1)/28), MOD(ROW()-1, 28))","v":0},{"$f":"OFFSET(X0withPad!$A$2, INT((ROW()-1)/28), MOD(ROW()-1, 28))","v":0},{"$f":"OFFSET(X0withPad!$B$2, INT((ROW()-1)/28), MOD(ROW()-1, 28))","v":0},{"$f":"OFFSET(X0withPad!$C$2, INT((ROW()-1)/28), MOD(ROW()-1, 28))","v":0},{"$f":"OFFSET(X0withPad!$A$3, INT((ROW()-1)/28), MOD(ROW()-1, 28))","v":0},{"$f":"OFFSET(X0withPad!$B$3, INT((ROW()-1)/28), MOD(ROW()-1, 28))","v":0},{"$f":"OFFSET(X0withPad!$C$3, INT((ROW()-1)/28), MOD(ROW()-1, 28))","v":0}]
[{"$f":"OFFSET(X0withPad!$A$1, INT((ROW()-1)/28), MOD(ROW()-1, 28))","v":0},{"$f":"OFFSET(X0withPad!$B$1, INT((ROW()-1)/28), MOD(ROW()-1, 28))","v":0},{"$f":"OFFSET(X0withPad!$C$1, INT((ROW()-1)/28), MOD(ROW()-1, 28))","v":0},{"$f":"OFFSET(X0withPad!$A$2, INT((ROW()-1)/28), MOD(ROW()-1, 28))","v":0},{"$f":"OFFSET(X0withPad!$B$2, INT((ROW()-1)/28), MOD(ROW()-1, 28))","v":0},{"$f":"OFFSET(X0withPad!$C$2, INT((ROW()-1)/28), MOD(ROW()-1, 28))","v":0},{"$f":"OFFSET(X0withPad!$A$3, INT((ROW()-1)/28), MOD(ROW()-1, 28))","v":0},{"$f":"OFFSET(X0withPad!$B$3, INT((ROW()-1)/28), MOD(ROW()-1, 28))","v":0},{"$f":"OFFSET(X0withPad!$C$3, INT((ROW()-1)/28), MOD(ROW()-1, 28))","v":0}]
[{"$f":"OFFSET(X0withPad!$A$1, INT((ROW()-1)/28), MOD(ROW()-1, 28))","v":0},{"$f":"OFFSET(X0withPad!$B$1, INT((ROW()-1)/28), MOD(ROW()-1, 28))","v":0},{"$f":"OFFSET(X0withPad!$C$1, INT((ROW()-1)/28), MOD(ROW()-1, 28))","v":0},{"$f":"OFFSET(X0withPad!$A$2, INT((ROW()-1)/28), MOD(ROW()-1, 28))","v":0},{"$f":"OFFSET(X0withPad!$B$2, INT((ROW()-1)/28), MOD(ROW()-1, 28))","v":0},{"$f":"OFFSET(X0withPad!$C$2, INT((ROW()-1)/28), MOD(ROW()-1, 28))","v":0},{"$f":"OFFSET(X0withPad!$A$3, INT((ROW()-1)/28), MOD(ROW()-1, 28))","v":0},{"$f":"OFFSET(X0withPad!$B$3, INT((ROW()-1)/28), MOD(ROW()-1, 28))","v":0},{"$f":"OFFSET(X0withPad!$C$3, INT((ROW()-1)/28), MOD(ROW()-1, 28))","v":0}]
[{"$f":"OFFSET(X0withPad!$A$1, INT((ROW()-1)/28), MOD(ROW()-1, 28))","v":0},{"$f":"OFFSET(X0withPad!$B$1, INT((ROW()-1)/28), MOD(ROW()-1, 28))","v":0},{"$f":"OFFSET(X0withPad!$C$1, INT((ROW()-1)/28), MOD(ROW()-1, 28))","v":0},{"$f":"OFFSET(X0withPad!$A$2, INT((ROW()-1)/28), MOD(ROW()-1, 28))","v":0},{"$f":"OFFSET(X0withPad!$B$2, INT((ROW()-1)/28), MOD(ROW()-1, 28))","v":0},{"$f":"OFFSET(X0withPad!$C$2, INT((ROW()-1)/28), MOD(ROW()-1, 28))","v":0},{"$f":"OFFSET(X0withPad!$A$3, INT((ROW()-1)/28), MOD(ROW()-1, 28))","v":0},{"$f":"OFFSET(X0withPad!$B$3, INT((ROW()-1)/28), MOD(ROW()-1, 28))","v":0},{"$f":"OFFSET(X0withPad!$C$3, INT((ROW()-1)/28), MOD(ROW()-1, 28))","v":0}]
[{"$f":"OFFSET(X0withPad!$A$1, INT((ROW()-1)/28), MOD(ROW()-1, 28))","v":0},{"$f":"OFFSET(X0withPad!$B$1, INT((ROW()-1)/28), MOD(ROW()-1, 28))","v":0},{"$f":"OFFSET(X0withPad!$C$1, INT((ROW()-1)/28), MOD(ROW()-1, 28))","v":0},{"$f":"OFFSET(X0withPad!$A$2, INT((ROW()-1)/28), MOD(ROW()-1, 28))","v":0},{"$f":"OFFSET(X0withPad!$B$2, INT((ROW()-1)/28), MOD(ROW()-1, 28))","v":0},{"$f":"OFFSET(X0withPad!$C$2, INT((ROW()-1)/28), MOD(ROW()-1, 28))","v":0},{"$f":"OFFSET(X0withPad!$A$3, INT((ROW()-1)/28), MOD(ROW()-1, 28))","v":0},{"$f":"OFFSET(X0withPad!$B$3, INT((ROW()-1)/28), MOD(ROW()-1, 28))","v":0},{"$f":"OFFSET(X0withPad!$C$3, INT((ROW()-1)/28), MOD(ROW()-1, 28))","v":0}]
[{"$f":"OFFSET(X0withPad!$A$1, INT((ROW()-1)/28), MOD(ROW()-1, 28))","v":0},{"$f":"OFFSET(X0withPad!$B$1, INT((ROW()-1)/28), MOD(ROW()-1, 28))","v":0},{"$f":"OFFSET(X0withPad!$C$1, INT((ROW()-1)/28), MOD(ROW()-1, 28))","v":0},{"$f":"OFFSET(X0withPad!$A$2, INT((ROW()-1)/28), MOD(ROW()-1, 28))","v":0},{"$f":"OFFSET(X0withPad!$B$2, INT((ROW()-1)/28), MOD(ROW()-1, 28))","v":0},{"$f":"OFFSET(X0withPad!$C$2, INT((ROW()-1)/28), MOD(ROW()-1, 28))","v":0},{"$f":"OFFSET(X0withPad!$A$3, INT((ROW()-1)/28), MOD(ROW()-1, 28))","v":0},{"$f":"OFFSET(X0withPad!$B$3, INT((ROW()-1)/28), MOD(ROW()-1, 28))","v":0},{"$f":"OFFSET(X0withPad!$C$3, INT((ROW()-1)/28), MOD(ROW()-1, 28))","v":0}]
[{"$f":"OFFSET(X0withPad!$A$1, INT((ROW()-1)/28), MOD(ROW()-1, 28))","v":0},{"$f":"OFFSET(X0withPad!$B$1, INT((ROW()-1)/28), MOD(ROW()-1, 28))","v":0},{"$f":"OFFSET(X0withPad!$C$1, INT((ROW()-1)/28), MOD(ROW()-1, 28))","v":0},{"$f":"OFFSET(X0withPad!$A$2, INT((ROW()-1)/28), MOD(ROW()-1, 28))","v":0},{"$f":"OFFSET(X0withPad!$B$2, INT((ROW()-1)/28), MOD(ROW()-1, 28))","v":0},{"$f":"OFFSET(X0withPad!$C$2, INT((ROW()-1)/28), MOD(ROW()-1, 28))","v":0},{"$f":"OFFSET(X0withPad!$A$3, INT((ROW()-1)/28), MOD(ROW()-1, 28))","v":0},{"$f":"OFFSET(X0withPad!$B$3, INT((ROW()-1)/28), MOD(ROW()-1, 28))","v":0},{"$f":"OFFSET(X0withPad!$C$3, INT((ROW()-1)/28), MOD(ROW()-1, 28))","v":0}]
[{"$f":"OFFSET(X0withPad!$A$1, INT((ROW()-1)/28), MOD(ROW()-1, 28))","v":0},{"$f":"OFFSET(X0withPad!$B$1, INT((ROW()-1)/28), MOD(ROW()-1, 28))","v":0},{"$f":"OFFSET(X0withPad!$C$1, INT((ROW()-1)/28), MOD(ROW()-1, 28))","v":0},{"$f":"OFFSET(X0withPad!$A$2, INT((ROW()-1)/28), MOD(ROW()-1, 28))","v":0},{"$f":"OFFSET(X0withPad!$B$2, INT((ROW()-1)/28), MOD(ROW()-1, 28))","v":0},{"$f":"OFFSET(X0withPad!$C$2, INT((ROW()-1)/28), MOD(ROW()-1, 28))","v":0},{"$f":"OFFSET(X0withPad!$A$3, INT((ROW()-1)/28), MOD(ROW()-1, 28))","v":0},{"$f":"OFFSET(X0withPad!$B$3, INT((ROW()-1)/28), MOD(ROW()-1, 28))","v":0},{"$f":"OFFSET(X0withPad!$C$3, INT((ROW()-1)/28), MOD(ROW()-1, 28))","v":0}]
[{"$f":"OFFSET(X0withPad!$A$1, INT((ROW()-1)/28), MOD(ROW()-1, 28))","v":0},{"$f":"OFFSET(X0withPad!$B$1, INT((ROW()-1)/28), MOD(ROW()-1, 28))","v":0},{"$f":"OFFSET(X0withPad!$C$1, INT((ROW()-1)/28), MOD(ROW()-1, 28))","v":0},{"$f":"OFFSET(X0withPad!$A$2, INT((ROW()-1)/28), MOD(ROW()-1, 28))","v":0},{"$f":"OFFSET(X0withPad!$B$2, INT((ROW()-1)/28), MOD(ROW()-1, 28))","v":0},{"$f":"OFFSET(X0withPad!$C$2, INT((ROW()-1)/28), MOD(ROW()-1, 28))","v":0},{"$f":"OFFSET(X0withPad!$A$3, INT((ROW()-1)/28), MOD(ROW()-1, 28))","v":0},{"$f":"OFFSET(X0withPad!$B$3, INT((ROW()-1)/28), MOD(ROW()-1, 28))","v":0},{"$f":"OFFSET(X0withPad!$C$3, INT((ROW()-1)/28), MOD(ROW()-1, 28))","v":0}]
[{"$f":"OFFSET(X0withPad!$A$1, INT((ROW()-1)/28), MOD(ROW()-1, 28))","v":0},{"$f":"OFFSET(X0withPad!$B$1, INT((ROW()-1)/28), MOD(ROW()-1, 28))","v":0},{"$f":"OFFSET(X0withPad!$C$1, INT((ROW()-1)/28), MOD(ROW()-1, 28))","v":0},{"$f":"OFFSET(X0withPad!$A$2, INT((ROW()-1)/28), MOD(ROW()-1, 28))","v":0},{"$f":"OFFSET(X0withPad!$B$2, INT((ROW()-1)/28), MOD(ROW()-1, 28))","v":0},{"$f":"OFFSET(X0withPad!$C$2, INT((ROW()-1)/28), MOD(ROW()-1, 28))","v":0},{"$f":"OFFSET(X0withPad!$A$3, INT((ROW()-1)/28), MOD(ROW()-1, 28))","v":0},{"$f":"OFFSET(X0withPad!$B$3, INT((ROW()-1)/28), MOD(ROW()-1, 28))","v":0},{"$f":"OFFSET(X0withPad!$C$3, INT((ROW()-1)/28), MOD(ROW()-1, 28))","v":0}]
[{"$f":"OFFSET(X0withPad!$A$1, INT((ROW()-1)/28), MOD(ROW()-1, 28))","v":0},{"$f":"OFFSET(X0withPad!$B$1, INT((ROW()-1)/28), MOD(ROW()-1, 28))","v":0},{"$f":"OFFSET(X0withPad!$C$1, INT((ROW()-1)/28), MOD(ROW()-1, 28))","v":0},{"$f":"OFFSET(X0withPad!$A$2, INT((ROW()-1)/28), MOD(ROW()-1, 28))","v":0},{"$f":"OFFSET(X0withPad!$B$2, INT((ROW()-1)/28), MOD(ROW()-1, 28))","v":0},{"$f":"OFFSET(X0withPad!$C$2, INT((ROW()-1)/28), MOD(ROW()-1, 28))","v":0},{"$f":"OFFSET(X0withPad!$A$3, INT((ROW()-1)/28), MOD(ROW()-1, 28))","v":0},{"$f":"OFFSET(X0withPad!$B$3, INT((ROW()-1)/28), MOD(ROW()-1, 28))","v":0},{"$f":"OFFSET(X0withPad!$C$3, INT((ROW()-1)/28), MOD(ROW()-1, 28))","v":0}]
[{"$f":"OFFSET(X0withPad!$A$1, INT((ROW()-1)/28), MOD(ROW()-1, 28))","v":0},{"$f":"OFFSET(X0withPad!$B$1, INT((ROW()-1)/28), MOD(ROW()-1, 28))","v":0},{"$f":"OFFSET(X0withPad!$C$1, INT((ROW()-1)/28), MOD(ROW()-1, 28))","v":0},{"$f":"OFFSET(X0withPad!$A$2, INT((ROW()-1)/28), MOD(ROW()-1, 28))","v":0},{"$f":"OFFSET(X0withPad!$B$2, INT((ROW()-1)/28), MOD(ROW()-1, 28))","v":0},{"$f":"OFFSET(X0withPad!$C$2, INT((ROW()-1)/28), MOD(ROW()-1, 28))","v":0},{"$f":"OFFSET(X0withPad!$A$3, INT((ROW()-1)/28), MOD(ROW()-1, 28))","v":0},{"$f":"OFFSET(X0withPad!$B$3, INT((ROW()-1)/28), MOD(ROW()-1, 28))","v":0},{"$f":"OFFSET(X0withPad!$C$3, INT((ROW()-1)/28), MOD(ROW()-1, 28))","v":0}]
[{"$f":"OFFSET(X0withPad!$A$1, INT((ROW()-1)/28), MOD(ROW()-1, 28))","v":0},{"$f":"OFFSET(X0withPad!$B$1, INT((ROW()-1)/28), MOD(ROW()-1, 28))","v":0},{"$f":"OFFSET(X0withPad!$C$1, INT((ROW()-1)/28), MOD(ROW()-1, 28))","v":0},{"$f":"OFFSET(X0withPad!$A$2, INT((ROW()-1)/28), MOD(ROW()-1, 28))","v":0},{"$f":"OFFSET(X0withPad!$B$2, INT((ROW()-1)/28), MOD(ROW()-1, 28))","v":0},{"$f":"OFFSET(X0withPad!$C$2, INT((ROW()-1)/28), MOD(ROW()-1, 28))","v":0},{"$f":"OFFSET(X0withPad!$A$3, INT((ROW()-1)/28), MOD(ROW()-1, 28))","v":0},{"$f":"OFFSET(X0withPad!$B$3, INT((ROW()-1)/28), MOD(ROW()-1, 28))","v":0},{"$f":"OFFSET(X0withPad!$C$3, INT((ROW()-1)/28), MOD(ROW()-1, 28))","v":0}]
[{"$f":"OFFSET(X0withPad!$A$1, INT((ROW()-1)/28), MOD(ROW()-1, 28))","v":0},{"$f":"OFFSET(X0withPad!$B$1, INT((ROW()-1)/28), MOD(ROW()-1, 28))","v":0},{"$f":"OFFSET(X0withPad!$C$1, INT((ROW()-1)/28), MOD(ROW()-1, 28))","v":0},{"$f":"OFFSET(X0withPad!$A$2, INT((ROW()-1)/28), MOD(ROW()-1, 28))","v":0},{"$f":"OFFSET(X0withPad!$B$2, INT((ROW()-1)/28), MOD(ROW()-1, 28))","v":0},{"$f":"OFFSET(X0withPad!$C$2, INT((ROW()-1)/28), MOD(ROW()-1, 28))","v":0},{"$f":"OFFSET(X0withPad!$A$3, INT((ROW()-1)/28), MOD(ROW()-1, 28))","v":0},{"$f":"OFFSET(X0withPad!$B$3, INT((ROW()-1)/28), MOD(ROW()-1, 28))","v":0},{"$f":"OFFSET(X0withPad!$C$3, INT((ROW()-1)/28), MOD(ROW()-1, 28))","v":0}]
[{"$f":"OFFSET(X0withPad!$A$1, INT((ROW()-1)/28), MOD(ROW()-1, 28))","v":0},{"$f":"OFFSET(X0withPad!$B$1, INT((ROW()-1)/28), MOD(ROW()-1, 28))","v":0},{"$f":"OFFSET(X0withPad!$C$1, INT((ROW()-1)/28), MOD(ROW()-1, 28))","v":0},{"$f":"OFFSET(X0withPad!$A$2, INT((ROW()-1)/28), MOD(ROW()-1, 28))","v":0},{"$f":"OFFSET(X0withPad!$B$2, INT((ROW()-1)/28), MOD(ROW()-1, 28))","v":0},{"$f":"OFFSET(X0withPad!$C$2, INT((ROW()-1)/28), MOD(ROW()-1, 28))","v":0},{"$f":"OFFSET(X0withPad!$A$3, INT((ROW()-1)/28), MOD(ROW()-1, 28))","v":0},{"$f":"OFFSET(X0withPad!$B$3, INT((ROW()-1)/28), MOD(ROW()-1, 28))","v":0},{"$f":"OFFSET(X0withPad!$C$3, INT((ROW()-1)/28), MOD(ROW()-1, 28))","v":0}]
[{"$f":"OFFSET(X0withPad!$A$1, INT((ROW()-1)/28), MOD(ROW()-1, 28))","v":0},{"$f":"OFFSET(X0withPad!$B$1, INT((ROW()-1)/28), MOD(ROW()-1, 28))","v":0},{"$f":"OFFSET(X0withPad!$C$1, INT((ROW()-1)/28), MOD(ROW()-1, 28))","v":0},{"$f":"OFFSET(X0withPad!$A$2, INT((ROW()-1)/28), MOD(ROW()-1, 28))","v":0},{"$f":"OFFSET(X0withPad!$B$2, INT((ROW()-1)/28), MOD(ROW()-1, 28))","v":0},{"$f":"OFFSET(X0withPad!$C$2, INT((ROW()-1)/28), MOD(ROW()-1, 28))","v":0},{"$f":"OFFSET(X0withPad!$A$3, INT((ROW()-1)/28), MOD(ROW()-1, 28))","v":0},{"$f":"OFFSET(X0withPad!$B$3, INT((ROW()-1)/28), MOD(ROW()-1, 28))","v":0},{"$f":"OFFSET(X0withPad!$C$3, INT((ROW()-1)/28), MOD(ROW()-1, 28))","v":0}]
[{"$f":"OFFSET(X0withPad!$A$1, INT((ROW()-1)/28), MOD(ROW()-1, 28))","v":0},{"$f":"OFFSET(X0withPad!$B$1, INT((ROW()-1)/28), MOD(ROW()-1, 28))","v":0},{"$f":"OFFSET(X0withPad!$C$1, INT((ROW()-1)/28), MOD(ROW()-1, 28))","v":0},{"$f":"OFFSET(X0withPad!$A$2, INT((ROW()-1)/28), MOD(ROW()-1, 28))","v":0},{"$f":"OFFSET(X0withPad!$B$2, INT((ROW()-1)/28), MOD(ROW()-1, 28))","v":0},{"$f":"OFFSET(X0withPad!$C$2, INT((ROW()-1)/28), MOD(ROW()-1, 28))","v":0},{"$f":"OFFSET(X0withPad!$A$3, INT((ROW()-1)/28), MOD(ROW()-1, 28))","v":0},{"$f":"OFFSET(X0withPad!$B$3, INT((ROW()-1)/28), MOD(ROW()-1, 28))","v":0},{"$f":"OFFSET(X0withPad!$C$3, INT((ROW()-1)/28), MOD(ROW()-1, 28))","v":0}]
[{"$f":"OFFSET(X0withPad!$A$1, INT((ROW()-1)/28), MOD(ROW()-1, 28))","v":0},{"$f":"OFFSET(X0withPad!$B$1, INT((ROW()-1)/28), MOD(ROW()-1, 28))","v":0},{"$f":"OFFSET(X0withPad!$C$1, INT((ROW()-1)/28), MOD(ROW()-1, 28))","v":0},{"$f":"OFFSET(X0withPad!$A$2, INT((ROW()-1)/28), MOD(ROW()-1, 28))","v":0},{"$f":"OFFSET(X0withPad!$B$2, INT((ROW()-1)/28), MOD(ROW()-1, 28))","v":0},{"$f":"OFFSET(X0withPad!$C$2, INT((ROW()-1)/28), MOD(ROW()-1, 28))","v":0},{"$f":"OFFSET(X0withPad!$A$3, INT((ROW()-1)/28), MOD(ROW()-1, 28))","v":0},{"$f":"OFFSET(X0withPad!$B$3, INT((ROW()-1)/28), MOD(ROW()-1, 28))","v":0},{"$f":"OFFSET(X0withPad!$C$3, INT((ROW()-1)/28), MOD(ROW()-1, 28))","v":0}]
[{"$f":"OFFSET(X0withPad!$A$1, INT((ROW()-1)/28), MOD(ROW()-1, 28))","v":0},{"$f":"OFFSET(X0withPad!$B$1, INT((ROW()-1)/28), MOD(ROW()-1, 28))","v":0},{"$f":"OFFSET(X0withPad!$C$1, INT((ROW()-1)/28), MOD(ROW()-1, 28))","v":0},{"$f":"OFFSET(X0withPad!$A$2, INT((ROW()-1)/28), MOD(ROW()-1, 28))","v":0},{"$f":"OFFSET(X0withPad!$B$2, INT((ROW()-1)/28), MOD(ROW()-1, 28))","v":0},{"$f":"OFFSET(X0withPad!$C$2, INT((ROW()-1)/28), MOD(ROW()-1, 28))","v":0},{"$f":"OFFSET(X0withPad!$A$3, INT((ROW()-1)/28), MOD(ROW()-1, 28))","v":0},{"$f":"OFFSET(X0withPad!$B$3, INT((ROW()-1)/28), MOD(ROW()-1, 28))","v":0},{"$f":"OFFSET(X0withPad!$C$3, INT((ROW()-1)/28), MOD(ROW()-1, 28))","v":0}]
[{"$f":"OFFSET(X0withPad!$A$1, INT((ROW()-1)/28), MOD(ROW()-1, 28))","v":0},{"$f":"OFFSET(X0withPad!$B$1, INT((ROW()-1)/28), MOD(ROW()-1, 28))","v":0},{"$f":"OFFSET(X0withPad!$C$1, INT((ROW()-1)/28), MOD(ROW()-1, 28))","v":0},{"$f":"OFFSET(X0withPad!$A$2, INT((ROW()-1)/28), MOD(ROW()-1, 28))","v":0},{"$f":"OFFSET(X0withPad!$B$2, INT((ROW()-1)/28), MOD(ROW()-1, 28))","v":0},{"$f":"OFFSET(X0withPad!$C$2, INT((ROW()-1)/28), MOD(ROW()-1, 28))","v":0},{"$f":"OFFSET(X0withPad!$A$3, INT((ROW()-1)/28), MOD(ROW()-1, 28))","v":0},{"$f":"OFFSET(X0withPad!$B$3, INT((ROW()-1)/28), MOD(ROW()-1, 28))","v":0},{"$f":"OFFSET(X0withPad!$C$3, INT((ROW()-1)/28), MOD(ROW()-1, 28))","v":0}]
[{"$f":"OFFSET(X0withPad!$A$1, INT((ROW()-1)/28), MOD(ROW()-1, 28))","v":0},{"$f":"OFFSET(X0withPad!$B$1, INT((ROW()-1)/28), MOD(ROW()-1, 28))","v":0},{"$f":"OFFSET(X0withPad!$C$1, INT((ROW()-1)/28), MOD(ROW()-1, 28))","v":0},{"$f":"OFFSET(X0withPad!$A$2, INT((ROW()-1)/28), MOD(ROW()-1, 28))","v":0},{"$f":"OFFSET(X0withPad!$B$2, INT((ROW()-1)/28), MOD(ROW()-1, 28))","v":0},{"$f":"OFFSET(X0withPad!$C$2, INT((ROW()-1)/28), MOD(ROW()-1, 28))","v":0},{"$f":"OFFSET(X0withPad!$A$3, INT((ROW()-1)/28), MOD(ROW()-1, 28))","v":0},{"$f":"OFFSET(X0withPad!$B$3, INT((ROW()-1)/28), MOD(ROW()-1, 28))","v":0},{"$f":"OFFSET(X0withPad!$C$3, INT((ROW()-1)/28), MOD(ROW()-1, 28))","v":0}]
[{"$f":"OFFSET(X0withPad!$A$1, INT((ROW()-1)/28), MOD(ROW()-1, 28))","v":0},{"$f":"OFFSET(X0withPad!$B$1, INT((ROW()-1)/28), MOD(ROW()-1, 28))","v":0},{"$f":"OFFSET(X0withPad!$C$1, INT((ROW()-1)/28), MOD(ROW()-1, 28))","v":0},{"$f":"OFFSET(X0withPad!$A$2, INT((ROW()-1)/28), MOD(ROW()-1, 28))","v":0},{"$f":"OFFSET(X0withPad!$B$2, INT((ROW()-1)/28), MOD(ROW()-1, 28))","v":0},{"$f":"OFFSET(X0withPad!$C$2, INT((ROW()-1)/28), MOD(ROW()-1, 28))","v":0},{"$f":"OFFSET(X0withPad!$A$3, INT((ROW()-1)/28), MOD(ROW()-1, 28))","v":0},{"$f":"OFFSET(X0withPad!$B$3, INT((ROW()-1)/28), MOD(ROW()-1, 28))","v":0},{"$f":"OFFSET(X0withPad!$C$3, INT((ROW()-1)/28), MOD(ROW()-1, 28))","v":0}]
[{"$f":"OFFSET(X0withPad!$A$1, INT((ROW()-1)/28), MOD(ROW()-1, 28))","v":0},{"$f":"OFFSET(X0withPad!$B$1, INT((ROW()-1)/28), MOD(ROW()-1, 28))","v":0},{"$f":"OFFSET(X0withPad!$C$1, INT((ROW()-1)/28), MOD(ROW()-1, 28))","v":0},{"$f":"OFFSET(X0withPad!$A$2, INT((ROW()-1)/28), MOD(ROW()-1, 28))","v":0},{"$f":"OFFSET(X0withPad!$B$2, INT((ROW()-1)/28), MOD(ROW()-1, 28))","v":0},{"$f":"OFFSET(X0withPad!$C$2, INT((ROW()-1)/28), MOD(ROW()-1, 28))","v":0},{"$f":"OFFSET(X0withPad!$A$3, INT((ROW()-1)/28), MOD(ROW()-1, 28))","v":0},{"$f":"OFFSET(X0withPad!$B$3, INT((ROW()-1)/28), MOD(ROW()-1, 28))","v":0},{"$f":"OFFSET(X0withPad!$C$3, INT((ROW()-1)/28), MOD(ROW()-1, 28))","v":0}]
[{"$f":"OFFSET(X0withPad!$A$1, INT((ROW()-1)/28), MOD(ROW()-1, 28))","v":0},{"$f":"OFFSET(X0withPad!$B$1, INT((ROW()-1)/28), MOD(ROW()-1, 28))","v":0},{"$f":"OFFSET(X0withPad!$C$1, INT((ROW()-1)/28), MOD(ROW()-1, 28))","v":0},{"$f":"OFFSET(X0withPad!$A$2, INT((ROW()-1)/28), MOD(ROW()-1, 28))","v":0},{"$f":"OFFSET(X0withPad!$B$2, INT((ROW()-1)/28), MOD(ROW()-1, 28))","v":0},{"$f":"OFFSET(X0withPad!$C$2, INT((ROW()-1)/28), MOD(ROW()-1, 28))","v":0},{"$f":"OFFSET(X0withPad!$A$3, INT((ROW()-1)/28), MOD(ROW()-1, 28))","v":0},{"$f":"OFFSET(X0withPad!$B$3, INT((ROW()-1)/28), MOD(ROW()-1, 28))","v":0},{"$f":"OFFSET(X0withPad!$C$3, INT((ROW()-1)/28), MOD(ROW()-1, 28))","v":0}]
[{"$f":"OFFSET(X0withPad!$A$1, INT((ROW()-1)/28), MOD(ROW()-1, 28))","v":0},{"$f":"OFFSET(X0withPad!$B$1, INT((ROW()-1)/28), MOD(ROW()-1, 28))","v":0},{"$f":"OFFSET(X0withPad!$C$1, INT((ROW()-1)/28), MOD(ROW()-1, 28))","v":0},{"$f":"OFFSET(X0withPad!$A$2, INT((ROW()-1)/28), MOD(ROW()-1, 28))","v":0},{"$f":"OFFSET(X0withPad!$B$2, INT((ROW()-1)/28), MOD(ROW()-1, 28))","v":0},{"$f":"OFFSET(X0withPad!$C$2, INT((ROW()-1)/28), MOD(ROW()-1, 28))","v":0},{"$f":"OFFSET(X0withPad!$A$3, INT((ROW()-1)/28), MOD(ROW()-1, 28))","v":0},{"$f":"OFFSET(X0withPad!$B$3, INT((ROW()-1)/28), MOD(ROW()-1, 28))","v":0},{"$f":"OFFSET(X0withPad!$C$3, INT((ROW()-1)/28), MOD(ROW()-1, 28))","v":0}]
[{"$f":"OFFSET(X0withPad!$A$1, INT((ROW()-1)/28), MOD(ROW()-1, 28))","v":0},{"$f":"OFFSET(X0withPad!$B$1, INT((ROW()-1)/28), MOD(ROW()-1, 28))","v":0},{"$f":"OFFSET(X0withPad!$C$1, INT((ROW()-1)/28), MOD(ROW()-1, 28))","v":0},{"$f":"OFFSET(X0withPad!$A$2, INT((ROW()-1)/28), MOD(ROW()-1, 28))","v":0},{"$f":"OFFSET(X0withPad!$B$2, INT((ROW()-1)/28), MOD(ROW()-1, 28))","v":0},{"$f":"OFFSET(X0withPad!$C$2, INT((ROW()-1)/28), MOD(ROW()-1, 28))","v":0},{"$f":"OFFSET(X0withPad!$A$3, INT((ROW()-1)/28), MOD(ROW()-1, 28))","v":0},{"$f":"OFFSET(X0withPad!$B$3, INT((ROW()-1)/28), MOD(ROW()-1, 28))","v":0},{"$f":"OFFSET(X0withPad!$C$3, INT((ROW()-1)/28), MOD(ROW()-1, 28))","v":0}]
[{"$f":"OFFSET(X0withPad!$A$1, INT((ROW()-1)/28), MOD(ROW()-1, 28))","v":0},{"$f":"OFFSET(X0withPad!$B$1, INT((ROW()-1)/28), MOD(ROW()-1, 28))","v":0},{"$f":"OFFSET(X0withPad!$C$1, INT((ROW()-1)/28), MOD(ROW()-1, 28))","v":0},{"$f":"OFFSET(X0withPad!$A$2, INT((ROW()-1)/28), MOD(ROW()-1, 28))","v":0},{"$f":"OFFSET(X0withPad!$B$2, INT((ROW()-1)/28), MOD(ROW()-1, 28))","v":0},{"$f":"OFFSET(X0withPad!$C$2, INT((ROW()-1)/28), MOD(ROW()-1, 28))","v":0},{"$f":"OFFSET(X0withPad!$A$3, INT((ROW()-1)/28), MOD(ROW()-1, 28))","v":0},{"$f":"OFFSET(X0withPad!$B$3, INT((ROW()-1)/28), MOD(ROW()-1, 28))","v":0},{"$f":"OFFSET(X0withPad!$C$3, INT((ROW()-1)/28), MOD(ROW()-1, 28))","v":0}]
[{"$f":"OFFSET(X0withPad!$A$1, INT((ROW()-1)/28), MOD(ROW()-1, 28))","v":0},{"$f":"OFFSET(X0withPad!$B$1, INT((ROW()-1)/28), MOD(ROW()-1, 28))","v":0},{"$f":"OFFSET(X0withPad!$C$1, INT((ROW()-1)/28), MOD(ROW()-1, 28))","v":0},{"$f":"OFFSET(X0withPad!$A$2, INT((ROW()-1)/28), MOD(ROW()-1, 28))","v":0},{"$f":"OFFSET(X0withPad!$B$2, INT((ROW()-1)/28), MOD(ROW()-1, 28))","v":0},{"$f":"OFFSET(X0withPad!$C$2, INT((ROW()-1)/28), MOD(ROW()-1, 28))","v":0},{"$f":"OFFSET(X0withPad!$A$3, INT((ROW()-1)/28), MOD(ROW()-1, 28))","v":0},{"$f":"OFFSET(X0withPad!$B$3, INT((ROW()-1)/28), MOD(ROW()-1, 28))","v":0},{"$f":"OFFSET(X0withPad!$C$3, INT((ROW()-1)/28), MOD(ROW()-1, 28))","v":0}]
[{"$f":"OFFSET(X0withPad!$A$1, INT((ROW()-1)/28), MOD(ROW()-1, 28))","v":0},{"$f":"OFFSET(X0withPad!$B$1, INT((ROW()-1)/28), MOD(ROW()-1, 28))","v":0},{"$f":"OFFSET(X0withPad!$C$1, INT((ROW()-1)/28), MOD(ROW()-1, 28))","v":0},{"$f":"OFFSET(X0withPad!$A$2, INT((ROW()-1)/28), MOD(ROW()-1, 28))","v":0},{"$f":"OFFSET(X0withPad!$B$2, INT((ROW()-1)/28), MOD(ROW()-1, 28))","v":0},{"$f":"OFFSET(X0withPad!$C$2, INT((ROW()-1)/28), MOD(ROW()-1, 28))","v":0},{"$f":"OFFSET(X0withPad!$A$3, INT((ROW()-1)/28), MOD(ROW()-1, 28))","v":0},{"$f":"OFFSET(X0withPad!$B$3, INT((ROW()-1)/28), MOD(ROW()-1, 28))","v":0},{"$f":"OFFSET(X0withPad!$C$3, INT((ROW()-1)/28), MOD(ROW()-1, 28))","v":0}]
[{"$f":"OFFSET(X0withPad!$A$1, INT((ROW()-1)/28), MOD(ROW()-1, 28))","v":0},{"$f":"OFFSET(X0withPad!$B$1, INT((ROW()-1)/28), MOD(ROW()-1, 28))","v":0},{"$f":"OFFSET(X0withPad!$C$1, INT((ROW()-1)/28), MOD(ROW()-1, 28))","v":0},{"$f":"OFFSET(X0withPad!$A$2, INT((ROW()-1)/28), MOD(ROW()-1, 28))","v":0},{"$f":"OFFSET(X0withPad!$B$2, INT((ROW()-1)/28), MOD(ROW()-1, 28))","v":0},{"$f":"OFFSET(X0withPad!$C$2, INT((ROW()-1)/28), MOD(ROW()-1, 28))","v":0},{"$f":"OFFSET(X0withPad!$A$3, INT((ROW()-1)/28), MOD(ROW()-1, 28))","v":0},{"$f":"OFFSET(X0withPad!$B$3, INT((ROW()-1)/28), MOD(ROW()-1, 28))","v":0},{"$f":"OFFSET(X0withPad!$C$3, INT((ROW()-1)/28), MOD(ROW()-1, 28))","v":0}]
[{"$f":"OFFSET(X0withPad!$A$1, INT((ROW()-1)/28), MOD(ROW()-1, 28))","v":0},{"$f":"OFFSET(X0withPad!$B$1, INT((ROW()-1)/28), MOD(ROW()-1, 28))","v":0},{"$f":"OFFSET(X0withPad!$C$1, INT((ROW()-1)/28), MOD(ROW()-1, 28))","v":0},{"$f":"OFFSET(X0withPad!$A$2, INT((ROW()-1)/28), MOD(ROW()-1, 28))","v":0},{"$f":"OFFSET(X0withPad!$B$2, INT((ROW()-1)/28), MOD(ROW()-1, 28))","v":0},{"$f":"OFFSET(X0withPad!$C$2, INT((ROW()-1)/28), MOD(ROW()-1, 28))","v":0},{"$f":"OFFSET(X0withPad!$A$3, INT((ROW()-1)/28), MOD(ROW()-1, 28))","v":0},{"$f":"OFFSET(X0withPad!$B$3, INT((ROW()-1)/28), MOD(ROW()-1, 28))","v":0},{"$f":"OFFSET(X0withPad!$C$3, INT((ROW()-1)/28), MOD(ROW()-1, 28))","v":0}]
[{"$f":"OFFSET(X0withPad!$A$1, INT((ROW()-1)/28), MOD(ROW()-1, 28))","v":0},{"$f":"OFFSET(X0withPad!$B$1, INT((ROW()-1)/28), MOD(ROW()-1, 28))","v":0},{"$f":"OFFSET(X0withPad!$C$1, INT((ROW()-1)/28), MOD(ROW()-1, 28))","v":0},{"$f":"OFFSET(X0withPad!$A$2, INT((ROW()-1)/28), MOD(ROW()-1, 28))","v":0},{"$f":"OFFSET(X0withPad!$B$2, INT((ROW()-1)/28), MOD(ROW()-1, 28))","v":0},{"$f":"OFFSET(X0withPad!$C$2, INT((ROW()-1)/28), MOD(ROW()-1, 28))","v":0},{"$f":"OFFSET(X0withPad!$A$3, INT((ROW()-1)/28), MOD(ROW()-1, 28))","v":0},{"$f":"OFFSET(X0withPad!$B$3, INT((ROW()-1)/28), MOD(ROW()-1, 28))","v":0},{"$f":"OFFSET(X0withPad!$C$3, INT((ROW()-1)/28), MOD(ROW()-1, 28))","v":0}]
[{"$f":"OFFSET(X0withPad!$A$1, INT((ROW()-1)/28), MOD(ROW()-1, 28))","v":0},{"$f":"OFFSET(X0withPad!$B$1, INT((ROW()-1)/28), MOD(ROW()-1, 28))","v":0},{"$f":"OFFSET(X0withPad!$C$1, INT((ROW()-1)/28), MOD(ROW()-1, 28))","v":0},{"$f":"OFFSET(X0withPad!$A$2, INT((ROW()-1)/28), MOD(ROW()-1, 28))","v":0},{"$f":"OFFSET(X0withPad!$B$2, INT((ROW()-1)/28), MOD(ROW()-1, 28))","v":0},{"$f":"OFFSET(X0withPad!$C$2, INT((ROW()-1)/28), MOD(ROW()-1, 28))","v":0},{"$f":"OFFSET(X0withPad!$A$3, INT((ROW()-1)/28), MOD(ROW()-1, 28))","v":0},{"$f":"OFFSET(X0withPad!$B$3, INT((ROW()-1)/28), MOD(ROW()-1, 28))","v":0},{"$f":"OFFSET(X0withPad!$C$3, INT((ROW()-1)/28), MOD(ROW()-1, 28))","v":0}]
[{"$f":"OFFSET(X0withPad!$A$1, INT((ROW()-1)/28), MOD(ROW()-1, 28))","v":0},{"$f":"OFFSET(X0withPad!$B$1, INT((ROW()-1)/28), MOD(ROW()-1, 28))","v":0},{"$f":"OFFSET(X0withPad!$C$1, INT((ROW()-1)/28), MOD(ROW()-1, 28))","v":0},{"$f":"OFFSET(X0withPad!$A$2, INT((ROW()-1)/28), MOD(ROW()-1, 28))","v":0},{"$f":"OFFSET(X0withPad!$B$2, INT((ROW()-1)/28), MOD(ROW()-1, 28))","v":0},{"$f":"OFFSET(X0withPad!$C$2, INT((ROW()-1)/28), MOD(ROW()-1, 28))","v":0},{"$f":"OFFSET(X0withPad!$A$3, INT((ROW()-1)/28), MOD(ROW()-1, 28))","v":0},{"$f":"OFFSET(X0withPad!$B$3, INT((ROW()-1)/28), MOD(ROW()-1, 28))","v":0},{"$f":"OFFSET(X0withPad!$C$3, INT((ROW()-1)/28), MOD(ROW()-1, 28))","v":0}]
[{"$f":"OFFSET(X0withPad!$A$1, INT((ROW()-1)/28), MOD(ROW()-1, 28))","v":0},{"$f":"OFFSET(X0withPad!$B$1, INT((ROW()-1)/28), MOD(ROW()-1, 28))","v":0},{"$f":"OFFSET(X0withPad!$C$1, INT((ROW()-1)/28), MOD(ROW()-1, 28))","v":0},{"$f":"OFFSET(X0withPad!$A$2, INT((ROW()-1)/28), MOD(ROW()-1, 28))","v":0},{"$f":"OFFSET(X0withPad!$B$2, INT((ROW()-1)/28), MOD(ROW()-1, 28))","v":0},{"$f":"OFFSET(X0withPad!$C$2, INT((ROW()-1)/28), MOD(ROW()-1, 28))","v":0},{"$f":"OFFSET(X0withPad!$A$3, INT((ROW()-1)/28), MOD(ROW()-1, 28))","v":0},{"$f":"OFFSET(X0withPad!$B$3, INT((ROW()-1)/28), MOD(ROW()-1, 28))","v":0},{"$f":"OFFSET(X0withPad!$C$3, INT((ROW()-1)/28), MOD(ROW()-1, 28))","v":0}]
[{"$f":"OFFSET(X0withPad!$A$1, INT((ROW()-1)/28), MOD(ROW()-1, 28))","v":0},{"$f":"OFFSET(X0withPad!$B$1, INT((ROW()-1)/28), MOD(ROW()-1, 28))","v":0},{"$f":"OFFSET(X0withPad!$C$1, INT((ROW()-1)/28), MOD(ROW()-1, 28))","v":0},{"$f":"OFFSET(X0withPad!$A$2, INT((ROW()-1)/28), MOD(ROW()-1, 28))","v":0},{"$f":"OFFSET(X0withPad!$B$2, INT((ROW()-1)/28), MOD(ROW()-1, 28))","v":0},{"$f":"OFFSET(X0withPad!$C$2, INT((ROW()-1)/28), MOD(ROW()-1, 28))","v":0},{"$f":"OFFSET(X0withPad!$A$3, INT((ROW()-1)/28), MOD(ROW()-1, 28))","v":0},{"$f":"OFFSET(X0withPad!$B$3, INT((ROW()-1)/28), MOD(ROW()-1, 28))","v":0},{"$f":"OFFSET(X0withPad!$C$3, INT((ROW()-1)/28), MOD(ROW()-1, 28))","v":0}]
[{"$f":"OFFSET(X0withPad!$A$1, INT((ROW()-1)/28), MOD(ROW()-1, 28))","v":0},{"$f":"OFFSET(X0withPad!$B$1, INT((ROW()-1)/28), MOD(ROW()-1, 28))","v":0},{"$f":"OFFSET(X0withPad!$C$1, INT((ROW()-1)/28), MOD(ROW()-1, 28))","v":0},{"$f":"OFFSET(X0withPad!$A$2, INT((ROW()-1)/28), MOD(ROW()-1, 28))","v":0},{"$f":"OFFSET(X0withPad!$B$2, INT((ROW()-1)/28), MOD(ROW()-1, 28))","v":0},{"$f":"OFFSET(X0withPad!$C$2, INT((ROW()-1)/28), MOD(ROW()-1, 28))","v":0},{"$f":"OFFSET(X0withPad!$A$3, INT((ROW()-1)/28), MOD(ROW()-1, 28))","v":0},{"$f":"OFFSET(X0withPad!$B$3, INT((ROW()-1)/28), MOD(ROW()-1, 28))","v":0},{"$f":"OFFSET(X0withPad!$C$3, INT((ROW()-1)/28), MOD(ROW()-1, 28))","v":0}]
[{"$f":"OFFSET(X0withPad!$A$1, INT((ROW()-1)/28), MOD(ROW()-1, 28))","v":0},{"$f":"OFFSET(X0withPad!$B$1, INT((ROW()-1)/28), MOD(ROW()-1, 28))","v":0},{"$f":"OFFSET(X0withPad!$C$1, INT((ROW()-1)/28), MOD(ROW()-1, 28))","v":0},{"$f":"OFFSET(X0withPad!$A$2, INT((ROW()-1)/28), MOD(ROW()-1, 28))","v":0},{"$f":"OFFSET(X0withPad!$B$2, INT((ROW()-1)/28), MOD(ROW()-1, 28))","v":0},{"$f":"OFFSET(X0withPad!$C$2, INT((ROW()-1)/28), MOD(ROW()-1, 28))","v":0},{"$f":"OFFSET(X0withPad!$A$3, INT((ROW()-1)/28), MOD(ROW()-1, 28))","v":0},{"$f":"OFFSET(X0withPad!$B$3, INT((ROW()-1)/28), MOD(ROW()-1, 28))","v":0},{"$f":"OFFSET(X0withPad!$C$3, INT((ROW()-1)/28), MOD(ROW()-1, 28))","v":0}]
[{"$f":"OFFSET(X0withPad!$A$1, INT((ROW()-1)/28), MOD(ROW()-1, 28))","v":0},{"$f":"OFFSET(X0withPad!$B$1, INT((ROW()-1)/28), MOD(ROW()-1, 28))","v":0},{"$f":"OFFSET(X0withPad!$C$1, INT((ROW()-1)/28), MOD(ROW()-1, 28))","v":0},{"$f":"OFFSET(X0withPad!$A$2, INT((ROW()-1)/28), MOD(ROW()-1, 28))","v":0},{"$f":"OFFSET(X0withPad!$B$2, INT((ROW()-1)/28), MOD(ROW()-1, 28))","v":0},{"$f":"OFFSET(X0withPad!$C$2, INT((ROW()-1)/28), MOD(ROW()-1, 28))","v":0},{"$f":"OFFSET(X0withPad!$A$3, INT((ROW()-1)/28), MOD(ROW()-1, 28))","v":0},{"$f":"OFFSET(X0withPad!$B$3, INT((ROW()-1)/28), MOD(ROW()-1, 28))","v":0},{"$f":"OFFSET(X0withPad!$C$3, INT((ROW()-1)/28), MOD(ROW()-1, 28))","v":0}]
[{"$f":"OFFSET(X0withPad!$A$1, INT((ROW()-1)/28), MOD(ROW()-1, 28))","v":0},{"$f":"OFFSET(X0withPad!$B$1, INT((ROW()-1)/28), MOD(ROW()-1, 28))","v":0},{"$f":"OFFSET(X0withPad!$C$1, INT((ROW()-1)/28), MOD(ROW()-1, 28))","v":0},{"$f":"OFFSET(X0withPad!$A$2, INT((ROW()-1)/28), MOD(ROW()-1, 28))","v":0},{"$f":"OFFSET(X0withPad!$B$2, INT((ROW()-1)/28), MOD(ROW()-1, 28))","v":0},{"$f":"OFFSET(X0withPad!$C$2, INT((ROW()-1)/28), MOD(ROW()-1, 28))","v":0},{"$f":"OFFSET(X0withPad!$A$3, INT((ROW()-1)/28), MOD(ROW()-1, 28))","v":0},{"$f":"OFFSET(X0withPad!$B$3, INT((ROW()-1)/28), MOD(ROW()-1, 28))","v":0},{"$f":"OFFSET(X0withPad!$C$3, INT((ROW()-1)/28), MOD(ROW()-1, 28))","v":0}]
[{"$f":"OFFSET(X0withPad!$A$1, INT((ROW()-1)/28), MOD(ROW()-1, 28))","v":0},{"$f":"OFFSET(X0withPad!$B$1, INT((ROW()-1)/28), MOD(ROW()-1, 28))","v":0},{"$f":"OFFSET(X0withPad!$C$1, INT((ROW()-1)/28), MOD(ROW()-1, 28))","v":0},{"$f":"OFFSET(X0withPad!$A$2, INT((ROW()-1)/28), MOD(ROW()-1, 28))","v":0},{"$f":"OFFSET(X0withPad!$B$2, INT((ROW()-1)/28), MOD(ROW()-1, 28))","v":0},{"$f":"OFFSET(X0withPad!$C$2, INT((ROW()-1)/28), MOD(ROW()-1, 28))","v":0},{"$f":"OFFSET(X0withPad!$A$3, INT((ROW()-1)/28), MOD(ROW()-1, 28))","v":0},{"$f":"OFFSET(X0withPad!$B$3, INT((ROW()-1)/28), MOD(ROW()-1, 28))","v":0},{"$f":"OFFSET(X0withPad!$C$3, INT((ROW()-1)/28), MOD(ROW()-1, 28))","v":0}]
[{"$f":"OFFSET(X0withPad!$A$1, INT((ROW()-1)/28), MOD(ROW()-1, 28))","v":0},{"$f":"OFFSET(X0withPad!$B$1, INT((ROW()-1)/28), MOD(ROW()-1, 28))","v":0},{"$f":"OFFSET(X0withPad!$C$1, INT((ROW()-1)/28), MOD(ROW()-1, 28))","v":0},{"$f":"OFFSET(X0withPad!$A$2, INT((ROW()-1)/28), MOD(ROW()-1, 28))","v":0},{"$f":"OFFSET(X0withPad!$B$2, INT((ROW()-1)/28), MOD(ROW()-1, 28))","v":0},{"$f":"OFFSET(X0withPad!$C$2, INT((ROW()-1)/28), MOD(ROW()-1, 28))","v":0},{"$f":"OFFSET(X0withPad!$A$3, INT((ROW()-1)/28), MOD(ROW()-1, 28))","v":0},{"$f":"OFFSET(X0withPad!$B$3, INT((ROW()-1)/28), MOD(ROW()-1, 28))","v":0},{"$f":"OFFSET(X0withPad!$C$3, INT((ROW()-1)/28), MOD(ROW()-1, 28))","v":0}]
[{"$f":"OFFSET(X0withPad!$A$1, INT((ROW()-1)/28), MOD(ROW()-1, 28))","v":0},{"$f":"OFFSET(X0withPad!$B$1, INT((ROW()-1)/28), MOD(ROW()-1, 28))","v":0},{"$f":"OFFSET(X0withPad!$C$1, INT((ROW()-1)/28), MOD(ROW()-1, 28))","v":0},{"$f":"OFFSET(X0withPad!$A$2, INT((ROW()-1)/28), MOD(ROW()-1, 28))","v":0},{"$f":"OFFSET(X0withPad!$B$2, INT((ROW()-1)/28), MOD(ROW()-1, 28))","v":0},{"$f":"OFFSET(X0withPad!$C$2, INT((ROW()-1)/28), MOD(ROW()-1, 28))","v":0},{"$f":"OFFSET(X0withPad!$A$3, INT((ROW()-1)/28), MOD(ROW()-1, 28))","v":0},{"$f":"OFFSET(X0withPad!$B$3, INT((ROW()-1)/28), MOD(ROW()-1, 28))","v":0},{"$f":"OFFSET(X0withPad!$C$3, INT((ROW()-1)/28), MOD(ROW()-1, 28))","v":0}]
[{"$f":"OFFSET(X0withPad!$A$1, INT((ROW()-1)/28), MOD(ROW()-1, 28))","v":0},{"$f":"OFFSET(X0withPad!$B$1, INT((ROW()-1)/28), MOD(ROW()-1, 28))","v":0},{"$f":"OFFSET(X0withPad!$C$1, INT((ROW()-1)/28), MOD(ROW()-1, 28))","v":0},{"$f":"OFFSET(X0withPad!$A$2, INT((ROW()-1)/28), MOD(ROW()-1, 28))","v":0},{"$f":"OFFSET(X0withPad!$B$2, INT((ROW()-1)/28), MOD(ROW()-1, 28))","v":0},{"$f":"OFFSET(X0withPad!$C$2, INT((ROW()-1)/28), MOD(ROW()-1, 28))","v":0},{"$f":"OFFSET(X0withPad!$A$3, INT((ROW()-1)/28), MOD(ROW()-1, 28))","v":0},{"$f":"OFFSET(X0withPad!$B$3, INT((ROW()-1)/28), MOD(ROW()-1, 28))","v":0},{"$f":"OFFSET(X0withPad!$C$3, INT((ROW()-1)/28), MOD(ROW()-1, 28))","v":0}]
[{"$f":"OFFSET(X0withPad!$A$1, INT((ROW()-1)/28), MOD(ROW()-1, 28))","v":0},{"$f":"OFFSET(X0withPad!$B$1, INT((ROW()-1)/28), MOD(ROW()-1, 28))","v":0},{"$f":"OFFSET(X0withPad!$C$1, INT((ROW()-1)/28), MOD(ROW()-1, 28))","v":0},{"$f":"OFFSET(X0withPad!$A$2, INT((ROW()-1)/28), MOD(ROW()-1, 28))","v":0},{"$f":"OFFSET(X0withPad!$B$2, INT((ROW()-1)/28), MOD(ROW()-1, 28))","v":0},{"$f":"OFFSET(X0withPad!$C$2, INT((ROW()-1)/28), MOD(ROW()-1, 28))","v":0},{"$f":"OFFSET(X0withPad!$A$3, INT((ROW()-1)/28), MOD(ROW()-1, 28))","v":0},{"$f":"OFFSET(X0withPad!$B$3, INT((ROW()-1)/28), MOD(ROW()-1, 28))","v":0},{"$f":"OFFSET(X0withPad!$C$3, INT((ROW()-1)/28), MOD(ROW()-1, 28))","v":0}]
[{"$f":"OFFSET(X0withPad!$A$1, INT((ROW()-1)/28), MOD(ROW()-1, 28))","v":0},{"$f":"OFFSET(X0withPad!$B$1, INT((ROW()-1)/28), MOD(ROW()-1, 28))","v":0},{"$f":"OFFSET(X0withPad!$C$1, INT((ROW()-1)/28), MOD(ROW()-1, 28))","v":0},{"$f":"OFFSET(X0withPad!$A$2, INT((ROW()-1)/28), MOD(ROW()-1, 28))","v":0},{"$f":"OFFSET(X0withPad!$B$2, INT((ROW()-1)/28), MOD(ROW()-1, 28))","v":0},{"$f":"OFFSET(X0withPad!$C$2, INT((ROW()-1)/28), MOD(ROW()-1, 28))","v":0},{"$f":"OFFSET(X0withPad!$A$3, INT((ROW()-1)/28), MOD(ROW()-1, 28))","v":0},{"$f":"OFFSET(X0withPad!$B$3, INT((ROW()-1)/28), MOD(ROW()-1, 28))","v":0},{"$f":"OFFSET(X0withPad!$C$3, INT((ROW()-1)/28), MOD(ROW()-1, 28))","v":0}]
[{"$f":"OFFSET(X0withPad!$A$1, INT((ROW()-1)/28), MOD(ROW()-1, 28))","v":0},{"$f":"OFFSET(X0withPad!$B$1, INT((ROW()-1)/28), MOD(ROW()-1, 28))","v":0},{"$f":"OFFSET(X0withPad!$C$1, INT((ROW()-1)/28), MOD(ROW()-1, 28))","v":0},{"$f":"OFFSET(X0withPad!$A$2, INT((ROW()-1)/28), MOD(ROW()-1, 28))","v":0},{"$f":"OFFSET(X0withPad!$B$2, INT((ROW()-1)/28), MOD(ROW()-1, 28))","v":0},{"$f":"OFFSET(X0withPad!$C$2, INT((ROW()-1)/28), MOD(ROW()-1, 28))","v":0},{"$f":"OFFSET(X0withPad!$A$3, INT((ROW()-1)/28), MOD(ROW()-1, 28))","v":0},{"$f":"OFFSET(X0withPad!$B$3, INT((ROW()-1)/28), MOD(ROW()-1, 28))","v":0},{"$f":"OFFSET(X0withPad!$C$3, INT((ROW()-1)/28), MOD(ROW()-1, 28))","v":0}]
[{"$f":"OFFSET(X0withPad!$A$1, INT((ROW()-1)/28), MOD(ROW()-1, 28))","v":0},{"$f":"OFFSET(X0withPad!$B$1, INT((ROW()-1)/28), MOD(ROW()-1, 28))","v":0},{"$f":"OFFSET(X0withPad!$C$1, INT((ROW()-1)/28), MOD(ROW()-1, 28))","v":0},{"$f":"OFFSET(X0withPad!$A$2, INT((ROW()-1)/28), MOD(ROW()-1, 28))","v":0},{"$f":"OFFSET(X0withPad!$B$2, INT((ROW()-1)/28), MOD(ROW()-1, 28))","v":0},{"$f":"OFFSET(X0withPad!$C$2, INT((ROW()-1)/28), MOD(ROW()-1, 28))","v":0},{"$f":"OFFSET(X0withPad!$A$3, INT((ROW()-1)/28), MOD(ROW()-1, 28))","v":0},{"$f":"OFFSET(X0withPad!$B$3, INT((ROW()-1)/28), MOD(ROW()-1, 28))","v":0},{"$f":"OFFSET(X0withPad!$C$3, INT((ROW()-1)/28), MOD(ROW()-1, 28))","v":0}]
[{"$f":"OFFSET(X0withPad!$A$1, INT((ROW()-1)/28), MOD(ROW()-1, 28))","v":0},{"$f":"OFFSET(X0withPad!$B$1, INT((ROW()-1)/28), MOD(ROW()-1, 28))","v":0},{"$f":"OFFSET(X0withPad!$C$1, INT((ROW()-1)/28), MOD(ROW()-1, 28))","v":0},{"$f":"OFFSET(X0withPad!$A$2, INT((ROW()-1)/28), MOD(ROW()-1, 28))","v":0},{"$f":"OFFSET(X0withPad!$B$2, INT((ROW()-1)/28), MOD(ROW()-1, 28))","v":0},{"$f":"OFFSET(X0withPad!$C$2, INT((ROW()-1)/28), MOD(ROW()-1, 28))","v":0},{"$f":"OFFSET(X0withPad!$A$3, INT((ROW()-1)/28), MOD(ROW()-1, 28))","v":0},{"$f":"OFFSET(X0withPad!$B$3, INT((ROW()-1)/28), MOD(ROW()-1, 28))","v":0},{"$f":"OFFSET(X0withPad!$C$3, INT((ROW()-1)/28), MOD(ROW()-1, 28))","v":0}]
[{"$f":"OFFSET(X0withPad!$A$1, INT((ROW()-1)/28), MOD(ROW()-1, 28))","v":0},{"$f":"OFFSET(X0withPad!$B$1, INT((ROW()-1)/28), MOD(ROW()-1, 28))","v":0},{"$f":"OFFSET(X0withPad!$C$1, INT((ROW()-1)/28), MOD(ROW()-1, 28))","v":0},{"$f":"OFFSET(X0withPad!$A$2, INT((ROW()-1)/28), MOD(ROW()-1, 28))","v":0},{"$f":"OFFSET(X0withPad!$B$2, INT((ROW()-1)/28), MOD(ROW()-1, 28))","v":0},{"$f":"OFFSET(X0withPad!$C$2, INT((ROW()-1)/28), MOD(ROW()-1, 28))","v":0},{"$f":"OFFSET(X0withPad!$A$3, INT((ROW()-1)/28), MOD(ROW()-1, 28))","v":0},{"$f":"OFFSET(X0withPad!$B$3, INT((ROW()-1)/28), MOD(ROW()-1, 28))","v":0},{"$f":"OFFSET(X0withPad!$C$3, INT((ROW()-1)/28), MOD(ROW()-1, 28))","v":0}]
[{"$f":"OFFSET(X0withPad!$A$1, INT((ROW()-1)/28), MOD(ROW()-1, 28))","v":0},{"$f":"OFFSET(X0withPad!$B$1, INT((ROW()-1)/28), MOD(ROW()-1, 28))","v":0},{"$f":"OFFSET(X0withPad!$C$1, INT((ROW()-1)/28), MOD(ROW()-1, 28))","v":0},{"$f":"OFFSET(X0withPad!$A$2, INT((ROW()-1)/28), MOD(ROW()-1, 28))","v":0},{"$f":"OFFSET(X0withPad!$B$2, INT((ROW()-1)/28), MOD(ROW()-1, 28))","v":0},{"$f":"OFFSET(X0withPad!$C$2, INT((ROW()-1)/28), MOD(ROW()-1, 28))","v":0},{"$f":"OFFSET(X0withPad!$A$3, INT((ROW()-1)/28), MOD(ROW()-1, 28))","v":0},{"$f":"OFFSET(X0withPad!$B$3, INT((ROW()-1)/28), MOD(ROW()-1, 28))","v":0},{"$f":"OFFSET(X0withPad!$C$3, INT((ROW()-1)/28), MOD(ROW()-1, 28))","v":0}]
[{"$f":"OFFSET(X0withPad!$A$1, INT((ROW()-1)/28), MOD(ROW()-1, 28))","v":0},{"$f":"OFFSET(X0withPad!$B$1, INT((ROW()-1)/28), MOD(ROW()-1, 28))","v":0},{"$f":"OFFSET(X0withPad!$C$1, INT((ROW()-1)/28), MOD(ROW()-1, 28))","v":0},{"$f":"OFFSET(X0withPad!$A$2, INT((ROW()-1)/28), MOD(ROW()-1, 28))","v":0},{"$f":"OFFSET(X0withPad!$B$2, INT((ROW()-1)/28), MOD(ROW()-1, 28))","v":0},{"$f":"OFFSET(X0withPad!$C$2, INT((ROW()-1)/28), MOD(ROW()-1, 28))","v":0},{"$f":"OFFSET(X0withPad!$A$3, INT((ROW()-1)/28), MOD(ROW()-1, 28))","v":0},{"$f":"OFFSET(X0withPad!$B$3, INT((ROW()-1)/28), MOD(ROW()-1, 28))","v":0},{"$f":"OFFSET(X0withPad!$C$3, INT((ROW()-1)/28), MOD(ROW()-1, 28))","v":0}]
[{"$f":"OFFSET(X0withPad!$A$1, INT((ROW()-1)/28), MOD(ROW()-1, 28))","v":0},{"$f":"OFFSET(X0withPad!$B$1, INT((ROW()-1)/28), MOD(ROW()-1, 28))","v":0},{"$f":"OFFSET(X0withPad!$C$1, INT((ROW()-1)/28), MOD(ROW()-1, 28))","v":0},{"$f":"OFFSET(X0withPad!$A$2, INT((ROW()-1)/28), MOD(ROW()-1, 28))","v":0},{"$f":"OFFSET(X0withPad!$B$2, INT((ROW()-1)/28), MOD(ROW()-1, 28))","v":0},{"$f":"OFFSET(X0withPad!$C$2, INT((ROW()-1)/28), MOD(ROW()-1, 28))","v":0},{"$f":"OFFSET(X0withPad!$A$3, INT((ROW()-1)/28), MOD(ROW()-1, 28))","v":0},{"$f":"OFFSET(X0withPad!$B$3, INT((ROW()-1)/28), MOD(ROW()-1, 28))","v":0},{"$f":"OFFSET(X0withPad!$C$3, INT((ROW()-1)/28), MOD(ROW()-1, 28))","v":0}]
[{"$f":"OFFSET(X0withPad!$A$1, INT((ROW()-1)/28), MOD(ROW()-1, 28))","v":0},{"$f":"OFFSET(X0withPad!$B$1, INT((ROW()-1)/28), MOD(ROW()-1, 28))","v":0},{"$f":"OFFSET(X0withPad!$C$1, INT((ROW()-1)/28), MOD(ROW()-1, 28))","v":0},{"$f":"OFFSET(X0withPad!$A$2, INT((ROW()-1)/28), MOD(ROW()-1, 28))","v":0},{"$f":"OFFSET(X0withPad!$B$2, INT((ROW()-1)/28), MOD(ROW()-1, 28))","v":0},{"$f":"OFFSET(X0withPad!$C$2, INT((ROW()-1)/28), MOD(ROW()-1, 28))","v":0},{"$f":"OFFSET(X0withPad!$A$3, INT((ROW()-1)/28), MOD(ROW()-1, 28))","v":0},{"$f":"OFFSET(X0withPad!$B$3, INT((ROW()-1)/28), MOD(ROW()-1, 28))","v":0},{"$f":"OFFSET(X0withPad!$C$3, INT((ROW()-1)/28), MOD(ROW()-1, 28))","v":0}]
[{"$f":"OFFSET(X0withPad!$A$1, INT((ROW()-1)/28), MOD(ROW()-1, 28))","v":0},{"$f":"OFFSET(X0withPad!$B$1, INT((ROW()-1)/28), MOD(ROW()-1, 28))","v":0},{"$f":"OFFSET(X0withPad!$C$1, INT((ROW()-1)/28), MOD(ROW()-1, 28))","v":0},{"$f":"OFFSET(X0withPad!$A$2, INT((ROW()-1)/28), MOD(ROW()-1, 28))","v":0},{"$f":"OFFSET(X0withPad!$B$2, INT((ROW()-1)/28), MOD(ROW()-1, 28))","v":0},{"$f":"OFFSET(X0withPad!$C$2, INT((ROW()-1)/28), MOD(ROW()-1, 28))","v":0},{"$f":"OFFSET(X0withPad!$A$3, INT((ROW()-1)/28), MOD(ROW()-1, 28))","v":0},{"$f":"OFFSET(X0withPad!$B$3, INT((ROW()-1)/28), MOD(ROW()-1, 28))","v":0},{"$f":"OFFSET(X0withPad!$C$3, INT((ROW()-1)/28), MOD(ROW()-1, 28))","v":0}]
[{"$f":"OFFSET(X0withPad!$A$1, INT((ROW()-1)/28), MOD(ROW()-1, 28))","v":0},{"$f":"OFFSET(X0withPad!$B$1, INT((ROW()-1)/28), MOD(ROW()-1, 28))","v":0},{"$f":"OFFSET(X0withPad!$C$1, INT((ROW()-1)/28), MOD(ROW()-1, 28))","v":0},{"$f":"OFFSET(X0withPad!$A$2, INT((ROW()-1)/28), MOD(ROW()-1, 28))","v":0},{"$f":"OFFSET(X0withPad!$B$2, INT((ROW()-1)/28), MOD(ROW()-1, 28))","v":0},{"$f":"OFFSET(X0withPad!$C$2, INT((ROW()-1)/28), MOD(ROW()-1, 28))","v":0},{"$f":"OFFSET(X0withPad!$A$3, INT((ROW()-1)/28), MOD(ROW()-1, 28))","v":0},{"$f":"OFFSET(X0withPad!$B$3, INT((ROW()-1)/28), MOD(ROW()-1, 28))","v":0},{"$f":"OFFSET(X0withPad!$C$3, INT((ROW()-1)/28), MOD(ROW()-1, 28))","v":0}]
[{"$f":"OFFSET(X0withPad!$A$1, INT((ROW()-1)/28), MOD(ROW()-1, 28))","v":0},{"$f":"OFFSET(X0withPad!$B$1, INT((ROW()-1)/28), MOD(ROW()-1, 28))","v":0},{"$f":"OFFSET(X0withPad!$C$1, INT((ROW()-1)/28), MOD(ROW()-1, 28))","v":0},{"$f":"OFFSET(X0withPad!$A$2, INT((ROW()-1)/28), MOD(ROW()-1, 28))","v":0},{"$f":"OFFSET(X0withPad!$B$2, INT((ROW()-1)/28), MOD(ROW()-1, 28))","v":0},{"$f":"OFFSET(X0withPad!$C$2, INT((ROW()-1)/28), MOD(ROW()-1, 28))","v":0},{"$f":"OFFSET(X0withPad!$A$3, INT((ROW()-1)/28), MOD(ROW()-1, 28))","v":0},{"$f":"OFFSET(X0withPad!$B$3, INT((ROW()-1)/28), MOD(ROW()-1, 28))","v":0},{"$f":"OFFSET(X0withPad!$C$3, INT((ROW()-1)/28), MOD(ROW()-1, 28))","v":0}]
[{"$f":"OFFSET(X0withPad!$A$1, INT((ROW()-1)/28), MOD(ROW()-1, 28))","v":0},{"$f":"OFFSET(X0withPad!$B$1, INT((ROW()-1)/28), MOD(ROW()-1, 28))","v":0},{"$f":"OFFSET(X0withPad!$C$1, INT((ROW()-1)/28), MOD(ROW()-1, 28))","v":0},{"$f":"OFFSET(X0withPad!$A$2, INT((ROW()-1)/28), MOD(ROW()-1, 28))","v":0},{"$f":"OFFSET(X0withPad!$B$2, INT((ROW()-1)/28), MOD(ROW()-1, 28))","v":0},{"$f":"OFFSET(X0withPad!$C$2, INT((ROW()-1)/28), MOD(ROW()-1, 28))","v":0},{"$f":"OFFSET(X0withPad!$A$3, INT((ROW()-1)/28), MOD(ROW()-1, 28))","v":0},{"$f":"OFFSET(X0withPad!$B$3, INT((ROW()-1)/28), MOD(ROW()-1, 28))","v":0},{"$f":"OFFSET(X0withPad!$C$3, INT((ROW()-1)/28), MOD(ROW()-1, 28))","v":0}]
[{"$f":"OFFSET(X0withPad!$A$1, INT((ROW()-1)/28), MOD(ROW()-1, 28))","v":0},{"$f":"OFFSET(X0withPad!$B$1, INT((ROW()-1)/28), MOD(ROW()-1, 28))","v":0},{"$f":"OFFSET(X0withPad!$C$1, INT((ROW()-1)/28), MOD(ROW()-1, 28))","v":0},{"$f":"OFFSET(X0withPad!$A$2, INT((ROW()-1)/28), MOD(ROW()-1, 28))","v":0},{"$f":"OFFSET(X0withPad!$B$2, INT((ROW()-1)/28), MOD(ROW()-1, 28))","v":0},{"$f":"OFFSET(X0withPad!$C$2, INT((ROW()-1)/28), MOD(ROW()-1, 28))","v":0},{"$f":"OFFSET(X0withPad!$A$3, INT((ROW()-1)/28), MOD(ROW()-1, 28))","v":0},{"$f":"OFFSET(X0withPad!$B$3, INT((ROW()-1)/28), MOD(ROW()-1, 28))","v":0},{"$f":"OFFSET(X0withPad!$C$3, INT((ROW()-1)/28), MOD(ROW()-1, 28))","v":0}]
[{"$f":"OFFSET(X0withPad!$A$1, INT((ROW()-1)/28), MOD(ROW()-1, 28))","v":0},{"$f":"OFFSET(X0withPad!$B$1, INT((ROW()-1)/28), MOD(ROW()-1, 28))","v":0},{"$f":"OFFSET(X0withPad!$C$1, INT((ROW()-1)/28), MOD(ROW()-1, 28))","v":0},{"$f":"OFFSET(X0withPad!$A$2, INT((ROW()-1)/28), MOD(ROW()-1, 28))","v":0},{"$f":"OFFSET(X0withPad!$B$2, INT((ROW()-1)/28), MOD(ROW()-1, 28))","v":0},{"$f":"OFFSET(X0withPad!$C$2, INT((ROW()-1)/28), MOD(ROW()-1, 28))","v":0},{"$f":"OFFSET(X0withPad!$A$3, INT((ROW()-1)/28), MOD(ROW()-1, 28))","v":0},{"$f":"OFFSET(X0withPad!$B$3, INT((ROW()-1)/28), MOD(ROW()-1, 28))","v":0},{"$f":"OFFSET(X0withPad!$C$3, INT((ROW()-1)/28), MOD(ROW()-1, 28))","v":0}]
[{"$f":"OFFSET(X0withPad!$A$1, INT((ROW()-1)/28), MOD(ROW()-1, 28))","v":0},{"$f":"OFFSET(X0withPad!$B$1, INT((ROW()-1)/28), MOD(ROW()-1, 28))","v":0},{"$f":"OFFSET(X0withPad!$C$1, INT((ROW()-1)/28), MOD(ROW()-1, 28))","v":0},{"$f":"OFFSET(X0withPad!$A$2, INT((ROW()-1)/28), MOD(ROW()-1, 28))","v":0},{"$f":"OFFSET(X0withPad!$B$2, INT((ROW()-1)/28), MOD(ROW()-1, 28))","v":0},{"$f":"OFFSET(X0withPad!$C$2, INT((ROW()-1)/28), MOD(ROW()-1, 28))","v":0},{"$f":"OFFSET(X0withPad!$A$3, INT((ROW()-1)/28), MOD(ROW()-1, 28))","v":0},{"$f":"OFFSET(X0withPad!$B$3, INT((ROW()-1)/28), MOD(ROW()-1, 28))","v":0},{"$f":"OFFSET(X0withPad!$C$3, INT((ROW()-1)/28), MOD(ROW()-1, 28))","v":0}]
[{"$f":"OFFSET(X0withPad!$A$1, INT((ROW()-1)/28), MOD(ROW()-1, 28))","v":0},{"$f":"OFFSET(X0withPad!$B$1, INT((ROW()-1)/28), MOD(ROW()-1, 28))","v":0},{"$f":"OFFSET(X0withPad!$C$1, INT((ROW()-1)/28), MOD(ROW()-1, 28))","v":0},{"$f":"OFFSET(X0withPad!$A$2, INT((ROW()-1)/28), MOD(ROW()-1, 28))","v":0},{"$f":"OFFSET(X0withPad!$B$2, INT((ROW()-1)/28), MOD(ROW()-1, 28))","v":0},{"$f":"OFFSET(X0withPad!$C$2, INT((ROW()-1)/28), MOD(ROW()-1, 28))","v":0},{"$f":"OFFSET(X0withPad!$A$3, INT((ROW()-1)/28), MOD(ROW()-1, 28))","v":0},{"$f":"OFFSET(X0withPad!$B$3, INT((ROW()-1)/28), MOD(ROW()-1, 28))","v":0},{"$f":"OFFSET(X0withPad!$C$3, INT((ROW()-1)/28), MOD(ROW()-1, 28))","v":0}]
[{"$f":"OFFSET(X0withPad!$A$1, INT((ROW()-1)/28), MOD(ROW()-1, 28))","v":0},{"$f":"OFFSET(X0withPad!$B$1, INT((ROW()-1)/28), MOD(ROW()-1, 28))","v":0},{"$f":"OFFSET(X0withPad!$C$1, INT((ROW()-1)/28), MOD(ROW()-1, 28))","v":0},{"$f":"OFFSET(X0withPad!$A$2, INT((ROW()-1)/28), MOD(ROW()-1, 28))","v":0},{"$f":"OFFSET(X0withPad!$B$2, INT((ROW()-1)/28), MOD(ROW()-1, 28))","v":0},{"$f":"OFFSET(X0withPad!$C$2, INT((ROW()-1)/28), MOD(ROW()-1, 28))","v":0},{"$f":"OFFSET(X0withPad!$A$3, INT((ROW()-1)/28), MOD(ROW()-1, 28))","v":0},{"$f":"OFFSET(X0withPad!$B$3, INT((ROW()-1)/28), MOD(ROW()-1, 28))","v":0},{"$f":"OFFSET(X0withPad!$C$3, INT((ROW()-1)/28), MOD(ROW()-1, 28))","v":0}]
[{"$f":"OFFSET(X0withPad!$A$1, INT((ROW()-1)/28), MOD(ROW()-1, 28))","v":0},{"$f":"OFFSET(X0withPad!$B$1, INT((ROW()-1)/28), MOD(ROW()-1, 28))","v":0},{"$f":"OFFSET(X0withPad!$C$1, INT((ROW()-1)/28), MOD(ROW()-1, 28))","v":0},{"$f":"OFFSET(X0withPad!$A$2, INT((ROW()-1)/28), MOD(ROW()-1, 28))","v":0},{"$f":"OFFSET(X0withPad!$B$2, INT((ROW()-1)/28), MOD(ROW()-1, 28))","v":0},{"$f":"OFFSET(X0withPad!$C$2, INT((ROW()-1)/28), MOD(ROW()-1, 28))","v":0},{"$f":"OFFSET(X0withPad!$A$3, INT((ROW()-1)/28), MOD(ROW()-1, 28))","v":0},{"$f":"OFFSET(X0withPad!$B$3, INT((ROW()-1)/28), MOD(ROW()-1, 28))","v":0},{"$f":"OFFSET(X0withPad!$C$3, INT((ROW()-1)/28), MOD(ROW()-1, 28))","v":0}]
[{"$f":"OFFSET(X0withPad!$A$1, INT((ROW()-1)/28), MOD(ROW()-1, 28))","v":0},{"$f":"OFFSET(X0withPad!$B$1, INT((ROW()-1)/28), MOD(ROW()-1, 28))","v":0},{"$f":"OFFSET(X0withPad!$C$1, INT((ROW()-1)/28), MOD(ROW()-1, 28))","v":0},{"$f":"OFFSET(X0withPad!$A$2, INT((ROW()-1)/28), MOD(ROW()-1, 28))","v":0},{"$f":"OFFSET(X0withPad!$B$2, INT((ROW()-1)/28), MOD(ROW()-1, 28))","v":0},{"$f":"OFFSET(X0withPad!$C$2, INT((ROW()-1)/28), MOD(ROW()-1, 28))","v":0},{"$f":"OFFSET(X0withPad!$A$3, INT((ROW()-1)/28), MOD(ROW()-1, 28))","v":0},{"$f":"OFFSET(X0withPad!$B$3, INT((ROW()-1)/28), MOD(ROW()-1, 28))","v":0},{"$f":"OFFSET(X0withPad!$C$3, INT((ROW()-1)/28), MOD(ROW()-1, 28))","v":0}]
[{"$f":"OFFSET(X0withPad!$A$1, INT((ROW()-1)/28), MOD(ROW()-1, 28))","v":0},{"$f":"OFFSET(X0withPad!$B$1, INT((ROW()-1)/28), MOD(ROW()-1, 28))","v":0},{"$f":"OFFSET(X0withPad!$C$1, INT((ROW()-1)/28), MOD(ROW()-1, 28))","v":0},{"$f":"OFFSET(X0withPad!$A$2, INT((ROW()-1)/28), MOD(ROW()-1, 28))","v":0},{"$f":"OFFSET(X0withPad!$B$2, INT((ROW()-1)/28), MOD(ROW()-1, 28))","v":0},{"$f":"OFFSET(X0withPad!$C$2, INT((ROW()-1)/28), MOD(ROW()-1, 28))","v":0},{"$f":"OFFSET(X0withPad!$A$3, INT((ROW()-1)/28), MOD(ROW()-1, 28))","v":0},{"$f":"OFFSET(X0withPad!$B$3, INT((ROW()-1)/28), MOD(ROW()-1, 28))","v":0},{"$f":"OFFSET(X0withPad!$C$3, INT((ROW()-1)/28), MOD(ROW()-1, 28))","v":0}]
[{"$f":"OFFSET(X0withPad!$A$1, INT((ROW()-1)/28), MOD(ROW()-1, 28))","v":0},{"$f":"OFFSET(X0withPad!$B$1, INT((ROW()-1)/28), MOD(ROW()-1, 28))","v":0},{"$f":"OFFSET(X0withPad!$C$1, INT((ROW()-1)/28), MOD(ROW()-1, 28))","v":0},{"$f":"OFFSET(X0withPad!$A$2, INT((ROW()-1)/28), MOD(ROW()-1, 28))","v":0},{"$f":"OFFSET(X0withPad!$B$2, INT((ROW()-1)/28), MOD(ROW()-1, 28))","v":0},{"$f":"OFFSET(X0withPad!$C$2, INT((ROW()-1)/28), MOD(ROW()-1, 28))","v":0},{"$f":"OFFSET(X0withPad!$A$3, INT((ROW()-1)/28), MOD(ROW()-1, 28))","v":0},{"$f":"OFFSET(X0withPad!$B$3, INT((ROW()-1)/28), MOD(ROW()-1, 28))","v":0},{"$f":"OFFSET(X0withPad!$C$3, INT((ROW()-1)/28), MOD(ROW()-1, 28))","v":0}]
[{"$f":"OFFSET(X0withPad!$A$1, INT((ROW()-1)/28), MOD(ROW()-1, 28))","v":0},{"$f":"OFFSET(X0withPad!$B$1, INT((ROW()-1)/28), MOD(ROW()-1, 28))","v":0},{"$f":"OFFSET(X0withPad!$C$1, INT((ROW()-1)/28), MOD(ROW()-1, 28))","v":0},{"$f":"OFFSET(X0withPad!$A$2, INT((ROW()-1)/28), MOD(ROW()-1, 28))","v":0},{"$f":"OFFSET(X0withPad!$B$2, INT((ROW()-1)/28), MOD(ROW()-1, 28))","v":0},{"$f":"OFFSET(X0withPad!$C$2, INT((ROW()-1)/28), MOD(ROW()-1, 28))","v":0},{"$f":"OFFSET(X0withPad!$A$3, INT((ROW()-1)/28), MOD(ROW()-1, 28))","v":0},{"$f":"OFFSET(X0withPad!$B$3, INT((ROW()-1)/28), MOD(ROW()-1, 28))","v":0},{"$f":"OFFSET(X0withPad!$C$3, INT((ROW()-1)/28), MOD(ROW()-1, 28))","v":0}]
[{"$f":"OFFSET(X0withPad!$A$1, INT((ROW()-1)/28), MOD(ROW()-1, 28))","v":0},{"$f":"OFFSET(X0withPad!$B$1, INT((ROW()-1)/28), MOD(ROW()-1, 28))","v":0},{"$f":"OFFSET(X0withPad!$C$1, INT((ROW()-1)/28), MOD(ROW()-1, 28))","v":0},{"$f":"OFFSET(X0withPad!$A$2, INT((ROW()-1)/28), MOD(ROW()-1, 28))","v":0},{"$f":"OFFSET(X0withPad!$B$2, INT((ROW()-1)/28), MOD(ROW()-1, 28))","v":0},{"$f":"OFFSET(X0withPad!$C$2, INT((ROW()-1)/28), MOD(ROW()-1, 28))","v":0},{"$f":"OFFSET(X0withPad!$A$3, INT((ROW()-1)/28), MOD(ROW()-1, 28))","v":0},{"$f":"OFFSET(X0withPad!$B$3, INT((ROW()-1)/28), MOD(ROW()-1, 28))","v":0},{"$f":"OFFSET(X0withPad!$C$3, INT((ROW()-1)/28), MOD(ROW()-1, 28))","v":0}]
[{"$f":"OFFSET(X0withPad!$A$1, INT((ROW()-1)/28), MOD(ROW()-1, 28))","v":0},{"$f":"OFFSET(X0withPad!$B$1, INT((ROW()-1)/28), MOD(ROW()-1, 28))","v":0},{"$f":"OFFSET(X0withPad!$C$1, INT((ROW()-1)/28), MOD(ROW()-1, 28))","v":0},{"$f":"OFFSET(X0withPad!$A$2, INT((ROW()-1)/28), MOD(ROW()-1, 28))","v":0},{"$f":"OFFSET(X0withPad!$B$2, INT((ROW()-1)/28), MOD(ROW()-1, 28))","v":0},{"$f":"OFFSET(X0withPad!$C$2, INT((ROW()-1)/28), MOD(ROW()-1, 28))","v":0},{"$f":"OFFSET(X0withPad!$A$3, INT((ROW()-1)/28), MOD(ROW()-1, 28))","v":0},{"$f":"OFFSET(X0withPad!$B$3, INT((ROW()-1)/28), MOD(ROW()-1, 28))","v":0},{"$f":"OFFSET(X0withPad!$C$3, INT((ROW()-1)/28), MOD(ROW()-1, 28))","v":0}]
[{"$f":"OFFSET(X0withPad!$A$1, INT((ROW()-1)/28), MOD(ROW()-1, 28))","v":0},{"$f":"OFFSET(X0withPad!$B$1, INT((ROW()-1)/28), MOD(ROW()-1, 28))","v":0},{"$f":"OFFSET(X0withPad!$C$1, INT((ROW()-1)/28), MOD(ROW()-1, 28))","v":0},{"$f":"OFFSET(X0withPad!$A$2, INT((ROW()-1)/28), MOD(ROW()-1, 28))","v":0},{"$f":"OFFSET(X0withPad!$B$2, INT((ROW()-1)/28), MOD(ROW()-1, 28))","v":0},{"$f":"OFFSET(X0withPad!$C$2, INT((ROW()-1)/28), MOD(ROW()-1, 28))","v":0},{"$f":"OFFSET(X0withPad!$A$3, INT((ROW()-1)/28), MOD(ROW()-1, 28))","v":0},{"$f":"OFFSET(X0withPad!$B$3, INT((ROW()-1)/28), MOD(ROW()-1, 28))","v":0},{"$f":"OFFSET(X0withPad!$C$3, INT((ROW()-1)/28), MOD(ROW()-1, 28))","v":0}]
[{"$f":"OFFSET(X0withPad!$A$1, INT((ROW()-1)/28), MOD(ROW()-1, 28))","v":0},{"$f":"OFFSET(X0withPad!$B$1, INT((ROW()-1)/28), MOD(ROW()-1, 28))","v":0},{"$f":"OFFSET(X0withPad!$C$1, INT((ROW()-1)/28), MOD(ROW()-1, 28))","v":0},{"$f":"OFFSET(X0withPad!$A$2, INT((ROW()-1)/28), MOD(ROW()-1, 28))","v":0},{"$f":"OFFSET(X0withPad!$B$2, INT((ROW()-1)/28), MOD(ROW()-1, 28))","v":0},{"$f":"OFFSET(X0withPad!$C$2, INT((ROW()-1)/28), MOD(ROW()-1, 28))","v":0},{"$f":"OFFSET(X0withPad!$A$3, INT((ROW()-1)/28), MOD(ROW()-1, 28))","v":0},{"$f":"OFFSET(X0withPad!$B$3, INT((ROW()-1)/28), MOD(ROW()-1, 28))","v":0},{"$f":"OFFSET(X0withPad!$C$3, INT((ROW()-1)/28), MOD(ROW()-1, 28))","v":0}]
[{"$f":"OFFSET(X0withPad!$A$1, INT((ROW()-1)/28), MOD(ROW()-1, 28))","v":0},{"$f":"OFFSET(X0withPad!$B$1, INT((ROW()-1)/28), MOD(ROW()-1, 28))","v":0},{"$f":"OFFSET(X0withPad!$C$1, INT((ROW()-1)/28), MOD(ROW()-1, 28))","v":0},{"$f":"OFFSET(X0withPad!$A$2, INT((ROW()-1)/28), MOD(ROW()-1, 28))","v":0},{"$f":"OFFSET(X0withPad!$B$2, INT((ROW()-1)/28), MOD(ROW()-1, 28))","v":0},{"$f":"OFFSET(X0withPad!$C$2, INT((ROW()-1)/28), MOD(ROW()-1, 28))","v":0},{"$f":"OFFSET(X0withPad!$A$3, INT((ROW()-1)/28), MOD(ROW()-1, 28))","v":0},{"$f":"OFFSET(X0withPad!$B$3, INT((ROW()-1)/28), MOD(ROW()-1, 28))","v":0},{"$f":"OFFSET(X0withPad!$C$3, INT((ROW()-1)/28), MOD(ROW()-1, 28))","v":0}]
[{"$f":"OFFSET(X0withPad!$A$1, INT((ROW()-1)/28), MOD(ROW()-1, 28))","v":0},{"$f":"OFFSET(X0withPad!$B$1, INT((ROW()-1)/28), MOD(ROW()-1, 28))","v":0},{"$f":"OFFSET(X0withPad!$C$1, INT((ROW()-1)/28), MOD(ROW()-1, 28))","v":0},{"$f":"OFFSET(X0withPad!$A$2, INT((ROW()-1)/28), MOD(ROW()-1, 28))","v":0},{"$f":"OFFSET(X0withPad!$B$2, INT((ROW()-1)/28), MOD(ROW()-1, 28))","v":0},{"$f":"OFFSET(X0withPad!$C$2, INT((ROW()-1)/28), MOD(ROW()-1, 28))","v":0},{"$f":"OFFSET(X0withPad!$A$3, INT((ROW()-1)/28), MOD(ROW()-1, 28))","v":0},{"$f":"OFFSET(X0withPad!$B$3, INT((ROW()-1)/28), MOD(ROW()-1, 28))","v":0},{"$f":"OFFSET(X0withPad!$C$3, INT((ROW()-1)/28), MOD(ROW()-1, 28))","v":0}]
[{"$f":"OFFSET(X0withPad!$A$1, INT((ROW()-1)/28), MOD(ROW()-1, 28))","v":0},{"$f":"OFFSET(X0withPad!$B$1, INT((ROW()-1)/28), MOD(ROW()-1, 28))","v":0},{"$f":"OFFSET(X0withPad!$C$1, INT((ROW()-1)/28), MOD(ROW()-1, 28))","v":0},{"$f":"OFFSET(X0withPad!$A$2, INT((ROW()-1)/28), MOD(ROW()-1, 28))","v":0},{"$f":"OFFSET(X0withPad!$B$2, INT((ROW()-1)/28), MOD(ROW()-1, 28))","v":0},{"$f":"OFFSET(X0withPad!$C$2, INT((ROW()-1)/28), MOD(ROW()-1, 28))","v":0},{"$f":"OFFSET(X0withPad!$A$3, INT((ROW()-1)/28), MOD(ROW()-1, 28))","v":0},{"$f":"OFFSET(X0withPad!$B$3, INT((ROW()-1)/28), MOD(ROW()-1, 28))","v":0},{"$f":"OFFSET(X0withPad!$C$3, INT((ROW()-1)/28), MOD(ROW()-1, 28))","v":0}]
[{"$f":"OFFSET(X0withPad!$A$1, INT((ROW()-1)/28), MOD(ROW()-1, 28))","v":0},{"$f":"OFFSET(X0withPad!$B$1, INT((ROW()-1)/28), MOD(ROW()-1, 28))","v":0},{"$f":"OFFSET(X0withPad!$C$1, INT((ROW()-1)/28), MOD(ROW()-1, 28))","v":0},{"$f":"OFFSET(X0withPad!$A$2, INT((ROW()-1)/28), MOD(ROW()-1, 28))","v":0},{"$f":"OFFSET(X0withPad!$B$2, INT((ROW()-1)/28), MOD(ROW()-1, 28))","v":0},{"$f":"OFFSET(X0withPad!$C$2, INT((ROW()-1)/28), MOD(ROW()-1, 28))","v":0},{"$f":"OFFSET(X0withPad!$A$3, INT((ROW()-1)/28), MOD(ROW()-1, 28))","v":0},{"$f":"OFFSET(X0withPad!$B$3, INT((ROW()-1)/28), MOD(ROW()-1, 28))","v":0},{"$f":"OFFSET(X0withPad!$C$3, INT((ROW()-1)/28), MOD(ROW()-1, 28))","v":0}]
[{"$f":"OFFSET(X0withPad!$A$1, INT((ROW()-1)/28), MOD(ROW()-1, 28))","v":0},{"$f":"OFFSET(X0withPad!$B$1, INT((ROW()-1)/28), MOD(ROW()-1, 28))","v":0},{"$f":"OFFSET(X0withPad!$C$1, INT((ROW()-1)/28), MOD(ROW()-1, 28))","v":0},{"$f":"OFFSET(X0withPad!$A$2, INT((ROW()-1)/28), MOD(ROW()-1, 28))","v":0},{"$f":"OFFSET(X0withPad!$B$2, INT((ROW()-1)/28), MOD(ROW()-1, 28))","v":0},{"$f":"OFFSET(X0withPad!$C$2, INT((ROW()-1)/28), MOD(ROW()-1, 28))","v":0},{"$f":"OFFSET(X0withPad!$A$3, INT((ROW()-1)/28), MOD(ROW()-1, 28))","v":0},{"$f":"OFFSET(X0withPad!$B$3, INT((ROW()-1)/28), MOD(ROW()-1, 28))","v":0},{"$f":"OFFSET(X0withPad!$C$3, INT((ROW()-1)/28), MOD(ROW()-1, 28))","v":0}]
[{"$f":"OFFSET(X0withPad!$A$1, INT((ROW()-1)/28), MOD(ROW()-1, 28))","v":0},{"$f":"OFFSET(X0withPad!$B$1, INT((ROW()-1)/28), MOD(ROW()-1, 28))","v":0},{"$f":"OFFSET(X0withPad!$C$1, INT((ROW()-1)/28), MOD(ROW()-1, 28))","v":0},{"$f":"OFFSET(X0withPad!$A$2, INT((ROW()-1)/28), MOD(ROW()-1, 28))","v":0},{"$f":"OFFSET(X0withPad!$B$2, INT((ROW()-1)/28), MOD(ROW()-1, 28))","v":0},{"$f":"OFFSET(X0withPad!$C$2, INT((ROW()-1)/28), MOD(ROW()-1, 28))","v":0},{"$f":"OFFSET(X0withPad!$A$3, INT((ROW()-1)/28), MOD(ROW()-1, 28))","v":0},{"$f":"OFFSET(X0withPad!$B$3, INT((ROW()-1)/28), MOD(ROW()-1, 28))","v":0},{"$f":"OFFSET(X0withPad!$C$3, INT((ROW()-1)/28), MOD(ROW()-1, 28))","v":0}]
[{"$f":"OFFSET(X0withPad!$A$1, INT((ROW()-1)/28), MOD(ROW()-1, 28))","v":0},{"$f":"OFFSET(X0withPad!$B$1, INT((ROW()-1)/28), MOD(ROW()-1, 28))","v":0},{"$f":"OFFSET(X0withPad!$C$1, INT((ROW()-1)/28), MOD(ROW()-1, 28))","v":0},{"$f":"OFFSET(X0withPad!$A$2, INT((ROW()-1)/28), MOD(ROW()-1, 28))","v":0},{"$f":"OFFSET(X0withPad!$B$2, INT((ROW()-1)/28), MOD(ROW()-1, 28))","v":0},{"$f":"OFFSET(X0withPad!$C$2, INT((ROW()-1)/28), MOD(ROW()-1, 28))","v":0},{"$f":"OFFSET(X0withPad!$A$3, INT((ROW()-1)/28), MOD(ROW()-1, 28))","v":0},{"$f":"OFFSET(X0withPad!$B$3, INT((ROW()-1)/28), MOD(ROW()-1, 28))","v":0},{"$f":"OFFSET(X0withPad!$C$3, INT((ROW()-1)/28), MOD(ROW()-1, 28))","v":0}]
[{"$f":"OFFSET(X0withPad!$A$1, INT((ROW()-1)/28), MOD(ROW()-1, 28))","v":0},{"$f":"OFFSET(X0withPad!$B$1, INT((ROW()-1)/28), MOD(ROW()-1, 28))","v":0},{"$f":"OFFSET(X0withPad!$C$1, INT((ROW()-1)/28), MOD(ROW()-1, 28))","v":0},{"$f":"OFFSET(X0withPad!$A$2, INT((ROW()-1)/28), MOD(ROW()-1, 28))","v":0},{"$f":"OFFSET(X0withPad!$B$2, INT((ROW()-1)/28), MOD(ROW()-1, 28))","v":0},{"$f":"OFFSET(X0withPad!$C$2, INT((ROW()-1)/28), MOD(ROW()-1, 28))","v":0},{"$f":"OFFSET(X0withPad!$A$3, INT((ROW()-1)/28), MOD(ROW()-1, 28))","v":0},{"$f":"OFFSET(X0withPad!$B$3, INT((ROW()-1)/28), MOD(ROW()-1, 28))","v":0},{"$f":"OFFSET(X0withPad!$C$3, INT((ROW()-1)/28), MOD(ROW()-1, 28))","v":0}]
[{"$f":"OFFSET(X0withPad!$A$1, INT((ROW()-1)/28), MOD(ROW()-1, 28))","v":0},{"$f":"OFFSET(X0withPad!$B$1, INT((ROW()-1)/28), MOD(ROW()-1, 28))","v":0},{"$f":"OFFSET(X0withPad!$C$1, INT((ROW()-1)/28), MOD(ROW()-1, 28))","v":0},{"$f":"OFFSET(X0withPad!$A$2, INT((ROW()-1)/28), MOD(ROW()-1, 28))","v":0},{"$f":"OFFSET(X0withPad!$B$2, INT((ROW()-1)/28), MOD(ROW()-1, 28))","v":0},{"$f":"OFFSET(X0withPad!$C$2, INT((ROW()-1)/28), MOD(ROW()-1, 28))","v":0},{"$f":"OFFSET(X0withPad!$A$3, INT((ROW()-1)/28), MOD(ROW()-1, 28))","v":0},{"$f":"OFFSET(X0withPad!$B$3, INT((ROW()-1)/28), MOD(ROW()-1, 28))","v":0},{"$f":"OFFSET(X0withPad!$C$3, INT((ROW()-1)/28), MOD(ROW()-1, 28))","v":0}]
[{"$f":"OFFSET(X0withPad!$A$1, INT((ROW()-1)/28), MOD(ROW()-1, 28))","v":0},{"$f":"OFFSET(X0withPad!$B$1, INT((ROW()-1)/28), MOD(ROW()-1, 28))","v":0},{"$f":"OFFSET(X0withPad!$C$1, INT((ROW()-1)/28), MOD(ROW()-1, 28))","v":0},{"$f":"OFFSET(X0withPad!$A$2, INT((ROW()-1)/28), MOD(ROW()-1, 28))","v":0},{"$f":"OFFSET(X0withPad!$B$2, INT((ROW()-1)/28), MOD(ROW()-1, 28))","v":0},{"$f":"OFFSET(X0withPad!$C$2, INT((ROW()-1)/28), MOD(ROW()-1, 28))","v":0},{"$f":"OFFSET(X0withPad!$A$3, INT((ROW()-1)/28), MOD(ROW()-1, 28))","v":0},{"$f":"OFFSET(X0withPad!$B$3, INT((ROW()-1)/28), MOD(ROW()-1, 28))","v":0},{"$f":"OFFSET(X0withPad!$C$3, INT((ROW()-1)/28), MOD(ROW()-1, 28))","v":0}]
[{"$f":"OFFSET(X0withPad!$A$1, INT((ROW()-1)/28), MOD(ROW()-1, 28))","v":0},{"$f":"OFFSET(X0withPad!$B$1, INT((ROW()-1)/28), MOD(ROW()-1, 28))","v":0},{"$f":"OFFSET(X0withPad!$C$1, INT((ROW()-1)/28), MOD(ROW()-1, 28))","v":0},{"$f":"OFFSET(X0withPad!$A$2, INT((ROW()-1)/28), MOD(ROW()-1, 28))","v":0},{"$f":"OFFSET(X0withPad!$B$2, INT((ROW()-1)/28), MOD(ROW()-1, 28))","v":0},{"$f":"OFFSET(X0withPad!$C$2, INT((ROW()-1)/28), MOD(ROW()-1, 28))","v":0},{"$f":"OFFSET(X0withPad!$A$3, INT((ROW()-1)/28), MOD(ROW()-1, 28))","v":0},{"$f":"OFFSET(X0withPad!$B$3, INT((ROW()-1)/28), MOD(ROW()-1, 28))","v":0},{"$f":"OFFSET(X0withPad!$C$3, INT((ROW()-1)/28), MOD(ROW()-1, 28))","v":0}]
[{"$f":"OFFSET(X0withPad!$A$1, INT((ROW()-1)/28), MOD(ROW()-1, 28))","v":0},{"$f":"OFFSET(X0withPad!$B$1, INT((ROW()-1)/28), MOD(ROW()-1, 28))","v":0},{"$f":"OFFSET(X0withPad!$C$1, INT((ROW()-1)/28), MOD(ROW()-1, 28))","v":0},{"$f":"OFFSET(X0withPad!$A$2, INT((ROW()-1)/28), MOD(ROW()-1, 28))","v":0},{"$f":"OFFSET(X0withPad!$B$2, INT((ROW()-1)/28), MOD(ROW()-1, 28))","v":0},{"$f":"OFFSET(X0withPad!$C$2, INT((ROW()-1)/28), MOD(ROW()-1, 28))","v":0},{"$f":"OFFSET(X0withPad!$A$3, INT((ROW()-1)/28), MOD(ROW()-1, 28))","v":0},{"$f":"OFFSET(X0withPad!$B$3, INT((ROW()-1)/28), MOD(ROW()-1, 28))","v":0},{"$f":"OFFSET(X0withPad!$C$3, INT((ROW()-1)/28), MOD(ROW()-1, 28))","v":0}]
[{"$f":"OFFSET(X0withPad!$A$1, INT((ROW()-1)/28), MOD(ROW()-1, 28))","v":0},{"$f":"OFFSET(X0withPad!$B$1, INT((ROW()-1)/28), MOD(ROW()-1, 28))","v":0},{"$f":"OFFSET(X0withPad!$C$1, INT((ROW()-1)/28), MOD(ROW()-1, 28))","v":0},{"$f":"OFFSET(X0withPad!$A$2, INT((ROW()-1)/28), MOD(ROW()-1, 28))","v":0},{"$f":"OFFSET(X0withPad!$B$2, INT((ROW()-1)/28), MOD(ROW()-1, 28))","v":0},{"$f":"OFFSET(X0withPad!$C$2, INT((ROW()-1)/28), MOD(ROW()-1, 28))","v":0},{"$f":"OFFSET(X0withPad!$A$3, INT((ROW()-1)/28), MOD(ROW()-1, 28))","v":0},{"$f":"OFFSET(X0withPad!$B$3, INT((ROW()-1)/28), MOD(ROW()-1, 28))","v":0},{"$f":"OFFSET(X0withPad!$C$3, INT((ROW()-1)/28), MOD(ROW()-1, 28))","v":0}]
[{"$f":"OFFSET(X0withPad!$A$1, INT((ROW()-1)/28), MOD(ROW()-1, 28))","v":0},{"$f":"OFFSET(X0withPad!$B$1, INT((ROW()-1)/28), MOD(ROW()-1, 28))","v":0},{"$f":"OFFSET(X0withPad!$C$1, INT((ROW()-1)/28), MOD(ROW()-1, 28))","v":0},{"$f":"OFFSET(X0withPad!$A$2, INT((ROW()-1)/28), MOD(ROW()-1, 28))","v":0},{"$f":"OFFSET(X0withPad!$B$2, INT((ROW()-1)/28), MOD(ROW()-1, 28))","v":0},{"$f":"OFFSET(X0withPad!$C$2, INT((ROW()-1)/28), MOD(ROW()-1, 28))","v":0},{"$f":"OFFSET(X0withPad!$A$3, INT((ROW()-1)/28), MOD(ROW()-1, 28))","v":0},{"$f":"OFFSET(X0withPad!$B$3, INT((ROW()-1)/28), MOD(ROW()-1, 28))","v":0},{"$f":"OFFSET(X0withPad!$C$3, INT((ROW()-1)/28), MOD(ROW()-1, 28))","v":0}]
[{"$f":"OFFSET(X0withPad!$A$1, INT((ROW()-1)/28), MOD(ROW()-1, 28))","v":0},{"$f":"OFFSET(X0withPad!$B$1, INT((ROW()-1)/28), MOD(ROW()-1, 28))","v":0},{"$f":"OFFSET(X0withPad!$C$1, INT((ROW()-1)/28), MOD(ROW()-1, 28))","v":0},{"$f":"OFFSET(X0withPad!$A$2, INT((ROW()-1)/28), MOD(ROW()-1, 28))","v":0},{"$f":"OFFSET(X0withPad!$B$2, INT((ROW()-1)/28), MOD(ROW()-1, 28))","v":0},{"$f":"OFFSET(X0withPad!$C$2, INT((ROW()-1)/28), MOD(ROW()-1, 28))","v":0},{"$f":"OFFSET(X0withPad!$A$3, INT((ROW()-1)/28), MOD(ROW()-1, 28))","v":0},{"$f":"OFFSET(X0withPad!$B$3, INT((ROW()-1)/28), MOD(ROW()-1, 28))","v":0},{"$f":"OFFSET(X0withPad!$C$3, INT((ROW()-1)/28), MOD(ROW()-1, 28))","v":0}]
[{"$f":"OFFSET(X0withPad!$A$1, INT((ROW()-1)/28), MOD(ROW()-1, 28))","v":0},{"$f":"OFFSET(X0withPad!$B$1, INT((ROW()-1)/28), MOD(ROW()-1, 28))","v":0},{"$f":"OFFSET(X0withPad!$C$1, INT((ROW()-1)/28), MOD(ROW()-1, 28))","v":0},{"$f":"OFFSET(X0withPad!$A$2, INT((ROW()-1)/28), MOD(ROW()-1, 28))","v":0},{"$f":"OFFSET(X0withPad!$B$2, INT((ROW()-1)/28), MOD(ROW()-1, 28))","v":0},{"$f":"OFFSET(X0withPad!$C$2, INT((ROW()-1)/28), MOD(ROW()-1, 28))","v":0},{"$f":"OFFSET(X0withPad!$A$3, INT((ROW()-1)/28), MOD(ROW()-1, 28))","v":0},{"$f":"OFFSET(X0withPad!$B$3, INT((ROW()-1)/28), MOD(ROW()-1, 28))","v":0},{"$f":"OFFSET(X0withPad!$C$3, INT((ROW()-1)/28), MOD(ROW()-1, 28))","v":0}]
[{"$f":"OFFSET(X0withPad!$A$1, INT((ROW()-1)/28), MOD(ROW()-1, 28))","v":0},{"$f":"OFFSET(X0withPad!$B$1, INT((ROW()-1)/28), MOD(ROW()-1, 28))","v":0},{"$f":"OFFSET(X0withPad!$C$1, INT((ROW()-1)/28), MOD(ROW()-1, 28))","v":0},{"$f":"OFFSET(X0withPad!$A$2, INT((ROW()-1)/28), MOD(ROW()-1, 28))","v":0},{"$f":"OFFSET(X0withPad!$B$2, INT((ROW()-1)/28), MOD(ROW()-1, 28))","v":0},{"$f":"OFFSET(X0withPad!$C$2, INT((ROW()-1)/28), MOD(ROW()-1, 28))","v":0},{"$f":"OFFSET(X0withPad!$A$3, INT((ROW()-1)/28), MOD(ROW()-1, 28))","v":0},{"$f":"OFFSET(X0withPad!$B$3, INT((ROW()-1)/28), MOD(ROW()-1, 28))","v":0},{"$f":"OFFSET(X0withPad!$C$3, INT((ROW()-1)/28), MOD(ROW()-1, 28))","v":0}]
[{"$f":"OFFSET(X0withPad!$A$1, INT((ROW()-1)/28), MOD(ROW()-1, 28))","v":0},{"$f":"OFFSET(X0withPad!$B$1, INT((ROW()-1)/28), MOD(ROW()-1, 28))","v":0},{"$f":"OFFSET(X0withPad!$C$1, INT((ROW()-1)/28), MOD(ROW()-1, 28))","v":0},{"$f":"OFFSET(X0withPad!$A$2, INT((ROW()-1)/28), MOD(ROW()-1, 28))","v":0},{"$f":"OFFSET(X0withPad!$B$2, INT((ROW()-1)/28), MOD(ROW()-1, 28))","v":0},{"$f":"OFFSET(X0withPad!$C$2, INT((ROW()-1)/28), MOD(ROW()-1, 28))","v":0},{"$f":"OFFSET(X0withPad!$A$3, INT((ROW()-1)/28), MOD(ROW()-1, 28))","v":0},{"$f":"OFFSET(X0withPad!$B$3, INT((ROW()-1)/28), MOD(ROW()-1, 28))","v":0},{"$f":"OFFSET(X0withPad!$C$3, INT((ROW()-1)/28), MOD(ROW()-1, 28))","v":0}]
[{"$f":"OFFSET(X0withPad!$A$1, INT((ROW()-1)/28), MOD(ROW()-1, 28))","v":0},{"$f":"OFFSET(X0withPad!$B$1, INT((ROW()-1)/28), MOD(ROW()-1, 28))","v":0},{"$f":"OFFSET(X0withPad!$C$1, INT((ROW()-1)/28), MOD(ROW()-1, 28))","v":0},{"$f":"OFFSET(X0withPad!$A$2, INT((ROW()-1)/28), MOD(ROW()-1, 28))","v":0},{"$f":"OFFSET(X0withPad!$B$2, INT((ROW()-1)/28), MOD(ROW()-1, 28))","v":0},{"$f":"OFFSET(X0withPad!$C$2, INT((ROW()-1)/28), MOD(ROW()-1, 28))","v":0},{"$f":"OFFSET(X0withPad!$A$3, INT((ROW()-1)/28), MOD(ROW()-1, 28))","v":0},{"$f":"OFFSET(X0withPad!$B$3, INT((ROW()-1)/28), MOD(ROW()-1, 28))","v":0},{"$f":"OFFSET(X0withPad!$C$3, INT((ROW()-1)/28), MOD(ROW()-1, 28))","v":0}]
[{"$f":"OFFSET(X0withPad!$A$1, INT((ROW()-1)/28), MOD(ROW()-1, 28))","v":0},{"$f":"OFFSET(X0withPad!$B$1, INT((ROW()-1)/28), MOD(ROW()-1, 28))","v":0},{"$f":"OFFSET(X0withPad!$C$1, INT((ROW()-1)/28), MOD(ROW()-1, 28))","v":0},{"$f":"OFFSET(X0withPad!$A$2, INT((ROW()-1)/28), MOD(ROW()-1, 28))","v":0},{"$f":"OFFSET(X0withPad!$B$2, INT((ROW()-1)/28), MOD(ROW()-1, 28))","v":0},{"$f":"OFFSET(X0withPad!$C$2, INT((ROW()-1)/28), MOD(ROW()-1, 28))","v":0},{"$f":"OFFSET(X0withPad!$A$3, INT((ROW()-1)/28), MOD(ROW()-1, 28))","v":0},{"$f":"OFFSET(X0withPad!$B$3, INT((ROW()-1)/28), MOD(ROW()-1, 28))","v":0},{"$f":"OFFSET(X0withPad!$C$3, INT((ROW()-1)/28), MOD(ROW()-1, 28))","v":0}]
[{"$f":"OFFSET(X0withPad!$A$1, INT((ROW()-1)/28), MOD(ROW()-1, 28))","v":0},{"$f":"OFFSET(X0withPad!$B$1, INT((ROW()-1)/28), MOD(ROW()-1, 28))","v":0},{"$f":"OFFSET(X0withPad!$C$1, INT((ROW()-1)/28), MOD(ROW()-1, 28))","v":0},{"$f":"OFFSET(X0withPad!$A$2, INT((ROW()-1)/28), MOD(ROW()-1, 28))","v":0},{"$f":"OFFSET(X0withPad!$B$2, INT((ROW()-1)/28), MOD(ROW()-1, 28))","v":0},{"$f":"OFFSET(X0withPad!$C$2, INT((ROW()-1)/28), MOD(ROW()-1, 28))","v":0},{"$f":"OFFSET(X0withPad!$A$3, INT((ROW()-1)/28), MOD(ROW()-1, 28))","v":0},{"$f":"OFFSET(X0withPad!$B$3, INT((ROW()-1)/28), MOD(ROW()-1, 28))","v":0},{"$f":"OFFSET(X0withPad!$C$3, INT((ROW()-1)/28), MOD(ROW()-1, 28))","v":0}]
[{"$f":"OFFSET(X0withPad!$A$1, INT((ROW()-1)/28), MOD(ROW()-1, 28))","v":0},{"$f":"OFFSET(X0withPad!$B$1, INT((ROW()-1)/28), MOD(ROW()-1, 28))","v":0},{"$f":"OFFSET(X0withPad!$C$1, INT((ROW()-1)/28), MOD(ROW()-1, 28))","v":0},{"$f":"OFFSET(X0withPad!$A$2, INT((ROW()-1)/28), MOD(ROW()-1, 28))","v":0},{"$f":"OFFSET(X0withPad!$B$2, INT((ROW()-1)/28), MOD(ROW()-1, 28))","v":0},{"$f":"OFFSET(X0withPad!$C$2, INT((ROW()-1)/28), MOD(ROW()-1, 28))","v":0},{"$f":"OFFSET(X0withPad!$A$3, INT((ROW()-1)/28), MOD(ROW()-1, 28))","v":0},{"$f":"OFFSET(X0withPad!$B$3, INT((ROW()-1)/28), MOD(ROW()-1, 28))","v":0},{"$f":"OFFSET(X0withPad!$C$3, INT((ROW()-1)/28), MOD(ROW()-1, 28))","v":0}]
[{"$f":"OFFSET(X0withPad!$A$1, INT((ROW()-1)/28), MOD(ROW()-1, 28))","v":0},{"$f":"OFFSET(X0withPad!$B$1, INT((ROW()-1)/28), MOD(ROW()-1, 28))","v":0},{"$f":"OFFSET(X0withPad!$C$1, INT((ROW()-1)/28), MOD(ROW()-1, 28))","v":0},{"$f":"OFFSET(X0withPad!$A$2, INT((ROW()-1)/28), MOD(ROW()-1, 28))","v":0},{"$f":"OFFSET(X0withPad!$B$2, INT((ROW()-1)/28), MOD(ROW()-1, 28))","v":0},{"$f":"OFFSET(X0withPad!$C$2, INT((ROW()-1)/28), MOD(ROW()-1, 28))","v":0},{"$f":"OFFSET(X0withPad!$A$3, INT((ROW()-1)/28), MOD(ROW()-1, 28))","v":0},{"$f":"OFFSET(X0withPad!$B$3, INT((ROW()-1)/28), MOD(ROW()-1, 28))","v":0},{"$f":"OFFSET(X0withPad!$C$3, INT((ROW()-1)/28), MOD(ROW()-1, 28))","v":0}]
[{"$f":"OFFSET(X0withPad!$A$1, INT((ROW()-1)/28), MOD(ROW()-1, 28))","v":0},{"$f":"OFFSET(X0withPad!$B$1, INT((ROW()-1)/28), MOD(ROW()-1, 28))","v":0},{"$f":"OFFSET(X0withPad!$C$1, INT((ROW()-1)/28), MOD(ROW()-1, 28))","v":0},{"$f":"OFFSET(X0withPad!$A$2, INT((ROW()-1)/28), MOD(ROW()-1, 28))","v":0},{"$f":"OFFSET(X0withPad!$B$2, INT((ROW()-1)/28), MOD(ROW()-1, 28))","v":0},{"$f":"OFFSET(X0withPad!$C$2, INT((ROW()-1)/28), MOD(ROW()-1, 28))","v":0},{"$f":"OFFSET(X0withPad!$A$3, INT((ROW()-1)/28), MOD(ROW()-1, 28))","v":0},{"$f":"OFFSET(X0withPad!$B$3, INT((ROW()-1)/28), MOD(ROW()-1, 28))","v":0},{"$f":"OFFSET(X0withPad!$C$3, INT((ROW()-1)/28), MOD(ROW()-1, 28))","v":0}]
[{"$f":"OFFSET(X0withPad!$A$1, INT((ROW()-1)/28), MOD(ROW()-1, 28))","v":0},{"$f":"OFFSET(X0withPad!$B$1, INT((ROW()-1)/28), MOD(ROW()-1, 28))","v":0},{"$f":"OFFSET(X0withPad!$C$1, INT((ROW()-1)/28), MOD(ROW()-1, 28))","v":0},{"$f":"OFFSET(X0withPad!$A$2, INT((ROW()-1)/28), MOD(ROW()-1, 28))","v":0},{"$f":"OFFSET(X0withPad!$B$2, INT((ROW()-1)/28), MOD(ROW()-1, 28))","v":0},{"$f":"OFFSET(X0withPad!$C$2, INT((ROW()-1)/28), MOD(ROW()-1, 28))","v":0},{"$f":"OFFSET(X0withPad!$A$3, INT((ROW()-1)/28), MOD(ROW()-1, 28))","v":0},{"$f":"OFFSET(X0withPad!$B$3, INT((ROW()-1)/28), MOD(ROW()-1, 28))","v":0},{"$f":"OFFSET(X0withPad!$C$3, INT((ROW()-1)/28), MOD(ROW()-1, 28))","v":0}]
[{"$f":"OFFSET(X0withPad!$A$1, INT((ROW()-1)/28), MOD(ROW()-1, 28))","v":0},{"$f":"OFFSET(X0withPad!$B$1, INT((ROW()-1)/28), MOD(ROW()-1, 28))","v":0},{"$f":"OFFSET(X0withPad!$C$1, INT((ROW()-1)/28), MOD(ROW()-1, 28))","v":0},{"$f":"OFFSET(X0withPad!$A$2, INT((ROW()-1)/28), MOD(ROW()-1, 28))","v":0},{"$f":"OFFSET(X0withPad!$B$2, INT((ROW()-1)/28), MOD(ROW()-1, 28))","v":0},{"$f":"OFFSET(X0withPad!$C$2, INT((ROW()-1)/28), MOD(ROW()-1, 28))","v":0},{"$f":"OFFSET(X0withPad!$A$3, INT((ROW()-1)/28), MOD(ROW()-1, 28))","v":0},{"$f":"OFFSET(X0withPad!$B$3, INT((ROW()-1)/28), MOD(ROW()-1, 28))","v":0},{"$f":"OFFSET(X0withPad!$C$3, INT((ROW()-1)/28), MOD(ROW()-1, 28))","v":0}]
[{"$f":"OFFSET(X0withPad!$A$1, INT((ROW()-1)/28), MOD(ROW()-1, 28))","v":0},{"$f":"OFFSET(X0withPad!$B$1, INT((ROW()-1)/28), MOD(ROW()-1, 28))","v":0},{"$f":"OFFSET(X0withPad!$C$1, INT((ROW()-1)/28), MOD(ROW()-1, 28))","v":0},{"$f":"OFFSET(X0withPad!$A$2, INT((ROW()-1)/28), MOD(ROW()-1, 28))","v":0},{"$f":"OFFSET(X0withPad!$B$2, INT((ROW()-1)/28), MOD(ROW()-1, 28))","v":0},{"$f":"OFFSET(X0withPad!$C$2, INT((ROW()-1)/28), MOD(ROW()-1, 28))","v":0},{"$f":"OFFSET(X0withPad!$A$3, INT((ROW()-1)/28), MOD(ROW()-1, 28))","v":0},{"$f":"OFFSET(X0withPad!$B$3, INT((ROW()-1)/28), MOD(ROW()-1, 28))","v":0},{"$f":"OFFSET(X0withPad!$C$3, INT((ROW()-1)/28), MOD(ROW()-1, 28))","v":0}]
[{"$f":"OFFSET(X0withPad!$A$1, INT((ROW()-1)/28), MOD(ROW()-1, 28))","v":0},{"$f":"OFFSET(X0withPad!$B$1, INT((ROW()-1)/28), MOD(ROW()-1, 28))","v":0},{"$f":"OFFSET(X0withPad!$C$1, INT((ROW()-1)/28), MOD(ROW()-1, 28))","v":0},{"$f":"OFFSET(X0withPad!$A$2, INT((ROW()-1)/28), MOD(ROW()-1, 28))","v":0},{"$f":"OFFSET(X0withPad!$B$2, INT((ROW()-1)/28), MOD(ROW()-1, 28))","v":0},{"$f":"OFFSET(X0withPad!$C$2, INT((ROW()-1)/28), MOD(ROW()-1, 28))","v":0},{"$f":"OFFSET(X0withPad!$A$3, INT((ROW()-1)/28), MOD(ROW()-1, 28))","v":0},{"$f":"OFFSET(X0withPad!$B$3, INT((ROW()-1)/28), MOD(ROW()-1, 28))","v":0},{"$f":"OFFSET(X0withPad!$C$3, INT((ROW()-1)/28), MOD(ROW()-1, 28))","v":0}]
[{"$f":"OFFSET(X0withPad!$A$1, INT((ROW()-1)/28), MOD(ROW()-1, 28))","v":0},{"$f":"OFFSET(X0withPad!$B$1, INT((ROW()-1)/28), MOD(ROW()-1, 28))","v":0},{"$f":"OFFSET(X0withPad!$C$1, INT((ROW()-1)/28), MOD(ROW()-1, 28))","v":0},{"$f":"OFFSET(X0withPad!$A$2, INT((ROW()-1)/28), MOD(ROW()-1, 28))","v":0},{"$f":"OFFSET(X0withPad!$B$2, INT((ROW()-1)/28), MOD(ROW()-1, 28))","v":0},{"$f":"OFFSET(X0withPad!$C$2, INT((ROW()-1)/28), MOD(ROW()-1, 28))","v":0},{"$f":"OFFSET(X0withPad!$A$3, INT((ROW()-1)/28), MOD(ROW()-1, 28))","v":0},{"$f":"OFFSET(X0withPad!$B$3, INT((ROW()-1)/28), MOD(ROW()-1, 28))","v":0},{"$f":"OFFSET(X0withPad!$C$3, INT((ROW()-1)/28), MOD(ROW()-1, 28))","v":0}]
[{"$f":"OFFSET(X0withPad!$A$1, INT((ROW()-1)/28), MOD(ROW()-1, 28))","v":0},{"$f":"OFFSET(X0withPad!$B$1, INT((ROW()-1)/28), MOD(ROW()-1, 28))","v":0},{"$f":"OFFSET(X0withPad!$C$1, INT((ROW()-1)/28), MOD(ROW()-1, 28))","v":0},{"$f":"OFFSET(X0withPad!$A$2, INT((ROW()-1)/28), MOD(ROW()-1, 28))","v":0},{"$f":"OFFSET(X0withPad!$B$2, INT((ROW()-1)/28), MOD(ROW()-1, 28))","v":0},{"$f":"OFFSET(X0withPad!$C$2, INT((ROW()-1)/28), MOD(ROW()-1, 28))","v":0},{"$f":"OFFSET(X0withPad!$A$3, INT((ROW()-1)/28), MOD(ROW()-1, 28))","v":0},{"$f":"OFFSET(X0withPad!$B$3, INT((ROW()-1)/28), MOD(ROW()-1, 28))","v":0},{"$f":"OFFSET(X0withPad!$C$3, INT((ROW()-1)/28), MOD(ROW()-1, 28))","v":0}]
[{"$f":"OFFSET(X0withPad!$A$1, INT((ROW()-1)/28), MOD(ROW()-1, 28))","v":0},{"$f":"OFFSET(X0withPad!$B$1, INT((ROW()-1)/28), MOD(ROW()-1, 28))","v":0},{"$f":"OFFSET(X0withPad!$C$1, INT((ROW()-1)/28), MOD(ROW()-1, 28))","v":0},{"$f":"OFFSET(X0withPad!$A$2, INT((ROW()-1)/28), MOD(ROW()-1, 28))","v":0},{"$f":"OFFSET(X0withPad!$B$2, INT((ROW()-1)/28), MOD(ROW()-1, 28))","v":0},{"$f":"OFFSET(X0withPad!$C$2, INT((ROW()-1)/28), MOD(ROW()-1, 28))","v":0},{"$f":"OFFSET(X0withPad!$A$3, INT((ROW()-1)/28), MOD(ROW()-1, 28))","v":0},{"$f":"OFFSET(X0withPad!$B$3, INT((ROW()-1)/28), MOD(ROW()-1, 28))","v":0},{"$f":"OFFSET(X0withPad!$C$3, INT((ROW()-1)/28), MOD(ROW()-1, 28))","v":0}]
[{"$f":"OFFSET(X0withPad!$A$1, INT((ROW()-1)/28), MOD(ROW()-1, 28))","v":0},{"$f":"OFFSET(X0withPad!$B$1, INT((ROW()-1)/28), MOD(ROW()-1, 28))","v":0},{"$f":"OFFSET(X0withPad!$C$1, INT((ROW()-1)/28), MOD(ROW()-1, 28))","v":0},{"$f":"OFFSET(X0withPad!$A$2, INT((ROW()-1)/28), MOD(ROW()-1, 28))","v":0},{"$f":"OFFSET(X0withPad!$B$2, INT((ROW()-1)/28), MOD(ROW()-1, 28))","v":0},{"$f":"OFFSET(X0withPad!$C$2, INT((ROW()-1)/28), MOD(ROW()-1, 28))","v":0},{"$f":"OFFSET(X0withPad!$A$3, INT((ROW()-1)/28), MOD(ROW()-1, 28))","v":0},{"$f":"OFFSET(X0withPad!$B$3, INT((ROW()-1)/28), MOD(ROW()-1, 28))","v":0},{"$f":"OFFSET(X0withPad!$C$3, INT((ROW()-1)/28), MOD(ROW()-1, 28))","v":0}]
[{"$f":"OFFSET(X0withPad!$A$1, INT((ROW()-1)/28), MOD(ROW()-1, 28))","v":0},{"$f":"OFFSET(X0withPad!$B$1, INT((ROW()-1)/28), MOD(ROW()-1, 28))","v":0},{"$f":"OFFSET(X0withPad!$C$1, INT((ROW()-1)/28), MOD(ROW()-1, 28))","v":0},{"$f":"OFFSET(X0withPad!$A$2, INT((ROW()-1)/28), MOD(ROW()-1, 28))","v":0},{"$f":"OFFSET(X0withPad!$B$2, INT((ROW()-1)/28), MOD(ROW()-1, 28))","v":0},{"$f":"OFFSET(X0withPad!$C$2, INT((ROW()-1)/28), MOD(ROW()-1, 28))","v":0},{"$f":"OFFSET(X0withPad!$A$3, INT((ROW()-1)/28), MOD(ROW()-1, 28))","v":0},{"$f":"OFFSET(X0withPad!$B$3, INT((ROW()-1)/28), MOD(ROW()-1, 28))","v":0},{"$f":"OFFSET(X0withPad!$C$3, INT((ROW()-1)/28), MOD(ROW()-1, 28))","v":0}]
[{"$f":"OFFSET(X0withPad!$A$1, INT((ROW()-1)/28), MOD(ROW()-1, 28))","v":0},{"$f":"OFFSET(X0withPad!$B$1, INT((ROW()-1)/28), MOD(ROW()-1, 28))","v":0},{"$f":"OFFSET(X0withPad!$C$1, INT((ROW()-1)/28), MOD(ROW()-1, 28))","v":0},{"$f":"OFFSET(X0withPad!$A$2, INT((ROW()-1)/28), MOD(ROW()-1, 28))","v":0},{"$f":"OFFSET(X0withPad!$B$2, INT((ROW()-1)/28), MOD(ROW()-1, 28))","v":0},{"$f":"OFFSET(X0withPad!$C$2, INT((ROW()-1)/28), MOD(ROW()-1, 28))","v":0},{"$f":"OFFSET(X0withPad!$A$3, INT((ROW()-1)/28), MOD(ROW()-1, 28))","v":0},{"$f":"OFFSET(X0withPad!$B$3, INT((ROW()-1)/28), MOD(ROW()-1, 28))","v":0},{"$f":"OFFSET(X0withPad!$C$3, INT((ROW()-1)/28), MOD(ROW()-1, 28))","v":0}]
[{"$f":"OFFSET(X0withPad!$A$1, INT((ROW()-1)/28), MOD(ROW()-1, 28))","v":0},{"$f":"OFFSET(X0withPad!$B$1, INT((ROW()-1)/28), MOD(ROW()-1, 28))","v":0},{"$f":"OFFSET(X0withPad!$C$1, INT((ROW()-1)/28), MOD(ROW()-1, 28))","v":0},{"$f":"OFFSET(X0withPad!$A$2, INT((ROW()-1)/28), MOD(ROW()-1, 28))","v":0},{"$f":"OFFSET(X0withPad!$B$2, INT((ROW()-1)/28), MOD(ROW()-1, 28))","v":0},{"$f":"OFFSET(X0withPad!$C$2, INT((ROW()-1)/28), MOD(ROW()-1, 28))","v":0},{"$f":"OFFSET(X0withPad!$A$3, INT((ROW()-1)/28), MOD(ROW()-1, 28))","v":0},{"$f":"OFFSET(X0withPad!$B$3, INT((ROW()-1)/28), MOD(ROW()-1, 28))","v":0},{"$f":"OFFSET(X0withPad!$C$3, INT((ROW()-1)/28), MOD(ROW()-1, 28))","v":0}]
[{"$f":"OFFSET(X0withPad!$A$1, INT((ROW()-1)/28), MOD(ROW()-1, 28))","v":0},{"$f":"OFFSET(X0withPad!$B$1, INT((ROW()-1)/28), MOD(ROW()-1, 28))","v":0},{"$f":"OFFSET(X0withPad!$C$1, INT((ROW()-1)/28), MOD(ROW()-1, 28))","v":0},{"$f":"OFFSET(X0withPad!$A$2, INT((ROW()-1)/28), MOD(ROW()-1, 28))","v":0},{"$f":"OFFSET(X0withPad!$B$2, INT((ROW()-1)/28), MOD(ROW()-1, 28))","v":0},{"$f":"OFFSET(X0withPad!$C$2, INT((ROW()-1)/28), MOD(ROW()-1, 28))","v":0},{"$f":"OFFSET(X0withPad!$A$3, INT((ROW()-1)/28), MOD(ROW()-1, 28))","v":0},{"$f":"OFFSET(X0withPad!$B$3, INT((ROW()-1)/28), MOD(ROW()-1, 28))","v":0},{"$f":"OFFSET(X0withPad!$C$3, INT((ROW()-1)/28), MOD(ROW()-1, 28))","v":0}]
[{"$f":"OFFSET(X0withPad!$A$1, INT((ROW()-1)/28), MOD(ROW()-1, 28))","v":0},{"$f":"OFFSET(X0withPad!$B$1, INT((ROW()-1)/28), MOD(ROW()-1, 28))","v":0},{"$f":"OFFSET(X0withPad!$C$1, INT((ROW()-1)/28), MOD(ROW()-1, 28))","v":0},{"$f":"OFFSET(X0withPad!$A$2, INT((ROW()-1)/28), MOD(ROW()-1, 28))","v":0},{"$f":"OFFSET(X0withPad!$B$2, INT((ROW()-1)/28), MOD(ROW()-1, 28))","v":0},{"$f":"OFFSET(X0withPad!$C$2, INT((ROW()-1)/28), MOD(ROW()-1, 28))","v":0},{"$f":"OFFSET(X0withPad!$A$3, INT((ROW()-1)/28), MOD(ROW()-1, 28))","v":0},{"$f":"OFFSET(X0withPad!$B$3, INT((ROW()-1)/28), MOD(ROW()-1, 28))","v":0},{"$f":"OFFSET(X0withPad!$C$3, INT((ROW()-1)/28), MOD(ROW()-1, 28))","v":0}]
[{"$f":"OFFSET(X0withPad!$A$1, INT((ROW()-1)/28), MOD(ROW()-1, 28))","v":0},{"$f":"OFFSET(X0withPad!$B$1, INT((ROW()-1)/28), MOD(ROW()-1, 28))","v":0},{"$f":"OFFSET(X0withPad!$C$1, INT((ROW()-1)/28), MOD(ROW()-1, 28))","v":0},{"$f":"OFFSET(X0withPad!$A$2, INT((ROW()-1)/28), MOD(ROW()-1, 28))","v":0},{"$f":"OFFSET(X0withPad!$B$2, INT((ROW()-1)/28), MOD(ROW()-1, 28))","v":0},{"$f":"OFFSET(X0withPad!$C$2, INT((ROW()-1)/28), MOD(ROW()-1, 28))","v":0},{"$f":"OFFSET(X0withPad!$A$3, INT((ROW()-1)/28), MOD(ROW()-1, 28))","v":0},{"$f":"OFFSET(X0withPad!$B$3, INT((ROW()-1)/28), MOD(ROW()-1, 28))","v":0},{"$f":"OFFSET(X0withPad!$C$3, INT((ROW()-1)/28), MOD(ROW()-1, 28))","v":0}]
[{"$f":"OFFSET(X0withPad!$A$1, INT((ROW()-1)/28), MOD(ROW()-1, 28))","v":0},{"$f":"OFFSET(X0withPad!$B$1, INT((ROW()-1)/28), MOD(ROW()-1, 28))","v":0},{"$f":"OFFSET(X0withPad!$C$1, INT((ROW()-1)/28), MOD(ROW()-1, 28))","v":0},{"$f":"OFFSET(X0withPad!$A$2, INT((ROW()-1)/28), MOD(ROW()-1, 28))","v":0},{"$f":"OFFSET(X0withPad!$B$2, INT((ROW()-1)/28), MOD(ROW()-1, 28))","v":0},{"$f":"OFFSET(X0withPad!$C$2, INT((ROW()-1)/28), MOD(ROW()-1, 28))","v":0},{"$f":"OFFSET(X0withPad!$A$3, INT((ROW()-1)/28), MOD(ROW()-1, 28))","v":0},{"$f":"OFFSET(X0withPad!$B$3, INT((ROW()-1)/28), MOD(ROW()-1, 28))","v":0},{"$f":"OFFSET(X0withPad!$C$3, INT((ROW()-1)/28), MOD(ROW()-1, 28))","v":0}]
[{"$f":"OFFSET(X0withPad!$A$1, INT((ROW()-1)/28), MOD(ROW()-1, 28))","v":0},{"$f":"OFFSET(X0withPad!$B$1, INT((ROW()-1)/28), MOD(ROW()-1, 28))","v":0},{"$f":"OFFSET(X0withPad!$C$1, INT((ROW()-1)/28), MOD(ROW()-1, 28))","v":0},{"$f":"OFFSET(X0withPad!$A$2, INT((ROW()-1)/28), MOD(ROW()-1, 28))","v":0},{"$f":"OFFSET(X0withPad!$B$2, INT((ROW()-1)/28), MOD(ROW()-1, 28))","v":0},{"$f":"OFFSET(X0withPad!$C$2, INT((ROW()-1)/28), MOD(ROW()-1, 28))","v":0},{"$f":"OFFSET(X0withPad!$A$3, INT((ROW()-1)/28), MOD(ROW()-1, 28))","v":0},{"$f":"OFFSET(X0withPad!$B$3, INT((ROW()-1)/28), MOD(ROW()-1, 28))","v":0},{"$f":"OFFSET(X0withPad!$C$3, INT((ROW()-1)/28), MOD(ROW()-1, 28))","v":0}]
[{"$f":"OFFSET(X0withPad!$A$1, INT((ROW()-1)/28), MOD(ROW()-1, 28))","v":0},{"$f":"OFFSET(X0withPad!$B$1, INT((ROW()-1)/28), MOD(ROW()-1, 28))","v":0},{"$f":"OFFSET(X0withPad!$C$1, INT((ROW()-1)/28), MOD(ROW()-1, 28))","v":0},{"$f":"OFFSET(X0withPad!$A$2, INT((ROW()-1)/28), MOD(ROW()-1, 28))","v":0},{"$f":"OFFSET(X0withPad!$B$2, INT((ROW()-1)/28), MOD(ROW()-1, 28))","v":0},{"$f":"OFFSET(X0withPad!$C$2, INT((ROW()-1)/28), MOD(ROW()-1, 28))","v":0},{"$f":"OFFSET(X0withPad!$A$3, INT((ROW()-1)/28), MOD(ROW()-1, 28))","v":0},{"$f":"OFFSET(X0withPad!$B$3, INT((ROW()-1)/28), MOD(ROW()-1, 28))","v":0},{"$f":"OFFSET(X0withPad!$C$3, INT((ROW()-1)/28), MOD(ROW()-1, 28))","v":0}]
[{"$f":"OFFSET(X0withPad!$A$1, INT((ROW()-1)/28), MOD(ROW()-1, 28))","v":0},{"$f":"OFFSET(X0withPad!$B$1, INT((ROW()-1)/28), MOD(ROW()-1, 28))","v":0},{"$f":"OFFSET(X0withPad!$C$1, INT((ROW()-1)/28), MOD(ROW()-1, 28))","v":0},{"$f":"OFFSET(X0withPad!$A$2, INT((ROW()-1)/28), MOD(ROW()-1, 28))","v":0},{"$f":"OFFSET(X0withPad!$B$2, INT((ROW()-1)/28), MOD(ROW()-1, 28))","v":0},{"$f":"OFFSET(X0withPad!$C$2, INT((ROW()-1)/28), MOD(ROW()-1, 28))","v":0},{"$f":"OFFSET(X0withPad!$A$3, INT((ROW()-1)/28), MOD(ROW()-1, 28))","v":0},{"$f":"OFFSET(X0withPad!$B$3, INT((ROW()-1)/28), MOD(ROW()-1, 28))","v":0},{"$f":"OFFSET(X0withPad!$C$3, INT((ROW()-1)/28), MOD(ROW()-1, 28))","v":0}]
[{"$f":"OFFSET(X0withPad!$A$1, INT((ROW()-1)/28), MOD(ROW()-1, 28))","v":0},{"$f":"OFFSET(X0withPad!$B$1, INT((ROW()-1)/28), MOD(ROW()-1, 28))","v":0},{"$f":"OFFSET(X0withPad!$C$1, INT((ROW()-1)/28), MOD(ROW()-1, 28))","v":0},{"$f":"OFFSET(X0withPad!$A$2, INT((ROW()-1)/28), MOD(ROW()-1, 28))","v":0},{"$f":"OFFSET(X0withPad!$B$2, INT((ROW()-1)/28), MOD(ROW()-1, 28))","v":0},{"$f":"OFFSET(X0withPad!$C$2, INT((ROW()-1)/28), MOD(ROW()-1, 28))","v":0},{"$f":"OFFSET(X0withPad!$A$3, INT((ROW()-1)/28), MOD(ROW()-1, 28))","v":0},{"$f":"OFFSET(X0withPad!$B$3, INT((ROW()-1)/28), MOD(ROW()-1, 28))","v":0},{"$f":"OFFSET(X0withPad!$C$3, INT((ROW()-1)/28), MOD(ROW()-1, 28))","v":0}]
[{"$f":"OFFSET(X0withPad!$A$1, INT((ROW()-1)/28), MOD(ROW()-1, 28))","v":0},{"$f":"OFFSET(X0withPad!$B$1, INT((ROW()-1)/28), MOD(ROW()-1, 28))","v":0},{"$f":"OFFSET(X0withPad!$C$1, INT((ROW()-1)/28), MOD(ROW()-1, 28))","v":0},{"$f":"OFFSET(X0withPad!$A$2, INT((ROW()-1)/28), MOD(ROW()-1, 28))","v":0},{"$f":"OFFSET(X0withPad!$B$2, INT((ROW()-1)/28), MOD(ROW()-1, 28))","v":0},{"$f":"OFFSET(X0withPad!$C$2, INT((ROW()-1)/28), MOD(ROW()-1, 28))","v":0},{"$f":"OFFSET(X0withPad!$A$3, INT((ROW()-1)/28), MOD(ROW()-1, 28))","v":0},{"$f":"OFFSET(X0withPad!$B$3, INT((ROW()-1)/28), MOD(ROW()-1, 28))","v":0},{"$f":"OFFSET(X0withPad!$C$3, INT((ROW()-1)/28), MOD(ROW()-1, 28))","v":0}]
[{"$f":"OFFSET(X0withPad!$A$1, INT((ROW()-1)/28), MOD(ROW()-1, 28))","v":0},{"$f":"OFFSET(X0withPad!$B$1, INT((ROW()-1)/28), MOD(ROW()-1, 28))","v":0},{"$f":"OFFSET(X0withPad!$C$1, INT((ROW()-1)/28), MOD(ROW()-1, 28))","v":0},{"$f":"OFFSET(X0withPad!$A$2, INT((ROW()-1)/28), MOD(ROW()-1, 28))","v":0},{"$f":"OFFSET(X0withPad!$B$2, INT((ROW()-1)/28), MOD(ROW()-1, 28))","v":0},{"$f":"OFFSET(X0withPad!$C$2, INT((ROW()-1)/28), MOD(ROW()-1, 28))","v":0},{"$f":"OFFSET(X0withPad!$A$3, INT((ROW()-1)/28), MOD(ROW()-1, 28))","v":0},{"$f":"OFFSET(X0withPad!$B$3, INT((ROW()-1)/28), MOD(ROW()-1, 28))","v":0},{"$f":"OFFSET(X0withPad!$C$3, INT((ROW()-1)/28), MOD(ROW()-1, 28))","v":0}]
[{"$f":"OFFSET(X0withPad!$A$1, INT((ROW()-1)/28), MOD(ROW()-1, 28))","v":0},{"$f":"OFFSET(X0withPad!$B$1, INT((ROW()-1)/28), MOD(ROW()-1, 28))","v":0},{"$f":"OFFSET(X0withPad!$C$1, INT((ROW()-1)/28), MOD(ROW()-1, 28))","v":0},{"$f":"OFFSET(X0withPad!$A$2, INT((ROW()-1)/28), MOD(ROW()-1, 28))","v":0},{"$f":"OFFSET(X0withPad!$B$2, INT((ROW()-1)/28), MOD(ROW()-1, 28))","v":0},{"$f":"OFFSET(X0withPad!$C$2, INT((ROW()-1)/28), MOD(ROW()-1, 28))","v":0},{"$f":"OFFSET(X0withPad!$A$3, INT((ROW()-1)/28), MOD(ROW()-1, 28))","v":0},{"$f":"OFFSET(X0withPad!$B$3, INT((ROW()-1)/28), MOD(ROW()-1, 28))","v":0},{"$f":"OFFSET(X0withPad!$C$3, INT((ROW()-1)/28), MOD(ROW()-1, 28))","v":0}]
[{"$f":"OFFSET(X0withPad!$A$1, INT((ROW()-1)/28), MOD(ROW()-1, 28))","v":0},{"$f":"OFFSET(X0withPad!$B$1, INT((ROW()-1)/28), MOD(ROW()-1, 28))","v":0},{"$f":"OFFSET(X0withPad!$C$1, INT((ROW()-1)/28), MOD(ROW()-1, 28))","v":0},{"$f":"OFFSET(X0withPad!$A$2, INT((ROW()-1)/28), MOD(ROW()-1, 28))","v":0},{"$f":"OFFSET(X0withPad!$B$2, INT((ROW()-1)/28), MOD(ROW()-1, 28))","v":0},{"$f":"OFFSET(X0withPad!$C$2, INT((ROW()-1)/28), MOD(ROW()-1, 28))","v":0},{"$f":"OFFSET(X0withPad!$A$3, INT((ROW()-1)/28), MOD(ROW()-1, 28))","v":0},{"$f":"OFFSET(X0withPad!$B$3, INT((ROW()-1)/28), MOD(ROW()-1, 28))","v":0},{"$f":"OFFSET(X0withPad!$C$3, INT((ROW()-1)/28), MOD(ROW()-1, 28))","v":0}]
[{"$f":"OFFSET(X0withPad!$A$1, INT((ROW()-1)/28), MOD(ROW()-1, 28))","v":0},{"$f":"OFFSET(X0withPad!$B$1, INT((ROW()-1)/28), MOD(ROW()-1, 28))","v":0},{"$f":"OFFSET(X0withPad!$C$1, INT((ROW()-1)/28), MOD(ROW()-1, 28))","v":0},{"$f":"OFFSET(X0withPad!$A$2, INT((ROW()-1)/28), MOD(ROW()-1, 28))","v":0},{"$f":"OFFSET(X0withPad!$B$2, INT((ROW()-1)/28), MOD(ROW()-1, 28))","v":0},{"$f":"OFFSET(X0withPad!$C$2, INT((ROW()-1)/28), MOD(ROW()-1, 28))","v":0},{"$f":"OFFSET(X0withPad!$A$3, INT((ROW()-1)/28), MOD(ROW()-1, 28))","v":0},{"$f":"OFFSET(X0withPad!$B$3, INT((ROW()-1)/28), MOD(ROW()-1, 28))","v":0},{"$f":"OFFSET(X0withPad!$C$3, INT((ROW()-1)/28), MOD(ROW()-1, 28))","v":0}]
[{"$f":"OFFSET(X0withPad!$A$1, INT((ROW()-1)/28), MOD(ROW()-1, 28))","v":0},{"$f":"OFFSET(X0withPad!$B$1, INT((ROW()-1)/28), MOD(ROW()-1, 28))","v":0},{"$f":"OFFSET(X0withPad!$C$1, INT((ROW()-1)/28), MOD(ROW()-1, 28))","v":0},{"$f":"OFFSET(X0withPad!$A$2, INT((ROW()-1)/28), MOD(ROW()-1, 28))","v":0},{"$f":"OFFSET(X0withPad!$B$2, INT((ROW()-1)/28), MOD(ROW()-1, 28))","v":0},{"$f":"OFFSET(X0withPad!$C$2, INT((ROW()-1)/28), MOD(ROW()-1, 28))","v":0},{"$f":"OFFSET(X0withPad!$A$3, INT((ROW()-1)/28), MOD(ROW()-1, 28))","v":0},{"$f":"OFFSET(X0withPad!$B$3, INT((ROW()-1)/28), MOD(ROW()-1, 28))","v":0},{"$f":"OFFSET(X0withPad!$C$3, INT((ROW()-1)/28), MOD(ROW()-1, 28))","v":0}]
[{"$f":"OFFSET(X0withPad!$A$1, INT((ROW()-1)/28), MOD(ROW()-1, 28))","v":0},{"$f":"OFFSET(X0withPad!$B$1, INT((ROW()-1)/28), MOD(ROW()-1, 28))","v":0},{"$f":"OFFSET(X0withPad!$C$1, INT((ROW()-1)/28), MOD(ROW()-1, 28))","v":0},{"$f":"OFFSET(X0withPad!$A$2, INT((ROW()-1)/28), MOD(ROW()-1, 28))","v":0},{"$f":"OFFSET(X0withPad!$B$2, INT((ROW()-1)/28), MOD(ROW()-1, 28))","v":0},{"$f":"OFFSET(X0withPad!$C$2, INT((ROW()-1)/28), MOD(ROW()-1, 28))","v":0},{"$f":"OFFSET(X0withPad!$A$3, INT((ROW()-1)/28), MOD(ROW()-1, 28))","v":0},{"$f":"OFFSET(X0withPad!$B$3, INT((ROW()-1)/28), MOD(ROW()-1, 28))","v":0},{"$f":"OFFSET(X0withPad!$C$3, INT((ROW()-1)/28), MOD(ROW()-1, 28))","v":0}]
[{"$f":"OFFSET(X0withPad!$A$1, INT((ROW()-1)/28), MOD(ROW()-1, 28))","v":0},{"$f":"OFFSET(X0withPad!$B$1, INT((ROW()-1)/28), MOD(ROW()-1, 28))","v":0},{"$f":"OFFSET(X0withPad!$C$1, INT((ROW()-1)/28), MOD(ROW()-1, 28))","v":0},{"$f":"OFFSET(X0withPad!$A$2, INT((ROW()-1)/28), MOD(ROW()-1, 28))","v":0},{"$f":"OFFSET(X0withPad!$B$2, INT((ROW()-1)/28), MOD(ROW()-1, 28))","v":0},{"$f":"OFFSET(X0withPad!$C$2, INT((ROW()-1)/28), MOD(ROW()-1, 28))","v":0},{"$f":"OFFSET(X0withPad!$A$3, INT((ROW()-1)/28), MOD(ROW()-1, 28))","v":0},{"$f":"OFFSET(X0withPad!$B$3, INT((ROW()-1)/28), MOD(ROW()-1, 28))","v":0},{"$f":"OFFSET(X0withPad!$C$3, INT((ROW()-1)/28), MOD(ROW()-1, 28))","v":0}]
[{"$f":"OFFSET(X0withPad!$A$1, INT((ROW()-1)/28), MOD(ROW()-1, 28))","v":0},{"$f":"OFFSET(X0withPad!$B$1, INT((ROW()-1)/28), MOD(ROW()-1, 28))","v":0},{"$f":"OFFSET(X0withPad!$C$1, INT((ROW()-1)/28), MOD(ROW()-1, 28))","v":0},{"$f":"OFFSET(X0withPad!$A$2, INT((ROW()-1)/28), MOD(ROW()-1, 28))","v":0},{"$f":"OFFSET(X0withPad!$B$2, INT((ROW()-1)/28), MOD(ROW()-1, 28))","v":0},{"$f":"OFFSET(X0withPad!$C$2, INT((ROW()-1)/28), MOD(ROW()-1, 28))","v":0},{"$f":"OFFSET(X0withPad!$A$3, INT((ROW()-1)/28), MOD(ROW()-1, 28))","v":0},{"$f":"OFFSET(X0withPad!$B$3, INT((ROW()-1)/28), MOD(ROW()-1, 28))","v":0},{"$f":"OFFSET(X0withPad!$C$3, INT((ROW()-1)/28), MOD(ROW()-1, 28))","v":0}]
[{"$f":"OFFSET(X0withPad!$A$1, INT((ROW()-1)/28), MOD(ROW()-1, 28))","v":0},{"$f":"OFFSET(X0withPad!$B$1, INT((ROW()-1)/28), MOD(ROW()-1, 28))","v":0},{"$f":"OFFSET(X0withPad!$C$1, INT((ROW()-1)/28), MOD(ROW()-1, 28))","v":0},{"$f":"OFFSET(X0withPad!$A$2, INT((ROW()-1)/28), MOD(ROW()-1, 28))","v":0},{"$f":"OFFSET(X0withPad!$B$2, INT((ROW()-1)/28), MOD(ROW()-1, 28))","v":0},{"$f":"OFFSET(X0withPad!$C$2, INT((ROW()-1)/28), MOD(ROW()-1, 28))","v":0},{"$f":"OFFSET(X0withPad!$A$3, INT((ROW()-1)/28), MOD(ROW()-1, 28))","v":0},{"$f":"OFFSET(X0withPad!$B$3, INT((ROW()-1)/28), MOD(ROW()-1, 28))","v":0},{"$f":"OFFSET(X0withPad!$C$3, INT((ROW()-1)/28), MOD(ROW()-1, 28))","v":84}]
[{"$f":"OFFSET(X0withPad!$A$1, INT((ROW()-1)/28), MOD(ROW()-1, 28))","v":0},{"$f":"OFFSET(X0withPad!$B$1, INT((ROW()-1)/28), MOD(ROW()-1, 28))","v":0},{"$f":"OFFSET(X0withPad!$C$1, INT((ROW()-1)/28), MOD(ROW()-1, 28))","v":0},{"$f":"OFFSET(X0withPad!$A$2, INT((ROW()-1)/28), MOD(ROW()-1, 28))","v":0},{"$f":"OFFSET(X0withPad!$B$2, INT((ROW()-1)/28), MOD(ROW()-1, 28))","v":0},{"$f":"OFFSET(X0withPad!$C$2, INT((ROW()-1)/28), MOD(ROW()-1, 28))","v":0},{"$f":"OFFSET(X0withPad!$A$3, INT((ROW()-1)/28), MOD(ROW()-1, 28))","v":0},{"$f":"OFFSET(X0withPad!$B$3, INT((ROW()-1)/28), MOD(ROW()-1, 28))","v":84},{"$f":"OFFSET(X0withPad!$C$3, INT((ROW()-1)/28), MOD(ROW()-1, 28))","v":185}]
[{"$f":"OFFSET(X0withPad!$A$1, INT((ROW()-1)/28), MOD(ROW()-1, 28))","v":0},{"$f":"OFFSET(X0withPad!$B$1, INT((ROW()-1)/28), MOD(ROW()-1, 28))","v":0},{"$f":"OFFSET(X0withPad!$C$1, INT((ROW()-1)/28), MOD(ROW()-1, 28))","v":0},{"$f":"OFFSET(X0withPad!$A$2, INT((ROW()-1)/28), MOD(ROW()-1, 28))","v":0},{"$f":"OFFSET(X0withPad!$B$2, INT((ROW()-1)/28), MOD(ROW()-1, 28))","v":0},{"$f":"OFFSET(X0withPad!$C$2, INT((ROW()-1)/28), MOD(ROW()-1, 28))","v":0},{"$f":"OFFSET(X0withPad!$A$3, INT((ROW()-1)/28), MOD(ROW()-1, 28))","v":84},{"$f":"OFFSET(X0withPad!$B$3, INT((ROW()-1)/28), MOD(ROW()-1, 28))","v":185},{"$f":"OFFSET(X0withPad!$C$3, INT((ROW()-1)/28), MOD(ROW()-1, 28))","v":159}]
[{"$f":"OFFSET(X0withPad!$A$1, INT((ROW()-1)/28), MOD(ROW()-1, 28))","v":0},{"$f":"OFFSET(X0withPad!$B$1, INT((ROW()-1)/28), MOD(ROW()-1, 28))","v":0},{"$f":"OFFSET(X0withPad!$C$1, INT((ROW()-1)/28), MOD(ROW()-1, 28))","v":0},{"$f":"OFFSET(X0withPad!$A$2, INT((ROW()-1)/28), MOD(ROW()-1, 28))","v":0},{"$f":"OFFSET(X0withPad!$B$2, INT((ROW()-1)/28), MOD(ROW()-1, 28))","v":0},{"$f":"OFFSET(X0withPad!$C$2, INT((ROW()-1)/28), MOD(ROW()-1, 28))","v":0},{"$f":"OFFSET(X0withPad!$A$3, INT((ROW()-1)/28), MOD(ROW()-1, 28))","v":185},{"$f":"OFFSET(X0withPad!$B$3, INT((ROW()-1)/28), MOD(ROW()-1, 28))","v":159},{"$f":"OFFSET(X0withPad!$C$3, INT((ROW()-1)/28), MOD(ROW()-1, 28))","v":151}]
[{"$f":"OFFSET(X0withPad!$A$1, INT((ROW()-1)/28), MOD(ROW()-1, 28))","v":0},{"$f":"OFFSET(X0withPad!$B$1, INT((ROW()-1)/28), MOD(ROW()-1, 28))","v":0},{"$f":"OFFSET(X0withPad!$C$1, INT((ROW()-1)/28), MOD(ROW()-1, 28))","v":0},{"$f":"OFFSET(X0withPad!$A$2, INT((ROW()-1)/28), MOD(ROW()-1, 28))","v":0},{"$f":"OFFSET(X0withPad!$B$2, INT((ROW()-1)/28), MOD(ROW()-1, 28))","v":0},{"$f":"OFFSET(X0withPad!$C$2, INT((ROW()-1)/28), MOD(ROW()-1, 28))","v":0},{"$f":"OFFSET(X0withPad!$A$3, INT((ROW()-1)/28), MOD(ROW()-1, 28))","v":159},{"$f":"OFFSET(X0withPad!$B$3, INT((ROW()-1)/28), MOD(ROW()-1, 28))","v":151},{"$f":"OFFSET(X0withPad!$C$3, INT((ROW()-1)/28), MOD(ROW()-1, 28))","v":60}]
[{"$f":"OFFSET(X0withPad!$A$1, INT((ROW()-1)/28), MOD(ROW()-1, 28))","v":0},{"$f":"OFFSET(X0withPad!$B$1, INT((ROW()-1)/28), MOD(ROW()-1, 28))","v":0},{"$f":"OFFSET(X0withPad!$C$1, INT((ROW()-1)/28), MOD(ROW()-1, 28))","v":0},{"$f":"OFFSET(X0withPad!$A$2, INT((ROW()-1)/28), MOD(ROW()-1, 28))","v":0},{"$f":"OFFSET(X0withPad!$B$2, INT((ROW()-1)/28), MOD(ROW()-1, 28))","v":0},{"$f":"OFFSET(X0withPad!$C$2, INT((ROW()-1)/28), MOD(ROW()-1, 28))","v":0},{"$f":"OFFSET(X0withPad!$A$3, INT((ROW()-1)/28), MOD(ROW()-1, 28))","v":151},{"$f":"OFFSET(X0withPad!$B$3, INT((ROW()-1)/28), MOD(ROW()-1, 28))","v":60},{"$f":"OFFSET(X0withPad!$C$3, INT((ROW()-1)/28), MOD(ROW()-1, 28))","v":36}]
[{"$f":"OFFSET(X0withPad!$A$1, INT((ROW()-1)/28), MOD(ROW()-1, 28))","v":0},{"$f":"OFFSET(X0withPad!$B$1, INT((ROW()-1)/28), MOD(ROW()-1, 28))","v":0},{"$f":"OFFSET(X0withPad!$C$1, INT((ROW()-1)/28), MOD(ROW()-1, 28))","v":0},{"$f":"OFFSET(X0withPad!$A$2, INT((ROW()-1)/28), MOD(ROW()-1, 28))","v":0},{"$f":"OFFSET(X0withPad!$B$2, INT((ROW()-1)/28), MOD(ROW()-1, 28))","v":0},{"$f":"OFFSET(X0withPad!$C$2, INT((ROW()-1)/28), MOD(ROW()-1, 28))","v":0},{"$f":"OFFSET(X0withPad!$A$3, INT((ROW()-1)/28), MOD(ROW()-1, 28))","v":60},{"$f":"OFFSET(X0withPad!$B$3, INT((ROW()-1)/28), MOD(ROW()-1, 28))","v":36},{"$f":"OFFSET(X0withPad!$C$3, INT((ROW()-1)/28), MOD(ROW()-1, 28))","v":0}]
[{"$f":"OFFSET(X0withPad!$A$1, INT((ROW()-1)/28), MOD(ROW()-1, 28))","v":0},{"$f":"OFFSET(X0withPad!$B$1, INT((ROW()-1)/28), MOD(ROW()-1, 28))","v":0},{"$f":"OFFSET(X0withPad!$C$1, INT((ROW()-1)/28), MOD(ROW()-1, 28))","v":0},{"$f":"OFFSET(X0withPad!$A$2, INT((ROW()-1)/28), MOD(ROW()-1, 28))","v":0},{"$f":"OFFSET(X0withPad!$B$2, INT((ROW()-1)/28), MOD(ROW()-1, 28))","v":0},{"$f":"OFFSET(X0withPad!$C$2, INT((ROW()-1)/28), MOD(ROW()-1, 28))","v":0},{"$f":"OFFSET(X0withPad!$A$3, INT((ROW()-1)/28), MOD(ROW()-1, 28))","v":36},{"$f":"OFFSET(X0withPad!$B$3, INT((ROW()-1)/28), MOD(ROW()-1, 28))","v":0},{"$f":"OFFSET(X0withPad!$C$3, INT((ROW()-1)/28), MOD(ROW()-1, 28))","v":0}]
[{"$f":"OFFSET(X0withPad!$A$1, INT((ROW()-1)/28), MOD(ROW()-1, 28))","v":0},{"$f":"OFFSET(X0withPad!$B$1, INT((ROW()-1)/28), MOD(ROW()-1, 28))","v":0},{"$f":"OFFSET(X0withPad!$C$1, INT((ROW()-1)/28), MOD(ROW()-1, 28))","v":0},{"$f":"OFFSET(X0withPad!$A$2, INT((ROW()-1)/28), MOD(ROW()-1, 28))","v":0},{"$f":"OFFSET(X0withPad!$B$2, INT((ROW()-1)/28), MOD(ROW()-1, 28))","v":0},{"$f":"OFFSET(X0withPad!$C$2, INT((ROW()-1)/28), MOD(ROW()-1, 28))","v":0},{"$f":"OFFSET(X0withPad!$A$3, INT((ROW()-1)/28), MOD(ROW()-1, 28))","v":0},{"$f":"OFFSET(X0withPad!$B$3, INT((ROW()-1)/28), MOD(ROW()-1, 28))","v":0},{"$f":"OFFSET(X0withPad!$C$3, INT((ROW()-1)/28), MOD(ROW()-1, 28))","v":0}]
[{"$f":"OFFSET(X0withPad!$A$1, INT((ROW()-1)/28), MOD(ROW()-1, 28))","v":0},{"$f":"OFFSET(X0withPad!$B$1, INT((ROW()-1)/28), MOD(ROW()-1, 28))","v":0},{"$f":"OFFSET(X0withPad!$C$1, INT((ROW()-1)/28), MOD(ROW()-1, 28))","v":0},{"$f":"OFFSET(X0withPad!$A$2, INT((ROW()-1)/28), MOD(ROW()-1, 28))","v":0},{"$f":"OFFSET(X0withPad!$B$2, INT((ROW()-1)/28), MOD(ROW()-1, 28))","v":0},{"$f":"OFFSET(X0withPad!$C$2, INT((ROW()-1)/28), MOD(ROW()-1, 28))","v":0},{"$f":"OFFSET(X0withPad!$A$3, INT((ROW()-1)/28), MOD(ROW()-1, 28))","v":0},{"$f":"OFFSET(X0withPad!$B$3, INT((ROW()-1)/28), MOD(ROW()-1, 28))","v":0},{"$f":"OFFSET(X0withPad!$C$3, INT((ROW()-1)/28), MOD(ROW()-1, 28))","v":0}]
[{"$f":"OFFSET(X0withPad!$A$1, INT((ROW()-1)/28), MOD(ROW()-1, 28))","v":0},{"$f":"OFFSET(X0withPad!$B$1, INT((ROW()-1)/28), MOD(ROW()-1, 28))","v":0},{"$f":"OFFSET(X0withPad!$C$1, INT((ROW()-1)/28), MOD(ROW()-1, 28))","v":0},{"$f":"OFFSET(X0withPad!$A$2, INT((ROW()-1)/28), MOD(ROW()-1, 28))","v":0},{"$f":"OFFSET(X0withPad!$B$2, INT((ROW()-1)/28), MOD(ROW()-1, 28))","v":0},{"$f":"OFFSET(X0withPad!$C$2, INT((ROW()-1)/28), MOD(ROW()-1, 28))","v":0},{"$f":"OFFSET(X0withPad!$A$3, INT((ROW()-1)/28), MOD(ROW()-1, 28))","v":0},{"$f":"OFFSET(X0withPad!$B$3, INT((ROW()-1)/28), MOD(ROW()-1, 28))","v":0},{"$f":"OFFSET(X0withPad!$C$3, INT((ROW()-1)/28), MOD(ROW()-1, 28))","v":0}]
[{"$f":"OFFSET(X0withPad!$A$1, INT((ROW()-1)/28), MOD(ROW()-1, 28))","v":0},{"$f":"OFFSET(X0withPad!$B$1, INT((ROW()-1)/28), MOD(ROW()-1, 28))","v":0},{"$f":"OFFSET(X0withPad!$C$1, INT((ROW()-1)/28), MOD(ROW()-1, 28))","v":0},{"$f":"OFFSET(X0withPad!$A$2, INT((ROW()-1)/28), MOD(ROW()-1, 28))","v":0},{"$f":"OFFSET(X0withPad!$B$2, INT((ROW()-1)/28), MOD(ROW()-1, 28))","v":0},{"$f":"OFFSET(X0withPad!$C$2, INT((ROW()-1)/28), MOD(ROW()-1, 28))","v":0},{"$f":"OFFSET(X0withPad!$A$3, INT((ROW()-1)/28), MOD(ROW()-1, 28))","v":0},{"$f":"OFFSET(X0withPad!$B$3, INT((ROW()-1)/28), MOD(ROW()-1, 28))","v":0},{"$f":"OFFSET(X0withPad!$C$3, INT((ROW()-1)/28), MOD(ROW()-1, 28))","v":0}]
[{"$f":"OFFSET(X0withPad!$A$1, INT((ROW()-1)/28), MOD(ROW()-1, 28))","v":0},{"$f":"OFFSET(X0withPad!$B$1, INT((ROW()-1)/28), MOD(ROW()-1, 28))","v":0},{"$f":"OFFSET(X0withPad!$C$1, INT((ROW()-1)/28), MOD(ROW()-1, 28))","v":0},{"$f":"OFFSET(X0withPad!$A$2, INT((ROW()-1)/28), MOD(ROW()-1, 28))","v":0},{"$f":"OFFSET(X0withPad!$B$2, INT((ROW()-1)/28), MOD(ROW()-1, 28))","v":0},{"$f":"OFFSET(X0withPad!$C$2, INT((ROW()-1)/28), MOD(ROW()-1, 28))","v":0},{"$f":"OFFSET(X0withPad!$A$3, INT((ROW()-1)/28), MOD(ROW()-1, 28))","v":0},{"$f":"OFFSET(X0withPad!$B$3, INT((ROW()-1)/28), MOD(ROW()-1, 28))","v":0},{"$f":"OFFSET(X0withPad!$C$3, INT((ROW()-1)/28), MOD(ROW()-1, 28))","v":0}]
[{"$f":"OFFSET(X0withPad!$A$1, INT((ROW()-1)/28), MOD(ROW()-1, 28))","v":0},{"$f":"OFFSET(X0withPad!$B$1, INT((ROW()-1)/28), MOD(ROW()-1, 28))","v":0},{"$f":"OFFSET(X0withPad!$C$1, INT((ROW()-1)/28), MOD(ROW()-1, 28))","v":0},{"$f":"OFFSET(X0withPad!$A$2, INT((ROW()-1)/28), MOD(ROW()-1, 28))","v":0},{"$f":"OFFSET(X0withPad!$B$2, INT((ROW()-1)/28), MOD(ROW()-1, 28))","v":0},{"$f":"OFFSET(X0withPad!$C$2, INT((ROW()-1)/28), MOD(ROW()-1, 28))","v":0},{"$f":"OFFSET(X0withPad!$A$3, INT((ROW()-1)/28), MOD(ROW()-1, 28))","v":0},{"$f":"OFFSET(X0withPad!$B$3, INT((ROW()-1)/28), MOD(ROW()-1, 28))","v":0},{"$f":"OFFSET(X0withPad!$C$3, INT((ROW()-1)/28), MOD(ROW()-1, 28))","v":0}]
[{"$f":"OFFSET(X0withPad!$A$1, INT((ROW()-1)/28), MOD(ROW()-1, 28))","v":0},{"$f":"OFFSET(X0withPad!$B$1, INT((ROW()-1)/28), MOD(ROW()-1, 28))","v":0},{"$f":"OFFSET(X0withPad!$C$1, INT((ROW()-1)/28), MOD(ROW()-1, 28))","v":0},{"$f":"OFFSET(X0withPad!$A$2, INT((ROW()-1)/28), MOD(ROW()-1, 28))","v":0},{"$f":"OFFSET(X0withPad!$B$2, INT((ROW()-1)/28), MOD(ROW()-1, 28))","v":0},{"$f":"OFFSET(X0withPad!$C$2, INT((ROW()-1)/28), MOD(ROW()-1, 28))","v":0},{"$f":"OFFSET(X0withPad!$A$3, INT((ROW()-1)/28), MOD(ROW()-1, 28))","v":0},{"$f":"OFFSET(X0withPad!$B$3, INT((ROW()-1)/28), MOD(ROW()-1, 28))","v":0},{"$f":"OFFSET(X0withPad!$C$3, INT((ROW()-1)/28), MOD(ROW()-1, 28))","v":0}]
[{"$f":"OFFSET(X0withPad!$A$1, INT((ROW()-1)/28), MOD(ROW()-1, 28))","v":0},{"$f":"OFFSET(X0withPad!$B$1, INT((ROW()-1)/28), MOD(ROW()-1, 28))","v":0},{"$f":"OFFSET(X0withPad!$C$1, INT((ROW()-1)/28), MOD(ROW()-1, 28))","v":0},{"$f":"OFFSET(X0withPad!$A$2, INT((ROW()-1)/28), MOD(ROW()-1, 28))","v":0},{"$f":"OFFSET(X0withPad!$B$2, INT((ROW()-1)/28), MOD(ROW()-1, 28))","v":0},{"$f":"OFFSET(X0withPad!$C$2, INT((ROW()-1)/28), MOD(ROW()-1, 28))","v":0},{"$f":"OFFSET(X0withPad!$A$3, INT((ROW()-1)/28), MOD(ROW()-1, 28))","v":0},{"$f":"OFFSET(X0withPad!$B$3, INT((ROW()-1)/28), MOD(ROW()-1, 28))","v":0},{"$f":"OFFSET(X0withPad!$C$3, INT((ROW()-1)/28), MOD(ROW()-1, 28))","v":0}]
[{"$f":"OFFSET(X0withPad!$A$1, INT((ROW()-1)/28), MOD(ROW()-1, 28))","v":0},{"$f":"OFFSET(X0withPad!$B$1, INT((ROW()-1)/28), MOD(ROW()-1, 28))","v":0},{"$f":"OFFSET(X0withPad!$C$1, INT((ROW()-1)/28), MOD(ROW()-1, 28))","v":0},{"$f":"OFFSET(X0withPad!$A$2, INT((ROW()-1)/28), MOD(ROW()-1, 28))","v":0},{"$f":"OFFSET(X0withPad!$B$2, INT((ROW()-1)/28), MOD(ROW()-1, 28))","v":0},{"$f":"OFFSET(X0withPad!$C$2, INT((ROW()-1)/28), MOD(ROW()-1, 28))","v":0},{"$f":"OFFSET(X0withPad!$A$3, INT((ROW()-1)/28), MOD(ROW()-1, 28))","v":0},{"$f":"OFFSET(X0withPad!$B$3, INT((ROW()-1)/28), MOD(ROW()-1, 28))","v":0},{"$f":"OFFSET(X0withPad!$C$3, INT((ROW()-1)/28), MOD(ROW()-1, 28))","v":0}]
[{"$f":"OFFSET(X0withPad!$A$1, INT((ROW()-1)/28), MOD(ROW()-1, 28))","v":0},{"$f":"OFFSET(X0withPad!$B$1, INT((ROW()-1)/28), MOD(ROW()-1, 28))","v":0},{"$f":"OFFSET(X0withPad!$C$1, INT((ROW()-1)/28), MOD(ROW()-1, 28))","v":0},{"$f":"OFFSET(X0withPad!$A$2, INT((ROW()-1)/28), MOD(ROW()-1, 28))","v":0},{"$f":"OFFSET(X0withPad!$B$2, INT((ROW()-1)/28), MOD(ROW()-1, 28))","v":0},{"$f":"OFFSET(X0withPad!$C$2, INT((ROW()-1)/28), MOD(ROW()-1, 28))","v":0},{"$f":"OFFSET(X0withPad!$A$3, INT((ROW()-1)/28), MOD(ROW()-1, 28))","v":0},{"$f":"OFFSET(X0withPad!$B$3, INT((ROW()-1)/28), MOD(ROW()-1, 28))","v":0},{"$f":"OFFSET(X0withPad!$C$3, INT((ROW()-1)/28), MOD(ROW()-1, 28))","v":0}]
[{"$f":"OFFSET(X0withPad!$A$1, INT((ROW()-1)/28), MOD(ROW()-1, 28))","v":0},{"$f":"OFFSET(X0withPad!$B$1, INT((ROW()-1)/28), MOD(ROW()-1, 28))","v":0},{"$f":"OFFSET(X0withPad!$C$1, INT((ROW()-1)/28), MOD(ROW()-1, 28))","v":0},{"$f":"OFFSET(X0withPad!$A$2, INT((ROW()-1)/28), MOD(ROW()-1, 28))","v":0},{"$f":"OFFSET(X0withPad!$B$2, INT((ROW()-1)/28), MOD(ROW()-1, 28))","v":0},{"$f":"OFFSET(X0withPad!$C$2, INT((ROW()-1)/28), MOD(ROW()-1, 28))","v":0},{"$f":"OFFSET(X0withPad!$A$3, INT((ROW()-1)/28), MOD(ROW()-1, 28))","v":0},{"$f":"OFFSET(X0withPad!$B$3, INT((ROW()-1)/28), MOD(ROW()-1, 28))","v":0},{"$f":"OFFSET(X0withPad!$C$3, INT((ROW()-1)/28), MOD(ROW()-1, 28))","v":0}]
[{"$f":"OFFSET(X0withPad!$A$1, INT((ROW()-1)/28), MOD(ROW()-1, 28))","v":0},{"$f":"OFFSET(X0withPad!$B$1, INT((ROW()-1)/28), MOD(ROW()-1, 28))","v":0},{"$f":"OFFSET(X0withPad!$C$1, INT((ROW()-1)/28), MOD(ROW()-1, 28))","v":0},{"$f":"OFFSET(X0withPad!$A$2, INT((ROW()-1)/28), MOD(ROW()-1, 28))","v":0},{"$f":"OFFSET(X0withPad!$B$2, INT((ROW()-1)/28), MOD(ROW()-1, 28))","v":0},{"$f":"OFFSET(X0withPad!$C$2, INT((ROW()-1)/28), MOD(ROW()-1, 28))","v":0},{"$f":"OFFSET(X0withPad!$A$3, INT((ROW()-1)/28), MOD(ROW()-1, 28))","v":0},{"$f":"OFFSET(X0withPad!$B$3, INT((ROW()-1)/28), MOD(ROW()-1, 28))","v":0},{"$f":"OFFSET(X0withPad!$C$3, INT((ROW()-1)/28), MOD(ROW()-1, 28))","v":0}]
[{"$f":"OFFSET(X0withPad!$A$1, INT((ROW()-1)/28), MOD(ROW()-1, 28))","v":0},{"$f":"OFFSET(X0withPad!$B$1, INT((ROW()-1)/28), MOD(ROW()-1, 28))","v":0},{"$f":"OFFSET(X0withPad!$C$1, INT((ROW()-1)/28), MOD(ROW()-1, 28))","v":0},{"$f":"OFFSET(X0withPad!$A$2, INT((ROW()-1)/28), MOD(ROW()-1, 28))","v":0},{"$f":"OFFSET(X0withPad!$B$2, INT((ROW()-1)/28), MOD(ROW()-1, 28))","v":0},{"$f":"OFFSET(X0withPad!$C$2, INT((ROW()-1)/28), MOD(ROW()-1, 28))","v":0},{"$f":"OFFSET(X0withPad!$A$3, INT((ROW()-1)/28), MOD(ROW()-1, 28))","v":0},{"$f":"OFFSET(X0withPad!$B$3, INT((ROW()-1)/28), MOD(ROW()-1, 28))","v":0},{"$f":"OFFSET(X0withPad!$C$3, INT((ROW()-1)/28), MOD(ROW()-1, 28))","v":0}]
[{"$f":"OFFSET(X0withPad!$A$1, INT((ROW()-1)/28), MOD(ROW()-1, 28))","v":0},{"$f":"OFFSET(X0withPad!$B$1, INT((ROW()-1)/28), MOD(ROW()-1, 28))","v":0},{"$f":"OFFSET(X0withPad!$C$1, INT((ROW()-1)/28), MOD(ROW()-1, 28))","v":0},{"$f":"OFFSET(X0withPad!$A$2, INT((ROW()-1)/28), MOD(ROW()-1, 28))","v":0},{"$f":"OFFSET(X0withPad!$B$2, INT((ROW()-1)/28), MOD(ROW()-1, 28))","v":0},{"$f":"OFFSET(X0withPad!$C$2, INT((ROW()-1)/28), MOD(ROW()-1, 28))","v":0},{"$f":"OFFSET(X0withPad!$A$3, INT((ROW()-1)/28), MOD(ROW()-1, 28))","v":0},{"$f":"OFFSET(X0withPad!$B$3, INT((ROW()-1)/28), MOD(ROW()-1, 28))","v":0},{"$f":"OFFSET(X0withPad!$C$3, INT((ROW()-1)/28), MOD(ROW()-1, 28))","v":0}]
[{"$f":"OFFSET(X0withPad!$A$1, INT((ROW()-1)/28), MOD(ROW()-1, 28))","v":0},{"$f":"OFFSET(X0withPad!$B$1, INT((ROW()-1)/28), MOD(ROW()-1, 28))","v":0},{"$f":"OFFSET(X0withPad!$C$1, INT((ROW()-1)/28), MOD(ROW()-1, 28))","v":0},{"$f":"OFFSET(X0withPad!$A$2, INT((ROW()-1)/28), MOD(ROW()-1, 28))","v":0},{"$f":"OFFSET(X0withPad!$B$2, INT((ROW()-1)/28), MOD(ROW()-1, 28))","v":0},{"$f":"OFFSET(X0withPad!$C$2, INT((ROW()-1)/28), MOD(ROW()-1, 28))","v":0},{"$f":"OFFSET(X0withPad!$A$3, INT((ROW()-1)/28), MOD(ROW()-1, 28))","v":0},{"$f":"OFFSET(X0withPad!$B$3, INT((ROW()-1)/28), MOD(ROW()-1, 28))","v":0},{"$f":"OFFSET(X0withPad!$C$3, INT((ROW()-1)/28), MOD(ROW()-1, 28))","v":0}]
[{"$f":"OFFSET(X0withPad!$A$1, INT((ROW()-1)/28), MOD(ROW()-1, 28))","v":0},{"$f":"OFFSET(X0withPad!$B$1, INT((ROW()-1)/28), MOD(ROW()-1, 28))","v":0},{"$f":"OFFSET(X0withPad!$C$1, INT((ROW()-1)/28), MOD(ROW()-1, 28))","v":0},{"$f":"OFFSET(X0withPad!$A$2, INT((ROW()-1)/28), MOD(ROW()-1, 28))","v":0},{"$f":"OFFSET(X0withPad!$B$2, INT((ROW()-1)/28), MOD(ROW()-1, 28))","v":0},{"$f":"OFFSET(X0withPad!$C$2, INT((ROW()-1)/28), MOD(ROW()-1, 28))","v":0},{"$f":"OFFSET(X0withPad!$A$3, INT((ROW()-1)/28), MOD(ROW()-1, 28))","v":0},{"$f":"OFFSET(X0withPad!$B$3, INT((ROW()-1)/28), MOD(ROW()-1, 28))","v":0},{"$f":"OFFSET(X0withPad!$C$3, INT((ROW()-1)/28), MOD(ROW()-1, 28))","v":0}]
[{"$f":"OFFSET(X0withPad!$A$1, INT((ROW()-1)/28), MOD(ROW()-1, 28))","v":0},{"$f":"OFFSET(X0withPad!$B$1, INT((ROW()-1)/28), MOD(ROW()-1, 28))","v":0},{"$f":"OFFSET(X0withPad!$C$1, INT((ROW()-1)/28), MOD(ROW()-1, 28))","v":0},{"$f":"OFFSET(X0withPad!$A$2, INT((ROW()-1)/28), MOD(ROW()-1, 28))","v":0},{"$f":"OFFSET(X0withPad!$B$2, INT((ROW()-1)/28), MOD(ROW()-1, 28))","v":0},{"$f":"OFFSET(X0withPad!$C$2, INT((ROW()-1)/28), MOD(ROW()-1, 28))","v":0},{"$f":"OFFSET(X0withPad!$A$3, INT((ROW()-1)/28), MOD(ROW()-1, 28))","v":0},{"$f":"OFFSET(X0withPad!$B$3, INT((ROW()-1)/28), MOD(ROW()-1, 28))","v":0},{"$f":"OFFSET(X0withPad!$C$3, INT((ROW()-1)/28), MOD(ROW()-1, 28))","v":0}]
[{"$f":"OFFSET(X0withPad!$A$1, INT((ROW()-1)/28), MOD(ROW()-1, 28))","v":0},{"$f":"OFFSET(X0withPad!$B$1, INT((ROW()-1)/28), MOD(ROW()-1, 28))","v":0},{"$f":"OFFSET(X0withPad!$C$1, INT((ROW()-1)/28), MOD(ROW()-1, 28))","v":0},{"$f":"OFFSET(X0withPad!$A$2, INT((ROW()-1)/28), MOD(ROW()-1, 28))","v":0},{"$f":"OFFSET(X0withPad!$B$2, INT((ROW()-1)/28), MOD(ROW()-1, 28))","v":0},{"$f":"OFFSET(X0withPad!$C$2, INT((ROW()-1)/28), MOD(ROW()-1, 28))","v":0},{"$f":"OFFSET(X0withPad!$A$3, INT((ROW()-1)/28), MOD(ROW()-1, 28))","v":0},{"$f":"OFFSET(X0withPad!$B$3, INT((ROW()-1)/28), MOD(ROW()-1, 28))","v":0},{"$f":"OFFSET(X0withPad!$C$3, INT((ROW()-1)/28), MOD(ROW()-1, 28))","v":0}]
[{"$f":"OFFSET(X0withPad!$A$1, INT((ROW()-1)/28), MOD(ROW()-1, 28))","v":0},{"$f":"OFFSET(X0withPad!$B$1, INT((ROW()-1)/28), MOD(ROW()-1, 28))","v":0},{"$f":"OFFSET(X0withPad!$C$1, INT((ROW()-1)/28), MOD(ROW()-1, 28))","v":0},{"$f":"OFFSET(X0withPad!$A$2, INT((ROW()-1)/28), MOD(ROW()-1, 28))","v":0},{"$f":"OFFSET(X0withPad!$B$2, INT((ROW()-1)/28), MOD(ROW()-1, 28))","v":0},{"$f":"OFFSET(X0withPad!$C$2, INT((ROW()-1)/28), MOD(ROW()-1, 28))","v":0},{"$f":"OFFSET(X0withPad!$A$3, INT((ROW()-1)/28), MOD(ROW()-1, 28))","v":0},{"$f":"OFFSET(X0withPad!$B$3, INT((ROW()-1)/28), MOD(ROW()-1, 28))","v":0},{"$f":"OFFSET(X0withPad!$C$3, INT((ROW()-1)/28), MOD(ROW()-1, 28))","v":0}]
[{"$f":"OFFSET(X0withPad!$A$1, INT((ROW()-1)/28), MOD(ROW()-1, 28))","v":0},{"$f":"OFFSET(X0withPad!$B$1, INT((ROW()-1)/28), MOD(ROW()-1, 28))","v":0},{"$f":"OFFSET(X0withPad!$C$1, INT((ROW()-1)/28), MOD(ROW()-1, 28))","v":0},{"$f":"OFFSET(X0withPad!$A$2, INT((ROW()-1)/28), MOD(ROW()-1, 28))","v":0},{"$f":"OFFSET(X0withPad!$B$2, INT((ROW()-1)/28), MOD(ROW()-1, 28))","v":0},{"$f":"OFFSET(X0withPad!$C$2, INT((ROW()-1)/28), MOD(ROW()-1, 28))","v":0},{"$f":"OFFSET(X0withPad!$A$3, INT((ROW()-1)/28), MOD(ROW()-1, 28))","v":0},{"$f":"OFFSET(X0withPad!$B$3, INT((ROW()-1)/28), MOD(ROW()-1, 28))","v":0},{"$f":"OFFSET(X0withPad!$C$3, INT((ROW()-1)/28), MOD(ROW()-1, 28))","v":0}]
[{"$f":"OFFSET(X0withPad!$A$1, INT((ROW()-1)/28), MOD(ROW()-1, 28))","v":0},{"$f":"OFFSET(X0withPad!$B$1, INT((ROW()-1)/28), MOD(ROW()-1, 28))","v":0},{"$f":"OFFSET(X0withPad!$C$1, INT((ROW()-1)/28), MOD(ROW()-1, 28))","v":0},{"$f":"OFFSET(X0withPad!$A$2, INT((ROW()-1)/28), MOD(ROW()-1, 28))","v":0},{"$f":"OFFSET(X0withPad!$B$2, INT((ROW()-1)/28), MOD(ROW()-1, 28))","v":0},{"$f":"OFFSET(X0withPad!$C$2, INT((ROW()-1)/28), MOD(ROW()-1, 28))","v":84},{"$f":"OFFSET(X0withPad!$A$3, INT((ROW()-1)/28), MOD(ROW()-1, 28))","v":0},{"$f":"OFFSET(X0withPad!$B$3, INT((ROW()-1)/28), MOD(ROW()-1, 28))","v":0},{"$f":"OFFSET(X0withPad!$C$3, INT((ROW()-1)/28), MOD(ROW()-1, 28))","v":222}]
[{"$f":"OFFSET(X0withPad!$A$1, INT((ROW()-1)/28), MOD(ROW()-1, 28))","v":0},{"$f":"OFFSET(X0withPad!$B$1, INT((ROW()-1)/28), MOD(ROW()-1, 28))","v":0},{"$f":"OFFSET(X0withPad!$C$1, INT((ROW()-1)/28), MOD(ROW()-1, 28))","v":0},{"$f":"OFFSET(X0withPad!$A$2, INT((ROW()-1)/28), MOD(ROW()-1, 28))","v":0},{"$f":"OFFSET(X0withPad!$B$2, INT((ROW()-1)/28), MOD(ROW()-1, 28))","v":84},{"$f":"OFFSET(X0withPad!$C$2, INT((ROW()-1)/28), MOD(ROW()-1, 28))","v":185},{"$f":"OFFSET(X0withPad!$A$3, INT((ROW()-1)/28), MOD(ROW()-1, 28))","v":0},{"$f":"OFFSET(X0withPad!$B$3, INT((ROW()-1)/28), MOD(ROW()-1, 28))","v":222},{"$f":"OFFSET(X0withPad!$C$3, INT((ROW()-1)/28), MOD(ROW()-1, 28))","v":254}]
[{"$f":"OFFSET(X0withPad!$A$1, INT((ROW()-1)/28), MOD(ROW()-1, 28))","v":0},{"$f":"OFFSET(X0withPad!$B$1, INT((ROW()-1)/28), MOD(ROW()-1, 28))","v":0},{"$f":"OFFSET(X0withPad!$C$1, INT((ROW()-1)/28), MOD(ROW()-1, 28))","v":0},{"$f":"OFFSET(X0withPad!$A$2, INT((ROW()-1)/28), MOD(ROW()-1, 28))","v":84},{"$f":"OFFSET(X0withPad!$B$2, INT((ROW()-1)/28), MOD(ROW()-1, 28))","v":185},{"$f":"OFFSET(X0withPad!$C$2, INT((ROW()-1)/28), MOD(ROW()-1, 28))","v":159},{"$f":"OFFSET(X0withPad!$A$3, INT((ROW()-1)/28), MOD(ROW()-1, 28))","v":222},{"$f":"OFFSET(X0withPad!$B$3, INT((ROW()-1)/28), MOD(ROW()-1, 28))","v":254},{"$f":"OFFSET(X0withPad!$C$3, INT((ROW()-1)/28), MOD(ROW()-1, 28))","v":254}]
[{"$f":"OFFSET(X0withPad!$A$1, INT((ROW()-1)/28), MOD(ROW()-1, 28))","v":0},{"$f":"OFFSET(X0withPad!$B$1, INT((ROW()-1)/28), MOD(ROW()-1, 28))","v":0},{"$f":"OFFSET(X0withPad!$C$1, INT((ROW()-1)/28), MOD(ROW()-1, 28))","v":0},{"$f":"OFFSET(X0withPad!$A$2, INT((ROW()-1)/28), MOD(ROW()-1, 28))","v":185},{"$f":"OFFSET(X0withPad!$B$2, INT((ROW()-1)/28), MOD(ROW()-1, 28))","v":159},{"$f":"OFFSET(X0withPad!$C$2, INT((ROW()-1)/28), MOD(ROW()-1, 28))","v":151},{"$f":"OFFSET(X0withPad!$A$3, INT((ROW()-1)/28), MOD(ROW()-1, 28))","v":254},{"$f":"OFFSET(X0withPad!$B$3, INT((ROW()-1)/28), MOD(ROW()-1, 28))","v":254},{"$f":"OFFSET(X0withPad!$C$3, INT((ROW()-1)/28), MOD(ROW()-1, 28))","v":254}]
[{"$f":"OFFSET(X0withPad!$A$1, INT((ROW()-1)/28), MOD(ROW()-1, 28))","v":0},{"$f":"OFFSET(X0withPad!$B$1, INT((ROW()-1)/28), MOD(ROW()-1, 28))","v":0},{"$f":"OFFSET(X0withPad!$C$1, INT((ROW()-1)/28), MOD(ROW()-1, 28))","v":0},{"$f":"OFFSET(X0withPad!$A$2, INT((ROW()-1)/28), MOD(ROW()-1, 28))","v":159},{"$f":"OFFSET(X0withPad!$B$2, INT((ROW()-1)/28), MOD(ROW()-1, 28))","v":151},{"$f":"OFFSET(X0withPad!$C$2, INT((ROW()-1)/28), MOD(ROW()-1, 28))","v":60},{"$f":"OFFSET(X0withPad!$A$3, INT((ROW()-1)/28), MOD(ROW()-1, 28))","v":254},{"$f":"OFFSET(X0withPad!$B$3, INT((ROW()-1)/28), MOD(ROW()-1, 28))","v":254},{"$f":"OFFSET(X0withPad!$C$3, INT((ROW()-1)/28), MOD(ROW()-1, 28))","v":254}]
[{"$f":"OFFSET(X0withPad!$A$1, INT((ROW()-1)/28), MOD(ROW()-1, 28))","v":0},{"$f":"OFFSET(X0withPad!$B$1, INT((ROW()-1)/28), MOD(ROW()-1, 28))","v":0},{"$f":"OFFSET(X0withPad!$C$1, INT((ROW()-1)/28), MOD(ROW()-1, 28))","v":0},{"$f":"OFFSET(X0withPad!$A$2, INT((ROW()-1)/28), MOD(ROW()-1, 28))","v":151},{"$f":"OFFSET(X0withPad!$B$2, INT((ROW()-1)/28), MOD(ROW()-1, 28))","v":60},{"$f":"OFFSET(X0withPad!$C$2, INT((ROW()-1)/28), MOD(ROW()-1, 28))","v":36},{"$f":"OFFSET(X0withPad!$A$3, INT((ROW()-1)/28), MOD(ROW()-1, 28))","v":254},{"$f":"OFFSET(X0withPad!$B$3, INT((ROW()-1)/28), MOD(ROW()-1, 28))","v":254},{"$f":"OFFSET(X0withPad!$C$3, INT((ROW()-1)/28), MOD(ROW()-1, 28))","v":241}]
[{"$f":"OFFSET(X0withPad!$A$1, INT((ROW()-1)/28), MOD(ROW()-1, 28))","v":0},{"$f":"OFFSET(X0withPad!$B$1, INT((ROW()-1)/28), MOD(ROW()-1, 28))","v":0},{"$f":"OFFSET(X0withPad!$C$1, INT((ROW()-1)/28), MOD(ROW()-1, 28))","v":0},{"$f":"OFFSET(X0withPad!$A$2, INT((ROW()-1)/28), MOD(ROW()-1, 28))","v":60},{"$f":"OFFSET(X0withPad!$B$2, INT((ROW()-1)/28), MOD(ROW()-1, 28))","v":36},{"$f":"OFFSET(X0withPad!$C$2, INT((ROW()-1)/28), MOD(ROW()-1, 28))","v":0},{"$f":"OFFSET(X0withPad!$A$3, INT((ROW()-1)/28), MOD(ROW()-1, 28))","v":254},{"$f":"OFFSET(X0withPad!$B$3, INT((ROW()-1)/28), MOD(ROW()-1, 28))","v":241},{"$f":"OFFSET(X0withPad!$C$3, INT((ROW()-1)/28), MOD(ROW()-1, 28))","v":198}]
[{"$f":"OFFSET(X0withPad!$A$1, INT((ROW()-1)/28), MOD(ROW()-1, 28))","v":0},{"$f":"OFFSET(X0withPad!$B$1, INT((ROW()-1)/28), MOD(ROW()-1, 28))","v":0},{"$f":"OFFSET(X0withPad!$C$1, INT((ROW()-1)/28), MOD(ROW()-1, 28))","v":0},{"$f":"OFFSET(X0withPad!$A$2, INT((ROW()-1)/28), MOD(ROW()-1, 28))","v":36},{"$f":"OFFSET(X0withPad!$B$2, INT((ROW()-1)/28), MOD(ROW()-1, 28))","v":0},{"$f":"OFFSET(X0withPad!$C$2, INT((ROW()-1)/28), MOD(ROW()-1, 28))","v":0},{"$f":"OFFSET(X0withPad!$A$3, INT((ROW()-1)/28), MOD(ROW()-1, 28))","v":241},{"$f":"OFFSET(X0withPad!$B$3, INT((ROW()-1)/28), MOD(ROW()-1, 28))","v":198},{"$f":"OFFSET(X0withPad!$C$3, INT((ROW()-1)/28), MOD(ROW()-1, 28))","v":198}]
[{"$f":"OFFSET(X0withPad!$A$1, INT((ROW()-1)/28), MOD(ROW()-1, 28))","v":0},{"$f":"OFFSET(X0withPad!$B$1, INT((ROW()-1)/28), MOD(ROW()-1, 28))","v":0},{"$f":"OFFSET(X0withPad!$C$1, INT((ROW()-1)/28), MOD(ROW()-1, 28))","v":0},{"$f":"OFFSET(X0withPad!$A$2, INT((ROW()-1)/28), MOD(ROW()-1, 28))","v":0},{"$f":"OFFSET(X0withPad!$B$2, INT((ROW()-1)/28), MOD(ROW()-1, 28))","v":0},{"$f":"OFFSET(X0withPad!$C$2, INT((ROW()-1)/28), MOD(ROW()-1, 28))","v":0},{"$f":"OFFSET(X0withPad!$A$3, INT((ROW()-1)/28), MOD(ROW()-1, 28))","v":198},{"$f":"OFFSET(X0withPad!$B$3, INT((ROW()-1)/28), MOD(ROW()-1, 28))","v":198},{"$f":"OFFSET(X0withPad!$C$3, INT((ROW()-1)/28), MOD(ROW()-1, 28))","v":198}]
[{"$f":"OFFSET(X0withPad!$A$1, INT((ROW()-1)/28), MOD(ROW()-1, 28))","v":0},{"$f":"OFFSET(X0withPad!$B$1, INT((ROW()-1)/28), MOD(ROW()-1, 28))","v":0},{"$f":"OFFSET(X0withPad!$C$1, INT((ROW()-1)/28), MOD(ROW()-1, 28))","v":0},{"$f":"OFFSET(X0withPad!$A$2, INT((ROW()-1)/28), MOD(ROW()-1, 28))","v":0},{"$f":"OFFSET(X0withPad!$B$2, INT((ROW()-1)/28), MOD(ROW()-1, 28))","v":0},{"$f":"OFFSET(X0withPad!$C$2, INT((ROW()-1)/28), MOD(ROW()-1, 28))","v":0},{"$f":"OFFSET(X0withPad!$A$3, INT((ROW()-1)/28), MOD(ROW()-1, 28))","v":198},{"$f":"OFFSET(X0withPad!$B$3, INT((ROW()-1)/28), MOD(ROW()-1, 28))","v":198},{"$f":"OFFSET(X0withPad!$C$3, INT((ROW()-1)/28), MOD(ROW()-1, 28))","v":198}]
[{"$f":"OFFSET(X0withPad!$A$1, INT((ROW()-1)/28), MOD(ROW()-1, 28))","v":0},{"$f":"OFFSET(X0withPad!$B$1, INT((ROW()-1)/28), MOD(ROW()-1, 28))","v":0},{"$f":"OFFSET(X0withPad!$C$1, INT((ROW()-1)/28), MOD(ROW()-1, 28))","v":0},{"$f":"OFFSET(X0withPad!$A$2, INT((ROW()-1)/28), MOD(ROW()-1, 28))","v":0},{"$f":"OFFSET(X0withPad!$B$2, INT((ROW()-1)/28), MOD(ROW()-1, 28))","v":0},{"$f":"OFFSET(X0withPad!$C$2, INT((ROW()-1)/28), MOD(ROW()-1, 28))","v":0},{"$f":"OFFSET(X0withPad!$A$3, INT((ROW()-1)/28), MOD(ROW()-1, 28))","v":198},{"$f":"OFFSET(X0withPad!$B$3, INT((ROW()-1)/28), MOD(ROW()-1, 28))","v":198},{"$f":"OFFSET(X0withPad!$C$3, INT((ROW()-1)/28), MOD(ROW()-1, 28))","v":198}]
[{"$f":"OFFSET(X0withPad!$A$1, INT((ROW()-1)/28), MOD(ROW()-1, 28))","v":0},{"$f":"OFFSET(X0withPad!$B$1, INT((ROW()-1)/28), MOD(ROW()-1, 28))","v":0},{"$f":"OFFSET(X0withPad!$C$1, INT((ROW()-1)/28), MOD(ROW()-1, 28))","v":0},{"$f":"OFFSET(X0withPad!$A$2, INT((ROW()-1)/28), MOD(ROW()-1, 28))","v":0},{"$f":"OFFSET(X0withPad!$B$2, INT((ROW()-1)/28), MOD(ROW()-1, 28))","v":0},{"$f":"OFFSET(X0withPad!$C$2, INT((ROW()-1)/28), MOD(ROW()-1, 28))","v":0},{"$f":"OFFSET(X0withPad!$A$3, INT((ROW()-1)/28), MOD(ROW()-1, 28))","v":198},{"$f":"OFFSET(X0withPad!$B$3, INT((ROW()-1)/28), MOD(ROW()-1, 28))","v":198},{"$f":"OFFSET(X0withPad!$C$3, INT((ROW()-1)/28), MOD(ROW()-1, 28))","v":198}]
[{"$f":"OFFSET(X0withPad!$A$1, INT((ROW()-1)/28), MOD(ROW()-1, 28))","v":0},{"$f":"OFFSET(X0withPad!$B$1, INT((ROW()-1)/28), MOD(ROW()-1, 28))","v":0},{"$f":"OFFSET(X0withPad!$C$1, INT((ROW()-1)/28), MOD(ROW()-1, 28))","v":0},{"$f":"OFFSET(X0withPad!$A$2, INT((ROW()-1)/28), MOD(ROW()-1, 28))","v":0},{"$f":"OFFSET(X0withPad!$B$2, INT((ROW()-1)/28), MOD(ROW()-1, 28))","v":0},{"$f":"OFFSET(X0withPad!$C$2, INT((ROW()-1)/28), MOD(ROW()-1, 28))","v":0},{"$f":"OFFSET(X0withPad!$A$3, INT((ROW()-1)/28), MOD(ROW()-1, 28))","v":198},{"$f":"OFFSET(X0withPad!$B$3, INT((ROW()-1)/28), MOD(ROW()-1, 28))","v":198},{"$f":"OFFSET(X0withPad!$C$3, INT((ROW()-1)/28), MOD(ROW()-1, 28))","v":198}]
[{"$f":"OFFSET(X0withPad!$A$1, INT((ROW()-1)/28), MOD(ROW()-1, 28))","v":0},{"$f":"OFFSET(X0withPad!$B$1, INT((ROW()-1)/28), MOD(ROW()-1, 28))","v":0},{"$f":"OFFSET(X0withPad!$C$1, INT((ROW()-1)/28), MOD(ROW()-1, 28))","v":0},{"$f":"OFFSET(X0withPad!$A$2, INT((ROW()-1)/28), MOD(ROW()-1, 28))","v":0},{"$f":"OFFSET(X0withPad!$B$2, INT((ROW()-1)/28), MOD(ROW()-1, 28))","v":0},{"$f":"OFFSET(X0withPad!$C$2, INT((ROW()-1)/28), MOD(ROW()-1, 28))","v":0},{"$f":"OFFSET(X0withPad!$A$3, INT((ROW()-1)/28), MOD(ROW()-1, 28))","v":198},{"$f":"OFFSET(X0withPad!$B$3, INT((ROW()-1)/28), MOD(ROW()-1, 28))","v":198},{"$f":"OFFSET(X0withPad!$C$3, INT((ROW()-1)/28), MOD(ROW()-1, 28))","v":198}]
[{"$f":"OFFSET(X0withPad!$A$1, INT((ROW()-1)/28), MOD(ROW()-1, 28))","v":0},{"$f":"OFFSET(X0withPad!$B$1, INT((ROW()-1)/28), MOD(ROW()-1, 28))","v":0},{"$f":"OFFSET(X0withPad!$C$1, INT((ROW()-1)/28), MOD(ROW()-1, 28))","v":0},{"$f":"OFFSET(X0withPad!$A$2, INT((ROW()-1)/28), MOD(ROW()-1, 28))","v":0},{"$f":"OFFSET(X0withPad!$B$2, INT((ROW()-1)/28), MOD(ROW()-1, 28))","v":0},{"$f":"OFFSET(X0withPad!$C$2, INT((ROW()-1)/28), MOD(ROW()-1, 28))","v":0},{"$f":"OFFSET(X0withPad!$A$3, INT((ROW()-1)/28), MOD(ROW()-1, 28))","v":198},{"$f":"OFFSET(X0withPad!$B$3, INT((ROW()-1)/28), MOD(ROW()-1, 28))","v":198},{"$f":"OFFSET(X0withPad!$C$3, INT((ROW()-1)/28), MOD(ROW()-1, 28))","v":170}]
[{"$f":"OFFSET(X0withPad!$A$1, INT((ROW()-1)/28), MOD(ROW()-1, 28))","v":0},{"$f":"OFFSET(X0withPad!$B$1, INT((ROW()-1)/28), MOD(ROW()-1, 28))","v":0},{"$f":"OFFSET(X0withPad!$C$1, INT((ROW()-1)/28), MOD(ROW()-1, 28))","v":0},{"$f":"OFFSET(X0withPad!$A$2, INT((ROW()-1)/28), MOD(ROW()-1, 28))","v":0},{"$f":"OFFSET(X0withPad!$B$2, INT((ROW()-1)/28), MOD(ROW()-1, 28))","v":0},{"$f":"OFFSET(X0withPad!$C$2, INT((ROW()-1)/28), MOD(ROW()-1, 28))","v":0},{"$f":"OFFSET(X0withPad!$A$3, INT((ROW()-1)/28), MOD(ROW()-1, 28))","v":198},{"$f":"OFFSET(X0withPad!$B$3, INT((ROW()-1)/28), MOD(ROW()-1, 28))","v":170},{"$f":"OFFSET(X0withPad!$C$3, INT((ROW()-1)/28), MOD(ROW()-1, 28))","v":52}]
[{"$f":"OFFSET(X0withPad!$A$1, INT((ROW()-1)/28), MOD(ROW()-1, 28))","v":0},{"$f":"OFFSET(X0withPad!$B$1, INT((ROW()-1)/28), MOD(ROW()-1, 28))","v":0},{"$f":"OFFSET(X0withPad!$C$1, INT((ROW()-1)/28), MOD(ROW()-1, 28))","v":0},{"$f":"OFFSET(X0withPad!$A$2, INT((ROW()-1)/28), MOD(ROW()-1, 28))","v":0},{"$f":"OFFSET(X0withPad!$B$2, INT((ROW()-1)/28), MOD(ROW()-1, 28))","v":0},{"$f":"OFFSET(X0withPad!$C$2, INT((ROW()-1)/28), MOD(ROW()-1, 28))","v":0},{"$f":"OFFSET(X0withPad!$A$3, INT((ROW()-1)/28), MOD(ROW()-1, 28))","v":170},{"$f":"OFFSET(X0withPad!$B$3, INT((ROW()-1)/28), MOD(ROW()-1, 28))","v":52},{"$f":"OFFSET(X0withPad!$C$3, INT((ROW()-1)/28), MOD(ROW()-1, 28))","v":0}]
[{"$f":"OFFSET(X0withPad!$A$1, INT((ROW()-1)/28), MOD(ROW()-1, 28))","v":0},{"$f":"OFFSET(X0withPad!$B$1, INT((ROW()-1)/28), MOD(ROW()-1, 28))","v":0},{"$f":"OFFSET(X0withPad!$C$1, INT((ROW()-1)/28), MOD(ROW()-1, 28))","v":0},{"$f":"OFFSET(X0withPad!$A$2, INT((ROW()-1)/28), MOD(ROW()-1, 28))","v":0},{"$f":"OFFSET(X0withPad!$B$2, INT((ROW()-1)/28), MOD(ROW()-1, 28))","v":0},{"$f":"OFFSET(X0withPad!$C$2, INT((ROW()-1)/28), MOD(ROW()-1, 28))","v":0},{"$f":"OFFSET(X0withPad!$A$3, INT((ROW()-1)/28), MOD(ROW()-1, 28))","v":52},{"$f":"OFFSET(X0withPad!$B$3, INT((ROW()-1)/28), MOD(ROW()-1, 28))","v":0},{"$f":"OFFSET(X0withPad!$C$3, INT((ROW()-1)/28), MOD(ROW()-1, 28))","v":0}]
[{"$f":"OFFSET(X0withPad!$A$1, INT((ROW()-1)/28), MOD(ROW()-1, 28))","v":0},{"$f":"OFFSET(X0withPad!$B$1, INT((ROW()-1)/28), MOD(ROW()-1, 28))","v":0},{"$f":"OFFSET(X0withPad!$C$1, INT((ROW()-1)/28), MOD(ROW()-1, 28))","v":0},{"$f":"OFFSET(X0withPad!$A$2, INT((ROW()-1)/28), MOD(ROW()-1, 28))","v":0},{"$f":"OFFSET(X0withPad!$B$2, INT((ROW()-1)/28), MOD(ROW()-1, 28))","v":0},{"$f":"OFFSET(X0withPad!$C$2, INT((ROW()-1)/28), MOD(ROW()-1, 28))","v":0},{"$f":"OFFSET(X0withPad!$A$3, INT((ROW()-1)/28), MOD(ROW()-1, 28))","v":0},{"$f":"OFFSET(X0withPad!$B$3, INT((ROW()-1)/28), MOD(ROW()-1, 28))","v":0},{"$f":"OFFSET(X0withPad!$C$3, INT((ROW()-1)/28), MOD(ROW()-1, 28))","v":0}]
[{"$f":"OFFSET(X0withPad!$A$1, INT((ROW()-1)/28), MOD(ROW()-1, 28))","v":0},{"$f":"OFFSET(X0withPad!$B$1, INT((ROW()-1)/28), MOD(ROW()-1, 28))","v":0},{"$f":"OFFSET(X0withPad!$C$1, INT((ROW()-1)/28), MOD(ROW()-1, 28))","v":0},{"$f":"OFFSET(X0withPad!$A$2, INT((ROW()-1)/28), MOD(ROW()-1, 28))","v":0},{"$f":"OFFSET(X0withPad!$B$2, INT((ROW()-1)/28), MOD(ROW()-1, 28))","v":0},{"$f":"OFFSET(X0withPad!$C$2, INT((ROW()-1)/28), MOD(ROW()-1, 28))","v":0},{"$f":"OFFSET(X0withPad!$A$3, INT((ROW()-1)/28), MOD(ROW()-1, 28))","v":0},{"$f":"OFFSET(X0withPad!$B$3, INT((ROW()-1)/28), MOD(ROW()-1, 28))","v":0},{"$f":"OFFSET(X0withPad!$C$3, INT((ROW()-1)/28), MOD(ROW()-1, 28))","v":0}]
[{"$f":"OFFSET(X0withPad!$A$1, INT((ROW()-1)/28), MOD(ROW()-1, 28))","v":0},{"$f":"OFFSET(X0withPad!$B$1, INT((ROW()-1)/28), MOD(ROW()-1, 28))","v":0},{"$f":"OFFSET(X0withPad!$C$1, INT((ROW()-1)/28), MOD(ROW()-1, 28))","v":0},{"$f":"OFFSET(X0withPad!$A$2, INT((ROW()-1)/28), MOD(ROW()-1, 28))","v":0},{"$f":"OFFSET(X0withPad!$B$2, INT((ROW()-1)/28), MOD(ROW()-1, 28))","v":0},{"$f":"OFFSET(X0withPad!$C$2, INT((ROW()-1)/28), MOD(ROW()-1, 28))","v":0},{"$f":"OFFSET(X0withPad!$A$3, INT((ROW()-1)/28), MOD(ROW()-1, 28))","v":0},{"$f":"OFFSET(X0withPad!$B$3, INT((ROW()-1)/28), MOD(ROW()-1, 28))","v":0},{"$f":"OFFSET(X0withPad!$C$3, INT((ROW()-1)/28), MOD(ROW()-1, 28))","v":0}]
[{"$f":"OFFSET(X0withPad!$A$1, INT((ROW()-1)/28), MOD(ROW()-1, 28))","v":0},{"$f":"OFFSET(X0withPad!$B$1, INT((ROW()-1)/28), MOD(ROW()-1, 28))","v":0},{"$f":"OFFSET(X0withPad!$C$1, INT((ROW()-1)/28), MOD(ROW()-1, 28))","v":0},{"$f":"OFFSET(X0withPad!$A$2, INT((ROW()-1)/28), MOD(ROW()-1, 28))","v":0},{"$f":"OFFSET(X0withPad!$B$2, INT((ROW()-1)/28), MOD(ROW()-1, 28))","v":0},{"$f":"OFFSET(X0withPad!$C$2, INT((ROW()-1)/28), MOD(ROW()-1, 28))","v":0},{"$f":"OFFSET(X0withPad!$A$3, INT((ROW()-1)/28), MOD(ROW()-1, 28))","v":0},{"$f":"OFFSET(X0withPad!$B$3, INT((ROW()-1)/28), MOD(ROW()-1, 28))","v":0},{"$f":"OFFSET(X0withPad!$C$3, INT((ROW()-1)/28), MOD(ROW()-1, 28))","v":0}]
[{"$f":"OFFSET(X0withPad!$A$1, INT((ROW()-1)/28), MOD(ROW()-1, 28))","v":0},{"$f":"OFFSET(X0withPad!$B$1, INT((ROW()-1)/28), MOD(ROW()-1, 28))","v":0},{"$f":"OFFSET(X0withPad!$C$1, INT((ROW()-1)/28), MOD(ROW()-1, 28))","v":0},{"$f":"OFFSET(X0withPad!$A$2, INT((ROW()-1)/28), MOD(ROW()-1, 28))","v":0},{"$f":"OFFSET(X0withPad!$B$2, INT((ROW()-1)/28), MOD(ROW()-1, 28))","v":0},{"$f":"OFFSET(X0withPad!$C$2, INT((ROW()-1)/28), MOD(ROW()-1, 28))","v":0},{"$f":"OFFSET(X0withPad!$A$3, INT((ROW()-1)/28), MOD(ROW()-1, 28))","v":0},{"$f":"OFFSET(X0withPad!$B$3, INT((ROW()-1)/28), MOD(ROW()-1, 28))","v":0},{"$f":"OFFSET(X0withPad!$C$3, INT((ROW()-1)/28), MOD(ROW()-1, 28))","v":0}]
[{"$f":"OFFSET(X0withPad!$A$1, INT((ROW()-1)/28), MOD(ROW()-1, 28))","v":0},{"$f":"OFFSET(X0withPad!$B$1, INT((ROW()-1)/28), MOD(ROW()-1, 28))","v":0},{"$f":"OFFSET(X0withPad!$C$1, INT((ROW()-1)/28), MOD(ROW()-1, 28))","v":0},{"$f":"OFFSET(X0withPad!$A$2, INT((ROW()-1)/28), MOD(ROW()-1, 28))","v":0},{"$f":"OFFSET(X0withPad!$B$2, INT((ROW()-1)/28), MOD(ROW()-1, 28))","v":0},{"$f":"OFFSET(X0withPad!$C$2, INT((ROW()-1)/28), MOD(ROW()-1, 28))","v":0},{"$f":"OFFSET(X0withPad!$A$3, INT((ROW()-1)/28), MOD(ROW()-1, 28))","v":0},{"$f":"OFFSET(X0withPad!$B$3, INT((ROW()-1)/28), MOD(ROW()-1, 28))","v":0},{"$f":"OFFSET(X0withPad!$C$3, INT((ROW()-1)/28), MOD(ROW()-1, 28))","v":0}]
[{"$f":"OFFSET(X0withPad!$A$1, INT((ROW()-1)/28), MOD(ROW()-1, 28))","v":0},{"$f":"OFFSET(X0withPad!$B$1, INT((ROW()-1)/28), MOD(ROW()-1, 28))","v":0},{"$f":"OFFSET(X0withPad!$C$1, INT((ROW()-1)/28), MOD(ROW()-1, 28))","v":0},{"$f":"OFFSET(X0withPad!$A$2, INT((ROW()-1)/28), MOD(ROW()-1, 28))","v":0},{"$f":"OFFSET(X0withPad!$B$2, INT((ROW()-1)/28), MOD(ROW()-1, 28))","v":0},{"$f":"OFFSET(X0withPad!$C$2, INT((ROW()-1)/28), MOD(ROW()-1, 28))","v":0},{"$f":"OFFSET(X0withPad!$A$3, INT((ROW()-1)/28), MOD(ROW()-1, 28))","v":0},{"$f":"OFFSET(X0withPad!$B$3, INT((ROW()-1)/28), MOD(ROW()-1, 28))","v":0},{"$f":"OFFSET(X0withPad!$C$3, INT((ROW()-1)/28), MOD(ROW()-1, 28))","v":0}]
[{"$f":"OFFSET(X0withPad!$A$1, INT((ROW()-1)/28), MOD(ROW()-1, 28))","v":0},{"$f":"OFFSET(X0withPad!$B$1, INT((ROW()-1)/28), MOD(ROW()-1, 28))","v":0},{"$f":"OFFSET(X0withPad!$C$1, INT((ROW()-1)/28), MOD(ROW()-1, 28))","v":0},{"$f":"OFFSET(X0withPad!$A$2, INT((ROW()-1)/28), MOD(ROW()-1, 28))","v":0},{"$f":"OFFSET(X0withPad!$B$2, INT((ROW()-1)/28), MOD(ROW()-1, 28))","v":0},{"$f":"OFFSET(X0withPad!$C$2, INT((ROW()-1)/28), MOD(ROW()-1, 28))","v":0},{"$f":"OFFSET(X0withPad!$A$3, INT((ROW()-1)/28), MOD(ROW()-1, 28))","v":0},{"$f":"OFFSET(X0withPad!$B$3, INT((ROW()-1)/28), MOD(ROW()-1, 28))","v":0},{"$f":"OFFSET(X0withPad!$C$3, INT((ROW()-1)/28), MOD(ROW()-1, 28))","v":0}]
[{"$f":"OFFSET(X0withPad!$A$1, INT((ROW()-1)/28), MOD(ROW()-1, 28))","v":0},{"$f":"OFFSET(X0withPad!$B$1, INT((ROW()-1)/28), MOD(ROW()-1, 28))","v":0},{"$f":"OFFSET(X0withPad!$C$1, INT((ROW()-1)/28), MOD(ROW()-1, 28))","v":0},{"$f":"OFFSET(X0withPad!$A$2, INT((ROW()-1)/28), MOD(ROW()-1, 28))","v":0},{"$f":"OFFSET(X0withPad!$B$2, INT((ROW()-1)/28), MOD(ROW()-1, 28))","v":0},{"$f":"OFFSET(X0withPad!$C$2, INT((ROW()-1)/28), MOD(ROW()-1, 28))","v":0},{"$f":"OFFSET(X0withPad!$A$3, INT((ROW()-1)/28), MOD(ROW()-1, 28))","v":0},{"$f":"OFFSET(X0withPad!$B$3, INT((ROW()-1)/28), MOD(ROW()-1, 28))","v":0},{"$f":"OFFSET(X0withPad!$C$3, INT((ROW()-1)/28), MOD(ROW()-1, 28))","v":0}]
[{"$f":"OFFSET(X0withPad!$A$1, INT((ROW()-1)/28), MOD(ROW()-1, 28))","v":0},{"$f":"OFFSET(X0withPad!$B$1, INT((ROW()-1)/28), MOD(ROW()-1, 28))","v":0},{"$f":"OFFSET(X0withPad!$C$1, INT((ROW()-1)/28), MOD(ROW()-1, 28))","v":0},{"$f":"OFFSET(X0withPad!$A$2, INT((ROW()-1)/28), MOD(ROW()-1, 28))","v":0},{"$f":"OFFSET(X0withPad!$B$2, INT((ROW()-1)/28), MOD(ROW()-1, 28))","v":0},{"$f":"OFFSET(X0withPad!$C$2, INT((ROW()-1)/28), MOD(ROW()-1, 28))","v":0},{"$f":"OFFSET(X0withPad!$A$3, INT((ROW()-1)/28), MOD(ROW()-1, 28))","v":0},{"$f":"OFFSET(X0withPad!$B$3, INT((ROW()-1)/28), MOD(ROW()-1, 28))","v":0},{"$f":"OFFSET(X0withPad!$C$3, INT((ROW()-1)/28), MOD(ROW()-1, 28))","v":0}]
[{"$f":"OFFSET(X0withPad!$A$1, INT((ROW()-1)/28), MOD(ROW()-1, 28))","v":0},{"$f":"OFFSET(X0withPad!$B$1, INT((ROW()-1)/28), MOD(ROW()-1, 28))","v":0},{"$f":"OFFSET(X0withPad!$C$1, INT((ROW()-1)/28), MOD(ROW()-1, 28))","v":84},{"$f":"OFFSET(X0withPad!$A$2, INT((ROW()-1)/28), MOD(ROW()-1, 28))","v":0},{"$f":"OFFSET(X0withPad!$B$2, INT((ROW()-1)/28), MOD(ROW()-1, 28))","v":0},{"$f":"OFFSET(X0withPad!$C$2, INT((ROW()-1)/28), MOD(ROW()-1, 28))","v":222},{"$f":"OFFSET(X0withPad!$A$3, INT((ROW()-1)/28), MOD(ROW()-1, 28))","v":0},{"$f":"OFFSET(X0withPad!$B$3, INT((ROW()-1)/28), MOD(ROW()-1, 28))","v":0},{"$f":"OFFSET(X0withPad!$C$3, INT((ROW()-1)/28), MOD(ROW()-1, 28))","v":67}]
[{"$f":"OFFSET(X0withPad!$A$1, INT((ROW()-1)/28), MOD(ROW()-1, 28))","v":0},{"$f":"OFFSET(X0withPad!$B$1, INT((ROW()-1)/28), MOD(ROW()-1, 28))","v":84},{"$f":"OFFSET(X0withPad!$C$1, INT((ROW()-1)/28), MOD(ROW()-1, 28))","v":185},{"$f":"OFFSET(X0withPad!$A$2, INT((ROW()-1)/28), MOD(ROW()-1, 28))","v":0},{"$f":"OFFSET(X0withPad!$B$2, INT((ROW()-1)/28), MOD(ROW()-1, 28))","v":222},{"$f":"OFFSET(X0withPad!$C$2, INT((ROW()-1)/28), MOD(ROW()-1, 28))","v":254},{"$f":"OFFSET(X0withPad!$A$3, INT((ROW()-1)/28), MOD(ROW()-1, 28))","v":0},{"$f":"OFFSET(X0withPad!$B$3, INT((ROW()-1)/28), MOD(ROW()-1, 28))","v":67},{"$f":"OFFSET(X0withPad!$C$3, INT((ROW()-1)/28), MOD(ROW()-1, 28))","v":114}]
[{"$f":"OFFSET(X0withPad!$A$1, INT((ROW()-1)/28), MOD(ROW()-1, 28))","v":84},{"$f":"OFFSET(X0withPad!$B$1, INT((ROW()-1)/28), MOD(ROW()-1, 28))","v":185},{"$f":"OFFSET(X0withPad!$C$1, INT((ROW()-1)/28), MOD(ROW()-1, 28))","v":159},{"$f":"OFFSET(X0withPad!$A$2, INT((ROW()-1)/28), MOD(ROW()-1, 28))","v":222},{"$f":"OFFSET(X0withPad!$B$2, INT((ROW()-1)/28), MOD(ROW()-1, 28))","v":254},{"$f":"OFFSET(X0withPad!$C$2, INT((ROW()-1)/28), MOD(ROW()-1, 28))","v":254},{"$f":"OFFSET(X0withPad!$A$3, INT((ROW()-1)/28), MOD(ROW()-1, 28))","v":67},{"$f":"OFFSET(X0withPad!$B$3, INT((ROW()-1)/28), MOD(ROW()-1, 28))","v":114},{"$f":"OFFSET(X0withPad!$C$3, INT((ROW()-1)/28), MOD(ROW()-1, 28))","v":72}]
[{"$f":"OFFSET(X0withPad!$A$1, INT((ROW()-1)/28), MOD(ROW()-1, 28))","v":185},{"$f":"OFFSET(X0withPad!$B$1, INT((ROW()-1)/28), MOD(ROW()-1, 28))","v":159},{"$f":"OFFSET(X0withPad!$C$1, INT((ROW()-1)/28), MOD(ROW()-1, 28))","v":151},{"$f":"OFFSET(X0withPad!$A$2, INT((ROW()-1)/28), MOD(ROW()-1, 28))","v":254},{"$f":"OFFSET(X0withPad!$B$2, INT((ROW()-1)/28), MOD(ROW()-1, 28))","v":254},{"$f":"OFFSET(X0withPad!$C$2, INT((ROW()-1)/28), MOD(ROW()-1, 28))","v":254},{"$f":"OFFSET(X0withPad!$A$3, INT((ROW()-1)/28), MOD(ROW()-1, 28))","v":114},{"$f":"OFFSET(X0withPad!$B$3, INT((ROW()-1)/28), MOD(ROW()-1, 28))","v":72},{"$f":"OFFSET(X0withPad!$C$3, INT((ROW()-1)/28), MOD(ROW()-1, 28))","v":114}]
[{"$f":"OFFSET(X0withPad!$A$1, INT((ROW()-1)/28), MOD(ROW()-1, 28))","v":159},{"$f":"OFFSET(X0withPad!$B$1, INT((ROW()-1)/28), MOD(ROW()-1, 28))","v":151},{"$f":"OFFSET(X0withPad!$C$1, INT((ROW()-1)/28), MOD(ROW()-1, 28))","v":60},{"$f":"OFFSET(X0withPad!$A$2, INT((ROW()-1)/28), MOD(ROW()-1, 28))","v":254},{"$f":"OFFSET(X0withPad!$B$2, INT((ROW()-1)/28), MOD(ROW()-1, 28))","v":254},{"$f":"OFFSET(X0withPad!$C$2, INT((ROW()-1)/28), MOD(ROW()-1, 28))","v":254},{"$f":"OFFSET(X0withPad!$A$3, INT((ROW()-1)/28), MOD(ROW()-1, 28))","v":72},{"$f":"OFFSET(X0withPad!$B$3, INT((ROW()-1)/28), MOD(ROW()-1, 28))","v":114},{"$f":"OFFSET(X0withPad!$C$3, INT((ROW()-1)/28), MOD(ROW()-1, 28))","v":163}]
[{"$f":"OFFSET(X0withPad!$A$1, INT((ROW()-1)/28), MOD(ROW()-1, 28))","v":151},{"$f":"OFFSET(X0withPad!$B$1, INT((ROW()-1)/28), MOD(ROW()-1, 28))","v":60},{"$f":"OFFSET(X0withPad!$C$1, INT((ROW()-1)/28), MOD(ROW()-1, 28))","v":36},{"$f":"OFFSET(X0withPad!$A$2, INT((ROW()-1)/28), MOD(ROW()-1, 28))","v":254},{"$f":"OFFSET(X0withPad!$B$2, INT((ROW()-1)/28), MOD(ROW()-1, 28))","v":254},{"$f":"OFFSET(X0withPad!$C$2, INT((ROW()-1)/28), MOD(ROW()-1, 28))","v":241},{"$f":"OFFSET(X0withPad!$A$3, INT((ROW()-1)/28), MOD(ROW()-1, 28))","v":114},{"$f":"OFFSET(X0withPad!$B$3, INT((ROW()-1)/28), MOD(ROW()-1, 28))","v":163},{"$f":"OFFSET(X0withPad!$C$3, INT((ROW()-1)/28), MOD(ROW()-1, 28))","v":227}]
[{"$f":"OFFSET(X0withPad!$A$1, INT((ROW()-1)/28), MOD(ROW()-1, 28))","v":60},{"$f":"OFFSET(X0withPad!$B$1, INT((ROW()-1)/28), MOD(ROW()-1, 28))","v":36},{"$f":"OFFSET(X0withPad!$C$1, INT((ROW()-1)/28), MOD(ROW()-1, 28))","v":0},{"$f":"OFFSET(X0withPad!$A$2, INT((ROW()-1)/28), MOD(ROW()-1, 28))","v":254},{"$f":"OFFSET(X0withPad!$B$2, INT((ROW()-1)/28), MOD(ROW()-1, 28))","v":241},{"$f":"OFFSET(X0withPad!$C$2, INT((ROW()-1)/28), MOD(ROW()-1, 28))","v":198},{"$f":"OFFSET(X0withPad!$A$3, INT((ROW()-1)/28), MOD(ROW()-1, 28))","v":163},{"$f":"OFFSET(X0withPad!$B$3, INT((ROW()-1)/28), MOD(ROW()-1, 28))","v":227},{"$f":"OFFSET(X0withPad!$C$3, INT((ROW()-1)/28), MOD(ROW()-1, 28))","v":254}]
[{"$f":"OFFSET(X0withPad!$A$1, INT((ROW()-1)/28), MOD(ROW()-1, 28))","v":36},{"$f":"OFFSET(X0withPad!$B$1, INT((ROW()-1)/28), MOD(ROW()-1, 28))","v":0},{"$f":"OFFSET(X0withPad!$C$1, INT((ROW()-1)/28), MOD(ROW()-1, 28))","v":0},{"$f":"OFFSET(X0withPad!$A$2, INT((ROW()-1)/28), MOD(ROW()-1, 28))","v":241},{"$f":"OFFSET(X0withPad!$B$2, INT((ROW()-1)/28), MOD(ROW()-1, 28))","v":198},{"$f":"OFFSET(X0withPad!$C$2, INT((ROW()-1)/28), MOD(ROW()-1, 28))","v":198},{"$f":"OFFSET(X0withPad!$A$3, INT((ROW()-1)/28), MOD(ROW()-1, 28))","v":227},{"$f":"OFFSET(X0withPad!$B$3, INT((ROW()-1)/28), MOD(ROW()-1, 28))","v":254},{"$f":"OFFSET(X0withPad!$C$3, INT((ROW()-1)/28), MOD(ROW()-1, 28))","v":225}]
[{"$f":"OFFSET(X0withPad!$A$1, INT((ROW()-1)/28), MOD(ROW()-1, 28))","v":0},{"$f":"OFFSET(X0withPad!$B$1, INT((ROW()-1)/28), MOD(ROW()-1, 28))","v":0},{"$f":"OFFSET(X0withPad!$C$1, INT((ROW()-1)/28), MOD(ROW()-1, 28))","v":0},{"$f":"OFFSET(X0withPad!$A$2, INT((ROW()-1)/28), MOD(ROW()-1, 28))","v":198},{"$f":"OFFSET(X0withPad!$B$2, INT((ROW()-1)/28), MOD(ROW()-1, 28))","v":198},{"$f":"OFFSET(X0withPad!$C$2, INT((ROW()-1)/28), MOD(ROW()-1, 28))","v":198},{"$f":"OFFSET(X0withPad!$A$3, INT((ROW()-1)/28), MOD(ROW()-1, 28))","v":254},{"$f":"OFFSET(X0withPad!$B$3, INT((ROW()-1)/28), MOD(ROW()-1, 28))","v":225},{"$f":"OFFSET(X0withPad!$C$3, INT((ROW()-1)/28), MOD(ROW()-1, 28))","v":254}]
[{"$f":"OFFSET(X0withPad!$A$1, INT((ROW()-1)/28), MOD(ROW()-1, 28))","v":0},{"$f":"OFFSET(X0withPad!$B$1, INT((ROW()-1)/28), MOD(ROW()-1, 28))","v":0},{"$f":"OFFSET(X0withPad!$C$1, INT((ROW()-1)/28), MOD(ROW()-1, 28))","v":0},{"$f":"OFFSET(X0withPad!$A$2, INT((ROW()-1)/28), MOD(ROW()-1, 28))","v":198},{"$f":"OFFSET(X0withPad!$B$2, INT((ROW()-1)/28), MOD(ROW()-1, 28))","v":198},{"$f":"OFFSET(X0withPad!$C$2, INT((ROW()-1)/28), MOD(ROW()-1, 28))","v":198},{"$f":"OFFSET(X0withPad!$A$3, INT((ROW()-1)/28), MOD(ROW()-1, 28))","v":225},{"$f":"OFFSET(X0withPad!$B$3, INT((ROW()-1)/28), MOD(ROW()-1, 28))","v":254},{"$f":"OFFSET(X0withPad!$C$3, INT((ROW()-1)/28), MOD(ROW()-1, 28))","v":254}]
[{"$f":"OFFSET(X0withPad!$A$1, INT((ROW()-1)/28), MOD(ROW()-1, 28))","v":0},{"$f":"OFFSET(X0withPad!$B$1, INT((ROW()-1)/28), MOD(ROW()-1, 28))","v":0},{"$f":"OFFSET(X0withPad!$C$1, INT((ROW()-1)/28), MOD(ROW()-1, 28))","v":0},{"$f":"OFFSET(X0withPad!$A$2, INT((ROW()-1)/28), MOD(ROW()-1, 28))","v":198},{"$f":"OFFSET(X0withPad!$B$2, INT((ROW()-1)/28), MOD(ROW()-1, 28))","v":198},{"$f":"OFFSET(X0withPad!$C$2, INT((ROW()-1)/28), MOD(ROW()-1, 28))","v":198},{"$f":"OFFSET(X0withPad!$A$3, INT((ROW()-1)/28), MOD(ROW()-1, 28))","v":254},{"$f":"OFFSET(X0withPad!$B$3, INT((ROW()-1)/28), MOD(ROW()-1, 28))","v":254},{"$f":"OFFSET(X0withPad!$C$3, INT((ROW()-1)/28), MOD(ROW()-1, 28))","v":254}]
[{"$f":"OFFSET(X0withPad!$A$1, INT((ROW()-1)/28), MOD(ROW()-1, 28))","v":0},{"$f":"OFFSET(X0withPad!$B$1, INT((ROW()-1)/28), MOD(ROW()-1, 28))","v":0},{"$f":"OFFSET(X0withPad!$C$1, INT((ROW()-1)/28), MOD(ROW()-1, 28))","v":0},{"$f":"OFFSET(X0withPad!$A$2, INT((ROW()-1)/28), MOD(ROW()-1, 28))","v":198},{"$f":"OFFSET(X0withPad!$B$2, INT((ROW()-1)/28), MOD(ROW()-1, 28))","v":198},{"$f":"OFFSET(X0withPad!$C$2, INT((ROW()-1)/28), MOD(ROW()-1, 28))","v":198},{"$f":"OFFSET(X0withPad!$A$3, INT((ROW()-1)/28), MOD(ROW()-1, 28))","v":254},{"$f":"OFFSET(X0withPad!$B$3, INT((ROW()-1)/28), MOD(ROW()-1, 28))","v":254},{"$f":"OFFSET(X0withPad!$C$3, INT((ROW()-1)/28), MOD(ROW()-1, 28))","v":250}]
[{"$f":"OFFSET(X0withPad!$A$1, INT((ROW()-1)/28), MOD(ROW()-1, 28))","v":0},{"$f":"OFFSET(X0withPad!$B$1, INT((ROW()-1)/28), MOD(ROW()-1, 28))","v":0},{"$f":"OFFSET(X0withPad!$C$1, INT((ROW()-1)/28), MOD(ROW()-1, 28))","v":0},{"$f":"OFFSET(X0withPad!$A$2, INT((ROW()-1)/28), MOD(ROW()-1, 28))","v":198},{"$f":"OFFSET(X0withPad!$B$2, INT((ROW()-1)/28), MOD(ROW()-1, 28))","v":198},{"$f":"OFFSET(X0withPad!$C$2, INT((ROW()-1)/28), MOD(ROW()-1, 28))","v":198},{"$f":"OFFSET(X0withPad!$A$3, INT((ROW()-1)/28), MOD(ROW()-1, 28))","v":254},{"$f":"OFFSET(X0withPad!$B$3, INT((ROW()-1)/28), MOD(ROW()-1, 28))","v":250},{"$f":"OFFSET(X0withPad!$C$3, INT((ROW()-1)/28), MOD(ROW()-1, 28))","v":229}]
[{"$f":"OFFSET(X0withPad!$A$1, INT((ROW()-1)/28), MOD(ROW()-1, 28))","v":0},{"$f":"OFFSET(X0withPad!$B$1, INT((ROW()-1)/28), MOD(ROW()-1, 28))","v":0},{"$f":"OFFSET(X0withPad!$C$1, INT((ROW()-1)/28), MOD(ROW()-1, 28))","v":0},{"$f":"OFFSET(X0withPad!$A$2, INT((ROW()-1)/28), MOD(ROW()-1, 28))","v":198},{"$f":"OFFSET(X0withPad!$B$2, INT((ROW()-1)/28), MOD(ROW()-1, 28))","v":198},{"$f":"OFFSET(X0withPad!$C$2, INT((ROW()-1)/28), MOD(ROW()-1, 28))","v":198},{"$f":"OFFSET(X0withPad!$A$3, INT((ROW()-1)/28), MOD(ROW()-1, 28))","v":250},{"$f":"OFFSET(X0withPad!$B$3, INT((ROW()-1)/28), MOD(ROW()-1, 28))","v":229},{"$f":"OFFSET(X0withPad!$C$3, INT((ROW()-1)/28), MOD(ROW()-1, 28))","v":254}]
[{"$f":"OFFSET(X0withPad!$A$1, INT((ROW()-1)/28), MOD(ROW()-1, 28))","v":0},{"$f":"OFFSET(X0withPad!$B$1, INT((ROW()-1)/28), MOD(ROW()-1, 28))","v":0},{"$f":"OFFSET(X0withPad!$C$1, INT((ROW()-1)/28), MOD(ROW()-1, 28))","v":0},{"$f":"OFFSET(X0withPad!$A$2, INT((ROW()-1)/28), MOD(ROW()-1, 28))","v":198},{"$f":"OFFSET(X0withPad!$B$2, INT((ROW()-1)/28), MOD(ROW()-1, 28))","v":198},{"$f":"OFFSET(X0withPad!$C$2, INT((ROW()-1)/28), MOD(ROW()-1, 28))","v":170},{"$f":"OFFSET(X0withPad!$A$3, INT((ROW()-1)/28), MOD(ROW()-1, 28))","v":229},{"$f":"OFFSET(X0withPad!$B$3, INT((ROW()-1)/28), MOD(ROW()-1, 28))","v":254},{"$f":"OFFSET(X0withPad!$C$3, INT((ROW()-1)/28), MOD(ROW()-1, 28))","v":254}]
[{"$f":"OFFSET(X0withPad!$A$1, INT((ROW()-1)/28), MOD(ROW()-1, 28))","v":0},{"$f":"OFFSET(X0withPad!$B$1, INT((ROW()-1)/28), MOD(ROW()-1, 28))","v":0},{"$f":"OFFSET(X0withPad!$C$1, INT((ROW()-1)/28), MOD(ROW()-1, 28))","v":0},{"$f":"OFFSET(X0withPad!$A$2, INT((ROW()-1)/28), MOD(ROW()-1, 28))","v":198},{"$f":"OFFSET(X0withPad!$B$2, INT((ROW()-1)/28), MOD(ROW()-1, 28))","v":170},{"$f":"OFFSET(X0withPad!$C$2, INT((ROW()-1)/28), MOD(ROW()-1, 28))","v":52},{"$f":"OFFSET(X0withPad!$A$3, INT((ROW()-1)/28), MOD(ROW()-1, 28))","v":254},{"$f":"OFFSET(X0withPad!$B$3, INT((ROW()-1)/28), MOD(ROW()-1, 28))","v":254},{"$f":"OFFSET(X0withPad!$C$3, INT((ROW()-1)/28), MOD(ROW()-1, 28))","v":140}]
[{"$f":"OFFSET(X0withPad!$A$1, INT((ROW()-1)/28), MOD(ROW()-1, 28))","v":0},{"$f":"OFFSET(X0withPad!$B$1, INT((ROW()-1)/28), MOD(ROW()-1, 28))","v":0},{"$f":"OFFSET(X0withPad!$C$1, INT((ROW()-1)/28), MOD(ROW()-1, 28))","v":0},{"$f":"OFFSET(X0withPad!$A$2, INT((ROW()-1)/28), MOD(ROW()-1, 28))","v":170},{"$f":"OFFSET(X0withPad!$B$2, INT((ROW()-1)/28), MOD(ROW()-1, 28))","v":52},{"$f":"OFFSET(X0withPad!$C$2, INT((ROW()-1)/28), MOD(ROW()-1, 28))","v":0},{"$f":"OFFSET(X0withPad!$A$3, INT((ROW()-1)/28), MOD(ROW()-1, 28))","v":254},{"$f":"OFFSET(X0withPad!$B$3, INT((ROW()-1)/28), MOD(ROW()-1, 28))","v":140},{"$f":"OFFSET(X0withPad!$C$3, INT((ROW()-1)/28), MOD(ROW()-1, 28))","v":0}]
[{"$f":"OFFSET(X0withPad!$A$1, INT((ROW()-1)/28), MOD(ROW()-1, 28))","v":0},{"$f":"OFFSET(X0withPad!$B$1, INT((ROW()-1)/28), MOD(ROW()-1, 28))","v":0},{"$f":"OFFSET(X0withPad!$C$1, INT((ROW()-1)/28), MOD(ROW()-1, 28))","v":0},{"$f":"OFFSET(X0withPad!$A$2, INT((ROW()-1)/28), MOD(ROW()-1, 28))","v":52},{"$f":"OFFSET(X0withPad!$B$2, INT((ROW()-1)/28), MOD(ROW()-1, 28))","v":0},{"$f":"OFFSET(X0withPad!$C$2, INT((ROW()-1)/28), MOD(ROW()-1, 28))","v":0},{"$f":"OFFSET(X0withPad!$A$3, INT((ROW()-1)/28), MOD(ROW()-1, 28))","v":140},{"$f":"OFFSET(X0withPad!$B$3, INT((ROW()-1)/28), MOD(ROW()-1, 28))","v":0},{"$f":"OFFSET(X0withPad!$C$3, INT((ROW()-1)/28), MOD(ROW()-1, 28))","v":0}]
[{"$f":"OFFSET(X0withPad!$A$1, INT((ROW()-1)/28), MOD(ROW()-1, 28))","v":0},{"$f":"OFFSET(X0withPad!$B$1, INT((ROW()-1)/28), MOD(ROW()-1, 28))","v":0},{"$f":"OFFSET(X0withPad!$C$1, INT((ROW()-1)/28), MOD(ROW()-1, 28))","v":0},{"$f":"OFFSET(X0withPad!$A$2, INT((ROW()-1)/28), MOD(ROW()-1, 28))","v":0},{"$f":"OFFSET(X0withPad!$B$2, INT((ROW()-1)/28), MOD(ROW()-1, 28))","v":0},{"$f":"OFFSET(X0withPad!$C$2, INT((ROW()-1)/28), MOD(ROW()-1, 28))","v":0},{"$f":"OFFSET(X0withPad!$A$3, INT((ROW()-1)/28), MOD(ROW()-1, 28))","v":0},{"$f":"OFFSET(X0withPad!$B$3, INT((ROW()-1)/28), MOD(ROW()-1, 28))","v":0},{"$f":"OFFSET(X0withPad!$C$3, INT((ROW()-1)/28), MOD(ROW()-1, 28))","v":0}]
[{"$f":"OFFSET(X0withPad!$A$1, INT((ROW()-1)/28), MOD(ROW()-1, 28))","v":0},{"$f":"OFFSET(X0withPad!$B$1, INT((ROW()-1)/28), MOD(ROW()-1, 28))","v":0},{"$f":"OFFSET(X0withPad!$C$1, INT((ROW()-1)/28), MOD(ROW()-1, 28))","v":0},{"$f":"OFFSET(X0withPad!$A$2, INT((ROW()-1)/28), MOD(ROW()-1, 28))","v":0},{"$f":"OFFSET(X0withPad!$B$2, INT((ROW()-1)/28), MOD(ROW()-1, 28))","v":0},{"$f":"OFFSET(X0withPad!$C$2, INT((ROW()-1)/28), MOD(ROW()-1, 28))","v":0},{"$f":"OFFSET(X0withPad!$A$3, INT((ROW()-1)/28), MOD(ROW()-1, 28))","v":0},{"$f":"OFFSET(X0withPad!$B$3, INT((ROW()-1)/28), MOD(ROW()-1, 28))","v":0},{"$f":"OFFSET(X0withPad!$C$3, INT((ROW()-1)/28), MOD(ROW()-1, 28))","v":0}]
[{"$f":"OFFSET(X0withPad!$A$1, INT((ROW()-1)/28), MOD(ROW()-1, 28))","v":0},{"$f":"OFFSET(X0withPad!$B$1, INT((ROW()-1)/28), MOD(ROW()-1, 28))","v":0},{"$f":"OFFSET(X0withPad!$C$1, INT((ROW()-1)/28), MOD(ROW()-1, 28))","v":0},{"$f":"OFFSET(X0withPad!$A$2, INT((ROW()-1)/28), MOD(ROW()-1, 28))","v":0},{"$f":"OFFSET(X0withPad!$B$2, INT((ROW()-1)/28), MOD(ROW()-1, 28))","v":0},{"$f":"OFFSET(X0withPad!$C$2, INT((ROW()-1)/28), MOD(ROW()-1, 28))","v":0},{"$f":"OFFSET(X0withPad!$A$3, INT((ROW()-1)/28), MOD(ROW()-1, 28))","v":0},{"$f":"OFFSET(X0withPad!$B$3, INT((ROW()-1)/28), MOD(ROW()-1, 28))","v":0},{"$f":"OFFSET(X0withPad!$C$3, INT((ROW()-1)/28), MOD(ROW()-1, 28))","v":0}]
[{"$f":"OFFSET(X0withPad!$A$1, INT((ROW()-1)/28), MOD(ROW()-1, 28))","v":0},{"$f":"OFFSET(X0withPad!$B$1, INT((ROW()-1)/28), MOD(ROW()-1, 28))","v":0},{"$f":"OFFSET(X0withPad!$C$1, INT((ROW()-1)/28), MOD(ROW()-1, 28))","v":0},{"$f":"OFFSET(X0withPad!$A$2, INT((ROW()-1)/28), MOD(ROW()-1, 28))","v":0},{"$f":"OFFSET(X0withPad!$B$2, INT((ROW()-1)/28), MOD(ROW()-1, 28))","v":0},{"$f":"OFFSET(X0withPad!$C$2, INT((ROW()-1)/28), MOD(ROW()-1, 28))","v":0},{"$f":"OFFSET(X0withPad!$A$3, INT((ROW()-1)/28), MOD(ROW()-1, 28))","v":0},{"$f":"OFFSET(X0withPad!$B$3, INT((ROW()-1)/28), MOD(ROW()-1, 28))","v":0},{"$f":"OFFSET(X0withPad!$C$3, INT((ROW()-1)/28), MOD(ROW()-1, 28))","v":0}]
[{"$f":"OFFSET(X0withPad!$A$1, INT((ROW()-1)/28), MOD(ROW()-1, 28))","v":0},{"$f":"OFFSET(X0withPad!$B$1, INT((ROW()-1)/28), MOD(ROW()-1, 28))","v":0},{"$f":"OFFSET(X0withPad!$C$1, INT((ROW()-1)/28), MOD(ROW()-1, 28))","v":0},{"$f":"OFFSET(X0withPad!$A$2, INT((ROW()-1)/28), MOD(ROW()-1, 28))","v":0},{"$f":"OFFSET(X0withPad!$B$2, INT((ROW()-1)/28), MOD(ROW()-1, 28))","v":0},{"$f":"OFFSET(X0withPad!$C$2, INT((ROW()-1)/28), MOD(ROW()-1, 28))","v":0},{"$f":"OFFSET(X0withPad!$A$3, INT((ROW()-1)/28), MOD(ROW()-1, 28))","v":0},{"$f":"OFFSET(X0withPad!$B$3, INT((ROW()-1)/28), MOD(ROW()-1, 28))","v":0},{"$f":"OFFSET(X0withPad!$C$3, INT((ROW()-1)/28), MOD(ROW()-1, 28))","v":0}]
[{"$f":"OFFSET(X0withPad!$A$1, INT((ROW()-1)/28), MOD(ROW()-1, 28))","v":0},{"$f":"OFFSET(X0withPad!$B$1, INT((ROW()-1)/28), MOD(ROW()-1, 28))","v":0},{"$f":"OFFSET(X0withPad!$C$1, INT((ROW()-1)/28), MOD(ROW()-1, 28))","v":0},{"$f":"OFFSET(X0withPad!$A$2, INT((ROW()-1)/28), MOD(ROW()-1, 28))","v":0},{"$f":"OFFSET(X0withPad!$B$2, INT((ROW()-1)/28), MOD(ROW()-1, 28))","v":0},{"$f":"OFFSET(X0withPad!$C$2, INT((ROW()-1)/28), MOD(ROW()-1, 28))","v":0},{"$f":"OFFSET(X0withPad!$A$3, INT((ROW()-1)/28), MOD(ROW()-1, 28))","v":0},{"$f":"OFFSET(X0withPad!$B$3, INT((ROW()-1)/28), MOD(ROW()-1, 28))","v":0},{"$f":"OFFSET(X0withPad!$C$3, INT((ROW()-1)/28), MOD(ROW()-1, 28))","v":0}]
[{"$f":"OFFSET(X0withPad!$A$1, INT((ROW()-1)/28), MOD(ROW()-1, 28))","v":0},{"$f":"OFFSET(X0withPad!$B$1, INT((ROW()-1)/28), MOD(ROW()-1, 28))","v":0},{"$f":"OFFSET(X0withPad!$C$1, INT((ROW()-1)/28), MOD(ROW()-1, 28))","v":0},{"$f":"OFFSET(X0withPad!$A$2, INT((ROW()-1)/28), MOD(ROW()-1, 28))","v":0},{"$f":"OFFSET(X0withPad!$B$2, INT((ROW()-1)/28), MOD(ROW()-1, 28))","v":0},{"$f":"OFFSET(X0withPad!$C$2, INT((ROW()-1)/28), MOD(ROW()-1, 28))","v":0},{"$f":"OFFSET(X0withPad!$A$3, INT((ROW()-1)/28), MOD(ROW()-1, 28))","v":0},{"$f":"OFFSET(X0withPad!$B$3, INT((ROW()-1)/28), MOD(ROW()-1, 28))","v":0},{"$f":"OFFSET(X0withPad!$C$3, INT((ROW()-1)/28), MOD(ROW()-1, 28))","v":0}]
[{"$f":"OFFSET(X0withPad!$A$1, INT((ROW()-1)/28), MOD(ROW()-1, 28))","v":0},{"$f":"OFFSET(X0withPad!$B$1, INT((ROW()-1)/28), MOD(ROW()-1, 28))","v":0},{"$f":"OFFSET(X0withPad!$C$1, INT((ROW()-1)/28), MOD(ROW()-1, 28))","v":0},{"$f":"OFFSET(X0withPad!$A$2, INT((ROW()-1)/28), MOD(ROW()-1, 28))","v":0},{"$f":"OFFSET(X0withPad!$B$2, INT((ROW()-1)/28), MOD(ROW()-1, 28))","v":0},{"$f":"OFFSET(X0withPad!$C$2, INT((ROW()-1)/28), MOD(ROW()-1, 28))","v":0},{"$f":"OFFSET(X0withPad!$A$3, INT((ROW()-1)/28), MOD(ROW()-1, 28))","v":0},{"$f":"OFFSET(X0withPad!$B$3, INT((ROW()-1)/28), MOD(ROW()-1, 28))","v":0},{"$f":"OFFSET(X0withPad!$C$3, INT((ROW()-1)/28), MOD(ROW()-1, 28))","v":0}]
[{"$f":"OFFSET(X0withPad!$A$1, INT((ROW()-1)/28), MOD(ROW()-1, 28))","v":0},{"$f":"OFFSET(X0withPad!$B$1, INT((ROW()-1)/28), MOD(ROW()-1, 28))","v":0},{"$f":"OFFSET(X0withPad!$C$1, INT((ROW()-1)/28), MOD(ROW()-1, 28))","v":0},{"$f":"OFFSET(X0withPad!$A$2, INT((ROW()-1)/28), MOD(ROW()-1, 28))","v":0},{"$f":"OFFSET(X0withPad!$B$2, INT((ROW()-1)/28), MOD(ROW()-1, 28))","v":0},{"$f":"OFFSET(X0withPad!$C$2, INT((ROW()-1)/28), MOD(ROW()-1, 28))","v":0},{"$f":"OFFSET(X0withPad!$A$3, INT((ROW()-1)/28), MOD(ROW()-1, 28))","v":0},{"$f":"OFFSET(X0withPad!$B$3, INT((ROW()-1)/28), MOD(ROW()-1, 28))","v":0},{"$f":"OFFSET(X0withPad!$C$3, INT((ROW()-1)/28), MOD(ROW()-1, 28))","v":0}]
[{"$f":"OFFSET(X0withPad!$A$1, INT((ROW()-1)/28), MOD(ROW()-1, 28))","v":0},{"$f":"OFFSET(X0withPad!$B$1, INT((ROW()-1)/28), MOD(ROW()-1, 28))","v":0},{"$f":"OFFSET(X0withPad!$C$1, INT((ROW()-1)/28), MOD(ROW()-1, 28))","v":0},{"$f":"OFFSET(X0withPad!$A$2, INT((ROW()-1)/28), MOD(ROW()-1, 28))","v":0},{"$f":"OFFSET(X0withPad!$B$2, INT((ROW()-1)/28), MOD(ROW()-1, 28))","v":0},{"$f":"OFFSET(X0withPad!$C$2, INT((ROW()-1)/28), MOD(ROW()-1, 28))","v":0},{"$f":"OFFSET(X0withPad!$A$3, INT((ROW()-1)/28), MOD(ROW()-1, 28))","v":0},{"$f":"OFFSET(X0withPad!$B$3, INT((ROW()-1)/28), MOD(ROW()-1, 28))","v":0},{"$f":"OFFSET(X0withPad!$C$3, INT((ROW()-1)/28), MOD(ROW()-1, 28))","v":0}]
[{"$f":"OFFSET(X0withPad!$A$1, INT((ROW()-1)/28), MOD(ROW()-1, 28))","v":0},{"$f":"OFFSET(X0withPad!$B$1, INT((ROW()-1)/28), MOD(ROW()-1, 28))","v":0},{"$f":"OFFSET(X0withPad!$C$1, INT((ROW()-1)/28), MOD(ROW()-1, 28))","v":222},{"$f":"OFFSET(X0withPad!$A$2, INT((ROW()-1)/28), MOD(ROW()-1, 28))","v":0},{"$f":"OFFSET(X0withPad!$B$2, INT((ROW()-1)/28), MOD(ROW()-1, 28))","v":0},{"$f":"OFFSET(X0withPad!$C$2, INT((ROW()-1)/28), MOD(ROW()-1, 28))","v":67},{"$f":"OFFSET(X0withPad!$A$3, INT((ROW()-1)/28), MOD(ROW()-1, 28))","v":0},{"$f":"OFFSET(X0withPad!$B$3, INT((ROW()-1)/28), MOD(ROW()-1, 28))","v":0},{"$f":"OFFSET(X0withPad!$C$3, INT((ROW()-1)/28), MOD(ROW()-1, 28))","v":0}]
[{"$f":"OFFSET(X0withPad!$A$1, INT((ROW()-1)/28), MOD(ROW()-1, 28))","v":0},{"$f":"OFFSET(X0withPad!$B$1, INT((ROW()-1)/28), MOD(ROW()-1, 28))","v":222},{"$f":"OFFSET(X0withPad!$C$1, INT((ROW()-1)/28), MOD(ROW()-1, 28))","v":254},{"$f":"OFFSET(X0withPad!$A$2, INT((ROW()-1)/28), MOD(ROW()-1, 28))","v":0},{"$f":"OFFSET(X0withPad!$B$2, INT((ROW()-1)/28), MOD(ROW()-1, 28))","v":67},{"$f":"OFFSET(X0withPad!$C$2, INT((ROW()-1)/28), MOD(ROW()-1, 28))","v":114},{"$f":"OFFSET(X0withPad!$A$3, INT((ROW()-1)/28), MOD(ROW()-1, 28))","v":0},{"$f":"OFFSET(X0withPad!$B$3, INT((ROW()-1)/28), MOD(ROW()-1, 28))","v":0},{"$f":"OFFSET(X0withPad!$C$3, INT((ROW()-1)/28), MOD(ROW()-1, 28))","v":0}]
[{"$f":"OFFSET(X0withPad!$A$1, INT((ROW()-1)/28), MOD(ROW()-1, 28))","v":222},{"$f":"OFFSET(X0withPad!$B$1, INT((ROW()-1)/28), MOD(ROW()-1, 28))","v":254},{"$f":"OFFSET(X0withPad!$C$1, INT((ROW()-1)/28), MOD(ROW()-1, 28))","v":254},{"$f":"OFFSET(X0withPad!$A$2, INT((ROW()-1)/28), MOD(ROW()-1, 28))","v":67},{"$f":"OFFSET(X0withPad!$B$2, INT((ROW()-1)/28), MOD(ROW()-1, 28))","v":114},{"$f":"OFFSET(X0withPad!$C$2, INT((ROW()-1)/28), MOD(ROW()-1, 28))","v":72},{"$f":"OFFSET(X0withPad!$A$3, INT((ROW()-1)/28), MOD(ROW()-1, 28))","v":0},{"$f":"OFFSET(X0withPad!$B$3, INT((ROW()-1)/28), MOD(ROW()-1, 28))","v":0},{"$f":"OFFSET(X0withPad!$C$3, INT((ROW()-1)/28), MOD(ROW()-1, 28))","v":0}]
[{"$f":"OFFSET(X0withPad!$A$1, INT((ROW()-1)/28), MOD(ROW()-1, 28))","v":254},{"$f":"OFFSET(X0withPad!$B$1, INT((ROW()-1)/28), MOD(ROW()-1, 28))","v":254},{"$f":"OFFSET(X0withPad!$C$1, INT((ROW()-1)/28), MOD(ROW()-1, 28))","v":254},{"$f":"OFFSET(X0withPad!$A$2, INT((ROW()-1)/28), MOD(ROW()-1, 28))","v":114},{"$f":"OFFSET(X0withPad!$B$2, INT((ROW()-1)/28), MOD(ROW()-1, 28))","v":72},{"$f":"OFFSET(X0withPad!$C$2, INT((ROW()-1)/28), MOD(ROW()-1, 28))","v":114},{"$f":"OFFSET(X0withPad!$A$3, INT((ROW()-1)/28), MOD(ROW()-1, 28))","v":0},{"$f":"OFFSET(X0withPad!$B$3, INT((ROW()-1)/28), MOD(ROW()-1, 28))","v":0},{"$f":"OFFSET(X0withPad!$C$3, INT((ROW()-1)/28), MOD(ROW()-1, 28))","v":0}]
[{"$f":"OFFSET(X0withPad!$A$1, INT((ROW()-1)/28), MOD(ROW()-1, 28))","v":254},{"$f":"OFFSET(X0withPad!$B$1, INT((ROW()-1)/28), MOD(ROW()-1, 28))","v":254},{"$f":"OFFSET(X0withPad!$C$1, INT((ROW()-1)/28), MOD(ROW()-1, 28))","v":254},{"$f":"OFFSET(X0withPad!$A$2, INT((ROW()-1)/28), MOD(ROW()-1, 28))","v":72},{"$f":"OFFSET(X0withPad!$B$2, INT((ROW()-1)/28), MOD(ROW()-1, 28))","v":114},{"$f":"OFFSET(X0withPad!$C$2, INT((ROW()-1)/28), MOD(ROW()-1, 28))","v":163},{"$f":"OFFSET(X0withPad!$A$3, INT((ROW()-1)/28), MOD(ROW()-1, 28))","v":0},{"$f":"OFFSET(X0withPad!$B$3, INT((ROW()-1)/28), MOD(ROW()-1, 28))","v":0},{"$f":"OFFSET(X0withPad!$C$3, INT((ROW()-1)/28), MOD(ROW()-1, 28))","v":0}]
[{"$f":"OFFSET(X0withPad!$A$1, INT((ROW()-1)/28), MOD(ROW()-1, 28))","v":254},{"$f":"OFFSET(X0withPad!$B$1, INT((ROW()-1)/28), MOD(ROW()-1, 28))","v":254},{"$f":"OFFSET(X0withPad!$C$1, INT((ROW()-1)/28), MOD(ROW()-1, 28))","v":241},{"$f":"OFFSET(X0withPad!$A$2, INT((ROW()-1)/28), MOD(ROW()-1, 28))","v":114},{"$f":"OFFSET(X0withPad!$B$2, INT((ROW()-1)/28), MOD(ROW()-1, 28))","v":163},{"$f":"OFFSET(X0withPad!$C$2, INT((ROW()-1)/28), MOD(ROW()-1, 28))","v":227},{"$f":"OFFSET(X0withPad!$A$3, INT((ROW()-1)/28), MOD(ROW()-1, 28))","v":0},{"$f":"OFFSET(X0withPad!$B$3, INT((ROW()-1)/28), MOD(ROW()-1, 28))","v":0},{"$f":"OFFSET(X0withPad!$C$3, INT((ROW()-1)/28), MOD(ROW()-1, 28))","v":17}]
[{"$f":"OFFSET(X0withPad!$A$1, INT((ROW()-1)/28), MOD(ROW()-1, 28))","v":254},{"$f":"OFFSET(X0withPad!$B$1, INT((ROW()-1)/28), MOD(ROW()-1, 28))","v":241},{"$f":"OFFSET(X0withPad!$C$1, INT((ROW()-1)/28), MOD(ROW()-1, 28))","v":198},{"$f":"OFFSET(X0withPad!$A$2, INT((ROW()-1)/28), MOD(ROW()-1, 28))","v":163},{"$f":"OFFSET(X0withPad!$B$2, INT((ROW()-1)/28), MOD(ROW()-1, 28))","v":227},{"$f":"OFFSET(X0withPad!$C$2, INT((ROW()-1)/28), MOD(ROW()-1, 28))","v":254},{"$f":"OFFSET(X0withPad!$A$3, INT((ROW()-1)/28), MOD(ROW()-1, 28))","v":0},{"$f":"OFFSET(X0withPad!$B$3, INT((ROW()-1)/28), MOD(ROW()-1, 28))","v":17},{"$f":"OFFSET(X0withPad!$C$3, INT((ROW()-1)/28), MOD(ROW()-1, 28))","v":66}]
[{"$f":"OFFSET(X0withPad!$A$1, INT((ROW()-1)/28), MOD(ROW()-1, 28))","v":241},{"$f":"OFFSET(X0withPad!$B$1, INT((ROW()-1)/28), MOD(ROW()-1, 28))","v":198},{"$f":"OFFSET(X0withPad!$C$1, INT((ROW()-1)/28), MOD(ROW()-1, 28))","v":198},{"$f":"OFFSET(X0withPad!$A$2, INT((ROW()-1)/28), MOD(ROW()-1, 28))","v":227},{"$f":"OFFSET(X0withPad!$B$2, INT((ROW()-1)/28), MOD(ROW()-1, 28))","v":254},{"$f":"OFFSET(X0withPad!$C$2, INT((ROW()-1)/28), MOD(ROW()-1, 28))","v":225},{"$f":"OFFSET(X0withPad!$A$3, INT((ROW()-1)/28), MOD(ROW()-1, 28))","v":17},{"$f":"OFFSET(X0withPad!$B$3, INT((ROW()-1)/28), MOD(ROW()-1, 28))","v":66},{"$f":"OFFSET(X0withPad!$C$3, INT((ROW()-1)/28), MOD(ROW()-1, 28))","v":14}]
[{"$f":"OFFSET(X0withPad!$A$1, INT((ROW()-1)/28), MOD(ROW()-1, 28))","v":198},{"$f":"OFFSET(X0withPad!$B$1, INT((ROW()-1)/28), MOD(ROW()-1, 28))","v":198},{"$f":"OFFSET(X0withPad!$C$1, INT((ROW()-1)/28), MOD(ROW()-1, 28))","v":198},{"$f":"OFFSET(X0withPad!$A$2, INT((ROW()-1)/28), MOD(ROW()-1, 28))","v":254},{"$f":"OFFSET(X0withPad!$B$2, INT((ROW()-1)/28), MOD(ROW()-1, 28))","v":225},{"$f":"OFFSET(X0withPad!$C$2, INT((ROW()-1)/28), MOD(ROW()-1, 28))","v":254},{"$f":"OFFSET(X0withPad!$A$3, INT((ROW()-1)/28), MOD(ROW()-1, 28))","v":66},{"$f":"OFFSET(X0withPad!$B$3, INT((ROW()-1)/28), MOD(ROW()-1, 28))","v":14},{"$f":"OFFSET(X0withPad!$C$3, INT((ROW()-1)/28), MOD(ROW()-1, 28))","v":67}]
[{"$f":"OFFSET(X0withPad!$A$1, INT((ROW()-1)/28), MOD(ROW()-1, 28))","v":198},{"$f":"OFFSET(X0withPad!$B$1, INT((ROW()-1)/28), MOD(ROW()-1, 28))","v":198},{"$f":"OFFSET(X0withPad!$C$1, INT((ROW()-1)/28), MOD(ROW()-1, 28))","v":198},{"$f":"OFFSET(X0withPad!$A$2, INT((ROW()-1)/28), MOD(ROW()-1, 28))","v":225},{"$f":"OFFSET(X0withPad!$B$2, INT((ROW()-1)/28), MOD(ROW()-1, 28))","v":254},{"$f":"OFFSET(X0withPad!$C$2, INT((ROW()-1)/28), MOD(ROW()-1, 28))","v":254},{"$f":"OFFSET(X0withPad!$A$3, INT((ROW()-1)/28), MOD(ROW()-1, 28))","v":14},{"$f":"OFFSET(X0withPad!$B$3, INT((ROW()-1)/28), MOD(ROW()-1, 28))","v":67},{"$f":"OFFSET(X0withPad!$C$3, INT((ROW()-1)/28), MOD(ROW()-1, 28))","v":67}]
[{"$f":"OFFSET(X0withPad!$A$1, INT((ROW()-1)/28), MOD(ROW()-1, 28))","v":198},{"$f":"OFFSET(X0withPad!$B$1, INT((ROW()-1)/28), MOD(ROW()-1, 28))","v":198},{"$f":"OFFSET(X0withPad!$C$1, INT((ROW()-1)/28), MOD(ROW()-1, 28))","v":198},{"$f":"OFFSET(X0withPad!$A$2, INT((ROW()-1)/28), MOD(ROW()-1, 28))","v":254},{"$f":"OFFSET(X0withPad!$B$2, INT((ROW()-1)/28), MOD(ROW()-1, 28))","v":254},{"$f":"OFFSET(X0withPad!$C$2, INT((ROW()-1)/28), MOD(ROW()-1, 28))","v":254},{"$f":"OFFSET(X0withPad!$A$3, INT((ROW()-1)/28), MOD(ROW()-1, 28))","v":67},{"$f":"OFFSET(X0withPad!$B$3, INT((ROW()-1)/28), MOD(ROW()-1, 28))","v":67},{"$f":"OFFSET(X0withPad!$C$3, INT((ROW()-1)/28), MOD(ROW()-1, 28))","v":67}]
[{"$f":"OFFSET(X0withPad!$A$1, INT((ROW()-1)/28), MOD(ROW()-1, 28))","v":198},{"$f":"OFFSET(X0withPad!$B$1, INT((ROW()-1)/28), MOD(ROW()-1, 28))","v":198},{"$f":"OFFSET(X0withPad!$C$1, INT((ROW()-1)/28), MOD(ROW()-1, 28))","v":198},{"$f":"OFFSET(X0withPad!$A$2, INT((ROW()-1)/28), MOD(ROW()-1, 28))","v":254},{"$f":"OFFSET(X0withPad!$B$2, INT((ROW()-1)/28), MOD(ROW()-1, 28))","v":254},{"$f":"OFFSET(X0withPad!$C$2, INT((ROW()-1)/28), MOD(ROW()-1, 28))","v":250},{"$f":"OFFSET(X0withPad!$A$3, INT((ROW()-1)/28), MOD(ROW()-1, 28))","v":67},{"$f":"OFFSET(X0withPad!$B$3, INT((ROW()-1)/28), MOD(ROW()-1, 28))","v":67},{"$f":"OFFSET(X0withPad!$C$3, INT((ROW()-1)/28), MOD(ROW()-1, 28))","v":59}]
[{"$f":"OFFSET(X0withPad!$A$1, INT((ROW()-1)/28), MOD(ROW()-1, 28))","v":198},{"$f":"OFFSET(X0withPad!$B$1, INT((ROW()-1)/28), MOD(ROW()-1, 28))","v":198},{"$f":"OFFSET(X0withPad!$C$1, INT((ROW()-1)/28), MOD(ROW()-1, 28))","v":198},{"$f":"OFFSET(X0withPad!$A$2, INT((ROW()-1)/28), MOD(ROW()-1, 28))","v":254},{"$f":"OFFSET(X0withPad!$B$2, INT((ROW()-1)/28), MOD(ROW()-1, 28))","v":250},{"$f":"OFFSET(X0withPad!$C$2, INT((ROW()-1)/28), MOD(ROW()-1, 28))","v":229},{"$f":"OFFSET(X0withPad!$A$3, INT((ROW()-1)/28), MOD(ROW()-1, 28))","v":67},{"$f":"OFFSET(X0withPad!$B$3, INT((ROW()-1)/28), MOD(ROW()-1, 28))","v":59},{"$f":"OFFSET(X0withPad!$C$3, INT((ROW()-1)/28), MOD(ROW()-1, 28))","v":21}]
[{"$f":"OFFSET(X0withPad!$A$1, INT((ROW()-1)/28), MOD(ROW()-1, 28))","v":198},{"$f":"OFFSET(X0withPad!$B$1, INT((ROW()-1)/28), MOD(ROW()-1, 28))","v":198},{"$f":"OFFSET(X0withPad!$C$1, INT((ROW()-1)/28), MOD(ROW()-1, 28))","v":198},{"$f":"OFFSET(X0withPad!$A$2, INT((ROW()-1)/28), MOD(ROW()-1, 28))","v":250},{"$f":"OFFSET(X0withPad!$B$2, INT((ROW()-1)/28), MOD(ROW()-1, 28))","v":229},{"$f":"OFFSET(X0withPad!$C$2, INT((ROW()-1)/28), MOD(ROW()-1, 28))","v":254},{"$f":"OFFSET(X0withPad!$A$3, INT((ROW()-1)/28), MOD(ROW()-1, 28))","v":59},{"$f":"OFFSET(X0withPad!$B$3, INT((ROW()-1)/28), MOD(ROW()-1, 28))","v":21},{"$f":"OFFSET(X0withPad!$C$3, INT((ROW()-1)/28), MOD(ROW()-1, 28))","v":236}]
[{"$f":"OFFSET(X0withPad!$A$1, INT((ROW()-1)/28), MOD(ROW()-1, 28))","v":198},{"$f":"OFFSET(X0withPad!$B$1, INT((ROW()-1)/28), MOD(ROW()-1, 28))","v":198},{"$f":"OFFSET(X0withPad!$C$1, INT((ROW()-1)/28), MOD(ROW()-1, 28))","v":170},{"$f":"OFFSET(X0withPad!$A$2, INT((ROW()-1)/28), MOD(ROW()-1, 28))","v":229},{"$f":"OFFSET(X0withPad!$B$2, INT((ROW()-1)/28), MOD(ROW()-1, 28))","v":254},{"$f":"OFFSET(X0withPad!$C$2, INT((ROW()-1)/28), MOD(ROW()-1, 28))","v":254},{"$f":"OFFSET(X0withPad!$A$3, INT((ROW()-1)/28), MOD(ROW()-1, 28))","v":21},{"$f":"OFFSET(X0withPad!$B$3, INT((ROW()-1)/28), MOD(ROW()-1, 28))","v":236},{"$f":"OFFSET(X0withPad!$C$3, INT((ROW()-1)/28), MOD(ROW()-1, 28))","v":254}]
[{"$f":"OFFSET(X0withPad!$A$1, INT((ROW()-1)/28), MOD(ROW()-1, 28))","v":198},{"$f":"OFFSET(X0withPad!$B$1, INT((ROW()-1)/28), MOD(ROW()-1, 28))","v":170},{"$f":"OFFSET(X0withPad!$C$1, INT((ROW()-1)/28), MOD(ROW()-1, 28))","v":52},{"$f":"OFFSET(X0withPad!$A$2, INT((ROW()-1)/28), MOD(ROW()-1, 28))","v":254},{"$f":"OFFSET(X0withPad!$B$2, INT((ROW()-1)/28), MOD(ROW()-1, 28))","v":254},{"$f":"OFFSET(X0withPad!$C$2, INT((ROW()-1)/28), MOD(ROW()-1, 28))","v":140},{"$f":"OFFSET(X0withPad!$A$3, INT((ROW()-1)/28), MOD(ROW()-1, 28))","v":236},{"$f":"OFFSET(X0withPad!$B$3, INT((ROW()-1)/28), MOD(ROW()-1, 28))","v":254},{"$f":"OFFSET(X0withPad!$C$3, INT((ROW()-1)/28), MOD(ROW()-1, 28))","v":106}]
[{"$f":"OFFSET(X0withPad!$A$1, INT((ROW()-1)/28), MOD(ROW()-1, 28))","v":170},{"$f":"OFFSET(X0withPad!$B$1, INT((ROW()-1)/28), MOD(ROW()-1, 28))","v":52},{"$f":"OFFSET(X0withPad!$C$1, INT((ROW()-1)/28), MOD(ROW()-1, 28))","v":0},{"$f":"OFFSET(X0withPad!$A$2, INT((ROW()-1)/28), MOD(ROW()-1, 28))","v":254},{"$f":"OFFSET(X0withPad!$B$2, INT((ROW()-1)/28), MOD(ROW()-1, 28))","v":140},{"$f":"OFFSET(X0withPad!$C$2, INT((ROW()-1)/28), MOD(ROW()-1, 28))","v":0},{"$f":"OFFSET(X0withPad!$A$3, INT((ROW()-1)/28), MOD(ROW()-1, 28))","v":254},{"$f":"OFFSET(X0withPad!$B$3, INT((ROW()-1)/28), MOD(ROW()-1, 28))","v":106},{"$f":"OFFSET(X0withPad!$C$3, INT((ROW()-1)/28), MOD(ROW()-1, 28))","v":0}]
[{"$f":"OFFSET(X0withPad!$A$1, INT((ROW()-1)/28), MOD(ROW()-1, 28))","v":52},{"$f":"OFFSET(X0withPad!$B$1, INT((ROW()-1)/28), MOD(ROW()-1, 28))","v":0},{"$f":"OFFSET(X0withPad!$C$1, INT((ROW()-1)/28), MOD(ROW()-1, 28))","v":0},{"$f":"OFFSET(X0withPad!$A$2, INT((ROW()-1)/28), MOD(ROW()-1, 28))","v":140},{"$f":"OFFSET(X0withPad!$B$2, INT((ROW()-1)/28), MOD(ROW()-1, 28))","v":0},{"$f":"OFFSET(X0withPad!$C$2, INT((ROW()-1)/28), MOD(ROW()-1, 28))","v":0},{"$f":"OFFSET(X0withPad!$A$3, INT((ROW()-1)/28), MOD(ROW()-1, 28))","v":106},{"$f":"OFFSET(X0withPad!$B$3, INT((ROW()-1)/28), MOD(ROW()-1, 28))","v":0},{"$f":"OFFSET(X0withPad!$C$3, INT((ROW()-1)/28), MOD(ROW()-1, 28))","v":0}]
[{"$f":"OFFSET(X0withPad!$A$1, INT((ROW()-1)/28), MOD(ROW()-1, 28))","v":0},{"$f":"OFFSET(X0withPad!$B$1, INT((ROW()-1)/28), MOD(ROW()-1, 28))","v":0},{"$f":"OFFSET(X0withPad!$C$1, INT((ROW()-1)/28), MOD(ROW()-1, 28))","v":0},{"$f":"OFFSET(X0withPad!$A$2, INT((ROW()-1)/28), MOD(ROW()-1, 28))","v":0},{"$f":"OFFSET(X0withPad!$B$2, INT((ROW()-1)/28), MOD(ROW()-1, 28))","v":0},{"$f":"OFFSET(X0withPad!$C$2, INT((ROW()-1)/28), MOD(ROW()-1, 28))","v":0},{"$f":"OFFSET(X0withPad!$A$3, INT((ROW()-1)/28), MOD(ROW()-1, 28))","v":0},{"$f":"OFFSET(X0withPad!$B$3, INT((ROW()-1)/28), MOD(ROW()-1, 28))","v":0},{"$f":"OFFSET(X0withPad!$C$3, INT((ROW()-1)/28), MOD(ROW()-1, 28))","v":0}]
[{"$f":"OFFSET(X0withPad!$A$1, INT((ROW()-1)/28), MOD(ROW()-1, 28))","v":0},{"$f":"OFFSET(X0withPad!$B$1, INT((ROW()-1)/28), MOD(ROW()-1, 28))","v":0},{"$f":"OFFSET(X0withPad!$C$1, INT((ROW()-1)/28), MOD(ROW()-1, 28))","v":0},{"$f":"OFFSET(X0withPad!$A$2, INT((ROW()-1)/28), MOD(ROW()-1, 28))","v":0},{"$f":"OFFSET(X0withPad!$B$2, INT((ROW()-1)/28), MOD(ROW()-1, 28))","v":0},{"$f":"OFFSET(X0withPad!$C$2, INT((ROW()-1)/28), MOD(ROW()-1, 28))","v":0},{"$f":"OFFSET(X0withPad!$A$3, INT((ROW()-1)/28), MOD(ROW()-1, 28))","v":0},{"$f":"OFFSET(X0withPad!$B$3, INT((ROW()-1)/28), MOD(ROW()-1, 28))","v":0},{"$f":"OFFSET(X0withPad!$C$3, INT((ROW()-1)/28), MOD(ROW()-1, 28))","v":0}]
[{"$f":"OFFSET(X0withPad!$A$1, INT((ROW()-1)/28), MOD(ROW()-1, 28))","v":0},{"$f":"OFFSET(X0withPad!$B$1, INT((ROW()-1)/28), MOD(ROW()-1, 28))","v":0},{"$f":"OFFSET(X0withPad!$C$1, INT((ROW()-1)/28), MOD(ROW()-1, 28))","v":0},{"$f":"OFFSET(X0withPad!$A$2, INT((ROW()-1)/28), MOD(ROW()-1, 28))","v":0},{"$f":"OFFSET(X0withPad!$B$2, INT((ROW()-1)/28), MOD(ROW()-1, 28))","v":0},{"$f":"OFFSET(X0withPad!$C$2, INT((ROW()-1)/28), MOD(ROW()-1, 28))","v":0},{"$f":"OFFSET(X0withPad!$A$3, INT((ROW()-1)/28), MOD(ROW()-1, 28))","v":0},{"$f":"OFFSET(X0withPad!$B$3, INT((ROW()-1)/28), MOD(ROW()-1, 28))","v":0},{"$f":"OFFSET(X0withPad!$C$3, INT((ROW()-1)/28), MOD(ROW()-1, 28))","v":0}]
[{"$f":"OFFSET(X0withPad!$A$1, INT((ROW()-1)/28), MOD(ROW()-1, 28))","v":0},{"$f":"OFFSET(X0withPad!$B$1, INT((ROW()-1)/28), MOD(ROW()-1, 28))","v":0},{"$f":"OFFSET(X0withPad!$C$1, INT((ROW()-1)/28), MOD(ROW()-1, 28))","v":0},{"$f":"OFFSET(X0withPad!$A$2, INT((ROW()-1)/28), MOD(ROW()-1, 28))","v":0},{"$f":"OFFSET(X0withPad!$B$2, INT((ROW()-1)/28), MOD(ROW()-1, 28))","v":0},{"$f":"OFFSET(X0withPad!$C$2, INT((ROW()-1)/28), MOD(ROW()-1, 28))","v":0},{"$f":"OFFSET(X0withPad!$A$3, INT((ROW()-1)/28), MOD(ROW()-1, 28))","v":0},{"$f":"OFFSET(X0withPad!$B$3, INT((ROW()-1)/28), MOD(ROW()-1, 28))","v":0},{"$f":"OFFSET(X0withPad!$C$3, INT((ROW()-1)/28), MOD(ROW()-1, 28))","v":0}]
[{"$f":"OFFSET(X0withPad!$A$1, INT((ROW()-1)/28), MOD(ROW()-1, 28))","v":0},{"$f":"OFFSET(X0withPad!$B$1, INT((ROW()-1)/28), MOD(ROW()-1, 28))","v":0},{"$f":"OFFSET(X0withPad!$C$1, INT((ROW()-1)/28), MOD(ROW()-1, 28))","v":0},{"$f":"OFFSET(X0withPad!$A$2, INT((ROW()-1)/28), MOD(ROW()-1, 28))","v":0},{"$f":"OFFSET(X0withPad!$B$2, INT((ROW()-1)/28), MOD(ROW()-1, 28))","v":0},{"$f":"OFFSET(X0withPad!$C$2, INT((ROW()-1)/28), MOD(ROW()-1, 28))","v":0},{"$f":"OFFSET(X0withPad!$A$3, INT((ROW()-1)/28), MOD(ROW()-1, 28))","v":0},{"$f":"OFFSET(X0withPad!$B$3, INT((ROW()-1)/28), MOD(ROW()-1, 28))","v":0},{"$f":"OFFSET(X0withPad!$C$3, INT((ROW()-1)/28), MOD(ROW()-1, 28))","v":0}]
[{"$f":"OFFSET(X0withPad!$A$1, INT((ROW()-1)/28), MOD(ROW()-1, 28))","v":0},{"$f":"OFFSET(X0withPad!$B$1, INT((ROW()-1)/28), MOD(ROW()-1, 28))","v":0},{"$f":"OFFSET(X0withPad!$C$1, INT((ROW()-1)/28), MOD(ROW()-1, 28))","v":0},{"$f":"OFFSET(X0withPad!$A$2, INT((ROW()-1)/28), MOD(ROW()-1, 28))","v":0},{"$f":"OFFSET(X0withPad!$B$2, INT((ROW()-1)/28), MOD(ROW()-1, 28))","v":0},{"$f":"OFFSET(X0withPad!$C$2, INT((ROW()-1)/28), MOD(ROW()-1, 28))","v":0},{"$f":"OFFSET(X0withPad!$A$3, INT((ROW()-1)/28), MOD(ROW()-1, 28))","v":0},{"$f":"OFFSET(X0withPad!$B$3, INT((ROW()-1)/28), MOD(ROW()-1, 28))","v":0},{"$f":"OFFSET(X0withPad!$C$3, INT((ROW()-1)/28), MOD(ROW()-1, 28))","v":0}]
[{"$f":"OFFSET(X0withPad!$A$1, INT((ROW()-1)/28), MOD(ROW()-1, 28))","v":0},{"$f":"OFFSET(X0withPad!$B$1, INT((ROW()-1)/28), MOD(ROW()-1, 28))","v":0},{"$f":"OFFSET(X0withPad!$C$1, INT((ROW()-1)/28), MOD(ROW()-1, 28))","v":0},{"$f":"OFFSET(X0withPad!$A$2, INT((ROW()-1)/28), MOD(ROW()-1, 28))","v":0},{"$f":"OFFSET(X0withPad!$B$2, INT((ROW()-1)/28), MOD(ROW()-1, 28))","v":0},{"$f":"OFFSET(X0withPad!$C$2, INT((ROW()-1)/28), MOD(ROW()-1, 28))","v":0},{"$f":"OFFSET(X0withPad!$A$3, INT((ROW()-1)/28), MOD(ROW()-1, 28))","v":0},{"$f":"OFFSET(X0withPad!$B$3, INT((ROW()-1)/28), MOD(ROW()-1, 28))","v":0},{"$f":"OFFSET(X0withPad!$C$3, INT((ROW()-1)/28), MOD(ROW()-1, 28))","v":0}]
[{"$f":"OFFSET(X0withPad!$A$1, INT((ROW()-1)/28), MOD(ROW()-1, 28))","v":0},{"$f":"OFFSET(X0withPad!$B$1, INT((ROW()-1)/28), MOD(ROW()-1, 28))","v":0},{"$f":"OFFSET(X0withPad!$C$1, INT((ROW()-1)/28), MOD(ROW()-1, 28))","v":0},{"$f":"OFFSET(X0withPad!$A$2, INT((ROW()-1)/28), MOD(ROW()-1, 28))","v":0},{"$f":"OFFSET(X0withPad!$B$2, INT((ROW()-1)/28), MOD(ROW()-1, 28))","v":0},{"$f":"OFFSET(X0withPad!$C$2, INT((ROW()-1)/28), MOD(ROW()-1, 28))","v":0},{"$f":"OFFSET(X0withPad!$A$3, INT((ROW()-1)/28), MOD(ROW()-1, 28))","v":0},{"$f":"OFFSET(X0withPad!$B$3, INT((ROW()-1)/28), MOD(ROW()-1, 28))","v":0},{"$f":"OFFSET(X0withPad!$C$3, INT((ROW()-1)/28), MOD(ROW()-1, 28))","v":0}]
[{"$f":"OFFSET(X0withPad!$A$1, INT((ROW()-1)/28), MOD(ROW()-1, 28))","v":0},{"$f":"OFFSET(X0withPad!$B$1, INT((ROW()-1)/28), MOD(ROW()-1, 28))","v":0},{"$f":"OFFSET(X0withPad!$C$1, INT((ROW()-1)/28), MOD(ROW()-1, 28))","v":0},{"$f":"OFFSET(X0withPad!$A$2, INT((ROW()-1)/28), MOD(ROW()-1, 28))","v":0},{"$f":"OFFSET(X0withPad!$B$2, INT((ROW()-1)/28), MOD(ROW()-1, 28))","v":0},{"$f":"OFFSET(X0withPad!$C$2, INT((ROW()-1)/28), MOD(ROW()-1, 28))","v":0},{"$f":"OFFSET(X0withPad!$A$3, INT((ROW()-1)/28), MOD(ROW()-1, 28))","v":0},{"$f":"OFFSET(X0withPad!$B$3, INT((ROW()-1)/28), MOD(ROW()-1, 28))","v":0},{"$f":"OFFSET(X0withPad!$C$3, INT((ROW()-1)/28), MOD(ROW()-1, 28))","v":0}]
[{"$f":"OFFSET(X0withPad!$A$1, INT((ROW()-1)/28), MOD(ROW()-1, 28))","v":0},{"$f":"OFFSET(X0withPad!$B$1, INT((ROW()-1)/28), MOD(ROW()-1, 28))","v":0},{"$f":"OFFSET(X0withPad!$C$1, INT((ROW()-1)/28), MOD(ROW()-1, 28))","v":0},{"$f":"OFFSET(X0withPad!$A$2, INT((ROW()-1)/28), MOD(ROW()-1, 28))","v":0},{"$f":"OFFSET(X0withPad!$B$2, INT((ROW()-1)/28), MOD(ROW()-1, 28))","v":0},{"$f":"OFFSET(X0withPad!$C$2, INT((ROW()-1)/28), MOD(ROW()-1, 28))","v":0},{"$f":"OFFSET(X0withPad!$A$3, INT((ROW()-1)/28), MOD(ROW()-1, 28))","v":0},{"$f":"OFFSET(X0withPad!$B$3, INT((ROW()-1)/28), MOD(ROW()-1, 28))","v":0},{"$f":"OFFSET(X0withPad!$C$3, INT((ROW()-1)/28), MOD(ROW()-1, 28))","v":0}]
[{"$f":"OFFSET(X0withPad!$A$1, INT((ROW()-1)/28), MOD(ROW()-1, 28))","v":0},{"$f":"OFFSET(X0withPad!$B$1, INT((ROW()-1)/28), MOD(ROW()-1, 28))","v":0},{"$f":"OFFSET(X0withPad!$C$1, INT((ROW()-1)/28), MOD(ROW()-1, 28))","v":67},{"$f":"OFFSET(X0withPad!$A$2, INT((ROW()-1)/28), MOD(ROW()-1, 28))","v":0},{"$f":"OFFSET(X0withPad!$B$2, INT((ROW()-1)/28), MOD(ROW()-1, 28))","v":0},{"$f":"OFFSET(X0withPad!$C$2, INT((ROW()-1)/28), MOD(ROW()-1, 28))","v":0},{"$f":"OFFSET(X0withPad!$A$3, INT((ROW()-1)/28), MOD(ROW()-1, 28))","v":0},{"$f":"OFFSET(X0withPad!$B$3, INT((ROW()-1)/28), MOD(ROW()-1, 28))","v":0},{"$f":"OFFSET(X0withPad!$C$3, INT((ROW()-1)/28), MOD(ROW()-1, 28))","v":0}]
[{"$f":"OFFSET(X0withPad!$A$1, INT((ROW()-1)/28), MOD(ROW()-1, 28))","v":0},{"$f":"OFFSET(X0withPad!$B$1, INT((ROW()-1)/28), MOD(ROW()-1, 28))","v":67},{"$f":"OFFSET(X0withPad!$C$1, INT((ROW()-1)/28), MOD(ROW()-1, 28))","v":114},{"$f":"OFFSET(X0withPad!$A$2, INT((ROW()-1)/28), MOD(ROW()-1, 28))","v":0},{"$f":"OFFSET(X0withPad!$B$2, INT((ROW()-1)/28), MOD(ROW()-1, 28))","v":0},{"$f":"OFFSET(X0withPad!$C$2, INT((ROW()-1)/28), MOD(ROW()-1, 28))","v":0},{"$f":"OFFSET(X0withPad!$A$3, INT((ROW()-1)/28), MOD(ROW()-1, 28))","v":0},{"$f":"OFFSET(X0withPad!$B$3, INT((ROW()-1)/28), MOD(ROW()-1, 28))","v":0},{"$f":"OFFSET(X0withPad!$C$3, INT((ROW()-1)/28), MOD(ROW()-1, 28))","v":0}]
[{"$f":"OFFSET(X0withPad!$A$1, INT((ROW()-1)/28), MOD(ROW()-1, 28))","v":67},{"$f":"OFFSET(X0withPad!$B$1, INT((ROW()-1)/28), MOD(ROW()-1, 28))","v":114},{"$f":"OFFSET(X0withPad!$C$1, INT((ROW()-1)/28), MOD(ROW()-1, 28))","v":72},{"$f":"OFFSET(X0withPad!$A$2, INT((ROW()-1)/28), MOD(ROW()-1, 28))","v":0},{"$f":"OFFSET(X0withPad!$B$2, INT((ROW()-1)/28), MOD(ROW()-1, 28))","v":0},{"$f":"OFFSET(X0withPad!$C$2, INT((ROW()-1)/28), MOD(ROW()-1, 28))","v":0},{"$f":"OFFSET(X0withPad!$A$3, INT((ROW()-1)/28), MOD(ROW()-1, 28))","v":0},{"$f":"OFFSET(X0withPad!$B$3, INT((ROW()-1)/28), MOD(ROW()-1, 28))","v":0},{"$f":"OFFSET(X0withPad!$C$3, INT((ROW()-1)/28), MOD(ROW()-1, 28))","v":0}]
[{"$f":"OFFSET(X0withPad!$A$1, INT((ROW()-1)/28), MOD(ROW()-1, 28))","v":114},{"$f":"OFFSET(X0withPad!$B$1, INT((ROW()-1)/28), MOD(ROW()-1, 28))","v":72},{"$f":"OFFSET(X0withPad!$C$1, INT((ROW()-1)/28), MOD(ROW()-1, 28))","v":114},{"$f":"OFFSET(X0withPad!$A$2, INT((ROW()-1)/28), MOD(ROW()-1, 28))","v":0},{"$f":"OFFSET(X0withPad!$B$2, INT((ROW()-1)/28), MOD(ROW()-1, 28))","v":0},{"$f":"OFFSET(X0withPad!$C$2, INT((ROW()-1)/28), MOD(ROW()-1, 28))","v":0},{"$f":"OFFSET(X0withPad!$A$3, INT((ROW()-1)/28), MOD(ROW()-1, 28))","v":0},{"$f":"OFFSET(X0withPad!$B$3, INT((ROW()-1)/28), MOD(ROW()-1, 28))","v":0},{"$f":"OFFSET(X0withPad!$C$3, INT((ROW()-1)/28), MOD(ROW()-1, 28))","v":0}]
[{"$f":"OFFSET(X0withPad!$A$1, INT((ROW()-1)/28), MOD(ROW()-1, 28))","v":72},{"$f":"OFFSET(X0withPad!$B$1, INT((ROW()-1)/28), MOD(ROW()-1, 28))","v":114},{"$f":"OFFSET(X0withPad!$C$1, INT((ROW()-1)/28), MOD(ROW()-1, 28))","v":163},{"$f":"OFFSET(X0withPad!$A$2, INT((ROW()-1)/28), MOD(ROW()-1, 28))","v":0},{"$f":"OFFSET(X0withPad!$B$2, INT((ROW()-1)/28), MOD(ROW()-1, 28))","v":0},{"$f":"OFFSET(X0withPad!$C$2, INT((ROW()-1)/28), MOD(ROW()-1, 28))","v":0},{"$f":"OFFSET(X0withPad!$A$3, INT((ROW()-1)/28), MOD(ROW()-1, 28))","v":0},{"$f":"OFFSET(X0withPad!$B$3, INT((ROW()-1)/28), MOD(ROW()-1, 28))","v":0},{"$f":"OFFSET(X0withPad!$C$3, INT((ROW()-1)/28), MOD(ROW()-1, 28))","v":0}]
[{"$f":"OFFSET(X0withPad!$A$1, INT((ROW()-1)/28), MOD(ROW()-1, 28))","v":114},{"$f":"OFFSET(X0withPad!$B$1, INT((ROW()-1)/28), MOD(ROW()-1, 28))","v":163},{"$f":"OFFSET(X0withPad!$C$1, INT((ROW()-1)/28), MOD(ROW()-1, 28))","v":227},{"$f":"OFFSET(X0withPad!$A$2, INT((ROW()-1)/28), MOD(ROW()-1, 28))","v":0},{"$f":"OFFSET(X0withPad!$B$2, INT((ROW()-1)/28), MOD(ROW()-1, 28))","v":0},{"$f":"OFFSET(X0withPad!$C$2, INT((ROW()-1)/28), MOD(ROW()-1, 28))","v":17},{"$f":"OFFSET(X0withPad!$A$3, INT((ROW()-1)/28), MOD(ROW()-1, 28))","v":0},{"$f":"OFFSET(X0withPad!$B$3, INT((ROW()-1)/28), MOD(ROW()-1, 28))","v":0},{"$f":"OFFSET(X0withPad!$C$3, INT((ROW()-1)/28), MOD(ROW()-1, 28))","v":0}]
[{"$f":"OFFSET(X0withPad!$A$1, INT((ROW()-1)/28), MOD(ROW()-1, 28))","v":163},{"$f":"OFFSET(X0withPad!$B$1, INT((ROW()-1)/28), MOD(ROW()-1, 28))","v":227},{"$f":"OFFSET(X0withPad!$C$1, INT((ROW()-1)/28), MOD(ROW()-1, 28))","v":254},{"$f":"OFFSET(X0withPad!$A$2, INT((ROW()-1)/28), MOD(ROW()-1, 28))","v":0},{"$f":"OFFSET(X0withPad!$B$2, INT((ROW()-1)/28), MOD(ROW()-1, 28))","v":17},{"$f":"OFFSET(X0withPad!$C$2, INT((ROW()-1)/28), MOD(ROW()-1, 28))","v":66},{"$f":"OFFSET(X0withPad!$A$3, INT((ROW()-1)/28), MOD(ROW()-1, 28))","v":0},{"$f":"OFFSET(X0withPad!$B$3, INT((ROW()-1)/28), MOD(ROW()-1, 28))","v":0},{"$f":"OFFSET(X0withPad!$C$3, INT((ROW()-1)/28), MOD(ROW()-1, 28))","v":0}]
[{"$f":"OFFSET(X0withPad!$A$1, INT((ROW()-1)/28), MOD(ROW()-1, 28))","v":227},{"$f":"OFFSET(X0withPad!$B$1, INT((ROW()-1)/28), MOD(ROW()-1, 28))","v":254},{"$f":"OFFSET(X0withPad!$C$1, INT((ROW()-1)/28), MOD(ROW()-1, 28))","v":225},{"$f":"OFFSET(X0withPad!$A$2, INT((ROW()-1)/28), MOD(ROW()-1, 28))","v":17},{"$f":"OFFSET(X0withPad!$B$2, INT((ROW()-1)/28), MOD(ROW()-1, 28))","v":66},{"$f":"OFFSET(X0withPad!$C$2, INT((ROW()-1)/28), MOD(ROW()-1, 28))","v":14},{"$f":"OFFSET(X0withPad!$A$3, INT((ROW()-1)/28), MOD(ROW()-1, 28))","v":0},{"$f":"OFFSET(X0withPad!$B$3, INT((ROW()-1)/28), MOD(ROW()-1, 28))","v":0},{"$f":"OFFSET(X0withPad!$C$3, INT((ROW()-1)/28), MOD(ROW()-1, 28))","v":0}]
[{"$f":"OFFSET(X0withPad!$A$1, INT((ROW()-1)/28), MOD(ROW()-1, 28))","v":254},{"$f":"OFFSET(X0withPad!$B$1, INT((ROW()-1)/28), MOD(ROW()-1, 28))","v":225},{"$f":"OFFSET(X0withPad!$C$1, INT((ROW()-1)/28), MOD(ROW()-1, 28))","v":254},{"$f":"OFFSET(X0withPad!$A$2, INT((ROW()-1)/28), MOD(ROW()-1, 28))","v":66},{"$f":"OFFSET(X0withPad!$B$2, INT((ROW()-1)/28), MOD(ROW()-1, 28))","v":14},{"$f":"OFFSET(X0withPad!$C$2, INT((ROW()-1)/28), MOD(ROW()-1, 28))","v":67},{"$f":"OFFSET(X0withPad!$A$3, INT((ROW()-1)/28), MOD(ROW()-1, 28))","v":0},{"$f":"OFFSET(X0withPad!$B$3, INT((ROW()-1)/28), MOD(ROW()-1, 28))","v":0},{"$f":"OFFSET(X0withPad!$C$3, INT((ROW()-1)/28), MOD(ROW()-1, 28))","v":0}]
[{"$f":"OFFSET(X0withPad!$A$1, INT((ROW()-1)/28), MOD(ROW()-1, 28))","v":225},{"$f":"OFFSET(X0withPad!$B$1, INT((ROW()-1)/28), MOD(ROW()-1, 28))","v":254},{"$f":"OFFSET(X0withPad!$C$1, INT((ROW()-1)/28), MOD(ROW()-1, 28))","v":254},{"$f":"OFFSET(X0withPad!$A$2, INT((ROW()-1)/28), MOD(ROW()-1, 28))","v":14},{"$f":"OFFSET(X0withPad!$B$2, INT((ROW()-1)/28), MOD(ROW()-1, 28))","v":67},{"$f":"OFFSET(X0withPad!$C$2, INT((ROW()-1)/28), MOD(ROW()-1, 28))","v":67},{"$f":"OFFSET(X0withPad!$A$3, INT((ROW()-1)/28), MOD(ROW()-1, 28))","v":0},{"$f":"OFFSET(X0withPad!$B$3, INT((ROW()-1)/28), MOD(ROW()-1, 28))","v":0},{"$f":"OFFSET(X0withPad!$C$3, INT((ROW()-1)/28), MOD(ROW()-1, 28))","v":0}]
[{"$f":"OFFSET(X0withPad!$A$1, INT((ROW()-1)/28), MOD(ROW()-1, 28))","v":254},{"$f":"OFFSET(X0withPad!$B$1, INT((ROW()-1)/28), MOD(ROW()-1, 28))","v":254},{"$f":"OFFSET(X0withPad!$C$1, INT((ROW()-1)/28), MOD(ROW()-1, 28))","v":254},{"$f":"OFFSET(X0withPad!$A$2, INT((ROW()-1)/28), MOD(ROW()-1, 28))","v":67},{"$f":"OFFSET(X0withPad!$B$2, INT((ROW()-1)/28), MOD(ROW()-1, 28))","v":67},{"$f":"OFFSET(X0withPad!$C$2, INT((ROW()-1)/28), MOD(ROW()-1, 28))","v":67},{"$f":"OFFSET(X0withPad!$A$3, INT((ROW()-1)/28), MOD(ROW()-1, 28))","v":0},{"$f":"OFFSET(X0withPad!$B$3, INT((ROW()-1)/28), MOD(ROW()-1, 28))","v":0},{"$f":"OFFSET(X0withPad!$C$3, INT((ROW()-1)/28), MOD(ROW()-1, 28))","v":0}]
[{"$f":"OFFSET(X0withPad!$A$1, INT((ROW()-1)/28), MOD(ROW()-1, 28))","v":254},{"$f":"OFFSET(X0withPad!$B$1, INT((ROW()-1)/28), MOD(ROW()-1, 28))","v":254},{"$f":"OFFSET(X0withPad!$C$1, INT((ROW()-1)/28), MOD(ROW()-1, 28))","v":250},{"$f":"OFFSET(X0withPad!$A$2, INT((ROW()-1)/28), MOD(ROW()-1, 28))","v":67},{"$f":"OFFSET(X0withPad!$B$2, INT((ROW()-1)/28), MOD(ROW()-1, 28))","v":67},{"$f":"OFFSET(X0withPad!$C$2, INT((ROW()-1)/28), MOD(ROW()-1, 28))","v":59},{"$f":"OFFSET(X0withPad!$A$3, INT((ROW()-1)/28), MOD(ROW()-1, 28))","v":0},{"$f":"OFFSET(X0withPad!$B$3, INT((ROW()-1)/28), MOD(ROW()-1, 28))","v":0},{"$f":"OFFSET(X0withPad!$C$3, INT((ROW()-1)/28), MOD(ROW()-1, 28))","v":0}]
[{"$f":"OFFSET(X0withPad!$A$1, INT((ROW()-1)/28), MOD(ROW()-1, 28))","v":254},{"$f":"OFFSET(X0withPad!$B$1, INT((ROW()-1)/28), MOD(ROW()-1, 28))","v":250},{"$f":"OFFSET(X0withPad!$C$1, INT((ROW()-1)/28), MOD(ROW()-1, 28))","v":229},{"$f":"OFFSET(X0withPad!$A$2, INT((ROW()-1)/28), MOD(ROW()-1, 28))","v":67},{"$f":"OFFSET(X0withPad!$B$2, INT((ROW()-1)/28), MOD(ROW()-1, 28))","v":59},{"$f":"OFFSET(X0withPad!$C$2, INT((ROW()-1)/28), MOD(ROW()-1, 28))","v":21},{"$f":"OFFSET(X0withPad!$A$3, INT((ROW()-1)/28), MOD(ROW()-1, 28))","v":0},{"$f":"OFFSET(X0withPad!$B$3, INT((ROW()-1)/28), MOD(ROW()-1, 28))","v":0},{"$f":"OFFSET(X0withPad!$C$3, INT((ROW()-1)/28), MOD(ROW()-1, 28))","v":83}]
[{"$f":"OFFSET(X0withPad!$A$1, INT((ROW()-1)/28), MOD(ROW()-1, 28))","v":250},{"$f":"OFFSET(X0withPad!$B$1, INT((ROW()-1)/28), MOD(ROW()-1, 28))","v":229},{"$f":"OFFSET(X0withPad!$C$1, INT((ROW()-1)/28), MOD(ROW()-1, 28))","v":254},{"$f":"OFFSET(X0withPad!$A$2, INT((ROW()-1)/28), MOD(ROW()-1, 28))","v":59},{"$f":"OFFSET(X0withPad!$B$2, INT((ROW()-1)/28), MOD(ROW()-1, 28))","v":21},{"$f":"OFFSET(X0withPad!$C$2, INT((ROW()-1)/28), MOD(ROW()-1, 28))","v":236},{"$f":"OFFSET(X0withPad!$A$3, INT((ROW()-1)/28), MOD(ROW()-1, 28))","v":0},{"$f":"OFFSET(X0withPad!$B$3, INT((ROW()-1)/28), MOD(ROW()-1, 28))","v":83},{"$f":"OFFSET(X0withPad!$C$3, INT((ROW()-1)/28), MOD(ROW()-1, 28))","v":253}]
[{"$f":"OFFSET(X0withPad!$A$1, INT((ROW()-1)/28), MOD(ROW()-1, 28))","v":229},{"$f":"OFFSET(X0withPad!$B$1, INT((ROW()-1)/28), MOD(ROW()-1, 28))","v":254},{"$f":"OFFSET(X0withPad!$C$1, INT((ROW()-1)/28), MOD(ROW()-1, 28))","v":254},{"$f":"OFFSET(X0withPad!$A$2, INT((ROW()-1)/28), MOD(ROW()-1, 28))","v":21},{"$f":"OFFSET(X0withPad!$B$2, INT((ROW()-1)/28), MOD(ROW()-1, 28))","v":236},{"$f":"OFFSET(X0withPad!$C$2, INT((ROW()-1)/28), MOD(ROW()-1, 28))","v":254},{"$f":"OFFSET(X0withPad!$A$3, INT((ROW()-1)/28), MOD(ROW()-1, 28))","v":83},{"$f":"OFFSET(X0withPad!$B$3, INT((ROW()-1)/28), MOD(ROW()-1, 28))","v":253},{"$f":"OFFSET(X0withPad!$C$3, INT((ROW()-1)/28), MOD(ROW()-1, 28))","v":209}]
[{"$f":"OFFSET(X0withPad!$A$1, INT((ROW()-1)/28), MOD(ROW()-1, 28))","v":254},{"$f":"OFFSET(X0withPad!$B$1, INT((ROW()-1)/28), MOD(ROW()-1, 28))","v":254},{"$f":"OFFSET(X0withPad!$C$1, INT((ROW()-1)/28), MOD(ROW()-1, 28))","v":140},{"$f":"OFFSET(X0withPad!$A$2, INT((ROW()-1)/28), MOD(ROW()-1, 28))","v":236},{"$f":"OFFSET(X0withPad!$B$2, INT((ROW()-1)/28), MOD(ROW()-1, 28))","v":254},{"$f":"OFFSET(X0withPad!$C$2, INT((ROW()-1)/28), MOD(ROW()-1, 28))","v":106},{"$f":"OFFSET(X0withPad!$A$3, INT((ROW()-1)/28), MOD(ROW()-1, 28))","v":253},{"$f":"OFFSET(X0withPad!$B$3, INT((ROW()-1)/28), MOD(ROW()-1, 28))","v":209},{"$f":"OFFSET(X0withPad!$C$3, INT((ROW()-1)/28), MOD(ROW()-1, 28))","v":18}]
[{"$f":"OFFSET(X0withPad!$A$1, INT((ROW()-1)/28), MOD(ROW()-1, 28))","v":254},{"$f":"OFFSET(X0withPad!$B$1, INT((ROW()-1)/28), MOD(ROW()-1, 28))","v":140},{"$f":"OFFSET(X0withPad!$C$1, INT((ROW()-1)/28), MOD(ROW()-1, 28))","v":0},{"$f":"OFFSET(X0withPad!$A$2, INT((ROW()-1)/28), MOD(ROW()-1, 28))","v":254},{"$f":"OFFSET(X0withPad!$B$2, INT((ROW()-1)/28), MOD(ROW()-1, 28))","v":106},{"$f":"OFFSET(X0withPad!$C$2, INT((ROW()-1)/28), MOD(ROW()-1, 28))","v":0},{"$f":"OFFSET(X0withPad!$A$3, INT((ROW()-1)/28), MOD(ROW()-1, 28))","v":209},{"$f":"OFFSET(X0withPad!$B$3, INT((ROW()-1)/28), MOD(ROW()-1, 28))","v":18},{"$f":"OFFSET(X0withPad!$C$3, INT((ROW()-1)/28), MOD(ROW()-1, 28))","v":0}]
[{"$f":"OFFSET(X0withPad!$A$1, INT((ROW()-1)/28), MOD(ROW()-1, 28))","v":140},{"$f":"OFFSET(X0withPad!$B$1, INT((ROW()-1)/28), MOD(ROW()-1, 28))","v":0},{"$f":"OFFSET(X0withPad!$C$1, INT((ROW()-1)/28), MOD(ROW()-1, 28))","v":0},{"$f":"OFFSET(X0withPad!$A$2, INT((ROW()-1)/28), MOD(ROW()-1, 28))","v":106},{"$f":"OFFSET(X0withPad!$B$2, INT((ROW()-1)/28), MOD(ROW()-1, 28))","v":0},{"$f":"OFFSET(X0withPad!$C$2, INT((ROW()-1)/28), MOD(ROW()-1, 28))","v":0},{"$f":"OFFSET(X0withPad!$A$3, INT((ROW()-1)/28), MOD(ROW()-1, 28))","v":18},{"$f":"OFFSET(X0withPad!$B$3, INT((ROW()-1)/28), MOD(ROW()-1, 28))","v":0},{"$f":"OFFSET(X0withPad!$C$3, INT((ROW()-1)/28), MOD(ROW()-1, 28))","v":0}]
[{"$f":"OFFSET(X0withPad!$A$1, INT((ROW()-1)/28), MOD(ROW()-1, 28))","v":0},{"$f":"OFFSET(X0withPad!$B$1, INT((ROW()-1)/28), MOD(ROW()-1, 28))","v":0},{"$f":"OFFSET(X0withPad!$C$1, INT((ROW()-1)/28), MOD(ROW()-1, 28))","v":0},{"$f":"OFFSET(X0withPad!$A$2, INT((ROW()-1)/28), MOD(ROW()-1, 28))","v":0},{"$f":"OFFSET(X0withPad!$B$2, INT((ROW()-1)/28), MOD(ROW()-1, 28))","v":0},{"$f":"OFFSET(X0withPad!$C$2, INT((ROW()-1)/28), MOD(ROW()-1, 28))","v":0},{"$f":"OFFSET(X0withPad!$A$3, INT((ROW()-1)/28), MOD(ROW()-1, 28))","v":0},{"$f":"OFFSET(X0withPad!$B$3, INT((ROW()-1)/28), MOD(ROW()-1, 28))","v":0},{"$f":"OFFSET(X0withPad!$C$3, INT((ROW()-1)/28), MOD(ROW()-1, 28))","v":0}]
[{"$f":"OFFSET(X0withPad!$A$1, INT((ROW()-1)/28), MOD(ROW()-1, 28))","v":0},{"$f":"OFFSET(X0withPad!$B$1, INT((ROW()-1)/28), MOD(ROW()-1, 28))","v":0},{"$f":"OFFSET(X0withPad!$C$1, INT((ROW()-1)/28), MOD(ROW()-1, 28))","v":0},{"$f":"OFFSET(X0withPad!$A$2, INT((ROW()-1)/28), MOD(ROW()-1, 28))","v":0},{"$f":"OFFSET(X0withPad!$B$2, INT((ROW()-1)/28), MOD(ROW()-1, 28))","v":0},{"$f":"OFFSET(X0withPad!$C$2, INT((ROW()-1)/28), MOD(ROW()-1, 28))","v":0},{"$f":"OFFSET(X0withPad!$A$3, INT((ROW()-1)/28), MOD(ROW()-1, 28))","v":0},{"$f":"OFFSET(X0withPad!$B$3, INT((ROW()-1)/28), MOD(ROW()-1, 28))","v":0},{"$f":"OFFSET(X0withPad!$C$3, INT((ROW()-1)/28), MOD(ROW()-1, 28))","v":0}]
[{"$f":"OFFSET(X0withPad!$A$1, INT((ROW()-1)/28), MOD(ROW()-1, 28))","v":0},{"$f":"OFFSET(X0withPad!$B$1, INT((ROW()-1)/28), MOD(ROW()-1, 28))","v":0},{"$f":"OFFSET(X0withPad!$C$1, INT((ROW()-1)/28), MOD(ROW()-1, 28))","v":0},{"$f":"OFFSET(X0withPad!$A$2, INT((ROW()-1)/28), MOD(ROW()-1, 28))","v":0},{"$f":"OFFSET(X0withPad!$B$2, INT((ROW()-1)/28), MOD(ROW()-1, 28))","v":0},{"$f":"OFFSET(X0withPad!$C$2, INT((ROW()-1)/28), MOD(ROW()-1, 28))","v":0},{"$f":"OFFSET(X0withPad!$A$3, INT((ROW()-1)/28), MOD(ROW()-1, 28))","v":0},{"$f":"OFFSET(X0withPad!$B$3, INT((ROW()-1)/28), MOD(ROW()-1, 28))","v":0},{"$f":"OFFSET(X0withPad!$C$3, INT((ROW()-1)/28), MOD(ROW()-1, 28))","v":0}]
[{"$f":"OFFSET(X0withPad!$A$1, INT((ROW()-1)/28), MOD(ROW()-1, 28))","v":0},{"$f":"OFFSET(X0withPad!$B$1, INT((ROW()-1)/28), MOD(ROW()-1, 28))","v":0},{"$f":"OFFSET(X0withPad!$C$1, INT((ROW()-1)/28), MOD(ROW()-1, 28))","v":0},{"$f":"OFFSET(X0withPad!$A$2, INT((ROW()-1)/28), MOD(ROW()-1, 28))","v":0},{"$f":"OFFSET(X0withPad!$B$2, INT((ROW()-1)/28), MOD(ROW()-1, 28))","v":0},{"$f":"OFFSET(X0withPad!$C$2, INT((ROW()-1)/28), MOD(ROW()-1, 28))","v":0},{"$f":"OFFSET(X0withPad!$A$3, INT((ROW()-1)/28), MOD(ROW()-1, 28))","v":0},{"$f":"OFFSET(X0withPad!$B$3, INT((ROW()-1)/28), MOD(ROW()-1, 28))","v":0},{"$f":"OFFSET(X0withPad!$C$3, INT((ROW()-1)/28), MOD(ROW()-1, 28))","v":0}]
[{"$f":"OFFSET(X0withPad!$A$1, INT((ROW()-1)/28), MOD(ROW()-1, 28))","v":0},{"$f":"OFFSET(X0withPad!$B$1, INT((ROW()-1)/28), MOD(ROW()-1, 28))","v":0},{"$f":"OFFSET(X0withPad!$C$1, INT((ROW()-1)/28), MOD(ROW()-1, 28))","v":0},{"$f":"OFFSET(X0withPad!$A$2, INT((ROW()-1)/28), MOD(ROW()-1, 28))","v":0},{"$f":"OFFSET(X0withPad!$B$2, INT((ROW()-1)/28), MOD(ROW()-1, 28))","v":0},{"$f":"OFFSET(X0withPad!$C$2, INT((ROW()-1)/28), MOD(ROW()-1, 28))","v":0},{"$f":"OFFSET(X0withPad!$A$3, INT((ROW()-1)/28), MOD(ROW()-1, 28))","v":0},{"$f":"OFFSET(X0withPad!$B$3, INT((ROW()-1)/28), MOD(ROW()-1, 28))","v":0},{"$f":"OFFSET(X0withPad!$C$3, INT((ROW()-1)/28), MOD(ROW()-1, 28))","v":0}]
[{"$f":"OFFSET(X0withPad!$A$1, INT((ROW()-1)/28), MOD(ROW()-1, 28))","v":0},{"$f":"OFFSET(X0withPad!$B$1, INT((ROW()-1)/28), MOD(ROW()-1, 28))","v":0},{"$f":"OFFSET(X0withPad!$C$1, INT((ROW()-1)/28), MOD(ROW()-1, 28))","v":0},{"$f":"OFFSET(X0withPad!$A$2, INT((ROW()-1)/28), MOD(ROW()-1, 28))","v":0},{"$f":"OFFSET(X0withPad!$B$2, INT((ROW()-1)/28), MOD(ROW()-1, 28))","v":0},{"$f":"OFFSET(X0withPad!$C$2, INT((ROW()-1)/28), MOD(ROW()-1, 28))","v":0},{"$f":"OFFSET(X0withPad!$A$3, INT((ROW()-1)/28), MOD(ROW()-1, 28))","v":0},{"$f":"OFFSET(X0withPad!$B$3, INT((ROW()-1)/28), MOD(ROW()-1, 28))","v":0},{"$f":"OFFSET(X0withPad!$C$3, INT((ROW()-1)/28), MOD(ROW()-1, 28))","v":0}]
[{"$f":"OFFSET(X0withPad!$A$1, INT((ROW()-1)/28), MOD(ROW()-1, 28))","v":0},{"$f":"OFFSET(X0withPad!$B$1, INT((ROW()-1)/28), MOD(ROW()-1, 28))","v":0},{"$f":"OFFSET(X0withPad!$C$1, INT((ROW()-1)/28), MOD(ROW()-1, 28))","v":0},{"$f":"OFFSET(X0withPad!$A$2, INT((ROW()-1)/28), MOD(ROW()-1, 28))","v":0},{"$f":"OFFSET(X0withPad!$B$2, INT((ROW()-1)/28), MOD(ROW()-1, 28))","v":0},{"$f":"OFFSET(X0withPad!$C$2, INT((ROW()-1)/28), MOD(ROW()-1, 28))","v":0},{"$f":"OFFSET(X0withPad!$A$3, INT((ROW()-1)/28), MOD(ROW()-1, 28))","v":0},{"$f":"OFFSET(X0withPad!$B$3, INT((ROW()-1)/28), MOD(ROW()-1, 28))","v":0},{"$f":"OFFSET(X0withPad!$C$3, INT((ROW()-1)/28), MOD(ROW()-1, 28))","v":0}]
[{"$f":"OFFSET(X0withPad!$A$1, INT((ROW()-1)/28), MOD(ROW()-1, 28))","v":0},{"$f":"OFFSET(X0withPad!$B$1, INT((ROW()-1)/28), MOD(ROW()-1, 28))","v":0},{"$f":"OFFSET(X0withPad!$C$1, INT((ROW()-1)/28), MOD(ROW()-1, 28))","v":0},{"$f":"OFFSET(X0withPad!$A$2, INT((ROW()-1)/28), MOD(ROW()-1, 28))","v":0},{"$f":"OFFSET(X0withPad!$B$2, INT((ROW()-1)/28), MOD(ROW()-1, 28))","v":0},{"$f":"OFFSET(X0withPad!$C$2, INT((ROW()-1)/28), MOD(ROW()-1, 28))","v":0},{"$f":"OFFSET(X0withPad!$A$3, INT((ROW()-1)/28), MOD(ROW()-1, 28))","v":0},{"$f":"OFFSET(X0withPad!$B$3, INT((ROW()-1)/28), MOD(ROW()-1, 28))","v":0},{"$f":"OFFSET(X0withPad!$C$3, INT((ROW()-1)/28), MOD(ROW()-1, 28))","v":0}]
[{"$f":"OFFSET(X0withPad!$A$1, INT((ROW()-1)/28), MOD(ROW()-1, 28))","v":0},{"$f":"OFFSET(X0withPad!$B$1, INT((ROW()-1)/28), MOD(ROW()-1, 28))","v":0},{"$f":"OFFSET(X0withPad!$C$1, INT((ROW()-1)/28), MOD(ROW()-1, 28))","v":0},{"$f":"OFFSET(X0withPad!$A$2, INT((ROW()-1)/28), MOD(ROW()-1, 28))","v":0},{"$f":"OFFSET(X0withPad!$B$2, INT((ROW()-1)/28), MOD(ROW()-1, 28))","v":0},{"$f":"OFFSET(X0withPad!$C$2, INT((ROW()-1)/28), MOD(ROW()-1, 28))","v":0},{"$f":"OFFSET(X0withPad!$A$3, INT((ROW()-1)/28), MOD(ROW()-1, 28))","v":0},{"$f":"OFFSET(X0withPad!$B$3, INT((ROW()-1)/28), MOD(ROW()-1, 28))","v":0},{"$f":"OFFSET(X0withPad!$C$3, INT((ROW()-1)/28), MOD(ROW()-1, 28))","v":0}]
[{"$f":"OFFSET(X0withPad!$A$1, INT((ROW()-1)/28), MOD(ROW()-1, 28))","v":0},{"$f":"OFFSET(X0withPad!$B$1, INT((ROW()-1)/28), MOD(ROW()-1, 28))","v":0},{"$f":"OFFSET(X0withPad!$C$1, INT((ROW()-1)/28), MOD(ROW()-1, 28))","v":0},{"$f":"OFFSET(X0withPad!$A$2, INT((ROW()-1)/28), MOD(ROW()-1, 28))","v":0},{"$f":"OFFSET(X0withPad!$B$2, INT((ROW()-1)/28), MOD(ROW()-1, 28))","v":0},{"$f":"OFFSET(X0withPad!$C$2, INT((ROW()-1)/28), MOD(ROW()-1, 28))","v":0},{"$f":"OFFSET(X0withPad!$A$3, INT((ROW()-1)/28), MOD(ROW()-1, 28))","v":0},{"$f":"OFFSET(X0withPad!$B$3, INT((ROW()-1)/28), MOD(ROW()-1, 28))","v":0},{"$f":"OFFSET(X0withPad!$C$3, INT((ROW()-1)/28), MOD(ROW()-1, 28))","v":0}]
[{"$f":"OFFSET(X0withPad!$A$1, INT((ROW()-1)/28), MOD(ROW()-1, 28))","v":0},{"$f":"OFFSET(X0withPad!$B$1, INT((ROW()-1)/28), MOD(ROW()-1, 28))","v":0},{"$f":"OFFSET(X0withPad!$C$1, INT((ROW()-1)/28), MOD(ROW()-1, 28))","v":0},{"$f":"OFFSET(X0withPad!$A$2, INT((ROW()-1)/28), MOD(ROW()-1, 28))","v":0},{"$f":"OFFSET(X0withPad!$B$2, INT((ROW()-1)/28), MOD(ROW()-1, 28))","v":0},{"$f":"OFFSET(X0withPad!$C$2, INT((ROW()-1)/28), MOD(ROW()-1, 28))","v":0},{"$f":"OFFSET(X0withPad!$A$3, INT((ROW()-1)/28), MOD(ROW()-1, 28))","v":0},{"$f":"OFFSET(X0withPad!$B$3, INT((ROW()-1)/28), MOD(ROW()-1, 28))","v":0},{"$f":"OFFSET(X0withPad!$C$3, INT((ROW()-1)/28), MOD(ROW()-1, 28))","v":0}]
[{"$f":"OFFSET(X0withPad!$A$1, INT((ROW()-1)/28), MOD(ROW()-1, 28))","v":0},{"$f":"OFFSET(X0withPad!$B$1, INT((ROW()-1)/28), MOD(ROW()-1, 28))","v":0},{"$f":"OFFSET(X0withPad!$C$1, INT((ROW()-1)/28), MOD(ROW()-1, 28))","v":0},{"$f":"OFFSET(X0withPad!$A$2, INT((ROW()-1)/28), MOD(ROW()-1, 28))","v":0},{"$f":"OFFSET(X0withPad!$B$2, INT((ROW()-1)/28), MOD(ROW()-1, 28))","v":0},{"$f":"OFFSET(X0withPad!$C$2, INT((ROW()-1)/28), MOD(ROW()-1, 28))","v":0},{"$f":"OFFSET(X0withPad!$A$3, INT((ROW()-1)/28), MOD(ROW()-1, 28))","v":0},{"$f":"OFFSET(X0withPad!$B$3, INT((ROW()-1)/28), MOD(ROW()-1, 28))","v":0},{"$f":"OFFSET(X0withPad!$C$3, INT((ROW()-1)/28), MOD(ROW()-1, 28))","v":0}]
[{"$f":"OFFSET(X0withPad!$A$1, INT((ROW()-1)/28), MOD(ROW()-1, 28))","v":0},{"$f":"OFFSET(X0withPad!$B$1, INT((ROW()-1)/28), MOD(ROW()-1, 28))","v":0},{"$f":"OFFSET(X0withPad!$C$1, INT((ROW()-1)/28), MOD(ROW()-1, 28))","v":0},{"$f":"OFFSET(X0withPad!$A$2, INT((ROW()-1)/28), MOD(ROW()-1, 28))","v":0},{"$f":"OFFSET(X0withPad!$B$2, INT((ROW()-1)/28), MOD(ROW()-1, 28))","v":0},{"$f":"OFFSET(X0withPad!$C$2, INT((ROW()-1)/28), MOD(ROW()-1, 28))","v":0},{"$f":"OFFSET(X0withPad!$A$3, INT((ROW()-1)/28), MOD(ROW()-1, 28))","v":0},{"$f":"OFFSET(X0withPad!$B$3, INT((ROW()-1)/28), MOD(ROW()-1, 28))","v":0},{"$f":"OFFSET(X0withPad!$C$3, INT((ROW()-1)/28), MOD(ROW()-1, 28))","v":0}]
[{"$f":"OFFSET(X0withPad!$A$1, INT((ROW()-1)/28), MOD(ROW()-1, 28))","v":0},{"$f":"OFFSET(X0withPad!$B$1, INT((ROW()-1)/28), MOD(ROW()-1, 28))","v":0},{"$f":"OFFSET(X0withPad!$C$1, INT((ROW()-1)/28), MOD(ROW()-1, 28))","v":0},{"$f":"OFFSET(X0withPad!$A$2, INT((ROW()-1)/28), MOD(ROW()-1, 28))","v":0},{"$f":"OFFSET(X0withPad!$B$2, INT((ROW()-1)/28), MOD(ROW()-1, 28))","v":0},{"$f":"OFFSET(X0withPad!$C$2, INT((ROW()-1)/28), MOD(ROW()-1, 28))","v":0},{"$f":"OFFSET(X0withPad!$A$3, INT((ROW()-1)/28), MOD(ROW()-1, 28))","v":0},{"$f":"OFFSET(X0withPad!$B$3, INT((ROW()-1)/28), MOD(ROW()-1, 28))","v":0},{"$f":"OFFSET(X0withPad!$C$3, INT((ROW()-1)/28), MOD(ROW()-1, 28))","v":0}]
[{"$f":"OFFSET(X0withPad!$A$1, INT((ROW()-1)/28), MOD(ROW()-1, 28))","v":0},{"$f":"OFFSET(X0withPad!$B$1, INT((ROW()-1)/28), MOD(ROW()-1, 28))","v":0},{"$f":"OFFSET(X0withPad!$C$1, INT((ROW()-1)/28), MOD(ROW()-1, 28))","v":0},{"$f":"OFFSET(X0withPad!$A$2, INT((ROW()-1)/28), MOD(ROW()-1, 28))","v":0},{"$f":"OFFSET(X0withPad!$B$2, INT((ROW()-1)/28), MOD(ROW()-1, 28))","v":0},{"$f":"OFFSET(X0withPad!$C$2, INT((ROW()-1)/28), MOD(ROW()-1, 28))","v":0},{"$f":"OFFSET(X0withPad!$A$3, INT((ROW()-1)/28), MOD(ROW()-1, 28))","v":0},{"$f":"OFFSET(X0withPad!$B$3, INT((ROW()-1)/28), MOD(ROW()-1, 28))","v":0},{"$f":"OFFSET(X0withPad!$C$3, INT((ROW()-1)/28), MOD(ROW()-1, 28))","v":0}]
[{"$f":"OFFSET(X0withPad!$A$1, INT((ROW()-1)/28), MOD(ROW()-1, 28))","v":0},{"$f":"OFFSET(X0withPad!$B$1, INT((ROW()-1)/28), MOD(ROW()-1, 28))","v":0},{"$f":"OFFSET(X0withPad!$C$1, INT((ROW()-1)/28), MOD(ROW()-1, 28))","v":17},{"$f":"OFFSET(X0withPad!$A$2, INT((ROW()-1)/28), MOD(ROW()-1, 28))","v":0},{"$f":"OFFSET(X0withPad!$B$2, INT((ROW()-1)/28), MOD(ROW()-1, 28))","v":0},{"$f":"OFFSET(X0withPad!$C$2, INT((ROW()-1)/28), MOD(ROW()-1, 28))","v":0},{"$f":"OFFSET(X0withPad!$A$3, INT((ROW()-1)/28), MOD(ROW()-1, 28))","v":0},{"$f":"OFFSET(X0withPad!$B$3, INT((ROW()-1)/28), MOD(ROW()-1, 28))","v":0},{"$f":"OFFSET(X0withPad!$C$3, INT((ROW()-1)/28), MOD(ROW()-1, 28))","v":0}]
[{"$f":"OFFSET(X0withPad!$A$1, INT((ROW()-1)/28), MOD(ROW()-1, 28))","v":0},{"$f":"OFFSET(X0withPad!$B$1, INT((ROW()-1)/28), MOD(ROW()-1, 28))","v":17},{"$f":"OFFSET(X0withPad!$C$1, INT((ROW()-1)/28), MOD(ROW()-1, 28))","v":66},{"$f":"OFFSET(X0withPad!$A$2, INT((ROW()-1)/28), MOD(ROW()-1, 28))","v":0},{"$f":"OFFSET(X0withPad!$B$2, INT((ROW()-1)/28), MOD(ROW()-1, 28))","v":0},{"$f":"OFFSET(X0withPad!$C$2, INT((ROW()-1)/28), MOD(ROW()-1, 28))","v":0},{"$f":"OFFSET(X0withPad!$A$3, INT((ROW()-1)/28), MOD(ROW()-1, 28))","v":0},{"$f":"OFFSET(X0withPad!$B$3, INT((ROW()-1)/28), MOD(ROW()-1, 28))","v":0},{"$f":"OFFSET(X0withPad!$C$3, INT((ROW()-1)/28), MOD(ROW()-1, 28))","v":0}]
[{"$f":"OFFSET(X0withPad!$A$1, INT((ROW()-1)/28), MOD(ROW()-1, 28))","v":17},{"$f":"OFFSET(X0withPad!$B$1, INT((ROW()-1)/28), MOD(ROW()-1, 28))","v":66},{"$f":"OFFSET(X0withPad!$C$1, INT((ROW()-1)/28), MOD(ROW()-1, 28))","v":14},{"$f":"OFFSET(X0withPad!$A$2, INT((ROW()-1)/28), MOD(ROW()-1, 28))","v":0},{"$f":"OFFSET(X0withPad!$B$2, INT((ROW()-1)/28), MOD(ROW()-1, 28))","v":0},{"$f":"OFFSET(X0withPad!$C$2, INT((ROW()-1)/28), MOD(ROW()-1, 28))","v":0},{"$f":"OFFSET(X0withPad!$A$3, INT((ROW()-1)/28), MOD(ROW()-1, 28))","v":0},{"$f":"OFFSET(X0withPad!$B$3, INT((ROW()-1)/28), MOD(ROW()-1, 28))","v":0},{"$f":"OFFSET(X0withPad!$C$3, INT((ROW()-1)/28), MOD(ROW()-1, 28))","v":0}]
[{"$f":"OFFSET(X0withPad!$A$1, INT((ROW()-1)/28), MOD(ROW()-1, 28))","v":66},{"$f":"OFFSET(X0withPad!$B$1, INT((ROW()-1)/28), MOD(ROW()-1, 28))","v":14},{"$f":"OFFSET(X0withPad!$C$1, INT((ROW()-1)/28), MOD(ROW()-1, 28))","v":67},{"$f":"OFFSET(X0withPad!$A$2, INT((ROW()-1)/28), MOD(ROW()-1, 28))","v":0},{"$f":"OFFSET(X0withPad!$B$2, INT((ROW()-1)/28), MOD(ROW()-1, 28))","v":0},{"$f":"OFFSET(X0withPad!$C$2, INT((ROW()-1)/28), MOD(ROW()-1, 28))","v":0},{"$f":"OFFSET(X0withPad!$A$3, INT((ROW()-1)/28), MOD(ROW()-1, 28))","v":0},{"$f":"OFFSET(X0withPad!$B$3, INT((ROW()-1)/28), MOD(ROW()-1, 28))","v":0},{"$f":"OFFSET(X0withPad!$C$3, INT((ROW()-1)/28), MOD(ROW()-1, 28))","v":0}]
[{"$f":"OFFSET(X0withPad!$A$1, INT((ROW()-1)/28), MOD(ROW()-1, 28))","v":14},{"$f":"OFFSET(X0withPad!$B$1, INT((ROW()-1)/28), MOD(ROW()-1, 28))","v":67},{"$f":"OFFSET(X0withPad!$C$1, INT((ROW()-1)/28), MOD(ROW()-1, 28))","v":67},{"$f":"OFFSET(X0withPad!$A$2, INT((ROW()-1)/28), MOD(ROW()-1, 28))","v":0},{"$f":"OFFSET(X0withPad!$B$2, INT((ROW()-1)/28), MOD(ROW()-1, 28))","v":0},{"$f":"OFFSET(X0withPad!$C$2, INT((ROW()-1)/28), MOD(ROW()-1, 28))","v":0},{"$f":"OFFSET(X0withPad!$A$3, INT((ROW()-1)/28), MOD(ROW()-1, 28))","v":0},{"$f":"OFFSET(X0withPad!$B$3, INT((ROW()-1)/28), MOD(ROW()-1, 28))","v":0},{"$f":"OFFSET(X0withPad!$C$3, INT((ROW()-1)/28), MOD(ROW()-1, 28))","v":0}]
[{"$f":"OFFSET(X0withPad!$A$1, INT((ROW()-1)/28), MOD(ROW()-1, 28))","v":67},{"$f":"OFFSET(X0withPad!$B$1, INT((ROW()-1)/28), MOD(ROW()-1, 28))","v":67},{"$f":"OFFSET(X0withPad!$C$1, INT((ROW()-1)/28), MOD(ROW()-1, 28))","v":67},{"$f":"OFFSET(X0withPad!$A$2, INT((ROW()-1)/28), MOD(ROW()-1, 28))","v":0},{"$f":"OFFSET(X0withPad!$B$2, INT((ROW()-1)/28), MOD(ROW()-1, 28))","v":0},{"$f":"OFFSET(X0withPad!$C$2, INT((ROW()-1)/28), MOD(ROW()-1, 28))","v":0},{"$f":"OFFSET(X0withPad!$A$3, INT((ROW()-1)/28), MOD(ROW()-1, 28))","v":0},{"$f":"OFFSET(X0withPad!$B$3, INT((ROW()-1)/28), MOD(ROW()-1, 28))","v":0},{"$f":"OFFSET(X0withPad!$C$3, INT((ROW()-1)/28), MOD(ROW()-1, 28))","v":0}]
[{"$f":"OFFSET(X0withPad!$A$1, INT((ROW()-1)/28), MOD(ROW()-1, 28))","v":67},{"$f":"OFFSET(X0withPad!$B$1, INT((ROW()-1)/28), MOD(ROW()-1, 28))","v":67},{"$f":"OFFSET(X0withPad!$C$1, INT((ROW()-1)/28), MOD(ROW()-1, 28))","v":59},{"$f":"OFFSET(X0withPad!$A$2, INT((ROW()-1)/28), MOD(ROW()-1, 28))","v":0},{"$f":"OFFSET(X0withPad!$B$2, INT((ROW()-1)/28), MOD(ROW()-1, 28))","v":0},{"$f":"OFFSET(X0withPad!$C$2, INT((ROW()-1)/28), MOD(ROW()-1, 28))","v":0},{"$f":"OFFSET(X0withPad!$A$3, INT((ROW()-1)/28), MOD(ROW()-1, 28))","v":0},{"$f":"OFFSET(X0withPad!$B$3, INT((ROW()-1)/28), MOD(ROW()-1, 28))","v":0},{"$f":"OFFSET(X0withPad!$C$3, INT((ROW()-1)/28), MOD(ROW()-1, 28))","v":22}]
[{"$f":"OFFSET(X0withPad!$A$1, INT((ROW()-1)/28), MOD(ROW()-1, 28))","v":67},{"$f":"OFFSET(X0withPad!$B$1, INT((ROW()-1)/28), MOD(ROW()-1, 28))","v":59},{"$f":"OFFSET(X0withPad!$C$1, INT((ROW()-1)/28), MOD(ROW()-1, 28))","v":21},{"$f":"OFFSET(X0withPad!$A$2, INT((ROW()-1)/28), MOD(ROW()-1, 28))","v":0},{"$f":"OFFSET(X0withPad!$B$2, INT((ROW()-1)/28), MOD(ROW()-1, 28))","v":0},{"$f":"OFFSET(X0withPad!$C$2, INT((ROW()-1)/28), MOD(ROW()-1, 28))","v":83},{"$f":"OFFSET(X0withPad!$A$3, INT((ROW()-1)/28), MOD(ROW()-1, 28))","v":0},{"$f":"OFFSET(X0withPad!$B$3, INT((ROW()-1)/28), MOD(ROW()-1, 28))","v":22},{"$f":"OFFSET(X0withPad!$C$3, INT((ROW()-1)/28), MOD(ROW()-1, 28))","v":233}]
[{"$f":"OFFSET(X0withPad!$A$1, INT((ROW()-1)/28), MOD(ROW()-1, 28))","v":59},{"$f":"OFFSET(X0withPad!$B$1, INT((ROW()-1)/28), MOD(ROW()-1, 28))","v":21},{"$f":"OFFSET(X0withPad!$C$1, INT((ROW()-1)/28), MOD(ROW()-1, 28))","v":236},{"$f":"OFFSET(X0withPad!$A$2, INT((ROW()-1)/28), MOD(ROW()-1, 28))","v":0},{"$f":"OFFSET(X0withPad!$B$2, INT((ROW()-1)/28), MOD(ROW()-1, 28))","v":83},{"$f":"OFFSET(X0withPad!$C$2, INT((ROW()-1)/28), MOD(ROW()-1, 28))","v":253},{"$f":"OFFSET(X0withPad!$A$3, INT((ROW()-1)/28), MOD(ROW()-1, 28))","v":22},{"$f":"OFFSET(X0withPad!$B$3, INT((ROW()-1)/28), MOD(ROW()-1, 28))","v":233},{"$f":"OFFSET(X0withPad!$C$3, INT((ROW()-1)/28), MOD(ROW()-1, 28))","v":255}]
[{"$f":"OFFSET(X0withPad!$A$1, INT((ROW()-1)/28), MOD(ROW()-1, 28))","v":21},{"$f":"OFFSET(X0withPad!$B$1, INT((ROW()-1)/28), MOD(ROW()-1, 28))","v":236},{"$f":"OFFSET(X0withPad!$C$1, INT((ROW()-1)/28), MOD(ROW()-1, 28))","v":254},{"$f":"OFFSET(X0withPad!$A$2, INT((ROW()-1)/28), MOD(ROW()-1, 28))","v":83},{"$f":"OFFSET(X0withPad!$B$2, INT((ROW()-1)/28), MOD(ROW()-1, 28))","v":253},{"$f":"OFFSET(X0withPad!$C$2, INT((ROW()-1)/28), MOD(ROW()-1, 28))","v":209},{"$f":"OFFSET(X0withPad!$A$3, INT((ROW()-1)/28), MOD(ROW()-1, 28))","v":233},{"$f":"OFFSET(X0withPad!$B$3, INT((ROW()-1)/28), MOD(ROW()-1, 28))","v":255},{"$f":"OFFSET(X0withPad!$C$3, INT((ROW()-1)/28), MOD(ROW()-1, 28))","v":83}]
[{"$f":"OFFSET(X0withPad!$A$1, INT((ROW()-1)/28), MOD(ROW()-1, 28))","v":236},{"$f":"OFFSET(X0withPad!$B$1, INT((ROW()-1)/28), MOD(ROW()-1, 28))","v":254},{"$f":"OFFSET(X0withPad!$C$1, INT((ROW()-1)/28), MOD(ROW()-1, 28))","v":106},{"$f":"OFFSET(X0withPad!$A$2, INT((ROW()-1)/28), MOD(ROW()-1, 28))","v":253},{"$f":"OFFSET(X0withPad!$B$2, INT((ROW()-1)/28), MOD(ROW()-1, 28))","v":209},{"$f":"OFFSET(X0withPad!$C$2, INT((ROW()-1)/28), MOD(ROW()-1, 28))","v":18},{"$f":"OFFSET(X0withPad!$A$3, INT((ROW()-1)/28), MOD(ROW()-1, 28))","v":255},{"$f":"OFFSET(X0withPad!$B$3, INT((ROW()-1)/28), MOD(ROW()-1, 28))","v":83},{"$f":"OFFSET(X0withPad!$C$3, INT((ROW()-1)/28), MOD(ROW()-1, 28))","v":0}]
[{"$f":"OFFSET(X0withPad!$A$1, INT((ROW()-1)/28), MOD(ROW()-1, 28))","v":254},{"$f":"OFFSET(X0withPad!$B$1, INT((ROW()-1)/28), MOD(ROW()-1, 28))","v":106},{"$f":"OFFSET(X0withPad!$C$1, INT((ROW()-1)/28), MOD(ROW()-1, 28))","v":0},{"$f":"OFFSET(X0withPad!$A$2, INT((ROW()-1)/28), MOD(ROW()-1, 28))","v":209},{"$f":"OFFSET(X0withPad!$B$2, INT((ROW()-1)/28), MOD(ROW()-1, 28))","v":18},{"$f":"OFFSET(X0withPad!$C$2, INT((ROW()-1)/28), MOD(ROW()-1, 28))","v":0},{"$f":"OFFSET(X0withPad!$A$3, INT((ROW()-1)/28), MOD(ROW()-1, 28))","v":83},{"$f":"OFFSET(X0withPad!$B$3, INT((ROW()-1)/28), MOD(ROW()-1, 28))","v":0},{"$f":"OFFSET(X0withPad!$C$3, INT((ROW()-1)/28), MOD(ROW()-1, 28))","v":0}]
[{"$f":"OFFSET(X0withPad!$A$1, INT((ROW()-1)/28), MOD(ROW()-1, 28))","v":106},{"$f":"OFFSET(X0withPad!$B$1, INT((ROW()-1)/28), MOD(ROW()-1, 28))","v":0},{"$f":"OFFSET(X0withPad!$C$1, INT((ROW()-1)/28), MOD(ROW()-1, 28))","v":0},{"$f":"OFFSET(X0withPad!$A$2, INT((ROW()-1)/28), MOD(ROW()-1, 28))","v":18},{"$f":"OFFSET(X0withPad!$B$2, INT((ROW()-1)/28), MOD(ROW()-1, 28))","v":0},{"$f":"OFFSET(X0withPad!$C$2, INT((ROW()-1)/28), MOD(ROW()-1, 28))","v":0},{"$f":"OFFSET(X0withPad!$A$3, INT((ROW()-1)/28), MOD(ROW()-1, 28))","v":0},{"$f":"OFFSET(X0withPad!$B$3, INT((ROW()-1)/28), MOD(ROW()-1, 28))","v":0},{"$f":"OFFSET(X0withPad!$C$3, INT((ROW()-1)/28), MOD(ROW()-1, 28))","v":0}]
[{"$f":"OFFSET(X0withPad!$A$1, INT((ROW()-1)/28), MOD(ROW()-1, 28))","v":0},{"$f":"OFFSET(X0withPad!$B$1, INT((ROW()-1)/28), MOD(ROW()-1, 28))","v":0},{"$f":"OFFSET(X0withPad!$C$1, INT((ROW()-1)/28), MOD(ROW()-1, 28))","v":0},{"$f":"OFFSET(X0withPad!$A$2, INT((ROW()-1)/28), MOD(ROW()-1, 28))","v":0},{"$f":"OFFSET(X0withPad!$B$2, INT((ROW()-1)/28), MOD(ROW()-1, 28))","v":0},{"$f":"OFFSET(X0withPad!$C$2, INT((ROW()-1)/28), MOD(ROW()-1, 28))","v":0},{"$f":"OFFSET(X0withPad!$A$3, INT((ROW()-1)/28), MOD(ROW()-1, 28))","v":0},{"$f":"OFFSET(X0withPad!$B$3, INT((ROW()-1)/28), MOD(ROW()-1, 28))","v":0},{"$f":"OFFSET(X0withPad!$C$3, INT((ROW()-1)/28), MOD(ROW()-1, 28))","v":0}]
[{"$f":"OFFSET(X0withPad!$A$1, INT((ROW()-1)/28), MOD(ROW()-1, 28))","v":0},{"$f":"OFFSET(X0withPad!$B$1, INT((ROW()-1)/28), MOD(ROW()-1, 28))","v":0},{"$f":"OFFSET(X0withPad!$C$1, INT((ROW()-1)/28), MOD(ROW()-1, 28))","v":0},{"$f":"OFFSET(X0withPad!$A$2, INT((ROW()-1)/28), MOD(ROW()-1, 28))","v":0},{"$f":"OFFSET(X0withPad!$B$2, INT((ROW()-1)/28), MOD(ROW()-1, 28))","v":0},{"$f":"OFFSET(X0withPad!$C$2, INT((ROW()-1)/28), MOD(ROW()-1, 28))","v":0},{"$f":"OFFSET(X0withPad!$A$3, INT((ROW()-1)/28), MOD(ROW()-1, 28))","v":0},{"$f":"OFFSET(X0withPad!$B$3, INT((ROW()-1)/28), MOD(ROW()-1, 28))","v":0},{"$f":"OFFSET(X0withPad!$C$3, INT((ROW()-1)/28), MOD(ROW()-1, 28))","v":0}]
[{"$f":"OFFSET(X0withPad!$A$1, INT((ROW()-1)/28), MOD(ROW()-1, 28))","v":0},{"$f":"OFFSET(X0withPad!$B$1, INT((ROW()-1)/28), MOD(ROW()-1, 28))","v":0},{"$f":"OFFSET(X0withPad!$C$1, INT((ROW()-1)/28), MOD(ROW()-1, 28))","v":0},{"$f":"OFFSET(X0withPad!$A$2, INT((ROW()-1)/28), MOD(ROW()-1, 28))","v":0},{"$f":"OFFSET(X0withPad!$B$2, INT((ROW()-1)/28), MOD(ROW()-1, 28))","v":0},{"$f":"OFFSET(X0withPad!$C$2, INT((ROW()-1)/28), MOD(ROW()-1, 28))","v":0},{"$f":"OFFSET(X0withPad!$A$3, INT((ROW()-1)/28), MOD(ROW()-1, 28))","v":0},{"$f":"OFFSET(X0withPad!$B$3, INT((ROW()-1)/28), MOD(ROW()-1, 28))","v":0},{"$f":"OFFSET(X0withPad!$C$3, INT((ROW()-1)/28), MOD(ROW()-1, 28))","v":0}]
[{"$f":"OFFSET(X0withPad!$A$1, INT((ROW()-1)/28), MOD(ROW()-1, 28))","v":0},{"$f":"OFFSET(X0withPad!$B$1, INT((ROW()-1)/28), MOD(ROW()-1, 28))","v":0},{"$f":"OFFSET(X0withPad!$C$1, INT((ROW()-1)/28), MOD(ROW()-1, 28))","v":0},{"$f":"OFFSET(X0withPad!$A$2, INT((ROW()-1)/28), MOD(ROW()-1, 28))","v":0},{"$f":"OFFSET(X0withPad!$B$2, INT((ROW()-1)/28), MOD(ROW()-1, 28))","v":0},{"$f":"OFFSET(X0withPad!$C$2, INT((ROW()-1)/28), MOD(ROW()-1, 28))","v":0},{"$f":"OFFSET(X0withPad!$A$3, INT((ROW()-1)/28), MOD(ROW()-1, 28))","v":0},{"$f":"OFFSET(X0withPad!$B$3, INT((ROW()-1)/28), MOD(ROW()-1, 28))","v":0},{"$f":"OFFSET(X0withPad!$C$3, INT((ROW()-1)/28), MOD(ROW()-1, 28))","v":0}]
[{"$f":"OFFSET(X0withPad!$A$1, INT((ROW()-1)/28), MOD(ROW()-1, 28))","v":0},{"$f":"OFFSET(X0withPad!$B$1, INT((ROW()-1)/28), MOD(ROW()-1, 28))","v":0},{"$f":"OFFSET(X0withPad!$C$1, INT((ROW()-1)/28), MOD(ROW()-1, 28))","v":0},{"$f":"OFFSET(X0withPad!$A$2, INT((ROW()-1)/28), MOD(ROW()-1, 28))","v":0},{"$f":"OFFSET(X0withPad!$B$2, INT((ROW()-1)/28), MOD(ROW()-1, 28))","v":0},{"$f":"OFFSET(X0withPad!$C$2, INT((ROW()-1)/28), MOD(ROW()-1, 28))","v":0},{"$f":"OFFSET(X0withPad!$A$3, INT((ROW()-1)/28), MOD(ROW()-1, 28))","v":0},{"$f":"OFFSET(X0withPad!$B$3, INT((ROW()-1)/28), MOD(ROW()-1, 28))","v":0},{"$f":"OFFSET(X0withPad!$C$3, INT((ROW()-1)/28), MOD(ROW()-1, 28))","v":0}]
[{"$f":"OFFSET(X0withPad!$A$1, INT((ROW()-1)/28), MOD(ROW()-1, 28))","v":0},{"$f":"OFFSET(X0withPad!$B$1, INT((ROW()-1)/28), MOD(ROW()-1, 28))","v":0},{"$f":"OFFSET(X0withPad!$C$1, INT((ROW()-1)/28), MOD(ROW()-1, 28))","v":0},{"$f":"OFFSET(X0withPad!$A$2, INT((ROW()-1)/28), MOD(ROW()-1, 28))","v":0},{"$f":"OFFSET(X0withPad!$B$2, INT((ROW()-1)/28), MOD(ROW()-1, 28))","v":0},{"$f":"OFFSET(X0withPad!$C$2, INT((ROW()-1)/28), MOD(ROW()-1, 28))","v":0},{"$f":"OFFSET(X0withPad!$A$3, INT((ROW()-1)/28), MOD(ROW()-1, 28))","v":0},{"$f":"OFFSET(X0withPad!$B$3, INT((ROW()-1)/28), MOD(ROW()-1, 28))","v":0},{"$f":"OFFSET(X0withPad!$C$3, INT((ROW()-1)/28), MOD(ROW()-1, 28))","v":0}]
[{"$f":"OFFSET(X0withPad!$A$1, INT((ROW()-1)/28), MOD(ROW()-1, 28))","v":0},{"$f":"OFFSET(X0withPad!$B$1, INT((ROW()-1)/28), MOD(ROW()-1, 28))","v":0},{"$f":"OFFSET(X0withPad!$C$1, INT((ROW()-1)/28), MOD(ROW()-1, 28))","v":0},{"$f":"OFFSET(X0withPad!$A$2, INT((ROW()-1)/28), MOD(ROW()-1, 28))","v":0},{"$f":"OFFSET(X0withPad!$B$2, INT((ROW()-1)/28), MOD(ROW()-1, 28))","v":0},{"$f":"OFFSET(X0withPad!$C$2, INT((ROW()-1)/28), MOD(ROW()-1, 28))","v":0},{"$f":"OFFSET(X0withPad!$A$3, INT((ROW()-1)/28), MOD(ROW()-1, 28))","v":0},{"$f":"OFFSET(X0withPad!$B$3, INT((ROW()-1)/28), MOD(ROW()-1, 28))","v":0},{"$f":"OFFSET(X0withPad!$C$3, INT((ROW()-1)/28), MOD(ROW()-1, 28))","v":0}]
[{"$f":"OFFSET(X0withPad!$A$1, INT((ROW()-1)/28), MOD(ROW()-1, 28))","v":0},{"$f":"OFFSET(X0withPad!$B$1, INT((ROW()-1)/28), MOD(ROW()-1, 28))","v":0},{"$f":"OFFSET(X0withPad!$C$1, INT((ROW()-1)/28), MOD(ROW()-1, 28))","v":0},{"$f":"OFFSET(X0withPad!$A$2, INT((ROW()-1)/28), MOD(ROW()-1, 28))","v":0},{"$f":"OFFSET(X0withPad!$B$2, INT((ROW()-1)/28), MOD(ROW()-1, 28))","v":0},{"$f":"OFFSET(X0withPad!$C$2, INT((ROW()-1)/28), MOD(ROW()-1, 28))","v":0},{"$f":"OFFSET(X0withPad!$A$3, INT((ROW()-1)/28), MOD(ROW()-1, 28))","v":0},{"$f":"OFFSET(X0withPad!$B$3, INT((ROW()-1)/28), MOD(ROW()-1, 28))","v":0},{"$f":"OFFSET(X0withPad!$C$3, INT((ROW()-1)/28), MOD(ROW()-1, 28))","v":0}]
[{"$f":"OFFSET(X0withPad!$A$1, INT((ROW()-1)/28), MOD(ROW()-1, 28))","v":0},{"$f":"OFFSET(X0withPad!$B$1, INT((ROW()-1)/28), MOD(ROW()-1, 28))","v":0},{"$f":"OFFSET(X0withPad!$C$1, INT((ROW()-1)/28), MOD(ROW()-1, 28))","v":0},{"$f":"OFFSET(X0withPad!$A$2, INT((ROW()-1)/28), MOD(ROW()-1, 28))","v":0},{"$f":"OFFSET(X0withPad!$B$2, INT((ROW()-1)/28), MOD(ROW()-1, 28))","v":0},{"$f":"OFFSET(X0withPad!$C$2, INT((ROW()-1)/28), MOD(ROW()-1, 28))","v":0},{"$f":"OFFSET(X0withPad!$A$3, INT((ROW()-1)/28), MOD(ROW()-1, 28))","v":0},{"$f":"OFFSET(X0withPad!$B$3, INT((ROW()-1)/28), MOD(ROW()-1, 28))","v":0},{"$f":"OFFSET(X0withPad!$C$3, INT((ROW()-1)/28), MOD(ROW()-1, 28))","v":0}]
[{"$f":"OFFSET(X0withPad!$A$1, INT((ROW()-1)/28), MOD(ROW()-1, 28))","v":0},{"$f":"OFFSET(X0withPad!$B$1, INT((ROW()-1)/28), MOD(ROW()-1, 28))","v":0},{"$f":"OFFSET(X0withPad!$C$1, INT((ROW()-1)/28), MOD(ROW()-1, 28))","v":0},{"$f":"OFFSET(X0withPad!$A$2, INT((ROW()-1)/28), MOD(ROW()-1, 28))","v":0},{"$f":"OFFSET(X0withPad!$B$2, INT((ROW()-1)/28), MOD(ROW()-1, 28))","v":0},{"$f":"OFFSET(X0withPad!$C$2, INT((ROW()-1)/28), MOD(ROW()-1, 28))","v":0},{"$f":"OFFSET(X0withPad!$A$3, INT((ROW()-1)/28), MOD(ROW()-1, 28))","v":0},{"$f":"OFFSET(X0withPad!$B$3, INT((ROW()-1)/28), MOD(ROW()-1, 28))","v":0},{"$f":"OFFSET(X0withPad!$C$3, INT((ROW()-1)/28), MOD(ROW()-1, 28))","v":0}]
[{"$f":"OFFSET(X0withPad!$A$1, INT((ROW()-1)/28), MOD(ROW()-1, 28))","v":0},{"$f":"OFFSET(X0withPad!$B$1, INT((ROW()-1)/28), MOD(ROW()-1, 28))","v":0},{"$f":"OFFSET(X0withPad!$C$1, INT((ROW()-1)/28), MOD(ROW()-1, 28))","v":0},{"$f":"OFFSET(X0withPad!$A$2, INT((ROW()-1)/28), MOD(ROW()-1, 28))","v":0},{"$f":"OFFSET(X0withPad!$B$2, INT((ROW()-1)/28), MOD(ROW()-1, 28))","v":0},{"$f":"OFFSET(X0withPad!$C$2, INT((ROW()-1)/28), MOD(ROW()-1, 28))","v":0},{"$f":"OFFSET(X0withPad!$A$3, INT((ROW()-1)/28), MOD(ROW()-1, 28))","v":0},{"$f":"OFFSET(X0withPad!$B$3, INT((ROW()-1)/28), MOD(ROW()-1, 28))","v":0},{"$f":"OFFSET(X0withPad!$C$3, INT((ROW()-1)/28), MOD(ROW()-1, 28))","v":0}]
[{"$f":"OFFSET(X0withPad!$A$1, INT((ROW()-1)/28), MOD(ROW()-1, 28))","v":0},{"$f":"OFFSET(X0withPad!$B$1, INT((ROW()-1)/28), MOD(ROW()-1, 28))","v":0},{"$f":"OFFSET(X0withPad!$C$1, INT((ROW()-1)/28), MOD(ROW()-1, 28))","v":0},{"$f":"OFFSET(X0withPad!$A$2, INT((ROW()-1)/28), MOD(ROW()-1, 28))","v":0},{"$f":"OFFSET(X0withPad!$B$2, INT((ROW()-1)/28), MOD(ROW()-1, 28))","v":0},{"$f":"OFFSET(X0withPad!$C$2, INT((ROW()-1)/28), MOD(ROW()-1, 28))","v":0},{"$f":"OFFSET(X0withPad!$A$3, INT((ROW()-1)/28), MOD(ROW()-1, 28))","v":0},{"$f":"OFFSET(X0withPad!$B$3, INT((ROW()-1)/28), MOD(ROW()-1, 28))","v":0},{"$f":"OFFSET(X0withPad!$C$3, INT((ROW()-1)/28), MOD(ROW()-1, 28))","v":0}]
[{"$f":"OFFSET(X0withPad!$A$1, INT((ROW()-1)/28), MOD(ROW()-1, 28))","v":0},{"$f":"OFFSET(X0withPad!$B$1, INT((ROW()-1)/28), MOD(ROW()-1, 28))","v":0},{"$f":"OFFSET(X0withPad!$C$1, INT((ROW()-1)/28), MOD(ROW()-1, 28))","v":0},{"$f":"OFFSET(X0withPad!$A$2, INT((ROW()-1)/28), MOD(ROW()-1, 28))","v":0},{"$f":"OFFSET(X0withPad!$B$2, INT((ROW()-1)/28), MOD(ROW()-1, 28))","v":0},{"$f":"OFFSET(X0withPad!$C$2, INT((ROW()-1)/28), MOD(ROW()-1, 28))","v":0},{"$f":"OFFSET(X0withPad!$A$3, INT((ROW()-1)/28), MOD(ROW()-1, 28))","v":0},{"$f":"OFFSET(X0withPad!$B$3, INT((ROW()-1)/28), MOD(ROW()-1, 28))","v":0},{"$f":"OFFSET(X0withPad!$C$3, INT((ROW()-1)/28), MOD(ROW()-1, 28))","v":0}]
[{"$f":"OFFSET(X0withPad!$A$1, INT((ROW()-1)/28), MOD(ROW()-1, 28))","v":0},{"$f":"OFFSET(X0withPad!$B$1, INT((ROW()-1)/28), MOD(ROW()-1, 28))","v":0},{"$f":"OFFSET(X0withPad!$C$1, INT((ROW()-1)/28), MOD(ROW()-1, 28))","v":0},{"$f":"OFFSET(X0withPad!$A$2, INT((ROW()-1)/28), MOD(ROW()-1, 28))","v":0},{"$f":"OFFSET(X0withPad!$B$2, INT((ROW()-1)/28), MOD(ROW()-1, 28))","v":0},{"$f":"OFFSET(X0withPad!$C$2, INT((ROW()-1)/28), MOD(ROW()-1, 28))","v":0},{"$f":"OFFSET(X0withPad!$A$3, INT((ROW()-1)/28), MOD(ROW()-1, 28))","v":0},{"$f":"OFFSET(X0withPad!$B$3, INT((ROW()-1)/28), MOD(ROW()-1, 28))","v":0},{"$f":"OFFSET(X0withPad!$C$3, INT((ROW()-1)/28), MOD(ROW()-1, 28))","v":0}]
[{"$f":"OFFSET(X0withPad!$A$1, INT((ROW()-1)/28), MOD(ROW()-1, 28))","v":0},{"$f":"OFFSET(X0withPad!$B$1, INT((ROW()-1)/28), MOD(ROW()-1, 28))","v":0},{"$f":"OFFSET(X0withPad!$C$1, INT((ROW()-1)/28), MOD(ROW()-1, 28))","v":0},{"$f":"OFFSET(X0withPad!$A$2, INT((ROW()-1)/28), MOD(ROW()-1, 28))","v":0},{"$f":"OFFSET(X0withPad!$B$2, INT((ROW()-1)/28), MOD(ROW()-1, 28))","v":0},{"$f":"OFFSET(X0withPad!$C$2, INT((ROW()-1)/28), MOD(ROW()-1, 28))","v":0},{"$f":"OFFSET(X0withPad!$A$3, INT((ROW()-1)/28), MOD(ROW()-1, 28))","v":0},{"$f":"OFFSET(X0withPad!$B$3, INT((ROW()-1)/28), MOD(ROW()-1, 28))","v":0},{"$f":"OFFSET(X0withPad!$C$3, INT((ROW()-1)/28), MOD(ROW()-1, 28))","v":0}]
[{"$f":"OFFSET(X0withPad!$A$1, INT((ROW()-1)/28), MOD(ROW()-1, 28))","v":0},{"$f":"OFFSET(X0withPad!$B$1, INT((ROW()-1)/28), MOD(ROW()-1, 28))","v":0},{"$f":"OFFSET(X0withPad!$C$1, INT((ROW()-1)/28), MOD(ROW()-1, 28))","v":0},{"$f":"OFFSET(X0withPad!$A$2, INT((ROW()-1)/28), MOD(ROW()-1, 28))","v":0},{"$f":"OFFSET(X0withPad!$B$2, INT((ROW()-1)/28), MOD(ROW()-1, 28))","v":0},{"$f":"OFFSET(X0withPad!$C$2, INT((ROW()-1)/28), MOD(ROW()-1, 28))","v":0},{"$f":"OFFSET(X0withPad!$A$3, INT((ROW()-1)/28), MOD(ROW()-1, 28))","v":0},{"$f":"OFFSET(X0withPad!$B$3, INT((ROW()-1)/28), MOD(ROW()-1, 28))","v":0},{"$f":"OFFSET(X0withPad!$C$3, INT((ROW()-1)/28), MOD(ROW()-1, 28))","v":0}]
[{"$f":"OFFSET(X0withPad!$A$1, INT((ROW()-1)/28), MOD(ROW()-1, 28))","v":0},{"$f":"OFFSET(X0withPad!$B$1, INT((ROW()-1)/28), MOD(ROW()-1, 28))","v":0},{"$f":"OFFSET(X0withPad!$C$1, INT((ROW()-1)/28), MOD(ROW()-1, 28))","v":0},{"$f":"OFFSET(X0withPad!$A$2, INT((ROW()-1)/28), MOD(ROW()-1, 28))","v":0},{"$f":"OFFSET(X0withPad!$B$2, INT((ROW()-1)/28), MOD(ROW()-1, 28))","v":0},{"$f":"OFFSET(X0withPad!$C$2, INT((ROW()-1)/28), MOD(ROW()-1, 28))","v":0},{"$f":"OFFSET(X0withPad!$A$3, INT((ROW()-1)/28), MOD(ROW()-1, 28))","v":0},{"$f":"OFFSET(X0withPad!$B$3, INT((ROW()-1)/28), MOD(ROW()-1, 28))","v":0},{"$f":"OFFSET(X0withPad!$C$3, INT((ROW()-1)/28), MOD(ROW()-1, 28))","v":0}]
[{"$f":"OFFSET(X0withPad!$A$1, INT((ROW()-1)/28), MOD(ROW()-1, 28))","v":0},{"$f":"OFFSET(X0withPad!$B$1, INT((ROW()-1)/28), MOD(ROW()-1, 28))","v":0},{"$f":"OFFSET(X0withPad!$C$1, INT((ROW()-1)/28), MOD(ROW()-1, 28))","v":0},{"$f":"OFFSET(X0withPad!$A$2, INT((ROW()-1)/28), MOD(ROW()-1, 28))","v":0},{"$f":"OFFSET(X0withPad!$B$2, INT((ROW()-1)/28), MOD(ROW()-1, 28))","v":0},{"$f":"OFFSET(X0withPad!$C$2, INT((ROW()-1)/28), MOD(ROW()-1, 28))","v":0},{"$f":"OFFSET(X0withPad!$A$3, INT((ROW()-1)/28), MOD(ROW()-1, 28))","v":0},{"$f":"OFFSET(X0withPad!$B$3, INT((ROW()-1)/28), MOD(ROW()-1, 28))","v":0},{"$f":"OFFSET(X0withPad!$C$3, INT((ROW()-1)/28), MOD(ROW()-1, 28))","v":0}]
[{"$f":"OFFSET(X0withPad!$A$1, INT((ROW()-1)/28), MOD(ROW()-1, 28))","v":0},{"$f":"OFFSET(X0withPad!$B$1, INT((ROW()-1)/28), MOD(ROW()-1, 28))","v":0},{"$f":"OFFSET(X0withPad!$C$1, INT((ROW()-1)/28), MOD(ROW()-1, 28))","v":0},{"$f":"OFFSET(X0withPad!$A$2, INT((ROW()-1)/28), MOD(ROW()-1, 28))","v":0},{"$f":"OFFSET(X0withPad!$B$2, INT((ROW()-1)/28), MOD(ROW()-1, 28))","v":0},{"$f":"OFFSET(X0withPad!$C$2, INT((ROW()-1)/28), MOD(ROW()-1, 28))","v":0},{"$f":"OFFSET(X0withPad!$A$3, INT((ROW()-1)/28), MOD(ROW()-1, 28))","v":0},{"$f":"OFFSET(X0withPad!$B$3, INT((ROW()-1)/28), MOD(ROW()-1, 28))","v":0},{"$f":"OFFSET(X0withPad!$C$3, INT((ROW()-1)/28), MOD(ROW()-1, 28))","v":0}]
[{"$f":"OFFSET(X0withPad!$A$1, INT((ROW()-1)/28), MOD(ROW()-1, 28))","v":0},{"$f":"OFFSET(X0withPad!$B$1, INT((ROW()-1)/28), MOD(ROW()-1, 28))","v":0},{"$f":"OFFSET(X0withPad!$C$1, INT((ROW()-1)/28), MOD(ROW()-1, 28))","v":0},{"$f":"OFFSET(X0withPad!$A$2, INT((ROW()-1)/28), MOD(ROW()-1, 28))","v":0},{"$f":"OFFSET(X0withPad!$B$2, INT((ROW()-1)/28), MOD(ROW()-1, 28))","v":0},{"$f":"OFFSET(X0withPad!$C$2, INT((ROW()-1)/28), MOD(ROW()-1, 28))","v":0},{"$f":"OFFSET(X0withPad!$A$3, INT((ROW()-1)/28), MOD(ROW()-1, 28))","v":0},{"$f":"OFFSET(X0withPad!$B$3, INT((ROW()-1)/28), MOD(ROW()-1, 28))","v":0},{"$f":"OFFSET(X0withPad!$C$3, INT((ROW()-1)/28), MOD(ROW()-1, 28))","v":0}]
[{"$f":"OFFSET(X0withPad!$A$1, INT((ROW()-1)/28), MOD(ROW()-1, 28))","v":0},{"$f":"OFFSET(X0withPad!$B$1, INT((ROW()-1)/28), MOD(ROW()-1, 28))","v":0},{"$f":"OFFSET(X0withPad!$C$1, INT((ROW()-1)/28), MOD(ROW()-1, 28))","v":0},{"$f":"OFFSET(X0withPad!$A$2, INT((ROW()-1)/28), MOD(ROW()-1, 28))","v":0},{"$f":"OFFSET(X0withPad!$B$2, INT((ROW()-1)/28), MOD(ROW()-1, 28))","v":0},{"$f":"OFFSET(X0withPad!$C$2, INT((ROW()-1)/28), MOD(ROW()-1, 28))","v":0},{"$f":"OFFSET(X0withPad!$A$3, INT((ROW()-1)/28), MOD(ROW()-1, 28))","v":0},{"$f":"OFFSET(X0withPad!$B$3, INT((ROW()-1)/28), MOD(ROW()-1, 28))","v":0},{"$f":"OFFSET(X0withPad!$C$3, INT((ROW()-1)/28), MOD(ROW()-1, 28))","v":0}]
[{"$f":"OFFSET(X0withPad!$A$1, INT((ROW()-1)/28), MOD(ROW()-1, 28))","v":0},{"$f":"OFFSET(X0withPad!$B$1, INT((ROW()-1)/28), MOD(ROW()-1, 28))","v":0},{"$f":"OFFSET(X0withPad!$C$1, INT((ROW()-1)/28), MOD(ROW()-1, 28))","v":0},{"$f":"OFFSET(X0withPad!$A$2, INT((ROW()-1)/28), MOD(ROW()-1, 28))","v":0},{"$f":"OFFSET(X0withPad!$B$2, INT((ROW()-1)/28), MOD(ROW()-1, 28))","v":0},{"$f":"OFFSET(X0withPad!$C$2, INT((ROW()-1)/28), MOD(ROW()-1, 28))","v":22},{"$f":"OFFSET(X0withPad!$A$3, INT((ROW()-1)/28), MOD(ROW()-1, 28))","v":0},{"$f":"OFFSET(X0withPad!$B$3, INT((ROW()-1)/28), MOD(ROW()-1, 28))","v":0},{"$f":"OFFSET(X0withPad!$C$3, INT((ROW()-1)/28), MOD(ROW()-1, 28))","v":129}]
[{"$f":"OFFSET(X0withPad!$A$1, INT((ROW()-1)/28), MOD(ROW()-1, 28))","v":0},{"$f":"OFFSET(X0withPad!$B$1, INT((ROW()-1)/28), MOD(ROW()-1, 28))","v":0},{"$f":"OFFSET(X0withPad!$C$1, INT((ROW()-1)/28), MOD(ROW()-1, 28))","v":83},{"$f":"OFFSET(X0withPad!$A$2, INT((ROW()-1)/28), MOD(ROW()-1, 28))","v":0},{"$f":"OFFSET(X0withPad!$B$2, INT((ROW()-1)/28), MOD(ROW()-1, 28))","v":22},{"$f":"OFFSET(X0withPad!$C$2, INT((ROW()-1)/28), MOD(ROW()-1, 28))","v":233},{"$f":"OFFSET(X0withPad!$A$3, INT((ROW()-1)/28), MOD(ROW()-1, 28))","v":0},{"$f":"OFFSET(X0withPad!$B$3, INT((ROW()-1)/28), MOD(ROW()-1, 28))","v":129},{"$f":"OFFSET(X0withPad!$C$3, INT((ROW()-1)/28), MOD(ROW()-1, 28))","v":254}]
[{"$f":"OFFSET(X0withPad!$A$1, INT((ROW()-1)/28), MOD(ROW()-1, 28))","v":0},{"$f":"OFFSET(X0withPad!$B$1, INT((ROW()-1)/28), MOD(ROW()-1, 28))","v":83},{"$f":"OFFSET(X0withPad!$C$1, INT((ROW()-1)/28), MOD(ROW()-1, 28))","v":253},{"$f":"OFFSET(X0withPad!$A$2, INT((ROW()-1)/28), MOD(ROW()-1, 28))","v":22},{"$f":"OFFSET(X0withPad!$B$2, INT((ROW()-1)/28), MOD(ROW()-1, 28))","v":233},{"$f":"OFFSET(X0withPad!$C$2, INT((ROW()-1)/28), MOD(ROW()-1, 28))","v":255},{"$f":"OFFSET(X0withPad!$A$3, INT((ROW()-1)/28), MOD(ROW()-1, 28))","v":129},{"$f":"OFFSET(X0withPad!$B$3, INT((ROW()-1)/28), MOD(ROW()-1, 28))","v":254},{"$f":"OFFSET(X0withPad!$C$3, INT((ROW()-1)/28), MOD(ROW()-1, 28))","v":238}]
[{"$f":"OFFSET(X0withPad!$A$1, INT((ROW()-1)/28), MOD(ROW()-1, 28))","v":83},{"$f":"OFFSET(X0withPad!$B$1, INT((ROW()-1)/28), MOD(ROW()-1, 28))","v":253},{"$f":"OFFSET(X0withPad!$C$1, INT((ROW()-1)/28), MOD(ROW()-1, 28))","v":209},{"$f":"OFFSET(X0withPad!$A$2, INT((ROW()-1)/28), MOD(ROW()-1, 28))","v":233},{"$f":"OFFSET(X0withPad!$B$2, INT((ROW()-1)/28), MOD(ROW()-1, 28))","v":255},{"$f":"OFFSET(X0withPad!$C$2, INT((ROW()-1)/28), MOD(ROW()-1, 28))","v":83},{"$f":"OFFSET(X0withPad!$A$3, INT((ROW()-1)/28), MOD(ROW()-1, 28))","v":254},{"$f":"OFFSET(X0withPad!$B$3, INT((ROW()-1)/28), MOD(ROW()-1, 28))","v":238},{"$f":"OFFSET(X0withPad!$C$3, INT((ROW()-1)/28), MOD(ROW()-1, 28))","v":44}]
[{"$f":"OFFSET(X0withPad!$A$1, INT((ROW()-1)/28), MOD(ROW()-1, 28))","v":253},{"$f":"OFFSET(X0withPad!$B$1, INT((ROW()-1)/28), MOD(ROW()-1, 28))","v":209},{"$f":"OFFSET(X0withPad!$C$1, INT((ROW()-1)/28), MOD(ROW()-1, 28))","v":18},{"$f":"OFFSET(X0withPad!$A$2, INT((ROW()-1)/28), MOD(ROW()-1, 28))","v":255},{"$f":"OFFSET(X0withPad!$B$2, INT((ROW()-1)/28), MOD(ROW()-1, 28))","v":83},{"$f":"OFFSET(X0withPad!$C$2, INT((ROW()-1)/28), MOD(ROW()-1, 28))","v":0},{"$f":"OFFSET(X0withPad!$A$3, INT((ROW()-1)/28), MOD(ROW()-1, 28))","v":238},{"$f":"OFFSET(X0withPad!$B$3, INT((ROW()-1)/28), MOD(ROW()-1, 28))","v":44},{"$f":"OFFSET(X0withPad!$C$3, INT((ROW()-1)/28), MOD(ROW()-1, 28))","v":0}]
[{"$f":"OFFSET(X0withPad!$A$1, INT((ROW()-1)/28), MOD(ROW()-1, 28))","v":209},{"$f":"OFFSET(X0withPad!$B$1, INT((ROW()-1)/28), MOD(ROW()-1, 28))","v":18},{"$f":"OFFSET(X0withPad!$C$1, INT((ROW()-1)/28), MOD(ROW()-1, 28))","v":0},{"$f":"OFFSET(X0withPad!$A$2, INT((ROW()-1)/28), MOD(ROW()-1, 28))","v":83},{"$f":"OFFSET(X0withPad!$B$2, INT((ROW()-1)/28), MOD(ROW()-1, 28))","v":0},{"$f":"OFFSET(X0withPad!$C$2, INT((ROW()-1)/28), MOD(ROW()-1, 28))","v":0},{"$f":"OFFSET(X0withPad!$A$3, INT((ROW()-1)/28), MOD(ROW()-1, 28))","v":44},{"$f":"OFFSET(X0withPad!$B$3, INT((ROW()-1)/28), MOD(ROW()-1, 28))","v":0},{"$f":"OFFSET(X0withPad!$C$3, INT((ROW()-1)/28), MOD(ROW()-1, 28))","v":0}]
[{"$f":"OFFSET(X0withPad!$A$1, INT((ROW()-1)/28), MOD(ROW()-1, 28))","v":18},{"$f":"OFFSET(X0withPad!$B$1, INT((ROW()-1)/28), MOD(ROW()-1, 28))","v":0},{"$f":"OFFSET(X0withPad!$C$1, INT((ROW()-1)/28), MOD(ROW()-1, 28))","v":0},{"$f":"OFFSET(X0withPad!$A$2, INT((ROW()-1)/28), MOD(ROW()-1, 28))","v":0},{"$f":"OFFSET(X0withPad!$B$2, INT((ROW()-1)/28), MOD(ROW()-1, 28))","v":0},{"$f":"OFFSET(X0withPad!$C$2, INT((ROW()-1)/28), MOD(ROW()-1, 28))","v":0},{"$f":"OFFSET(X0withPad!$A$3, INT((ROW()-1)/28), MOD(ROW()-1, 28))","v":0},{"$f":"OFFSET(X0withPad!$B$3, INT((ROW()-1)/28), MOD(ROW()-1, 28))","v":0},{"$f":"OFFSET(X0withPad!$C$3, INT((ROW()-1)/28), MOD(ROW()-1, 28))","v":0}]
[{"$f":"OFFSET(X0withPad!$A$1, INT((ROW()-1)/28), MOD(ROW()-1, 28))","v":0},{"$f":"OFFSET(X0withPad!$B$1, INT((ROW()-1)/28), MOD(ROW()-1, 28))","v":0},{"$f":"OFFSET(X0withPad!$C$1, INT((ROW()-1)/28), MOD(ROW()-1, 28))","v":0},{"$f":"OFFSET(X0withPad!$A$2, INT((ROW()-1)/28), MOD(ROW()-1, 28))","v":0},{"$f":"OFFSET(X0withPad!$B$2, INT((ROW()-1)/28), MOD(ROW()-1, 28))","v":0},{"$f":"OFFSET(X0withPad!$C$2, INT((ROW()-1)/28), MOD(ROW()-1, 28))","v":0},{"$f":"OFFSET(X0withPad!$A$3, INT((ROW()-1)/28), MOD(ROW()-1, 28))","v":0},{"$f":"OFFSET(X0withPad!$B$3, INT((ROW()-1)/28), MOD(ROW()-1, 28))","v":0},{"$f":"OFFSET(X0withPad!$C$3, INT((ROW()-1)/28), MOD(ROW()-1, 28))","v":0}]
[{"$f":"OFFSET(X0withPad!$A$1, INT((ROW()-1)/28), MOD(ROW()-1, 28))","v":0},{"$f":"OFFSET(X0withPad!$B$1, INT((ROW()-1)/28), MOD(ROW()-1, 28))","v":0},{"$f":"OFFSET(X0withPad!$C$1, INT((ROW()-1)/28), MOD(ROW()-1, 28))","v":0},{"$f":"OFFSET(X0withPad!$A$2, INT((ROW()-1)/28), MOD(ROW()-1, 28))","v":0},{"$f":"OFFSET(X0withPad!$B$2, INT((ROW()-1)/28), MOD(ROW()-1, 28))","v":0},{"$f":"OFFSET(X0withPad!$C$2, INT((ROW()-1)/28), MOD(ROW()-1, 28))","v":0},{"$f":"OFFSET(X0withPad!$A$3, INT((ROW()-1)/28), MOD(ROW()-1, 28))","v":0},{"$f":"OFFSET(X0withPad!$B$3, INT((ROW()-1)/28), MOD(ROW()-1, 28))","v":0},{"$f":"OFFSET(X0withPad!$C$3, INT((ROW()-1)/28), MOD(ROW()-1, 28))","v":0}]
[{"$f":"OFFSET(X0withPad!$A$1, INT((ROW()-1)/28), MOD(ROW()-1, 28))","v":0},{"$f":"OFFSET(X0withPad!$B$1, INT((ROW()-1)/28), MOD(ROW()-1, 28))","v":0},{"$f":"OFFSET(X0withPad!$C$1, INT((ROW()-1)/28), MOD(ROW()-1, 28))","v":0},{"$f":"OFFSET(X0withPad!$A$2, INT((ROW()-1)/28), MOD(ROW()-1, 28))","v":0},{"$f":"OFFSET(X0withPad!$B$2, INT((ROW()-1)/28), MOD(ROW()-1, 28))","v":0},{"$f":"OFFSET(X0withPad!$C$2, INT((ROW()-1)/28), MOD(ROW()-1, 28))","v":0},{"$f":"OFFSET(X0withPad!$A$3, INT((ROW()-1)/28), MOD(ROW()-1, 28))","v":0},{"$f":"OFFSET(X0withPad!$B$3, INT((ROW()-1)/28), MOD(ROW()-1, 28))","v":0},{"$f":"OFFSET(X0withPad!$C$3, INT((ROW()-1)/28), MOD(ROW()-1, 28))","v":0}]
[{"$f":"OFFSET(X0withPad!$A$1, INT((ROW()-1)/28), MOD(ROW()-1, 28))","v":0},{"$f":"OFFSET(X0withPad!$B$1, INT((ROW()-1)/28), MOD(ROW()-1, 28))","v":0},{"$f":"OFFSET(X0withPad!$C$1, INT((ROW()-1)/28), MOD(ROW()-1, 28))","v":0},{"$f":"OFFSET(X0withPad!$A$2, INT((ROW()-1)/28), MOD(ROW()-1, 28))","v":0},{"$f":"OFFSET(X0withPad!$B$2, INT((ROW()-1)/28), MOD(ROW()-1, 28))","v":0},{"$f":"OFFSET(X0withPad!$C$2, INT((ROW()-1)/28), MOD(ROW()-1, 28))","v":0},{"$f":"OFFSET(X0withPad!$A$3, INT((ROW()-1)/28), MOD(ROW()-1, 28))","v":0},{"$f":"OFFSET(X0withPad!$B$3, INT((ROW()-1)/28), MOD(ROW()-1, 28))","v":0},{"$f":"OFFSET(X0withPad!$C$3, INT((ROW()-1)/28), MOD(ROW()-1, 28))","v":0}]
[{"$f":"OFFSET(X0withPad!$A$1, INT((ROW()-1)/28), MOD(ROW()-1, 28))","v":0},{"$f":"OFFSET(X0withPad!$B$1, INT((ROW()-1)/28), MOD(ROW()-1, 28))","v":0},{"$f":"OFFSET(X0withPad!$C$1, INT((ROW()-1)/28), MOD(ROW()-1, 28))","v":0},{"$f":"OFFSET(X0withPad!$A$2, INT((ROW()-1)/28), MOD(ROW()-1, 28))","v":0},{"$f":"OFFSET(X0withPad!$B$2, INT((ROW()-1)/28), MOD(ROW()-1, 28))","v":0},{"$f":"OFFSET(X0withPad!$C$2, INT((ROW()-1)/28), MOD(ROW()-1, 28))","v":0},{"$f":"OFFSET(X0withPad!$A$3, INT((ROW()-1)/28), MOD(ROW()-1, 28))","v":0},{"$f":"OFFSET(X0withPad!$B$3, INT((ROW()-1)/28), MOD(ROW()-1, 28))","v":0},{"$f":"OFFSET(X0withPad!$C$3, INT((ROW()-1)/28), MOD(ROW()-1, 28))","v":0}]
[{"$f":"OFFSET(X0withPad!$A$1, INT((ROW()-1)/28), MOD(ROW()-1, 28))","v":0},{"$f":"OFFSET(X0withPad!$B$1, INT((ROW()-1)/28), MOD(ROW()-1, 28))","v":0},{"$f":"OFFSET(X0withPad!$C$1, INT((ROW()-1)/28), MOD(ROW()-1, 28))","v":0},{"$f":"OFFSET(X0withPad!$A$2, INT((ROW()-1)/28), MOD(ROW()-1, 28))","v":0},{"$f":"OFFSET(X0withPad!$B$2, INT((ROW()-1)/28), MOD(ROW()-1, 28))","v":0},{"$f":"OFFSET(X0withPad!$C$2, INT((ROW()-1)/28), MOD(ROW()-1, 28))","v":0},{"$f":"OFFSET(X0withPad!$A$3, INT((ROW()-1)/28), MOD(ROW()-1, 28))","v":0},{"$f":"OFFSET(X0withPad!$B$3, INT((ROW()-1)/28), MOD(ROW()-1, 28))","v":0},{"$f":"OFFSET(X0withPad!$C$3, INT((ROW()-1)/28), MOD(ROW()-1, 28))","v":0}]
[{"$f":"OFFSET(X0withPad!$A$1, INT((ROW()-1)/28), MOD(ROW()-1, 28))","v":0},{"$f":"OFFSET(X0withPad!$B$1, INT((ROW()-1)/28), MOD(ROW()-1, 28))","v":0},{"$f":"OFFSET(X0withPad!$C$1, INT((ROW()-1)/28), MOD(ROW()-1, 28))","v":0},{"$f":"OFFSET(X0withPad!$A$2, INT((ROW()-1)/28), MOD(ROW()-1, 28))","v":0},{"$f":"OFFSET(X0withPad!$B$2, INT((ROW()-1)/28), MOD(ROW()-1, 28))","v":0},{"$f":"OFFSET(X0withPad!$C$2, INT((ROW()-1)/28), MOD(ROW()-1, 28))","v":0},{"$f":"OFFSET(X0withPad!$A$3, INT((ROW()-1)/28), MOD(ROW()-1, 28))","v":0},{"$f":"OFFSET(X0withPad!$B$3, INT((ROW()-1)/28), MOD(ROW()-1, 28))","v":0},{"$f":"OFFSET(X0withPad!$C$3, INT((ROW()-1)/28), MOD(ROW()-1, 28))","v":0}]
[{"$f":"OFFSET(X0withPad!$A$1, INT((ROW()-1)/28), MOD(ROW()-1, 28))","v":0},{"$f":"OFFSET(X0withPad!$B$1, INT((ROW()-1)/28), MOD(ROW()-1, 28))","v":0},{"$f":"OFFSET(X0withPad!$C$1, INT((ROW()-1)/28), MOD(ROW()-1, 28))","v":0},{"$f":"OFFSET(X0withPad!$A$2, INT((ROW()-1)/28), MOD(ROW()-1, 28))","v":0},{"$f":"OFFSET(X0withPad!$B$2, INT((ROW()-1)/28), MOD(ROW()-1, 28))","v":0},{"$f":"OFFSET(X0withPad!$C$2, INT((ROW()-1)/28), MOD(ROW()-1, 28))","v":0},{"$f":"OFFSET(X0withPad!$A$3, INT((ROW()-1)/28), MOD(ROW()-1, 28))","v":0},{"$f":"OFFSET(X0withPad!$B$3, INT((ROW()-1)/28), MOD(ROW()-1, 28))","v":0},{"$f":"OFFSET(X0withPad!$C$3, INT((ROW()-1)/28), MOD(ROW()-1, 28))","v":0}]
[{"$f":"OFFSET(X0withPad!$A$1, INT((ROW()-1)/28), MOD(ROW()-1, 28))","v":0},{"$f":"OFFSET(X0withPad!$B$1, INT((ROW()-1)/28), MOD(ROW()-1, 28))","v":0},{"$f":"OFFSET(X0withPad!$C$1, INT((ROW()-1)/28), MOD(ROW()-1, 28))","v":0},{"$f":"OFFSET(X0withPad!$A$2, INT((ROW()-1)/28), MOD(ROW()-1, 28))","v":0},{"$f":"OFFSET(X0withPad!$B$2, INT((ROW()-1)/28), MOD(ROW()-1, 28))","v":0},{"$f":"OFFSET(X0withPad!$C$2, INT((ROW()-1)/28), MOD(ROW()-1, 28))","v":0},{"$f":"OFFSET(X0withPad!$A$3, INT((ROW()-1)/28), MOD(ROW()-1, 28))","v":0},{"$f":"OFFSET(X0withPad!$B$3, INT((ROW()-1)/28), MOD(ROW()-1, 28))","v":0},{"$f":"OFFSET(X0withPad!$C$3, INT((ROW()-1)/28), MOD(ROW()-1, 28))","v":0}]
[{"$f":"OFFSET(X0withPad!$A$1, INT((ROW()-1)/28), MOD(ROW()-1, 28))","v":0},{"$f":"OFFSET(X0withPad!$B$1, INT((ROW()-1)/28), MOD(ROW()-1, 28))","v":0},{"$f":"OFFSET(X0withPad!$C$1, INT((ROW()-1)/28), MOD(ROW()-1, 28))","v":0},{"$f":"OFFSET(X0withPad!$A$2, INT((ROW()-1)/28), MOD(ROW()-1, 28))","v":0},{"$f":"OFFSET(X0withPad!$B$2, INT((ROW()-1)/28), MOD(ROW()-1, 28))","v":0},{"$f":"OFFSET(X0withPad!$C$2, INT((ROW()-1)/28), MOD(ROW()-1, 28))","v":0},{"$f":"OFFSET(X0withPad!$A$3, INT((ROW()-1)/28), MOD(ROW()-1, 28))","v":0},{"$f":"OFFSET(X0withPad!$B$3, INT((ROW()-1)/28), MOD(ROW()-1, 28))","v":0},{"$f":"OFFSET(X0withPad!$C$3, INT((ROW()-1)/28), MOD(ROW()-1, 28))","v":0}]
[{"$f":"OFFSET(X0withPad!$A$1, INT((ROW()-1)/28), MOD(ROW()-1, 28))","v":0},{"$f":"OFFSET(X0withPad!$B$1, INT((ROW()-1)/28), MOD(ROW()-1, 28))","v":0},{"$f":"OFFSET(X0withPad!$C$1, INT((ROW()-1)/28), MOD(ROW()-1, 28))","v":0},{"$f":"OFFSET(X0withPad!$A$2, INT((ROW()-1)/28), MOD(ROW()-1, 28))","v":0},{"$f":"OFFSET(X0withPad!$B$2, INT((ROW()-1)/28), MOD(ROW()-1, 28))","v":0},{"$f":"OFFSET(X0withPad!$C$2, INT((ROW()-1)/28), MOD(ROW()-1, 28))","v":0},{"$f":"OFFSET(X0withPad!$A$3, INT((ROW()-1)/28), MOD(ROW()-1, 28))","v":0},{"$f":"OFFSET(X0withPad!$B$3, INT((ROW()-1)/28), MOD(ROW()-1, 28))","v":0},{"$f":"OFFSET(X0withPad!$C$3, INT((ROW()-1)/28), MOD(ROW()-1, 28))","v":0}]
[{"$f":"OFFSET(X0withPad!$A$1, INT((ROW()-1)/28), MOD(ROW()-1, 28))","v":0},{"$f":"OFFSET(X0withPad!$B$1, INT((ROW()-1)/28), MOD(ROW()-1, 28))","v":0},{"$f":"OFFSET(X0withPad!$C$1, INT((ROW()-1)/28), MOD(ROW()-1, 28))","v":0},{"$f":"OFFSET(X0withPad!$A$2, INT((ROW()-1)/28), MOD(ROW()-1, 28))","v":0},{"$f":"OFFSET(X0withPad!$B$2, INT((ROW()-1)/28), MOD(ROW()-1, 28))","v":0},{"$f":"OFFSET(X0withPad!$C$2, INT((ROW()-1)/28), MOD(ROW()-1, 28))","v":0},{"$f":"OFFSET(X0withPad!$A$3, INT((ROW()-1)/28), MOD(ROW()-1, 28))","v":0},{"$f":"OFFSET(X0withPad!$B$3, INT((ROW()-1)/28), MOD(ROW()-1, 28))","v":0},{"$f":"OFFSET(X0withPad!$C$3, INT((ROW()-1)/28), MOD(ROW()-1, 28))","v":0}]
[{"$f":"OFFSET(X0withPad!$A$1, INT((ROW()-1)/28), MOD(ROW()-1, 28))","v":0},{"$f":"OFFSET(X0withPad!$B$1, INT((ROW()-1)/28), MOD(ROW()-1, 28))","v":0},{"$f":"OFFSET(X0withPad!$C$1, INT((ROW()-1)/28), MOD(ROW()-1, 28))","v":0},{"$f":"OFFSET(X0withPad!$A$2, INT((ROW()-1)/28), MOD(ROW()-1, 28))","v":0},{"$f":"OFFSET(X0withPad!$B$2, INT((ROW()-1)/28), MOD(ROW()-1, 28))","v":0},{"$f":"OFFSET(X0withPad!$C$2, INT((ROW()-1)/28), MOD(ROW()-1, 28))","v":0},{"$f":"OFFSET(X0withPad!$A$3, INT((ROW()-1)/28), MOD(ROW()-1, 28))","v":0},{"$f":"OFFSET(X0withPad!$B$3, INT((ROW()-1)/28), MOD(ROW()-1, 28))","v":0},{"$f":"OFFSET(X0withPad!$C$3, INT((ROW()-1)/28), MOD(ROW()-1, 28))","v":0}]
[{"$f":"OFFSET(X0withPad!$A$1, INT((ROW()-1)/28), MOD(ROW()-1, 28))","v":0},{"$f":"OFFSET(X0withPad!$B$1, INT((ROW()-1)/28), MOD(ROW()-1, 28))","v":0},{"$f":"OFFSET(X0withPad!$C$1, INT((ROW()-1)/28), MOD(ROW()-1, 28))","v":0},{"$f":"OFFSET(X0withPad!$A$2, INT((ROW()-1)/28), MOD(ROW()-1, 28))","v":0},{"$f":"OFFSET(X0withPad!$B$2, INT((ROW()-1)/28), MOD(ROW()-1, 28))","v":0},{"$f":"OFFSET(X0withPad!$C$2, INT((ROW()-1)/28), MOD(ROW()-1, 28))","v":0},{"$f":"OFFSET(X0withPad!$A$3, INT((ROW()-1)/28), MOD(ROW()-1, 28))","v":0},{"$f":"OFFSET(X0withPad!$B$3, INT((ROW()-1)/28), MOD(ROW()-1, 28))","v":0},{"$f":"OFFSET(X0withPad!$C$3, INT((ROW()-1)/28), MOD(ROW()-1, 28))","v":0}]
[{"$f":"OFFSET(X0withPad!$A$1, INT((ROW()-1)/28), MOD(ROW()-1, 28))","v":0},{"$f":"OFFSET(X0withPad!$B$1, INT((ROW()-1)/28), MOD(ROW()-1, 28))","v":0},{"$f":"OFFSET(X0withPad!$C$1, INT((ROW()-1)/28), MOD(ROW()-1, 28))","v":0},{"$f":"OFFSET(X0withPad!$A$2, INT((ROW()-1)/28), MOD(ROW()-1, 28))","v":0},{"$f":"OFFSET(X0withPad!$B$2, INT((ROW()-1)/28), MOD(ROW()-1, 28))","v":0},{"$f":"OFFSET(X0withPad!$C$2, INT((ROW()-1)/28), MOD(ROW()-1, 28))","v":0},{"$f":"OFFSET(X0withPad!$A$3, INT((ROW()-1)/28), MOD(ROW()-1, 28))","v":0},{"$f":"OFFSET(X0withPad!$B$3, INT((ROW()-1)/28), MOD(ROW()-1, 28))","v":0},{"$f":"OFFSET(X0withPad!$C$3, INT((ROW()-1)/28), MOD(ROW()-1, 28))","v":0}]
[{"$f":"OFFSET(X0withPad!$A$1, INT((ROW()-1)/28), MOD(ROW()-1, 28))","v":0},{"$f":"OFFSET(X0withPad!$B$1, INT((ROW()-1)/28), MOD(ROW()-1, 28))","v":0},{"$f":"OFFSET(X0withPad!$C$1, INT((ROW()-1)/28), MOD(ROW()-1, 28))","v":0},{"$f":"OFFSET(X0withPad!$A$2, INT((ROW()-1)/28), MOD(ROW()-1, 28))","v":0},{"$f":"OFFSET(X0withPad!$B$2, INT((ROW()-1)/28), MOD(ROW()-1, 28))","v":0},{"$f":"OFFSET(X0withPad!$C$2, INT((ROW()-1)/28), MOD(ROW()-1, 28))","v":0},{"$f":"OFFSET(X0withPad!$A$3, INT((ROW()-1)/28), MOD(ROW()-1, 28))","v":0},{"$f":"OFFSET(X0withPad!$B$3, INT((ROW()-1)/28), MOD(ROW()-1, 28))","v":0},{"$f":"OFFSET(X0withPad!$C$3, INT((ROW()-1)/28), MOD(ROW()-1, 28))","v":0}]
[{"$f":"OFFSET(X0withPad!$A$1, INT((ROW()-1)/28), MOD(ROW()-1, 28))","v":0},{"$f":"OFFSET(X0withPad!$B$1, INT((ROW()-1)/28), MOD(ROW()-1, 28))","v":0},{"$f":"OFFSET(X0withPad!$C$1, INT((ROW()-1)/28), MOD(ROW()-1, 28))","v":0},{"$f":"OFFSET(X0withPad!$A$2, INT((ROW()-1)/28), MOD(ROW()-1, 28))","v":0},{"$f":"OFFSET(X0withPad!$B$2, INT((ROW()-1)/28), MOD(ROW()-1, 28))","v":0},{"$f":"OFFSET(X0withPad!$C$2, INT((ROW()-1)/28), MOD(ROW()-1, 28))","v":0},{"$f":"OFFSET(X0withPad!$A$3, INT((ROW()-1)/28), MOD(ROW()-1, 28))","v":0},{"$f":"OFFSET(X0withPad!$B$3, INT((ROW()-1)/28), MOD(ROW()-1, 28))","v":0},{"$f":"OFFSET(X0withPad!$C$3, INT((ROW()-1)/28), MOD(ROW()-1, 28))","v":0}]
[{"$f":"OFFSET(X0withPad!$A$1, INT((ROW()-1)/28), MOD(ROW()-1, 28))","v":0},{"$f":"OFFSET(X0withPad!$B$1, INT((ROW()-1)/28), MOD(ROW()-1, 28))","v":0},{"$f":"OFFSET(X0withPad!$C$1, INT((ROW()-1)/28), MOD(ROW()-1, 28))","v":0},{"$f":"OFFSET(X0withPad!$A$2, INT((ROW()-1)/28), MOD(ROW()-1, 28))","v":0},{"$f":"OFFSET(X0withPad!$B$2, INT((ROW()-1)/28), MOD(ROW()-1, 28))","v":0},{"$f":"OFFSET(X0withPad!$C$2, INT((ROW()-1)/28), MOD(ROW()-1, 28))","v":0},{"$f":"OFFSET(X0withPad!$A$3, INT((ROW()-1)/28), MOD(ROW()-1, 28))","v":0},{"$f":"OFFSET(X0withPad!$B$3, INT((ROW()-1)/28), MOD(ROW()-1, 28))","v":0},{"$f":"OFFSET(X0withPad!$C$3, INT((ROW()-1)/28), MOD(ROW()-1, 28))","v":0}]
[{"$f":"OFFSET(X0withPad!$A$1, INT((ROW()-1)/28), MOD(ROW()-1, 28))","v":0},{"$f":"OFFSET(X0withPad!$B$1, INT((ROW()-1)/28), MOD(ROW()-1, 28))","v":0},{"$f":"OFFSET(X0withPad!$C$1, INT((ROW()-1)/28), MOD(ROW()-1, 28))","v":0},{"$f":"OFFSET(X0withPad!$A$2, INT((ROW()-1)/28), MOD(ROW()-1, 28))","v":0},{"$f":"OFFSET(X0withPad!$B$2, INT((ROW()-1)/28), MOD(ROW()-1, 28))","v":0},{"$f":"OFFSET(X0withPad!$C$2, INT((ROW()-1)/28), MOD(ROW()-1, 28))","v":0},{"$f":"OFFSET(X0withPad!$A$3, INT((ROW()-1)/28), MOD(ROW()-1, 28))","v":0},{"$f":"OFFSET(X0withPad!$B$3, INT((ROW()-1)/28), MOD(ROW()-1, 28))","v":0},{"$f":"OFFSET(X0withPad!$C$3, INT((ROW()-1)/28), MOD(ROW()-1, 28))","v":0}]
[{"$f":"OFFSET(X0withPad!$A$1, INT((ROW()-1)/28), MOD(ROW()-1, 28))","v":0},{"$f":"OFFSET(X0withPad!$B$1, INT((ROW()-1)/28), MOD(ROW()-1, 28))","v":0},{"$f":"OFFSET(X0withPad!$C$1, INT((ROW()-1)/28), MOD(ROW()-1, 28))","v":0},{"$f":"OFFSET(X0withPad!$A$2, INT((ROW()-1)/28), MOD(ROW()-1, 28))","v":0},{"$f":"OFFSET(X0withPad!$B$2, INT((ROW()-1)/28), MOD(ROW()-1, 28))","v":0},{"$f":"OFFSET(X0withPad!$C$2, INT((ROW()-1)/28), MOD(ROW()-1, 28))","v":0},{"$f":"OFFSET(X0withPad!$A$3, INT((ROW()-1)/28), MOD(ROW()-1, 28))","v":0},{"$f":"OFFSET(X0withPad!$B$3, INT((ROW()-1)/28), MOD(ROW()-1, 28))","v":0},{"$f":"OFFSET(X0withPad!$C$3, INT((ROW()-1)/28), MOD(ROW()-1, 28))","v":0}]
[{"$f":"OFFSET(X0withPad!$A$1, INT((ROW()-1)/28), MOD(ROW()-1, 28))","v":0},{"$f":"OFFSET(X0withPad!$B$1, INT((ROW()-1)/28), MOD(ROW()-1, 28))","v":0},{"$f":"OFFSET(X0withPad!$C$1, INT((ROW()-1)/28), MOD(ROW()-1, 28))","v":0},{"$f":"OFFSET(X0withPad!$A$2, INT((ROW()-1)/28), MOD(ROW()-1, 28))","v":0},{"$f":"OFFSET(X0withPad!$B$2, INT((ROW()-1)/28), MOD(ROW()-1, 28))","v":0},{"$f":"OFFSET(X0withPad!$C$2, INT((ROW()-1)/28), MOD(ROW()-1, 28))","v":0},{"$f":"OFFSET(X0withPad!$A$3, INT((ROW()-1)/28), MOD(ROW()-1, 28))","v":0},{"$f":"OFFSET(X0withPad!$B$3, INT((ROW()-1)/28), MOD(ROW()-1, 28))","v":0},{"$f":"OFFSET(X0withPad!$C$3, INT((ROW()-1)/28), MOD(ROW()-1, 28))","v":59}]
[{"$f":"OFFSET(X0withPad!$A$1, INT((ROW()-1)/28), MOD(ROW()-1, 28))","v":0},{"$f":"OFFSET(X0withPad!$B$1, INT((ROW()-1)/28), MOD(ROW()-1, 28))","v":0},{"$f":"OFFSET(X0withPad!$C$1, INT((ROW()-1)/28), MOD(ROW()-1, 28))","v":22},{"$f":"OFFSET(X0withPad!$A$2, INT((ROW()-1)/28), MOD(ROW()-1, 28))","v":0},{"$f":"OFFSET(X0withPad!$B$2, INT((ROW()-1)/28), MOD(ROW()-1, 28))","v":0},{"$f":"OFFSET(X0withPad!$C$2, INT((ROW()-1)/28), MOD(ROW()-1, 28))","v":129},{"$f":"OFFSET(X0withPad!$A$3, INT((ROW()-1)/28), MOD(ROW()-1, 28))","v":0},{"$f":"OFFSET(X0withPad!$B$3, INT((ROW()-1)/28), MOD(ROW()-1, 28))","v":59},{"$f":"OFFSET(X0withPad!$C$3, INT((ROW()-1)/28), MOD(ROW()-1, 28))","v":249}]
[{"$f":"OFFSET(X0withPad!$A$1, INT((ROW()-1)/28), MOD(ROW()-1, 28))","v":0},{"$f":"OFFSET(X0withPad!$B$1, INT((ROW()-1)/28), MOD(ROW()-1, 28))","v":22},{"$f":"OFFSET(X0withPad!$C$1, INT((ROW()-1)/28), MOD(ROW()-1, 28))","v":233},{"$f":"OFFSET(X0withPad!$A$2, INT((ROW()-1)/28), MOD(ROW()-1, 28))","v":0},{"$f":"OFFSET(X0withPad!$B$2, INT((ROW()-1)/28), MOD(ROW()-1, 28))","v":129},{"$f":"OFFSET(X0withPad!$C$2, INT((ROW()-1)/28), MOD(ROW()-1, 28))","v":254},{"$f":"OFFSET(X0withPad!$A$3, INT((ROW()-1)/28), MOD(ROW()-1, 28))","v":59},{"$f":"OFFSET(X0withPad!$B$3, INT((ROW()-1)/28), MOD(ROW()-1, 28))","v":249},{"$f":"OFFSET(X0withPad!$C$3, INT((ROW()-1)/28), MOD(ROW()-1, 28))","v":254}]
[{"$f":"OFFSET(X0withPad!$A$1, INT((ROW()-1)/28), MOD(ROW()-1, 28))","v":22},{"$f":"OFFSET(X0withPad!$B$1, INT((ROW()-1)/28), MOD(ROW()-1, 28))","v":233},{"$f":"OFFSET(X0withPad!$C$1, INT((ROW()-1)/28), MOD(ROW()-1, 28))","v":255},{"$f":"OFFSET(X0withPad!$A$2, INT((ROW()-1)/28), MOD(ROW()-1, 28))","v":129},{"$f":"OFFSET(X0withPad!$B$2, INT((ROW()-1)/28), MOD(ROW()-1, 28))","v":254},{"$f":"OFFSET(X0withPad!$C$2, INT((ROW()-1)/28), MOD(ROW()-1, 28))","v":238},{"$f":"OFFSET(X0withPad!$A$3, INT((ROW()-1)/28), MOD(ROW()-1, 28))","v":249},{"$f":"OFFSET(X0withPad!$B$3, INT((ROW()-1)/28), MOD(ROW()-1, 28))","v":254},{"$f":"OFFSET(X0withPad!$C$3, INT((ROW()-1)/28), MOD(ROW()-1, 28))","v":62}]
[{"$f":"OFFSET(X0withPad!$A$1, INT((ROW()-1)/28), MOD(ROW()-1, 28))","v":233},{"$f":"OFFSET(X0withPad!$B$1, INT((ROW()-1)/28), MOD(ROW()-1, 28))","v":255},{"$f":"OFFSET(X0withPad!$C$1, INT((ROW()-1)/28), MOD(ROW()-1, 28))","v":83},{"$f":"OFFSET(X0withPad!$A$2, INT((ROW()-1)/28), MOD(ROW()-1, 28))","v":254},{"$f":"OFFSET(X0withPad!$B$2, INT((ROW()-1)/28), MOD(ROW()-1, 28))","v":238},{"$f":"OFFSET(X0withPad!$C$2, INT((ROW()-1)/28), MOD(ROW()-1, 28))","v":44},{"$f":"OFFSET(X0withPad!$A$3, INT((ROW()-1)/28), MOD(ROW()-1, 28))","v":254},{"$f":"OFFSET(X0withPad!$B$3, INT((ROW()-1)/28), MOD(ROW()-1, 28))","v":62},{"$f":"OFFSET(X0withPad!$C$3, INT((ROW()-1)/28), MOD(ROW()-1, 28))","v":0}]
[{"$f":"OFFSET(X0withPad!$A$1, INT((ROW()-1)/28), MOD(ROW()-1, 28))","v":255},{"$f":"OFFSET(X0withPad!$B$1, INT((ROW()-1)/28), MOD(ROW()-1, 28))","v":83},{"$f":"OFFSET(X0withPad!$C$1, INT((ROW()-1)/28), MOD(ROW()-1, 28))","v":0},{"$f":"OFFSET(X0withPad!$A$2, INT((ROW()-1)/28), MOD(ROW()-1, 28))","v":238},{"$f":"OFFSET(X0withPad!$B$2, INT((ROW()-1)/28), MOD(ROW()-1, 28))","v":44},{"$f":"OFFSET(X0withPad!$C$2, INT((ROW()-1)/28), MOD(ROW()-1, 28))","v":0},{"$f":"OFFSET(X0withPad!$A$3, INT((ROW()-1)/28), MOD(ROW()-1, 28))","v":62},{"$f":"OFFSET(X0withPad!$B$3, INT((ROW()-1)/28), MOD(ROW()-1, 28))","v":0},{"$f":"OFFSET(X0withPad!$C$3, INT((ROW()-1)/28), MOD(ROW()-1, 28))","v":0}]
[{"$f":"OFFSET(X0withPad!$A$1, INT((ROW()-1)/28), MOD(ROW()-1, 28))","v":83},{"$f":"OFFSET(X0withPad!$B$1, INT((ROW()-1)/28), MOD(ROW()-1, 28))","v":0},{"$f":"OFFSET(X0withPad!$C$1, INT((ROW()-1)/28), MOD(ROW()-1, 28))","v":0},{"$f":"OFFSET(X0withPad!$A$2, INT((ROW()-1)/28), MOD(ROW()-1, 28))","v":44},{"$f":"OFFSET(X0withPad!$B$2, INT((ROW()-1)/28), MOD(ROW()-1, 28))","v":0},{"$f":"OFFSET(X0withPad!$C$2, INT((ROW()-1)/28), MOD(ROW()-1, 28))","v":0},{"$f":"OFFSET(X0withPad!$A$3, INT((ROW()-1)/28), MOD(ROW()-1, 28))","v":0},{"$f":"OFFSET(X0withPad!$B$3, INT((ROW()-1)/28), MOD(ROW()-1, 28))","v":0},{"$f":"OFFSET(X0withPad!$C$3, INT((ROW()-1)/28), MOD(ROW()-1, 28))","v":0}]
[{"$f":"OFFSET(X0withPad!$A$1, INT((ROW()-1)/28), MOD(ROW()-1, 28))","v":0},{"$f":"OFFSET(X0withPad!$B$1, INT((ROW()-1)/28), MOD(ROW()-1, 28))","v":0},{"$f":"OFFSET(X0withPad!$C$1, INT((ROW()-1)/28), MOD(ROW()-1, 28))","v":0},{"$f":"OFFSET(X0withPad!$A$2, INT((ROW()-1)/28), MOD(ROW()-1, 28))","v":0},{"$f":"OFFSET(X0withPad!$B$2, INT((ROW()-1)/28), MOD(ROW()-1, 28))","v":0},{"$f":"OFFSET(X0withPad!$C$2, INT((ROW()-1)/28), MOD(ROW()-1, 28))","v":0},{"$f":"OFFSET(X0withPad!$A$3, INT((ROW()-1)/28), MOD(ROW()-1, 28))","v":0},{"$f":"OFFSET(X0withPad!$B$3, INT((ROW()-1)/28), MOD(ROW()-1, 28))","v":0},{"$f":"OFFSET(X0withPad!$C$3, INT((ROW()-1)/28), MOD(ROW()-1, 28))","v":0}]
[{"$f":"OFFSET(X0withPad!$A$1, INT((ROW()-1)/28), MOD(ROW()-1, 28))","v":0},{"$f":"OFFSET(X0withPad!$B$1, INT((ROW()-1)/28), MOD(ROW()-1, 28))","v":0},{"$f":"OFFSET(X0withPad!$C$1, INT((ROW()-1)/28), MOD(ROW()-1, 28))","v":0},{"$f":"OFFSET(X0withPad!$A$2, INT((ROW()-1)/28), MOD(ROW()-1, 28))","v":0},{"$f":"OFFSET(X0withPad!$B$2, INT((ROW()-1)/28), MOD(ROW()-1, 28))","v":0},{"$f":"OFFSET(X0withPad!$C$2, INT((ROW()-1)/28), MOD(ROW()-1, 28))","v":0},{"$f":"OFFSET(X0withPad!$A$3, INT((ROW()-1)/28), MOD(ROW()-1, 28))","v":0},{"$f":"OFFSET(X0withPad!$B$3, INT((ROW()-1)/28), MOD(ROW()-1, 28))","v":0},{"$f":"OFFSET(X0withPad!$C$3, INT((ROW()-1)/28), MOD(ROW()-1, 28))","v":0}]
[{"$f":"OFFSET(X0withPad!$A$1, INT((ROW()-1)/28), MOD(ROW()-1, 28))","v":0},{"$f":"OFFSET(X0withPad!$B$1, INT((ROW()-1)/28), MOD(ROW()-1, 28))","v":0},{"$f":"OFFSET(X0withPad!$C$1, INT((ROW()-1)/28), MOD(ROW()-1, 28))","v":0},{"$f":"OFFSET(X0withPad!$A$2, INT((ROW()-1)/28), MOD(ROW()-1, 28))","v":0},{"$f":"OFFSET(X0withPad!$B$2, INT((ROW()-1)/28), MOD(ROW()-1, 28))","v":0},{"$f":"OFFSET(X0withPad!$C$2, INT((ROW()-1)/28), MOD(ROW()-1, 28))","v":0},{"$f":"OFFSET(X0withPad!$A$3, INT((ROW()-1)/28), MOD(ROW()-1, 28))","v":0},{"$f":"OFFSET(X0withPad!$B$3, INT((ROW()-1)/28), MOD(ROW()-1, 28))","v":0},{"$f":"OFFSET(X0withPad!$C$3, INT((ROW()-1)/28), MOD(ROW()-1, 28))","v":0}]
[{"$f":"OFFSET(X0withPad!$A$1, INT((ROW()-1)/28), MOD(ROW()-1, 28))","v":0},{"$f":"OFFSET(X0withPad!$B$1, INT((ROW()-1)/28), MOD(ROW()-1, 28))","v":0},{"$f":"OFFSET(X0withPad!$C$1, INT((ROW()-1)/28), MOD(ROW()-1, 28))","v":0},{"$f":"OFFSET(X0withPad!$A$2, INT((ROW()-1)/28), MOD(ROW()-1, 28))","v":0},{"$f":"OFFSET(X0withPad!$B$2, INT((ROW()-1)/28), MOD(ROW()-1, 28))","v":0},{"$f":"OFFSET(X0withPad!$C$2, INT((ROW()-1)/28), MOD(ROW()-1, 28))","v":0},{"$f":"OFFSET(X0withPad!$A$3, INT((ROW()-1)/28), MOD(ROW()-1, 28))","v":0},{"$f":"OFFSET(X0withPad!$B$3, INT((ROW()-1)/28), MOD(ROW()-1, 28))","v":0},{"$f":"OFFSET(X0withPad!$C$3, INT((ROW()-1)/28), MOD(ROW()-1, 28))","v":0}]
[{"$f":"OFFSET(X0withPad!$A$1, INT((ROW()-1)/28), MOD(ROW()-1, 28))","v":0},{"$f":"OFFSET(X0withPad!$B$1, INT((ROW()-1)/28), MOD(ROW()-1, 28))","v":0},{"$f":"OFFSET(X0withPad!$C$1, INT((ROW()-1)/28), MOD(ROW()-1, 28))","v":0},{"$f":"OFFSET(X0withPad!$A$2, INT((ROW()-1)/28), MOD(ROW()-1, 28))","v":0},{"$f":"OFFSET(X0withPad!$B$2, INT((ROW()-1)/28), MOD(ROW()-1, 28))","v":0},{"$f":"OFFSET(X0withPad!$C$2, INT((ROW()-1)/28), MOD(ROW()-1, 28))","v":0},{"$f":"OFFSET(X0withPad!$A$3, INT((ROW()-1)/28), MOD(ROW()-1, 28))","v":0},{"$f":"OFFSET(X0withPad!$B$3, INT((ROW()-1)/28), MOD(ROW()-1, 28))","v":0},{"$f":"OFFSET(X0withPad!$C$3, INT((ROW()-1)/28), MOD(ROW()-1, 28))","v":0}]
[{"$f":"OFFSET(X0withPad!$A$1, INT((ROW()-1)/28), MOD(ROW()-1, 28))","v":0},{"$f":"OFFSET(X0withPad!$B$1, INT((ROW()-1)/28), MOD(ROW()-1, 28))","v":0},{"$f":"OFFSET(X0withPad!$C$1, INT((ROW()-1)/28), MOD(ROW()-1, 28))","v":0},{"$f":"OFFSET(X0withPad!$A$2, INT((ROW()-1)/28), MOD(ROW()-1, 28))","v":0},{"$f":"OFFSET(X0withPad!$B$2, INT((ROW()-1)/28), MOD(ROW()-1, 28))","v":0},{"$f":"OFFSET(X0withPad!$C$2, INT((ROW()-1)/28), MOD(ROW()-1, 28))","v":0},{"$f":"OFFSET(X0withPad!$A$3, INT((ROW()-1)/28), MOD(ROW()-1, 28))","v":0},{"$f":"OFFSET(X0withPad!$B$3, INT((ROW()-1)/28), MOD(ROW()-1, 28))","v":0},{"$f":"OFFSET(X0withPad!$C$3, INT((ROW()-1)/28), MOD(ROW()-1, 28))","v":0}]
[{"$f":"OFFSET(X0withPad!$A$1, INT((ROW()-1)/28), MOD(ROW()-1, 28))","v":0},{"$f":"OFFSET(X0withPad!$B$1, INT((ROW()-1)/28), MOD(ROW()-1, 28))","v":0},{"$f":"OFFSET(X0withPad!$C$1, INT((ROW()-1)/28), MOD(ROW()-1, 28))","v":0},{"$f":"OFFSET(X0withPad!$A$2, INT((ROW()-1)/28), MOD(ROW()-1, 28))","v":0},{"$f":"OFFSET(X0withPad!$B$2, INT((ROW()-1)/28), MOD(ROW()-1, 28))","v":0},{"$f":"OFFSET(X0withPad!$C$2, INT((ROW()-1)/28), MOD(ROW()-1, 28))","v":0},{"$f":"OFFSET(X0withPad!$A$3, INT((ROW()-1)/28), MOD(ROW()-1, 28))","v":0},{"$f":"OFFSET(X0withPad!$B$3, INT((ROW()-1)/28), MOD(ROW()-1, 28))","v":0},{"$f":"OFFSET(X0withPad!$C$3, INT((ROW()-1)/28), MOD(ROW()-1, 28))","v":0}]
[{"$f":"OFFSET(X0withPad!$A$1, INT((ROW()-1)/28), MOD(ROW()-1, 28))","v":0},{"$f":"OFFSET(X0withPad!$B$1, INT((ROW()-1)/28), MOD(ROW()-1, 28))","v":0},{"$f":"OFFSET(X0withPad!$C$1, INT((ROW()-1)/28), MOD(ROW()-1, 28))","v":0},{"$f":"OFFSET(X0withPad!$A$2, INT((ROW()-1)/28), MOD(ROW()-1, 28))","v":0},{"$f":"OFFSET(X0withPad!$B$2, INT((ROW()-1)/28), MOD(ROW()-1, 28))","v":0},{"$f":"OFFSET(X0withPad!$C$2, INT((ROW()-1)/28), MOD(ROW()-1, 28))","v":0},{"$f":"OFFSET(X0withPad!$A$3, INT((ROW()-1)/28), MOD(ROW()-1, 28))","v":0},{"$f":"OFFSET(X0withPad!$B$3, INT((ROW()-1)/28), MOD(ROW()-1, 28))","v":0},{"$f":"OFFSET(X0withPad!$C$3, INT((ROW()-1)/28), MOD(ROW()-1, 28))","v":0}]
[{"$f":"OFFSET(X0withPad!$A$1, INT((ROW()-1)/28), MOD(ROW()-1, 28))","v":0},{"$f":"OFFSET(X0withPad!$B$1, INT((ROW()-1)/28), MOD(ROW()-1, 28))","v":0},{"$f":"OFFSET(X0withPad!$C$1, INT((ROW()-1)/28), MOD(ROW()-1, 28))","v":0},{"$f":"OFFSET(X0withPad!$A$2, INT((ROW()-1)/28), MOD(ROW()-1, 28))","v":0},{"$f":"OFFSET(X0withPad!$B$2, INT((ROW()-1)/28), MOD(ROW()-1, 28))","v":0},{"$f":"OFFSET(X0withPad!$C$2, INT((ROW()-1)/28), MOD(ROW()-1, 28))","v":0},{"$f":"OFFSET(X0withPad!$A$3, INT((ROW()-1)/28), MOD(ROW()-1, 28))","v":0},{"$f":"OFFSET(X0withPad!$B$3, INT((ROW()-1)/28), MOD(ROW()-1, 28))","v":0},{"$f":"OFFSET(X0withPad!$C$3, INT((ROW()-1)/28), MOD(ROW()-1, 28))","v":0}]
[{"$f":"OFFSET(X0withPad!$A$1, INT((ROW()-1)/28), MOD(ROW()-1, 28))","v":0},{"$f":"OFFSET(X0withPad!$B$1, INT((ROW()-1)/28), MOD(ROW()-1, 28))","v":0},{"$f":"OFFSET(X0withPad!$C$1, INT((ROW()-1)/28), MOD(ROW()-1, 28))","v":0},{"$f":"OFFSET(X0withPad!$A$2, INT((ROW()-1)/28), MOD(ROW()-1, 28))","v":0},{"$f":"OFFSET(X0withPad!$B$2, INT((ROW()-1)/28), MOD(ROW()-1, 28))","v":0},{"$f":"OFFSET(X0withPad!$C$2, INT((ROW()-1)/28), MOD(ROW()-1, 28))","v":0},{"$f":"OFFSET(X0withPad!$A$3, INT((ROW()-1)/28), MOD(ROW()-1, 28))","v":0},{"$f":"OFFSET(X0withPad!$B$3, INT((ROW()-1)/28), MOD(ROW()-1, 28))","v":0},{"$f":"OFFSET(X0withPad!$C$3, INT((ROW()-1)/28), MOD(ROW()-1, 28))","v":0}]
[{"$f":"OFFSET(X0withPad!$A$1, INT((ROW()-1)/28), MOD(ROW()-1, 28))","v":0},{"$f":"OFFSET(X0withPad!$B$1, INT((ROW()-1)/28), MOD(ROW()-1, 28))","v":0},{"$f":"OFFSET(X0withPad!$C$1, INT((ROW()-1)/28), MOD(ROW()-1, 28))","v":0},{"$f":"OFFSET(X0withPad!$A$2, INT((ROW()-1)/28), MOD(ROW()-1, 28))","v":0},{"$f":"OFFSET(X0withPad!$B$2, INT((ROW()-1)/28), MOD(ROW()-1, 28))","v":0},{"$f":"OFFSET(X0withPad!$C$2, INT((ROW()-1)/28), MOD(ROW()-1, 28))","v":0},{"$f":"OFFSET(X0withPad!$A$3, INT((ROW()-1)/28), MOD(ROW()-1, 28))","v":0},{"$f":"OFFSET(X0withPad!$B$3, INT((ROW()-1)/28), MOD(ROW()-1, 28))","v":0},{"$f":"OFFSET(X0withPad!$C$3, INT((ROW()-1)/28), MOD(ROW()-1, 28))","v":0}]
[{"$f":"OFFSET(X0withPad!$A$1, INT((ROW()-1)/28), MOD(ROW()-1, 28))","v":0},{"$f":"OFFSET(X0withPad!$B$1, INT((ROW()-1)/28), MOD(ROW()-1, 28))","v":0},{"$f":"OFFSET(X0withPad!$C$1, INT((ROW()-1)/28), MOD(ROW()-1, 28))","v":0},{"$f":"OFFSET(X0withPad!$A$2, INT((ROW()-1)/28), MOD(ROW()-1, 28))","v":0},{"$f":"OFFSET(X0withPad!$B$2, INT((ROW()-1)/28), MOD(ROW()-1, 28))","v":0},{"$f":"OFFSET(X0withPad!$C$2, INT((ROW()-1)/28), MOD(ROW()-1, 28))","v":0},{"$f":"OFFSET(X0withPad!$A$3, INT((ROW()-1)/28), MOD(ROW()-1, 28))","v":0},{"$f":"OFFSET(X0withPad!$B$3, INT((ROW()-1)/28), MOD(ROW()-1, 28))","v":0},{"$f":"OFFSET(X0withPad!$C$3, INT((ROW()-1)/28), MOD(ROW()-1, 28))","v":0}]
[{"$f":"OFFSET(X0withPad!$A$1, INT((ROW()-1)/28), MOD(ROW()-1, 28))","v":0},{"$f":"OFFSET(X0withPad!$B$1, INT((ROW()-1)/28), MOD(ROW()-1, 28))","v":0},{"$f":"OFFSET(X0withPad!$C$1, INT((ROW()-1)/28), MOD(ROW()-1, 28))","v":0},{"$f":"OFFSET(X0withPad!$A$2, INT((ROW()-1)/28), MOD(ROW()-1, 28))","v":0},{"$f":"OFFSET(X0withPad!$B$2, INT((ROW()-1)/28), MOD(ROW()-1, 28))","v":0},{"$f":"OFFSET(X0withPad!$C$2, INT((ROW()-1)/28), MOD(ROW()-1, 28))","v":0},{"$f":"OFFSET(X0withPad!$A$3, INT((ROW()-1)/28), MOD(ROW()-1, 28))","v":0},{"$f":"OFFSET(X0withPad!$B$3, INT((ROW()-1)/28), MOD(ROW()-1, 28))","v":0},{"$f":"OFFSET(X0withPad!$C$3, INT((ROW()-1)/28), MOD(ROW()-1, 28))","v":0}]
[{"$f":"OFFSET(X0withPad!$A$1, INT((ROW()-1)/28), MOD(ROW()-1, 28))","v":0},{"$f":"OFFSET(X0withPad!$B$1, INT((ROW()-1)/28), MOD(ROW()-1, 28))","v":0},{"$f":"OFFSET(X0withPad!$C$1, INT((ROW()-1)/28), MOD(ROW()-1, 28))","v":0},{"$f":"OFFSET(X0withPad!$A$2, INT((ROW()-1)/28), MOD(ROW()-1, 28))","v":0},{"$f":"OFFSET(X0withPad!$B$2, INT((ROW()-1)/28), MOD(ROW()-1, 28))","v":0},{"$f":"OFFSET(X0withPad!$C$2, INT((ROW()-1)/28), MOD(ROW()-1, 28))","v":0},{"$f":"OFFSET(X0withPad!$A$3, INT((ROW()-1)/28), MOD(ROW()-1, 28))","v":0},{"$f":"OFFSET(X0withPad!$B$3, INT((ROW()-1)/28), MOD(ROW()-1, 28))","v":0},{"$f":"OFFSET(X0withPad!$C$3, INT((ROW()-1)/28), MOD(ROW()-1, 28))","v":0}]
[{"$f":"OFFSET(X0withPad!$A$1, INT((ROW()-1)/28), MOD(ROW()-1, 28))","v":0},{"$f":"OFFSET(X0withPad!$B$1, INT((ROW()-1)/28), MOD(ROW()-1, 28))","v":0},{"$f":"OFFSET(X0withPad!$C$1, INT((ROW()-1)/28), MOD(ROW()-1, 28))","v":0},{"$f":"OFFSET(X0withPad!$A$2, INT((ROW()-1)/28), MOD(ROW()-1, 28))","v":0},{"$f":"OFFSET(X0withPad!$B$2, INT((ROW()-1)/28), MOD(ROW()-1, 28))","v":0},{"$f":"OFFSET(X0withPad!$C$2, INT((ROW()-1)/28), MOD(ROW()-1, 28))","v":0},{"$f":"OFFSET(X0withPad!$A$3, INT((ROW()-1)/28), MOD(ROW()-1, 28))","v":0},{"$f":"OFFSET(X0withPad!$B$3, INT((ROW()-1)/28), MOD(ROW()-1, 28))","v":0},{"$f":"OFFSET(X0withPad!$C$3, INT((ROW()-1)/28), MOD(ROW()-1, 28))","v":0}]
[{"$f":"OFFSET(X0withPad!$A$1, INT((ROW()-1)/28), MOD(ROW()-1, 28))","v":0},{"$f":"OFFSET(X0withPad!$B$1, INT((ROW()-1)/28), MOD(ROW()-1, 28))","v":0},{"$f":"OFFSET(X0withPad!$C$1, INT((ROW()-1)/28), MOD(ROW()-1, 28))","v":0},{"$f":"OFFSET(X0withPad!$A$2, INT((ROW()-1)/28), MOD(ROW()-1, 28))","v":0},{"$f":"OFFSET(X0withPad!$B$2, INT((ROW()-1)/28), MOD(ROW()-1, 28))","v":0},{"$f":"OFFSET(X0withPad!$C$2, INT((ROW()-1)/28), MOD(ROW()-1, 28))","v":0},{"$f":"OFFSET(X0withPad!$A$3, INT((ROW()-1)/28), MOD(ROW()-1, 28))","v":0},{"$f":"OFFSET(X0withPad!$B$3, INT((ROW()-1)/28), MOD(ROW()-1, 28))","v":0},{"$f":"OFFSET(X0withPad!$C$3, INT((ROW()-1)/28), MOD(ROW()-1, 28))","v":0}]
[{"$f":"OFFSET(X0withPad!$A$1, INT((ROW()-1)/28), MOD(ROW()-1, 28))","v":0},{"$f":"OFFSET(X0withPad!$B$1, INT((ROW()-1)/28), MOD(ROW()-1, 28))","v":0},{"$f":"OFFSET(X0withPad!$C$1, INT((ROW()-1)/28), MOD(ROW()-1, 28))","v":0},{"$f":"OFFSET(X0withPad!$A$2, INT((ROW()-1)/28), MOD(ROW()-1, 28))","v":0},{"$f":"OFFSET(X0withPad!$B$2, INT((ROW()-1)/28), MOD(ROW()-1, 28))","v":0},{"$f":"OFFSET(X0withPad!$C$2, INT((ROW()-1)/28), MOD(ROW()-1, 28))","v":0},{"$f":"OFFSET(X0withPad!$A$3, INT((ROW()-1)/28), MOD(ROW()-1, 28))","v":0},{"$f":"OFFSET(X0withPad!$B$3, INT((ROW()-1)/28), MOD(ROW()-1, 28))","v":0},{"$f":"OFFSET(X0withPad!$C$3, INT((ROW()-1)/28), MOD(ROW()-1, 28))","v":0}]
[{"$f":"OFFSET(X0withPad!$A$1, INT((ROW()-1)/28), MOD(ROW()-1, 28))","v":0},{"$f":"OFFSET(X0withPad!$B$1, INT((ROW()-1)/28), MOD(ROW()-1, 28))","v":0},{"$f":"OFFSET(X0withPad!$C$1, INT((ROW()-1)/28), MOD(ROW()-1, 28))","v":0},{"$f":"OFFSET(X0withPad!$A$2, INT((ROW()-1)/28), MOD(ROW()-1, 28))","v":0},{"$f":"OFFSET(X0withPad!$B$2, INT((ROW()-1)/28), MOD(ROW()-1, 28))","v":0},{"$f":"OFFSET(X0withPad!$C$2, INT((ROW()-1)/28), MOD(ROW()-1, 28))","v":0},{"$f":"OFFSET(X0withPad!$A$3, INT((ROW()-1)/28), MOD(ROW()-1, 28))","v":0},{"$f":"OFFSET(X0withPad!$B$3, INT((ROW()-1)/28), MOD(ROW()-1, 28))","v":0},{"$f":"OFFSET(X0withPad!$C$3, INT((ROW()-1)/28), MOD(ROW()-1, 28))","v":0}]
[{"$f":"OFFSET(X0withPad!$A$1, INT((ROW()-1)/28), MOD(ROW()-1, 28))","v":0},{"$f":"OFFSET(X0withPad!$B$1, INT((ROW()-1)/28), MOD(ROW()-1, 28))","v":0},{"$f":"OFFSET(X0withPad!$C$1, INT((ROW()-1)/28), MOD(ROW()-1, 28))","v":0},{"$f":"OFFSET(X0withPad!$A$2, INT((ROW()-1)/28), MOD(ROW()-1, 28))","v":0},{"$f":"OFFSET(X0withPad!$B$2, INT((ROW()-1)/28), MOD(ROW()-1, 28))","v":0},{"$f":"OFFSET(X0withPad!$C$2, INT((ROW()-1)/28), MOD(ROW()-1, 28))","v":0},{"$f":"OFFSET(X0withPad!$A$3, INT((ROW()-1)/28), MOD(ROW()-1, 28))","v":0},{"$f":"OFFSET(X0withPad!$B$3, INT((ROW()-1)/28), MOD(ROW()-1, 28))","v":0},{"$f":"OFFSET(X0withPad!$C$3, INT((ROW()-1)/28), MOD(ROW()-1, 28))","v":0}]
[{"$f":"OFFSET(X0withPad!$A$1, INT((ROW()-1)/28), MOD(ROW()-1, 28))","v":0},{"$f":"OFFSET(X0withPad!$B$1, INT((ROW()-1)/28), MOD(ROW()-1, 28))","v":0},{"$f":"OFFSET(X0withPad!$C$1, INT((ROW()-1)/28), MOD(ROW()-1, 28))","v":0},{"$f":"OFFSET(X0withPad!$A$2, INT((ROW()-1)/28), MOD(ROW()-1, 28))","v":0},{"$f":"OFFSET(X0withPad!$B$2, INT((ROW()-1)/28), MOD(ROW()-1, 28))","v":0},{"$f":"OFFSET(X0withPad!$C$2, INT((ROW()-1)/28), MOD(ROW()-1, 28))","v":0},{"$f":"OFFSET(X0withPad!$A$3, INT((ROW()-1)/28), MOD(ROW()-1, 28))","v":0},{"$f":"OFFSET(X0withPad!$B$3, INT((ROW()-1)/28), MOD(ROW()-1, 28))","v":0},{"$f":"OFFSET(X0withPad!$C$3, INT((ROW()-1)/28), MOD(ROW()-1, 28))","v":0}]
[{"$f":"OFFSET(X0withPad!$A$1, INT((ROW()-1)/28), MOD(ROW()-1, 28))","v":0},{"$f":"OFFSET(X0withPad!$B$1, INT((ROW()-1)/28), MOD(ROW()-1, 28))","v":0},{"$f":"OFFSET(X0withPad!$C$1, INT((ROW()-1)/28), MOD(ROW()-1, 28))","v":0},{"$f":"OFFSET(X0withPad!$A$2, INT((ROW()-1)/28), MOD(ROW()-1, 28))","v":0},{"$f":"OFFSET(X0withPad!$B$2, INT((ROW()-1)/28), MOD(ROW()-1, 28))","v":0},{"$f":"OFFSET(X0withPad!$C$2, INT((ROW()-1)/28), MOD(ROW()-1, 28))","v":0},{"$f":"OFFSET(X0withPad!$A$3, INT((ROW()-1)/28), MOD(ROW()-1, 28))","v":0},{"$f":"OFFSET(X0withPad!$B$3, INT((ROW()-1)/28), MOD(ROW()-1, 28))","v":0},{"$f":"OFFSET(X0withPad!$C$3, INT((ROW()-1)/28), MOD(ROW()-1, 28))","v":0}]
[{"$f":"OFFSET(X0withPad!$A$1, INT((ROW()-1)/28), MOD(ROW()-1, 28))","v":0},{"$f":"OFFSET(X0withPad!$B$1, INT((ROW()-1)/28), MOD(ROW()-1, 28))","v":0},{"$f":"OFFSET(X0withPad!$C$1, INT((ROW()-1)/28), MOD(ROW()-1, 28))","v":0},{"$f":"OFFSET(X0withPad!$A$2, INT((ROW()-1)/28), MOD(ROW()-1, 28))","v":0},{"$f":"OFFSET(X0withPad!$B$2, INT((ROW()-1)/28), MOD(ROW()-1, 28))","v":0},{"$f":"OFFSET(X0withPad!$C$2, INT((ROW()-1)/28), MOD(ROW()-1, 28))","v":59},{"$f":"OFFSET(X0withPad!$A$3, INT((ROW()-1)/28), MOD(ROW()-1, 28))","v":0},{"$f":"OFFSET(X0withPad!$B$3, INT((ROW()-1)/28), MOD(ROW()-1, 28))","v":0},{"$f":"OFFSET(X0withPad!$C$3, INT((ROW()-1)/28), MOD(ROW()-1, 28))","v":133}]
[{"$f":"OFFSET(X0withPad!$A$1, INT((ROW()-1)/28), MOD(ROW()-1, 28))","v":0},{"$f":"OFFSET(X0withPad!$B$1, INT((ROW()-1)/28), MOD(ROW()-1, 28))","v":0},{"$f":"OFFSET(X0withPad!$C$1, INT((ROW()-1)/28), MOD(ROW()-1, 28))","v":129},{"$f":"OFFSET(X0withPad!$A$2, INT((ROW()-1)/28), MOD(ROW()-1, 28))","v":0},{"$f":"OFFSET(X0withPad!$B$2, INT((ROW()-1)/28), MOD(ROW()-1, 28))","v":59},{"$f":"OFFSET(X0withPad!$C$2, INT((ROW()-1)/28), MOD(ROW()-1, 28))","v":249},{"$f":"OFFSET(X0withPad!$A$3, INT((ROW()-1)/28), MOD(ROW()-1, 28))","v":0},{"$f":"OFFSET(X0withPad!$B$3, INT((ROW()-1)/28), MOD(ROW()-1, 28))","v":133},{"$f":"OFFSET(X0withPad!$C$3, INT((ROW()-1)/28), MOD(ROW()-1, 28))","v":254}]
[{"$f":"OFFSET(X0withPad!$A$1, INT((ROW()-1)/28), MOD(ROW()-1, 28))","v":0},{"$f":"OFFSET(X0withPad!$B$1, INT((ROW()-1)/28), MOD(ROW()-1, 28))","v":129},{"$f":"OFFSET(X0withPad!$C$1, INT((ROW()-1)/28), MOD(ROW()-1, 28))","v":254},{"$f":"OFFSET(X0withPad!$A$2, INT((ROW()-1)/28), MOD(ROW()-1, 28))","v":59},{"$f":"OFFSET(X0withPad!$B$2, INT((ROW()-1)/28), MOD(ROW()-1, 28))","v":249},{"$f":"OFFSET(X0withPad!$C$2, INT((ROW()-1)/28), MOD(ROW()-1, 28))","v":254},{"$f":"OFFSET(X0withPad!$A$3, INT((ROW()-1)/28), MOD(ROW()-1, 28))","v":133},{"$f":"OFFSET(X0withPad!$B$3, INT((ROW()-1)/28), MOD(ROW()-1, 28))","v":254},{"$f":"OFFSET(X0withPad!$C$3, INT((ROW()-1)/28), MOD(ROW()-1, 28))","v":187}]
[{"$f":"OFFSET(X0withPad!$A$1, INT((ROW()-1)/28), MOD(ROW()-1, 28))","v":129},{"$f":"OFFSET(X0withPad!$B$1, INT((ROW()-1)/28), MOD(ROW()-1, 28))","v":254},{"$f":"OFFSET(X0withPad!$C$1, INT((ROW()-1)/28), MOD(ROW()-1, 28))","v":238},{"$f":"OFFSET(X0withPad!$A$2, INT((ROW()-1)/28), MOD(ROW()-1, 28))","v":249},{"$f":"OFFSET(X0withPad!$B$2, INT((ROW()-1)/28), MOD(ROW()-1, 28))","v":254},{"$f":"OFFSET(X0withPad!$C$2, INT((ROW()-1)/28), MOD(ROW()-1, 28))","v":62},{"$f":"OFFSET(X0withPad!$A$3, INT((ROW()-1)/28), MOD(ROW()-1, 28))","v":254},{"$f":"OFFSET(X0withPad!$B$3, INT((ROW()-1)/28), MOD(ROW()-1, 28))","v":187},{"$f":"OFFSET(X0withPad!$C$3, INT((ROW()-1)/28), MOD(ROW()-1, 28))","v":5}]
[{"$f":"OFFSET(X0withPad!$A$1, INT((ROW()-1)/28), MOD(ROW()-1, 28))","v":254},{"$f":"OFFSET(X0withPad!$B$1, INT((ROW()-1)/28), MOD(ROW()-1, 28))","v":238},{"$f":"OFFSET(X0withPad!$C$1, INT((ROW()-1)/28), MOD(ROW()-1, 28))","v":44},{"$f":"OFFSET(X0withPad!$A$2, INT((ROW()-1)/28), MOD(ROW()-1, 28))","v":254},{"$f":"OFFSET(X0withPad!$B$2, INT((ROW()-1)/28), MOD(ROW()-1, 28))","v":62},{"$f":"OFFSET(X0withPad!$C$2, INT((ROW()-1)/28), MOD(ROW()-1, 28))","v":0},{"$f":"OFFSET(X0withPad!$A$3, INT((ROW()-1)/28), MOD(ROW()-1, 28))","v":187},{"$f":"OFFSET(X0withPad!$B$3, INT((ROW()-1)/28), MOD(ROW()-1, 28))","v":5},{"$f":"OFFSET(X0withPad!$C$3, INT((ROW()-1)/28), MOD(ROW()-1, 28))","v":0}]
[{"$f":"OFFSET(X0withPad!$A$1, INT((ROW()-1)/28), MOD(ROW()-1, 28))","v":238},{"$f":"OFFSET(X0withPad!$B$1, INT((ROW()-1)/28), MOD(ROW()-1, 28))","v":44},{"$f":"OFFSET(X0withPad!$C$1, INT((ROW()-1)/28), MOD(ROW()-1, 28))","v":0},{"$f":"OFFSET(X0withPad!$A$2, INT((ROW()-1)/28), MOD(ROW()-1, 28))","v":62},{"$f":"OFFSET(X0withPad!$B$2, INT((ROW()-1)/28), MOD(ROW()-1, 28))","v":0},{"$f":"OFFSET(X0withPad!$C$2, INT((ROW()-1)/28), MOD(ROW()-1, 28))","v":0},{"$f":"OFFSET(X0withPad!$A$3, INT((ROW()-1)/28), MOD(ROW()-1, 28))","v":5},{"$f":"OFFSET(X0withPad!$B$3, INT((ROW()-1)/28), MOD(ROW()-1, 28))","v":0},{"$f":"OFFSET(X0withPad!$C$3, INT((ROW()-1)/28), MOD(ROW()-1, 28))","v":0}]
[{"$f":"OFFSET(X0withPad!$A$1, INT((ROW()-1)/28), MOD(ROW()-1, 28))","v":44},{"$f":"OFFSET(X0withPad!$B$1, INT((ROW()-1)/28), MOD(ROW()-1, 28))","v":0},{"$f":"OFFSET(X0withPad!$C$1, INT((ROW()-1)/28), MOD(ROW()-1, 28))","v":0},{"$f":"OFFSET(X0withPad!$A$2, INT((ROW()-1)/28), MOD(ROW()-1, 28))","v":0},{"$f":"OFFSET(X0withPad!$B$2, INT((ROW()-1)/28), MOD(ROW()-1, 28))","v":0},{"$f":"OFFSET(X0withPad!$C$2, INT((ROW()-1)/28), MOD(ROW()-1, 28))","v":0},{"$f":"OFFSET(X0withPad!$A$3, INT((ROW()-1)/28), MOD(ROW()-1, 28))","v":0},{"$f":"OFFSET(X0withPad!$B$3, INT((ROW()-1)/28), MOD(ROW()-1, 28))","v":0},{"$f":"OFFSET(X0withPad!$C$3, INT((ROW()-1)/28), MOD(ROW()-1, 28))","v":0}]
[{"$f":"OFFSET(X0withPad!$A$1, INT((ROW()-1)/28), MOD(ROW()-1, 28))","v":0},{"$f":"OFFSET(X0withPad!$B$1, INT((ROW()-1)/28), MOD(ROW()-1, 28))","v":0},{"$f":"OFFSET(X0withPad!$C$1, INT((ROW()-1)/28), MOD(ROW()-1, 28))","v":0},{"$f":"OFFSET(X0withPad!$A$2, INT((ROW()-1)/28), MOD(ROW()-1, 28))","v":0},{"$f":"OFFSET(X0withPad!$B$2, INT((ROW()-1)/28), MOD(ROW()-1, 28))","v":0},{"$f":"OFFSET(X0withPad!$C$2, INT((ROW()-1)/28), MOD(ROW()-1, 28))","v":0},{"$f":"OFFSET(X0withPad!$A$3, INT((ROW()-1)/28), MOD(ROW()-1, 28))","v":0},{"$f":"OFFSET(X0withPad!$B$3, INT((ROW()-1)/28), MOD(ROW()-1, 28))","v":0},{"$f":"OFFSET(X0withPad!$C$3, INT((ROW()-1)/28), MOD(ROW()-1, 28))","v":0}]
[{"$f":"OFFSET(X0withPad!$A$1, INT((ROW()-1)/28), MOD(ROW()-1, 28))","v":0},{"$f":"OFFSET(X0withPad!$B$1, INT((ROW()-1)/28), MOD(ROW()-1, 28))","v":0},{"$f":"OFFSET(X0withPad!$C$1, INT((ROW()-1)/28), MOD(ROW()-1, 28))","v":0},{"$f":"OFFSET(X0withPad!$A$2, INT((ROW()-1)/28), MOD(ROW()-1, 28))","v":0},{"$f":"OFFSET(X0withPad!$B$2, INT((ROW()-1)/28), MOD(ROW()-1, 28))","v":0},{"$f":"OFFSET(X0withPad!$C$2, INT((ROW()-1)/28), MOD(ROW()-1, 28))","v":0},{"$f":"OFFSET(X0withPad!$A$3, INT((ROW()-1)/28), MOD(ROW()-1, 28))","v":0},{"$f":"OFFSET(X0withPad!$B$3, INT((ROW()-1)/28), MOD(ROW()-1, 28))","v":0},{"$f":"OFFSET(X0withPad!$C$3, INT((ROW()-1)/28), MOD(ROW()-1, 28))","v":0}]
[{"$f":"OFFSET(X0withPad!$A$1, INT((ROW()-1)/28), MOD(ROW()-1, 28))","v":0},{"$f":"OFFSET(X0withPad!$B$1, INT((ROW()-1)/28), MOD(ROW()-1, 28))","v":0},{"$f":"OFFSET(X0withPad!$C$1, INT((ROW()-1)/28), MOD(ROW()-1, 28))","v":0},{"$f":"OFFSET(X0withPad!$A$2, INT((ROW()-1)/28), MOD(ROW()-1, 28))","v":0},{"$f":"OFFSET(X0withPad!$B$2, INT((ROW()-1)/28), MOD(ROW()-1, 28))","v":0},{"$f":"OFFSET(X0withPad!$C$2, INT((ROW()-1)/28), MOD(ROW()-1, 28))","v":0},{"$f":"OFFSET(X0withPad!$A$3, INT((ROW()-1)/28), MOD(ROW()-1, 28))","v":0},{"$f":"OFFSET(X0withPad!$B$3, INT((ROW()-1)/28), MOD(ROW()-1, 28))","v":0},{"$f":"OFFSET(X0withPad!$C$3, INT((ROW()-1)/28), MOD(ROW()-1, 28))","v":0}]
[{"$f":"OFFSET(X0withPad!$A$1, INT((ROW()-1)/28), MOD(ROW()-1, 28))","v":0},{"$f":"OFFSET(X0withPad!$B$1, INT((ROW()-1)/28), MOD(ROW()-1, 28))","v":0},{"$f":"OFFSET(X0withPad!$C$1, INT((ROW()-1)/28), MOD(ROW()-1, 28))","v":0},{"$f":"OFFSET(X0withPad!$A$2, INT((ROW()-1)/28), MOD(ROW()-1, 28))","v":0},{"$f":"OFFSET(X0withPad!$B$2, INT((ROW()-1)/28), MOD(ROW()-1, 28))","v":0},{"$f":"OFFSET(X0withPad!$C$2, INT((ROW()-1)/28), MOD(ROW()-1, 28))","v":0},{"$f":"OFFSET(X0withPad!$A$3, INT((ROW()-1)/28), MOD(ROW()-1, 28))","v":0},{"$f":"OFFSET(X0withPad!$B$3, INT((ROW()-1)/28), MOD(ROW()-1, 28))","v":0},{"$f":"OFFSET(X0withPad!$C$3, INT((ROW()-1)/28), MOD(ROW()-1, 28))","v":0}]
[{"$f":"OFFSET(X0withPad!$A$1, INT((ROW()-1)/28), MOD(ROW()-1, 28))","v":0},{"$f":"OFFSET(X0withPad!$B$1, INT((ROW()-1)/28), MOD(ROW()-1, 28))","v":0},{"$f":"OFFSET(X0withPad!$C$1, INT((ROW()-1)/28), MOD(ROW()-1, 28))","v":0},{"$f":"OFFSET(X0withPad!$A$2, INT((ROW()-1)/28), MOD(ROW()-1, 28))","v":0},{"$f":"OFFSET(X0withPad!$B$2, INT((ROW()-1)/28), MOD(ROW()-1, 28))","v":0},{"$f":"OFFSET(X0withPad!$C$2, INT((ROW()-1)/28), MOD(ROW()-1, 28))","v":0},{"$f":"OFFSET(X0withPad!$A$3, INT((ROW()-1)/28), MOD(ROW()-1, 28))","v":0},{"$f":"OFFSET(X0withPad!$B$3, INT((ROW()-1)/28), MOD(ROW()-1, 28))","v":0},{"$f":"OFFSET(X0withPad!$C$3, INT((ROW()-1)/28), MOD(ROW()-1, 28))","v":0}]
[{"$f":"OFFSET(X0withPad!$A$1, INT((ROW()-1)/28), MOD(ROW()-1, 28))","v":0},{"$f":"OFFSET(X0withPad!$B$1, INT((ROW()-1)/28), MOD(ROW()-1, 28))","v":0},{"$f":"OFFSET(X0withPad!$C$1, INT((ROW()-1)/28), MOD(ROW()-1, 28))","v":0},{"$f":"OFFSET(X0withPad!$A$2, INT((ROW()-1)/28), MOD(ROW()-1, 28))","v":0},{"$f":"OFFSET(X0withPad!$B$2, INT((ROW()-1)/28), MOD(ROW()-1, 28))","v":0},{"$f":"OFFSET(X0withPad!$C$2, INT((ROW()-1)/28), MOD(ROW()-1, 28))","v":0},{"$f":"OFFSET(X0withPad!$A$3, INT((ROW()-1)/28), MOD(ROW()-1, 28))","v":0},{"$f":"OFFSET(X0withPad!$B$3, INT((ROW()-1)/28), MOD(ROW()-1, 28))","v":0},{"$f":"OFFSET(X0withPad!$C$3, INT((ROW()-1)/28), MOD(ROW()-1, 28))","v":0}]
[{"$f":"OFFSET(X0withPad!$A$1, INT((ROW()-1)/28), MOD(ROW()-1, 28))","v":0},{"$f":"OFFSET(X0withPad!$B$1, INT((ROW()-1)/28), MOD(ROW()-1, 28))","v":0},{"$f":"OFFSET(X0withPad!$C$1, INT((ROW()-1)/28), MOD(ROW()-1, 28))","v":0},{"$f":"OFFSET(X0withPad!$A$2, INT((ROW()-1)/28), MOD(ROW()-1, 28))","v":0},{"$f":"OFFSET(X0withPad!$B$2, INT((ROW()-1)/28), MOD(ROW()-1, 28))","v":0},{"$f":"OFFSET(X0withPad!$C$2, INT((ROW()-1)/28), MOD(ROW()-1, 28))","v":0},{"$f":"OFFSET(X0withPad!$A$3, INT((ROW()-1)/28), MOD(ROW()-1, 28))","v":0},{"$f":"OFFSET(X0withPad!$B$3, INT((ROW()-1)/28), MOD(ROW()-1, 28))","v":0},{"$f":"OFFSET(X0withPad!$C$3, INT((ROW()-1)/28), MOD(ROW()-1, 28))","v":0}]
[{"$f":"OFFSET(X0withPad!$A$1, INT((ROW()-1)/28), MOD(ROW()-1, 28))","v":0},{"$f":"OFFSET(X0withPad!$B$1, INT((ROW()-1)/28), MOD(ROW()-1, 28))","v":0},{"$f":"OFFSET(X0withPad!$C$1, INT((ROW()-1)/28), MOD(ROW()-1, 28))","v":0},{"$f":"OFFSET(X0withPad!$A$2, INT((ROW()-1)/28), MOD(ROW()-1, 28))","v":0},{"$f":"OFFSET(X0withPad!$B$2, INT((ROW()-1)/28), MOD(ROW()-1, 28))","v":0},{"$f":"OFFSET(X0withPad!$C$2, INT((ROW()-1)/28), MOD(ROW()-1, 28))","v":0},{"$f":"OFFSET(X0withPad!$A$3, INT((ROW()-1)/28), MOD(ROW()-1, 28))","v":0},{"$f":"OFFSET(X0withPad!$B$3, INT((ROW()-1)/28), MOD(ROW()-1, 28))","v":0},{"$f":"OFFSET(X0withPad!$C$3, INT((ROW()-1)/28), MOD(ROW()-1, 28))","v":0}]
[{"$f":"OFFSET(X0withPad!$A$1, INT((ROW()-1)/28), MOD(ROW()-1, 28))","v":0},{"$f":"OFFSET(X0withPad!$B$1, INT((ROW()-1)/28), MOD(ROW()-1, 28))","v":0},{"$f":"OFFSET(X0withPad!$C$1, INT((ROW()-1)/28), MOD(ROW()-1, 28))","v":0},{"$f":"OFFSET(X0withPad!$A$2, INT((ROW()-1)/28), MOD(ROW()-1, 28))","v":0},{"$f":"OFFSET(X0withPad!$B$2, INT((ROW()-1)/28), MOD(ROW()-1, 28))","v":0},{"$f":"OFFSET(X0withPad!$C$2, INT((ROW()-1)/28), MOD(ROW()-1, 28))","v":0},{"$f":"OFFSET(X0withPad!$A$3, INT((ROW()-1)/28), MOD(ROW()-1, 28))","v":0},{"$f":"OFFSET(X0withPad!$B$3, INT((ROW()-1)/28), MOD(ROW()-1, 28))","v":0},{"$f":"OFFSET(X0withPad!$C$3, INT((ROW()-1)/28), MOD(ROW()-1, 28))","v":0}]
[{"$f":"OFFSET(X0withPad!$A$1, INT((ROW()-1)/28), MOD(ROW()-1, 28))","v":0},{"$f":"OFFSET(X0withPad!$B$1, INT((ROW()-1)/28), MOD(ROW()-1, 28))","v":0},{"$f":"OFFSET(X0withPad!$C$1, INT((ROW()-1)/28), MOD(ROW()-1, 28))","v":0},{"$f":"OFFSET(X0withPad!$A$2, INT((ROW()-1)/28), MOD(ROW()-1, 28))","v":0},{"$f":"OFFSET(X0withPad!$B$2, INT((ROW()-1)/28), MOD(ROW()-1, 28))","v":0},{"$f":"OFFSET(X0withPad!$C$2, INT((ROW()-1)/28), MOD(ROW()-1, 28))","v":0},{"$f":"OFFSET(X0withPad!$A$3, INT((ROW()-1)/28), MOD(ROW()-1, 28))","v":0},{"$f":"OFFSET(X0withPad!$B$3, INT((ROW()-1)/28), MOD(ROW()-1, 28))","v":0},{"$f":"OFFSET(X0withPad!$C$3, INT((ROW()-1)/28), MOD(ROW()-1, 28))","v":0}]
[{"$f":"OFFSET(X0withPad!$A$1, INT((ROW()-1)/28), MOD(ROW()-1, 28))","v":0},{"$f":"OFFSET(X0withPad!$B$1, INT((ROW()-1)/28), MOD(ROW()-1, 28))","v":0},{"$f":"OFFSET(X0withPad!$C$1, INT((ROW()-1)/28), MOD(ROW()-1, 28))","v":0},{"$f":"OFFSET(X0withPad!$A$2, INT((ROW()-1)/28), MOD(ROW()-1, 28))","v":0},{"$f":"OFFSET(X0withPad!$B$2, INT((ROW()-1)/28), MOD(ROW()-1, 28))","v":0},{"$f":"OFFSET(X0withPad!$C$2, INT((ROW()-1)/28), MOD(ROW()-1, 28))","v":0},{"$f":"OFFSET(X0withPad!$A$3, INT((ROW()-1)/28), MOD(ROW()-1, 28))","v":0},{"$f":"OFFSET(X0withPad!$B$3, INT((ROW()-1)/28), MOD(ROW()-1, 28))","v":0},{"$f":"OFFSET(X0withPad!$C$3, INT((ROW()-1)/28), MOD(ROW()-1, 28))","v":0}]
[{"$f":"OFFSET(X0withPad!$A$1, INT((ROW()-1)/28), MOD(ROW()-1, 28))","v":0},{"$f":"OFFSET(X0withPad!$B$1, INT((ROW()-1)/28), MOD(ROW()-1, 28))","v":0},{"$f":"OFFSET(X0withPad!$C$1, INT((ROW()-1)/28), MOD(ROW()-1, 28))","v":0},{"$f":"OFFSET(X0withPad!$A$2, INT((ROW()-1)/28), MOD(ROW()-1, 28))","v":0},{"$f":"OFFSET(X0withPad!$B$2, INT((ROW()-1)/28), MOD(ROW()-1, 28))","v":0},{"$f":"OFFSET(X0withPad!$C$2, INT((ROW()-1)/28), MOD(ROW()-1, 28))","v":0},{"$f":"OFFSET(X0withPad!$A$3, INT((ROW()-1)/28), MOD(ROW()-1, 28))","v":0},{"$f":"OFFSET(X0withPad!$B$3, INT((ROW()-1)/28), MOD(ROW()-1, 28))","v":0},{"$f":"OFFSET(X0withPad!$C$3, INT((ROW()-1)/28), MOD(ROW()-1, 28))","v":0}]
[{"$f":"OFFSET(X0withPad!$A$1, INT((ROW()-1)/28), MOD(ROW()-1, 28))","v":0},{"$f":"OFFSET(X0withPad!$B$1, INT((ROW()-1)/28), MOD(ROW()-1, 28))","v":0},{"$f":"OFFSET(X0withPad!$C$1, INT((ROW()-1)/28), MOD(ROW()-1, 28))","v":0},{"$f":"OFFSET(X0withPad!$A$2, INT((ROW()-1)/28), MOD(ROW()-1, 28))","v":0},{"$f":"OFFSET(X0withPad!$B$2, INT((ROW()-1)/28), MOD(ROW()-1, 28))","v":0},{"$f":"OFFSET(X0withPad!$C$2, INT((ROW()-1)/28), MOD(ROW()-1, 28))","v":0},{"$f":"OFFSET(X0withPad!$A$3, INT((ROW()-1)/28), MOD(ROW()-1, 28))","v":0},{"$f":"OFFSET(X0withPad!$B$3, INT((ROW()-1)/28), MOD(ROW()-1, 28))","v":0},{"$f":"OFFSET(X0withPad!$C$3, INT((ROW()-1)/28), MOD(ROW()-1, 28))","v":0}]
[{"$f":"OFFSET(X0withPad!$A$1, INT((ROW()-1)/28), MOD(ROW()-1, 28))","v":0},{"$f":"OFFSET(X0withPad!$B$1, INT((ROW()-1)/28), MOD(ROW()-1, 28))","v":0},{"$f":"OFFSET(X0withPad!$C$1, INT((ROW()-1)/28), MOD(ROW()-1, 28))","v":0},{"$f":"OFFSET(X0withPad!$A$2, INT((ROW()-1)/28), MOD(ROW()-1, 28))","v":0},{"$f":"OFFSET(X0withPad!$B$2, INT((ROW()-1)/28), MOD(ROW()-1, 28))","v":0},{"$f":"OFFSET(X0withPad!$C$2, INT((ROW()-1)/28), MOD(ROW()-1, 28))","v":0},{"$f":"OFFSET(X0withPad!$A$3, INT((ROW()-1)/28), MOD(ROW()-1, 28))","v":0},{"$f":"OFFSET(X0withPad!$B$3, INT((ROW()-1)/28), MOD(ROW()-1, 28))","v":0},{"$f":"OFFSET(X0withPad!$C$3, INT((ROW()-1)/28), MOD(ROW()-1, 28))","v":0}]
[{"$f":"OFFSET(X0withPad!$A$1, INT((ROW()-1)/28), MOD(ROW()-1, 28))","v":0},{"$f":"OFFSET(X0withPad!$B$1, INT((ROW()-1)/28), MOD(ROW()-1, 28))","v":0},{"$f":"OFFSET(X0withPad!$C$1, INT((ROW()-1)/28), MOD(ROW()-1, 28))","v":0},{"$f":"OFFSET(X0withPad!$A$2, INT((ROW()-1)/28), MOD(ROW()-1, 28))","v":0},{"$f":"OFFSET(X0withPad!$B$2, INT((ROW()-1)/28), MOD(ROW()-1, 28))","v":0},{"$f":"OFFSET(X0withPad!$C$2, INT((ROW()-1)/28), MOD(ROW()-1, 28))","v":0},{"$f":"OFFSET(X0withPad!$A$3, INT((ROW()-1)/28), MOD(ROW()-1, 28))","v":0},{"$f":"OFFSET(X0withPad!$B$3, INT((ROW()-1)/28), MOD(ROW()-1, 28))","v":0},{"$f":"OFFSET(X0withPad!$C$3, INT((ROW()-1)/28), MOD(ROW()-1, 28))","v":0}]
[{"$f":"OFFSET(X0withPad!$A$1, INT((ROW()-1)/28), MOD(ROW()-1, 28))","v":0},{"$f":"OFFSET(X0withPad!$B$1, INT((ROW()-1)/28), MOD(ROW()-1, 28))","v":0},{"$f":"OFFSET(X0withPad!$C$1, INT((ROW()-1)/28), MOD(ROW()-1, 28))","v":0},{"$f":"OFFSET(X0withPad!$A$2, INT((ROW()-1)/28), MOD(ROW()-1, 28))","v":0},{"$f":"OFFSET(X0withPad!$B$2, INT((ROW()-1)/28), MOD(ROW()-1, 28))","v":0},{"$f":"OFFSET(X0withPad!$C$2, INT((ROW()-1)/28), MOD(ROW()-1, 28))","v":0},{"$f":"OFFSET(X0withPad!$A$3, INT((ROW()-1)/28), MOD(ROW()-1, 28))","v":0},{"$f":"OFFSET(X0withPad!$B$3, INT((ROW()-1)/28), MOD(ROW()-1, 28))","v":0},{"$f":"OFFSET(X0withPad!$C$3, INT((ROW()-1)/28), MOD(ROW()-1, 28))","v":0}]
[{"$f":"OFFSET(X0withPad!$A$1, INT((ROW()-1)/28), MOD(ROW()-1, 28))","v":0},{"$f":"OFFSET(X0withPad!$B$1, INT((ROW()-1)/28), MOD(ROW()-1, 28))","v":0},{"$f":"OFFSET(X0withPad!$C$1, INT((ROW()-1)/28), MOD(ROW()-1, 28))","v":0},{"$f":"OFFSET(X0withPad!$A$2, INT((ROW()-1)/28), MOD(ROW()-1, 28))","v":0},{"$f":"OFFSET(X0withPad!$B$2, INT((ROW()-1)/28), MOD(ROW()-1, 28))","v":0},{"$f":"OFFSET(X0withPad!$C$2, INT((ROW()-1)/28), MOD(ROW()-1, 28))","v":0},{"$f":"OFFSET(X0withPad!$A$3, INT((ROW()-1)/28), MOD(ROW()-1, 28))","v":0},{"$f":"OFFSET(X0withPad!$B$3, INT((ROW()-1)/28), MOD(ROW()-1, 28))","v":0},{"$f":"OFFSET(X0withPad!$C$3, INT((ROW()-1)/28), MOD(ROW()-1, 28))","v":0}]
[{"$f":"OFFSET(X0withPad!$A$1, INT((ROW()-1)/28), MOD(ROW()-1, 28))","v":0},{"$f":"OFFSET(X0withPad!$B$1, INT((ROW()-1)/28), MOD(ROW()-1, 28))","v":0},{"$f":"OFFSET(X0withPad!$C$1, INT((ROW()-1)/28), MOD(ROW()-1, 28))","v":0},{"$f":"OFFSET(X0withPad!$A$2, INT((ROW()-1)/28), MOD(ROW()-1, 28))","v":0},{"$f":"OFFSET(X0withPad!$B$2, INT((ROW()-1)/28), MOD(ROW()-1, 28))","v":0},{"$f":"OFFSET(X0withPad!$C$2, INT((ROW()-1)/28), MOD(ROW()-1, 28))","v":0},{"$f":"OFFSET(X0withPad!$A$3, INT((ROW()-1)/28), MOD(ROW()-1, 28))","v":0},{"$f":"OFFSET(X0withPad!$B$3, INT((ROW()-1)/28), MOD(ROW()-1, 28))","v":0},{"$f":"OFFSET(X0withPad!$C$3, INT((ROW()-1)/28), MOD(ROW()-1, 28))","v":0}]
[{"$f":"OFFSET(X0withPad!$A$1, INT((ROW()-1)/28), MOD(ROW()-1, 28))","v":0},{"$f":"OFFSET(X0withPad!$B$1, INT((ROW()-1)/28), MOD(ROW()-1, 28))","v":0},{"$f":"OFFSET(X0withPad!$C$1, INT((ROW()-1)/28), MOD(ROW()-1, 28))","v":0},{"$f":"OFFSET(X0withPad!$A$2, INT((ROW()-1)/28), MOD(ROW()-1, 28))","v":0},{"$f":"OFFSET(X0withPad!$B$2, INT((ROW()-1)/28), MOD(ROW()-1, 28))","v":0},{"$f":"OFFSET(X0withPad!$C$2, INT((ROW()-1)/28), MOD(ROW()-1, 28))","v":0},{"$f":"OFFSET(X0withPad!$A$3, INT((ROW()-1)/28), MOD(ROW()-1, 28))","v":0},{"$f":"OFFSET(X0withPad!$B$3, INT((ROW()-1)/28), MOD(ROW()-1, 28))","v":0},{"$f":"OFFSET(X0withPad!$C$3, INT((ROW()-1)/28), MOD(ROW()-1, 28))","v":0}]
[{"$f":"OFFSET(X0withPad!$A$1, INT((ROW()-1)/28), MOD(ROW()-1, 28))","v":0},{"$f":"OFFSET(X0withPad!$B$1, INT((ROW()-1)/28), MOD(ROW()-1, 28))","v":0},{"$f":"OFFSET(X0withPad!$C$1, INT((ROW()-1)/28), MOD(ROW()-1, 28))","v":0},{"$f":"OFFSET(X0withPad!$A$2, INT((ROW()-1)/28), MOD(ROW()-1, 28))","v":0},{"$f":"OFFSET(X0withPad!$B$2, INT((ROW()-1)/28), MOD(ROW()-1, 28))","v":0},{"$f":"OFFSET(X0withPad!$C$2, INT((ROW()-1)/28), MOD(ROW()-1, 28))","v":0},{"$f":"OFFSET(X0withPad!$A$3, INT((ROW()-1)/28), MOD(ROW()-1, 28))","v":0},{"$f":"OFFSET(X0withPad!$B$3, INT((ROW()-1)/28), MOD(ROW()-1, 28))","v":0},{"$f":"OFFSET(X0withPad!$C$3, INT((ROW()-1)/28), MOD(ROW()-1, 28))","v":0}]
[{"$f":"OFFSET(X0withPad!$A$1, INT((ROW()-1)/28), MOD(ROW()-1, 28))","v":0},{"$f":"OFFSET(X0withPad!$B$1, INT((ROW()-1)/28), MOD(ROW()-1, 28))","v":0},{"$f":"OFFSET(X0withPad!$C$1, INT((ROW()-1)/28), MOD(ROW()-1, 28))","v":0},{"$f":"OFFSET(X0withPad!$A$2, INT((ROW()-1)/28), MOD(ROW()-1, 28))","v":0},{"$f":"OFFSET(X0withPad!$B$2, INT((ROW()-1)/28), MOD(ROW()-1, 28))","v":0},{"$f":"OFFSET(X0withPad!$C$2, INT((ROW()-1)/28), MOD(ROW()-1, 28))","v":0},{"$f":"OFFSET(X0withPad!$A$3, INT((ROW()-1)/28), MOD(ROW()-1, 28))","v":0},{"$f":"OFFSET(X0withPad!$B$3, INT((ROW()-1)/28), MOD(ROW()-1, 28))","v":0},{"$f":"OFFSET(X0withPad!$C$3, INT((ROW()-1)/28), MOD(ROW()-1, 28))","v":9}]
[{"$f":"OFFSET(X0withPad!$A$1, INT((ROW()-1)/28), MOD(ROW()-1, 28))","v":0},{"$f":"OFFSET(X0withPad!$B$1, INT((ROW()-1)/28), MOD(ROW()-1, 28))","v":0},{"$f":"OFFSET(X0withPad!$C$1, INT((ROW()-1)/28), MOD(ROW()-1, 28))","v":59},{"$f":"OFFSET(X0withPad!$A$2, INT((ROW()-1)/28), MOD(ROW()-1, 28))","v":0},{"$f":"OFFSET(X0withPad!$B$2, INT((ROW()-1)/28), MOD(ROW()-1, 28))","v":0},{"$f":"OFFSET(X0withPad!$C$2, INT((ROW()-1)/28), MOD(ROW()-1, 28))","v":133},{"$f":"OFFSET(X0withPad!$A$3, INT((ROW()-1)/28), MOD(ROW()-1, 28))","v":0},{"$f":"OFFSET(X0withPad!$B$3, INT((ROW()-1)/28), MOD(ROW()-1, 28))","v":9},{"$f":"OFFSET(X0withPad!$C$3, INT((ROW()-1)/28), MOD(ROW()-1, 28))","v":205}]
[{"$f":"OFFSET(X0withPad!$A$1, INT((ROW()-1)/28), MOD(ROW()-1, 28))","v":0},{"$f":"OFFSET(X0withPad!$B$1, INT((ROW()-1)/28), MOD(ROW()-1, 28))","v":59},{"$f":"OFFSET(X0withPad!$C$1, INT((ROW()-1)/28), MOD(ROW()-1, 28))","v":249},{"$f":"OFFSET(X0withPad!$A$2, INT((ROW()-1)/28), MOD(ROW()-1, 28))","v":0},{"$f":"OFFSET(X0withPad!$B$2, INT((ROW()-1)/28), MOD(ROW()-1, 28))","v":133},{"$f":"OFFSET(X0withPad!$C$2, INT((ROW()-1)/28), MOD(ROW()-1, 28))","v":254},{"$f":"OFFSET(X0withPad!$A$3, INT((ROW()-1)/28), MOD(ROW()-1, 28))","v":9},{"$f":"OFFSET(X0withPad!$B$3, INT((ROW()-1)/28), MOD(ROW()-1, 28))","v":205},{"$f":"OFFSET(X0withPad!$C$3, INT((ROW()-1)/28), MOD(ROW()-1, 28))","v":248}]
[{"$f":"OFFSET(X0withPad!$A$1, INT((ROW()-1)/28), MOD(ROW()-1, 28))","v":59},{"$f":"OFFSET(X0withPad!$B$1, INT((ROW()-1)/28), MOD(ROW()-1, 28))","v":249},{"$f":"OFFSET(X0withPad!$C$1, INT((ROW()-1)/28), MOD(ROW()-1, 28))","v":254},{"$f":"OFFSET(X0withPad!$A$2, INT((ROW()-1)/28), MOD(ROW()-1, 28))","v":133},{"$f":"OFFSET(X0withPad!$B$2, INT((ROW()-1)/28), MOD(ROW()-1, 28))","v":254},{"$f":"OFFSET(X0withPad!$C$2, INT((ROW()-1)/28), MOD(ROW()-1, 28))","v":187},{"$f":"OFFSET(X0withPad!$A$3, INT((ROW()-1)/28), MOD(ROW()-1, 28))","v":205},{"$f":"OFFSET(X0withPad!$B$3, INT((ROW()-1)/28), MOD(ROW()-1, 28))","v":248},{"$f":"OFFSET(X0withPad!$C$3, INT((ROW()-1)/28), MOD(ROW()-1, 28))","v":58}]
[{"$f":"OFFSET(X0withPad!$A$1, INT((ROW()-1)/28), MOD(ROW()-1, 28))","v":249},{"$f":"OFFSET(X0withPad!$B$1, INT((ROW()-1)/28), MOD(ROW()-1, 28))","v":254},{"$f":"OFFSET(X0withPad!$C$1, INT((ROW()-1)/28), MOD(ROW()-1, 28))","v":62},{"$f":"OFFSET(X0withPad!$A$2, INT((ROW()-1)/28), MOD(ROW()-1, 28))","v":254},{"$f":"OFFSET(X0withPad!$B$2, INT((ROW()-1)/28), MOD(ROW()-1, 28))","v":187},{"$f":"OFFSET(X0withPad!$C$2, INT((ROW()-1)/28), MOD(ROW()-1, 28))","v":5},{"$f":"OFFSET(X0withPad!$A$3, INT((ROW()-1)/28), MOD(ROW()-1, 28))","v":248},{"$f":"OFFSET(X0withPad!$B$3, INT((ROW()-1)/28), MOD(ROW()-1, 28))","v":58},{"$f":"OFFSET(X0withPad!$C$3, INT((ROW()-1)/28), MOD(ROW()-1, 28))","v":0}]
[{"$f":"OFFSET(X0withPad!$A$1, INT((ROW()-1)/28), MOD(ROW()-1, 28))","v":254},{"$f":"OFFSET(X0withPad!$B$1, INT((ROW()-1)/28), MOD(ROW()-1, 28))","v":62},{"$f":"OFFSET(X0withPad!$C$1, INT((ROW()-1)/28), MOD(ROW()-1, 28))","v":0},{"$f":"OFFSET(X0withPad!$A$2, INT((ROW()-1)/28), MOD(ROW()-1, 28))","v":187},{"$f":"OFFSET(X0withPad!$B$2, INT((ROW()-1)/28), MOD(ROW()-1, 28))","v":5},{"$f":"OFFSET(X0withPad!$C$2, INT((ROW()-1)/28), MOD(ROW()-1, 28))","v":0},{"$f":"OFFSET(X0withPad!$A$3, INT((ROW()-1)/28), MOD(ROW()-1, 28))","v":58},{"$f":"OFFSET(X0withPad!$B$3, INT((ROW()-1)/28), MOD(ROW()-1, 28))","v":0},{"$f":"OFFSET(X0withPad!$C$3, INT((ROW()-1)/28), MOD(ROW()-1, 28))","v":0}]
[{"$f":"OFFSET(X0withPad!$A$1, INT((ROW()-1)/28), MOD(ROW()-1, 28))","v":62},{"$f":"OFFSET(X0withPad!$B$1, INT((ROW()-1)/28), MOD(ROW()-1, 28))","v":0},{"$f":"OFFSET(X0withPad!$C$1, INT((ROW()-1)/28), MOD(ROW()-1, 28))","v":0},{"$f":"OFFSET(X0withPad!$A$2, INT((ROW()-1)/28), MOD(ROW()-1, 28))","v":5},{"$f":"OFFSET(X0withPad!$B$2, INT((ROW()-1)/28), MOD(ROW()-1, 28))","v":0},{"$f":"OFFSET(X0withPad!$C$2, INT((ROW()-1)/28), MOD(ROW()-1, 28))","v":0},{"$f":"OFFSET(X0withPad!$A$3, INT((ROW()-1)/28), MOD(ROW()-1, 28))","v":0},{"$f":"OFFSET(X0withPad!$B$3, INT((ROW()-1)/28), MOD(ROW()-1, 28))","v":0},{"$f":"OFFSET(X0withPad!$C$3, INT((ROW()-1)/28), MOD(ROW()-1, 28))","v":0}]
[{"$f":"OFFSET(X0withPad!$A$1, INT((ROW()-1)/28), MOD(ROW()-1, 28))","v":0},{"$f":"OFFSET(X0withPad!$B$1, INT((ROW()-1)/28), MOD(ROW()-1, 28))","v":0},{"$f":"OFFSET(X0withPad!$C$1, INT((ROW()-1)/28), MOD(ROW()-1, 28))","v":0},{"$f":"OFFSET(X0withPad!$A$2, INT((ROW()-1)/28), MOD(ROW()-1, 28))","v":0},{"$f":"OFFSET(X0withPad!$B$2, INT((ROW()-1)/28), MOD(ROW()-1, 28))","v":0},{"$f":"OFFSET(X0withPad!$C$2, INT((ROW()-1)/28), MOD(ROW()-1, 28))","v":0},{"$f":"OFFSET(X0withPad!$A$3, INT((ROW()-1)/28), MOD(ROW()-1, 28))","v":0},{"$f":"OFFSET(X0withPad!$B$3, INT((ROW()-1)/28), MOD(ROW()-1, 28))","v":0},{"$f":"OFFSET(X0withPad!$C$3, INT((ROW()-1)/28), MOD(ROW()-1, 28))","v":0}]
[{"$f":"OFFSET(X0withPad!$A$1, INT((ROW()-1)/28), MOD(ROW()-1, 28))","v":0},{"$f":"OFFSET(X0withPad!$B$1, INT((ROW()-1)/28), MOD(ROW()-1, 28))","v":0},{"$f":"OFFSET(X0withPad!$C$1, INT((ROW()-1)/28), MOD(ROW()-1, 28))","v":0},{"$f":"OFFSET(X0withPad!$A$2, INT((ROW()-1)/28), MOD(ROW()-1, 28))","v":0},{"$f":"OFFSET(X0withPad!$B$2, INT((ROW()-1)/28), MOD(ROW()-1, 28))","v":0},{"$f":"OFFSET(X0withPad!$C$2, INT((ROW()-1)/28), MOD(ROW()-1, 28))","v":0},{"$f":"OFFSET(X0withPad!$A$3, INT((ROW()-1)/28), MOD(ROW()-1, 28))","v":0},{"$f":"OFFSET(X0withPad!$B$3, INT((ROW()-1)/28), MOD(ROW()-1, 28))","v":0},{"$f":"OFFSET(X0withPad!$C$3, INT((ROW()-1)/28), MOD(ROW()-1, 28))","v":0}]
[{"$f":"OFFSET(X0withPad!$A$1, INT((ROW()-1)/28), MOD(ROW()-1, 28))","v":0},{"$f":"OFFSET(X0withPad!$B$1, INT((ROW()-1)/28), MOD(ROW()-1, 28))","v":0},{"$f":"OFFSET(X0withPad!$C$1, INT((ROW()-1)/28), MOD(ROW()-1, 28))","v":0},{"$f":"OFFSET(X0withPad!$A$2, INT((ROW()-1)/28), MOD(ROW()-1, 28))","v":0},{"$f":"OFFSET(X0withPad!$B$2, INT((ROW()-1)/28), MOD(ROW()-1, 28))","v":0},{"$f":"OFFSET(X0withPad!$C$2, INT((ROW()-1)/28), MOD(ROW()-1, 28))","v":0},{"$f":"OFFSET(X0withPad!$A$3, INT((ROW()-1)/28), MOD(ROW()-1, 28))","v":0},{"$f":"OFFSET(X0withPad!$B$3, INT((ROW()-1)/28), MOD(ROW()-1, 28))","v":0},{"$f":"OFFSET(X0withPad!$C$3, INT((ROW()-1)/28), MOD(ROW()-1, 28))","v":0}]
[{"$f":"OFFSET(X0withPad!$A$1, INT((ROW()-1)/28), MOD(ROW()-1, 28))","v":0},{"$f":"OFFSET(X0withPad!$B$1, INT((ROW()-1)/28), MOD(ROW()-1, 28))","v":0},{"$f":"OFFSET(X0withPad!$C$1, INT((ROW()-1)/28), MOD(ROW()-1, 28))","v":0},{"$f":"OFFSET(X0withPad!$A$2, INT((ROW()-1)/28), MOD(ROW()-1, 28))","v":0},{"$f":"OFFSET(X0withPad!$B$2, INT((ROW()-1)/28), MOD(ROW()-1, 28))","v":0},{"$f":"OFFSET(X0withPad!$C$2, INT((ROW()-1)/28), MOD(ROW()-1, 28))","v":0},{"$f":"OFFSET(X0withPad!$A$3, INT((ROW()-1)/28), MOD(ROW()-1, 28))","v":0},{"$f":"OFFSET(X0withPad!$B$3, INT((ROW()-1)/28), MOD(ROW()-1, 28))","v":0},{"$f":"OFFSET(X0withPad!$C$3, INT((ROW()-1)/28), MOD(ROW()-1, 28))","v":0}]
[{"$f":"OFFSET(X0withPad!$A$1, INT((ROW()-1)/28), MOD(ROW()-1, 28))","v":0},{"$f":"OFFSET(X0withPad!$B$1, INT((ROW()-1)/28), MOD(ROW()-1, 28))","v":0},{"$f":"OFFSET(X0withPad!$C$1, INT((ROW()-1)/28), MOD(ROW()-1, 28))","v":0},{"$f":"OFFSET(X0withPad!$A$2, INT((ROW()-1)/28), MOD(ROW()-1, 28))","v":0},{"$f":"OFFSET(X0withPad!$B$2, INT((ROW()-1)/28), MOD(ROW()-1, 28))","v":0},{"$f":"OFFSET(X0withPad!$C$2, INT((ROW()-1)/28), MOD(ROW()-1, 28))","v":0},{"$f":"OFFSET(X0withPad!$A$3, INT((ROW()-1)/28), MOD(ROW()-1, 28))","v":0},{"$f":"OFFSET(X0withPad!$B$3, INT((ROW()-1)/28), MOD(ROW()-1, 28))","v":0},{"$f":"OFFSET(X0withPad!$C$3, INT((ROW()-1)/28), MOD(ROW()-1, 28))","v":0}]
[{"$f":"OFFSET(X0withPad!$A$1, INT((ROW()-1)/28), MOD(ROW()-1, 28))","v":0},{"$f":"OFFSET(X0withPad!$B$1, INT((ROW()-1)/28), MOD(ROW()-1, 28))","v":0},{"$f":"OFFSET(X0withPad!$C$1, INT((ROW()-1)/28), MOD(ROW()-1, 28))","v":0},{"$f":"OFFSET(X0withPad!$A$2, INT((ROW()-1)/28), MOD(ROW()-1, 28))","v":0},{"$f":"OFFSET(X0withPad!$B$2, INT((ROW()-1)/28), MOD(ROW()-1, 28))","v":0},{"$f":"OFFSET(X0withPad!$C$2, INT((ROW()-1)/28), MOD(ROW()-1, 28))","v":0},{"$f":"OFFSET(X0withPad!$A$3, INT((ROW()-1)/28), MOD(ROW()-1, 28))","v":0},{"$f":"OFFSET(X0withPad!$B$3, INT((ROW()-1)/28), MOD(ROW()-1, 28))","v":0},{"$f":"OFFSET(X0withPad!$C$3, INT((ROW()-1)/28), MOD(ROW()-1, 28))","v":0}]
[{"$f":"OFFSET(X0withPad!$A$1, INT((ROW()-1)/28), MOD(ROW()-1, 28))","v":0},{"$f":"OFFSET(X0withPad!$B$1, INT((ROW()-1)/28), MOD(ROW()-1, 28))","v":0},{"$f":"OFFSET(X0withPad!$C$1, INT((ROW()-1)/28), MOD(ROW()-1, 28))","v":0},{"$f":"OFFSET(X0withPad!$A$2, INT((ROW()-1)/28), MOD(ROW()-1, 28))","v":0},{"$f":"OFFSET(X0withPad!$B$2, INT((ROW()-1)/28), MOD(ROW()-1, 28))","v":0},{"$f":"OFFSET(X0withPad!$C$2, INT((ROW()-1)/28), MOD(ROW()-1, 28))","v":0},{"$f":"OFFSET(X0withPad!$A$3, INT((ROW()-1)/28), MOD(ROW()-1, 28))","v":0},{"$f":"OFFSET(X0withPad!$B$3, INT((ROW()-1)/28), MOD(ROW()-1, 28))","v":0},{"$f":"OFFSET(X0withPad!$C$3, INT((ROW()-1)/28), MOD(ROW()-1, 28))","v":0}]
[{"$f":"OFFSET(X0withPad!$A$1, INT((ROW()-1)/28), MOD(ROW()-1, 28))","v":0},{"$f":"OFFSET(X0withPad!$B$1, INT((ROW()-1)/28), MOD(ROW()-1, 28))","v":0},{"$f":"OFFSET(X0withPad!$C$1, INT((ROW()-1)/28), MOD(ROW()-1, 28))","v":0},{"$f":"OFFSET(X0withPad!$A$2, INT((ROW()-1)/28), MOD(ROW()-1, 28))","v":0},{"$f":"OFFSET(X0withPad!$B$2, INT((ROW()-1)/28), MOD(ROW()-1, 28))","v":0},{"$f":"OFFSET(X0withPad!$C$2, INT((ROW()-1)/28), MOD(ROW()-1, 28))","v":0},{"$f":"OFFSET(X0withPad!$A$3, INT((ROW()-1)/28), MOD(ROW()-1, 28))","v":0},{"$f":"OFFSET(X0withPad!$B$3, INT((ROW()-1)/28), MOD(ROW()-1, 28))","v":0},{"$f":"OFFSET(X0withPad!$C$3, INT((ROW()-1)/28), MOD(ROW()-1, 28))","v":0}]
[{"$f":"OFFSET(X0withPad!$A$1, INT((ROW()-1)/28), MOD(ROW()-1, 28))","v":0},{"$f":"OFFSET(X0withPad!$B$1, INT((ROW()-1)/28), MOD(ROW()-1, 28))","v":0},{"$f":"OFFSET(X0withPad!$C$1, INT((ROW()-1)/28), MOD(ROW()-1, 28))","v":0},{"$f":"OFFSET(X0withPad!$A$2, INT((ROW()-1)/28), MOD(ROW()-1, 28))","v":0},{"$f":"OFFSET(X0withPad!$B$2, INT((ROW()-1)/28), MOD(ROW()-1, 28))","v":0},{"$f":"OFFSET(X0withPad!$C$2, INT((ROW()-1)/28), MOD(ROW()-1, 28))","v":0},{"$f":"OFFSET(X0withPad!$A$3, INT((ROW()-1)/28), MOD(ROW()-1, 28))","v":0},{"$f":"OFFSET(X0withPad!$B$3, INT((ROW()-1)/28), MOD(ROW()-1, 28))","v":0},{"$f":"OFFSET(X0withPad!$C$3, INT((ROW()-1)/28), MOD(ROW()-1, 28))","v":0}]
[{"$f":"OFFSET(X0withPad!$A$1, INT((ROW()-1)/28), MOD(ROW()-1, 28))","v":0},{"$f":"OFFSET(X0withPad!$B$1, INT((ROW()-1)/28), MOD(ROW()-1, 28))","v":0},{"$f":"OFFSET(X0withPad!$C$1, INT((ROW()-1)/28), MOD(ROW()-1, 28))","v":0},{"$f":"OFFSET(X0withPad!$A$2, INT((ROW()-1)/28), MOD(ROW()-1, 28))","v":0},{"$f":"OFFSET(X0withPad!$B$2, INT((ROW()-1)/28), MOD(ROW()-1, 28))","v":0},{"$f":"OFFSET(X0withPad!$C$2, INT((ROW()-1)/28), MOD(ROW()-1, 28))","v":0},{"$f":"OFFSET(X0withPad!$A$3, INT((ROW()-1)/28), MOD(ROW()-1, 28))","v":0},{"$f":"OFFSET(X0withPad!$B$3, INT((ROW()-1)/28), MOD(ROW()-1, 28))","v":0},{"$f":"OFFSET(X0withPad!$C$3, INT((ROW()-1)/28), MOD(ROW()-1, 28))","v":0}]
[{"$f":"OFFSET(X0withPad!$A$1, INT((ROW()-1)/28), MOD(ROW()-1, 28))","v":0},{"$f":"OFFSET(X0withPad!$B$1, INT((ROW()-1)/28), MOD(ROW()-1, 28))","v":0},{"$f":"OFFSET(X0withPad!$C$1, INT((ROW()-1)/28), MOD(ROW()-1, 28))","v":0},{"$f":"OFFSET(X0withPad!$A$2, INT((ROW()-1)/28), MOD(ROW()-1, 28))","v":0},{"$f":"OFFSET(X0withPad!$B$2, INT((ROW()-1)/28), MOD(ROW()-1, 28))","v":0},{"$f":"OFFSET(X0withPad!$C$2, INT((ROW()-1)/28), MOD(ROW()-1, 28))","v":0},{"$f":"OFFSET(X0withPad!$A$3, INT((ROW()-1)/28), MOD(ROW()-1, 28))","v":0},{"$f":"OFFSET(X0withPad!$B$3, INT((ROW()-1)/28), MOD(ROW()-1, 28))","v":0},{"$f":"OFFSET(X0withPad!$C$3, INT((ROW()-1)/28), MOD(ROW()-1, 28))","v":0}]
[{"$f":"OFFSET(X0withPad!$A$1, INT((ROW()-1)/28), MOD(ROW()-1, 28))","v":0},{"$f":"OFFSET(X0withPad!$B$1, INT((ROW()-1)/28), MOD(ROW()-1, 28))","v":0},{"$f":"OFFSET(X0withPad!$C$1, INT((ROW()-1)/28), MOD(ROW()-1, 28))","v":0},{"$f":"OFFSET(X0withPad!$A$2, INT((ROW()-1)/28), MOD(ROW()-1, 28))","v":0},{"$f":"OFFSET(X0withPad!$B$2, INT((ROW()-1)/28), MOD(ROW()-1, 28))","v":0},{"$f":"OFFSET(X0withPad!$C$2, INT((ROW()-1)/28), MOD(ROW()-1, 28))","v":0},{"$f":"OFFSET(X0withPad!$A$3, INT((ROW()-1)/28), MOD(ROW()-1, 28))","v":0},{"$f":"OFFSET(X0withPad!$B$3, INT((ROW()-1)/28), MOD(ROW()-1, 28))","v":0},{"$f":"OFFSET(X0withPad!$C$3, INT((ROW()-1)/28), MOD(ROW()-1, 28))","v":0}]
[{"$f":"OFFSET(X0withPad!$A$1, INT((ROW()-1)/28), MOD(ROW()-1, 28))","v":0},{"$f":"OFFSET(X0withPad!$B$1, INT((ROW()-1)/28), MOD(ROW()-1, 28))","v":0},{"$f":"OFFSET(X0withPad!$C$1, INT((ROW()-1)/28), MOD(ROW()-1, 28))","v":0},{"$f":"OFFSET(X0withPad!$A$2, INT((ROW()-1)/28), MOD(ROW()-1, 28))","v":0},{"$f":"OFFSET(X0withPad!$B$2, INT((ROW()-1)/28), MOD(ROW()-1, 28))","v":0},{"$f":"OFFSET(X0withPad!$C$2, INT((ROW()-1)/28), MOD(ROW()-1, 28))","v":0},{"$f":"OFFSET(X0withPad!$A$3, INT((ROW()-1)/28), MOD(ROW()-1, 28))","v":0},{"$f":"OFFSET(X0withPad!$B$3, INT((ROW()-1)/28), MOD(ROW()-1, 28))","v":0},{"$f":"OFFSET(X0withPad!$C$3, INT((ROW()-1)/28), MOD(ROW()-1, 28))","v":0}]
[{"$f":"OFFSET(X0withPad!$A$1, INT((ROW()-1)/28), MOD(ROW()-1, 28))","v":0},{"$f":"OFFSET(X0withPad!$B$1, INT((ROW()-1)/28), MOD(ROW()-1, 28))","v":0},{"$f":"OFFSET(X0withPad!$C$1, INT((ROW()-1)/28), MOD(ROW()-1, 28))","v":0},{"$f":"OFFSET(X0withPad!$A$2, INT((ROW()-1)/28), MOD(ROW()-1, 28))","v":0},{"$f":"OFFSET(X0withPad!$B$2, INT((ROW()-1)/28), MOD(ROW()-1, 28))","v":0},{"$f":"OFFSET(X0withPad!$C$2, INT((ROW()-1)/28), MOD(ROW()-1, 28))","v":0},{"$f":"OFFSET(X0withPad!$A$3, INT((ROW()-1)/28), MOD(ROW()-1, 28))","v":0},{"$f":"OFFSET(X0withPad!$B$3, INT((ROW()-1)/28), MOD(ROW()-1, 28))","v":0},{"$f":"OFFSET(X0withPad!$C$3, INT((ROW()-1)/28), MOD(ROW()-1, 28))","v":0}]
[{"$f":"OFFSET(X0withPad!$A$1, INT((ROW()-1)/28), MOD(ROW()-1, 28))","v":0},{"$f":"OFFSET(X0withPad!$B$1, INT((ROW()-1)/28), MOD(ROW()-1, 28))","v":0},{"$f":"OFFSET(X0withPad!$C$1, INT((ROW()-1)/28), MOD(ROW()-1, 28))","v":0},{"$f":"OFFSET(X0withPad!$A$2, INT((ROW()-1)/28), MOD(ROW()-1, 28))","v":0},{"$f":"OFFSET(X0withPad!$B$2, INT((ROW()-1)/28), MOD(ROW()-1, 28))","v":0},{"$f":"OFFSET(X0withPad!$C$2, INT((ROW()-1)/28), MOD(ROW()-1, 28))","v":0},{"$f":"OFFSET(X0withPad!$A$3, INT((ROW()-1)/28), MOD(ROW()-1, 28))","v":0},{"$f":"OFFSET(X0withPad!$B$3, INT((ROW()-1)/28), MOD(ROW()-1, 28))","v":0},{"$f":"OFFSET(X0withPad!$C$3, INT((ROW()-1)/28), MOD(ROW()-1, 28))","v":0}]
[{"$f":"OFFSET(X0withPad!$A$1, INT((ROW()-1)/28), MOD(ROW()-1, 28))","v":0},{"$f":"OFFSET(X0withPad!$B$1, INT((ROW()-1)/28), MOD(ROW()-1, 28))","v":0},{"$f":"OFFSET(X0withPad!$C$1, INT((ROW()-1)/28), MOD(ROW()-1, 28))","v":0},{"$f":"OFFSET(X0withPad!$A$2, INT((ROW()-1)/28), MOD(ROW()-1, 28))","v":0},{"$f":"OFFSET(X0withPad!$B$2, INT((ROW()-1)/28), MOD(ROW()-1, 28))","v":0},{"$f":"OFFSET(X0withPad!$C$2, INT((ROW()-1)/28), MOD(ROW()-1, 28))","v":0},{"$f":"OFFSET(X0withPad!$A$3, INT((ROW()-1)/28), MOD(ROW()-1, 28))","v":0},{"$f":"OFFSET(X0withPad!$B$3, INT((ROW()-1)/28), MOD(ROW()-1, 28))","v":0},{"$f":"OFFSET(X0withPad!$C$3, INT((ROW()-1)/28), MOD(ROW()-1, 28))","v":0}]
[{"$f":"OFFSET(X0withPad!$A$1, INT((ROW()-1)/28), MOD(ROW()-1, 28))","v":0},{"$f":"OFFSET(X0withPad!$B$1, INT((ROW()-1)/28), MOD(ROW()-1, 28))","v":0},{"$f":"OFFSET(X0withPad!$C$1, INT((ROW()-1)/28), MOD(ROW()-1, 28))","v":0},{"$f":"OFFSET(X0withPad!$A$2, INT((ROW()-1)/28), MOD(ROW()-1, 28))","v":0},{"$f":"OFFSET(X0withPad!$B$2, INT((ROW()-1)/28), MOD(ROW()-1, 28))","v":0},{"$f":"OFFSET(X0withPad!$C$2, INT((ROW()-1)/28), MOD(ROW()-1, 28))","v":0},{"$f":"OFFSET(X0withPad!$A$3, INT((ROW()-1)/28), MOD(ROW()-1, 28))","v":0},{"$f":"OFFSET(X0withPad!$B$3, INT((ROW()-1)/28), MOD(ROW()-1, 28))","v":0},{"$f":"OFFSET(X0withPad!$C$3, INT((ROW()-1)/28), MOD(ROW()-1, 28))","v":0}]
[{"$f":"OFFSET(X0withPad!$A$1, INT((ROW()-1)/28), MOD(ROW()-1, 28))","v":0},{"$f":"OFFSET(X0withPad!$B$1, INT((ROW()-1)/28), MOD(ROW()-1, 28))","v":0},{"$f":"OFFSET(X0withPad!$C$1, INT((ROW()-1)/28), MOD(ROW()-1, 28))","v":0},{"$f":"OFFSET(X0withPad!$A$2, INT((ROW()-1)/28), MOD(ROW()-1, 28))","v":0},{"$f":"OFFSET(X0withPad!$B$2, INT((ROW()-1)/28), MOD(ROW()-1, 28))","v":0},{"$f":"OFFSET(X0withPad!$C$2, INT((ROW()-1)/28), MOD(ROW()-1, 28))","v":0},{"$f":"OFFSET(X0withPad!$A$3, INT((ROW()-1)/28), MOD(ROW()-1, 28))","v":0},{"$f":"OFFSET(X0withPad!$B$3, INT((ROW()-1)/28), MOD(ROW()-1, 28))","v":0},{"$f":"OFFSET(X0withPad!$C$3, INT((ROW()-1)/28), MOD(ROW()-1, 28))","v":0}]
[{"$f":"OFFSET(X0withPad!$A$1, INT((ROW()-1)/28), MOD(ROW()-1, 28))","v":0},{"$f":"OFFSET(X0withPad!$B$1, INT((ROW()-1)/28), MOD(ROW()-1, 28))","v":0},{"$f":"OFFSET(X0withPad!$C$1, INT((ROW()-1)/28), MOD(ROW()-1, 28))","v":0},{"$f":"OFFSET(X0withPad!$A$2, INT((ROW()-1)/28), MOD(ROW()-1, 28))","v":0},{"$f":"OFFSET(X0withPad!$B$2, INT((ROW()-1)/28), MOD(ROW()-1, 28))","v":0},{"$f":"OFFSET(X0withPad!$C$2, INT((ROW()-1)/28), MOD(ROW()-1, 28))","v":0},{"$f":"OFFSET(X0withPad!$A$3, INT((ROW()-1)/28), MOD(ROW()-1, 28))","v":0},{"$f":"OFFSET(X0withPad!$B$3, INT((ROW()-1)/28), MOD(ROW()-1, 28))","v":0},{"$f":"OFFSET(X0withPad!$C$3, INT((ROW()-1)/28), MOD(ROW()-1, 28))","v":0}]
[{"$f":"OFFSET(X0withPad!$A$1, INT((ROW()-1)/28), MOD(ROW()-1, 28))","v":0},{"$f":"OFFSET(X0withPad!$B$1, INT((ROW()-1)/28), MOD(ROW()-1, 28))","v":0},{"$f":"OFFSET(X0withPad!$C$1, INT((ROW()-1)/28), MOD(ROW()-1, 28))","v":0},{"$f":"OFFSET(X0withPad!$A$2, INT((ROW()-1)/28), MOD(ROW()-1, 28))","v":0},{"$f":"OFFSET(X0withPad!$B$2, INT((ROW()-1)/28), MOD(ROW()-1, 28))","v":0},{"$f":"OFFSET(X0withPad!$C$2, INT((ROW()-1)/28), MOD(ROW()-1, 28))","v":0},{"$f":"OFFSET(X0withPad!$A$3, INT((ROW()-1)/28), MOD(ROW()-1, 28))","v":0},{"$f":"OFFSET(X0withPad!$B$3, INT((ROW()-1)/28), MOD(ROW()-1, 28))","v":0},{"$f":"OFFSET(X0withPad!$C$3, INT((ROW()-1)/28), MOD(ROW()-1, 28))","v":0}]
[{"$f":"OFFSET(X0withPad!$A$1, INT((ROW()-1)/28), MOD(ROW()-1, 28))","v":0},{"$f":"OFFSET(X0withPad!$B$1, INT((ROW()-1)/28), MOD(ROW()-1, 28))","v":0},{"$f":"OFFSET(X0withPad!$C$1, INT((ROW()-1)/28), MOD(ROW()-1, 28))","v":0},{"$f":"OFFSET(X0withPad!$A$2, INT((ROW()-1)/28), MOD(ROW()-1, 28))","v":0},{"$f":"OFFSET(X0withPad!$B$2, INT((ROW()-1)/28), MOD(ROW()-1, 28))","v":0},{"$f":"OFFSET(X0withPad!$C$2, INT((ROW()-1)/28), MOD(ROW()-1, 28))","v":0},{"$f":"OFFSET(X0withPad!$A$3, INT((ROW()-1)/28), MOD(ROW()-1, 28))","v":0},{"$f":"OFFSET(X0withPad!$B$3, INT((ROW()-1)/28), MOD(ROW()-1, 28))","v":0},{"$f":"OFFSET(X0withPad!$C$3, INT((ROW()-1)/28), MOD(ROW()-1, 28))","v":0}]
[{"$f":"OFFSET(X0withPad!$A$1, INT((ROW()-1)/28), MOD(ROW()-1, 28))","v":0},{"$f":"OFFSET(X0withPad!$B$1, INT((ROW()-1)/28), MOD(ROW()-1, 28))","v":0},{"$f":"OFFSET(X0withPad!$C$1, INT((ROW()-1)/28), MOD(ROW()-1, 28))","v":0},{"$f":"OFFSET(X0withPad!$A$2, INT((ROW()-1)/28), MOD(ROW()-1, 28))","v":0},{"$f":"OFFSET(X0withPad!$B$2, INT((ROW()-1)/28), MOD(ROW()-1, 28))","v":0},{"$f":"OFFSET(X0withPad!$C$2, INT((ROW()-1)/28), MOD(ROW()-1, 28))","v":9},{"$f":"OFFSET(X0withPad!$A$3, INT((ROW()-1)/28), MOD(ROW()-1, 28))","v":0},{"$f":"OFFSET(X0withPad!$B$3, INT((ROW()-1)/28), MOD(ROW()-1, 28))","v":0},{"$f":"OFFSET(X0withPad!$C$3, INT((ROW()-1)/28), MOD(ROW()-1, 28))","v":126}]
[{"$f":"OFFSET(X0withPad!$A$1, INT((ROW()-1)/28), MOD(ROW()-1, 28))","v":0},{"$f":"OFFSET(X0withPad!$B$1, INT((ROW()-1)/28), MOD(ROW()-1, 28))","v":0},{"$f":"OFFSET(X0withPad!$C$1, INT((ROW()-1)/28), MOD(ROW()-1, 28))","v":133},{"$f":"OFFSET(X0withPad!$A$2, INT((ROW()-1)/28), MOD(ROW()-1, 28))","v":0},{"$f":"OFFSET(X0withPad!$B$2, INT((ROW()-1)/28), MOD(ROW()-1, 28))","v":9},{"$f":"OFFSET(X0withPad!$C$2, INT((ROW()-1)/28), MOD(ROW()-1, 28))","v":205},{"$f":"OFFSET(X0withPad!$A$3, INT((ROW()-1)/28), MOD(ROW()-1, 28))","v":0},{"$f":"OFFSET(X0withPad!$B$3, INT((ROW()-1)/28), MOD(ROW()-1, 28))","v":126},{"$f":"OFFSET(X0withPad!$C$3, INT((ROW()-1)/28), MOD(ROW()-1, 28))","v":254}]
[{"$f":"OFFSET(X0withPad!$A$1, INT((ROW()-1)/28), MOD(ROW()-1, 28))","v":0},{"$f":"OFFSET(X0withPad!$B$1, INT((ROW()-1)/28), MOD(ROW()-1, 28))","v":133},{"$f":"OFFSET(X0withPad!$C$1, INT((ROW()-1)/28), MOD(ROW()-1, 28))","v":254},{"$f":"OFFSET(X0withPad!$A$2, INT((ROW()-1)/28), MOD(ROW()-1, 28))","v":9},{"$f":"OFFSET(X0withPad!$B$2, INT((ROW()-1)/28), MOD(ROW()-1, 28))","v":205},{"$f":"OFFSET(X0withPad!$C$2, INT((ROW()-1)/28), MOD(ROW()-1, 28))","v":248},{"$f":"OFFSET(X0withPad!$A$3, INT((ROW()-1)/28), MOD(ROW()-1, 28))","v":126},{"$f":"OFFSET(X0withPad!$B$3, INT((ROW()-1)/28), MOD(ROW()-1, 28))","v":254},{"$f":"OFFSET(X0withPad!$C$3, INT((ROW()-1)/28), MOD(ROW()-1, 28))","v":182}]
[{"$f":"OFFSET(X0withPad!$A$1, INT((ROW()-1)/28), MOD(ROW()-1, 28))","v":133},{"$f":"OFFSET(X0withPad!$B$1, INT((ROW()-1)/28), MOD(ROW()-1, 28))","v":254},{"$f":"OFFSET(X0withPad!$C$1, INT((ROW()-1)/28), MOD(ROW()-1, 28))","v":187},{"$f":"OFFSET(X0withPad!$A$2, INT((ROW()-1)/28), MOD(ROW()-1, 28))","v":205},{"$f":"OFFSET(X0withPad!$B$2, INT((ROW()-1)/28), MOD(ROW()-1, 28))","v":248},{"$f":"OFFSET(X0withPad!$C$2, INT((ROW()-1)/28), MOD(ROW()-1, 28))","v":58},{"$f":"OFFSET(X0withPad!$A$3, INT((ROW()-1)/28), MOD(ROW()-1, 28))","v":254},{"$f":"OFFSET(X0withPad!$B$3, INT((ROW()-1)/28), MOD(ROW()-1, 28))","v":182},{"$f":"OFFSET(X0withPad!$C$3, INT((ROW()-1)/28), MOD(ROW()-1, 28))","v":0}]
[{"$f":"OFFSET(X0withPad!$A$1, INT((ROW()-1)/28), MOD(ROW()-1, 28))","v":254},{"$f":"OFFSET(X0withPad!$B$1, INT((ROW()-1)/28), MOD(ROW()-1, 28))","v":187},{"$f":"OFFSET(X0withPad!$C$1, INT((ROW()-1)/28), MOD(ROW()-1, 28))","v":5},{"$f":"OFFSET(X0withPad!$A$2, INT((ROW()-1)/28), MOD(ROW()-1, 28))","v":248},{"$f":"OFFSET(X0withPad!$B$2, INT((ROW()-1)/28), MOD(ROW()-1, 28))","v":58},{"$f":"OFFSET(X0withPad!$C$2, INT((ROW()-1)/28), MOD(ROW()-1, 28))","v":0},{"$f":"OFFSET(X0withPad!$A$3, INT((ROW()-1)/28), MOD(ROW()-1, 28))","v":182},{"$f":"OFFSET(X0withPad!$B$3, INT((ROW()-1)/28), MOD(ROW()-1, 28))","v":0},{"$f":"OFFSET(X0withPad!$C$3, INT((ROW()-1)/28), MOD(ROW()-1, 28))","v":0}]
[{"$f":"OFFSET(X0withPad!$A$1, INT((ROW()-1)/28), MOD(ROW()-1, 28))","v":187},{"$f":"OFFSET(X0withPad!$B$1, INT((ROW()-1)/28), MOD(ROW()-1, 28))","v":5},{"$f":"OFFSET(X0withPad!$C$1, INT((ROW()-1)/28), MOD(ROW()-1, 28))","v":0},{"$f":"OFFSET(X0withPad!$A$2, INT((ROW()-1)/28), MOD(ROW()-1, 28))","v":58},{"$f":"OFFSET(X0withPad!$B$2, INT((ROW()-1)/28), MOD(ROW()-1, 28))","v":0},{"$f":"OFFSET(X0withPad!$C$2, INT((ROW()-1)/28), MOD(ROW()-1, 28))","v":0},{"$f":"OFFSET(X0withPad!$A$3, INT((ROW()-1)/28), MOD(ROW()-1, 28))","v":0},{"$f":"OFFSET(X0withPad!$B$3, INT((ROW()-1)/28), MOD(ROW()-1, 28))","v":0},{"$f":"OFFSET(X0withPad!$C$3, INT((ROW()-1)/28), MOD(ROW()-1, 28))","v":0}]
[{"$f":"OFFSET(X0withPad!$A$1, INT((ROW()-1)/28), MOD(ROW()-1, 28))","v":5},{"$f":"OFFSET(X0withPad!$B$1, INT((ROW()-1)/28), MOD(ROW()-1, 28))","v":0},{"$f":"OFFSET(X0withPad!$C$1, INT((ROW()-1)/28), MOD(ROW()-1, 28))","v":0},{"$f":"OFFSET(X0withPad!$A$2, INT((ROW()-1)/28), MOD(ROW()-1, 28))","v":0},{"$f":"OFFSET(X0withPad!$B$2, INT((ROW()-1)/28), MOD(ROW()-1, 28))","v":0},{"$f":"OFFSET(X0withPad!$C$2, INT((ROW()-1)/28), MOD(ROW()-1, 28))","v":0},{"$f":"OFFSET(X0withPad!$A$3, INT((ROW()-1)/28), MOD(ROW()-1, 28))","v":0},{"$f":"OFFSET(X0withPad!$B$3, INT((ROW()-1)/28), MOD(ROW()-1, 28))","v":0},{"$f":"OFFSET(X0withPad!$C$3, INT((ROW()-1)/28), MOD(ROW()-1, 28))","v":0}]
[{"$f":"OFFSET(X0withPad!$A$1, INT((ROW()-1)/28), MOD(ROW()-1, 28))","v":0},{"$f":"OFFSET(X0withPad!$B$1, INT((ROW()-1)/28), MOD(ROW()-1, 28))","v":0},{"$f":"OFFSET(X0withPad!$C$1, INT((ROW()-1)/28), MOD(ROW()-1, 28))","v":0},{"$f":"OFFSET(X0withPad!$A$2, INT((ROW()-1)/28), MOD(ROW()-1, 28))","v":0},{"$f":"OFFSET(X0withPad!$B$2, INT((ROW()-1)/28), MOD(ROW()-1, 28))","v":0},{"$f":"OFFSET(X0withPad!$C$2, INT((ROW()-1)/28), MOD(ROW()-1, 28))","v":0},{"$f":"OFFSET(X0withPad!$A$3, INT((ROW()-1)/28), MOD(ROW()-1, 28))","v":0},{"$f":"OFFSET(X0withPad!$B$3, INT((ROW()-1)/28), MOD(ROW()-1, 28))","v":0},{"$f":"OFFSET(X0withPad!$C$3, INT((ROW()-1)/28), MOD(ROW()-1, 28))","v":0}]
[{"$f":"OFFSET(X0withPad!$A$1, INT((ROW()-1)/28), MOD(ROW()-1, 28))","v":0},{"$f":"OFFSET(X0withPad!$B$1, INT((ROW()-1)/28), MOD(ROW()-1, 28))","v":0},{"$f":"OFFSET(X0withPad!$C$1, INT((ROW()-1)/28), MOD(ROW()-1, 28))","v":0},{"$f":"OFFSET(X0withPad!$A$2, INT((ROW()-1)/28), MOD(ROW()-1, 28))","v":0},{"$f":"OFFSET(X0withPad!$B$2, INT((ROW()-1)/28), MOD(ROW()-1, 28))","v":0},{"$f":"OFFSET(X0withPad!$C$2, INT((ROW()-1)/28), MOD(ROW()-1, 28))","v":0},{"$f":"OFFSET(X0withPad!$A$3, INT((ROW()-1)/28), MOD(ROW()-1, 28))","v":0},{"$f":"OFFSET(X0withPad!$B$3, INT((ROW()-1)/28), MOD(ROW()-1, 28))","v":0},{"$f":"OFFSET(X0withPad!$C$3, INT((ROW()-1)/28), MOD(ROW()-1, 28))","v":0}]
[{"$f":"OFFSET(X0withPad!$A$1, INT((ROW()-1)/28), MOD(ROW()-1, 28))","v":0},{"$f":"OFFSET(X0withPad!$B$1, INT((ROW()-1)/28), MOD(ROW()-1, 28))","v":0},{"$f":"OFFSET(X0withPad!$C$1, INT((ROW()-1)/28), MOD(ROW()-1, 28))","v":0},{"$f":"OFFSET(X0withPad!$A$2, INT((ROW()-1)/28), MOD(ROW()-1, 28))","v":0},{"$f":"OFFSET(X0withPad!$B$2, INT((ROW()-1)/28), MOD(ROW()-1, 28))","v":0},{"$f":"OFFSET(X0withPad!$C$2, INT((ROW()-1)/28), MOD(ROW()-1, 28))","v":0},{"$f":"OFFSET(X0withPad!$A$3, INT((ROW()-1)/28), MOD(ROW()-1, 28))","v":0},{"$f":"OFFSET(X0withPad!$B$3, INT((ROW()-1)/28), MOD(ROW()-1, 28))","v":0},{"$f":"OFFSET(X0withPad!$C$3, INT((ROW()-1)/28), MOD(ROW()-1, 28))","v":0}]
[{"$f":"OFFSET(X0withPad!$A$1, INT((ROW()-1)/28), MOD(ROW()-1, 28))","v":0},{"$f":"OFFSET(X0withPad!$B$1, INT((ROW()-1)/28), MOD(ROW()-1, 28))","v":0},{"$f":"OFFSET(X0withPad!$C$1, INT((ROW()-1)/28), MOD(ROW()-1, 28))","v":0},{"$f":"OFFSET(X0withPad!$A$2, INT((ROW()-1)/28), MOD(ROW()-1, 28))","v":0},{"$f":"OFFSET(X0withPad!$B$2, INT((ROW()-1)/28), MOD(ROW()-1, 28))","v":0},{"$f":"OFFSET(X0withPad!$C$2, INT((ROW()-1)/28), MOD(ROW()-1, 28))","v":0},{"$f":"OFFSET(X0withPad!$A$3, INT((ROW()-1)/28), MOD(ROW()-1, 28))","v":0},{"$f":"OFFSET(X0withPad!$B$3, INT((ROW()-1)/28), MOD(ROW()-1, 28))","v":0},{"$f":"OFFSET(X0withPad!$C$3, INT((ROW()-1)/28), MOD(ROW()-1, 28))","v":0}]
[{"$f":"OFFSET(X0withPad!$A$1, INT((ROW()-1)/28), MOD(ROW()-1, 28))","v":0},{"$f":"OFFSET(X0withPad!$B$1, INT((ROW()-1)/28), MOD(ROW()-1, 28))","v":0},{"$f":"OFFSET(X0withPad!$C$1, INT((ROW()-1)/28), MOD(ROW()-1, 28))","v":0},{"$f":"OFFSET(X0withPad!$A$2, INT((ROW()-1)/28), MOD(ROW()-1, 28))","v":0},{"$f":"OFFSET(X0withPad!$B$2, INT((ROW()-1)/28), MOD(ROW()-1, 28))","v":0},{"$f":"OFFSET(X0withPad!$C$2, INT((ROW()-1)/28), MOD(ROW()-1, 28))","v":0},{"$f":"OFFSET(X0withPad!$A$3, INT((ROW()-1)/28), MOD(ROW()-1, 28))","v":0},{"$f":"OFFSET(X0withPad!$B$3, INT((ROW()-1)/28), MOD(ROW()-1, 28))","v":0},{"$f":"OFFSET(X0withPad!$C$3, INT((ROW()-1)/28), MOD(ROW()-1, 28))","v":0}]
[{"$f":"OFFSET(X0withPad!$A$1, INT((ROW()-1)/28), MOD(ROW()-1, 28))","v":0},{"$f":"OFFSET(X0withPad!$B$1, INT((ROW()-1)/28), MOD(ROW()-1, 28))","v":0},{"$f":"OFFSET(X0withPad!$C$1, INT((ROW()-1)/28), MOD(ROW()-1, 28))","v":0},{"$f":"OFFSET(X0withPad!$A$2, INT((ROW()-1)/28), MOD(ROW()-1, 28))","v":0},{"$f":"OFFSET(X0withPad!$B$2, INT((ROW()-1)/28), MOD(ROW()-1, 28))","v":0},{"$f":"OFFSET(X0withPad!$C$2, INT((ROW()-1)/28), MOD(ROW()-1, 28))","v":0},{"$f":"OFFSET(X0withPad!$A$3, INT((ROW()-1)/28), MOD(ROW()-1, 28))","v":0},{"$f":"OFFSET(X0withPad!$B$3, INT((ROW()-1)/28), MOD(ROW()-1, 28))","v":0},{"$f":"OFFSET(X0withPad!$C$3, INT((ROW()-1)/28), MOD(ROW()-1, 28))","v":0}]
[{"$f":"OFFSET(X0withPad!$A$1, INT((ROW()-1)/28), MOD(ROW()-1, 28))","v":0},{"$f":"OFFSET(X0withPad!$B$1, INT((ROW()-1)/28), MOD(ROW()-1, 28))","v":0},{"$f":"OFFSET(X0withPad!$C$1, INT((ROW()-1)/28), MOD(ROW()-1, 28))","v":0},{"$f":"OFFSET(X0withPad!$A$2, INT((ROW()-1)/28), MOD(ROW()-1, 28))","v":0},{"$f":"OFFSET(X0withPad!$B$2, INT((ROW()-1)/28), MOD(ROW()-1, 28))","v":0},{"$f":"OFFSET(X0withPad!$C$2, INT((ROW()-1)/28), MOD(ROW()-1, 28))","v":0},{"$f":"OFFSET(X0withPad!$A$3, INT((ROW()-1)/28), MOD(ROW()-1, 28))","v":0},{"$f":"OFFSET(X0withPad!$B$3, INT((ROW()-1)/28), MOD(ROW()-1, 28))","v":0},{"$f":"OFFSET(X0withPad!$C$3, INT((ROW()-1)/28), MOD(ROW()-1, 28))","v":0}]
[{"$f":"OFFSET(X0withPad!$A$1, INT((ROW()-1)/28), MOD(ROW()-1, 28))","v":0},{"$f":"OFFSET(X0withPad!$B$1, INT((ROW()-1)/28), MOD(ROW()-1, 28))","v":0},{"$f":"OFFSET(X0withPad!$C$1, INT((ROW()-1)/28), MOD(ROW()-1, 28))","v":0},{"$f":"OFFSET(X0withPad!$A$2, INT((ROW()-1)/28), MOD(ROW()-1, 28))","v":0},{"$f":"OFFSET(X0withPad!$B$2, INT((ROW()-1)/28), MOD(ROW()-1, 28))","v":0},{"$f":"OFFSET(X0withPad!$C$2, INT((ROW()-1)/28), MOD(ROW()-1, 28))","v":0},{"$f":"OFFSET(X0withPad!$A$3, INT((ROW()-1)/28), MOD(ROW()-1, 28))","v":0},{"$f":"OFFSET(X0withPad!$B$3, INT((ROW()-1)/28), MOD(ROW()-1, 28))","v":0},{"$f":"OFFSET(X0withPad!$C$3, INT((ROW()-1)/28), MOD(ROW()-1, 28))","v":0}]
[{"$f":"OFFSET(X0withPad!$A$1, INT((ROW()-1)/28), MOD(ROW()-1, 28))","v":0},{"$f":"OFFSET(X0withPad!$B$1, INT((ROW()-1)/28), MOD(ROW()-1, 28))","v":0},{"$f":"OFFSET(X0withPad!$C$1, INT((ROW()-1)/28), MOD(ROW()-1, 28))","v":0},{"$f":"OFFSET(X0withPad!$A$2, INT((ROW()-1)/28), MOD(ROW()-1, 28))","v":0},{"$f":"OFFSET(X0withPad!$B$2, INT((ROW()-1)/28), MOD(ROW()-1, 28))","v":0},{"$f":"OFFSET(X0withPad!$C$2, INT((ROW()-1)/28), MOD(ROW()-1, 28))","v":0},{"$f":"OFFSET(X0withPad!$A$3, INT((ROW()-1)/28), MOD(ROW()-1, 28))","v":0},{"$f":"OFFSET(X0withPad!$B$3, INT((ROW()-1)/28), MOD(ROW()-1, 28))","v":0},{"$f":"OFFSET(X0withPad!$C$3, INT((ROW()-1)/28), MOD(ROW()-1, 28))","v":0}]
[{"$f":"OFFSET(X0withPad!$A$1, INT((ROW()-1)/28), MOD(ROW()-1, 28))","v":0},{"$f":"OFFSET(X0withPad!$B$1, INT((ROW()-1)/28), MOD(ROW()-1, 28))","v":0},{"$f":"OFFSET(X0withPad!$C$1, INT((ROW()-1)/28), MOD(ROW()-1, 28))","v":0},{"$f":"OFFSET(X0withPad!$A$2, INT((ROW()-1)/28), MOD(ROW()-1, 28))","v":0},{"$f":"OFFSET(X0withPad!$B$2, INT((ROW()-1)/28), MOD(ROW()-1, 28))","v":0},{"$f":"OFFSET(X0withPad!$C$2, INT((ROW()-1)/28), MOD(ROW()-1, 28))","v":0},{"$f":"OFFSET(X0withPad!$A$3, INT((ROW()-1)/28), MOD(ROW()-1, 28))","v":0},{"$f":"OFFSET(X0withPad!$B$3, INT((ROW()-1)/28), MOD(ROW()-1, 28))","v":0},{"$f":"OFFSET(X0withPad!$C$3, INT((ROW()-1)/28), MOD(ROW()-1, 28))","v":0}]
[{"$f":"OFFSET(X0withPad!$A$1, INT((ROW()-1)/28), MOD(ROW()-1, 28))","v":0},{"$f":"OFFSET(X0withPad!$B$1, INT((ROW()-1)/28), MOD(ROW()-1, 28))","v":0},{"$f":"OFFSET(X0withPad!$C$1, INT((ROW()-1)/28), MOD(ROW()-1, 28))","v":0},{"$f":"OFFSET(X0withPad!$A$2, INT((ROW()-1)/28), MOD(ROW()-1, 28))","v":0},{"$f":"OFFSET(X0withPad!$B$2, INT((ROW()-1)/28), MOD(ROW()-1, 28))","v":0},{"$f":"OFFSET(X0withPad!$C$2, INT((ROW()-1)/28), MOD(ROW()-1, 28))","v":0},{"$f":"OFFSET(X0withPad!$A$3, INT((ROW()-1)/28), MOD(ROW()-1, 28))","v":0},{"$f":"OFFSET(X0withPad!$B$3, INT((ROW()-1)/28), MOD(ROW()-1, 28))","v":0},{"$f":"OFFSET(X0withPad!$C$3, INT((ROW()-1)/28), MOD(ROW()-1, 28))","v":0}]
[{"$f":"OFFSET(X0withPad!$A$1, INT((ROW()-1)/28), MOD(ROW()-1, 28))","v":0},{"$f":"OFFSET(X0withPad!$B$1, INT((ROW()-1)/28), MOD(ROW()-1, 28))","v":0},{"$f":"OFFSET(X0withPad!$C$1, INT((ROW()-1)/28), MOD(ROW()-1, 28))","v":0},{"$f":"OFFSET(X0withPad!$A$2, INT((ROW()-1)/28), MOD(ROW()-1, 28))","v":0},{"$f":"OFFSET(X0withPad!$B$2, INT((ROW()-1)/28), MOD(ROW()-1, 28))","v":0},{"$f":"OFFSET(X0withPad!$C$2, INT((ROW()-1)/28), MOD(ROW()-1, 28))","v":0},{"$f":"OFFSET(X0withPad!$A$3, INT((ROW()-1)/28), MOD(ROW()-1, 28))","v":0},{"$f":"OFFSET(X0withPad!$B$3, INT((ROW()-1)/28), MOD(ROW()-1, 28))","v":0},{"$f":"OFFSET(X0withPad!$C$3, INT((ROW()-1)/28), MOD(ROW()-1, 28))","v":0}]
[{"$f":"OFFSET(X0withPad!$A$1, INT((ROW()-1)/28), MOD(ROW()-1, 28))","v":0},{"$f":"OFFSET(X0withPad!$B$1, INT((ROW()-1)/28), MOD(ROW()-1, 28))","v":0},{"$f":"OFFSET(X0withPad!$C$1, INT((ROW()-1)/28), MOD(ROW()-1, 28))","v":0},{"$f":"OFFSET(X0withPad!$A$2, INT((ROW()-1)/28), MOD(ROW()-1, 28))","v":0},{"$f":"OFFSET(X0withPad!$B$2, INT((ROW()-1)/28), MOD(ROW()-1, 28))","v":0},{"$f":"OFFSET(X0withPad!$C$2, INT((ROW()-1)/28), MOD(ROW()-1, 28))","v":0},{"$f":"OFFSET(X0withPad!$A$3, INT((ROW()-1)/28), MOD(ROW()-1, 28))","v":0},{"$f":"OFFSET(X0withPad!$B$3, INT((ROW()-1)/28), MOD(ROW()-1, 28))","v":0},{"$f":"OFFSET(X0withPad!$C$3, INT((ROW()-1)/28), MOD(ROW()-1, 28))","v":0}]
[{"$f":"OFFSET(X0withPad!$A$1, INT((ROW()-1)/28), MOD(ROW()-1, 28))","v":0},{"$f":"OFFSET(X0withPad!$B$1, INT((ROW()-1)/28), MOD(ROW()-1, 28))","v":0},{"$f":"OFFSET(X0withPad!$C$1, INT((ROW()-1)/28), MOD(ROW()-1, 28))","v":0},{"$f":"OFFSET(X0withPad!$A$2, INT((ROW()-1)/28), MOD(ROW()-1, 28))","v":0},{"$f":"OFFSET(X0withPad!$B$2, INT((ROW()-1)/28), MOD(ROW()-1, 28))","v":0},{"$f":"OFFSET(X0withPad!$C$2, INT((ROW()-1)/28), MOD(ROW()-1, 28))","v":0},{"$f":"OFFSET(X0withPad!$A$3, INT((ROW()-1)/28), MOD(ROW()-1, 28))","v":0},{"$f":"OFFSET(X0withPad!$B$3, INT((ROW()-1)/28), MOD(ROW()-1, 28))","v":0},{"$f":"OFFSET(X0withPad!$C$3, INT((ROW()-1)/28), MOD(ROW()-1, 28))","v":0}]
[{"$f":"OFFSET(X0withPad!$A$1, INT((ROW()-1)/28), MOD(ROW()-1, 28))","v":0},{"$f":"OFFSET(X0withPad!$B$1, INT((ROW()-1)/28), MOD(ROW()-1, 28))","v":0},{"$f":"OFFSET(X0withPad!$C$1, INT((ROW()-1)/28), MOD(ROW()-1, 28))","v":0},{"$f":"OFFSET(X0withPad!$A$2, INT((ROW()-1)/28), MOD(ROW()-1, 28))","v":0},{"$f":"OFFSET(X0withPad!$B$2, INT((ROW()-1)/28), MOD(ROW()-1, 28))","v":0},{"$f":"OFFSET(X0withPad!$C$2, INT((ROW()-1)/28), MOD(ROW()-1, 28))","v":0},{"$f":"OFFSET(X0withPad!$A$3, INT((ROW()-1)/28), MOD(ROW()-1, 28))","v":0},{"$f":"OFFSET(X0withPad!$B$3, INT((ROW()-1)/28), MOD(ROW()-1, 28))","v":0},{"$f":"OFFSET(X0withPad!$C$3, INT((ROW()-1)/28), MOD(ROW()-1, 28))","v":0}]
[{"$f":"OFFSET(X0withPad!$A$1, INT((ROW()-1)/28), MOD(ROW()-1, 28))","v":0},{"$f":"OFFSET(X0withPad!$B$1, INT((ROW()-1)/28), MOD(ROW()-1, 28))","v":0},{"$f":"OFFSET(X0withPad!$C$1, INT((ROW()-1)/28), MOD(ROW()-1, 28))","v":0},{"$f":"OFFSET(X0withPad!$A$2, INT((ROW()-1)/28), MOD(ROW()-1, 28))","v":0},{"$f":"OFFSET(X0withPad!$B$2, INT((ROW()-1)/28), MOD(ROW()-1, 28))","v":0},{"$f":"OFFSET(X0withPad!$C$2, INT((ROW()-1)/28), MOD(ROW()-1, 28))","v":0},{"$f":"OFFSET(X0withPad!$A$3, INT((ROW()-1)/28), MOD(ROW()-1, 28))","v":0},{"$f":"OFFSET(X0withPad!$B$3, INT((ROW()-1)/28), MOD(ROW()-1, 28))","v":0},{"$f":"OFFSET(X0withPad!$C$3, INT((ROW()-1)/28), MOD(ROW()-1, 28))","v":0}]
[{"$f":"OFFSET(X0withPad!$A$1, INT((ROW()-1)/28), MOD(ROW()-1, 28))","v":0},{"$f":"OFFSET(X0withPad!$B$1, INT((ROW()-1)/28), MOD(ROW()-1, 28))","v":0},{"$f":"OFFSET(X0withPad!$C$1, INT((ROW()-1)/28), MOD(ROW()-1, 28))","v":0},{"$f":"OFFSET(X0withPad!$A$2, INT((ROW()-1)/28), MOD(ROW()-1, 28))","v":0},{"$f":"OFFSET(X0withPad!$B$2, INT((ROW()-1)/28), MOD(ROW()-1, 28))","v":0},{"$f":"OFFSET(X0withPad!$C$2, INT((ROW()-1)/28), MOD(ROW()-1, 28))","v":0},{"$f":"OFFSET(X0withPad!$A$3, INT((ROW()-1)/28), MOD(ROW()-1, 28))","v":0},{"$f":"OFFSET(X0withPad!$B$3, INT((ROW()-1)/28), MOD(ROW()-1, 28))","v":0},{"$f":"OFFSET(X0withPad!$C$3, INT((ROW()-1)/28), MOD(ROW()-1, 28))","v":0}]
[{"$f":"OFFSET(X0withPad!$A$1, INT((ROW()-1)/28), MOD(ROW()-1, 28))","v":0},{"$f":"OFFSET(X0withPad!$B$1, INT((ROW()-1)/28), MOD(ROW()-1, 28))","v":0},{"$f":"OFFSET(X0withPad!$C$1, INT((ROW()-1)/28), MOD(ROW()-1, 28))","v":0},{"$f":"OFFSET(X0withPad!$A$2, INT((ROW()-1)/28), MOD(ROW()-1, 28))","v":0},{"$f":"OFFSET(X0withPad!$B$2, INT((ROW()-1)/28), MOD(ROW()-1, 28))","v":0},{"$f":"OFFSET(X0withPad!$C$2, INT((ROW()-1)/28), MOD(ROW()-1, 28))","v":0},{"$f":"OFFSET(X0withPad!$A$3, INT((ROW()-1)/28), MOD(ROW()-1, 28))","v":0},{"$f":"OFFSET(X0withPad!$B$3, INT((ROW()-1)/28), MOD(ROW()-1, 28))","v":0},{"$f":"OFFSET(X0withPad!$C$3, INT((ROW()-1)/28), MOD(ROW()-1, 28))","v":0}]
[{"$f":"OFFSET(X0withPad!$A$1, INT((ROW()-1)/28), MOD(ROW()-1, 28))","v":0},{"$f":"OFFSET(X0withPad!$B$1, INT((ROW()-1)/28), MOD(ROW()-1, 28))","v":0},{"$f":"OFFSET(X0withPad!$C$1, INT((ROW()-1)/28), MOD(ROW()-1, 28))","v":0},{"$f":"OFFSET(X0withPad!$A$2, INT((ROW()-1)/28), MOD(ROW()-1, 28))","v":0},{"$f":"OFFSET(X0withPad!$B$2, INT((ROW()-1)/28), MOD(ROW()-1, 28))","v":0},{"$f":"OFFSET(X0withPad!$C$2, INT((ROW()-1)/28), MOD(ROW()-1, 28))","v":0},{"$f":"OFFSET(X0withPad!$A$3, INT((ROW()-1)/28), MOD(ROW()-1, 28))","v":0},{"$f":"OFFSET(X0withPad!$B$3, INT((ROW()-1)/28), MOD(ROW()-1, 28))","v":0},{"$f":"OFFSET(X0withPad!$C$3, INT((ROW()-1)/28), MOD(ROW()-1, 28))","v":0}]
[{"$f":"OFFSET(X0withPad!$A$1, INT((ROW()-1)/28), MOD(ROW()-1, 28))","v":0},{"$f":"OFFSET(X0withPad!$B$1, INT((ROW()-1)/28), MOD(ROW()-1, 28))","v":0},{"$f":"OFFSET(X0withPad!$C$1, INT((ROW()-1)/28), MOD(ROW()-1, 28))","v":0},{"$f":"OFFSET(X0withPad!$A$2, INT((ROW()-1)/28), MOD(ROW()-1, 28))","v":0},{"$f":"OFFSET(X0withPad!$B$2, INT((ROW()-1)/28), MOD(ROW()-1, 28))","v":0},{"$f":"OFFSET(X0withPad!$C$2, INT((ROW()-1)/28), MOD(ROW()-1, 28))","v":0},{"$f":"OFFSET(X0withPad!$A$3, INT((ROW()-1)/28), MOD(ROW()-1, 28))","v":0},{"$f":"OFFSET(X0withPad!$B$3, INT((ROW()-1)/28), MOD(ROW()-1, 28))","v":0},{"$f":"OFFSET(X0withPad!$C$3, INT((ROW()-1)/28), MOD(ROW()-1, 28))","v":0}]
[{"$f":"OFFSET(X0withPad!$A$1, INT((ROW()-1)/28), MOD(ROW()-1, 28))","v":0},{"$f":"OFFSET(X0withPad!$B$1, INT((ROW()-1)/28), MOD(ROW()-1, 28))","v":0},{"$f":"OFFSET(X0withPad!$C$1, INT((ROW()-1)/28), MOD(ROW()-1, 28))","v":0},{"$f":"OFFSET(X0withPad!$A$2, INT((ROW()-1)/28), MOD(ROW()-1, 28))","v":0},{"$f":"OFFSET(X0withPad!$B$2, INT((ROW()-1)/28), MOD(ROW()-1, 28))","v":0},{"$f":"OFFSET(X0withPad!$C$2, INT((ROW()-1)/28), MOD(ROW()-1, 28))","v":0},{"$f":"OFFSET(X0withPad!$A$3, INT((ROW()-1)/28), MOD(ROW()-1, 28))","v":0},{"$f":"OFFSET(X0withPad!$B$3, INT((ROW()-1)/28), MOD(ROW()-1, 28))","v":0},{"$f":"OFFSET(X0withPad!$C$3, INT((ROW()-1)/28), MOD(ROW()-1, 28))","v":75}]
[{"$f":"OFFSET(X0withPad!$A$1, INT((ROW()-1)/28), MOD(ROW()-1, 28))","v":0},{"$f":"OFFSET(X0withPad!$B$1, INT((ROW()-1)/28), MOD(ROW()-1, 28))","v":0},{"$f":"OFFSET(X0withPad!$C$1, INT((ROW()-1)/28), MOD(ROW()-1, 28))","v":9},{"$f":"OFFSET(X0withPad!$A$2, INT((ROW()-1)/28), MOD(ROW()-1, 28))","v":0},{"$f":"OFFSET(X0withPad!$B$2, INT((ROW()-1)/28), MOD(ROW()-1, 28))","v":0},{"$f":"OFFSET(X0withPad!$C$2, INT((ROW()-1)/28), MOD(ROW()-1, 28))","v":126},{"$f":"OFFSET(X0withPad!$A$3, INT((ROW()-1)/28), MOD(ROW()-1, 28))","v":0},{"$f":"OFFSET(X0withPad!$B$3, INT((ROW()-1)/28), MOD(ROW()-1, 28))","v":75},{"$f":"OFFSET(X0withPad!$C$3, INT((ROW()-1)/28), MOD(ROW()-1, 28))","v":251}]
[{"$f":"OFFSET(X0withPad!$A$1, INT((ROW()-1)/28), MOD(ROW()-1, 28))","v":0},{"$f":"OFFSET(X0withPad!$B$1, INT((ROW()-1)/28), MOD(ROW()-1, 28))","v":9},{"$f":"OFFSET(X0withPad!$C$1, INT((ROW()-1)/28), MOD(ROW()-1, 28))","v":205},{"$f":"OFFSET(X0withPad!$A$2, INT((ROW()-1)/28), MOD(ROW()-1, 28))","v":0},{"$f":"OFFSET(X0withPad!$B$2, INT((ROW()-1)/28), MOD(ROW()-1, 28))","v":126},{"$f":"OFFSET(X0withPad!$C$2, INT((ROW()-1)/28), MOD(ROW()-1, 28))","v":254},{"$f":"OFFSET(X0withPad!$A$3, INT((ROW()-1)/28), MOD(ROW()-1, 28))","v":75},{"$f":"OFFSET(X0withPad!$B$3, INT((ROW()-1)/28), MOD(ROW()-1, 28))","v":251},{"$f":"OFFSET(X0withPad!$C$3, INT((ROW()-1)/28), MOD(ROW()-1, 28))","v":240}]
[{"$f":"OFFSET(X0withPad!$A$1, INT((ROW()-1)/28), MOD(ROW()-1, 28))","v":9},{"$f":"OFFSET(X0withPad!$B$1, INT((ROW()-1)/28), MOD(ROW()-1, 28))","v":205},{"$f":"OFFSET(X0withPad!$C$1, INT((ROW()-1)/28), MOD(ROW()-1, 28))","v":248},{"$f":"OFFSET(X0withPad!$A$2, INT((ROW()-1)/28), MOD(ROW()-1, 28))","v":126},{"$f":"OFFSET(X0withPad!$B$2, INT((ROW()-1)/28), MOD(ROW()-1, 28))","v":254},{"$f":"OFFSET(X0withPad!$C$2, INT((ROW()-1)/28), MOD(ROW()-1, 28))","v":182},{"$f":"OFFSET(X0withPad!$A$3, INT((ROW()-1)/28), MOD(ROW()-1, 28))","v":251},{"$f":"OFFSET(X0withPad!$B$3, INT((ROW()-1)/28), MOD(ROW()-1, 28))","v":240},{"$f":"OFFSET(X0withPad!$C$3, INT((ROW()-1)/28), MOD(ROW()-1, 28))","v":57}]
[{"$f":"OFFSET(X0withPad!$A$1, INT((ROW()-1)/28), MOD(ROW()-1, 28))","v":205},{"$f":"OFFSET(X0withPad!$B$1, INT((ROW()-1)/28), MOD(ROW()-1, 28))","v":248},{"$f":"OFFSET(X0withPad!$C$1, INT((ROW()-1)/28), MOD(ROW()-1, 28))","v":58},{"$f":"OFFSET(X0withPad!$A$2, INT((ROW()-1)/28), MOD(ROW()-1, 28))","v":254},{"$f":"OFFSET(X0withPad!$B$2, INT((ROW()-1)/28), MOD(ROW()-1, 28))","v":182},{"$f":"OFFSET(X0withPad!$C$2, INT((ROW()-1)/28), MOD(ROW()-1, 28))","v":0},{"$f":"OFFSET(X0withPad!$A$3, INT((ROW()-1)/28), MOD(ROW()-1, 28))","v":240},{"$f":"OFFSET(X0withPad!$B$3, INT((ROW()-1)/28), MOD(ROW()-1, 28))","v":57},{"$f":"OFFSET(X0withPad!$C$3, INT((ROW()-1)/28), MOD(ROW()-1, 28))","v":0}]
[{"$f":"OFFSET(X0withPad!$A$1, INT((ROW()-1)/28), MOD(ROW()-1, 28))","v":248},{"$f":"OFFSET(X0withPad!$B$1, INT((ROW()-1)/28), MOD(ROW()-1, 28))","v":58},{"$f":"OFFSET(X0withPad!$C$1, INT((ROW()-1)/28), MOD(ROW()-1, 28))","v":0},{"$f":"OFFSET(X0withPad!$A$2, INT((ROW()-1)/28), MOD(ROW()-1, 28))","v":182},{"$f":"OFFSET(X0withPad!$B$2, INT((ROW()-1)/28), MOD(ROW()-1, 28))","v":0},{"$f":"OFFSET(X0withPad!$C$2, INT((ROW()-1)/28), MOD(ROW()-1, 28))","v":0},{"$f":"OFFSET(X0withPad!$A$3, INT((ROW()-1)/28), MOD(ROW()-1, 28))","v":57},{"$f":"OFFSET(X0withPad!$B$3, INT((ROW()-1)/28), MOD(ROW()-1, 28))","v":0},{"$f":"OFFSET(X0withPad!$C$3, INT((ROW()-1)/28), MOD(ROW()-1, 28))","v":0}]
[{"$f":"OFFSET(X0withPad!$A$1, INT((ROW()-1)/28), MOD(ROW()-1, 28))","v":58},{"$f":"OFFSET(X0withPad!$B$1, INT((ROW()-1)/28), MOD(ROW()-1, 28))","v":0},{"$f":"OFFSET(X0withPad!$C$1, INT((ROW()-1)/28), MOD(ROW()-1, 28))","v":0},{"$f":"OFFSET(X0withPad!$A$2, INT((ROW()-1)/28), MOD(ROW()-1, 28))","v":0},{"$f":"OFFSET(X0withPad!$B$2, INT((ROW()-1)/28), MOD(ROW()-1, 28))","v":0},{"$f":"OFFSET(X0withPad!$C$2, INT((ROW()-1)/28), MOD(ROW()-1, 28))","v":0},{"$f":"OFFSET(X0withPad!$A$3, INT((ROW()-1)/28), MOD(ROW()-1, 28))","v":0},{"$f":"OFFSET(X0withPad!$B$3, INT((ROW()-1)/28), MOD(ROW()-1, 28))","v":0},{"$f":"OFFSET(X0withPad!$C$3, INT((ROW()-1)/28), MOD(ROW()-1, 28))","v":0}]
[{"$f":"OFFSET(X0withPad!$A$1, INT((ROW()-1)/28), MOD(ROW()-1, 28))","v":0},{"$f":"OFFSET(X0withPad!$B$1, INT((ROW()-1)/28), MOD(ROW()-1, 28))","v":0},{"$f":"OFFSET(X0withPad!$C$1, INT((ROW()-1)/28), MOD(ROW()-1, 28))","v":0},{"$f":"OFFSET(X0withPad!$A$2, INT((ROW()-1)/28), MOD(ROW()-1, 28))","v":0},{"$f":"OFFSET(X0withPad!$B$2, INT((ROW()-1)/28), MOD(ROW()-1, 28))","v":0},{"$f":"OFFSET(X0withPad!$C$2, INT((ROW()-1)/28), MOD(ROW()-1, 28))","v":0},{"$f":"OFFSET(X0withPad!$A$3, INT((ROW()-1)/28), MOD(ROW()-1, 28))","v":0},{"$f":"OFFSET(X0withPad!$B$3, INT((ROW()-1)/28), MOD(ROW()-1, 28))","v":0},{"$f":"OFFSET(X0withPad!$C$3, INT((ROW()-1)/28), MOD(ROW()-1, 28))","v":0}]
[{"$f":"OFFSET(X0withPad!$A$1, INT((ROW()-1)/28), MOD(ROW()-1, 28))","v":0},{"$f":"OFFSET(X0withPad!$B$1, INT((ROW()-1)/28), MOD(ROW()-1, 28))","v":0},{"$f":"OFFSET(X0withPad!$C$1, INT((ROW()-1)/28), MOD(ROW()-1, 28))","v":0},{"$f":"OFFSET(X0withPad!$A$2, INT((ROW()-1)/28), MOD(ROW()-1, 28))","v":0},{"$f":"OFFSET(X0withPad!$B$2, INT((ROW()-1)/28), MOD(ROW()-1, 28))","v":0},{"$f":"OFFSET(X0withPad!$C$2, INT((ROW()-1)/28), MOD(ROW()-1, 28))","v":0},{"$f":"OFFSET(X0withPad!$A$3, INT((ROW()-1)/28), MOD(ROW()-1, 28))","v":0},{"$f":"OFFSET(X0withPad!$B$3, INT((ROW()-1)/28), MOD(ROW()-1, 28))","v":0},{"$f":"OFFSET(X0withPad!$C$3, INT((ROW()-1)/28), MOD(ROW()-1, 28))","v":0}]
[{"$f":"OFFSET(X0withPad!$A$1, INT((ROW()-1)/28), MOD(ROW()-1, 28))","v":0},{"$f":"OFFSET(X0withPad!$B$1, INT((ROW()-1)/28), MOD(ROW()-1, 28))","v":0},{"$f":"OFFSET(X0withPad!$C$1, INT((ROW()-1)/28), MOD(ROW()-1, 28))","v":0},{"$f":"OFFSET(X0withPad!$A$2, INT((ROW()-1)/28), MOD(ROW()-1, 28))","v":0},{"$f":"OFFSET(X0withPad!$B$2, INT((ROW()-1)/28), MOD(ROW()-1, 28))","v":0},{"$f":"OFFSET(X0withPad!$C$2, INT((ROW()-1)/28), MOD(ROW()-1, 28))","v":0},{"$f":"OFFSET(X0withPad!$A$3, INT((ROW()-1)/28), MOD(ROW()-1, 28))","v":0},{"$f":"OFFSET(X0withPad!$B$3, INT((ROW()-1)/28), MOD(ROW()-1, 28))","v":0},{"$f":"OFFSET(X0withPad!$C$3, INT((ROW()-1)/28), MOD(ROW()-1, 28))","v":0}]
[{"$f":"OFFSET(X0withPad!$A$1, INT((ROW()-1)/28), MOD(ROW()-1, 28))","v":0},{"$f":"OFFSET(X0withPad!$B$1, INT((ROW()-1)/28), MOD(ROW()-1, 28))","v":0},{"$f":"OFFSET(X0withPad!$C$1, INT((ROW()-1)/28), MOD(ROW()-1, 28))","v":0},{"$f":"OFFSET(X0withPad!$A$2, INT((ROW()-1)/28), MOD(ROW()-1, 28))","v":0},{"$f":"OFFSET(X0withPad!$B$2, INT((ROW()-1)/28), MOD(ROW()-1, 28))","v":0},{"$f":"OFFSET(X0withPad!$C$2, INT((ROW()-1)/28), MOD(ROW()-1, 28))","v":0},{"$f":"OFFSET(X0withPad!$A$3, INT((ROW()-1)/28), MOD(ROW()-1, 28))","v":0},{"$f":"OFFSET(X0withPad!$B$3, INT((ROW()-1)/28), MOD(ROW()-1, 28))","v":0},{"$f":"OFFSET(X0withPad!$C$3, INT((ROW()-1)/28), MOD(ROW()-1, 28))","v":0}]
[{"$f":"OFFSET(X0withPad!$A$1, INT((ROW()-1)/28), MOD(ROW()-1, 28))","v":0},{"$f":"OFFSET(X0withPad!$B$1, INT((ROW()-1)/28), MOD(ROW()-1, 28))","v":0},{"$f":"OFFSET(X0withPad!$C$1, INT((ROW()-1)/28), MOD(ROW()-1, 28))","v":0},{"$f":"OFFSET(X0withPad!$A$2, INT((ROW()-1)/28), MOD(ROW()-1, 28))","v":0},{"$f":"OFFSET(X0withPad!$B$2, INT((ROW()-1)/28), MOD(ROW()-1, 28))","v":0},{"$f":"OFFSET(X0withPad!$C$2, INT((ROW()-1)/28), MOD(ROW()-1, 28))","v":0},{"$f":"OFFSET(X0withPad!$A$3, INT((ROW()-1)/28), MOD(ROW()-1, 28))","v":0},{"$f":"OFFSET(X0withPad!$B$3, INT((ROW()-1)/28), MOD(ROW()-1, 28))","v":0},{"$f":"OFFSET(X0withPad!$C$3, INT((ROW()-1)/28), MOD(ROW()-1, 28))","v":0}]
[{"$f":"OFFSET(X0withPad!$A$1, INT((ROW()-1)/28), MOD(ROW()-1, 28))","v":0},{"$f":"OFFSET(X0withPad!$B$1, INT((ROW()-1)/28), MOD(ROW()-1, 28))","v":0},{"$f":"OFFSET(X0withPad!$C$1, INT((ROW()-1)/28), MOD(ROW()-1, 28))","v":0},{"$f":"OFFSET(X0withPad!$A$2, INT((ROW()-1)/28), MOD(ROW()-1, 28))","v":0},{"$f":"OFFSET(X0withPad!$B$2, INT((ROW()-1)/28), MOD(ROW()-1, 28))","v":0},{"$f":"OFFSET(X0withPad!$C$2, INT((ROW()-1)/28), MOD(ROW()-1, 28))","v":0},{"$f":"OFFSET(X0withPad!$A$3, INT((ROW()-1)/28), MOD(ROW()-1, 28))","v":0},{"$f":"OFFSET(X0withPad!$B$3, INT((ROW()-1)/28), MOD(ROW()-1, 28))","v":0},{"$f":"OFFSET(X0withPad!$C$3, INT((ROW()-1)/28), MOD(ROW()-1, 28))","v":0}]
[{"$f":"OFFSET(X0withPad!$A$1, INT((ROW()-1)/28), MOD(ROW()-1, 28))","v":0},{"$f":"OFFSET(X0withPad!$B$1, INT((ROW()-1)/28), MOD(ROW()-1, 28))","v":0},{"$f":"OFFSET(X0withPad!$C$1, INT((ROW()-1)/28), MOD(ROW()-1, 28))","v":0},{"$f":"OFFSET(X0withPad!$A$2, INT((ROW()-1)/28), MOD(ROW()-1, 28))","v":0},{"$f":"OFFSET(X0withPad!$B$2, INT((ROW()-1)/28), MOD(ROW()-1, 28))","v":0},{"$f":"OFFSET(X0withPad!$C$2, INT((ROW()-1)/28), MOD(ROW()-1, 28))","v":0},{"$f":"OFFSET(X0withPad!$A$3, INT((ROW()-1)/28), MOD(ROW()-1, 28))","v":0},{"$f":"OFFSET(X0withPad!$B$3, INT((ROW()-1)/28), MOD(ROW()-1, 28))","v":0},{"$f":"OFFSET(X0withPad!$C$3, INT((ROW()-1)/28), MOD(ROW()-1, 28))","v":0}]
[{"$f":"OFFSET(X0withPad!$A$1, INT((ROW()-1)/28), MOD(ROW()-1, 28))","v":0},{"$f":"OFFSET(X0withPad!$B$1, INT((ROW()-1)/28), MOD(ROW()-1, 28))","v":0},{"$f":"OFFSET(X0withPad!$C$1, INT((ROW()-1)/28), MOD(ROW()-1, 28))","v":0},{"$f":"OFFSET(X0withPad!$A$2, INT((ROW()-1)/28), MOD(ROW()-1, 28))","v":0},{"$f":"OFFSET(X0withPad!$B$2, INT((ROW()-1)/28), MOD(ROW()-1, 28))","v":0},{"$f":"OFFSET(X0withPad!$C$2, INT((ROW()-1)/28), MOD(ROW()-1, 28))","v":0},{"$f":"OFFSET(X0withPad!$A$3, INT((ROW()-1)/28), MOD(ROW()-1, 28))","v":0},{"$f":"OFFSET(X0withPad!$B$3, INT((ROW()-1)/28), MOD(ROW()-1, 28))","v":0},{"$f":"OFFSET(X0withPad!$C$3, INT((ROW()-1)/28), MOD(ROW()-1, 28))","v":0}]
[{"$f":"OFFSET(X0withPad!$A$1, INT((ROW()-1)/28), MOD(ROW()-1, 28))","v":0},{"$f":"OFFSET(X0withPad!$B$1, INT((ROW()-1)/28), MOD(ROW()-1, 28))","v":0},{"$f":"OFFSET(X0withPad!$C$1, INT((ROW()-1)/28), MOD(ROW()-1, 28))","v":0},{"$f":"OFFSET(X0withPad!$A$2, INT((ROW()-1)/28), MOD(ROW()-1, 28))","v":0},{"$f":"OFFSET(X0withPad!$B$2, INT((ROW()-1)/28), MOD(ROW()-1, 28))","v":0},{"$f":"OFFSET(X0withPad!$C$2, INT((ROW()-1)/28), MOD(ROW()-1, 28))","v":0},{"$f":"OFFSET(X0withPad!$A$3, INT((ROW()-1)/28), MOD(ROW()-1, 28))","v":0},{"$f":"OFFSET(X0withPad!$B$3, INT((ROW()-1)/28), MOD(ROW()-1, 28))","v":0},{"$f":"OFFSET(X0withPad!$C$3, INT((ROW()-1)/28), MOD(ROW()-1, 28))","v":0}]
[{"$f":"OFFSET(X0withPad!$A$1, INT((ROW()-1)/28), MOD(ROW()-1, 28))","v":0},{"$f":"OFFSET(X0withPad!$B$1, INT((ROW()-1)/28), MOD(ROW()-1, 28))","v":0},{"$f":"OFFSET(X0withPad!$C$1, INT((ROW()-1)/28), MOD(ROW()-1, 28))","v":0},{"$f":"OFFSET(X0withPad!$A$2, INT((ROW()-1)/28), MOD(ROW()-1, 28))","v":0},{"$f":"OFFSET(X0withPad!$B$2, INT((ROW()-1)/28), MOD(ROW()-1, 28))","v":0},{"$f":"OFFSET(X0withPad!$C$2, INT((ROW()-1)/28), MOD(ROW()-1, 28))","v":0},{"$f":"OFFSET(X0withPad!$A$3, INT((ROW()-1)/28), MOD(ROW()-1, 28))","v":0},{"$f":"OFFSET(X0withPad!$B$3, INT((ROW()-1)/28), MOD(ROW()-1, 28))","v":0},{"$f":"OFFSET(X0withPad!$C$3, INT((ROW()-1)/28), MOD(ROW()-1, 28))","v":0}]
[{"$f":"OFFSET(X0withPad!$A$1, INT((ROW()-1)/28), MOD(ROW()-1, 28))","v":0},{"$f":"OFFSET(X0withPad!$B$1, INT((ROW()-1)/28), MOD(ROW()-1, 28))","v":0},{"$f":"OFFSET(X0withPad!$C$1, INT((ROW()-1)/28), MOD(ROW()-1, 28))","v":0},{"$f":"OFFSET(X0withPad!$A$2, INT((ROW()-1)/28), MOD(ROW()-1, 28))","v":0},{"$f":"OFFSET(X0withPad!$B$2, INT((ROW()-1)/28), MOD(ROW()-1, 28))","v":0},{"$f":"OFFSET(X0withPad!$C$2, INT((ROW()-1)/28), MOD(ROW()-1, 28))","v":0},{"$f":"OFFSET(X0withPad!$A$3, INT((ROW()-1)/28), MOD(ROW()-1, 28))","v":0},{"$f":"OFFSET(X0withPad!$B$3, INT((ROW()-1)/28), MOD(ROW()-1, 28))","v":0},{"$f":"OFFSET(X0withPad!$C$3, INT((ROW()-1)/28), MOD(ROW()-1, 28))","v":0}]
[{"$f":"OFFSET(X0withPad!$A$1, INT((ROW()-1)/28), MOD(ROW()-1, 28))","v":0},{"$f":"OFFSET(X0withPad!$B$1, INT((ROW()-1)/28), MOD(ROW()-1, 28))","v":0},{"$f":"OFFSET(X0withPad!$C$1, INT((ROW()-1)/28), MOD(ROW()-1, 28))","v":0},{"$f":"OFFSET(X0withPad!$A$2, INT((ROW()-1)/28), MOD(ROW()-1, 28))","v":0},{"$f":"OFFSET(X0withPad!$B$2, INT((ROW()-1)/28), MOD(ROW()-1, 28))","v":0},{"$f":"OFFSET(X0withPad!$C$2, INT((ROW()-1)/28), MOD(ROW()-1, 28))","v":0},{"$f":"OFFSET(X0withPad!$A$3, INT((ROW()-1)/28), MOD(ROW()-1, 28))","v":0},{"$f":"OFFSET(X0withPad!$B$3, INT((ROW()-1)/28), MOD(ROW()-1, 28))","v":0},{"$f":"OFFSET(X0withPad!$C$3, INT((ROW()-1)/28), MOD(ROW()-1, 28))","v":0}]
[{"$f":"OFFSET(X0withPad!$A$1, INT((ROW()-1)/28), MOD(ROW()-1, 28))","v":0},{"$f":"OFFSET(X0withPad!$B$1, INT((ROW()-1)/28), MOD(ROW()-1, 28))","v":0},{"$f":"OFFSET(X0withPad!$C$1, INT((ROW()-1)/28), MOD(ROW()-1, 28))","v":0},{"$f":"OFFSET(X0withPad!$A$2, INT((ROW()-1)/28), MOD(ROW()-1, 28))","v":0},{"$f":"OFFSET(X0withPad!$B$2, INT((ROW()-1)/28), MOD(ROW()-1, 28))","v":0},{"$f":"OFFSET(X0withPad!$C$2, INT((ROW()-1)/28), MOD(ROW()-1, 28))","v":0},{"$f":"OFFSET(X0withPad!$A$3, INT((ROW()-1)/28), MOD(ROW()-1, 28))","v":0},{"$f":"OFFSET(X0withPad!$B$3, INT((ROW()-1)/28), MOD(ROW()-1, 28))","v":0},{"$f":"OFFSET(X0withPad!$C$3, INT((ROW()-1)/28), MOD(ROW()-1, 28))","v":0}]
[{"$f":"OFFSET(X0withPad!$A$1, INT((ROW()-1)/28), MOD(ROW()-1, 28))","v":0},{"$f":"OFFSET(X0withPad!$B$1, INT((ROW()-1)/28), MOD(ROW()-1, 28))","v":0},{"$f":"OFFSET(X0withPad!$C$1, INT((ROW()-1)/28), MOD(ROW()-1, 28))","v":0},{"$f":"OFFSET(X0withPad!$A$2, INT((ROW()-1)/28), MOD(ROW()-1, 28))","v":0},{"$f":"OFFSET(X0withPad!$B$2, INT((ROW()-1)/28), MOD(ROW()-1, 28))","v":0},{"$f":"OFFSET(X0withPad!$C$2, INT((ROW()-1)/28), MOD(ROW()-1, 28))","v":0},{"$f":"OFFSET(X0withPad!$A$3, INT((ROW()-1)/28), MOD(ROW()-1, 28))","v":0},{"$f":"OFFSET(X0withPad!$B$3, INT((ROW()-1)/28), MOD(ROW()-1, 28))","v":0},{"$f":"OFFSET(X0withPad!$C$3, INT((ROW()-1)/28), MOD(ROW()-1, 28))","v":0}]
[{"$f":"OFFSET(X0withPad!$A$1, INT((ROW()-1)/28), MOD(ROW()-1, 28))","v":0},{"$f":"OFFSET(X0withPad!$B$1, INT((ROW()-1)/28), MOD(ROW()-1, 28))","v":0},{"$f":"OFFSET(X0withPad!$C$1, INT((ROW()-1)/28), MOD(ROW()-1, 28))","v":0},{"$f":"OFFSET(X0withPad!$A$2, INT((ROW()-1)/28), MOD(ROW()-1, 28))","v":0},{"$f":"OFFSET(X0withPad!$B$2, INT((ROW()-1)/28), MOD(ROW()-1, 28))","v":0},{"$f":"OFFSET(X0withPad!$C$2, INT((ROW()-1)/28), MOD(ROW()-1, 28))","v":0},{"$f":"OFFSET(X0withPad!$A$3, INT((ROW()-1)/28), MOD(ROW()-1, 28))","v":0},{"$f":"OFFSET(X0withPad!$B$3, INT((ROW()-1)/28), MOD(ROW()-1, 28))","v":0},{"$f":"OFFSET(X0withPad!$C$3, INT((ROW()-1)/28), MOD(ROW()-1, 28))","v":0}]
[{"$f":"OFFSET(X0withPad!$A$1, INT((ROW()-1)/28), MOD(ROW()-1, 28))","v":0},{"$f":"OFFSET(X0withPad!$B$1, INT((ROW()-1)/28), MOD(ROW()-1, 28))","v":0},{"$f":"OFFSET(X0withPad!$C$1, INT((ROW()-1)/28), MOD(ROW()-1, 28))","v":0},{"$f":"OFFSET(X0withPad!$A$2, INT((ROW()-1)/28), MOD(ROW()-1, 28))","v":0},{"$f":"OFFSET(X0withPad!$B$2, INT((ROW()-1)/28), MOD(ROW()-1, 28))","v":0},{"$f":"OFFSET(X0withPad!$C$2, INT((ROW()-1)/28), MOD(ROW()-1, 28))","v":0},{"$f":"OFFSET(X0withPad!$A$3, INT((ROW()-1)/28), MOD(ROW()-1, 28))","v":0},{"$f":"OFFSET(X0withPad!$B$3, INT((ROW()-1)/28), MOD(ROW()-1, 28))","v":0},{"$f":"OFFSET(X0withPad!$C$3, INT((ROW()-1)/28), MOD(ROW()-1, 28))","v":0}]
[{"$f":"OFFSET(X0withPad!$A$1, INT((ROW()-1)/28), MOD(ROW()-1, 28))","v":0},{"$f":"OFFSET(X0withPad!$B$1, INT((ROW()-1)/28), MOD(ROW()-1, 28))","v":0},{"$f":"OFFSET(X0withPad!$C$1, INT((ROW()-1)/28), MOD(ROW()-1, 28))","v":0},{"$f":"OFFSET(X0withPad!$A$2, INT((ROW()-1)/28), MOD(ROW()-1, 28))","v":0},{"$f":"OFFSET(X0withPad!$B$2, INT((ROW()-1)/28), MOD(ROW()-1, 28))","v":0},{"$f":"OFFSET(X0withPad!$C$2, INT((ROW()-1)/28), MOD(ROW()-1, 28))","v":0},{"$f":"OFFSET(X0withPad!$A$3, INT((ROW()-1)/28), MOD(ROW()-1, 28))","v":0},{"$f":"OFFSET(X0withPad!$B$3, INT((ROW()-1)/28), MOD(ROW()-1, 28))","v":0},{"$f":"OFFSET(X0withPad!$C$3, INT((ROW()-1)/28), MOD(ROW()-1, 28))","v":0}]
[{"$f":"OFFSET(X0withPad!$A$1, INT((ROW()-1)/28), MOD(ROW()-1, 28))","v":0},{"$f":"OFFSET(X0withPad!$B$1, INT((ROW()-1)/28), MOD(ROW()-1, 28))","v":0},{"$f":"OFFSET(X0withPad!$C$1, INT((ROW()-1)/28), MOD(ROW()-1, 28))","v":0},{"$f":"OFFSET(X0withPad!$A$2, INT((ROW()-1)/28), MOD(ROW()-1, 28))","v":0},{"$f":"OFFSET(X0withPad!$B$2, INT((ROW()-1)/28), MOD(ROW()-1, 28))","v":0},{"$f":"OFFSET(X0withPad!$C$2, INT((ROW()-1)/28), MOD(ROW()-1, 28))","v":0},{"$f":"OFFSET(X0withPad!$A$3, INT((ROW()-1)/28), MOD(ROW()-1, 28))","v":0},{"$f":"OFFSET(X0withPad!$B$3, INT((ROW()-1)/28), MOD(ROW()-1, 28))","v":0},{"$f":"OFFSET(X0withPad!$C$3, INT((ROW()-1)/28), MOD(ROW()-1, 28))","v":0}]
[{"$f":"OFFSET(X0withPad!$A$1, INT((ROW()-1)/28), MOD(ROW()-1, 28))","v":0},{"$f":"OFFSET(X0withPad!$B$1, INT((ROW()-1)/28), MOD(ROW()-1, 28))","v":0},{"$f":"OFFSET(X0withPad!$C$1, INT((ROW()-1)/28), MOD(ROW()-1, 28))","v":0},{"$f":"OFFSET(X0withPad!$A$2, INT((ROW()-1)/28), MOD(ROW()-1, 28))","v":0},{"$f":"OFFSET(X0withPad!$B$2, INT((ROW()-1)/28), MOD(ROW()-1, 28))","v":0},{"$f":"OFFSET(X0withPad!$C$2, INT((ROW()-1)/28), MOD(ROW()-1, 28))","v":0},{"$f":"OFFSET(X0withPad!$A$3, INT((ROW()-1)/28), MOD(ROW()-1, 28))","v":0},{"$f":"OFFSET(X0withPad!$B$3, INT((ROW()-1)/28), MOD(ROW()-1, 28))","v":0},{"$f":"OFFSET(X0withPad!$C$3, INT((ROW()-1)/28), MOD(ROW()-1, 28))","v":0}]
[{"$f":"OFFSET(X0withPad!$A$1, INT((ROW()-1)/28), MOD(ROW()-1, 28))","v":0},{"$f":"OFFSET(X0withPad!$B$1, INT((ROW()-1)/28), MOD(ROW()-1, 28))","v":0},{"$f":"OFFSET(X0withPad!$C$1, INT((ROW()-1)/28), MOD(ROW()-1, 28))","v":0},{"$f":"OFFSET(X0withPad!$A$2, INT((ROW()-1)/28), MOD(ROW()-1, 28))","v":0},{"$f":"OFFSET(X0withPad!$B$2, INT((ROW()-1)/28), MOD(ROW()-1, 28))","v":0},{"$f":"OFFSET(X0withPad!$C$2, INT((ROW()-1)/28), MOD(ROW()-1, 28))","v":0},{"$f":"OFFSET(X0withPad!$A$3, INT((ROW()-1)/28), MOD(ROW()-1, 28))","v":0},{"$f":"OFFSET(X0withPad!$B$3, INT((ROW()-1)/28), MOD(ROW()-1, 28))","v":0},{"$f":"OFFSET(X0withPad!$C$3, INT((ROW()-1)/28), MOD(ROW()-1, 28))","v":0}]
[{"$f":"OFFSET(X0withPad!$A$1, INT((ROW()-1)/28), MOD(ROW()-1, 28))","v":0},{"$f":"OFFSET(X0withPad!$B$1, INT((ROW()-1)/28), MOD(ROW()-1, 28))","v":0},{"$f":"OFFSET(X0withPad!$C$1, INT((ROW()-1)/28), MOD(ROW()-1, 28))","v":0},{"$f":"OFFSET(X0withPad!$A$2, INT((ROW()-1)/28), MOD(ROW()-1, 28))","v":0},{"$f":"OFFSET(X0withPad!$B$2, INT((ROW()-1)/28), MOD(ROW()-1, 28))","v":0},{"$f":"OFFSET(X0withPad!$C$2, INT((ROW()-1)/28), MOD(ROW()-1, 28))","v":0},{"$f":"OFFSET(X0withPad!$A$3, INT((ROW()-1)/28), MOD(ROW()-1, 28))","v":0},{"$f":"OFFSET(X0withPad!$B$3, INT((ROW()-1)/28), MOD(ROW()-1, 28))","v":0},{"$f":"OFFSET(X0withPad!$C$3, INT((ROW()-1)/28), MOD(ROW()-1, 28))","v":19}]
[{"$f":"OFFSET(X0withPad!$A$1, INT((ROW()-1)/28), MOD(ROW()-1, 28))","v":0},{"$f":"OFFSET(X0withPad!$B$1, INT((ROW()-1)/28), MOD(ROW()-1, 28))","v":0},{"$f":"OFFSET(X0withPad!$C$1, INT((ROW()-1)/28), MOD(ROW()-1, 28))","v":0},{"$f":"OFFSET(X0withPad!$A$2, INT((ROW()-1)/28), MOD(ROW()-1, 28))","v":0},{"$f":"OFFSET(X0withPad!$B$2, INT((ROW()-1)/28), MOD(ROW()-1, 28))","v":0},{"$f":"OFFSET(X0withPad!$C$2, INT((ROW()-1)/28), MOD(ROW()-1, 28))","v":75},{"$f":"OFFSET(X0withPad!$A$3, INT((ROW()-1)/28), MOD(ROW()-1, 28))","v":0},{"$f":"OFFSET(X0withPad!$B$3, INT((ROW()-1)/28), MOD(ROW()-1, 28))","v":19},{"$f":"OFFSET(X0withPad!$C$3, INT((ROW()-1)/28), MOD(ROW()-1, 28))","v":221}]
[{"$f":"OFFSET(X0withPad!$A$1, INT((ROW()-1)/28), MOD(ROW()-1, 28))","v":0},{"$f":"OFFSET(X0withPad!$B$1, INT((ROW()-1)/28), MOD(ROW()-1, 28))","v":0},{"$f":"OFFSET(X0withPad!$C$1, INT((ROW()-1)/28), MOD(ROW()-1, 28))","v":126},{"$f":"OFFSET(X0withPad!$A$2, INT((ROW()-1)/28), MOD(ROW()-1, 28))","v":0},{"$f":"OFFSET(X0withPad!$B$2, INT((ROW()-1)/28), MOD(ROW()-1, 28))","v":75},{"$f":"OFFSET(X0withPad!$C$2, INT((ROW()-1)/28), MOD(ROW()-1, 28))","v":251},{"$f":"OFFSET(X0withPad!$A$3, INT((ROW()-1)/28), MOD(ROW()-1, 28))","v":19},{"$f":"OFFSET(X0withPad!$B$3, INT((ROW()-1)/28), MOD(ROW()-1, 28))","v":221},{"$f":"OFFSET(X0withPad!$C$3, INT((ROW()-1)/28), MOD(ROW()-1, 28))","v":254}]
[{"$f":"OFFSET(X0withPad!$A$1, INT((ROW()-1)/28), MOD(ROW()-1, 28))","v":0},{"$f":"OFFSET(X0withPad!$B$1, INT((ROW()-1)/28), MOD(ROW()-1, 28))","v":126},{"$f":"OFFSET(X0withPad!$C$1, INT((ROW()-1)/28), MOD(ROW()-1, 28))","v":254},{"$f":"OFFSET(X0withPad!$A$2, INT((ROW()-1)/28), MOD(ROW()-1, 28))","v":75},{"$f":"OFFSET(X0withPad!$B$2, INT((ROW()-1)/28), MOD(ROW()-1, 28))","v":251},{"$f":"OFFSET(X0withPad!$C$2, INT((ROW()-1)/28), MOD(ROW()-1, 28))","v":240},{"$f":"OFFSET(X0withPad!$A$3, INT((ROW()-1)/28), MOD(ROW()-1, 28))","v":221},{"$f":"OFFSET(X0withPad!$B$3, INT((ROW()-1)/28), MOD(ROW()-1, 28))","v":254},{"$f":"OFFSET(X0withPad!$C$3, INT((ROW()-1)/28), MOD(ROW()-1, 28))","v":166}]
[{"$f":"OFFSET(X0withPad!$A$1, INT((ROW()-1)/28), MOD(ROW()-1, 28))","v":126},{"$f":"OFFSET(X0withPad!$B$1, INT((ROW()-1)/28), MOD(ROW()-1, 28))","v":254},{"$f":"OFFSET(X0withPad!$C$1, INT((ROW()-1)/28), MOD(ROW()-1, 28))","v":182},{"$f":"OFFSET(X0withPad!$A$2, INT((ROW()-1)/28), MOD(ROW()-1, 28))","v":251},{"$f":"OFFSET(X0withPad!$B$2, INT((ROW()-1)/28), MOD(ROW()-1, 28))","v":240},{"$f":"OFFSET(X0withPad!$C$2, INT((ROW()-1)/28), MOD(ROW()-1, 28))","v":57},{"$f":"OFFSET(X0withPad!$A$3, INT((ROW()-1)/28), MOD(ROW()-1, 28))","v":254},{"$f":"OFFSET(X0withPad!$B$3, INT((ROW()-1)/28), MOD(ROW()-1, 28))","v":166},{"$f":"OFFSET(X0withPad!$C$3, INT((ROW()-1)/28), MOD(ROW()-1, 28))","v":0}]
[{"$f":"OFFSET(X0withPad!$A$1, INT((ROW()-1)/28), MOD(ROW()-1, 28))","v":254},{"$f":"OFFSET(X0withPad!$B$1, INT((ROW()-1)/28), MOD(ROW()-1, 28))","v":182},{"$f":"OFFSET(X0withPad!$C$1, INT((ROW()-1)/28), MOD(ROW()-1, 28))","v":0},{"$f":"OFFSET(X0withPad!$A$2, INT((ROW()-1)/28), MOD(ROW()-1, 28))","v":240},{"$f":"OFFSET(X0withPad!$B$2, INT((ROW()-1)/28), MOD(ROW()-1, 28))","v":57},{"$f":"OFFSET(X0withPad!$C$2, INT((ROW()-1)/28), MOD(ROW()-1, 28))","v":0},{"$f":"OFFSET(X0withPad!$A$3, INT((ROW()-1)/28), MOD(ROW()-1, 28))","v":166},{"$f":"OFFSET(X0withPad!$B$3, INT((ROW()-1)/28), MOD(ROW()-1, 28))","v":0},{"$f":"OFFSET(X0withPad!$C$3, INT((ROW()-1)/28), MOD(ROW()-1, 28))","v":0}]
[{"$f":"OFFSET(X0withPad!$A$1, INT((ROW()-1)/28), MOD(ROW()-1, 28))","v":182},{"$f":"OFFSET(X0withPad!$B$1, INT((ROW()-1)/28), MOD(ROW()-1, 28))","v":0},{"$f":"OFFSET(X0withPad!$C$1, INT((ROW()-1)/28), MOD(ROW()-1, 28))","v":0},{"$f":"OFFSET(X0withPad!$A$2, INT((ROW()-1)/28), MOD(ROW()-1, 28))","v":57},{"$f":"OFFSET(X0withPad!$B$2, INT((ROW()-1)/28), MOD(ROW()-1, 28))","v":0},{"$f":"OFFSET(X0withPad!$C$2, INT((ROW()-1)/28), MOD(ROW()-1, 28))","v":0},{"$f":"OFFSET(X0withPad!$A$3, INT((ROW()-1)/28), MOD(ROW()-1, 28))","v":0},{"$f":"OFFSET(X0withPad!$B$3, INT((ROW()-1)/28), MOD(ROW()-1, 28))","v":0},{"$f":"OFFSET(X0withPad!$C$3, INT((ROW()-1)/28), MOD(ROW()-1, 28))","v":0}]
[{"$f":"OFFSET(X0withPad!$A$1, INT((ROW()-1)/28), MOD(ROW()-1, 28))","v":0},{"$f":"OFFSET(X0withPad!$B$1, INT((ROW()-1)/28), MOD(ROW()-1, 28))","v":0},{"$f":"OFFSET(X0withPad!$C$1, INT((ROW()-1)/28), MOD(ROW()-1, 28))","v":0},{"$f":"OFFSET(X0withPad!$A$2, INT((ROW()-1)/28), MOD(ROW()-1, 28))","v":0},{"$f":"OFFSET(X0withPad!$B$2, INT((ROW()-1)/28), MOD(ROW()-1, 28))","v":0},{"$f":"OFFSET(X0withPad!$C$2, INT((ROW()-1)/28), MOD(ROW()-1, 28))","v":0},{"$f":"OFFSET(X0withPad!$A$3, INT((ROW()-1)/28), MOD(ROW()-1, 28))","v":0},{"$f":"OFFSET(X0withPad!$B$3, INT((ROW()-1)/28), MOD(ROW()-1, 28))","v":0},{"$f":"OFFSET(X0withPad!$C$3, INT((ROW()-1)/28), MOD(ROW()-1, 28))","v":0}]
[{"$f":"OFFSET(X0withPad!$A$1, INT((ROW()-1)/28), MOD(ROW()-1, 28))","v":0},{"$f":"OFFSET(X0withPad!$B$1, INT((ROW()-1)/28), MOD(ROW()-1, 28))","v":0},{"$f":"OFFSET(X0withPad!$C$1, INT((ROW()-1)/28), MOD(ROW()-1, 28))","v":0},{"$f":"OFFSET(X0withPad!$A$2, INT((ROW()-1)/28), MOD(ROW()-1, 28))","v":0},{"$f":"OFFSET(X0withPad!$B$2, INT((ROW()-1)/28), MOD(ROW()-1, 28))","v":0},{"$f":"OFFSET(X0withPad!$C$2, INT((ROW()-1)/28), MOD(ROW()-1, 28))","v":0},{"$f":"OFFSET(X0withPad!$A$3, INT((ROW()-1)/28), MOD(ROW()-1, 28))","v":0},{"$f":"OFFSET(X0withPad!$B$3, INT((ROW()-1)/28), MOD(ROW()-1, 28))","v":0},{"$f":"OFFSET(X0withPad!$C$3, INT((ROW()-1)/28), MOD(ROW()-1, 28))","v":0}]
[{"$f":"OFFSET(X0withPad!$A$1, INT((ROW()-1)/28), MOD(ROW()-1, 28))","v":0},{"$f":"OFFSET(X0withPad!$B$1, INT((ROW()-1)/28), MOD(ROW()-1, 28))","v":0},{"$f":"OFFSET(X0withPad!$C$1, INT((ROW()-1)/28), MOD(ROW()-1, 28))","v":0},{"$f":"OFFSET(X0withPad!$A$2, INT((ROW()-1)/28), MOD(ROW()-1, 28))","v":0},{"$f":"OFFSET(X0withPad!$B$2, INT((ROW()-1)/28), MOD(ROW()-1, 28))","v":0},{"$f":"OFFSET(X0withPad!$C$2, INT((ROW()-1)/28), MOD(ROW()-1, 28))","v":0},{"$f":"OFFSET(X0withPad!$A$3, INT((ROW()-1)/28), MOD(ROW()-1, 28))","v":0},{"$f":"OFFSET(X0withPad!$B$3, INT((ROW()-1)/28), MOD(ROW()-1, 28))","v":0},{"$f":"OFFSET(X0withPad!$C$3, INT((ROW()-1)/28), MOD(ROW()-1, 28))","v":0}]
[{"$f":"OFFSET(X0withPad!$A$1, INT((ROW()-1)/28), MOD(ROW()-1, 28))","v":0},{"$f":"OFFSET(X0withPad!$B$1, INT((ROW()-1)/28), MOD(ROW()-1, 28))","v":0},{"$f":"OFFSET(X0withPad!$C$1, INT((ROW()-1)/28), MOD(ROW()-1, 28))","v":0},{"$f":"OFFSET(X0withPad!$A$2, INT((ROW()-1)/28), MOD(ROW()-1, 28))","v":0},{"$f":"OFFSET(X0withPad!$B$2, INT((ROW()-1)/28), MOD(ROW()-1, 28))","v":0},{"$f":"OFFSET(X0withPad!$C$2, INT((ROW()-1)/28), MOD(ROW()-1, 28))","v":0},{"$f":"OFFSET(X0withPad!$A$3, INT((ROW()-1)/28), MOD(ROW()-1, 28))","v":0},{"$f":"OFFSET(X0withPad!$B$3, INT((ROW()-1)/28), MOD(ROW()-1, 28))","v":0},{"$f":"OFFSET(X0withPad!$C$3, INT((ROW()-1)/28), MOD(ROW()-1, 28))","v":0}]
[{"$f":"OFFSET(X0withPad!$A$1, INT((ROW()-1)/28), MOD(ROW()-1, 28))","v":0},{"$f":"OFFSET(X0withPad!$B$1, INT((ROW()-1)/28), MOD(ROW()-1, 28))","v":0},{"$f":"OFFSET(X0withPad!$C$1, INT((ROW()-1)/28), MOD(ROW()-1, 28))","v":0},{"$f":"OFFSET(X0withPad!$A$2, INT((ROW()-1)/28), MOD(ROW()-1, 28))","v":0},{"$f":"OFFSET(X0withPad!$B$2, INT((ROW()-1)/28), MOD(ROW()-1, 28))","v":0},{"$f":"OFFSET(X0withPad!$C$2, INT((ROW()-1)/28), MOD(ROW()-1, 28))","v":0},{"$f":"OFFSET(X0withPad!$A$3, INT((ROW()-1)/28), MOD(ROW()-1, 28))","v":0},{"$f":"OFFSET(X0withPad!$B$3, INT((ROW()-1)/28), MOD(ROW()-1, 28))","v":0},{"$f":"OFFSET(X0withPad!$C$3, INT((ROW()-1)/28), MOD(ROW()-1, 28))","v":0}]
[{"$f":"OFFSET(X0withPad!$A$1, INT((ROW()-1)/28), MOD(ROW()-1, 28))","v":0},{"$f":"OFFSET(X0withPad!$B$1, INT((ROW()-1)/28), MOD(ROW()-1, 28))","v":0},{"$f":"OFFSET(X0withPad!$C$1, INT((ROW()-1)/28), MOD(ROW()-1, 28))","v":0},{"$f":"OFFSET(X0withPad!$A$2, INT((ROW()-1)/28), MOD(ROW()-1, 28))","v":0},{"$f":"OFFSET(X0withPad!$B$2, INT((ROW()-1)/28), MOD(ROW()-1, 28))","v":0},{"$f":"OFFSET(X0withPad!$C$2, INT((ROW()-1)/28), MOD(ROW()-1, 28))","v":0},{"$f":"OFFSET(X0withPad!$A$3, INT((ROW()-1)/28), MOD(ROW()-1, 28))","v":0},{"$f":"OFFSET(X0withPad!$B$3, INT((ROW()-1)/28), MOD(ROW()-1, 28))","v":0},{"$f":"OFFSET(X0withPad!$C$3, INT((ROW()-1)/28), MOD(ROW()-1, 28))","v":0}]
[{"$f":"OFFSET(X0withPad!$A$1, INT((ROW()-1)/28), MOD(ROW()-1, 28))","v":0},{"$f":"OFFSET(X0withPad!$B$1, INT((ROW()-1)/28), MOD(ROW()-1, 28))","v":0},{"$f":"OFFSET(X0withPad!$C$1, INT((ROW()-1)/28), MOD(ROW()-1, 28))","v":0},{"$f":"OFFSET(X0withPad!$A$2, INT((ROW()-1)/28), MOD(ROW()-1, 28))","v":0},{"$f":"OFFSET(X0withPad!$B$2, INT((ROW()-1)/28), MOD(ROW()-1, 28))","v":0},{"$f":"OFFSET(X0withPad!$C$2, INT((ROW()-1)/28), MOD(ROW()-1, 28))","v":0},{"$f":"OFFSET(X0withPad!$A$3, INT((ROW()-1)/28), MOD(ROW()-1, 28))","v":0},{"$f":"OFFSET(X0withPad!$B$3, INT((ROW()-1)/28), MOD(ROW()-1, 28))","v":0},{"$f":"OFFSET(X0withPad!$C$3, INT((ROW()-1)/28), MOD(ROW()-1, 28))","v":0}]
[{"$f":"OFFSET(X0withPad!$A$1, INT((ROW()-1)/28), MOD(ROW()-1, 28))","v":0},{"$f":"OFFSET(X0withPad!$B$1, INT((ROW()-1)/28), MOD(ROW()-1, 28))","v":0},{"$f":"OFFSET(X0withPad!$C$1, INT((ROW()-1)/28), MOD(ROW()-1, 28))","v":0},{"$f":"OFFSET(X0withPad!$A$2, INT((ROW()-1)/28), MOD(ROW()-1, 28))","v":0},{"$f":"OFFSET(X0withPad!$B$2, INT((ROW()-1)/28), MOD(ROW()-1, 28))","v":0},{"$f":"OFFSET(X0withPad!$C$2, INT((ROW()-1)/28), MOD(ROW()-1, 28))","v":0},{"$f":"OFFSET(X0withPad!$A$3, INT((ROW()-1)/28), MOD(ROW()-1, 28))","v":0},{"$f":"OFFSET(X0withPad!$B$3, INT((ROW()-1)/28), MOD(ROW()-1, 28))","v":0},{"$f":"OFFSET(X0withPad!$C$3, INT((ROW()-1)/28), MOD(ROW()-1, 28))","v":0}]
[{"$f":"OFFSET(X0withPad!$A$1, INT((ROW()-1)/28), MOD(ROW()-1, 28))","v":0},{"$f":"OFFSET(X0withPad!$B$1, INT((ROW()-1)/28), MOD(ROW()-1, 28))","v":0},{"$f":"OFFSET(X0withPad!$C$1, INT((ROW()-1)/28), MOD(ROW()-1, 28))","v":0},{"$f":"OFFSET(X0withPad!$A$2, INT((ROW()-1)/28), MOD(ROW()-1, 28))","v":0},{"$f":"OFFSET(X0withPad!$B$2, INT((ROW()-1)/28), MOD(ROW()-1, 28))","v":0},{"$f":"OFFSET(X0withPad!$C$2, INT((ROW()-1)/28), MOD(ROW()-1, 28))","v":0},{"$f":"OFFSET(X0withPad!$A$3, INT((ROW()-1)/28), MOD(ROW()-1, 28))","v":0},{"$f":"OFFSET(X0withPad!$B$3, INT((ROW()-1)/28), MOD(ROW()-1, 28))","v":0},{"$f":"OFFSET(X0withPad!$C$3, INT((ROW()-1)/28), MOD(ROW()-1, 28))","v":0}]
[{"$f":"OFFSET(X0withPad!$A$1, INT((ROW()-1)/28), MOD(ROW()-1, 28))","v":0},{"$f":"OFFSET(X0withPad!$B$1, INT((ROW()-1)/28), MOD(ROW()-1, 28))","v":0},{"$f":"OFFSET(X0withPad!$C$1, INT((ROW()-1)/28), MOD(ROW()-1, 28))","v":0},{"$f":"OFFSET(X0withPad!$A$2, INT((ROW()-1)/28), MOD(ROW()-1, 28))","v":0},{"$f":"OFFSET(X0withPad!$B$2, INT((ROW()-1)/28), MOD(ROW()-1, 28))","v":0},{"$f":"OFFSET(X0withPad!$C$2, INT((ROW()-1)/28), MOD(ROW()-1, 28))","v":0},{"$f":"OFFSET(X0withPad!$A$3, INT((ROW()-1)/28), MOD(ROW()-1, 28))","v":0},{"$f":"OFFSET(X0withPad!$B$3, INT((ROW()-1)/28), MOD(ROW()-1, 28))","v":0},{"$f":"OFFSET(X0withPad!$C$3, INT((ROW()-1)/28), MOD(ROW()-1, 28))","v":0}]
[{"$f":"OFFSET(X0withPad!$A$1, INT((ROW()-1)/28), MOD(ROW()-1, 28))","v":0},{"$f":"OFFSET(X0withPad!$B$1, INT((ROW()-1)/28), MOD(ROW()-1, 28))","v":0},{"$f":"OFFSET(X0withPad!$C$1, INT((ROW()-1)/28), MOD(ROW()-1, 28))","v":0},{"$f":"OFFSET(X0withPad!$A$2, INT((ROW()-1)/28), MOD(ROW()-1, 28))","v":0},{"$f":"OFFSET(X0withPad!$B$2, INT((ROW()-1)/28), MOD(ROW()-1, 28))","v":0},{"$f":"OFFSET(X0withPad!$C$2, INT((ROW()-1)/28), MOD(ROW()-1, 28))","v":0},{"$f":"OFFSET(X0withPad!$A$3, INT((ROW()-1)/28), MOD(ROW()-1, 28))","v":0},{"$f":"OFFSET(X0withPad!$B$3, INT((ROW()-1)/28), MOD(ROW()-1, 28))","v":0},{"$f":"OFFSET(X0withPad!$C$3, INT((ROW()-1)/28), MOD(ROW()-1, 28))","v":0}]
[{"$f":"OFFSET(X0withPad!$A$1, INT((ROW()-1)/28), MOD(ROW()-1, 28))","v":0},{"$f":"OFFSET(X0withPad!$B$1, INT((ROW()-1)/28), MOD(ROW()-1, 28))","v":0},{"$f":"OFFSET(X0withPad!$C$1, INT((ROW()-1)/28), MOD(ROW()-1, 28))","v":0},{"$f":"OFFSET(X0withPad!$A$2, INT((ROW()-1)/28), MOD(ROW()-1, 28))","v":0},{"$f":"OFFSET(X0withPad!$B$2, INT((ROW()-1)/28), MOD(ROW()-1, 28))","v":0},{"$f":"OFFSET(X0withPad!$C$2, INT((ROW()-1)/28), MOD(ROW()-1, 28))","v":0},{"$f":"OFFSET(X0withPad!$A$3, INT((ROW()-1)/28), MOD(ROW()-1, 28))","v":0},{"$f":"OFFSET(X0withPad!$B$3, INT((ROW()-1)/28), MOD(ROW()-1, 28))","v":0},{"$f":"OFFSET(X0withPad!$C$3, INT((ROW()-1)/28), MOD(ROW()-1, 28))","v":0}]
[{"$f":"OFFSET(X0withPad!$A$1, INT((ROW()-1)/28), MOD(ROW()-1, 28))","v":0},{"$f":"OFFSET(X0withPad!$B$1, INT((ROW()-1)/28), MOD(ROW()-1, 28))","v":0},{"$f":"OFFSET(X0withPad!$C$1, INT((ROW()-1)/28), MOD(ROW()-1, 28))","v":0},{"$f":"OFFSET(X0withPad!$A$2, INT((ROW()-1)/28), MOD(ROW()-1, 28))","v":0},{"$f":"OFFSET(X0withPad!$B$2, INT((ROW()-1)/28), MOD(ROW()-1, 28))","v":0},{"$f":"OFFSET(X0withPad!$C$2, INT((ROW()-1)/28), MOD(ROW()-1, 28))","v":0},{"$f":"OFFSET(X0withPad!$A$3, INT((ROW()-1)/28), MOD(ROW()-1, 28))","v":0},{"$f":"OFFSET(X0withPad!$B$3, INT((ROW()-1)/28), MOD(ROW()-1, 28))","v":0},{"$f":"OFFSET(X0withPad!$C$3, INT((ROW()-1)/28), MOD(ROW()-1, 28))","v":0}]
[{"$f":"OFFSET(X0withPad!$A$1, INT((ROW()-1)/28), MOD(ROW()-1, 28))","v":0},{"$f":"OFFSET(X0withPad!$B$1, INT((ROW()-1)/28), MOD(ROW()-1, 28))","v":0},{"$f":"OFFSET(X0withPad!$C$1, INT((ROW()-1)/28), MOD(ROW()-1, 28))","v":0},{"$f":"OFFSET(X0withPad!$A$2, INT((ROW()-1)/28), MOD(ROW()-1, 28))","v":0},{"$f":"OFFSET(X0withPad!$B$2, INT((ROW()-1)/28), MOD(ROW()-1, 28))","v":0},{"$f":"OFFSET(X0withPad!$C$2, INT((ROW()-1)/28), MOD(ROW()-1, 28))","v":0},{"$f":"OFFSET(X0withPad!$A$3, INT((ROW()-1)/28), MOD(ROW()-1, 28))","v":0},{"$f":"OFFSET(X0withPad!$B$3, INT((ROW()-1)/28), MOD(ROW()-1, 28))","v":0},{"$f":"OFFSET(X0withPad!$C$3, INT((ROW()-1)/28), MOD(ROW()-1, 28))","v":0}]
[{"$f":"OFFSET(X0withPad!$A$1, INT((ROW()-1)/28), MOD(ROW()-1, 28))","v":0},{"$f":"OFFSET(X0withPad!$B$1, INT((ROW()-1)/28), MOD(ROW()-1, 28))","v":0},{"$f":"OFFSET(X0withPad!$C$1, INT((ROW()-1)/28), MOD(ROW()-1, 28))","v":0},{"$f":"OFFSET(X0withPad!$A$2, INT((ROW()-1)/28), MOD(ROW()-1, 28))","v":0},{"$f":"OFFSET(X0withPad!$B$2, INT((ROW()-1)/28), MOD(ROW()-1, 28))","v":0},{"$f":"OFFSET(X0withPad!$C$2, INT((ROW()-1)/28), MOD(ROW()-1, 28))","v":0},{"$f":"OFFSET(X0withPad!$A$3, INT((ROW()-1)/28), MOD(ROW()-1, 28))","v":0},{"$f":"OFFSET(X0withPad!$B$3, INT((ROW()-1)/28), MOD(ROW()-1, 28))","v":0},{"$f":"OFFSET(X0withPad!$C$3, INT((ROW()-1)/28), MOD(ROW()-1, 28))","v":0}]
[{"$f":"OFFSET(X0withPad!$A$1, INT((ROW()-1)/28), MOD(ROW()-1, 28))","v":0},{"$f":"OFFSET(X0withPad!$B$1, INT((ROW()-1)/28), MOD(ROW()-1, 28))","v":0},{"$f":"OFFSET(X0withPad!$C$1, INT((ROW()-1)/28), MOD(ROW()-1, 28))","v":0},{"$f":"OFFSET(X0withPad!$A$2, INT((ROW()-1)/28), MOD(ROW()-1, 28))","v":0},{"$f":"OFFSET(X0withPad!$B$2, INT((ROW()-1)/28), MOD(ROW()-1, 28))","v":0},{"$f":"OFFSET(X0withPad!$C$2, INT((ROW()-1)/28), MOD(ROW()-1, 28))","v":0},{"$f":"OFFSET(X0withPad!$A$3, INT((ROW()-1)/28), MOD(ROW()-1, 28))","v":0},{"$f":"OFFSET(X0withPad!$B$3, INT((ROW()-1)/28), MOD(ROW()-1, 28))","v":0},{"$f":"OFFSET(X0withPad!$C$3, INT((ROW()-1)/28), MOD(ROW()-1, 28))","v":0}]
[{"$f":"OFFSET(X0withPad!$A$1, INT((ROW()-1)/28), MOD(ROW()-1, 28))","v":0},{"$f":"OFFSET(X0withPad!$B$1, INT((ROW()-1)/28), MOD(ROW()-1, 28))","v":0},{"$f":"OFFSET(X0withPad!$C$1, INT((ROW()-1)/28), MOD(ROW()-1, 28))","v":0},{"$f":"OFFSET(X0withPad!$A$2, INT((ROW()-1)/28), MOD(ROW()-1, 28))","v":0},{"$f":"OFFSET(X0withPad!$B$2, INT((ROW()-1)/28), MOD(ROW()-1, 28))","v":0},{"$f":"OFFSET(X0withPad!$C$2, INT((ROW()-1)/28), MOD(ROW()-1, 28))","v":0},{"$f":"OFFSET(X0withPad!$A$3, INT((ROW()-1)/28), MOD(ROW()-1, 28))","v":0},{"$f":"OFFSET(X0withPad!$B$3, INT((ROW()-1)/28), MOD(ROW()-1, 28))","v":0},{"$f":"OFFSET(X0withPad!$C$3, INT((ROW()-1)/28), MOD(ROW()-1, 28))","v":0}]
[{"$f":"OFFSET(X0withPad!$A$1, INT((ROW()-1)/28), MOD(ROW()-1, 28))","v":0},{"$f":"OFFSET(X0withPad!$B$1, INT((ROW()-1)/28), MOD(ROW()-1, 28))","v":0},{"$f":"OFFSET(X0withPad!$C$1, INT((ROW()-1)/28), MOD(ROW()-1, 28))","v":0},{"$f":"OFFSET(X0withPad!$A$2, INT((ROW()-1)/28), MOD(ROW()-1, 28))","v":0},{"$f":"OFFSET(X0withPad!$B$2, INT((ROW()-1)/28), MOD(ROW()-1, 28))","v":0},{"$f":"OFFSET(X0withPad!$C$2, INT((ROW()-1)/28), MOD(ROW()-1, 28))","v":0},{"$f":"OFFSET(X0withPad!$A$3, INT((ROW()-1)/28), MOD(ROW()-1, 28))","v":0},{"$f":"OFFSET(X0withPad!$B$3, INT((ROW()-1)/28), MOD(ROW()-1, 28))","v":0},{"$f":"OFFSET(X0withPad!$C$3, INT((ROW()-1)/28), MOD(ROW()-1, 28))","v":0}]
[{"$f":"OFFSET(X0withPad!$A$1, INT((ROW()-1)/28), MOD(ROW()-1, 28))","v":0},{"$f":"OFFSET(X0withPad!$B$1, INT((ROW()-1)/28), MOD(ROW()-1, 28))","v":0},{"$f":"OFFSET(X0withPad!$C$1, INT((ROW()-1)/28), MOD(ROW()-1, 28))","v":0},{"$f":"OFFSET(X0withPad!$A$2, INT((ROW()-1)/28), MOD(ROW()-1, 28))","v":0},{"$f":"OFFSET(X0withPad!$B$2, INT((ROW()-1)/28), MOD(ROW()-1, 28))","v":0},{"$f":"OFFSET(X0withPad!$C$2, INT((ROW()-1)/28), MOD(ROW()-1, 28))","v":0},{"$f":"OFFSET(X0withPad!$A$3, INT((ROW()-1)/28), MOD(ROW()-1, 28))","v":0},{"$f":"OFFSET(X0withPad!$B$3, INT((ROW()-1)/28), MOD(ROW()-1, 28))","v":0},{"$f":"OFFSET(X0withPad!$C$3, INT((ROW()-1)/28), MOD(ROW()-1, 28))","v":0}]
[{"$f":"OFFSET(X0withPad!$A$1, INT((ROW()-1)/28), MOD(ROW()-1, 28))","v":0},{"$f":"OFFSET(X0withPad!$B$1, INT((ROW()-1)/28), MOD(ROW()-1, 28))","v":0},{"$f":"OFFSET(X0withPad!$C$1, INT((ROW()-1)/28), MOD(ROW()-1, 28))","v":0},{"$f":"OFFSET(X0withPad!$A$2, INT((ROW()-1)/28), MOD(ROW()-1, 28))","v":0},{"$f":"OFFSET(X0withPad!$B$2, INT((ROW()-1)/28), MOD(ROW()-1, 28))","v":0},{"$f":"OFFSET(X0withPad!$C$2, INT((ROW()-1)/28), MOD(ROW()-1, 28))","v":0},{"$f":"OFFSET(X0withPad!$A$3, INT((ROW()-1)/28), MOD(ROW()-1, 28))","v":0},{"$f":"OFFSET(X0withPad!$B$3, INT((ROW()-1)/28), MOD(ROW()-1, 28))","v":0},{"$f":"OFFSET(X0withPad!$C$3, INT((ROW()-1)/28), MOD(ROW()-1, 28))","v":0}]
[{"$f":"OFFSET(X0withPad!$A$1, INT((ROW()-1)/28), MOD(ROW()-1, 28))","v":0},{"$f":"OFFSET(X0withPad!$B$1, INT((ROW()-1)/28), MOD(ROW()-1, 28))","v":0},{"$f":"OFFSET(X0withPad!$C$1, INT((ROW()-1)/28), MOD(ROW()-1, 28))","v":0},{"$f":"OFFSET(X0withPad!$A$2, INT((ROW()-1)/28), MOD(ROW()-1, 28))","v":0},{"$f":"OFFSET(X0withPad!$B$2, INT((ROW()-1)/28), MOD(ROW()-1, 28))","v":0},{"$f":"OFFSET(X0withPad!$C$2, INT((ROW()-1)/28), MOD(ROW()-1, 28))","v":0},{"$f":"OFFSET(X0withPad!$A$3, INT((ROW()-1)/28), MOD(ROW()-1, 28))","v":0},{"$f":"OFFSET(X0withPad!$B$3, INT((ROW()-1)/28), MOD(ROW()-1, 28))","v":0},{"$f":"OFFSET(X0withPad!$C$3, INT((ROW()-1)/28), MOD(ROW()-1, 28))","v":3}]
[{"$f":"OFFSET(X0withPad!$A$1, INT((ROW()-1)/28), MOD(ROW()-1, 28))","v":0},{"$f":"OFFSET(X0withPad!$B$1, INT((ROW()-1)/28), MOD(ROW()-1, 28))","v":0},{"$f":"OFFSET(X0withPad!$C$1, INT((ROW()-1)/28), MOD(ROW()-1, 28))","v":0},{"$f":"OFFSET(X0withPad!$A$2, INT((ROW()-1)/28), MOD(ROW()-1, 28))","v":0},{"$f":"OFFSET(X0withPad!$B$2, INT((ROW()-1)/28), MOD(ROW()-1, 28))","v":0},{"$f":"OFFSET(X0withPad!$C$2, INT((ROW()-1)/28), MOD(ROW()-1, 28))","v":19},{"$f":"OFFSET(X0withPad!$A$3, INT((ROW()-1)/28), MOD(ROW()-1, 28))","v":0},{"$f":"OFFSET(X0withPad!$B$3, INT((ROW()-1)/28), MOD(ROW()-1, 28))","v":3},{"$f":"OFFSET(X0withPad!$C$3, INT((ROW()-1)/28), MOD(ROW()-1, 28))","v":203}]
[{"$f":"OFFSET(X0withPad!$A$1, INT((ROW()-1)/28), MOD(ROW()-1, 28))","v":0},{"$f":"OFFSET(X0withPad!$B$1, INT((ROW()-1)/28), MOD(ROW()-1, 28))","v":0},{"$f":"OFFSET(X0withPad!$C$1, INT((ROW()-1)/28), MOD(ROW()-1, 28))","v":75},{"$f":"OFFSET(X0withPad!$A$2, INT((ROW()-1)/28), MOD(ROW()-1, 28))","v":0},{"$f":"OFFSET(X0withPad!$B$2, INT((ROW()-1)/28), MOD(ROW()-1, 28))","v":19},{"$f":"OFFSET(X0withPad!$C$2, INT((ROW()-1)/28), MOD(ROW()-1, 28))","v":221},{"$f":"OFFSET(X0withPad!$A$3, INT((ROW()-1)/28), MOD(ROW()-1, 28))","v":3},{"$f":"OFFSET(X0withPad!$B$3, INT((ROW()-1)/28), MOD(ROW()-1, 28))","v":203},{"$f":"OFFSET(X0withPad!$C$3, INT((ROW()-1)/28), MOD(ROW()-1, 28))","v":254}]
[{"$f":"OFFSET(X0withPad!$A$1, INT((ROW()-1)/28), MOD(ROW()-1, 28))","v":0},{"$f":"OFFSET(X0withPad!$B$1, INT((ROW()-1)/28), MOD(ROW()-1, 28))","v":75},{"$f":"OFFSET(X0withPad!$C$1, INT((ROW()-1)/28), MOD(ROW()-1, 28))","v":251},{"$f":"OFFSET(X0withPad!$A$2, INT((ROW()-1)/28), MOD(ROW()-1, 28))","v":19},{"$f":"OFFSET(X0withPad!$B$2, INT((ROW()-1)/28), MOD(ROW()-1, 28))","v":221},{"$f":"OFFSET(X0withPad!$C$2, INT((ROW()-1)/28), MOD(ROW()-1, 28))","v":254},{"$f":"OFFSET(X0withPad!$A$3, INT((ROW()-1)/28), MOD(ROW()-1, 28))","v":203},{"$f":"OFFSET(X0withPad!$B$3, INT((ROW()-1)/28), MOD(ROW()-1, 28))","v":254},{"$f":"OFFSET(X0withPad!$C$3, INT((ROW()-1)/28), MOD(ROW()-1, 28))","v":219}]
[{"$f":"OFFSET(X0withPad!$A$1, INT((ROW()-1)/28), MOD(ROW()-1, 28))","v":75},{"$f":"OFFSET(X0withPad!$B$1, INT((ROW()-1)/28), MOD(ROW()-1, 28))","v":251},{"$f":"OFFSET(X0withPad!$C$1, INT((ROW()-1)/28), MOD(ROW()-1, 28))","v":240},{"$f":"OFFSET(X0withPad!$A$2, INT((ROW()-1)/28), MOD(ROW()-1, 28))","v":221},{"$f":"OFFSET(X0withPad!$B$2, INT((ROW()-1)/28), MOD(ROW()-1, 28))","v":254},{"$f":"OFFSET(X0withPad!$C$2, INT((ROW()-1)/28), MOD(ROW()-1, 28))","v":166},{"$f":"OFFSET(X0withPad!$A$3, INT((ROW()-1)/28), MOD(ROW()-1, 28))","v":254},{"$f":"OFFSET(X0withPad!$B$3, INT((ROW()-1)/28), MOD(ROW()-1, 28))","v":219},{"$f":"OFFSET(X0withPad!$C$3, INT((ROW()-1)/28), MOD(ROW()-1, 28))","v":35}]
[{"$f":"OFFSET(X0withPad!$A$1, INT((ROW()-1)/28), MOD(ROW()-1, 28))","v":251},{"$f":"OFFSET(X0withPad!$B$1, INT((ROW()-1)/28), MOD(ROW()-1, 28))","v":240},{"$f":"OFFSET(X0withPad!$C$1, INT((ROW()-1)/28), MOD(ROW()-1, 28))","v":57},{"$f":"OFFSET(X0withPad!$A$2, INT((ROW()-1)/28), MOD(ROW()-1, 28))","v":254},{"$f":"OFFSET(X0withPad!$B$2, INT((ROW()-1)/28), MOD(ROW()-1, 28))","v":166},{"$f":"OFFSET(X0withPad!$C$2, INT((ROW()-1)/28), MOD(ROW()-1, 28))","v":0},{"$f":"OFFSET(X0withPad!$A$3, INT((ROW()-1)/28), MOD(ROW()-1, 28))","v":219},{"$f":"OFFSET(X0withPad!$B$3, INT((ROW()-1)/28), MOD(ROW()-1, 28))","v":35},{"$f":"OFFSET(X0withPad!$C$3, INT((ROW()-1)/28), MOD(ROW()-1, 28))","v":0}]
[{"$f":"OFFSET(X0withPad!$A$1, INT((ROW()-1)/28), MOD(ROW()-1, 28))","v":240},{"$f":"OFFSET(X0withPad!$B$1, INT((ROW()-1)/28), MOD(ROW()-1, 28))","v":57},{"$f":"OFFSET(X0withPad!$C$1, INT((ROW()-1)/28), MOD(ROW()-1, 28))","v":0},{"$f":"OFFSET(X0withPad!$A$2, INT((ROW()-1)/28), MOD(ROW()-1, 28))","v":166},{"$f":"OFFSET(X0withPad!$B$2, INT((ROW()-1)/28), MOD(ROW()-1, 28))","v":0},{"$f":"OFFSET(X0withPad!$C$2, INT((ROW()-1)/28), MOD(ROW()-1, 28))","v":0},{"$f":"OFFSET(X0withPad!$A$3, INT((ROW()-1)/28), MOD(ROW()-1, 28))","v":35},{"$f":"OFFSET(X0withPad!$B$3, INT((ROW()-1)/28), MOD(ROW()-1, 28))","v":0},{"$f":"OFFSET(X0withPad!$C$3, INT((ROW()-1)/28), MOD(ROW()-1, 28))","v":0}]
[{"$f":"OFFSET(X0withPad!$A$1, INT((ROW()-1)/28), MOD(ROW()-1, 28))","v":57},{"$f":"OFFSET(X0withPad!$B$1, INT((ROW()-1)/28), MOD(ROW()-1, 28))","v":0},{"$f":"OFFSET(X0withPad!$C$1, INT((ROW()-1)/28), MOD(ROW()-1, 28))","v":0},{"$f":"OFFSET(X0withPad!$A$2, INT((ROW()-1)/28), MOD(ROW()-1, 28))","v":0},{"$f":"OFFSET(X0withPad!$B$2, INT((ROW()-1)/28), MOD(ROW()-1, 28))","v":0},{"$f":"OFFSET(X0withPad!$C$2, INT((ROW()-1)/28), MOD(ROW()-1, 28))","v":0},{"$f":"OFFSET(X0withPad!$A$3, INT((ROW()-1)/28), MOD(ROW()-1, 28))","v":0},{"$f":"OFFSET(X0withPad!$B$3, INT((ROW()-1)/28), MOD(ROW()-1, 28))","v":0},{"$f":"OFFSET(X0withPad!$C$3, INT((ROW()-1)/28), MOD(ROW()-1, 28))","v":0}]
[{"$f":"OFFSET(X0withPad!$A$1, INT((ROW()-1)/28), MOD(ROW()-1, 28))","v":0},{"$f":"OFFSET(X0withPad!$B$1, INT((ROW()-1)/28), MOD(ROW()-1, 28))","v":0},{"$f":"OFFSET(X0withPad!$C$1, INT((ROW()-1)/28), MOD(ROW()-1, 28))","v":0},{"$f":"OFFSET(X0withPad!$A$2, INT((ROW()-1)/28), MOD(ROW()-1, 28))","v":0},{"$f":"OFFSET(X0withPad!$B$2, INT((ROW()-1)/28), MOD(ROW()-1, 28))","v":0},{"$f":"OFFSET(X0withPad!$C$2, INT((ROW()-1)/28), MOD(ROW()-1, 28))","v":0},{"$f":"OFFSET(X0withPad!$A$3, INT((ROW()-1)/28), MOD(ROW()-1, 28))","v":0},{"$f":"OFFSET(X0withPad!$B$3, INT((ROW()-1)/28), MOD(ROW()-1, 28))","v":0},{"$f":"OFFSET(X0withPad!$C$3, INT((ROW()-1)/28), MOD(ROW()-1, 28))","v":0}]
[{"$f":"OFFSET(X0withPad!$A$1, INT((ROW()-1)/28), MOD(ROW()-1, 28))","v":0},{"$f":"OFFSET(X0withPad!$B$1, INT((ROW()-1)/28), MOD(ROW()-1, 28))","v":0},{"$f":"OFFSET(X0withPad!$C$1, INT((ROW()-1)/28), MOD(ROW()-1, 28))","v":0},{"$f":"OFFSET(X0withPad!$A$2, INT((ROW()-1)/28), MOD(ROW()-1, 28))","v":0},{"$f":"OFFSET(X0withPad!$B$2, INT((ROW()-1)/28), MOD(ROW()-1, 28))","v":0},{"$f":"OFFSET(X0withPad!$C$2, INT((ROW()-1)/28), MOD(ROW()-1, 28))","v":0},{"$f":"OFFSET(X0withPad!$A$3, INT((ROW()-1)/28), MOD(ROW()-1, 28))","v":0},{"$f":"OFFSET(X0withPad!$B$3, INT((ROW()-1)/28), MOD(ROW()-1, 28))","v":0},{"$f":"OFFSET(X0withPad!$C$3, INT((ROW()-1)/28), MOD(ROW()-1, 28))","v":0}]
[{"$f":"OFFSET(X0withPad!$A$1, INT((ROW()-1)/28), MOD(ROW()-1, 28))","v":0},{"$f":"OFFSET(X0withPad!$B$1, INT((ROW()-1)/28), MOD(ROW()-1, 28))","v":0},{"$f":"OFFSET(X0withPad!$C$1, INT((ROW()-1)/28), MOD(ROW()-1, 28))","v":0},{"$f":"OFFSET(X0withPad!$A$2, INT((ROW()-1)/28), MOD(ROW()-1, 28))","v":0},{"$f":"OFFSET(X0withPad!$B$2, INT((ROW()-1)/28), MOD(ROW()-1, 28))","v":0},{"$f":"OFFSET(X0withPad!$C$2, INT((ROW()-1)/28), MOD(ROW()-1, 28))","v":0},{"$f":"OFFSET(X0withPad!$A$3, INT((ROW()-1)/28), MOD(ROW()-1, 28))","v":0},{"$f":"OFFSET(X0withPad!$B$3, INT((ROW()-1)/28), MOD(ROW()-1, 28))","v":0},{"$f":"OFFSET(X0withPad!$C$3, INT((ROW()-1)/28), MOD(ROW()-1, 28))","v":0}]
[{"$f":"OFFSET(X0withPad!$A$1, INT((ROW()-1)/28), MOD(ROW()-1, 28))","v":0},{"$f":"OFFSET(X0withPad!$B$1, INT((ROW()-1)/28), MOD(ROW()-1, 28))","v":0},{"$f":"OFFSET(X0withPad!$C$1, INT((ROW()-1)/28), MOD(ROW()-1, 28))","v":0},{"$f":"OFFSET(X0withPad!$A$2, INT((ROW()-1)/28), MOD(ROW()-1, 28))","v":0},{"$f":"OFFSET(X0withPad!$B$2, INT((ROW()-1)/28), MOD(ROW()-1, 28))","v":0},{"$f":"OFFSET(X0withPad!$C$2, INT((ROW()-1)/28), MOD(ROW()-1, 28))","v":0},{"$f":"OFFSET(X0withPad!$A$3, INT((ROW()-1)/28), MOD(ROW()-1, 28))","v":0},{"$f":"OFFSET(X0withPad!$B$3, INT((ROW()-1)/28), MOD(ROW()-1, 28))","v":0},{"$f":"OFFSET(X0withPad!$C$3, INT((ROW()-1)/28), MOD(ROW()-1, 28))","v":0}]
[{"$f":"OFFSET(X0withPad!$A$1, INT((ROW()-1)/28), MOD(ROW()-1, 28))","v":0},{"$f":"OFFSET(X0withPad!$B$1, INT((ROW()-1)/28), MOD(ROW()-1, 28))","v":0},{"$f":"OFFSET(X0withPad!$C$1, INT((ROW()-1)/28), MOD(ROW()-1, 28))","v":0},{"$f":"OFFSET(X0withPad!$A$2, INT((ROW()-1)/28), MOD(ROW()-1, 28))","v":0},{"$f":"OFFSET(X0withPad!$B$2, INT((ROW()-1)/28), MOD(ROW()-1, 28))","v":0},{"$f":"OFFSET(X0withPad!$C$2, INT((ROW()-1)/28), MOD(ROW()-1, 28))","v":0},{"$f":"OFFSET(X0withPad!$A$3, INT((ROW()-1)/28), MOD(ROW()-1, 28))","v":0},{"$f":"OFFSET(X0withPad!$B$3, INT((ROW()-1)/28), MOD(ROW()-1, 28))","v":0},{"$f":"OFFSET(X0withPad!$C$3, INT((ROW()-1)/28), MOD(ROW()-1, 28))","v":0}]
[{"$f":"OFFSET(X0withPad!$A$1, INT((ROW()-1)/28), MOD(ROW()-1, 28))","v":0},{"$f":"OFFSET(X0withPad!$B$1, INT((ROW()-1)/28), MOD(ROW()-1, 28))","v":0},{"$f":"OFFSET(X0withPad!$C$1, INT((ROW()-1)/28), MOD(ROW()-1, 28))","v":0},{"$f":"OFFSET(X0withPad!$A$2, INT((ROW()-1)/28), MOD(ROW()-1, 28))","v":0},{"$f":"OFFSET(X0withPad!$B$2, INT((ROW()-1)/28), MOD(ROW()-1, 28))","v":0},{"$f":"OFFSET(X0withPad!$C$2, INT((ROW()-1)/28), MOD(ROW()-1, 28))","v":0},{"$f":"OFFSET(X0withPad!$A$3, INT((ROW()-1)/28), MOD(ROW()-1, 28))","v":0},{"$f":"OFFSET(X0withPad!$B$3, INT((ROW()-1)/28), MOD(ROW()-1, 28))","v":0},{"$f":"OFFSET(X0withPad!$C$3, INT((ROW()-1)/28), MOD(ROW()-1, 28))","v":0}]
[{"$f":"OFFSET(X0withPad!$A$1, INT((ROW()-1)/28), MOD(ROW()-1, 28))","v":0},{"$f":"OFFSET(X0withPad!$B$1, INT((ROW()-1)/28), MOD(ROW()-1, 28))","v":0},{"$f":"OFFSET(X0withPad!$C$1, INT((ROW()-1)/28), MOD(ROW()-1, 28))","v":0},{"$f":"OFFSET(X0withPad!$A$2, INT((ROW()-1)/28), MOD(ROW()-1, 28))","v":0},{"$f":"OFFSET(X0withPad!$B$2, INT((ROW()-1)/28), MOD(ROW()-1, 28))","v":0},{"$f":"OFFSET(X0withPad!$C$2, INT((ROW()-1)/28), MOD(ROW()-1, 28))","v":0},{"$f":"OFFSET(X0withPad!$A$3, INT((ROW()-1)/28), MOD(ROW()-1, 28))","v":0},{"$f":"OFFSET(X0withPad!$B$3, INT((ROW()-1)/28), MOD(ROW()-1, 28))","v":0},{"$f":"OFFSET(X0withPad!$C$3, INT((ROW()-1)/28), MOD(ROW()-1, 28))","v":0}]
[{"$f":"OFFSET(X0withPad!$A$1, INT((ROW()-1)/28), MOD(ROW()-1, 28))","v":0},{"$f":"OFFSET(X0withPad!$B$1, INT((ROW()-1)/28), MOD(ROW()-1, 28))","v":0},{"$f":"OFFSET(X0withPad!$C$1, INT((ROW()-1)/28), MOD(ROW()-1, 28))","v":0},{"$f":"OFFSET(X0withPad!$A$2, INT((ROW()-1)/28), MOD(ROW()-1, 28))","v":0},{"$f":"OFFSET(X0withPad!$B$2, INT((ROW()-1)/28), MOD(ROW()-1, 28))","v":0},{"$f":"OFFSET(X0withPad!$C$2, INT((ROW()-1)/28), MOD(ROW()-1, 28))","v":0},{"$f":"OFFSET(X0withPad!$A$3, INT((ROW()-1)/28), MOD(ROW()-1, 28))","v":0},{"$f":"OFFSET(X0withPad!$B$3, INT((ROW()-1)/28), MOD(ROW()-1, 28))","v":0},{"$f":"OFFSET(X0withPad!$C$3, INT((ROW()-1)/28), MOD(ROW()-1, 28))","v":0}]
[{"$f":"OFFSET(X0withPad!$A$1, INT((ROW()-1)/28), MOD(ROW()-1, 28))","v":0},{"$f":"OFFSET(X0withPad!$B$1, INT((ROW()-1)/28), MOD(ROW()-1, 28))","v":0},{"$f":"OFFSET(X0withPad!$C$1, INT((ROW()-1)/28), MOD(ROW()-1, 28))","v":0},{"$f":"OFFSET(X0withPad!$A$2, INT((ROW()-1)/28), MOD(ROW()-1, 28))","v":0},{"$f":"OFFSET(X0withPad!$B$2, INT((ROW()-1)/28), MOD(ROW()-1, 28))","v":0},{"$f":"OFFSET(X0withPad!$C$2, INT((ROW()-1)/28), MOD(ROW()-1, 28))","v":0},{"$f":"OFFSET(X0withPad!$A$3, INT((ROW()-1)/28), MOD(ROW()-1, 28))","v":0},{"$f":"OFFSET(X0withPad!$B$3, INT((ROW()-1)/28), MOD(ROW()-1, 28))","v":0},{"$f":"OFFSET(X0withPad!$C$3, INT((ROW()-1)/28), MOD(ROW()-1, 28))","v":0}]
[{"$f":"OFFSET(X0withPad!$A$1, INT((ROW()-1)/28), MOD(ROW()-1, 28))","v":0},{"$f":"OFFSET(X0withPad!$B$1, INT((ROW()-1)/28), MOD(ROW()-1, 28))","v":0},{"$f":"OFFSET(X0withPad!$C$1, INT((ROW()-1)/28), MOD(ROW()-1, 28))","v":0},{"$f":"OFFSET(X0withPad!$A$2, INT((ROW()-1)/28), MOD(ROW()-1, 28))","v":0},{"$f":"OFFSET(X0withPad!$B$2, INT((ROW()-1)/28), MOD(ROW()-1, 28))","v":0},{"$f":"OFFSET(X0withPad!$C$2, INT((ROW()-1)/28), MOD(ROW()-1, 28))","v":0},{"$f":"OFFSET(X0withPad!$A$3, INT((ROW()-1)/28), MOD(ROW()-1, 28))","v":0},{"$f":"OFFSET(X0withPad!$B$3, INT((ROW()-1)/28), MOD(ROW()-1, 28))","v":0},{"$f":"OFFSET(X0withPad!$C$3, INT((ROW()-1)/28), MOD(ROW()-1, 28))","v":0}]
[{"$f":"OFFSET(X0withPad!$A$1, INT((ROW()-1)/28), MOD(ROW()-1, 28))","v":0},{"$f":"OFFSET(X0withPad!$B$1, INT((ROW()-1)/28), MOD(ROW()-1, 28))","v":0},{"$f":"OFFSET(X0withPad!$C$1, INT((ROW()-1)/28), MOD(ROW()-1, 28))","v":0},{"$f":"OFFSET(X0withPad!$A$2, INT((ROW()-1)/28), MOD(ROW()-1, 28))","v":0},{"$f":"OFFSET(X0withPad!$B$2, INT((ROW()-1)/28), MOD(ROW()-1, 28))","v":0},{"$f":"OFFSET(X0withPad!$C$2, INT((ROW()-1)/28), MOD(ROW()-1, 28))","v":0},{"$f":"OFFSET(X0withPad!$A$3, INT((ROW()-1)/28), MOD(ROW()-1, 28))","v":0},{"$f":"OFFSET(X0withPad!$B$3, INT((ROW()-1)/28), MOD(ROW()-1, 28))","v":0},{"$f":"OFFSET(X0withPad!$C$3, INT((ROW()-1)/28), MOD(ROW()-1, 28))","v":0}]
[{"$f":"OFFSET(X0withPad!$A$1, INT((ROW()-1)/28), MOD(ROW()-1, 28))","v":0},{"$f":"OFFSET(X0withPad!$B$1, INT((ROW()-1)/28), MOD(ROW()-1, 28))","v":0},{"$f":"OFFSET(X0withPad!$C$1, INT((ROW()-1)/28), MOD(ROW()-1, 28))","v":0},{"$f":"OFFSET(X0withPad!$A$2, INT((ROW()-1)/28), MOD(ROW()-1, 28))","v":0},{"$f":"OFFSET(X0withPad!$B$2, INT((ROW()-1)/28), MOD(ROW()-1, 28))","v":0},{"$f":"OFFSET(X0withPad!$C$2, INT((ROW()-1)/28), MOD(ROW()-1, 28))","v":0},{"$f":"OFFSET(X0withPad!$A$3, INT((ROW()-1)/28), MOD(ROW()-1, 28))","v":0},{"$f":"OFFSET(X0withPad!$B$3, INT((ROW()-1)/28), MOD(ROW()-1, 28))","v":0},{"$f":"OFFSET(X0withPad!$C$3, INT((ROW()-1)/28), MOD(ROW()-1, 28))","v":0}]
[{"$f":"OFFSET(X0withPad!$A$1, INT((ROW()-1)/28), MOD(ROW()-1, 28))","v":0},{"$f":"OFFSET(X0withPad!$B$1, INT((ROW()-1)/28), MOD(ROW()-1, 28))","v":0},{"$f":"OFFSET(X0withPad!$C$1, INT((ROW()-1)/28), MOD(ROW()-1, 28))","v":0},{"$f":"OFFSET(X0withPad!$A$2, INT((ROW()-1)/28), MOD(ROW()-1, 28))","v":0},{"$f":"OFFSET(X0withPad!$B$2, INT((ROW()-1)/28), MOD(ROW()-1, 28))","v":0},{"$f":"OFFSET(X0withPad!$C$2, INT((ROW()-1)/28), MOD(ROW()-1, 28))","v":0},{"$f":"OFFSET(X0withPad!$A$3, INT((ROW()-1)/28), MOD(ROW()-1, 28))","v":0},{"$f":"OFFSET(X0withPad!$B$3, INT((ROW()-1)/28), MOD(ROW()-1, 28))","v":0},{"$f":"OFFSET(X0withPad!$C$3, INT((ROW()-1)/28), MOD(ROW()-1, 28))","v":0}]
[{"$f":"OFFSET(X0withPad!$A$1, INT((ROW()-1)/28), MOD(ROW()-1, 28))","v":0},{"$f":"OFFSET(X0withPad!$B$1, INT((ROW()-1)/28), MOD(ROW()-1, 28))","v":0},{"$f":"OFFSET(X0withPad!$C$1, INT((ROW()-1)/28), MOD(ROW()-1, 28))","v":0},{"$f":"OFFSET(X0withPad!$A$2, INT((ROW()-1)/28), MOD(ROW()-1, 28))","v":0},{"$f":"OFFSET(X0withPad!$B$2, INT((ROW()-1)/28), MOD(ROW()-1, 28))","v":0},{"$f":"OFFSET(X0withPad!$C$2, INT((ROW()-1)/28), MOD(ROW()-1, 28))","v":0},{"$f":"OFFSET(X0withPad!$A$3, INT((ROW()-1)/28), MOD(ROW()-1, 28))","v":0},{"$f":"OFFSET(X0withPad!$B$3, INT((ROW()-1)/28), MOD(ROW()-1, 28))","v":0},{"$f":"OFFSET(X0withPad!$C$3, INT((ROW()-1)/28), MOD(ROW()-1, 28))","v":0}]
[{"$f":"OFFSET(X0withPad!$A$1, INT((ROW()-1)/28), MOD(ROW()-1, 28))","v":0},{"$f":"OFFSET(X0withPad!$B$1, INT((ROW()-1)/28), MOD(ROW()-1, 28))","v":0},{"$f":"OFFSET(X0withPad!$C$1, INT((ROW()-1)/28), MOD(ROW()-1, 28))","v":0},{"$f":"OFFSET(X0withPad!$A$2, INT((ROW()-1)/28), MOD(ROW()-1, 28))","v":0},{"$f":"OFFSET(X0withPad!$B$2, INT((ROW()-1)/28), MOD(ROW()-1, 28))","v":0},{"$f":"OFFSET(X0withPad!$C$2, INT((ROW()-1)/28), MOD(ROW()-1, 28))","v":0},{"$f":"OFFSET(X0withPad!$A$3, INT((ROW()-1)/28), MOD(ROW()-1, 28))","v":0},{"$f":"OFFSET(X0withPad!$B$3, INT((ROW()-1)/28), MOD(ROW()-1, 28))","v":0},{"$f":"OFFSET(X0withPad!$C$3, INT((ROW()-1)/28), MOD(ROW()-1, 28))","v":0}]
[{"$f":"OFFSET(X0withPad!$A$1, INT((ROW()-1)/28), MOD(ROW()-1, 28))","v":0},{"$f":"OFFSET(X0withPad!$B$1, INT((ROW()-1)/28), MOD(ROW()-1, 28))","v":0},{"$f":"OFFSET(X0withPad!$C$1, INT((ROW()-1)/28), MOD(ROW()-1, 28))","v":0},{"$f":"OFFSET(X0withPad!$A$2, INT((ROW()-1)/28), MOD(ROW()-1, 28))","v":0},{"$f":"OFFSET(X0withPad!$B$2, INT((ROW()-1)/28), MOD(ROW()-1, 28))","v":0},{"$f":"OFFSET(X0withPad!$C$2, INT((ROW()-1)/28), MOD(ROW()-1, 28))","v":0},{"$f":"OFFSET(X0withPad!$A$3, INT((ROW()-1)/28), MOD(ROW()-1, 28))","v":0},{"$f":"OFFSET(X0withPad!$B$3, INT((ROW()-1)/28), MOD(ROW()-1, 28))","v":0},{"$f":"OFFSET(X0withPad!$C$3, INT((ROW()-1)/28), MOD(ROW()-1, 28))","v":0}]
[{"$f":"OFFSET(X0withPad!$A$1, INT((ROW()-1)/28), MOD(ROW()-1, 28))","v":0},{"$f":"OFFSET(X0withPad!$B$1, INT((ROW()-1)/28), MOD(ROW()-1, 28))","v":0},{"$f":"OFFSET(X0withPad!$C$1, INT((ROW()-1)/28), MOD(ROW()-1, 28))","v":0},{"$f":"OFFSET(X0withPad!$A$2, INT((ROW()-1)/28), MOD(ROW()-1, 28))","v":0},{"$f":"OFFSET(X0withPad!$B$2, INT((ROW()-1)/28), MOD(ROW()-1, 28))","v":0},{"$f":"OFFSET(X0withPad!$C$2, INT((ROW()-1)/28), MOD(ROW()-1, 28))","v":0},{"$f":"OFFSET(X0withPad!$A$3, INT((ROW()-1)/28), MOD(ROW()-1, 28))","v":0},{"$f":"OFFSET(X0withPad!$B$3, INT((ROW()-1)/28), MOD(ROW()-1, 28))","v":0},{"$f":"OFFSET(X0withPad!$C$3, INT((ROW()-1)/28), MOD(ROW()-1, 28))","v":0}]
[{"$f":"OFFSET(X0withPad!$A$1, INT((ROW()-1)/28), MOD(ROW()-1, 28))","v":0},{"$f":"OFFSET(X0withPad!$B$1, INT((ROW()-1)/28), MOD(ROW()-1, 28))","v":0},{"$f":"OFFSET(X0withPad!$C$1, INT((ROW()-1)/28), MOD(ROW()-1, 28))","v":0},{"$f":"OFFSET(X0withPad!$A$2, INT((ROW()-1)/28), MOD(ROW()-1, 28))","v":0},{"$f":"OFFSET(X0withPad!$B$2, INT((ROW()-1)/28), MOD(ROW()-1, 28))","v":0},{"$f":"OFFSET(X0withPad!$C$2, INT((ROW()-1)/28), MOD(ROW()-1, 28))","v":0},{"$f":"OFFSET(X0withPad!$A$3, INT((ROW()-1)/28), MOD(ROW()-1, 28))","v":0},{"$f":"OFFSET(X0withPad!$B$3, INT((ROW()-1)/28), MOD(ROW()-1, 28))","v":0},{"$f":"OFFSET(X0withPad!$C$3, INT((ROW()-1)/28), MOD(ROW()-1, 28))","v":0}]
[{"$f":"OFFSET(X0withPad!$A$1, INT((ROW()-1)/28), MOD(ROW()-1, 28))","v":0},{"$f":"OFFSET(X0withPad!$B$1, INT((ROW()-1)/28), MOD(ROW()-1, 28))","v":0},{"$f":"OFFSET(X0withPad!$C$1, INT((ROW()-1)/28), MOD(ROW()-1, 28))","v":0},{"$f":"OFFSET(X0withPad!$A$2, INT((ROW()-1)/28), MOD(ROW()-1, 28))","v":0},{"$f":"OFFSET(X0withPad!$B$2, INT((ROW()-1)/28), MOD(ROW()-1, 28))","v":0},{"$f":"OFFSET(X0withPad!$C$2, INT((ROW()-1)/28), MOD(ROW()-1, 28))","v":0},{"$f":"OFFSET(X0withPad!$A$3, INT((ROW()-1)/28), MOD(ROW()-1, 28))","v":0},{"$f":"OFFSET(X0withPad!$B$3, INT((ROW()-1)/28), MOD(ROW()-1, 28))","v":0},{"$f":"OFFSET(X0withPad!$C$3, INT((ROW()-1)/28), MOD(ROW()-1, 28))","v":0}]
[{"$f":"OFFSET(X0withPad!$A$1, INT((ROW()-1)/28), MOD(ROW()-1, 28))","v":0},{"$f":"OFFSET(X0withPad!$B$1, INT((ROW()-1)/28), MOD(ROW()-1, 28))","v":0},{"$f":"OFFSET(X0withPad!$C$1, INT((ROW()-1)/28), MOD(ROW()-1, 28))","v":0},{"$f":"OFFSET(X0withPad!$A$2, INT((ROW()-1)/28), MOD(ROW()-1, 28))","v":0},{"$f":"OFFSET(X0withPad!$B$2, INT((ROW()-1)/28), MOD(ROW()-1, 28))","v":0},{"$f":"OFFSET(X0withPad!$C$2, INT((ROW()-1)/28), MOD(ROW()-1, 28))","v":0},{"$f":"OFFSET(X0withPad!$A$3, INT((ROW()-1)/28), MOD(ROW()-1, 28))","v":0},{"$f":"OFFSET(X0withPad!$B$3, INT((ROW()-1)/28), MOD(ROW()-1, 28))","v":0},{"$f":"OFFSET(X0withPad!$C$3, INT((ROW()-1)/28), MOD(ROW()-1, 28))","v":0}]
[{"$f":"OFFSET(X0withPad!$A$1, INT((ROW()-1)/28), MOD(ROW()-1, 28))","v":0},{"$f":"OFFSET(X0withPad!$B$1, INT((ROW()-1)/28), MOD(ROW()-1, 28))","v":0},{"$f":"OFFSET(X0withPad!$C$1, INT((ROW()-1)/28), MOD(ROW()-1, 28))","v":0},{"$f":"OFFSET(X0withPad!$A$2, INT((ROW()-1)/28), MOD(ROW()-1, 28))","v":0},{"$f":"OFFSET(X0withPad!$B$2, INT((ROW()-1)/28), MOD(ROW()-1, 28))","v":0},{"$f":"OFFSET(X0withPad!$C$2, INT((ROW()-1)/28), MOD(ROW()-1, 28))","v":3},{"$f":"OFFSET(X0withPad!$A$3, INT((ROW()-1)/28), MOD(ROW()-1, 28))","v":0},{"$f":"OFFSET(X0withPad!$B$3, INT((ROW()-1)/28), MOD(ROW()-1, 28))","v":0},{"$f":"OFFSET(X0withPad!$C$3, INT((ROW()-1)/28), MOD(ROW()-1, 28))","v":38}]
[{"$f":"OFFSET(X0withPad!$A$1, INT((ROW()-1)/28), MOD(ROW()-1, 28))","v":0},{"$f":"OFFSET(X0withPad!$B$1, INT((ROW()-1)/28), MOD(ROW()-1, 28))","v":0},{"$f":"OFFSET(X0withPad!$C$1, INT((ROW()-1)/28), MOD(ROW()-1, 28))","v":19},{"$f":"OFFSET(X0withPad!$A$2, INT((ROW()-1)/28), MOD(ROW()-1, 28))","v":0},{"$f":"OFFSET(X0withPad!$B$2, INT((ROW()-1)/28), MOD(ROW()-1, 28))","v":3},{"$f":"OFFSET(X0withPad!$C$2, INT((ROW()-1)/28), MOD(ROW()-1, 28))","v":203},{"$f":"OFFSET(X0withPad!$A$3, INT((ROW()-1)/28), MOD(ROW()-1, 28))","v":0},{"$f":"OFFSET(X0withPad!$B$3, INT((ROW()-1)/28), MOD(ROW()-1, 28))","v":38},{"$f":"OFFSET(X0withPad!$C$3, INT((ROW()-1)/28), MOD(ROW()-1, 28))","v":254}]
[{"$f":"OFFSET(X0withPad!$A$1, INT((ROW()-1)/28), MOD(ROW()-1, 28))","v":0},{"$f":"OFFSET(X0withPad!$B$1, INT((ROW()-1)/28), MOD(ROW()-1, 28))","v":19},{"$f":"OFFSET(X0withPad!$C$1, INT((ROW()-1)/28), MOD(ROW()-1, 28))","v":221},{"$f":"OFFSET(X0withPad!$A$2, INT((ROW()-1)/28), MOD(ROW()-1, 28))","v":3},{"$f":"OFFSET(X0withPad!$B$2, INT((ROW()-1)/28), MOD(ROW()-1, 28))","v":203},{"$f":"OFFSET(X0withPad!$C$2, INT((ROW()-1)/28), MOD(ROW()-1, 28))","v":254},{"$f":"OFFSET(X0withPad!$A$3, INT((ROW()-1)/28), MOD(ROW()-1, 28))","v":38},{"$f":"OFFSET(X0withPad!$B$3, INT((ROW()-1)/28), MOD(ROW()-1, 28))","v":254},{"$f":"OFFSET(X0withPad!$C$3, INT((ROW()-1)/28), MOD(ROW()-1, 28))","v":254}]
[{"$f":"OFFSET(X0withPad!$A$1, INT((ROW()-1)/28), MOD(ROW()-1, 28))","v":19},{"$f":"OFFSET(X0withPad!$B$1, INT((ROW()-1)/28), MOD(ROW()-1, 28))","v":221},{"$f":"OFFSET(X0withPad!$C$1, INT((ROW()-1)/28), MOD(ROW()-1, 28))","v":254},{"$f":"OFFSET(X0withPad!$A$2, INT((ROW()-1)/28), MOD(ROW()-1, 28))","v":203},{"$f":"OFFSET(X0withPad!$B$2, INT((ROW()-1)/28), MOD(ROW()-1, 28))","v":254},{"$f":"OFFSET(X0withPad!$C$2, INT((ROW()-1)/28), MOD(ROW()-1, 28))","v":219},{"$f":"OFFSET(X0withPad!$A$3, INT((ROW()-1)/28), MOD(ROW()-1, 28))","v":254},{"$f":"OFFSET(X0withPad!$B$3, INT((ROW()-1)/28), MOD(ROW()-1, 28))","v":254},{"$f":"OFFSET(X0withPad!$C$3, INT((ROW()-1)/28), MOD(ROW()-1, 28))","v":77}]
[{"$f":"OFFSET(X0withPad!$A$1, INT((ROW()-1)/28), MOD(ROW()-1, 28))","v":221},{"$f":"OFFSET(X0withPad!$B$1, INT((ROW()-1)/28), MOD(ROW()-1, 28))","v":254},{"$f":"OFFSET(X0withPad!$C$1, INT((ROW()-1)/28), MOD(ROW()-1, 28))","v":166},{"$f":"OFFSET(X0withPad!$A$2, INT((ROW()-1)/28), MOD(ROW()-1, 28))","v":254},{"$f":"OFFSET(X0withPad!$B$2, INT((ROW()-1)/28), MOD(ROW()-1, 28))","v":219},{"$f":"OFFSET(X0withPad!$C$2, INT((ROW()-1)/28), MOD(ROW()-1, 28))","v":35},{"$f":"OFFSET(X0withPad!$A$3, INT((ROW()-1)/28), MOD(ROW()-1, 28))","v":254},{"$f":"OFFSET(X0withPad!$B$3, INT((ROW()-1)/28), MOD(ROW()-1, 28))","v":77},{"$f":"OFFSET(X0withPad!$C$3, INT((ROW()-1)/28), MOD(ROW()-1, 28))","v":0}]
[{"$f":"OFFSET(X0withPad!$A$1, INT((ROW()-1)/28), MOD(ROW()-1, 28))","v":254},{"$f":"OFFSET(X0withPad!$B$1, INT((ROW()-1)/28), MOD(ROW()-1, 28))","v":166},{"$f":"OFFSET(X0withPad!$C$1, INT((ROW()-1)/28), MOD(ROW()-1, 28))","v":0},{"$f":"OFFSET(X0withPad!$A$2, INT((ROW()-1)/28), MOD(ROW()-1, 28))","v":219},{"$f":"OFFSET(X0withPad!$B$2, INT((ROW()-1)/28), MOD(ROW()-1, 28))","v":35},{"$f":"OFFSET(X0withPad!$C$2, INT((ROW()-1)/28), MOD(ROW()-1, 28))","v":0},{"$f":"OFFSET(X0withPad!$A$3, INT((ROW()-1)/28), MOD(ROW()-1, 28))","v":77},{"$f":"OFFSET(X0withPad!$B$3, INT((ROW()-1)/28), MOD(ROW()-1, 28))","v":0},{"$f":"OFFSET(X0withPad!$C$3, INT((ROW()-1)/28), MOD(ROW()-1, 28))","v":0}]
[{"$f":"OFFSET(X0withPad!$A$1, INT((ROW()-1)/28), MOD(ROW()-1, 28))","v":166},{"$f":"OFFSET(X0withPad!$B$1, INT((ROW()-1)/28), MOD(ROW()-1, 28))","v":0},{"$f":"OFFSET(X0withPad!$C$1, INT((ROW()-1)/28), MOD(ROW()-1, 28))","v":0},{"$f":"OFFSET(X0withPad!$A$2, INT((ROW()-1)/28), MOD(ROW()-1, 28))","v":35},{"$f":"OFFSET(X0withPad!$B$2, INT((ROW()-1)/28), MOD(ROW()-1, 28))","v":0},{"$f":"OFFSET(X0withPad!$C$2, INT((ROW()-1)/28), MOD(ROW()-1, 28))","v":0},{"$f":"OFFSET(X0withPad!$A$3, INT((ROW()-1)/28), MOD(ROW()-1, 28))","v":0},{"$f":"OFFSET(X0withPad!$B$3, INT((ROW()-1)/28), MOD(ROW()-1, 28))","v":0},{"$f":"OFFSET(X0withPad!$C$3, INT((ROW()-1)/28), MOD(ROW()-1, 28))","v":0}]
[{"$f":"OFFSET(X0withPad!$A$1, INT((ROW()-1)/28), MOD(ROW()-1, 28))","v":0},{"$f":"OFFSET(X0withPad!$B$1, INT((ROW()-1)/28), MOD(ROW()-1, 28))","v":0},{"$f":"OFFSET(X0withPad!$C$1, INT((ROW()-1)/28), MOD(ROW()-1, 28))","v":0},{"$f":"OFFSET(X0withPad!$A$2, INT((ROW()-1)/28), MOD(ROW()-1, 28))","v":0},{"$f":"OFFSET(X0withPad!$B$2, INT((ROW()-1)/28), MOD(ROW()-1, 28))","v":0},{"$f":"OFFSET(X0withPad!$C$2, INT((ROW()-1)/28), MOD(ROW()-1, 28))","v":0},{"$f":"OFFSET(X0withPad!$A$3, INT((ROW()-1)/28), MOD(ROW()-1, 28))","v":0},{"$f":"OFFSET(X0withPad!$B$3, INT((ROW()-1)/28), MOD(ROW()-1, 28))","v":0},{"$f":"OFFSET(X0withPad!$C$3, INT((ROW()-1)/28), MOD(ROW()-1, 28))","v":0}]
[{"$f":"OFFSET(X0withPad!$A$1, INT((ROW()-1)/28), MOD(ROW()-1, 28))","v":0},{"$f":"OFFSET(X0withPad!$B$1, INT((ROW()-1)/28), MOD(ROW()-1, 28))","v":0},{"$f":"OFFSET(X0withPad!$C$1, INT((ROW()-1)/28), MOD(ROW()-1, 28))","v":0},{"$f":"OFFSET(X0withPad!$A$2, INT((ROW()-1)/28), MOD(ROW()-1, 28))","v":0},{"$f":"OFFSET(X0withPad!$B$2, INT((ROW()-1)/28), MOD(ROW()-1, 28))","v":0},{"$f":"OFFSET(X0withPad!$C$2, INT((ROW()-1)/28), MOD(ROW()-1, 28))","v":0},{"$f":"OFFSET(X0withPad!$A$3, INT((ROW()-1)/28), MOD(ROW()-1, 28))","v":0},{"$f":"OFFSET(X0withPad!$B$3, INT((ROW()-1)/28), MOD(ROW()-1, 28))","v":0},{"$f":"OFFSET(X0withPad!$C$3, INT((ROW()-1)/28), MOD(ROW()-1, 28))","v":0}]
[{"$f":"OFFSET(X0withPad!$A$1, INT((ROW()-1)/28), MOD(ROW()-1, 28))","v":0},{"$f":"OFFSET(X0withPad!$B$1, INT((ROW()-1)/28), MOD(ROW()-1, 28))","v":0},{"$f":"OFFSET(X0withPad!$C$1, INT((ROW()-1)/28), MOD(ROW()-1, 28))","v":0},{"$f":"OFFSET(X0withPad!$A$2, INT((ROW()-1)/28), MOD(ROW()-1, 28))","v":0},{"$f":"OFFSET(X0withPad!$B$2, INT((ROW()-1)/28), MOD(ROW()-1, 28))","v":0},{"$f":"OFFSET(X0withPad!$C$2, INT((ROW()-1)/28), MOD(ROW()-1, 28))","v":0},{"$f":"OFFSET(X0withPad!$A$3, INT((ROW()-1)/28), MOD(ROW()-1, 28))","v":0},{"$f":"OFFSET(X0withPad!$B$3, INT((ROW()-1)/28), MOD(ROW()-1, 28))","v":0},{"$f":"OFFSET(X0withPad!$C$3, INT((ROW()-1)/28), MOD(ROW()-1, 28))","v":0}]
[{"$f":"OFFSET(X0withPad!$A$1, INT((ROW()-1)/28), MOD(ROW()-1, 28))","v":0},{"$f":"OFFSET(X0withPad!$B$1, INT((ROW()-1)/28), MOD(ROW()-1, 28))","v":0},{"$f":"OFFSET(X0withPad!$C$1, INT((ROW()-1)/28), MOD(ROW()-1, 28))","v":0},{"$f":"OFFSET(X0withPad!$A$2, INT((ROW()-1)/28), MOD(ROW()-1, 28))","v":0},{"$f":"OFFSET(X0withPad!$B$2, INT((ROW()-1)/28), MOD(ROW()-1, 28))","v":0},{"$f":"OFFSET(X0withPad!$C$2, INT((ROW()-1)/28), MOD(ROW()-1, 28))","v":0},{"$f":"OFFSET(X0withPad!$A$3, INT((ROW()-1)/28), MOD(ROW()-1, 28))","v":0},{"$f":"OFFSET(X0withPad!$B$3, INT((ROW()-1)/28), MOD(ROW()-1, 28))","v":0},{"$f":"OFFSET(X0withPad!$C$3, INT((ROW()-1)/28), MOD(ROW()-1, 28))","v":0}]
[{"$f":"OFFSET(X0withPad!$A$1, INT((ROW()-1)/28), MOD(ROW()-1, 28))","v":0},{"$f":"OFFSET(X0withPad!$B$1, INT((ROW()-1)/28), MOD(ROW()-1, 28))","v":0},{"$f":"OFFSET(X0withPad!$C$1, INT((ROW()-1)/28), MOD(ROW()-1, 28))","v":0},{"$f":"OFFSET(X0withPad!$A$2, INT((ROW()-1)/28), MOD(ROW()-1, 28))","v":0},{"$f":"OFFSET(X0withPad!$B$2, INT((ROW()-1)/28), MOD(ROW()-1, 28))","v":0},{"$f":"OFFSET(X0withPad!$C$2, INT((ROW()-1)/28), MOD(ROW()-1, 28))","v":0},{"$f":"OFFSET(X0withPad!$A$3, INT((ROW()-1)/28), MOD(ROW()-1, 28))","v":0},{"$f":"OFFSET(X0withPad!$B$3, INT((ROW()-1)/28), MOD(ROW()-1, 28))","v":0},{"$f":"OFFSET(X0withPad!$C$3, INT((ROW()-1)/28), MOD(ROW()-1, 28))","v":0}]
[{"$f":"OFFSET(X0withPad!$A$1, INT((ROW()-1)/28), MOD(ROW()-1, 28))","v":0},{"$f":"OFFSET(X0withPad!$B$1, INT((ROW()-1)/28), MOD(ROW()-1, 28))","v":0},{"$f":"OFFSET(X0withPad!$C$1, INT((ROW()-1)/28), MOD(ROW()-1, 28))","v":0},{"$f":"OFFSET(X0withPad!$A$2, INT((ROW()-1)/28), MOD(ROW()-1, 28))","v":0},{"$f":"OFFSET(X0withPad!$B$2, INT((ROW()-1)/28), MOD(ROW()-1, 28))","v":0},{"$f":"OFFSET(X0withPad!$C$2, INT((ROW()-1)/28), MOD(ROW()-1, 28))","v":0},{"$f":"OFFSET(X0withPad!$A$3, INT((ROW()-1)/28), MOD(ROW()-1, 28))","v":0},{"$f":"OFFSET(X0withPad!$B$3, INT((ROW()-1)/28), MOD(ROW()-1, 28))","v":0},{"$f":"OFFSET(X0withPad!$C$3, INT((ROW()-1)/28), MOD(ROW()-1, 28))","v":0}]
[{"$f":"OFFSET(X0withPad!$A$1, INT((ROW()-1)/28), MOD(ROW()-1, 28))","v":0},{"$f":"OFFSET(X0withPad!$B$1, INT((ROW()-1)/28), MOD(ROW()-1, 28))","v":0},{"$f":"OFFSET(X0withPad!$C$1, INT((ROW()-1)/28), MOD(ROW()-1, 28))","v":0},{"$f":"OFFSET(X0withPad!$A$2, INT((ROW()-1)/28), MOD(ROW()-1, 28))","v":0},{"$f":"OFFSET(X0withPad!$B$2, INT((ROW()-1)/28), MOD(ROW()-1, 28))","v":0},{"$f":"OFFSET(X0withPad!$C$2, INT((ROW()-1)/28), MOD(ROW()-1, 28))","v":0},{"$f":"OFFSET(X0withPad!$A$3, INT((ROW()-1)/28), MOD(ROW()-1, 28))","v":0},{"$f":"OFFSET(X0withPad!$B$3, INT((ROW()-1)/28), MOD(ROW()-1, 28))","v":0},{"$f":"OFFSET(X0withPad!$C$3, INT((ROW()-1)/28), MOD(ROW()-1, 28))","v":0}]
[{"$f":"OFFSET(X0withPad!$A$1, INT((ROW()-1)/28), MOD(ROW()-1, 28))","v":0},{"$f":"OFFSET(X0withPad!$B$1, INT((ROW()-1)/28), MOD(ROW()-1, 28))","v":0},{"$f":"OFFSET(X0withPad!$C$1, INT((ROW()-1)/28), MOD(ROW()-1, 28))","v":0},{"$f":"OFFSET(X0withPad!$A$2, INT((ROW()-1)/28), MOD(ROW()-1, 28))","v":0},{"$f":"OFFSET(X0withPad!$B$2, INT((ROW()-1)/28), MOD(ROW()-1, 28))","v":0},{"$f":"OFFSET(X0withPad!$C$2, INT((ROW()-1)/28), MOD(ROW()-1, 28))","v":0},{"$f":"OFFSET(X0withPad!$A$3, INT((ROW()-1)/28), MOD(ROW()-1, 28))","v":0},{"$f":"OFFSET(X0withPad!$B$3, INT((ROW()-1)/28), MOD(ROW()-1, 28))","v":0},{"$f":"OFFSET(X0withPad!$C$3, INT((ROW()-1)/28), MOD(ROW()-1, 28))","v":0}]
[{"$f":"OFFSET(X0withPad!$A$1, INT((ROW()-1)/28), MOD(ROW()-1, 28))","v":0},{"$f":"OFFSET(X0withPad!$B$1, INT((ROW()-1)/28), MOD(ROW()-1, 28))","v":0},{"$f":"OFFSET(X0withPad!$C$1, INT((ROW()-1)/28), MOD(ROW()-1, 28))","v":0},{"$f":"OFFSET(X0withPad!$A$2, INT((ROW()-1)/28), MOD(ROW()-1, 28))","v":0},{"$f":"OFFSET(X0withPad!$B$2, INT((ROW()-1)/28), MOD(ROW()-1, 28))","v":0},{"$f":"OFFSET(X0withPad!$C$2, INT((ROW()-1)/28), MOD(ROW()-1, 28))","v":0},{"$f":"OFFSET(X0withPad!$A$3, INT((ROW()-1)/28), MOD(ROW()-1, 28))","v":0},{"$f":"OFFSET(X0withPad!$B$3, INT((ROW()-1)/28), MOD(ROW()-1, 28))","v":0},{"$f":"OFFSET(X0withPad!$C$3, INT((ROW()-1)/28), MOD(ROW()-1, 28))","v":0}]
[{"$f":"OFFSET(X0withPad!$A$1, INT((ROW()-1)/28), MOD(ROW()-1, 28))","v":0},{"$f":"OFFSET(X0withPad!$B$1, INT((ROW()-1)/28), MOD(ROW()-1, 28))","v":0},{"$f":"OFFSET(X0withPad!$C$1, INT((ROW()-1)/28), MOD(ROW()-1, 28))","v":0},{"$f":"OFFSET(X0withPad!$A$2, INT((ROW()-1)/28), MOD(ROW()-1, 28))","v":0},{"$f":"OFFSET(X0withPad!$B$2, INT((ROW()-1)/28), MOD(ROW()-1, 28))","v":0},{"$f":"OFFSET(X0withPad!$C$2, INT((ROW()-1)/28), MOD(ROW()-1, 28))","v":0},{"$f":"OFFSET(X0withPad!$A$3, INT((ROW()-1)/28), MOD(ROW()-1, 28))","v":0},{"$f":"OFFSET(X0withPad!$B$3, INT((ROW()-1)/28), MOD(ROW()-1, 28))","v":0},{"$f":"OFFSET(X0withPad!$C$3, INT((ROW()-1)/28), MOD(ROW()-1, 28))","v":0}]
[{"$f":"OFFSET(X0withPad!$A$1, INT((ROW()-1)/28), MOD(ROW()-1, 28))","v":0},{"$f":"OFFSET(X0withPad!$B$1, INT((ROW()-1)/28), MOD(ROW()-1, 28))","v":0},{"$f":"OFFSET(X0withPad!$C$1, INT((ROW()-1)/28), MOD(ROW()-1, 28))","v":0},{"$f":"OFFSET(X0withPad!$A$2, INT((ROW()-1)/28), MOD(ROW()-1, 28))","v":0},{"$f":"OFFSET(X0withPad!$B$2, INT((ROW()-1)/28), MOD(ROW()-1, 28))","v":0},{"$f":"OFFSET(X0withPad!$C$2, INT((ROW()-1)/28), MOD(ROW()-1, 28))","v":0},{"$f":"OFFSET(X0withPad!$A$3, INT((ROW()-1)/28), MOD(ROW()-1, 28))","v":0},{"$f":"OFFSET(X0withPad!$B$3, INT((ROW()-1)/28), MOD(ROW()-1, 28))","v":0},{"$f":"OFFSET(X0withPad!$C$3, INT((ROW()-1)/28), MOD(ROW()-1, 28))","v":0}]
[{"$f":"OFFSET(X0withPad!$A$1, INT((ROW()-1)/28), MOD(ROW()-1, 28))","v":0},{"$f":"OFFSET(X0withPad!$B$1, INT((ROW()-1)/28), MOD(ROW()-1, 28))","v":0},{"$f":"OFFSET(X0withPad!$C$1, INT((ROW()-1)/28), MOD(ROW()-1, 28))","v":0},{"$f":"OFFSET(X0withPad!$A$2, INT((ROW()-1)/28), MOD(ROW()-1, 28))","v":0},{"$f":"OFFSET(X0withPad!$B$2, INT((ROW()-1)/28), MOD(ROW()-1, 28))","v":0},{"$f":"OFFSET(X0withPad!$C$2, INT((ROW()-1)/28), MOD(ROW()-1, 28))","v":0},{"$f":"OFFSET(X0withPad!$A$3, INT((ROW()-1)/28), MOD(ROW()-1, 28))","v":0},{"$f":"OFFSET(X0withPad!$B$3, INT((ROW()-1)/28), MOD(ROW()-1, 28))","v":0},{"$f":"OFFSET(X0withPad!$C$3, INT((ROW()-1)/28), MOD(ROW()-1, 28))","v":0}]
[{"$f":"OFFSET(X0withPad!$A$1, INT((ROW()-1)/28), MOD(ROW()-1, 28))","v":0},{"$f":"OFFSET(X0withPad!$B$1, INT((ROW()-1)/28), MOD(ROW()-1, 28))","v":0},{"$f":"OFFSET(X0withPad!$C$1, INT((ROW()-1)/28), MOD(ROW()-1, 28))","v":0},{"$f":"OFFSET(X0withPad!$A$2, INT((ROW()-1)/28), MOD(ROW()-1, 28))","v":0},{"$f":"OFFSET(X0withPad!$B$2, INT((ROW()-1)/28), MOD(ROW()-1, 28))","v":0},{"$f":"OFFSET(X0withPad!$C$2, INT((ROW()-1)/28), MOD(ROW()-1, 28))","v":0},{"$f":"OFFSET(X0withPad!$A$3, INT((ROW()-1)/28), MOD(ROW()-1, 28))","v":0},{"$f":"OFFSET(X0withPad!$B$3, INT((ROW()-1)/28), MOD(ROW()-1, 28))","v":0},{"$f":"OFFSET(X0withPad!$C$3, INT((ROW()-1)/28), MOD(ROW()-1, 28))","v":0}]
[{"$f":"OFFSET(X0withPad!$A$1, INT((ROW()-1)/28), MOD(ROW()-1, 28))","v":0},{"$f":"OFFSET(X0withPad!$B$1, INT((ROW()-1)/28), MOD(ROW()-1, 28))","v":0},{"$f":"OFFSET(X0withPad!$C$1, INT((ROW()-1)/28), MOD(ROW()-1, 28))","v":0},{"$f":"OFFSET(X0withPad!$A$2, INT((ROW()-1)/28), MOD(ROW()-1, 28))","v":0},{"$f":"OFFSET(X0withPad!$B$2, INT((ROW()-1)/28), MOD(ROW()-1, 28))","v":0},{"$f":"OFFSET(X0withPad!$C$2, INT((ROW()-1)/28), MOD(ROW()-1, 28))","v":0},{"$f":"OFFSET(X0withPad!$A$3, INT((ROW()-1)/28), MOD(ROW()-1, 28))","v":0},{"$f":"OFFSET(X0withPad!$B$3, INT((ROW()-1)/28), MOD(ROW()-1, 28))","v":0},{"$f":"OFFSET(X0withPad!$C$3, INT((ROW()-1)/28), MOD(ROW()-1, 28))","v":0}]
[{"$f":"OFFSET(X0withPad!$A$1, INT((ROW()-1)/28), MOD(ROW()-1, 28))","v":0},{"$f":"OFFSET(X0withPad!$B$1, INT((ROW()-1)/28), MOD(ROW()-1, 28))","v":0},{"$f":"OFFSET(X0withPad!$C$1, INT((ROW()-1)/28), MOD(ROW()-1, 28))","v":0},{"$f":"OFFSET(X0withPad!$A$2, INT((ROW()-1)/28), MOD(ROW()-1, 28))","v":0},{"$f":"OFFSET(X0withPad!$B$2, INT((ROW()-1)/28), MOD(ROW()-1, 28))","v":0},{"$f":"OFFSET(X0withPad!$C$2, INT((ROW()-1)/28), MOD(ROW()-1, 28))","v":0},{"$f":"OFFSET(X0withPad!$A$3, INT((ROW()-1)/28), MOD(ROW()-1, 28))","v":0},{"$f":"OFFSET(X0withPad!$B$3, INT((ROW()-1)/28), MOD(ROW()-1, 28))","v":0},{"$f":"OFFSET(X0withPad!$C$3, INT((ROW()-1)/28), MOD(ROW()-1, 28))","v":0}]
[{"$f":"OFFSET(X0withPad!$A$1, INT((ROW()-1)/28), MOD(ROW()-1, 28))","v":0},{"$f":"OFFSET(X0withPad!$B$1, INT((ROW()-1)/28), MOD(ROW()-1, 28))","v":0},{"$f":"OFFSET(X0withPad!$C$1, INT((ROW()-1)/28), MOD(ROW()-1, 28))","v":0},{"$f":"OFFSET(X0withPad!$A$2, INT((ROW()-1)/28), MOD(ROW()-1, 28))","v":0},{"$f":"OFFSET(X0withPad!$B$2, INT((ROW()-1)/28), MOD(ROW()-1, 28))","v":0},{"$f":"OFFSET(X0withPad!$C$2, INT((ROW()-1)/28), MOD(ROW()-1, 28))","v":0},{"$f":"OFFSET(X0withPad!$A$3, INT((ROW()-1)/28), MOD(ROW()-1, 28))","v":0},{"$f":"OFFSET(X0withPad!$B$3, INT((ROW()-1)/28), MOD(ROW()-1, 28))","v":0},{"$f":"OFFSET(X0withPad!$C$3, INT((ROW()-1)/28), MOD(ROW()-1, 28))","v":0}]
[{"$f":"OFFSET(X0withPad!$A$1, INT((ROW()-1)/28), MOD(ROW()-1, 28))","v":0},{"$f":"OFFSET(X0withPad!$B$1, INT((ROW()-1)/28), MOD(ROW()-1, 28))","v":0},{"$f":"OFFSET(X0withPad!$C$1, INT((ROW()-1)/28), MOD(ROW()-1, 28))","v":0},{"$f":"OFFSET(X0withPad!$A$2, INT((ROW()-1)/28), MOD(ROW()-1, 28))","v":0},{"$f":"OFFSET(X0withPad!$B$2, INT((ROW()-1)/28), MOD(ROW()-1, 28))","v":0},{"$f":"OFFSET(X0withPad!$C$2, INT((ROW()-1)/28), MOD(ROW()-1, 28))","v":0},{"$f":"OFFSET(X0withPad!$A$3, INT((ROW()-1)/28), MOD(ROW()-1, 28))","v":0},{"$f":"OFFSET(X0withPad!$B$3, INT((ROW()-1)/28), MOD(ROW()-1, 28))","v":0},{"$f":"OFFSET(X0withPad!$C$3, INT((ROW()-1)/28), MOD(ROW()-1, 28))","v":0}]
[{"$f":"OFFSET(X0withPad!$A$1, INT((ROW()-1)/28), MOD(ROW()-1, 28))","v":0},{"$f":"OFFSET(X0withPad!$B$1, INT((ROW()-1)/28), MOD(ROW()-1, 28))","v":0},{"$f":"OFFSET(X0withPad!$C$1, INT((ROW()-1)/28), MOD(ROW()-1, 28))","v":0},{"$f":"OFFSET(X0withPad!$A$2, INT((ROW()-1)/28), MOD(ROW()-1, 28))","v":0},{"$f":"OFFSET(X0withPad!$B$2, INT((ROW()-1)/28), MOD(ROW()-1, 28))","v":0},{"$f":"OFFSET(X0withPad!$C$2, INT((ROW()-1)/28), MOD(ROW()-1, 28))","v":0},{"$f":"OFFSET(X0withPad!$A$3, INT((ROW()-1)/28), MOD(ROW()-1, 28))","v":0},{"$f":"OFFSET(X0withPad!$B$3, INT((ROW()-1)/28), MOD(ROW()-1, 28))","v":0},{"$f":"OFFSET(X0withPad!$C$3, INT((ROW()-1)/28), MOD(ROW()-1, 28))","v":0}]
[{"$f":"OFFSET(X0withPad!$A$1, INT((ROW()-1)/28), MOD(ROW()-1, 28))","v":0},{"$f":"OFFSET(X0withPad!$B$1, INT((ROW()-1)/28), MOD(ROW()-1, 28))","v":0},{"$f":"OFFSET(X0withPad!$C$1, INT((ROW()-1)/28), MOD(ROW()-1, 28))","v":0},{"$f":"OFFSET(X0withPad!$A$2, INT((ROW()-1)/28), MOD(ROW()-1, 28))","v":0},{"$f":"OFFSET(X0withPad!$B$2, INT((ROW()-1)/28), MOD(ROW()-1, 28))","v":0},{"$f":"OFFSET(X0withPad!$C$2, INT((ROW()-1)/28), MOD(ROW()-1, 28))","v":0},{"$f":"OFFSET(X0withPad!$A$3, INT((ROW()-1)/28), MOD(ROW()-1, 28))","v":0},{"$f":"OFFSET(X0withPad!$B$3, INT((ROW()-1)/28), MOD(ROW()-1, 28))","v":0},{"$f":"OFFSET(X0withPad!$C$3, INT((ROW()-1)/28), MOD(ROW()-1, 28))","v":0}]
[{"$f":"OFFSET(X0withPad!$A$1, INT((ROW()-1)/28), MOD(ROW()-1, 28))","v":0},{"$f":"OFFSET(X0withPad!$B$1, INT((ROW()-1)/28), MOD(ROW()-1, 28))","v":0},{"$f":"OFFSET(X0withPad!$C$1, INT((ROW()-1)/28), MOD(ROW()-1, 28))","v":0},{"$f":"OFFSET(X0withPad!$A$2, INT((ROW()-1)/28), MOD(ROW()-1, 28))","v":0},{"$f":"OFFSET(X0withPad!$B$2, INT((ROW()-1)/28), MOD(ROW()-1, 28))","v":0},{"$f":"OFFSET(X0withPad!$C$2, INT((ROW()-1)/28), MOD(ROW()-1, 28))","v":0},{"$f":"OFFSET(X0withPad!$A$3, INT((ROW()-1)/28), MOD(ROW()-1, 28))","v":0},{"$f":"OFFSET(X0withPad!$B$3, INT((ROW()-1)/28), MOD(ROW()-1, 28))","v":0},{"$f":"OFFSET(X0withPad!$C$3, INT((ROW()-1)/28), MOD(ROW()-1, 28))","v":0}]
[{"$f":"OFFSET(X0withPad!$A$1, INT((ROW()-1)/28), MOD(ROW()-1, 28))","v":0},{"$f":"OFFSET(X0withPad!$B$1, INT((ROW()-1)/28), MOD(ROW()-1, 28))","v":0},{"$f":"OFFSET(X0withPad!$C$1, INT((ROW()-1)/28), MOD(ROW()-1, 28))","v":0},{"$f":"OFFSET(X0withPad!$A$2, INT((ROW()-1)/28), MOD(ROW()-1, 28))","v":0},{"$f":"OFFSET(X0withPad!$B$2, INT((ROW()-1)/28), MOD(ROW()-1, 28))","v":0},{"$f":"OFFSET(X0withPad!$C$2, INT((ROW()-1)/28), MOD(ROW()-1, 28))","v":0},{"$f":"OFFSET(X0withPad!$A$3, INT((ROW()-1)/28), MOD(ROW()-1, 28))","v":0},{"$f":"OFFSET(X0withPad!$B$3, INT((ROW()-1)/28), MOD(ROW()-1, 28))","v":0},{"$f":"OFFSET(X0withPad!$C$3, INT((ROW()-1)/28), MOD(ROW()-1, 28))","v":31}]
[{"$f":"OFFSET(X0withPad!$A$1, INT((ROW()-1)/28), MOD(ROW()-1, 28))","v":0},{"$f":"OFFSET(X0withPad!$B$1, INT((ROW()-1)/28), MOD(ROW()-1, 28))","v":0},{"$f":"OFFSET(X0withPad!$C$1, INT((ROW()-1)/28), MOD(ROW()-1, 28))","v":3},{"$f":"OFFSET(X0withPad!$A$2, INT((ROW()-1)/28), MOD(ROW()-1, 28))","v":0},{"$f":"OFFSET(X0withPad!$B$2, INT((ROW()-1)/28), MOD(ROW()-1, 28))","v":0},{"$f":"OFFSET(X0withPad!$C$2, INT((ROW()-1)/28), MOD(ROW()-1, 28))","v":38},{"$f":"OFFSET(X0withPad!$A$3, INT((ROW()-1)/28), MOD(ROW()-1, 28))","v":0},{"$f":"OFFSET(X0withPad!$B$3, INT((ROW()-1)/28), MOD(ROW()-1, 28))","v":31},{"$f":"OFFSET(X0withPad!$C$3, INT((ROW()-1)/28), MOD(ROW()-1, 28))","v":224}]
[{"$f":"OFFSET(X0withPad!$A$1, INT((ROW()-1)/28), MOD(ROW()-1, 28))","v":0},{"$f":"OFFSET(X0withPad!$B$1, INT((ROW()-1)/28), MOD(ROW()-1, 28))","v":3},{"$f":"OFFSET(X0withPad!$C$1, INT((ROW()-1)/28), MOD(ROW()-1, 28))","v":203},{"$f":"OFFSET(X0withPad!$A$2, INT((ROW()-1)/28), MOD(ROW()-1, 28))","v":0},{"$f":"OFFSET(X0withPad!$B$2, INT((ROW()-1)/28), MOD(ROW()-1, 28))","v":38},{"$f":"OFFSET(X0withPad!$C$2, INT((ROW()-1)/28), MOD(ROW()-1, 28))","v":254},{"$f":"OFFSET(X0withPad!$A$3, INT((ROW()-1)/28), MOD(ROW()-1, 28))","v":31},{"$f":"OFFSET(X0withPad!$B$3, INT((ROW()-1)/28), MOD(ROW()-1, 28))","v":224},{"$f":"OFFSET(X0withPad!$C$3, INT((ROW()-1)/28), MOD(ROW()-1, 28))","v":254}]
[{"$f":"OFFSET(X0withPad!$A$1, INT((ROW()-1)/28), MOD(ROW()-1, 28))","v":3},{"$f":"OFFSET(X0withPad!$B$1, INT((ROW()-1)/28), MOD(ROW()-1, 28))","v":203},{"$f":"OFFSET(X0withPad!$C$1, INT((ROW()-1)/28), MOD(ROW()-1, 28))","v":254},{"$f":"OFFSET(X0withPad!$A$2, INT((ROW()-1)/28), MOD(ROW()-1, 28))","v":38},{"$f":"OFFSET(X0withPad!$B$2, INT((ROW()-1)/28), MOD(ROW()-1, 28))","v":254},{"$f":"OFFSET(X0withPad!$C$2, INT((ROW()-1)/28), MOD(ROW()-1, 28))","v":254},{"$f":"OFFSET(X0withPad!$A$3, INT((ROW()-1)/28), MOD(ROW()-1, 28))","v":224},{"$f":"OFFSET(X0withPad!$B$3, INT((ROW()-1)/28), MOD(ROW()-1, 28))","v":254},{"$f":"OFFSET(X0withPad!$C$3, INT((ROW()-1)/28), MOD(ROW()-1, 28))","v":115}]
[{"$f":"OFFSET(X0withPad!$A$1, INT((ROW()-1)/28), MOD(ROW()-1, 28))","v":203},{"$f":"OFFSET(X0withPad!$B$1, INT((ROW()-1)/28), MOD(ROW()-1, 28))","v":254},{"$f":"OFFSET(X0withPad!$C$1, INT((ROW()-1)/28), MOD(ROW()-1, 28))","v":219},{"$f":"OFFSET(X0withPad!$A$2, INT((ROW()-1)/28), MOD(ROW()-1, 28))","v":254},{"$f":"OFFSET(X0withPad!$B$2, INT((ROW()-1)/28), MOD(ROW()-1, 28))","v":254},{"$f":"OFFSET(X0withPad!$C$2, INT((ROW()-1)/28), MOD(ROW()-1, 28))","v":77},{"$f":"OFFSET(X0withPad!$A$3, INT((ROW()-1)/28), MOD(ROW()-1, 28))","v":254},{"$f":"OFFSET(X0withPad!$B$3, INT((ROW()-1)/28), MOD(ROW()-1, 28))","v":115},{"$f":"OFFSET(X0withPad!$C$3, INT((ROW()-1)/28), MOD(ROW()-1, 28))","v":1}]
[{"$f":"OFFSET(X0withPad!$A$1, INT((ROW()-1)/28), MOD(ROW()-1, 28))","v":254},{"$f":"OFFSET(X0withPad!$B$1, INT((ROW()-1)/28), MOD(ROW()-1, 28))","v":219},{"$f":"OFFSET(X0withPad!$C$1, INT((ROW()-1)/28), MOD(ROW()-1, 28))","v":35},{"$f":"OFFSET(X0withPad!$A$2, INT((ROW()-1)/28), MOD(ROW()-1, 28))","v":254},{"$f":"OFFSET(X0withPad!$B$2, INT((ROW()-1)/28), MOD(ROW()-1, 28))","v":77},{"$f":"OFFSET(X0withPad!$C$2, INT((ROW()-1)/28), MOD(ROW()-1, 28))","v":0},{"$f":"OFFSET(X0withPad!$A$3, INT((ROW()-1)/28), MOD(ROW()-1, 28))","v":115},{"$f":"OFFSET(X0withPad!$B$3, INT((ROW()-1)/28), MOD(ROW()-1, 28))","v":1},{"$f":"OFFSET(X0withPad!$C$3, INT((ROW()-1)/28), MOD(ROW()-1, 28))","v":0}]
[{"$f":"OFFSET(X0withPad!$A$1, INT((ROW()-1)/28), MOD(ROW()-1, 28))","v":219},{"$f":"OFFSET(X0withPad!$B$1, INT((ROW()-1)/28), MOD(ROW()-1, 28))","v":35},{"$f":"OFFSET(X0withPad!$C$1, INT((ROW()-1)/28), MOD(ROW()-1, 28))","v":0},{"$f":"OFFSET(X0withPad!$A$2, INT((ROW()-1)/28), MOD(ROW()-1, 28))","v":77},{"$f":"OFFSET(X0withPad!$B$2, INT((ROW()-1)/28), MOD(ROW()-1, 28))","v":0},{"$f":"OFFSET(X0withPad!$C$2, INT((ROW()-1)/28), MOD(ROW()-1, 28))","v":0},{"$f":"OFFSET(X0withPad!$A$3, INT((ROW()-1)/28), MOD(ROW()-1, 28))","v":1},{"$f":"OFFSET(X0withPad!$B$3, INT((ROW()-1)/28), MOD(ROW()-1, 28))","v":0},{"$f":"OFFSET(X0withPad!$C$3, INT((ROW()-1)/28), MOD(ROW()-1, 28))","v":0}]
[{"$f":"OFFSET(X0withPad!$A$1, INT((ROW()-1)/28), MOD(ROW()-1, 28))","v":35},{"$f":"OFFSET(X0withPad!$B$1, INT((ROW()-1)/28), MOD(ROW()-1, 28))","v":0},{"$f":"OFFSET(X0withPad!$C$1, INT((ROW()-1)/28), MOD(ROW()-1, 28))","v":0},{"$f":"OFFSET(X0withPad!$A$2, INT((ROW()-1)/28), MOD(ROW()-1, 28))","v":0},{"$f":"OFFSET(X0withPad!$B$2, INT((ROW()-1)/28), MOD(ROW()-1, 28))","v":0},{"$f":"OFFSET(X0withPad!$C$2, INT((ROW()-1)/28), MOD(ROW()-1, 28))","v":0},{"$f":"OFFSET(X0withPad!$A$3, INT((ROW()-1)/28), MOD(ROW()-1, 28))","v":0},{"$f":"OFFSET(X0withPad!$B$3, INT((ROW()-1)/28), MOD(ROW()-1, 28))","v":0},{"$f":"OFFSET(X0withPad!$C$3, INT((ROW()-1)/28), MOD(ROW()-1, 28))","v":0}]
[{"$f":"OFFSET(X0withPad!$A$1, INT((ROW()-1)/28), MOD(ROW()-1, 28))","v":0},{"$f":"OFFSET(X0withPad!$B$1, INT((ROW()-1)/28), MOD(ROW()-1, 28))","v":0},{"$f":"OFFSET(X0withPad!$C$1, INT((ROW()-1)/28), MOD(ROW()-1, 28))","v":0},{"$f":"OFFSET(X0withPad!$A$2, INT((ROW()-1)/28), MOD(ROW()-1, 28))","v":0},{"$f":"OFFSET(X0withPad!$B$2, INT((ROW()-1)/28), MOD(ROW()-1, 28))","v":0},{"$f":"OFFSET(X0withPad!$C$2, INT((ROW()-1)/28), MOD(ROW()-1, 28))","v":0},{"$f":"OFFSET(X0withPad!$A$3, INT((ROW()-1)/28), MOD(ROW()-1, 28))","v":0},{"$f":"OFFSET(X0withPad!$B$3, INT((ROW()-1)/28), MOD(ROW()-1, 28))","v":0},{"$f":"OFFSET(X0withPad!$C$3, INT((ROW()-1)/28), MOD(ROW()-1, 28))","v":0}]
[{"$f":"OFFSET(X0withPad!$A$1, INT((ROW()-1)/28), MOD(ROW()-1, 28))","v":0},{"$f":"OFFSET(X0withPad!$B$1, INT((ROW()-1)/28), MOD(ROW()-1, 28))","v":0},{"$f":"OFFSET(X0withPad!$C$1, INT((ROW()-1)/28), MOD(ROW()-1, 28))","v":0},{"$f":"OFFSET(X0withPad!$A$2, INT((ROW()-1)/28), MOD(ROW()-1, 28))","v":0},{"$f":"OFFSET(X0withPad!$B$2, INT((ROW()-1)/28), MOD(ROW()-1, 28))","v":0},{"$f":"OFFSET(X0withPad!$C$2, INT((ROW()-1)/28), MOD(ROW()-1, 28))","v":0},{"$f":"OFFSET(X0withPad!$A$3, INT((ROW()-1)/28), MOD(ROW()-1, 28))","v":0},{"$f":"OFFSET(X0withPad!$B$3, INT((ROW()-1)/28), MOD(ROW()-1, 28))","v":0},{"$f":"OFFSET(X0withPad!$C$3, INT((ROW()-1)/28), MOD(ROW()-1, 28))","v":0}]
[{"$f":"OFFSET(X0withPad!$A$1, INT((ROW()-1)/28), MOD(ROW()-1, 28))","v":0},{"$f":"OFFSET(X0withPad!$B$1, INT((ROW()-1)/28), MOD(ROW()-1, 28))","v":0},{"$f":"OFFSET(X0withPad!$C$1, INT((ROW()-1)/28), MOD(ROW()-1, 28))","v":0},{"$f":"OFFSET(X0withPad!$A$2, INT((ROW()-1)/28), MOD(ROW()-1, 28))","v":0},{"$f":"OFFSET(X0withPad!$B$2, INT((ROW()-1)/28), MOD(ROW()-1, 28))","v":0},{"$f":"OFFSET(X0withPad!$C$2, INT((ROW()-1)/28), MOD(ROW()-1, 28))","v":0},{"$f":"OFFSET(X0withPad!$A$3, INT((ROW()-1)/28), MOD(ROW()-1, 28))","v":0},{"$f":"OFFSET(X0withPad!$B$3, INT((ROW()-1)/28), MOD(ROW()-1, 28))","v":0},{"$f":"OFFSET(X0withPad!$C$3, INT((ROW()-1)/28), MOD(ROW()-1, 28))","v":0}]
[{"$f":"OFFSET(X0withPad!$A$1, INT((ROW()-1)/28), MOD(ROW()-1, 28))","v":0},{"$f":"OFFSET(X0withPad!$B$1, INT((ROW()-1)/28), MOD(ROW()-1, 28))","v":0},{"$f":"OFFSET(X0withPad!$C$1, INT((ROW()-1)/28), MOD(ROW()-1, 28))","v":0},{"$f":"OFFSET(X0withPad!$A$2, INT((ROW()-1)/28), MOD(ROW()-1, 28))","v":0},{"$f":"OFFSET(X0withPad!$B$2, INT((ROW()-1)/28), MOD(ROW()-1, 28))","v":0},{"$f":"OFFSET(X0withPad!$C$2, INT((ROW()-1)/28), MOD(ROW()-1, 28))","v":0},{"$f":"OFFSET(X0withPad!$A$3, INT((ROW()-1)/28), MOD(ROW()-1, 28))","v":0},{"$f":"OFFSET(X0withPad!$B$3, INT((ROW()-1)/28), MOD(ROW()-1, 28))","v":0},{"$f":"OFFSET(X0withPad!$C$3, INT((ROW()-1)/28), MOD(ROW()-1, 28))","v":0}]
[{"$f":"OFFSET(X0withPad!$A$1, INT((ROW()-1)/28), MOD(ROW()-1, 28))","v":0},{"$f":"OFFSET(X0withPad!$B$1, INT((ROW()-1)/28), MOD(ROW()-1, 28))","v":0},{"$f":"OFFSET(X0withPad!$C$1, INT((ROW()-1)/28), MOD(ROW()-1, 28))","v":0},{"$f":"OFFSET(X0withPad!$A$2, INT((ROW()-1)/28), MOD(ROW()-1, 28))","v":0},{"$f":"OFFSET(X0withPad!$B$2, INT((ROW()-1)/28), MOD(ROW()-1, 28))","v":0},{"$f":"OFFSET(X0withPad!$C$2, INT((ROW()-1)/28), MOD(ROW()-1, 28))","v":0},{"$f":"OFFSET(X0withPad!$A$3, INT((ROW()-1)/28), MOD(ROW()-1, 28))","v":0},{"$f":"OFFSET(X0withPad!$B$3, INT((ROW()-1)/28), MOD(ROW()-1, 28))","v":0},{"$f":"OFFSET(X0withPad!$C$3, INT((ROW()-1)/28), MOD(ROW()-1, 28))","v":0}]
[{"$f":"OFFSET(X0withPad!$A$1, INT((ROW()-1)/28), MOD(ROW()-1, 28))","v":0},{"$f":"OFFSET(X0withPad!$B$1, INT((ROW()-1)/28), MOD(ROW()-1, 28))","v":0},{"$f":"OFFSET(X0withPad!$C$1, INT((ROW()-1)/28), MOD(ROW()-1, 28))","v":0},{"$f":"OFFSET(X0withPad!$A$2, INT((ROW()-1)/28), MOD(ROW()-1, 28))","v":0},{"$f":"OFFSET(X0withPad!$B$2, INT((ROW()-1)/28), MOD(ROW()-1, 28))","v":0},{"$f":"OFFSET(X0withPad!$C$2, INT((ROW()-1)/28), MOD(ROW()-1, 28))","v":0},{"$f":"OFFSET(X0withPad!$A$3, INT((ROW()-1)/28), MOD(ROW()-1, 28))","v":0},{"$f":"OFFSET(X0withPad!$B$3, INT((ROW()-1)/28), MOD(ROW()-1, 28))","v":0},{"$f":"OFFSET(X0withPad!$C$3, INT((ROW()-1)/28), MOD(ROW()-1, 28))","v":0}]
[{"$f":"OFFSET(X0withPad!$A$1, INT((ROW()-1)/28), MOD(ROW()-1, 28))","v":0},{"$f":"OFFSET(X0withPad!$B$1, INT((ROW()-1)/28), MOD(ROW()-1, 28))","v":0},{"$f":"OFFSET(X0withPad!$C$1, INT((ROW()-1)/28), MOD(ROW()-1, 28))","v":0},{"$f":"OFFSET(X0withPad!$A$2, INT((ROW()-1)/28), MOD(ROW()-1, 28))","v":0},{"$f":"OFFSET(X0withPad!$B$2, INT((ROW()-1)/28), MOD(ROW()-1, 28))","v":0},{"$f":"OFFSET(X0withPad!$C$2, INT((ROW()-1)/28), MOD(ROW()-1, 28))","v":0},{"$f":"OFFSET(X0withPad!$A$3, INT((ROW()-1)/28), MOD(ROW()-1, 28))","v":0},{"$f":"OFFSET(X0withPad!$B$3, INT((ROW()-1)/28), MOD(ROW()-1, 28))","v":0},{"$f":"OFFSET(X0withPad!$C$3, INT((ROW()-1)/28), MOD(ROW()-1, 28))","v":0}]
[{"$f":"OFFSET(X0withPad!$A$1, INT((ROW()-1)/28), MOD(ROW()-1, 28))","v":0},{"$f":"OFFSET(X0withPad!$B$1, INT((ROW()-1)/28), MOD(ROW()-1, 28))","v":0},{"$f":"OFFSET(X0withPad!$C$1, INT((ROW()-1)/28), MOD(ROW()-1, 28))","v":0},{"$f":"OFFSET(X0withPad!$A$2, INT((ROW()-1)/28), MOD(ROW()-1, 28))","v":0},{"$f":"OFFSET(X0withPad!$B$2, INT((ROW()-1)/28), MOD(ROW()-1, 28))","v":0},{"$f":"OFFSET(X0withPad!$C$2, INT((ROW()-1)/28), MOD(ROW()-1, 28))","v":0},{"$f":"OFFSET(X0withPad!$A$3, INT((ROW()-1)/28), MOD(ROW()-1, 28))","v":0},{"$f":"OFFSET(X0withPad!$B$3, INT((ROW()-1)/28), MOD(ROW()-1, 28))","v":0},{"$f":"OFFSET(X0withPad!$C$3, INT((ROW()-1)/28), MOD(ROW()-1, 28))","v":0}]
[{"$f":"OFFSET(X0withPad!$A$1, INT((ROW()-1)/28), MOD(ROW()-1, 28))","v":0},{"$f":"OFFSET(X0withPad!$B$1, INT((ROW()-1)/28), MOD(ROW()-1, 28))","v":0},{"$f":"OFFSET(X0withPad!$C$1, INT((ROW()-1)/28), MOD(ROW()-1, 28))","v":0},{"$f":"OFFSET(X0withPad!$A$2, INT((ROW()-1)/28), MOD(ROW()-1, 28))","v":0},{"$f":"OFFSET(X0withPad!$B$2, INT((ROW()-1)/28), MOD(ROW()-1, 28))","v":0},{"$f":"OFFSET(X0withPad!$C$2, INT((ROW()-1)/28), MOD(ROW()-1, 28))","v":0},{"$f":"OFFSET(X0withPad!$A$3, INT((ROW()-1)/28), MOD(ROW()-1, 28))","v":0},{"$f":"OFFSET(X0withPad!$B$3, INT((ROW()-1)/28), MOD(ROW()-1, 28))","v":0},{"$f":"OFFSET(X0withPad!$C$3, INT((ROW()-1)/28), MOD(ROW()-1, 28))","v":0}]
[{"$f":"OFFSET(X0withPad!$A$1, INT((ROW()-1)/28), MOD(ROW()-1, 28))","v":0},{"$f":"OFFSET(X0withPad!$B$1, INT((ROW()-1)/28), MOD(ROW()-1, 28))","v":0},{"$f":"OFFSET(X0withPad!$C$1, INT((ROW()-1)/28), MOD(ROW()-1, 28))","v":0},{"$f":"OFFSET(X0withPad!$A$2, INT((ROW()-1)/28), MOD(ROW()-1, 28))","v":0},{"$f":"OFFSET(X0withPad!$B$2, INT((ROW()-1)/28), MOD(ROW()-1, 28))","v":0},{"$f":"OFFSET(X0withPad!$C$2, INT((ROW()-1)/28), MOD(ROW()-1, 28))","v":0},{"$f":"OFFSET(X0withPad!$A$3, INT((ROW()-1)/28), MOD(ROW()-1, 28))","v":0},{"$f":"OFFSET(X0withPad!$B$3, INT((ROW()-1)/28), MOD(ROW()-1, 28))","v":0},{"$f":"OFFSET(X0withPad!$C$3, INT((ROW()-1)/28), MOD(ROW()-1, 28))","v":0}]
[{"$f":"OFFSET(X0withPad!$A$1, INT((ROW()-1)/28), MOD(ROW()-1, 28))","v":0},{"$f":"OFFSET(X0withPad!$B$1, INT((ROW()-1)/28), MOD(ROW()-1, 28))","v":0},{"$f":"OFFSET(X0withPad!$C$1, INT((ROW()-1)/28), MOD(ROW()-1, 28))","v":0},{"$f":"OFFSET(X0withPad!$A$2, INT((ROW()-1)/28), MOD(ROW()-1, 28))","v":0},{"$f":"OFFSET(X0withPad!$B$2, INT((ROW()-1)/28), MOD(ROW()-1, 28))","v":0},{"$f":"OFFSET(X0withPad!$C$2, INT((ROW()-1)/28), MOD(ROW()-1, 28))","v":0},{"$f":"OFFSET(X0withPad!$A$3, INT((ROW()-1)/28), MOD(ROW()-1, 28))","v":0},{"$f":"OFFSET(X0withPad!$B$3, INT((ROW()-1)/28), MOD(ROW()-1, 28))","v":0},{"$f":"OFFSET(X0withPad!$C$3, INT((ROW()-1)/28), MOD(ROW()-1, 28))","v":0}]
[{"$f":"OFFSET(X0withPad!$A$1, INT((ROW()-1)/28), MOD(ROW()-1, 28))","v":0},{"$f":"OFFSET(X0withPad!$B$1, INT((ROW()-1)/28), MOD(ROW()-1, 28))","v":0},{"$f":"OFFSET(X0withPad!$C$1, INT((ROW()-1)/28), MOD(ROW()-1, 28))","v":0},{"$f":"OFFSET(X0withPad!$A$2, INT((ROW()-1)/28), MOD(ROW()-1, 28))","v":0},{"$f":"OFFSET(X0withPad!$B$2, INT((ROW()-1)/28), MOD(ROW()-1, 28))","v":0},{"$f":"OFFSET(X0withPad!$C$2, INT((ROW()-1)/28), MOD(ROW()-1, 28))","v":0},{"$f":"OFFSET(X0withPad!$A$3, INT((ROW()-1)/28), MOD(ROW()-1, 28))","v":0},{"$f":"OFFSET(X0withPad!$B$3, INT((ROW()-1)/28), MOD(ROW()-1, 28))","v":0},{"$f":"OFFSET(X0withPad!$C$3, INT((ROW()-1)/28), MOD(ROW()-1, 28))","v":0}]
[{"$f":"OFFSET(X0withPad!$A$1, INT((ROW()-1)/28), MOD(ROW()-1, 28))","v":0},{"$f":"OFFSET(X0withPad!$B$1, INT((ROW()-1)/28), MOD(ROW()-1, 28))","v":0},{"$f":"OFFSET(X0withPad!$C$1, INT((ROW()-1)/28), MOD(ROW()-1, 28))","v":0},{"$f":"OFFSET(X0withPad!$A$2, INT((ROW()-1)/28), MOD(ROW()-1, 28))","v":0},{"$f":"OFFSET(X0withPad!$B$2, INT((ROW()-1)/28), MOD(ROW()-1, 28))","v":0},{"$f":"OFFSET(X0withPad!$C$2, INT((ROW()-1)/28), MOD(ROW()-1, 28))","v":0},{"$f":"OFFSET(X0withPad!$A$3, INT((ROW()-1)/28), MOD(ROW()-1, 28))","v":0},{"$f":"OFFSET(X0withPad!$B$3, INT((ROW()-1)/28), MOD(ROW()-1, 28))","v":0},{"$f":"OFFSET(X0withPad!$C$3, INT((ROW()-1)/28), MOD(ROW()-1, 28))","v":0}]
[{"$f":"OFFSET(X0withPad!$A$1, INT((ROW()-1)/28), MOD(ROW()-1, 28))","v":0},{"$f":"OFFSET(X0withPad!$B$1, INT((ROW()-1)/28), MOD(ROW()-1, 28))","v":0},{"$f":"OFFSET(X0withPad!$C$1, INT((ROW()-1)/28), MOD(ROW()-1, 28))","v":0},{"$f":"OFFSET(X0withPad!$A$2, INT((ROW()-1)/28), MOD(ROW()-1, 28))","v":0},{"$f":"OFFSET(X0withPad!$B$2, INT((ROW()-1)/28), MOD(ROW()-1, 28))","v":0},{"$f":"OFFSET(X0withPad!$C$2, INT((ROW()-1)/28), MOD(ROW()-1, 28))","v":0},{"$f":"OFFSET(X0withPad!$A$3, INT((ROW()-1)/28), MOD(ROW()-1, 28))","v":0},{"$f":"OFFSET(X0withPad!$B$3, INT((ROW()-1)/28), MOD(ROW()-1, 28))","v":0},{"$f":"OFFSET(X0withPad!$C$3, INT((ROW()-1)/28), MOD(ROW()-1, 28))","v":0}]
[{"$f":"OFFSET(X0withPad!$A$1, INT((ROW()-1)/28), MOD(ROW()-1, 28))","v":0},{"$f":"OFFSET(X0withPad!$B$1, INT((ROW()-1)/28), MOD(ROW()-1, 28))","v":0},{"$f":"OFFSET(X0withPad!$C$1, INT((ROW()-1)/28), MOD(ROW()-1, 28))","v":0},{"$f":"OFFSET(X0withPad!$A$2, INT((ROW()-1)/28), MOD(ROW()-1, 28))","v":0},{"$f":"OFFSET(X0withPad!$B$2, INT((ROW()-1)/28), MOD(ROW()-1, 28))","v":0},{"$f":"OFFSET(X0withPad!$C$2, INT((ROW()-1)/28), MOD(ROW()-1, 28))","v":0},{"$f":"OFFSET(X0withPad!$A$3, INT((ROW()-1)/28), MOD(ROW()-1, 28))","v":0},{"$f":"OFFSET(X0withPad!$B$3, INT((ROW()-1)/28), MOD(ROW()-1, 28))","v":0},{"$f":"OFFSET(X0withPad!$C$3, INT((ROW()-1)/28), MOD(ROW()-1, 28))","v":0}]
[{"$f":"OFFSET(X0withPad!$A$1, INT((ROW()-1)/28), MOD(ROW()-1, 28))","v":0},{"$f":"OFFSET(X0withPad!$B$1, INT((ROW()-1)/28), MOD(ROW()-1, 28))","v":0},{"$f":"OFFSET(X0withPad!$C$1, INT((ROW()-1)/28), MOD(ROW()-1, 28))","v":0},{"$f":"OFFSET(X0withPad!$A$2, INT((ROW()-1)/28), MOD(ROW()-1, 28))","v":0},{"$f":"OFFSET(X0withPad!$B$2, INT((ROW()-1)/28), MOD(ROW()-1, 28))","v":0},{"$f":"OFFSET(X0withPad!$C$2, INT((ROW()-1)/28), MOD(ROW()-1, 28))","v":0},{"$f":"OFFSET(X0withPad!$A$3, INT((ROW()-1)/28), MOD(ROW()-1, 28))","v":0},{"$f":"OFFSET(X0withPad!$B$3, INT((ROW()-1)/28), MOD(ROW()-1, 28))","v":0},{"$f":"OFFSET(X0withPad!$C$3, INT((ROW()-1)/28), MOD(ROW()-1, 28))","v":0}]
[{"$f":"OFFSET(X0withPad!$A$1, INT((ROW()-1)/28), MOD(ROW()-1, 28))","v":0},{"$f":"OFFSET(X0withPad!$B$1, INT((ROW()-1)/28), MOD(ROW()-1, 28))","v":0},{"$f":"OFFSET(X0withPad!$C$1, INT((ROW()-1)/28), MOD(ROW()-1, 28))","v":0},{"$f":"OFFSET(X0withPad!$A$2, INT((ROW()-1)/28), MOD(ROW()-1, 28))","v":0},{"$f":"OFFSET(X0withPad!$B$2, INT((ROW()-1)/28), MOD(ROW()-1, 28))","v":0},{"$f":"OFFSET(X0withPad!$C$2, INT((ROW()-1)/28), MOD(ROW()-1, 28))","v":0},{"$f":"OFFSET(X0withPad!$A$3, INT((ROW()-1)/28), MOD(ROW()-1, 28))","v":0},{"$f":"OFFSET(X0withPad!$B$3, INT((ROW()-1)/28), MOD(ROW()-1, 28))","v":0},{"$f":"OFFSET(X0withPad!$C$3, INT((ROW()-1)/28), MOD(ROW()-1, 28))","v":0}]
[{"$f":"OFFSET(X0withPad!$A$1, INT((ROW()-1)/28), MOD(ROW()-1, 28))","v":0},{"$f":"OFFSET(X0withPad!$B$1, INT((ROW()-1)/28), MOD(ROW()-1, 28))","v":0},{"$f":"OFFSET(X0withPad!$C$1, INT((ROW()-1)/28), MOD(ROW()-1, 28))","v":0},{"$f":"OFFSET(X0withPad!$A$2, INT((ROW()-1)/28), MOD(ROW()-1, 28))","v":0},{"$f":"OFFSET(X0withPad!$B$2, INT((ROW()-1)/28), MOD(ROW()-1, 28))","v":0},{"$f":"OFFSET(X0withPad!$C$2, INT((ROW()-1)/28), MOD(ROW()-1, 28))","v":0},{"$f":"OFFSET(X0withPad!$A$3, INT((ROW()-1)/28), MOD(ROW()-1, 28))","v":0},{"$f":"OFFSET(X0withPad!$B$3, INT((ROW()-1)/28), MOD(ROW()-1, 28))","v":0},{"$f":"OFFSET(X0withPad!$C$3, INT((ROW()-1)/28), MOD(ROW()-1, 28))","v":0}]
[{"$f":"OFFSET(X0withPad!$A$1, INT((ROW()-1)/28), MOD(ROW()-1, 28))","v":0},{"$f":"OFFSET(X0withPad!$B$1, INT((ROW()-1)/28), MOD(ROW()-1, 28))","v":0},{"$f":"OFFSET(X0withPad!$C$1, INT((ROW()-1)/28), MOD(ROW()-1, 28))","v":0},{"$f":"OFFSET(X0withPad!$A$2, INT((ROW()-1)/28), MOD(ROW()-1, 28))","v":0},{"$f":"OFFSET(X0withPad!$B$2, INT((ROW()-1)/28), MOD(ROW()-1, 28))","v":0},{"$f":"OFFSET(X0withPad!$C$2, INT((ROW()-1)/28), MOD(ROW()-1, 28))","v":0},{"$f":"OFFSET(X0withPad!$A$3, INT((ROW()-1)/28), MOD(ROW()-1, 28))","v":0},{"$f":"OFFSET(X0withPad!$B$3, INT((ROW()-1)/28), MOD(ROW()-1, 28))","v":0},{"$f":"OFFSET(X0withPad!$C$3, INT((ROW()-1)/28), MOD(ROW()-1, 28))","v":0}]
[{"$f":"OFFSET(X0withPad!$A$1, INT((ROW()-1)/28), MOD(ROW()-1, 28))","v":0},{"$f":"OFFSET(X0withPad!$B$1, INT((ROW()-1)/28), MOD(ROW()-1, 28))","v":0},{"$f":"OFFSET(X0withPad!$C$1, INT((ROW()-1)/28), MOD(ROW()-1, 28))","v":0},{"$f":"OFFSET(X0withPad!$A$2, INT((ROW()-1)/28), MOD(ROW()-1, 28))","v":0},{"$f":"OFFSET(X0withPad!$B$2, INT((ROW()-1)/28), MOD(ROW()-1, 28))","v":0},{"$f":"OFFSET(X0withPad!$C$2, INT((ROW()-1)/28), MOD(ROW()-1, 28))","v":0},{"$f":"OFFSET(X0withPad!$A$3, INT((ROW()-1)/28), MOD(ROW()-1, 28))","v":0},{"$f":"OFFSET(X0withPad!$B$3, INT((ROW()-1)/28), MOD(ROW()-1, 28))","v":0},{"$f":"OFFSET(X0withPad!$C$3, INT((ROW()-1)/28), MOD(ROW()-1, 28))","v":0}]
[{"$f":"OFFSET(X0withPad!$A$1, INT((ROW()-1)/28), MOD(ROW()-1, 28))","v":0},{"$f":"OFFSET(X0withPad!$B$1, INT((ROW()-1)/28), MOD(ROW()-1, 28))","v":0},{"$f":"OFFSET(X0withPad!$C$1, INT((ROW()-1)/28), MOD(ROW()-1, 28))","v":0},{"$f":"OFFSET(X0withPad!$A$2, INT((ROW()-1)/28), MOD(ROW()-1, 28))","v":0},{"$f":"OFFSET(X0withPad!$B$2, INT((ROW()-1)/28), MOD(ROW()-1, 28))","v":0},{"$f":"OFFSET(X0withPad!$C$2, INT((ROW()-1)/28), MOD(ROW()-1, 28))","v":31},{"$f":"OFFSET(X0withPad!$A$3, INT((ROW()-1)/28), MOD(ROW()-1, 28))","v":0},{"$f":"OFFSET(X0withPad!$B$3, INT((ROW()-1)/28), MOD(ROW()-1, 28))","v":0},{"$f":"OFFSET(X0withPad!$C$3, INT((ROW()-1)/28), MOD(ROW()-1, 28))","v":133}]
[{"$f":"OFFSET(X0withPad!$A$1, INT((ROW()-1)/28), MOD(ROW()-1, 28))","v":0},{"$f":"OFFSET(X0withPad!$B$1, INT((ROW()-1)/28), MOD(ROW()-1, 28))","v":0},{"$f":"OFFSET(X0withPad!$C$1, INT((ROW()-1)/28), MOD(ROW()-1, 28))","v":38},{"$f":"OFFSET(X0withPad!$A$2, INT((ROW()-1)/28), MOD(ROW()-1, 28))","v":0},{"$f":"OFFSET(X0withPad!$B$2, INT((ROW()-1)/28), MOD(ROW()-1, 28))","v":31},{"$f":"OFFSET(X0withPad!$C$2, INT((ROW()-1)/28), MOD(ROW()-1, 28))","v":224},{"$f":"OFFSET(X0withPad!$A$3, INT((ROW()-1)/28), MOD(ROW()-1, 28))","v":0},{"$f":"OFFSET(X0withPad!$B$3, INT((ROW()-1)/28), MOD(ROW()-1, 28))","v":133},{"$f":"OFFSET(X0withPad!$C$3, INT((ROW()-1)/28), MOD(ROW()-1, 28))","v":254}]
[{"$f":"OFFSET(X0withPad!$A$1, INT((ROW()-1)/28), MOD(ROW()-1, 28))","v":0},{"$f":"OFFSET(X0withPad!$B$1, INT((ROW()-1)/28), MOD(ROW()-1, 28))","v":38},{"$f":"OFFSET(X0withPad!$C$1, INT((ROW()-1)/28), MOD(ROW()-1, 28))","v":254},{"$f":"OFFSET(X0withPad!$A$2, INT((ROW()-1)/28), MOD(ROW()-1, 28))","v":31},{"$f":"OFFSET(X0withPad!$B$2, INT((ROW()-1)/28), MOD(ROW()-1, 28))","v":224},{"$f":"OFFSET(X0withPad!$C$2, INT((ROW()-1)/28), MOD(ROW()-1, 28))","v":254},{"$f":"OFFSET(X0withPad!$A$3, INT((ROW()-1)/28), MOD(ROW()-1, 28))","v":133},{"$f":"OFFSET(X0withPad!$B$3, INT((ROW()-1)/28), MOD(ROW()-1, 28))","v":254},{"$f":"OFFSET(X0withPad!$C$3, INT((ROW()-1)/28), MOD(ROW()-1, 28))","v":254}]
[{"$f":"OFFSET(X0withPad!$A$1, INT((ROW()-1)/28), MOD(ROW()-1, 28))","v":38},{"$f":"OFFSET(X0withPad!$B$1, INT((ROW()-1)/28), MOD(ROW()-1, 28))","v":254},{"$f":"OFFSET(X0withPad!$C$1, INT((ROW()-1)/28), MOD(ROW()-1, 28))","v":254},{"$f":"OFFSET(X0withPad!$A$2, INT((ROW()-1)/28), MOD(ROW()-1, 28))","v":224},{"$f":"OFFSET(X0withPad!$B$2, INT((ROW()-1)/28), MOD(ROW()-1, 28))","v":254},{"$f":"OFFSET(X0withPad!$C$2, INT((ROW()-1)/28), MOD(ROW()-1, 28))","v":115},{"$f":"OFFSET(X0withPad!$A$3, INT((ROW()-1)/28), MOD(ROW()-1, 28))","v":254},{"$f":"OFFSET(X0withPad!$B$3, INT((ROW()-1)/28), MOD(ROW()-1, 28))","v":254},{"$f":"OFFSET(X0withPad!$C$3, INT((ROW()-1)/28), MOD(ROW()-1, 28))","v":52}]
[{"$f":"OFFSET(X0withPad!$A$1, INT((ROW()-1)/28), MOD(ROW()-1, 28))","v":254},{"$f":"OFFSET(X0withPad!$B$1, INT((ROW()-1)/28), MOD(ROW()-1, 28))","v":254},{"$f":"OFFSET(X0withPad!$C$1, INT((ROW()-1)/28), MOD(ROW()-1, 28))","v":77},{"$f":"OFFSET(X0withPad!$A$2, INT((ROW()-1)/28), MOD(ROW()-1, 28))","v":254},{"$f":"OFFSET(X0withPad!$B$2, INT((ROW()-1)/28), MOD(ROW()-1, 28))","v":115},{"$f":"OFFSET(X0withPad!$C$2, INT((ROW()-1)/28), MOD(ROW()-1, 28))","v":1},{"$f":"OFFSET(X0withPad!$A$3, INT((ROW()-1)/28), MOD(ROW()-1, 28))","v":254},{"$f":"OFFSET(X0withPad!$B$3, INT((ROW()-1)/28), MOD(ROW()-1, 28))","v":52},{"$f":"OFFSET(X0withPad!$C$3, INT((ROW()-1)/28), MOD(ROW()-1, 28))","v":0}]
[{"$f":"OFFSET(X0withPad!$A$1, INT((ROW()-1)/28), MOD(ROW()-1, 28))","v":254},{"$f":"OFFSET(X0withPad!$B$1, INT((ROW()-1)/28), MOD(ROW()-1, 28))","v":77},{"$f":"OFFSET(X0withPad!$C$1, INT((ROW()-1)/28), MOD(ROW()-1, 28))","v":0},{"$f":"OFFSET(X0withPad!$A$2, INT((ROW()-1)/28), MOD(ROW()-1, 28))","v":115},{"$f":"OFFSET(X0withPad!$B$2, INT((ROW()-1)/28), MOD(ROW()-1, 28))","v":1},{"$f":"OFFSET(X0withPad!$C$2, INT((ROW()-1)/28), MOD(ROW()-1, 28))","v":0},{"$f":"OFFSET(X0withPad!$A$3, INT((ROW()-1)/28), MOD(ROW()-1, 28))","v":52},{"$f":"OFFSET(X0withPad!$B$3, INT((ROW()-1)/28), MOD(ROW()-1, 28))","v":0},{"$f":"OFFSET(X0withPad!$C$3, INT((ROW()-1)/28), MOD(ROW()-1, 28))","v":0}]
[{"$f":"OFFSET(X0withPad!$A$1, INT((ROW()-1)/28), MOD(ROW()-1, 28))","v":77},{"$f":"OFFSET(X0withPad!$B$1, INT((ROW()-1)/28), MOD(ROW()-1, 28))","v":0},{"$f":"OFFSET(X0withPad!$C$1, INT((ROW()-1)/28), MOD(ROW()-1, 28))","v":0},{"$f":"OFFSET(X0withPad!$A$2, INT((ROW()-1)/28), MOD(ROW()-1, 28))","v":1},{"$f":"OFFSET(X0withPad!$B$2, INT((ROW()-1)/28), MOD(ROW()-1, 28))","v":0},{"$f":"OFFSET(X0withPad!$C$2, INT((ROW()-1)/28), MOD(ROW()-1, 28))","v":0},{"$f":"OFFSET(X0withPad!$A$3, INT((ROW()-1)/28), MOD(ROW()-1, 28))","v":0},{"$f":"OFFSET(X0withPad!$B$3, INT((ROW()-1)/28), MOD(ROW()-1, 28))","v":0},{"$f":"OFFSET(X0withPad!$C$3, INT((ROW()-1)/28), MOD(ROW()-1, 28))","v":0}]
[{"$f":"OFFSET(X0withPad!$A$1, INT((ROW()-1)/28), MOD(ROW()-1, 28))","v":0},{"$f":"OFFSET(X0withPad!$B$1, INT((ROW()-1)/28), MOD(ROW()-1, 28))","v":0},{"$f":"OFFSET(X0withPad!$C$1, INT((ROW()-1)/28), MOD(ROW()-1, 28))","v":0},{"$f":"OFFSET(X0withPad!$A$2, INT((ROW()-1)/28), MOD(ROW()-1, 28))","v":0},{"$f":"OFFSET(X0withPad!$B$2, INT((ROW()-1)/28), MOD(ROW()-1, 28))","v":0},{"$f":"OFFSET(X0withPad!$C$2, INT((ROW()-1)/28), MOD(ROW()-1, 28))","v":0},{"$f":"OFFSET(X0withPad!$A$3, INT((ROW()-1)/28), MOD(ROW()-1, 28))","v":0},{"$f":"OFFSET(X0withPad!$B$3, INT((ROW()-1)/28), MOD(ROW()-1, 28))","v":0},{"$f":"OFFSET(X0withPad!$C$3, INT((ROW()-1)/28), MOD(ROW()-1, 28))","v":0}]
[{"$f":"OFFSET(X0withPad!$A$1, INT((ROW()-1)/28), MOD(ROW()-1, 28))","v":0},{"$f":"OFFSET(X0withPad!$B$1, INT((ROW()-1)/28), MOD(ROW()-1, 28))","v":0},{"$f":"OFFSET(X0withPad!$C$1, INT((ROW()-1)/28), MOD(ROW()-1, 28))","v":0},{"$f":"OFFSET(X0withPad!$A$2, INT((ROW()-1)/28), MOD(ROW()-1, 28))","v":0},{"$f":"OFFSET(X0withPad!$B$2, INT((ROW()-1)/28), MOD(ROW()-1, 28))","v":0},{"$f":"OFFSET(X0withPad!$C$2, INT((ROW()-1)/28), MOD(ROW()-1, 28))","v":0},{"$f":"OFFSET(X0withPad!$A$3, INT((ROW()-1)/28), MOD(ROW()-1, 28))","v":0},{"$f":"OFFSET(X0withPad!$B$3, INT((ROW()-1)/28), MOD(ROW()-1, 28))","v":0},{"$f":"OFFSET(X0withPad!$C$3, INT((ROW()-1)/28), MOD(ROW()-1, 28))","v":0}]
[{"$f":"OFFSET(X0withPad!$A$1, INT((ROW()-1)/28), MOD(ROW()-1, 28))","v":0},{"$f":"OFFSET(X0withPad!$B$1, INT((ROW()-1)/28), MOD(ROW()-1, 28))","v":0},{"$f":"OFFSET(X0withPad!$C$1, INT((ROW()-1)/28), MOD(ROW()-1, 28))","v":0},{"$f":"OFFSET(X0withPad!$A$2, INT((ROW()-1)/28), MOD(ROW()-1, 28))","v":0},{"$f":"OFFSET(X0withPad!$B$2, INT((ROW()-1)/28), MOD(ROW()-1, 28))","v":0},{"$f":"OFFSET(X0withPad!$C$2, INT((ROW()-1)/28), MOD(ROW()-1, 28))","v":0},{"$f":"OFFSET(X0withPad!$A$3, INT((ROW()-1)/28), MOD(ROW()-1, 28))","v":0},{"$f":"OFFSET(X0withPad!$B$3, INT((ROW()-1)/28), MOD(ROW()-1, 28))","v":0},{"$f":"OFFSET(X0withPad!$C$3, INT((ROW()-1)/28), MOD(ROW()-1, 28))","v":0}]
[{"$f":"OFFSET(X0withPad!$A$1, INT((ROW()-1)/28), MOD(ROW()-1, 28))","v":0},{"$f":"OFFSET(X0withPad!$B$1, INT((ROW()-1)/28), MOD(ROW()-1, 28))","v":0},{"$f":"OFFSET(X0withPad!$C$1, INT((ROW()-1)/28), MOD(ROW()-1, 28))","v":0},{"$f":"OFFSET(X0withPad!$A$2, INT((ROW()-1)/28), MOD(ROW()-1, 28))","v":0},{"$f":"OFFSET(X0withPad!$B$2, INT((ROW()-1)/28), MOD(ROW()-1, 28))","v":0},{"$f":"OFFSET(X0withPad!$C$2, INT((ROW()-1)/28), MOD(ROW()-1, 28))","v":0},{"$f":"OFFSET(X0withPad!$A$3, INT((ROW()-1)/28), MOD(ROW()-1, 28))","v":0},{"$f":"OFFSET(X0withPad!$B$3, INT((ROW()-1)/28), MOD(ROW()-1, 28))","v":0},{"$f":"OFFSET(X0withPad!$C$3, INT((ROW()-1)/28), MOD(ROW()-1, 28))","v":0}]
[{"$f":"OFFSET(X0withPad!$A$1, INT((ROW()-1)/28), MOD(ROW()-1, 28))","v":0},{"$f":"OFFSET(X0withPad!$B$1, INT((ROW()-1)/28), MOD(ROW()-1, 28))","v":0},{"$f":"OFFSET(X0withPad!$C$1, INT((ROW()-1)/28), MOD(ROW()-1, 28))","v":0},{"$f":"OFFSET(X0withPad!$A$2, INT((ROW()-1)/28), MOD(ROW()-1, 28))","v":0},{"$f":"OFFSET(X0withPad!$B$2, INT((ROW()-1)/28), MOD(ROW()-1, 28))","v":0},{"$f":"OFFSET(X0withPad!$C$2, INT((ROW()-1)/28), MOD(ROW()-1, 28))","v":0},{"$f":"OFFSET(X0withPad!$A$3, INT((ROW()-1)/28), MOD(ROW()-1, 28))","v":0},{"$f":"OFFSET(X0withPad!$B$3, INT((ROW()-1)/28), MOD(ROW()-1, 28))","v":0},{"$f":"OFFSET(X0withPad!$C$3, INT((ROW()-1)/28), MOD(ROW()-1, 28))","v":0}]
[{"$f":"OFFSET(X0withPad!$A$1, INT((ROW()-1)/28), MOD(ROW()-1, 28))","v":0},{"$f":"OFFSET(X0withPad!$B$1, INT((ROW()-1)/28), MOD(ROW()-1, 28))","v":0},{"$f":"OFFSET(X0withPad!$C$1, INT((ROW()-1)/28), MOD(ROW()-1, 28))","v":0},{"$f":"OFFSET(X0withPad!$A$2, INT((ROW()-1)/28), MOD(ROW()-1, 28))","v":0},{"$f":"OFFSET(X0withPad!$B$2, INT((ROW()-1)/28), MOD(ROW()-1, 28))","v":0},{"$f":"OFFSET(X0withPad!$C$2, INT((ROW()-1)/28), MOD(ROW()-1, 28))","v":0},{"$f":"OFFSET(X0withPad!$A$3, INT((ROW()-1)/28), MOD(ROW()-1, 28))","v":0},{"$f":"OFFSET(X0withPad!$B$3, INT((ROW()-1)/28), MOD(ROW()-1, 28))","v":0},{"$f":"OFFSET(X0withPad!$C$3, INT((ROW()-1)/28), MOD(ROW()-1, 28))","v":0}]
[{"$f":"OFFSET(X0withPad!$A$1, INT((ROW()-1)/28), MOD(ROW()-1, 28))","v":0},{"$f":"OFFSET(X0withPad!$B$1, INT((ROW()-1)/28), MOD(ROW()-1, 28))","v":0},{"$f":"OFFSET(X0withPad!$C$1, INT((ROW()-1)/28), MOD(ROW()-1, 28))","v":0},{"$f":"OFFSET(X0withPad!$A$2, INT((ROW()-1)/28), MOD(ROW()-1, 28))","v":0},{"$f":"OFFSET(X0withPad!$B$2, INT((ROW()-1)/28), MOD(ROW()-1, 28))","v":0},{"$f":"OFFSET(X0withPad!$C$2, INT((ROW()-1)/28), MOD(ROW()-1, 28))","v":0},{"$f":"OFFSET(X0withPad!$A$3, INT((ROW()-1)/28), MOD(ROW()-1, 28))","v":0},{"$f":"OFFSET(X0withPad!$B$3, INT((ROW()-1)/28), MOD(ROW()-1, 28))","v":0},{"$f":"OFFSET(X0withPad!$C$3, INT((ROW()-1)/28), MOD(ROW()-1, 28))","v":0}]
[{"$f":"OFFSET(X0withPad!$A$1, INT((ROW()-1)/28), MOD(ROW()-1, 28))","v":0},{"$f":"OFFSET(X0withPad!$B$1, INT((ROW()-1)/28), MOD(ROW()-1, 28))","v":0},{"$f":"OFFSET(X0withPad!$C$1, INT((ROW()-1)/28), MOD(ROW()-1, 28))","v":0},{"$f":"OFFSET(X0withPad!$A$2, INT((ROW()-1)/28), MOD(ROW()-1, 28))","v":0},{"$f":"OFFSET(X0withPad!$B$2, INT((ROW()-1)/28), MOD(ROW()-1, 28))","v":0},{"$f":"OFFSET(X0withPad!$C$2, INT((ROW()-1)/28), MOD(ROW()-1, 28))","v":0},{"$f":"OFFSET(X0withPad!$A$3, INT((ROW()-1)/28), MOD(ROW()-1, 28))","v":0},{"$f":"OFFSET(X0withPad!$B$3, INT((ROW()-1)/28), MOD(ROW()-1, 28))","v":0},{"$f":"OFFSET(X0withPad!$C$3, INT((ROW()-1)/28), MOD(ROW()-1, 28))","v":0}]
[{"$f":"OFFSET(X0withPad!$A$1, INT((ROW()-1)/28), MOD(ROW()-1, 28))","v":0},{"$f":"OFFSET(X0withPad!$B$1, INT((ROW()-1)/28), MOD(ROW()-1, 28))","v":0},{"$f":"OFFSET(X0withPad!$C$1, INT((ROW()-1)/28), MOD(ROW()-1, 28))","v":0},{"$f":"OFFSET(X0withPad!$A$2, INT((ROW()-1)/28), MOD(ROW()-1, 28))","v":0},{"$f":"OFFSET(X0withPad!$B$2, INT((ROW()-1)/28), MOD(ROW()-1, 28))","v":0},{"$f":"OFFSET(X0withPad!$C$2, INT((ROW()-1)/28), MOD(ROW()-1, 28))","v":0},{"$f":"OFFSET(X0withPad!$A$3, INT((ROW()-1)/28), MOD(ROW()-1, 28))","v":0},{"$f":"OFFSET(X0withPad!$B$3, INT((ROW()-1)/28), MOD(ROW()-1, 28))","v":0},{"$f":"OFFSET(X0withPad!$C$3, INT((ROW()-1)/28), MOD(ROW()-1, 28))","v":0}]
[{"$f":"OFFSET(X0withPad!$A$1, INT((ROW()-1)/28), MOD(ROW()-1, 28))","v":0},{"$f":"OFFSET(X0withPad!$B$1, INT((ROW()-1)/28), MOD(ROW()-1, 28))","v":0},{"$f":"OFFSET(X0withPad!$C$1, INT((ROW()-1)/28), MOD(ROW()-1, 28))","v":0},{"$f":"OFFSET(X0withPad!$A$2, INT((ROW()-1)/28), MOD(ROW()-1, 28))","v":0},{"$f":"OFFSET(X0withPad!$B$2, INT((ROW()-1)/28), MOD(ROW()-1, 28))","v":0},{"$f":"OFFSET(X0withPad!$C$2, INT((ROW()-1)/28), MOD(ROW()-1, 28))","v":0},{"$f":"OFFSET(X0withPad!$A$3, INT((ROW()-1)/28), MOD(ROW()-1, 28))","v":0},{"$f":"OFFSET(X0withPad!$B$3, INT((ROW()-1)/28), MOD(ROW()-1, 28))","v":0},{"$f":"OFFSET(X0withPad!$C$3, INT((ROW()-1)/28), MOD(ROW()-1, 28))","v":0}]
[{"$f":"OFFSET(X0withPad!$A$1, INT((ROW()-1)/28), MOD(ROW()-1, 28))","v":0},{"$f":"OFFSET(X0withPad!$B$1, INT((ROW()-1)/28), MOD(ROW()-1, 28))","v":0},{"$f":"OFFSET(X0withPad!$C$1, INT((ROW()-1)/28), MOD(ROW()-1, 28))","v":0},{"$f":"OFFSET(X0withPad!$A$2, INT((ROW()-1)/28), MOD(ROW()-1, 28))","v":0},{"$f":"OFFSET(X0withPad!$B$2, INT((ROW()-1)/28), MOD(ROW()-1, 28))","v":0},{"$f":"OFFSET(X0withPad!$C$2, INT((ROW()-1)/28), MOD(ROW()-1, 28))","v":0},{"$f":"OFFSET(X0withPad!$A$3, INT((ROW()-1)/28), MOD(ROW()-1, 28))","v":0},{"$f":"OFFSET(X0withPad!$B$3, INT((ROW()-1)/28), MOD(ROW()-1, 28))","v":0},{"$f":"OFFSET(X0withPad!$C$3, INT((ROW()-1)/28), MOD(ROW()-1, 28))","v":0}]
[{"$f":"OFFSET(X0withPad!$A$1, INT((ROW()-1)/28), MOD(ROW()-1, 28))","v":0},{"$f":"OFFSET(X0withPad!$B$1, INT((ROW()-1)/28), MOD(ROW()-1, 28))","v":0},{"$f":"OFFSET(X0withPad!$C$1, INT((ROW()-1)/28), MOD(ROW()-1, 28))","v":0},{"$f":"OFFSET(X0withPad!$A$2, INT((ROW()-1)/28), MOD(ROW()-1, 28))","v":0},{"$f":"OFFSET(X0withPad!$B$2, INT((ROW()-1)/28), MOD(ROW()-1, 28))","v":0},{"$f":"OFFSET(X0withPad!$C$2, INT((ROW()-1)/28), MOD(ROW()-1, 28))","v":0},{"$f":"OFFSET(X0withPad!$A$3, INT((ROW()-1)/28), MOD(ROW()-1, 28))","v":0},{"$f":"OFFSET(X0withPad!$B$3, INT((ROW()-1)/28), MOD(ROW()-1, 28))","v":0},{"$f":"OFFSET(X0withPad!$C$3, INT((ROW()-1)/28), MOD(ROW()-1, 28))","v":0}]
[{"$f":"OFFSET(X0withPad!$A$1, INT((ROW()-1)/28), MOD(ROW()-1, 28))","v":0},{"$f":"OFFSET(X0withPad!$B$1, INT((ROW()-1)/28), MOD(ROW()-1, 28))","v":0},{"$f":"OFFSET(X0withPad!$C$1, INT((ROW()-1)/28), MOD(ROW()-1, 28))","v":0},{"$f":"OFFSET(X0withPad!$A$2, INT((ROW()-1)/28), MOD(ROW()-1, 28))","v":0},{"$f":"OFFSET(X0withPad!$B$2, INT((ROW()-1)/28), MOD(ROW()-1, 28))","v":0},{"$f":"OFFSET(X0withPad!$C$2, INT((ROW()-1)/28), MOD(ROW()-1, 28))","v":0},{"$f":"OFFSET(X0withPad!$A$3, INT((ROW()-1)/28), MOD(ROW()-1, 28))","v":0},{"$f":"OFFSET(X0withPad!$B$3, INT((ROW()-1)/28), MOD(ROW()-1, 28))","v":0},{"$f":"OFFSET(X0withPad!$C$3, INT((ROW()-1)/28), MOD(ROW()-1, 28))","v":0}]
[{"$f":"OFFSET(X0withPad!$A$1, INT((ROW()-1)/28), MOD(ROW()-1, 28))","v":0},{"$f":"OFFSET(X0withPad!$B$1, INT((ROW()-1)/28), MOD(ROW()-1, 28))","v":0},{"$f":"OFFSET(X0withPad!$C$1, INT((ROW()-1)/28), MOD(ROW()-1, 28))","v":0},{"$f":"OFFSET(X0withPad!$A$2, INT((ROW()-1)/28), MOD(ROW()-1, 28))","v":0},{"$f":"OFFSET(X0withPad!$B$2, INT((ROW()-1)/28), MOD(ROW()-1, 28))","v":0},{"$f":"OFFSET(X0withPad!$C$2, INT((ROW()-1)/28), MOD(ROW()-1, 28))","v":0},{"$f":"OFFSET(X0withPad!$A$3, INT((ROW()-1)/28), MOD(ROW()-1, 28))","v":0},{"$f":"OFFSET(X0withPad!$B$3, INT((ROW()-1)/28), MOD(ROW()-1, 28))","v":0},{"$f":"OFFSET(X0withPad!$C$3, INT((ROW()-1)/28), MOD(ROW()-1, 28))","v":0}]
[{"$f":"OFFSET(X0withPad!$A$1, INT((ROW()-1)/28), MOD(ROW()-1, 28))","v":0},{"$f":"OFFSET(X0withPad!$B$1, INT((ROW()-1)/28), MOD(ROW()-1, 28))","v":0},{"$f":"OFFSET(X0withPad!$C$1, INT((ROW()-1)/28), MOD(ROW()-1, 28))","v":0},{"$f":"OFFSET(X0withPad!$A$2, INT((ROW()-1)/28), MOD(ROW()-1, 28))","v":0},{"$f":"OFFSET(X0withPad!$B$2, INT((ROW()-1)/28), MOD(ROW()-1, 28))","v":0},{"$f":"OFFSET(X0withPad!$C$2, INT((ROW()-1)/28), MOD(ROW()-1, 28))","v":0},{"$f":"OFFSET(X0withPad!$A$3, INT((ROW()-1)/28), MOD(ROW()-1, 28))","v":0},{"$f":"OFFSET(X0withPad!$B$3, INT((ROW()-1)/28), MOD(ROW()-1, 28))","v":0},{"$f":"OFFSET(X0withPad!$C$3, INT((ROW()-1)/28), MOD(ROW()-1, 28))","v":0}]
[{"$f":"OFFSET(X0withPad!$A$1, INT((ROW()-1)/28), MOD(ROW()-1, 28))","v":0},{"$f":"OFFSET(X0withPad!$B$1, INT((ROW()-1)/28), MOD(ROW()-1, 28))","v":0},{"$f":"OFFSET(X0withPad!$C$1, INT((ROW()-1)/28), MOD(ROW()-1, 28))","v":0},{"$f":"OFFSET(X0withPad!$A$2, INT((ROW()-1)/28), MOD(ROW()-1, 28))","v":0},{"$f":"OFFSET(X0withPad!$B$2, INT((ROW()-1)/28), MOD(ROW()-1, 28))","v":0},{"$f":"OFFSET(X0withPad!$C$2, INT((ROW()-1)/28), MOD(ROW()-1, 28))","v":0},{"$f":"OFFSET(X0withPad!$A$3, INT((ROW()-1)/28), MOD(ROW()-1, 28))","v":0},{"$f":"OFFSET(X0withPad!$B$3, INT((ROW()-1)/28), MOD(ROW()-1, 28))","v":0},{"$f":"OFFSET(X0withPad!$C$3, INT((ROW()-1)/28), MOD(ROW()-1, 28))","v":0}]
[{"$f":"OFFSET(X0withPad!$A$1, INT((ROW()-1)/28), MOD(ROW()-1, 28))","v":0},{"$f":"OFFSET(X0withPad!$B$1, INT((ROW()-1)/28), MOD(ROW()-1, 28))","v":0},{"$f":"OFFSET(X0withPad!$C$1, INT((ROW()-1)/28), MOD(ROW()-1, 28))","v":0},{"$f":"OFFSET(X0withPad!$A$2, INT((ROW()-1)/28), MOD(ROW()-1, 28))","v":0},{"$f":"OFFSET(X0withPad!$B$2, INT((ROW()-1)/28), MOD(ROW()-1, 28))","v":0},{"$f":"OFFSET(X0withPad!$C$2, INT((ROW()-1)/28), MOD(ROW()-1, 28))","v":0},{"$f":"OFFSET(X0withPad!$A$3, INT((ROW()-1)/28), MOD(ROW()-1, 28))","v":0},{"$f":"OFFSET(X0withPad!$B$3, INT((ROW()-1)/28), MOD(ROW()-1, 28))","v":0},{"$f":"OFFSET(X0withPad!$C$3, INT((ROW()-1)/28), MOD(ROW()-1, 28))","v":0}]
[{"$f":"OFFSET(X0withPad!$A$1, INT((ROW()-1)/28), MOD(ROW()-1, 28))","v":0},{"$f":"OFFSET(X0withPad!$B$1, INT((ROW()-1)/28), MOD(ROW()-1, 28))","v":0},{"$f":"OFFSET(X0withPad!$C$1, INT((ROW()-1)/28), MOD(ROW()-1, 28))","v":0},{"$f":"OFFSET(X0withPad!$A$2, INT((ROW()-1)/28), MOD(ROW()-1, 28))","v":0},{"$f":"OFFSET(X0withPad!$B$2, INT((ROW()-1)/28), MOD(ROW()-1, 28))","v":0},{"$f":"OFFSET(X0withPad!$C$2, INT((ROW()-1)/28), MOD(ROW()-1, 28))","v":0},{"$f":"OFFSET(X0withPad!$A$3, INT((ROW()-1)/28), MOD(ROW()-1, 28))","v":0},{"$f":"OFFSET(X0withPad!$B$3, INT((ROW()-1)/28), MOD(ROW()-1, 28))","v":0},{"$f":"OFFSET(X0withPad!$C$3, INT((ROW()-1)/28), MOD(ROW()-1, 28))","v":0}]
[{"$f":"OFFSET(X0withPad!$A$1, INT((ROW()-1)/28), MOD(ROW()-1, 28))","v":0},{"$f":"OFFSET(X0withPad!$B$1, INT((ROW()-1)/28), MOD(ROW()-1, 28))","v":0},{"$f":"OFFSET(X0withPad!$C$1, INT((ROW()-1)/28), MOD(ROW()-1, 28))","v":0},{"$f":"OFFSET(X0withPad!$A$2, INT((ROW()-1)/28), MOD(ROW()-1, 28))","v":0},{"$f":"OFFSET(X0withPad!$B$2, INT((ROW()-1)/28), MOD(ROW()-1, 28))","v":0},{"$f":"OFFSET(X0withPad!$C$2, INT((ROW()-1)/28), MOD(ROW()-1, 28))","v":0},{"$f":"OFFSET(X0withPad!$A$3, INT((ROW()-1)/28), MOD(ROW()-1, 28))","v":0},{"$f":"OFFSET(X0withPad!$B$3, INT((ROW()-1)/28), MOD(ROW()-1, 28))","v":0},{"$f":"OFFSET(X0withPad!$C$3, INT((ROW()-1)/28), MOD(ROW()-1, 28))","v":0}]
[{"$f":"OFFSET(X0withPad!$A$1, INT((ROW()-1)/28), MOD(ROW()-1, 28))","v":0},{"$f":"OFFSET(X0withPad!$B$1, INT((ROW()-1)/28), MOD(ROW()-1, 28))","v":0},{"$f":"OFFSET(X0withPad!$C$1, INT((ROW()-1)/28), MOD(ROW()-1, 28))","v":0},{"$f":"OFFSET(X0withPad!$A$2, INT((ROW()-1)/28), MOD(ROW()-1, 28))","v":0},{"$f":"OFFSET(X0withPad!$B$2, INT((ROW()-1)/28), MOD(ROW()-1, 28))","v":0},{"$f":"OFFSET(X0withPad!$C$2, INT((ROW()-1)/28), MOD(ROW()-1, 28))","v":0},{"$f":"OFFSET(X0withPad!$A$3, INT((ROW()-1)/28), MOD(ROW()-1, 28))","v":0},{"$f":"OFFSET(X0withPad!$B$3, INT((ROW()-1)/28), MOD(ROW()-1, 28))","v":0},{"$f":"OFFSET(X0withPad!$C$3, INT((ROW()-1)/28), MOD(ROW()-1, 28))","v":0}]
[{"$f":"OFFSET(X0withPad!$A$1, INT((ROW()-1)/28), MOD(ROW()-1, 28))","v":0},{"$f":"OFFSET(X0withPad!$B$1, INT((ROW()-1)/28), MOD(ROW()-1, 28))","v":0},{"$f":"OFFSET(X0withPad!$C$1, INT((ROW()-1)/28), MOD(ROW()-1, 28))","v":0},{"$f":"OFFSET(X0withPad!$A$2, INT((ROW()-1)/28), MOD(ROW()-1, 28))","v":0},{"$f":"OFFSET(X0withPad!$B$2, INT((ROW()-1)/28), MOD(ROW()-1, 28))","v":0},{"$f":"OFFSET(X0withPad!$C$2, INT((ROW()-1)/28), MOD(ROW()-1, 28))","v":0},{"$f":"OFFSET(X0withPad!$A$3, INT((ROW()-1)/28), MOD(ROW()-1, 28))","v":0},{"$f":"OFFSET(X0withPad!$B$3, INT((ROW()-1)/28), MOD(ROW()-1, 28))","v":0},{"$f":"OFFSET(X0withPad!$C$3, INT((ROW()-1)/28), MOD(ROW()-1, 28))","v":61}]
[{"$f":"OFFSET(X0withPad!$A$1, INT((ROW()-1)/28), MOD(ROW()-1, 28))","v":0},{"$f":"OFFSET(X0withPad!$B$1, INT((ROW()-1)/28), MOD(ROW()-1, 28))","v":0},{"$f":"OFFSET(X0withPad!$C$1, INT((ROW()-1)/28), MOD(ROW()-1, 28))","v":31},{"$f":"OFFSET(X0withPad!$A$2, INT((ROW()-1)/28), MOD(ROW()-1, 28))","v":0},{"$f":"OFFSET(X0withPad!$B$2, INT((ROW()-1)/28), MOD(ROW()-1, 28))","v":0},{"$f":"OFFSET(X0withPad!$C$2, INT((ROW()-1)/28), MOD(ROW()-1, 28))","v":133},{"$f":"OFFSET(X0withPad!$A$3, INT((ROW()-1)/28), MOD(ROW()-1, 28))","v":0},{"$f":"OFFSET(X0withPad!$B$3, INT((ROW()-1)/28), MOD(ROW()-1, 28))","v":61},{"$f":"OFFSET(X0withPad!$C$3, INT((ROW()-1)/28), MOD(ROW()-1, 28))","v":242}]
[{"$f":"OFFSET(X0withPad!$A$1, INT((ROW()-1)/28), MOD(ROW()-1, 28))","v":0},{"$f":"OFFSET(X0withPad!$B$1, INT((ROW()-1)/28), MOD(ROW()-1, 28))","v":31},{"$f":"OFFSET(X0withPad!$C$1, INT((ROW()-1)/28), MOD(ROW()-1, 28))","v":224},{"$f":"OFFSET(X0withPad!$A$2, INT((ROW()-1)/28), MOD(ROW()-1, 28))","v":0},{"$f":"OFFSET(X0withPad!$B$2, INT((ROW()-1)/28), MOD(ROW()-1, 28))","v":133},{"$f":"OFFSET(X0withPad!$C$2, INT((ROW()-1)/28), MOD(ROW()-1, 28))","v":254},{"$f":"OFFSET(X0withPad!$A$3, INT((ROW()-1)/28), MOD(ROW()-1, 28))","v":61},{"$f":"OFFSET(X0withPad!$B$3, INT((ROW()-1)/28), MOD(ROW()-1, 28))","v":242},{"$f":"OFFSET(X0withPad!$C$3, INT((ROW()-1)/28), MOD(ROW()-1, 28))","v":254}]
[{"$f":"OFFSET(X0withPad!$A$1, INT((ROW()-1)/28), MOD(ROW()-1, 28))","v":31},{"$f":"OFFSET(X0withPad!$B$1, INT((ROW()-1)/28), MOD(ROW()-1, 28))","v":224},{"$f":"OFFSET(X0withPad!$C$1, INT((ROW()-1)/28), MOD(ROW()-1, 28))","v":254},{"$f":"OFFSET(X0withPad!$A$2, INT((ROW()-1)/28), MOD(ROW()-1, 28))","v":133},{"$f":"OFFSET(X0withPad!$B$2, INT((ROW()-1)/28), MOD(ROW()-1, 28))","v":254},{"$f":"OFFSET(X0withPad!$C$2, INT((ROW()-1)/28), MOD(ROW()-1, 28))","v":254},{"$f":"OFFSET(X0withPad!$A$3, INT((ROW()-1)/28), MOD(ROW()-1, 28))","v":242},{"$f":"OFFSET(X0withPad!$B$3, INT((ROW()-1)/28), MOD(ROW()-1, 28))","v":254},{"$f":"OFFSET(X0withPad!$C$3, INT((ROW()-1)/28), MOD(ROW()-1, 28))","v":254}]
[{"$f":"OFFSET(X0withPad!$A$1, INT((ROW()-1)/28), MOD(ROW()-1, 28))","v":224},{"$f":"OFFSET(X0withPad!$B$1, INT((ROW()-1)/28), MOD(ROW()-1, 28))","v":254},{"$f":"OFFSET(X0withPad!$C$1, INT((ROW()-1)/28), MOD(ROW()-1, 28))","v":115},{"$f":"OFFSET(X0withPad!$A$2, INT((ROW()-1)/28), MOD(ROW()-1, 28))","v":254},{"$f":"OFFSET(X0withPad!$B$2, INT((ROW()-1)/28), MOD(ROW()-1, 28))","v":254},{"$f":"OFFSET(X0withPad!$C$2, INT((ROW()-1)/28), MOD(ROW()-1, 28))","v":52},{"$f":"OFFSET(X0withPad!$A$3, INT((ROW()-1)/28), MOD(ROW()-1, 28))","v":254},{"$f":"OFFSET(X0withPad!$B$3, INT((ROW()-1)/28), MOD(ROW()-1, 28))","v":254},{"$f":"OFFSET(X0withPad!$C$3, INT((ROW()-1)/28), MOD(ROW()-1, 28))","v":52}]
[{"$f":"OFFSET(X0withPad!$A$1, INT((ROW()-1)/28), MOD(ROW()-1, 28))","v":254},{"$f":"OFFSET(X0withPad!$B$1, INT((ROW()-1)/28), MOD(ROW()-1, 28))","v":115},{"$f":"OFFSET(X0withPad!$C$1, INT((ROW()-1)/28), MOD(ROW()-1, 28))","v":1},{"$f":"OFFSET(X0withPad!$A$2, INT((ROW()-1)/28), MOD(ROW()-1, 28))","v":254},{"$f":"OFFSET(X0withPad!$B$2, INT((ROW()-1)/28), MOD(ROW()-1, 28))","v":52},{"$f":"OFFSET(X0withPad!$C$2, INT((ROW()-1)/28), MOD(ROW()-1, 28))","v":0},{"$f":"OFFSET(X0withPad!$A$3, INT((ROW()-1)/28), MOD(ROW()-1, 28))","v":254},{"$f":"OFFSET(X0withPad!$B$3, INT((ROW()-1)/28), MOD(ROW()-1, 28))","v":52},{"$f":"OFFSET(X0withPad!$C$3, INT((ROW()-1)/28), MOD(ROW()-1, 28))","v":0}]
[{"$f":"OFFSET(X0withPad!$A$1, INT((ROW()-1)/28), MOD(ROW()-1, 28))","v":115},{"$f":"OFFSET(X0withPad!$B$1, INT((ROW()-1)/28), MOD(ROW()-1, 28))","v":1},{"$f":"OFFSET(X0withPad!$C$1, INT((ROW()-1)/28), MOD(ROW()-1, 28))","v":0},{"$f":"OFFSET(X0withPad!$A$2, INT((ROW()-1)/28), MOD(ROW()-1, 28))","v":52},{"$f":"OFFSET(X0withPad!$B$2, INT((ROW()-1)/28), MOD(ROW()-1, 28))","v":0},{"$f":"OFFSET(X0withPad!$C$2, INT((ROW()-1)/28), MOD(ROW()-1, 28))","v":0},{"$f":"OFFSET(X0withPad!$A$3, INT((ROW()-1)/28), MOD(ROW()-1, 28))","v":52},{"$f":"OFFSET(X0withPad!$B$3, INT((ROW()-1)/28), MOD(ROW()-1, 28))","v":0},{"$f":"OFFSET(X0withPad!$C$3, INT((ROW()-1)/28), MOD(ROW()-1, 28))","v":0}]
[{"$f":"OFFSET(X0withPad!$A$1, INT((ROW()-1)/28), MOD(ROW()-1, 28))","v":1},{"$f":"OFFSET(X0withPad!$B$1, INT((ROW()-1)/28), MOD(ROW()-1, 28))","v":0},{"$f":"OFFSET(X0withPad!$C$1, INT((ROW()-1)/28), MOD(ROW()-1, 28))","v":0},{"$f":"OFFSET(X0withPad!$A$2, INT((ROW()-1)/28), MOD(ROW()-1, 28))","v":0},{"$f":"OFFSET(X0withPad!$B$2, INT((ROW()-1)/28), MOD(ROW()-1, 28))","v":0},{"$f":"OFFSET(X0withPad!$C$2, INT((ROW()-1)/28), MOD(ROW()-1, 28))","v":0},{"$f":"OFFSET(X0withPad!$A$3, INT((ROW()-1)/28), MOD(ROW()-1, 28))","v":0},{"$f":"OFFSET(X0withPad!$B$3, INT((ROW()-1)/28), MOD(ROW()-1, 28))","v":0},{"$f":"OFFSET(X0withPad!$C$3, INT((ROW()-1)/28), MOD(ROW()-1, 28))","v":0}]
[{"$f":"OFFSET(X0withPad!$A$1, INT((ROW()-1)/28), MOD(ROW()-1, 28))","v":0},{"$f":"OFFSET(X0withPad!$B$1, INT((ROW()-1)/28), MOD(ROW()-1, 28))","v":0},{"$f":"OFFSET(X0withPad!$C$1, INT((ROW()-1)/28), MOD(ROW()-1, 28))","v":0},{"$f":"OFFSET(X0withPad!$A$2, INT((ROW()-1)/28), MOD(ROW()-1, 28))","v":0},{"$f":"OFFSET(X0withPad!$B$2, INT((ROW()-1)/28), MOD(ROW()-1, 28))","v":0},{"$f":"OFFSET(X0withPad!$C$2, INT((ROW()-1)/28), MOD(ROW()-1, 28))","v":0},{"$f":"OFFSET(X0withPad!$A$3, INT((ROW()-1)/28), MOD(ROW()-1, 28))","v":0},{"$f":"OFFSET(X0withPad!$B$3, INT((ROW()-1)/28), MOD(ROW()-1, 28))","v":0},{"$f":"OFFSET(X0withPad!$C$3, INT((ROW()-1)/28), MOD(ROW()-1, 28))","v":0}]
[{"$f":"OFFSET(X0withPad!$A$1, INT((ROW()-1)/28), MOD(ROW()-1, 28))","v":0},{"$f":"OFFSET(X0withPad!$B$1, INT((ROW()-1)/28), MOD(ROW()-1, 28))","v":0},{"$f":"OFFSET(X0withPad!$C$1, INT((ROW()-1)/28), MOD(ROW()-1, 28))","v":0},{"$f":"OFFSET(X0withPad!$A$2, INT((ROW()-1)/28), MOD(ROW()-1, 28))","v":0},{"$f":"OFFSET(X0withPad!$B$2, INT((ROW()-1)/28), MOD(ROW()-1, 28))","v":0},{"$f":"OFFSET(X0withPad!$C$2, INT((ROW()-1)/28), MOD(ROW()-1, 28))","v":0},{"$f":"OFFSET(X0withPad!$A$3, INT((ROW()-1)/28), MOD(ROW()-1, 28))","v":0},{"$f":"OFFSET(X0withPad!$B$3, INT((ROW()-1)/28), MOD(ROW()-1, 28))","v":0},{"$f":"OFFSET(X0withPad!$C$3, INT((ROW()-1)/28), MOD(ROW()-1, 28))","v":0}]
[{"$f":"OFFSET(X0withPad!$A$1, INT((ROW()-1)/28), MOD(ROW()-1, 28))","v":0},{"$f":"OFFSET(X0withPad!$B$1, INT((ROW()-1)/28), MOD(ROW()-1, 28))","v":0},{"$f":"OFFSET(X0withPad!$C$1, INT((ROW()-1)/28), MOD(ROW()-1, 28))","v":0},{"$f":"OFFSET(X0withPad!$A$2, INT((ROW()-1)/28), MOD(ROW()-1, 28))","v":0},{"$f":"OFFSET(X0withPad!$B$2, INT((ROW()-1)/28), MOD(ROW()-1, 28))","v":0},{"$f":"OFFSET(X0withPad!$C$2, INT((ROW()-1)/28), MOD(ROW()-1, 28))","v":0},{"$f":"OFFSET(X0withPad!$A$3, INT((ROW()-1)/28), MOD(ROW()-1, 28))","v":0},{"$f":"OFFSET(X0withPad!$B$3, INT((ROW()-1)/28), MOD(ROW()-1, 28))","v":0},{"$f":"OFFSET(X0withPad!$C$3, INT((ROW()-1)/28), MOD(ROW()-1, 28))","v":0}]
[{"$f":"OFFSET(X0withPad!$A$1, INT((ROW()-1)/28), MOD(ROW()-1, 28))","v":0},{"$f":"OFFSET(X0withPad!$B$1, INT((ROW()-1)/28), MOD(ROW()-1, 28))","v":0},{"$f":"OFFSET(X0withPad!$C$1, INT((ROW()-1)/28), MOD(ROW()-1, 28))","v":0},{"$f":"OFFSET(X0withPad!$A$2, INT((ROW()-1)/28), MOD(ROW()-1, 28))","v":0},{"$f":"OFFSET(X0withPad!$B$2, INT((ROW()-1)/28), MOD(ROW()-1, 28))","v":0},{"$f":"OFFSET(X0withPad!$C$2, INT((ROW()-1)/28), MOD(ROW()-1, 28))","v":0},{"$f":"OFFSET(X0withPad!$A$3, INT((ROW()-1)/28), MOD(ROW()-1, 28))","v":0},{"$f":"OFFSET(X0withPad!$B$3, INT((ROW()-1)/28), MOD(ROW()-1, 28))","v":0},{"$f":"OFFSET(X0withPad!$C$3, INT((ROW()-1)/28), MOD(ROW()-1, 28))","v":0}]
[{"$f":"OFFSET(X0withPad!$A$1, INT((ROW()-1)/28), MOD(ROW()-1, 28))","v":0},{"$f":"OFFSET(X0withPad!$B$1, INT((ROW()-1)/28), MOD(ROW()-1, 28))","v":0},{"$f":"OFFSET(X0withPad!$C$1, INT((ROW()-1)/28), MOD(ROW()-1, 28))","v":0},{"$f":"OFFSET(X0withPad!$A$2, INT((ROW()-1)/28), MOD(ROW()-1, 28))","v":0},{"$f":"OFFSET(X0withPad!$B$2, INT((ROW()-1)/28), MOD(ROW()-1, 28))","v":0},{"$f":"OFFSET(X0withPad!$C$2, INT((ROW()-1)/28), MOD(ROW()-1, 28))","v":0},{"$f":"OFFSET(X0withPad!$A$3, INT((ROW()-1)/28), MOD(ROW()-1, 28))","v":0},{"$f":"OFFSET(X0withPad!$B$3, INT((ROW()-1)/28), MOD(ROW()-1, 28))","v":0},{"$f":"OFFSET(X0withPad!$C$3, INT((ROW()-1)/28), MOD(ROW()-1, 28))","v":0}]
[{"$f":"OFFSET(X0withPad!$A$1, INT((ROW()-1)/28), MOD(ROW()-1, 28))","v":0},{"$f":"OFFSET(X0withPad!$B$1, INT((ROW()-1)/28), MOD(ROW()-1, 28))","v":0},{"$f":"OFFSET(X0withPad!$C$1, INT((ROW()-1)/28), MOD(ROW()-1, 28))","v":0},{"$f":"OFFSET(X0withPad!$A$2, INT((ROW()-1)/28), MOD(ROW()-1, 28))","v":0},{"$f":"OFFSET(X0withPad!$B$2, INT((ROW()-1)/28), MOD(ROW()-1, 28))","v":0},{"$f":"OFFSET(X0withPad!$C$2, INT((ROW()-1)/28), MOD(ROW()-1, 28))","v":0},{"$f":"OFFSET(X0withPad!$A$3, INT((ROW()-1)/28), MOD(ROW()-1, 28))","v":0},{"$f":"OFFSET(X0withPad!$B$3, INT((ROW()-1)/28), MOD(ROW()-1, 28))","v":0},{"$f":"OFFSET(X0withPad!$C$3, INT((ROW()-1)/28), MOD(ROW()-1, 28))","v":0}]
[{"$f":"OFFSET(X0withPad!$A$1, INT((ROW()-1)/28), MOD(ROW()-1, 28))","v":0},{"$f":"OFFSET(X0withPad!$B$1, INT((ROW()-1)/28), MOD(ROW()-1, 28))","v":0},{"$f":"OFFSET(X0withPad!$C$1, INT((ROW()-1)/28), MOD(ROW()-1, 28))","v":0},{"$f":"OFFSET(X0withPad!$A$2, INT((ROW()-1)/28), MOD(ROW()-1, 28))","v":0},{"$f":"OFFSET(X0withPad!$B$2, INT((ROW()-1)/28), MOD(ROW()-1, 28))","v":0},{"$f":"OFFSET(X0withPad!$C$2, INT((ROW()-1)/28), MOD(ROW()-1, 28))","v":0},{"$f":"OFFSET(X0withPad!$A$3, INT((ROW()-1)/28), MOD(ROW()-1, 28))","v":0},{"$f":"OFFSET(X0withPad!$B$3, INT((ROW()-1)/28), MOD(ROW()-1, 28))","v":0},{"$f":"OFFSET(X0withPad!$C$3, INT((ROW()-1)/28), MOD(ROW()-1, 28))","v":0}]
[{"$f":"OFFSET(X0withPad!$A$1, INT((ROW()-1)/28), MOD(ROW()-1, 28))","v":0},{"$f":"OFFSET(X0withPad!$B$1, INT((ROW()-1)/28), MOD(ROW()-1, 28))","v":0},{"$f":"OFFSET(X0withPad!$C$1, INT((ROW()-1)/28), MOD(ROW()-1, 28))","v":0},{"$f":"OFFSET(X0withPad!$A$2, INT((ROW()-1)/28), MOD(ROW()-1, 28))","v":0},{"$f":"OFFSET(X0withPad!$B$2, INT((ROW()-1)/28), MOD(ROW()-1, 28))","v":0},{"$f":"OFFSET(X0withPad!$C$2, INT((ROW()-1)/28), MOD(ROW()-1, 28))","v":0},{"$f":"OFFSET(X0withPad!$A$3, INT((ROW()-1)/28), MOD(ROW()-1, 28))","v":0},{"$f":"OFFSET(X0withPad!$B$3, INT((ROW()-1)/28), MOD(ROW()-1, 28))","v":0},{"$f":"OFFSET(X0withPad!$C$3, INT((ROW()-1)/28), MOD(ROW()-1, 28))","v":0}]
[{"$f":"OFFSET(X0withPad!$A$1, INT((ROW()-1)/28), MOD(ROW()-1, 28))","v":0},{"$f":"OFFSET(X0withPad!$B$1, INT((ROW()-1)/28), MOD(ROW()-1, 28))","v":0},{"$f":"OFFSET(X0withPad!$C$1, INT((ROW()-1)/28), MOD(ROW()-1, 28))","v":0},{"$f":"OFFSET(X0withPad!$A$2, INT((ROW()-1)/28), MOD(ROW()-1, 28))","v":0},{"$f":"OFFSET(X0withPad!$B$2, INT((ROW()-1)/28), MOD(ROW()-1, 28))","v":0},{"$f":"OFFSET(X0withPad!$C$2, INT((ROW()-1)/28), MOD(ROW()-1, 28))","v":0},{"$f":"OFFSET(X0withPad!$A$3, INT((ROW()-1)/28), MOD(ROW()-1, 28))","v":0},{"$f":"OFFSET(X0withPad!$B$3, INT((ROW()-1)/28), MOD(ROW()-1, 28))","v":0},{"$f":"OFFSET(X0withPad!$C$3, INT((ROW()-1)/28), MOD(ROW()-1, 28))","v":0}]
[{"$f":"OFFSET(X0withPad!$A$1, INT((ROW()-1)/28), MOD(ROW()-1, 28))","v":0},{"$f":"OFFSET(X0withPad!$B$1, INT((ROW()-1)/28), MOD(ROW()-1, 28))","v":0},{"$f":"OFFSET(X0withPad!$C$1, INT((ROW()-1)/28), MOD(ROW()-1, 28))","v":0},{"$f":"OFFSET(X0withPad!$A$2, INT((ROW()-1)/28), MOD(ROW()-1, 28))","v":0},{"$f":"OFFSET(X0withPad!$B$2, INT((ROW()-1)/28), MOD(ROW()-1, 28))","v":0},{"$f":"OFFSET(X0withPad!$C$2, INT((ROW()-1)/28), MOD(ROW()-1, 28))","v":0},{"$f":"OFFSET(X0withPad!$A$3, INT((ROW()-1)/28), MOD(ROW()-1, 28))","v":0},{"$f":"OFFSET(X0withPad!$B$3, INT((ROW()-1)/28), MOD(ROW()-1, 28))","v":0},{"$f":"OFFSET(X0withPad!$C$3, INT((ROW()-1)/28), MOD(ROW()-1, 28))","v":0}]
[{"$f":"OFFSET(X0withPad!$A$1, INT((ROW()-1)/28), MOD(ROW()-1, 28))","v":0},{"$f":"OFFSET(X0withPad!$B$1, INT((ROW()-1)/28), MOD(ROW()-1, 28))","v":0},{"$f":"OFFSET(X0withPad!$C$1, INT((ROW()-1)/28), MOD(ROW()-1, 28))","v":0},{"$f":"OFFSET(X0withPad!$A$2, INT((ROW()-1)/28), MOD(ROW()-1, 28))","v":0},{"$f":"OFFSET(X0withPad!$B$2, INT((ROW()-1)/28), MOD(ROW()-1, 28))","v":0},{"$f":"OFFSET(X0withPad!$C$2, INT((ROW()-1)/28), MOD(ROW()-1, 28))","v":0},{"$f":"OFFSET(X0withPad!$A$3, INT((ROW()-1)/28), MOD(ROW()-1, 28))","v":0},{"$f":"OFFSET(X0withPad!$B$3, INT((ROW()-1)/28), MOD(ROW()-1, 28))","v":0},{"$f":"OFFSET(X0withPad!$C$3, INT((ROW()-1)/28), MOD(ROW()-1, 28))","v":0}]
[{"$f":"OFFSET(X0withPad!$A$1, INT((ROW()-1)/28), MOD(ROW()-1, 28))","v":0},{"$f":"OFFSET(X0withPad!$B$1, INT((ROW()-1)/28), MOD(ROW()-1, 28))","v":0},{"$f":"OFFSET(X0withPad!$C$1, INT((ROW()-1)/28), MOD(ROW()-1, 28))","v":0},{"$f":"OFFSET(X0withPad!$A$2, INT((ROW()-1)/28), MOD(ROW()-1, 28))","v":0},{"$f":"OFFSET(X0withPad!$B$2, INT((ROW()-1)/28), MOD(ROW()-1, 28))","v":0},{"$f":"OFFSET(X0withPad!$C$2, INT((ROW()-1)/28), MOD(ROW()-1, 28))","v":0},{"$f":"OFFSET(X0withPad!$A$3, INT((ROW()-1)/28), MOD(ROW()-1, 28))","v":0},{"$f":"OFFSET(X0withPad!$B$3, INT((ROW()-1)/28), MOD(ROW()-1, 28))","v":0},{"$f":"OFFSET(X0withPad!$C$3, INT((ROW()-1)/28), MOD(ROW()-1, 28))","v":0}]
[{"$f":"OFFSET(X0withPad!$A$1, INT((ROW()-1)/28), MOD(ROW()-1, 28))","v":0},{"$f":"OFFSET(X0withPad!$B$1, INT((ROW()-1)/28), MOD(ROW()-1, 28))","v":0},{"$f":"OFFSET(X0withPad!$C$1, INT((ROW()-1)/28), MOD(ROW()-1, 28))","v":0},{"$f":"OFFSET(X0withPad!$A$2, INT((ROW()-1)/28), MOD(ROW()-1, 28))","v":0},{"$f":"OFFSET(X0withPad!$B$2, INT((ROW()-1)/28), MOD(ROW()-1, 28))","v":0},{"$f":"OFFSET(X0withPad!$C$2, INT((ROW()-1)/28), MOD(ROW()-1, 28))","v":0},{"$f":"OFFSET(X0withPad!$A$3, INT((ROW()-1)/28), MOD(ROW()-1, 28))","v":0},{"$f":"OFFSET(X0withPad!$B$3, INT((ROW()-1)/28), MOD(ROW()-1, 28))","v":0},{"$f":"OFFSET(X0withPad!$C$3, INT((ROW()-1)/28), MOD(ROW()-1, 28))","v":0}]
[{"$f":"OFFSET(X0withPad!$A$1, INT((ROW()-1)/28), MOD(ROW()-1, 28))","v":0},{"$f":"OFFSET(X0withPad!$B$1, INT((ROW()-1)/28), MOD(ROW()-1, 28))","v":0},{"$f":"OFFSET(X0withPad!$C$1, INT((ROW()-1)/28), MOD(ROW()-1, 28))","v":0},{"$f":"OFFSET(X0withPad!$A$2, INT((ROW()-1)/28), MOD(ROW()-1, 28))","v":0},{"$f":"OFFSET(X0withPad!$B$2, INT((ROW()-1)/28), MOD(ROW()-1, 28))","v":0},{"$f":"OFFSET(X0withPad!$C$2, INT((ROW()-1)/28), MOD(ROW()-1, 28))","v":0},{"$f":"OFFSET(X0withPad!$A$3, INT((ROW()-1)/28), MOD(ROW()-1, 28))","v":0},{"$f":"OFFSET(X0withPad!$B$3, INT((ROW()-1)/28), MOD(ROW()-1, 28))","v":0},{"$f":"OFFSET(X0withPad!$C$3, INT((ROW()-1)/28), MOD(ROW()-1, 28))","v":0}]
[{"$f":"OFFSET(X0withPad!$A$1, INT((ROW()-1)/28), MOD(ROW()-1, 28))","v":0},{"$f":"OFFSET(X0withPad!$B$1, INT((ROW()-1)/28), MOD(ROW()-1, 28))","v":0},{"$f":"OFFSET(X0withPad!$C$1, INT((ROW()-1)/28), MOD(ROW()-1, 28))","v":0},{"$f":"OFFSET(X0withPad!$A$2, INT((ROW()-1)/28), MOD(ROW()-1, 28))","v":0},{"$f":"OFFSET(X0withPad!$B$2, INT((ROW()-1)/28), MOD(ROW()-1, 28))","v":0},{"$f":"OFFSET(X0withPad!$C$2, INT((ROW()-1)/28), MOD(ROW()-1, 28))","v":0},{"$f":"OFFSET(X0withPad!$A$3, INT((ROW()-1)/28), MOD(ROW()-1, 28))","v":0},{"$f":"OFFSET(X0withPad!$B$3, INT((ROW()-1)/28), MOD(ROW()-1, 28))","v":0},{"$f":"OFFSET(X0withPad!$C$3, INT((ROW()-1)/28), MOD(ROW()-1, 28))","v":0}]
[{"$f":"OFFSET(X0withPad!$A$1, INT((ROW()-1)/28), MOD(ROW()-1, 28))","v":0},{"$f":"OFFSET(X0withPad!$B$1, INT((ROW()-1)/28), MOD(ROW()-1, 28))","v":0},{"$f":"OFFSET(X0withPad!$C$1, INT((ROW()-1)/28), MOD(ROW()-1, 28))","v":0},{"$f":"OFFSET(X0withPad!$A$2, INT((ROW()-1)/28), MOD(ROW()-1, 28))","v":0},{"$f":"OFFSET(X0withPad!$B$2, INT((ROW()-1)/28), MOD(ROW()-1, 28))","v":0},{"$f":"OFFSET(X0withPad!$C$2, INT((ROW()-1)/28), MOD(ROW()-1, 28))","v":0},{"$f":"OFFSET(X0withPad!$A$3, INT((ROW()-1)/28), MOD(ROW()-1, 28))","v":0},{"$f":"OFFSET(X0withPad!$B$3, INT((ROW()-1)/28), MOD(ROW()-1, 28))","v":0},{"$f":"OFFSET(X0withPad!$C$3, INT((ROW()-1)/28), MOD(ROW()-1, 28))","v":0}]
[{"$f":"OFFSET(X0withPad!$A$1, INT((ROW()-1)/28), MOD(ROW()-1, 28))","v":0},{"$f":"OFFSET(X0withPad!$B$1, INT((ROW()-1)/28), MOD(ROW()-1, 28))","v":0},{"$f":"OFFSET(X0withPad!$C$1, INT((ROW()-1)/28), MOD(ROW()-1, 28))","v":0},{"$f":"OFFSET(X0withPad!$A$2, INT((ROW()-1)/28), MOD(ROW()-1, 28))","v":0},{"$f":"OFFSET(X0withPad!$B$2, INT((ROW()-1)/28), MOD(ROW()-1, 28))","v":0},{"$f":"OFFSET(X0withPad!$C$2, INT((ROW()-1)/28), MOD(ROW()-1, 28))","v":0},{"$f":"OFFSET(X0withPad!$A$3, INT((ROW()-1)/28), MOD(ROW()-1, 28))","v":0},{"$f":"OFFSET(X0withPad!$B$3, INT((ROW()-1)/28), MOD(ROW()-1, 28))","v":0},{"$f":"OFFSET(X0withPad!$C$3, INT((ROW()-1)/28), MOD(ROW()-1, 28))","v":0}]
[{"$f":"OFFSET(X0withPad!$A$1, INT((ROW()-1)/28), MOD(ROW()-1, 28))","v":0},{"$f":"OFFSET(X0withPad!$B$1, INT((ROW()-1)/28), MOD(ROW()-1, 28))","v":0},{"$f":"OFFSET(X0withPad!$C$1, INT((ROW()-1)/28), MOD(ROW()-1, 28))","v":0},{"$f":"OFFSET(X0withPad!$A$2, INT((ROW()-1)/28), MOD(ROW()-1, 28))","v":0},{"$f":"OFFSET(X0withPad!$B$2, INT((ROW()-1)/28), MOD(ROW()-1, 28))","v":0},{"$f":"OFFSET(X0withPad!$C$2, INT((ROW()-1)/28), MOD(ROW()-1, 28))","v":0},{"$f":"OFFSET(X0withPad!$A$3, INT((ROW()-1)/28), MOD(ROW()-1, 28))","v":0},{"$f":"OFFSET(X0withPad!$B$3, INT((ROW()-1)/28), MOD(ROW()-1, 28))","v":0},{"$f":"OFFSET(X0withPad!$C$3, INT((ROW()-1)/28), MOD(ROW()-1, 28))","v":0}]
[{"$f":"OFFSET(X0withPad!$A$1, INT((ROW()-1)/28), MOD(ROW()-1, 28))","v":0},{"$f":"OFFSET(X0withPad!$B$1, INT((ROW()-1)/28), MOD(ROW()-1, 28))","v":0},{"$f":"OFFSET(X0withPad!$C$1, INT((ROW()-1)/28), MOD(ROW()-1, 28))","v":0},{"$f":"OFFSET(X0withPad!$A$2, INT((ROW()-1)/28), MOD(ROW()-1, 28))","v":0},{"$f":"OFFSET(X0withPad!$B$2, INT((ROW()-1)/28), MOD(ROW()-1, 28))","v":0},{"$f":"OFFSET(X0withPad!$C$2, INT((ROW()-1)/28), MOD(ROW()-1, 28))","v":0},{"$f":"OFFSET(X0withPad!$A$3, INT((ROW()-1)/28), MOD(ROW()-1, 28))","v":0},{"$f":"OFFSET(X0withPad!$B$3, INT((ROW()-1)/28), MOD(ROW()-1, 28))","v":0},{"$f":"OFFSET(X0withPad!$C$3, INT((ROW()-1)/28), MOD(ROW()-1, 28))","v":0}]
[{"$f":"OFFSET(X0withPad!$A$1, INT((ROW()-1)/28), MOD(ROW()-1, 28))","v":0},{"$f":"OFFSET(X0withPad!$B$1, INT((ROW()-1)/28), MOD(ROW()-1, 28))","v":0},{"$f":"OFFSET(X0withPad!$C$1, INT((ROW()-1)/28), MOD(ROW()-1, 28))","v":0},{"$f":"OFFSET(X0withPad!$A$2, INT((ROW()-1)/28), MOD(ROW()-1, 28))","v":0},{"$f":"OFFSET(X0withPad!$B$2, INT((ROW()-1)/28), MOD(ROW()-1, 28))","v":0},{"$f":"OFFSET(X0withPad!$C$2, INT((ROW()-1)/28), MOD(ROW()-1, 28))","v":0},{"$f":"OFFSET(X0withPad!$A$3, INT((ROW()-1)/28), MOD(ROW()-1, 28))","v":0},{"$f":"OFFSET(X0withPad!$B$3, INT((ROW()-1)/28), MOD(ROW()-1, 28))","v":0},{"$f":"OFFSET(X0withPad!$C$3, INT((ROW()-1)/28), MOD(ROW()-1, 28))","v":0}]
[{"$f":"OFFSET(X0withPad!$A$1, INT((ROW()-1)/28), MOD(ROW()-1, 28))","v":0},{"$f":"OFFSET(X0withPad!$B$1, INT((ROW()-1)/28), MOD(ROW()-1, 28))","v":0},{"$f":"OFFSET(X0withPad!$C$1, INT((ROW()-1)/28), MOD(ROW()-1, 28))","v":0},{"$f":"OFFSET(X0withPad!$A$2, INT((ROW()-1)/28), MOD(ROW()-1, 28))","v":0},{"$f":"OFFSET(X0withPad!$B$2, INT((ROW()-1)/28), MOD(ROW()-1, 28))","v":0},{"$f":"OFFSET(X0withPad!$C$2, INT((ROW()-1)/28), MOD(ROW()-1, 28))","v":61},{"$f":"OFFSET(X0withPad!$A$3, INT((ROW()-1)/28), MOD(ROW()-1, 28))","v":0},{"$f":"OFFSET(X0withPad!$B$3, INT((ROW()-1)/28), MOD(ROW()-1, 28))","v":0},{"$f":"OFFSET(X0withPad!$C$3, INT((ROW()-1)/28), MOD(ROW()-1, 28))","v":121}]
[{"$f":"OFFSET(X0withPad!$A$1, INT((ROW()-1)/28), MOD(ROW()-1, 28))","v":0},{"$f":"OFFSET(X0withPad!$B$1, INT((ROW()-1)/28), MOD(ROW()-1, 28))","v":0},{"$f":"OFFSET(X0withPad!$C$1, INT((ROW()-1)/28), MOD(ROW()-1, 28))","v":133},{"$f":"OFFSET(X0withPad!$A$2, INT((ROW()-1)/28), MOD(ROW()-1, 28))","v":0},{"$f":"OFFSET(X0withPad!$B$2, INT((ROW()-1)/28), MOD(ROW()-1, 28))","v":61},{"$f":"OFFSET(X0withPad!$C$2, INT((ROW()-1)/28), MOD(ROW()-1, 28))","v":242},{"$f":"OFFSET(X0withPad!$A$3, INT((ROW()-1)/28), MOD(ROW()-1, 28))","v":0},{"$f":"OFFSET(X0withPad!$B$3, INT((ROW()-1)/28), MOD(ROW()-1, 28))","v":121},{"$f":"OFFSET(X0withPad!$C$3, INT((ROW()-1)/28), MOD(ROW()-1, 28))","v":254}]
[{"$f":"OFFSET(X0withPad!$A$1, INT((ROW()-1)/28), MOD(ROW()-1, 28))","v":0},{"$f":"OFFSET(X0withPad!$B$1, INT((ROW()-1)/28), MOD(ROW()-1, 28))","v":133},{"$f":"OFFSET(X0withPad!$C$1, INT((ROW()-1)/28), MOD(ROW()-1, 28))","v":254},{"$f":"OFFSET(X0withPad!$A$2, INT((ROW()-1)/28), MOD(ROW()-1, 28))","v":61},{"$f":"OFFSET(X0withPad!$B$2, INT((ROW()-1)/28), MOD(ROW()-1, 28))","v":242},{"$f":"OFFSET(X0withPad!$C$2, INT((ROW()-1)/28), MOD(ROW()-1, 28))","v":254},{"$f":"OFFSET(X0withPad!$A$3, INT((ROW()-1)/28), MOD(ROW()-1, 28))","v":121},{"$f":"OFFSET(X0withPad!$B$3, INT((ROW()-1)/28), MOD(ROW()-1, 28))","v":254},{"$f":"OFFSET(X0withPad!$C$3, INT((ROW()-1)/28), MOD(ROW()-1, 28))","v":254}]
[{"$f":"OFFSET(X0withPad!$A$1, INT((ROW()-1)/28), MOD(ROW()-1, 28))","v":133},{"$f":"OFFSET(X0withPad!$B$1, INT((ROW()-1)/28), MOD(ROW()-1, 28))","v":254},{"$f":"OFFSET(X0withPad!$C$1, INT((ROW()-1)/28), MOD(ROW()-1, 28))","v":254},{"$f":"OFFSET(X0withPad!$A$2, INT((ROW()-1)/28), MOD(ROW()-1, 28))","v":242},{"$f":"OFFSET(X0withPad!$B$2, INT((ROW()-1)/28), MOD(ROW()-1, 28))","v":254},{"$f":"OFFSET(X0withPad!$C$2, INT((ROW()-1)/28), MOD(ROW()-1, 28))","v":254},{"$f":"OFFSET(X0withPad!$A$3, INT((ROW()-1)/28), MOD(ROW()-1, 28))","v":254},{"$f":"OFFSET(X0withPad!$B$3, INT((ROW()-1)/28), MOD(ROW()-1, 28))","v":254},{"$f":"OFFSET(X0withPad!$C$3, INT((ROW()-1)/28), MOD(ROW()-1, 28))","v":219}]
[{"$f":"OFFSET(X0withPad!$A$1, INT((ROW()-1)/28), MOD(ROW()-1, 28))","v":254},{"$f":"OFFSET(X0withPad!$B$1, INT((ROW()-1)/28), MOD(ROW()-1, 28))","v":254},{"$f":"OFFSET(X0withPad!$C$1, INT((ROW()-1)/28), MOD(ROW()-1, 28))","v":52},{"$f":"OFFSET(X0withPad!$A$2, INT((ROW()-1)/28), MOD(ROW()-1, 28))","v":254},{"$f":"OFFSET(X0withPad!$B$2, INT((ROW()-1)/28), MOD(ROW()-1, 28))","v":254},{"$f":"OFFSET(X0withPad!$C$2, INT((ROW()-1)/28), MOD(ROW()-1, 28))","v":52},{"$f":"OFFSET(X0withPad!$A$3, INT((ROW()-1)/28), MOD(ROW()-1, 28))","v":254},{"$f":"OFFSET(X0withPad!$B$3, INT((ROW()-1)/28), MOD(ROW()-1, 28))","v":219},{"$f":"OFFSET(X0withPad!$C$3, INT((ROW()-1)/28), MOD(ROW()-1, 28))","v":40}]
[{"$f":"OFFSET(X0withPad!$A$1, INT((ROW()-1)/28), MOD(ROW()-1, 28))","v":254},{"$f":"OFFSET(X0withPad!$B$1, INT((ROW()-1)/28), MOD(ROW()-1, 28))","v":52},{"$f":"OFFSET(X0withPad!$C$1, INT((ROW()-1)/28), MOD(ROW()-1, 28))","v":0},{"$f":"OFFSET(X0withPad!$A$2, INT((ROW()-1)/28), MOD(ROW()-1, 28))","v":254},{"$f":"OFFSET(X0withPad!$B$2, INT((ROW()-1)/28), MOD(ROW()-1, 28))","v":52},{"$f":"OFFSET(X0withPad!$C$2, INT((ROW()-1)/28), MOD(ROW()-1, 28))","v":0},{"$f":"OFFSET(X0withPad!$A$3, INT((ROW()-1)/28), MOD(ROW()-1, 28))","v":219},{"$f":"OFFSET(X0withPad!$B$3, INT((ROW()-1)/28), MOD(ROW()-1, 28))","v":40},{"$f":"OFFSET(X0withPad!$C$3, INT((ROW()-1)/28), MOD(ROW()-1, 28))","v":0}]
[{"$f":"OFFSET(X0withPad!$A$1, INT((ROW()-1)/28), MOD(ROW()-1, 28))","v":52},{"$f":"OFFSET(X0withPad!$B$1, INT((ROW()-1)/28), MOD(ROW()-1, 28))","v":0},{"$f":"OFFSET(X0withPad!$C$1, INT((ROW()-1)/28), MOD(ROW()-1, 28))","v":0},{"$f":"OFFSET(X0withPad!$A$2, INT((ROW()-1)/28), MOD(ROW()-1, 28))","v":52},{"$f":"OFFSET(X0withPad!$B$2, INT((ROW()-1)/28), MOD(ROW()-1, 28))","v":0},{"$f":"OFFSET(X0withPad!$C$2, INT((ROW()-1)/28), MOD(ROW()-1, 28))","v":0},{"$f":"OFFSET(X0withPad!$A$3, INT((ROW()-1)/28), MOD(ROW()-1, 28))","v":40},{"$f":"OFFSET(X0withPad!$B$3, INT((ROW()-1)/28), MOD(ROW()-1, 28))","v":0},{"$f":"OFFSET(X0withPad!$C$3, INT((ROW()-1)/28), MOD(ROW()-1, 28))","v":0}]
[{"$f":"OFFSET(X0withPad!$A$1, INT((ROW()-1)/28), MOD(ROW()-1, 28))","v":0},{"$f":"OFFSET(X0withPad!$B$1, INT((ROW()-1)/28), MOD(ROW()-1, 28))","v":0},{"$f":"OFFSET(X0withPad!$C$1, INT((ROW()-1)/28), MOD(ROW()-1, 28))","v":0},{"$f":"OFFSET(X0withPad!$A$2, INT((ROW()-1)/28), MOD(ROW()-1, 28))","v":0},{"$f":"OFFSET(X0withPad!$B$2, INT((ROW()-1)/28), MOD(ROW()-1, 28))","v":0},{"$f":"OFFSET(X0withPad!$C$2, INT((ROW()-1)/28), MOD(ROW()-1, 28))","v":0},{"$f":"OFFSET(X0withPad!$A$3, INT((ROW()-1)/28), MOD(ROW()-1, 28))","v":0},{"$f":"OFFSET(X0withPad!$B$3, INT((ROW()-1)/28), MOD(ROW()-1, 28))","v":0},{"$f":"OFFSET(X0withPad!$C$3, INT((ROW()-1)/28), MOD(ROW()-1, 28))","v":0}]
[{"$f":"OFFSET(X0withPad!$A$1, INT((ROW()-1)/28), MOD(ROW()-1, 28))","v":0},{"$f":"OFFSET(X0withPad!$B$1, INT((ROW()-1)/28), MOD(ROW()-1, 28))","v":0},{"$f":"OFFSET(X0withPad!$C$1, INT((ROW()-1)/28), MOD(ROW()-1, 28))","v":0},{"$f":"OFFSET(X0withPad!$A$2, INT((ROW()-1)/28), MOD(ROW()-1, 28))","v":0},{"$f":"OFFSET(X0withPad!$B$2, INT((ROW()-1)/28), MOD(ROW()-1, 28))","v":0},{"$f":"OFFSET(X0withPad!$C$2, INT((ROW()-1)/28), MOD(ROW()-1, 28))","v":0},{"$f":"OFFSET(X0withPad!$A$3, INT((ROW()-1)/28), MOD(ROW()-1, 28))","v":0},{"$f":"OFFSET(X0withPad!$B$3, INT((ROW()-1)/28), MOD(ROW()-1, 28))","v":0},{"$f":"OFFSET(X0withPad!$C$3, INT((ROW()-1)/28), MOD(ROW()-1, 28))","v":0}]
[{"$f":"OFFSET(X0withPad!$A$1, INT((ROW()-1)/28), MOD(ROW()-1, 28))","v":0},{"$f":"OFFSET(X0withPad!$B$1, INT((ROW()-1)/28), MOD(ROW()-1, 28))","v":0},{"$f":"OFFSET(X0withPad!$C$1, INT((ROW()-1)/28), MOD(ROW()-1, 28))","v":0},{"$f":"OFFSET(X0withPad!$A$2, INT((ROW()-1)/28), MOD(ROW()-1, 28))","v":0},{"$f":"OFFSET(X0withPad!$B$2, INT((ROW()-1)/28), MOD(ROW()-1, 28))","v":0},{"$f":"OFFSET(X0withPad!$C$2, INT((ROW()-1)/28), MOD(ROW()-1, 28))","v":0},{"$f":"OFFSET(X0withPad!$A$3, INT((ROW()-1)/28), MOD(ROW()-1, 28))","v":0},{"$f":"OFFSET(X0withPad!$B$3, INT((ROW()-1)/28), MOD(ROW()-1, 28))","v":0},{"$f":"OFFSET(X0withPad!$C$3, INT((ROW()-1)/28), MOD(ROW()-1, 28))","v":0}]
[{"$f":"OFFSET(X0withPad!$A$1, INT((ROW()-1)/28), MOD(ROW()-1, 28))","v":0},{"$f":"OFFSET(X0withPad!$B$1, INT((ROW()-1)/28), MOD(ROW()-1, 28))","v":0},{"$f":"OFFSET(X0withPad!$C$1, INT((ROW()-1)/28), MOD(ROW()-1, 28))","v":0},{"$f":"OFFSET(X0withPad!$A$2, INT((ROW()-1)/28), MOD(ROW()-1, 28))","v":0},{"$f":"OFFSET(X0withPad!$B$2, INT((ROW()-1)/28), MOD(ROW()-1, 28))","v":0},{"$f":"OFFSET(X0withPad!$C$2, INT((ROW()-1)/28), MOD(ROW()-1, 28))","v":0},{"$f":"OFFSET(X0withPad!$A$3, INT((ROW()-1)/28), MOD(ROW()-1, 28))","v":0},{"$f":"OFFSET(X0withPad!$B$3, INT((ROW()-1)/28), MOD(ROW()-1, 28))","v":0},{"$f":"OFFSET(X0withPad!$C$3, INT((ROW()-1)/28), MOD(ROW()-1, 28))","v":0}]
[{"$f":"OFFSET(X0withPad!$A$1, INT((ROW()-1)/28), MOD(ROW()-1, 28))","v":0},{"$f":"OFFSET(X0withPad!$B$1, INT((ROW()-1)/28), MOD(ROW()-1, 28))","v":0},{"$f":"OFFSET(X0withPad!$C$1, INT((ROW()-1)/28), MOD(ROW()-1, 28))","v":0},{"$f":"OFFSET(X0withPad!$A$2, INT((ROW()-1)/28), MOD(ROW()-1, 28))","v":0},{"$f":"OFFSET(X0withPad!$B$2, INT((ROW()-1)/28), MOD(ROW()-1, 28))","v":0},{"$f":"OFFSET(X0withPad!$C$2, INT((ROW()-1)/28), MOD(ROW()-1, 28))","v":0},{"$f":"OFFSET(X0withPad!$A$3, INT((ROW()-1)/28), MOD(ROW()-1, 28))","v":0},{"$f":"OFFSET(X0withPad!$B$3, INT((ROW()-1)/28), MOD(ROW()-1, 28))","v":0},{"$f":"OFFSET(X0withPad!$C$3, INT((ROW()-1)/28), MOD(ROW()-1, 28))","v":0}]
[{"$f":"OFFSET(X0withPad!$A$1, INT((ROW()-1)/28), MOD(ROW()-1, 28))","v":0},{"$f":"OFFSET(X0withPad!$B$1, INT((ROW()-1)/28), MOD(ROW()-1, 28))","v":0},{"$f":"OFFSET(X0withPad!$C$1, INT((ROW()-1)/28), MOD(ROW()-1, 28))","v":0},{"$f":"OFFSET(X0withPad!$A$2, INT((ROW()-1)/28), MOD(ROW()-1, 28))","v":0},{"$f":"OFFSET(X0withPad!$B$2, INT((ROW()-1)/28), MOD(ROW()-1, 28))","v":0},{"$f":"OFFSET(X0withPad!$C$2, INT((ROW()-1)/28), MOD(ROW()-1, 28))","v":0},{"$f":"OFFSET(X0withPad!$A$3, INT((ROW()-1)/28), MOD(ROW()-1, 28))","v":0},{"$f":"OFFSET(X0withPad!$B$3, INT((ROW()-1)/28), MOD(ROW()-1, 28))","v":0},{"$f":"OFFSET(X0withPad!$C$3, INT((ROW()-1)/28), MOD(ROW()-1, 28))","v":0}]
[{"$f":"OFFSET(X0withPad!$A$1, INT((ROW()-1)/28), MOD(ROW()-1, 28))","v":0},{"$f":"OFFSET(X0withPad!$B$1, INT((ROW()-1)/28), MOD(ROW()-1, 28))","v":0},{"$f":"OFFSET(X0withPad!$C$1, INT((ROW()-1)/28), MOD(ROW()-1, 28))","v":0},{"$f":"OFFSET(X0withPad!$A$2, INT((ROW()-1)/28), MOD(ROW()-1, 28))","v":0},{"$f":"OFFSET(X0withPad!$B$2, INT((ROW()-1)/28), MOD(ROW()-1, 28))","v":0},{"$f":"OFFSET(X0withPad!$C$2, INT((ROW()-1)/28), MOD(ROW()-1, 28))","v":0},{"$f":"OFFSET(X0withPad!$A$3, INT((ROW()-1)/28), MOD(ROW()-1, 28))","v":0},{"$f":"OFFSET(X0withPad!$B$3, INT((ROW()-1)/28), MOD(ROW()-1, 28))","v":0},{"$f":"OFFSET(X0withPad!$C$3, INT((ROW()-1)/28), MOD(ROW()-1, 28))","v":0}]
[{"$f":"OFFSET(X0withPad!$A$1, INT((ROW()-1)/28), MOD(ROW()-1, 28))","v":0},{"$f":"OFFSET(X0withPad!$B$1, INT((ROW()-1)/28), MOD(ROW()-1, 28))","v":0},{"$f":"OFFSET(X0withPad!$C$1, INT((ROW()-1)/28), MOD(ROW()-1, 28))","v":0},{"$f":"OFFSET(X0withPad!$A$2, INT((ROW()-1)/28), MOD(ROW()-1, 28))","v":0},{"$f":"OFFSET(X0withPad!$B$2, INT((ROW()-1)/28), MOD(ROW()-1, 28))","v":0},{"$f":"OFFSET(X0withPad!$C$2, INT((ROW()-1)/28), MOD(ROW()-1, 28))","v":0},{"$f":"OFFSET(X0withPad!$A$3, INT((ROW()-1)/28), MOD(ROW()-1, 28))","v":0},{"$f":"OFFSET(X0withPad!$B$3, INT((ROW()-1)/28), MOD(ROW()-1, 28))","v":0},{"$f":"OFFSET(X0withPad!$C$3, INT((ROW()-1)/28), MOD(ROW()-1, 28))","v":0}]
[{"$f":"OFFSET(X0withPad!$A$1, INT((ROW()-1)/28), MOD(ROW()-1, 28))","v":0},{"$f":"OFFSET(X0withPad!$B$1, INT((ROW()-1)/28), MOD(ROW()-1, 28))","v":0},{"$f":"OFFSET(X0withPad!$C$1, INT((ROW()-1)/28), MOD(ROW()-1, 28))","v":0},{"$f":"OFFSET(X0withPad!$A$2, INT((ROW()-1)/28), MOD(ROW()-1, 28))","v":0},{"$f":"OFFSET(X0withPad!$B$2, INT((ROW()-1)/28), MOD(ROW()-1, 28))","v":0},{"$f":"OFFSET(X0withPad!$C$2, INT((ROW()-1)/28), MOD(ROW()-1, 28))","v":0},{"$f":"OFFSET(X0withPad!$A$3, INT((ROW()-1)/28), MOD(ROW()-1, 28))","v":0},{"$f":"OFFSET(X0withPad!$B$3, INT((ROW()-1)/28), MOD(ROW()-1, 28))","v":0},{"$f":"OFFSET(X0withPad!$C$3, INT((ROW()-1)/28), MOD(ROW()-1, 28))","v":0}]
[{"$f":"OFFSET(X0withPad!$A$1, INT((ROW()-1)/28), MOD(ROW()-1, 28))","v":0},{"$f":"OFFSET(X0withPad!$B$1, INT((ROW()-1)/28), MOD(ROW()-1, 28))","v":0},{"$f":"OFFSET(X0withPad!$C$1, INT((ROW()-1)/28), MOD(ROW()-1, 28))","v":0},{"$f":"OFFSET(X0withPad!$A$2, INT((ROW()-1)/28), MOD(ROW()-1, 28))","v":0},{"$f":"OFFSET(X0withPad!$B$2, INT((ROW()-1)/28), MOD(ROW()-1, 28))","v":0},{"$f":"OFFSET(X0withPad!$C$2, INT((ROW()-1)/28), MOD(ROW()-1, 28))","v":0},{"$f":"OFFSET(X0withPad!$A$3, INT((ROW()-1)/28), MOD(ROW()-1, 28))","v":0},{"$f":"OFFSET(X0withPad!$B$3, INT((ROW()-1)/28), MOD(ROW()-1, 28))","v":0},{"$f":"OFFSET(X0withPad!$C$3, INT((ROW()-1)/28), MOD(ROW()-1, 28))","v":0}]
[{"$f":"OFFSET(X0withPad!$A$1, INT((ROW()-1)/28), MOD(ROW()-1, 28))","v":0},{"$f":"OFFSET(X0withPad!$B$1, INT((ROW()-1)/28), MOD(ROW()-1, 28))","v":0},{"$f":"OFFSET(X0withPad!$C$1, INT((ROW()-1)/28), MOD(ROW()-1, 28))","v":0},{"$f":"OFFSET(X0withPad!$A$2, INT((ROW()-1)/28), MOD(ROW()-1, 28))","v":0},{"$f":"OFFSET(X0withPad!$B$2, INT((ROW()-1)/28), MOD(ROW()-1, 28))","v":0},{"$f":"OFFSET(X0withPad!$C$2, INT((ROW()-1)/28), MOD(ROW()-1, 28))","v":0},{"$f":"OFFSET(X0withPad!$A$3, INT((ROW()-1)/28), MOD(ROW()-1, 28))","v":0},{"$f":"OFFSET(X0withPad!$B$3, INT((ROW()-1)/28), MOD(ROW()-1, 28))","v":0},{"$f":"OFFSET(X0withPad!$C$3, INT((ROW()-1)/28), MOD(ROW()-1, 28))","v":0}]
[{"$f":"OFFSET(X0withPad!$A$1, INT((ROW()-1)/28), MOD(ROW()-1, 28))","v":0},{"$f":"OFFSET(X0withPad!$B$1, INT((ROW()-1)/28), MOD(ROW()-1, 28))","v":0},{"$f":"OFFSET(X0withPad!$C$1, INT((ROW()-1)/28), MOD(ROW()-1, 28))","v":0},{"$f":"OFFSET(X0withPad!$A$2, INT((ROW()-1)/28), MOD(ROW()-1, 28))","v":0},{"$f":"OFFSET(X0withPad!$B$2, INT((ROW()-1)/28), MOD(ROW()-1, 28))","v":0},{"$f":"OFFSET(X0withPad!$C$2, INT((ROW()-1)/28), MOD(ROW()-1, 28))","v":0},{"$f":"OFFSET(X0withPad!$A$3, INT((ROW()-1)/28), MOD(ROW()-1, 28))","v":0},{"$f":"OFFSET(X0withPad!$B$3, INT((ROW()-1)/28), MOD(ROW()-1, 28))","v":0},{"$f":"OFFSET(X0withPad!$C$3, INT((ROW()-1)/28), MOD(ROW()-1, 28))","v":0}]
[{"$f":"OFFSET(X0withPad!$A$1, INT((ROW()-1)/28), MOD(ROW()-1, 28))","v":0},{"$f":"OFFSET(X0withPad!$B$1, INT((ROW()-1)/28), MOD(ROW()-1, 28))","v":0},{"$f":"OFFSET(X0withPad!$C$1, INT((ROW()-1)/28), MOD(ROW()-1, 28))","v":0},{"$f":"OFFSET(X0withPad!$A$2, INT((ROW()-1)/28), MOD(ROW()-1, 28))","v":0},{"$f":"OFFSET(X0withPad!$B$2, INT((ROW()-1)/28), MOD(ROW()-1, 28))","v":0},{"$f":"OFFSET(X0withPad!$C$2, INT((ROW()-1)/28), MOD(ROW()-1, 28))","v":0},{"$f":"OFFSET(X0withPad!$A$3, INT((ROW()-1)/28), MOD(ROW()-1, 28))","v":0},{"$f":"OFFSET(X0withPad!$B$3, INT((ROW()-1)/28), MOD(ROW()-1, 28))","v":0},{"$f":"OFFSET(X0withPad!$C$3, INT((ROW()-1)/28), MOD(ROW()-1, 28))","v":0}]
[{"$f":"OFFSET(X0withPad!$A$1, INT((ROW()-1)/28), MOD(ROW()-1, 28))","v":0},{"$f":"OFFSET(X0withPad!$B$1, INT((ROW()-1)/28), MOD(ROW()-1, 28))","v":0},{"$f":"OFFSET(X0withPad!$C$1, INT((ROW()-1)/28), MOD(ROW()-1, 28))","v":0},{"$f":"OFFSET(X0withPad!$A$2, INT((ROW()-1)/28), MOD(ROW()-1, 28))","v":0},{"$f":"OFFSET(X0withPad!$B$2, INT((ROW()-1)/28), MOD(ROW()-1, 28))","v":0},{"$f":"OFFSET(X0withPad!$C$2, INT((ROW()-1)/28), MOD(ROW()-1, 28))","v":0},{"$f":"OFFSET(X0withPad!$A$3, INT((ROW()-1)/28), MOD(ROW()-1, 28))","v":0},{"$f":"OFFSET(X0withPad!$B$3, INT((ROW()-1)/28), MOD(ROW()-1, 28))","v":0},{"$f":"OFFSET(X0withPad!$C$3, INT((ROW()-1)/28), MOD(ROW()-1, 28))","v":0}]
[{"$f":"OFFSET(X0withPad!$A$1, INT((ROW()-1)/28), MOD(ROW()-1, 28))","v":0},{"$f":"OFFSET(X0withPad!$B$1, INT((ROW()-1)/28), MOD(ROW()-1, 28))","v":0},{"$f":"OFFSET(X0withPad!$C$1, INT((ROW()-1)/28), MOD(ROW()-1, 28))","v":0},{"$f":"OFFSET(X0withPad!$A$2, INT((ROW()-1)/28), MOD(ROW()-1, 28))","v":0},{"$f":"OFFSET(X0withPad!$B$2, INT((ROW()-1)/28), MOD(ROW()-1, 28))","v":0},{"$f":"OFFSET(X0withPad!$C$2, INT((ROW()-1)/28), MOD(ROW()-1, 28))","v":0},{"$f":"OFFSET(X0withPad!$A$3, INT((ROW()-1)/28), MOD(ROW()-1, 28))","v":0},{"$f":"OFFSET(X0withPad!$B$3, INT((ROW()-1)/28), MOD(ROW()-1, 28))","v":0},{"$f":"OFFSET(X0withPad!$C$3, INT((ROW()-1)/28), MOD(ROW()-1, 28))","v":0}]
[{"$f":"OFFSET(X0withPad!$A$1, INT((ROW()-1)/28), MOD(ROW()-1, 28))","v":0},{"$f":"OFFSET(X0withPad!$B$1, INT((ROW()-1)/28), MOD(ROW()-1, 28))","v":0},{"$f":"OFFSET(X0withPad!$C$1, INT((ROW()-1)/28), MOD(ROW()-1, 28))","v":0},{"$f":"OFFSET(X0withPad!$A$2, INT((ROW()-1)/28), MOD(ROW()-1, 28))","v":0},{"$f":"OFFSET(X0withPad!$B$2, INT((ROW()-1)/28), MOD(ROW()-1, 28))","v":0},{"$f":"OFFSET(X0withPad!$C$2, INT((ROW()-1)/28), MOD(ROW()-1, 28))","v":0},{"$f":"OFFSET(X0withPad!$A$3, INT((ROW()-1)/28), MOD(ROW()-1, 28))","v":0},{"$f":"OFFSET(X0withPad!$B$3, INT((ROW()-1)/28), MOD(ROW()-1, 28))","v":0},{"$f":"OFFSET(X0withPad!$C$3, INT((ROW()-1)/28), MOD(ROW()-1, 28))","v":0}]
[{"$f":"OFFSET(X0withPad!$A$1, INT((ROW()-1)/28), MOD(ROW()-1, 28))","v":0},{"$f":"OFFSET(X0withPad!$B$1, INT((ROW()-1)/28), MOD(ROW()-1, 28))","v":0},{"$f":"OFFSET(X0withPad!$C$1, INT((ROW()-1)/28), MOD(ROW()-1, 28))","v":0},{"$f":"OFFSET(X0withPad!$A$2, INT((ROW()-1)/28), MOD(ROW()-1, 28))","v":0},{"$f":"OFFSET(X0withPad!$B$2, INT((ROW()-1)/28), MOD(ROW()-1, 28))","v":0},{"$f":"OFFSET(X0withPad!$C$2, INT((ROW()-1)/28), MOD(ROW()-1, 28))","v":0},{"$f":"OFFSET(X0withPad!$A$3, INT((ROW()-1)/28), MOD(ROW()-1, 28))","v":0},{"$f":"OFFSET(X0withPad!$B$3, INT((ROW()-1)/28), MOD(ROW()-1, 28))","v":0},{"$f":"OFFSET(X0withPad!$C$3, INT((ROW()-1)/28), MOD(ROW()-1, 28))","v":0}]
[{"$f":"OFFSET(X0withPad!$A$1, INT((ROW()-1)/28), MOD(ROW()-1, 28))","v":0},{"$f":"OFFSET(X0withPad!$B$1, INT((ROW()-1)/28), MOD(ROW()-1, 28))","v":0},{"$f":"OFFSET(X0withPad!$C$1, INT((ROW()-1)/28), MOD(ROW()-1, 28))","v":0},{"$f":"OFFSET(X0withPad!$A$2, INT((ROW()-1)/28), MOD(ROW()-1, 28))","v":0},{"$f":"OFFSET(X0withPad!$B$2, INT((ROW()-1)/28), MOD(ROW()-1, 28))","v":0},{"$f":"OFFSET(X0withPad!$C$2, INT((ROW()-1)/28), MOD(ROW()-1, 28))","v":0},{"$f":"OFFSET(X0withPad!$A$3, INT((ROW()-1)/28), MOD(ROW()-1, 28))","v":0},{"$f":"OFFSET(X0withPad!$B$3, INT((ROW()-1)/28), MOD(ROW()-1, 28))","v":0},{"$f":"OFFSET(X0withPad!$C$3, INT((ROW()-1)/28), MOD(ROW()-1, 28))","v":0}]
[{"$f":"OFFSET(X0withPad!$A$1, INT((ROW()-1)/28), MOD(ROW()-1, 28))","v":0},{"$f":"OFFSET(X0withPad!$B$1, INT((ROW()-1)/28), MOD(ROW()-1, 28))","v":0},{"$f":"OFFSET(X0withPad!$C$1, INT((ROW()-1)/28), MOD(ROW()-1, 28))","v":0},{"$f":"OFFSET(X0withPad!$A$2, INT((ROW()-1)/28), MOD(ROW()-1, 28))","v":0},{"$f":"OFFSET(X0withPad!$B$2, INT((ROW()-1)/28), MOD(ROW()-1, 28))","v":0},{"$f":"OFFSET(X0withPad!$C$2, INT((ROW()-1)/28), MOD(ROW()-1, 28))","v":0},{"$f":"OFFSET(X0withPad!$A$3, INT((ROW()-1)/28), MOD(ROW()-1, 28))","v":0},{"$f":"OFFSET(X0withPad!$B$3, INT((ROW()-1)/28), MOD(ROW()-1, 28))","v":0},{"$f":"OFFSET(X0withPad!$C$3, INT((ROW()-1)/28), MOD(ROW()-1, 28))","v":0}]
[{"$f":"OFFSET(X0withPad!$A$1, INT((ROW()-1)/28), MOD(ROW()-1, 28))","v":0},{"$f":"OFFSET(X0withPad!$B$1, INT((ROW()-1)/28), MOD(ROW()-1, 28))","v":0},{"$f":"OFFSET(X0withPad!$C$1, INT((ROW()-1)/28), MOD(ROW()-1, 28))","v":0},{"$f":"OFFSET(X0withPad!$A$2, INT((ROW()-1)/28), MOD(ROW()-1, 28))","v":0},{"$f":"OFFSET(X0withPad!$B$2, INT((ROW()-1)/28), MOD(ROW()-1, 28))","v":0},{"$f":"OFFSET(X0withPad!$C$2, INT((ROW()-1)/28), MOD(ROW()-1, 28))","v":0},{"$f":"OFFSET(X0withPad!$A$3, INT((ROW()-1)/28), MOD(ROW()-1, 28))","v":0},{"$f":"OFFSET(X0withPad!$B$3, INT((ROW()-1)/28), MOD(ROW()-1, 28))","v":0},{"$f":"OFFSET(X0withPad!$C$3, INT((ROW()-1)/28), MOD(ROW()-1, 28))","v":0}]
[{"$f":"OFFSET(X0withPad!$A$1, INT((ROW()-1)/28), MOD(ROW()-1, 28))","v":0},{"$f":"OFFSET(X0withPad!$B$1, INT((ROW()-1)/28), MOD(ROW()-1, 28))","v":0},{"$f":"OFFSET(X0withPad!$C$1, INT((ROW()-1)/28), MOD(ROW()-1, 28))","v":0},{"$f":"OFFSET(X0withPad!$A$2, INT((ROW()-1)/28), MOD(ROW()-1, 28))","v":0},{"$f":"OFFSET(X0withPad!$B$2, INT((ROW()-1)/28), MOD(ROW()-1, 28))","v":0},{"$f":"OFFSET(X0withPad!$C$2, INT((ROW()-1)/28), MOD(ROW()-1, 28))","v":0},{"$f":"OFFSET(X0withPad!$A$3, INT((ROW()-1)/28), MOD(ROW()-1, 28))","v":0},{"$f":"OFFSET(X0withPad!$B$3, INT((ROW()-1)/28), MOD(ROW()-1, 28))","v":0},{"$f":"OFFSET(X0withPad!$C$3, INT((ROW()-1)/28), MOD(ROW()-1, 28))","v":0}]
[{"$f":"OFFSET(X0withPad!$A$1, INT((ROW()-1)/28), MOD(ROW()-1, 28))","v":0},{"$f":"OFFSET(X0withPad!$B$1, INT((ROW()-1)/28), MOD(ROW()-1, 28))","v":0},{"$f":"OFFSET(X0withPad!$C$1, INT((ROW()-1)/28), MOD(ROW()-1, 28))","v":61},{"$f":"OFFSET(X0withPad!$A$2, INT((ROW()-1)/28), MOD(ROW()-1, 28))","v":0},{"$f":"OFFSET(X0withPad!$B$2, INT((ROW()-1)/28), MOD(ROW()-1, 28))","v":0},{"$f":"OFFSET(X0withPad!$C$2, INT((ROW()-1)/28), MOD(ROW()-1, 28))","v":121},{"$f":"OFFSET(X0withPad!$A$3, INT((ROW()-1)/28), MOD(ROW()-1, 28))","v":0},{"$f":"OFFSET(X0withPad!$B$3, INT((ROW()-1)/28), MOD(ROW()-1, 28))","v":0},{"$f":"OFFSET(X0withPad!$C$3, INT((ROW()-1)/28), MOD(ROW()-1, 28))","v":121}]
[{"$f":"OFFSET(X0withPad!$A$1, INT((ROW()-1)/28), MOD(ROW()-1, 28))","v":0},{"$f":"OFFSET(X0withPad!$B$1, INT((ROW()-1)/28), MOD(ROW()-1, 28))","v":61},{"$f":"OFFSET(X0withPad!$C$1, INT((ROW()-1)/28), MOD(ROW()-1, 28))","v":242},{"$f":"OFFSET(X0withPad!$A$2, INT((ROW()-1)/28), MOD(ROW()-1, 28))","v":0},{"$f":"OFFSET(X0withPad!$B$2, INT((ROW()-1)/28), MOD(ROW()-1, 28))","v":121},{"$f":"OFFSET(X0withPad!$C$2, INT((ROW()-1)/28), MOD(ROW()-1, 28))","v":254},{"$f":"OFFSET(X0withPad!$A$3, INT((ROW()-1)/28), MOD(ROW()-1, 28))","v":0},{"$f":"OFFSET(X0withPad!$B$3, INT((ROW()-1)/28), MOD(ROW()-1, 28))","v":121},{"$f":"OFFSET(X0withPad!$C$3, INT((ROW()-1)/28), MOD(ROW()-1, 28))","v":254}]
[{"$f":"OFFSET(X0withPad!$A$1, INT((ROW()-1)/28), MOD(ROW()-1, 28))","v":61},{"$f":"OFFSET(X0withPad!$B$1, INT((ROW()-1)/28), MOD(ROW()-1, 28))","v":242},{"$f":"OFFSET(X0withPad!$C$1, INT((ROW()-1)/28), MOD(ROW()-1, 28))","v":254},{"$f":"OFFSET(X0withPad!$A$2, INT((ROW()-1)/28), MOD(ROW()-1, 28))","v":121},{"$f":"OFFSET(X0withPad!$B$2, INT((ROW()-1)/28), MOD(ROW()-1, 28))","v":254},{"$f":"OFFSET(X0withPad!$C$2, INT((ROW()-1)/28), MOD(ROW()-1, 28))","v":254},{"$f":"OFFSET(X0withPad!$A$3, INT((ROW()-1)/28), MOD(ROW()-1, 28))","v":121},{"$f":"OFFSET(X0withPad!$B$3, INT((ROW()-1)/28), MOD(ROW()-1, 28))","v":254},{"$f":"OFFSET(X0withPad!$C$3, INT((ROW()-1)/28), MOD(ROW()-1, 28))","v":207}]
[{"$f":"OFFSET(X0withPad!$A$1, INT((ROW()-1)/28), MOD(ROW()-1, 28))","v":242},{"$f":"OFFSET(X0withPad!$B$1, INT((ROW()-1)/28), MOD(ROW()-1, 28))","v":254},{"$f":"OFFSET(X0withPad!$C$1, INT((ROW()-1)/28), MOD(ROW()-1, 28))","v":254},{"$f":"OFFSET(X0withPad!$A$2, INT((ROW()-1)/28), MOD(ROW()-1, 28))","v":254},{"$f":"OFFSET(X0withPad!$B$2, INT((ROW()-1)/28), MOD(ROW()-1, 28))","v":254},{"$f":"OFFSET(X0withPad!$C$2, INT((ROW()-1)/28), MOD(ROW()-1, 28))","v":219},{"$f":"OFFSET(X0withPad!$A$3, INT((ROW()-1)/28), MOD(ROW()-1, 28))","v":254},{"$f":"OFFSET(X0withPad!$B$3, INT((ROW()-1)/28), MOD(ROW()-1, 28))","v":207},{"$f":"OFFSET(X0withPad!$C$3, INT((ROW()-1)/28), MOD(ROW()-1, 28))","v":18}]
[{"$f":"OFFSET(X0withPad!$A$1, INT((ROW()-1)/28), MOD(ROW()-1, 28))","v":254},{"$f":"OFFSET(X0withPad!$B$1, INT((ROW()-1)/28), MOD(ROW()-1, 28))","v":254},{"$f":"OFFSET(X0withPad!$C$1, INT((ROW()-1)/28), MOD(ROW()-1, 28))","v":52},{"$f":"OFFSET(X0withPad!$A$2, INT((ROW()-1)/28), MOD(ROW()-1, 28))","v":254},{"$f":"OFFSET(X0withPad!$B$2, INT((ROW()-1)/28), MOD(ROW()-1, 28))","v":219},{"$f":"OFFSET(X0withPad!$C$2, INT((ROW()-1)/28), MOD(ROW()-1, 28))","v":40},{"$f":"OFFSET(X0withPad!$A$3, INT((ROW()-1)/28), MOD(ROW()-1, 28))","v":207},{"$f":"OFFSET(X0withPad!$B$3, INT((ROW()-1)/28), MOD(ROW()-1, 28))","v":18},{"$f":"OFFSET(X0withPad!$C$3, INT((ROW()-1)/28), MOD(ROW()-1, 28))","v":0}]
[{"$f":"OFFSET(X0withPad!$A$1, INT((ROW()-1)/28), MOD(ROW()-1, 28))","v":254},{"$f":"OFFSET(X0withPad!$B$1, INT((ROW()-1)/28), MOD(ROW()-1, 28))","v":52},{"$f":"OFFSET(X0withPad!$C$1, INT((ROW()-1)/28), MOD(ROW()-1, 28))","v":0},{"$f":"OFFSET(X0withPad!$A$2, INT((ROW()-1)/28), MOD(ROW()-1, 28))","v":219},{"$f":"OFFSET(X0withPad!$B$2, INT((ROW()-1)/28), MOD(ROW()-1, 28))","v":40},{"$f":"OFFSET(X0withPad!$C$2, INT((ROW()-1)/28), MOD(ROW()-1, 28))","v":0},{"$f":"OFFSET(X0withPad!$A$3, INT((ROW()-1)/28), MOD(ROW()-1, 28))","v":18},{"$f":"OFFSET(X0withPad!$B$3, INT((ROW()-1)/28), MOD(ROW()-1, 28))","v":0},{"$f":"OFFSET(X0withPad!$C$3, INT((ROW()-1)/28), MOD(ROW()-1, 28))","v":0}]
[{"$f":"OFFSET(X0withPad!$A$1, INT((ROW()-1)/28), MOD(ROW()-1, 28))","v":52},{"$f":"OFFSET(X0withPad!$B$1, INT((ROW()-1)/28), MOD(ROW()-1, 28))","v":0},{"$f":"OFFSET(X0withPad!$C$1, INT((ROW()-1)/28), MOD(ROW()-1, 28))","v":0},{"$f":"OFFSET(X0withPad!$A$2, INT((ROW()-1)/28), MOD(ROW()-1, 28))","v":40},{"$f":"OFFSET(X0withPad!$B$2, INT((ROW()-1)/28), MOD(ROW()-1, 28))","v":0},{"$f":"OFFSET(X0withPad!$C$2, INT((ROW()-1)/28), MOD(ROW()-1, 28))","v":0},{"$f":"OFFSET(X0withPad!$A$3, INT((ROW()-1)/28), MOD(ROW()-1, 28))","v":0},{"$f":"OFFSET(X0withPad!$B$3, INT((ROW()-1)/28), MOD(ROW()-1, 28))","v":0},{"$f":"OFFSET(X0withPad!$C$3, INT((ROW()-1)/28), MOD(ROW()-1, 28))","v":0}]
[{"$f":"OFFSET(X0withPad!$A$1, INT((ROW()-1)/28), MOD(ROW()-1, 28))","v":0},{"$f":"OFFSET(X0withPad!$B$1, INT((ROW()-1)/28), MOD(ROW()-1, 28))","v":0},{"$f":"OFFSET(X0withPad!$C$1, INT((ROW()-1)/28), MOD(ROW()-1, 28))","v":0},{"$f":"OFFSET(X0withPad!$A$2, INT((ROW()-1)/28), MOD(ROW()-1, 28))","v":0},{"$f":"OFFSET(X0withPad!$B$2, INT((ROW()-1)/28), MOD(ROW()-1, 28))","v":0},{"$f":"OFFSET(X0withPad!$C$2, INT((ROW()-1)/28), MOD(ROW()-1, 28))","v":0},{"$f":"OFFSET(X0withPad!$A$3, INT((ROW()-1)/28), MOD(ROW()-1, 28))","v":0},{"$f":"OFFSET(X0withPad!$B$3, INT((ROW()-1)/28), MOD(ROW()-1, 28))","v":0},{"$f":"OFFSET(X0withPad!$C$3, INT((ROW()-1)/28), MOD(ROW()-1, 28))","v":0}]
[{"$f":"OFFSET(X0withPad!$A$1, INT((ROW()-1)/28), MOD(ROW()-1, 28))","v":0},{"$f":"OFFSET(X0withPad!$B$1, INT((ROW()-1)/28), MOD(ROW()-1, 28))","v":0},{"$f":"OFFSET(X0withPad!$C$1, INT((ROW()-1)/28), MOD(ROW()-1, 28))","v":0},{"$f":"OFFSET(X0withPad!$A$2, INT((ROW()-1)/28), MOD(ROW()-1, 28))","v":0},{"$f":"OFFSET(X0withPad!$B$2, INT((ROW()-1)/28), MOD(ROW()-1, 28))","v":0},{"$f":"OFFSET(X0withPad!$C$2, INT((ROW()-1)/28), MOD(ROW()-1, 28))","v":0},{"$f":"OFFSET(X0withPad!$A$3, INT((ROW()-1)/28), MOD(ROW()-1, 28))","v":0},{"$f":"OFFSET(X0withPad!$B$3, INT((ROW()-1)/28), MOD(ROW()-1, 28))","v":0},{"$f":"OFFSET(X0withPad!$C$3, INT((ROW()-1)/28), MOD(ROW()-1, 28))","v":0}]
[{"$f":"OFFSET(X0withPad!$A$1, INT((ROW()-1)/28), MOD(ROW()-1, 28))","v":0},{"$f":"OFFSET(X0withPad!$B$1, INT((ROW()-1)/28), MOD(ROW()-1, 28))","v":0},{"$f":"OFFSET(X0withPad!$C$1, INT((ROW()-1)/28), MOD(ROW()-1, 28))","v":0},{"$f":"OFFSET(X0withPad!$A$2, INT((ROW()-1)/28), MOD(ROW()-1, 28))","v":0},{"$f":"OFFSET(X0withPad!$B$2, INT((ROW()-1)/28), MOD(ROW()-1, 28))","v":0},{"$f":"OFFSET(X0withPad!$C$2, INT((ROW()-1)/28), MOD(ROW()-1, 28))","v":0},{"$f":"OFFSET(X0withPad!$A$3, INT((ROW()-1)/28), MOD(ROW()-1, 28))","v":0},{"$f":"OFFSET(X0withPad!$B$3, INT((ROW()-1)/28), MOD(ROW()-1, 28))","v":0},{"$f":"OFFSET(X0withPad!$C$3, INT((ROW()-1)/28), MOD(ROW()-1, 28))","v":0}]
[{"$f":"OFFSET(X0withPad!$A$1, INT((ROW()-1)/28), MOD(ROW()-1, 28))","v":0},{"$f":"OFFSET(X0withPad!$B$1, INT((ROW()-1)/28), MOD(ROW()-1, 28))","v":0},{"$f":"OFFSET(X0withPad!$C$1, INT((ROW()-1)/28), MOD(ROW()-1, 28))","v":0},{"$f":"OFFSET(X0withPad!$A$2, INT((ROW()-1)/28), MOD(ROW()-1, 28))","v":0},{"$f":"OFFSET(X0withPad!$B$2, INT((ROW()-1)/28), MOD(ROW()-1, 28))","v":0},{"$f":"OFFSET(X0withPad!$C$2, INT((ROW()-1)/28), MOD(ROW()-1, 28))","v":0},{"$f":"OFFSET(X0withPad!$A$3, INT((ROW()-1)/28), MOD(ROW()-1, 28))","v":0},{"$f":"OFFSET(X0withPad!$B$3, INT((ROW()-1)/28), MOD(ROW()-1, 28))","v":0},{"$f":"OFFSET(X0withPad!$C$3, INT((ROW()-1)/28), MOD(ROW()-1, 28))","v":0}]
[{"$f":"OFFSET(X0withPad!$A$1, INT((ROW()-1)/28), MOD(ROW()-1, 28))","v":0},{"$f":"OFFSET(X0withPad!$B$1, INT((ROW()-1)/28), MOD(ROW()-1, 28))","v":0},{"$f":"OFFSET(X0withPad!$C$1, INT((ROW()-1)/28), MOD(ROW()-1, 28))","v":0},{"$f":"OFFSET(X0withPad!$A$2, INT((ROW()-1)/28), MOD(ROW()-1, 28))","v":0},{"$f":"OFFSET(X0withPad!$B$2, INT((ROW()-1)/28), MOD(ROW()-1, 28))","v":0},{"$f":"OFFSET(X0withPad!$C$2, INT((ROW()-1)/28), MOD(ROW()-1, 28))","v":0},{"$f":"OFFSET(X0withPad!$A$3, INT((ROW()-1)/28), MOD(ROW()-1, 28))","v":0},{"$f":"OFFSET(X0withPad!$B$3, INT((ROW()-1)/28), MOD(ROW()-1, 28))","v":0},{"$f":"OFFSET(X0withPad!$C$3, INT((ROW()-1)/28), MOD(ROW()-1, 28))","v":0}]
[{"$f":"OFFSET(X0withPad!$A$1, INT((ROW()-1)/28), MOD(ROW()-1, 28))","v":0},{"$f":"OFFSET(X0withPad!$B$1, INT((ROW()-1)/28), MOD(ROW()-1, 28))","v":0},{"$f":"OFFSET(X0withPad!$C$1, INT((ROW()-1)/28), MOD(ROW()-1, 28))","v":0},{"$f":"OFFSET(X0withPad!$A$2, INT((ROW()-1)/28), MOD(ROW()-1, 28))","v":0},{"$f":"OFFSET(X0withPad!$B$2, INT((ROW()-1)/28), MOD(ROW()-1, 28))","v":0},{"$f":"OFFSET(X0withPad!$C$2, INT((ROW()-1)/28), MOD(ROW()-1, 28))","v":0},{"$f":"OFFSET(X0withPad!$A$3, INT((ROW()-1)/28), MOD(ROW()-1, 28))","v":0},{"$f":"OFFSET(X0withPad!$B$3, INT((ROW()-1)/28), MOD(ROW()-1, 28))","v":0},{"$f":"OFFSET(X0withPad!$C$3, INT((ROW()-1)/28), MOD(ROW()-1, 28))","v":0}]
[{"$f":"OFFSET(X0withPad!$A$1, INT((ROW()-1)/28), MOD(ROW()-1, 28))","v":0},{"$f":"OFFSET(X0withPad!$B$1, INT((ROW()-1)/28), MOD(ROW()-1, 28))","v":0},{"$f":"OFFSET(X0withPad!$C$1, INT((ROW()-1)/28), MOD(ROW()-1, 28))","v":0},{"$f":"OFFSET(X0withPad!$A$2, INT((ROW()-1)/28), MOD(ROW()-1, 28))","v":0},{"$f":"OFFSET(X0withPad!$B$2, INT((ROW()-1)/28), MOD(ROW()-1, 28))","v":0},{"$f":"OFFSET(X0withPad!$C$2, INT((ROW()-1)/28), MOD(ROW()-1, 28))","v":0},{"$f":"OFFSET(X0withPad!$A$3, INT((ROW()-1)/28), MOD(ROW()-1, 28))","v":0},{"$f":"OFFSET(X0withPad!$B$3, INT((ROW()-1)/28), MOD(ROW()-1, 28))","v":0},{"$f":"OFFSET(X0withPad!$C$3, INT((ROW()-1)/28), MOD(ROW()-1, 28))","v":0}]
[{"$f":"OFFSET(X0withPad!$A$1, INT((ROW()-1)/28), MOD(ROW()-1, 28))","v":0},{"$f":"OFFSET(X0withPad!$B$1, INT((ROW()-1)/28), MOD(ROW()-1, 28))","v":0},{"$f":"OFFSET(X0withPad!$C$1, INT((ROW()-1)/28), MOD(ROW()-1, 28))","v":0},{"$f":"OFFSET(X0withPad!$A$2, INT((ROW()-1)/28), MOD(ROW()-1, 28))","v":0},{"$f":"OFFSET(X0withPad!$B$2, INT((ROW()-1)/28), MOD(ROW()-1, 28))","v":0},{"$f":"OFFSET(X0withPad!$C$2, INT((ROW()-1)/28), MOD(ROW()-1, 28))","v":0},{"$f":"OFFSET(X0withPad!$A$3, INT((ROW()-1)/28), MOD(ROW()-1, 28))","v":0},{"$f":"OFFSET(X0withPad!$B$3, INT((ROW()-1)/28), MOD(ROW()-1, 28))","v":0},{"$f":"OFFSET(X0withPad!$C$3, INT((ROW()-1)/28), MOD(ROW()-1, 28))","v":0}]
[{"$f":"OFFSET(X0withPad!$A$1, INT((ROW()-1)/28), MOD(ROW()-1, 28))","v":0},{"$f":"OFFSET(X0withPad!$B$1, INT((ROW()-1)/28), MOD(ROW()-1, 28))","v":0},{"$f":"OFFSET(X0withPad!$C$1, INT((ROW()-1)/28), MOD(ROW()-1, 28))","v":0},{"$f":"OFFSET(X0withPad!$A$2, INT((ROW()-1)/28), MOD(ROW()-1, 28))","v":0},{"$f":"OFFSET(X0withPad!$B$2, INT((ROW()-1)/28), MOD(ROW()-1, 28))","v":0},{"$f":"OFFSET(X0withPad!$C$2, INT((ROW()-1)/28), MOD(ROW()-1, 28))","v":0},{"$f":"OFFSET(X0withPad!$A$3, INT((ROW()-1)/28), MOD(ROW()-1, 28))","v":0},{"$f":"OFFSET(X0withPad!$B$3, INT((ROW()-1)/28), MOD(ROW()-1, 28))","v":0},{"$f":"OFFSET(X0withPad!$C$3, INT((ROW()-1)/28), MOD(ROW()-1, 28))","v":0}]
[{"$f":"OFFSET(X0withPad!$A$1, INT((ROW()-1)/28), MOD(ROW()-1, 28))","v":0},{"$f":"OFFSET(X0withPad!$B$1, INT((ROW()-1)/28), MOD(ROW()-1, 28))","v":0},{"$f":"OFFSET(X0withPad!$C$1, INT((ROW()-1)/28), MOD(ROW()-1, 28))","v":0},{"$f":"OFFSET(X0withPad!$A$2, INT((ROW()-1)/28), MOD(ROW()-1, 28))","v":0},{"$f":"OFFSET(X0withPad!$B$2, INT((ROW()-1)/28), MOD(ROW()-1, 28))","v":0},{"$f":"OFFSET(X0withPad!$C$2, INT((ROW()-1)/28), MOD(ROW()-1, 28))","v":0},{"$f":"OFFSET(X0withPad!$A$3, INT((ROW()-1)/28), MOD(ROW()-1, 28))","v":0},{"$f":"OFFSET(X0withPad!$B$3, INT((ROW()-1)/28), MOD(ROW()-1, 28))","v":0},{"$f":"OFFSET(X0withPad!$C$3, INT((ROW()-1)/28), MOD(ROW()-1, 28))","v":0}]
[{"$f":"OFFSET(X0withPad!$A$1, INT((ROW()-1)/28), MOD(ROW()-1, 28))","v":0},{"$f":"OFFSET(X0withPad!$B$1, INT((ROW()-1)/28), MOD(ROW()-1, 28))","v":0},{"$f":"OFFSET(X0withPad!$C$1, INT((ROW()-1)/28), MOD(ROW()-1, 28))","v":0},{"$f":"OFFSET(X0withPad!$A$2, INT((ROW()-1)/28), MOD(ROW()-1, 28))","v":0},{"$f":"OFFSET(X0withPad!$B$2, INT((ROW()-1)/28), MOD(ROW()-1, 28))","v":0},{"$f":"OFFSET(X0withPad!$C$2, INT((ROW()-1)/28), MOD(ROW()-1, 28))","v":0},{"$f":"OFFSET(X0withPad!$A$3, INT((ROW()-1)/28), MOD(ROW()-1, 28))","v":0},{"$f":"OFFSET(X0withPad!$B$3, INT((ROW()-1)/28), MOD(ROW()-1, 28))","v":0},{"$f":"OFFSET(X0withPad!$C$3, INT((ROW()-1)/28), MOD(ROW()-1, 28))","v":0}]
[{"$f":"OFFSET(X0withPad!$A$1, INT((ROW()-1)/28), MOD(ROW()-1, 28))","v":0},{"$f":"OFFSET(X0withPad!$B$1, INT((ROW()-1)/28), MOD(ROW()-1, 28))","v":0},{"$f":"OFFSET(X0withPad!$C$1, INT((ROW()-1)/28), MOD(ROW()-1, 28))","v":0},{"$f":"OFFSET(X0withPad!$A$2, INT((ROW()-1)/28), MOD(ROW()-1, 28))","v":0},{"$f":"OFFSET(X0withPad!$B$2, INT((ROW()-1)/28), MOD(ROW()-1, 28))","v":0},{"$f":"OFFSET(X0withPad!$C$2, INT((ROW()-1)/28), MOD(ROW()-1, 28))","v":0},{"$f":"OFFSET(X0withPad!$A$3, INT((ROW()-1)/28), MOD(ROW()-1, 28))","v":0},{"$f":"OFFSET(X0withPad!$B$3, INT((ROW()-1)/28), MOD(ROW()-1, 28))","v":0},{"$f":"OFFSET(X0withPad!$C$3, INT((ROW()-1)/28), MOD(ROW()-1, 28))","v":0}]
[{"$f":"OFFSET(X0withPad!$A$1, INT((ROW()-1)/28), MOD(ROW()-1, 28))","v":0},{"$f":"OFFSET(X0withPad!$B$1, INT((ROW()-1)/28), MOD(ROW()-1, 28))","v":0},{"$f":"OFFSET(X0withPad!$C$1, INT((ROW()-1)/28), MOD(ROW()-1, 28))","v":0},{"$f":"OFFSET(X0withPad!$A$2, INT((ROW()-1)/28), MOD(ROW()-1, 28))","v":0},{"$f":"OFFSET(X0withPad!$B$2, INT((ROW()-1)/28), MOD(ROW()-1, 28))","v":0},{"$f":"OFFSET(X0withPad!$C$2, INT((ROW()-1)/28), MOD(ROW()-1, 28))","v":0},{"$f":"OFFSET(X0withPad!$A$3, INT((ROW()-1)/28), MOD(ROW()-1, 28))","v":0},{"$f":"OFFSET(X0withPad!$B$3, INT((ROW()-1)/28), MOD(ROW()-1, 28))","v":0},{"$f":"OFFSET(X0withPad!$C$3, INT((ROW()-1)/28), MOD(ROW()-1, 28))","v":0}]
[{"$f":"OFFSET(X0withPad!$A$1, INT((ROW()-1)/28), MOD(ROW()-1, 28))","v":0},{"$f":"OFFSET(X0withPad!$B$1, INT((ROW()-1)/28), MOD(ROW()-1, 28))","v":0},{"$f":"OFFSET(X0withPad!$C$1, INT((ROW()-1)/28), MOD(ROW()-1, 28))","v":0},{"$f":"OFFSET(X0withPad!$A$2, INT((ROW()-1)/28), MOD(ROW()-1, 28))","v":0},{"$f":"OFFSET(X0withPad!$B$2, INT((ROW()-1)/28), MOD(ROW()-1, 28))","v":0},{"$f":"OFFSET(X0withPad!$C$2, INT((ROW()-1)/28), MOD(ROW()-1, 28))","v":0},{"$f":"OFFSET(X0withPad!$A$3, INT((ROW()-1)/28), MOD(ROW()-1, 28))","v":0},{"$f":"OFFSET(X0withPad!$B$3, INT((ROW()-1)/28), MOD(ROW()-1, 28))","v":0},{"$f":"OFFSET(X0withPad!$C$3, INT((ROW()-1)/28), MOD(ROW()-1, 28))","v":0}]
[{"$f":"OFFSET(X0withPad!$A$1, INT((ROW()-1)/28), MOD(ROW()-1, 28))","v":0},{"$f":"OFFSET(X0withPad!$B$1, INT((ROW()-1)/28), MOD(ROW()-1, 28))","v":0},{"$f":"OFFSET(X0withPad!$C$1, INT((ROW()-1)/28), MOD(ROW()-1, 28))","v":0},{"$f":"OFFSET(X0withPad!$A$2, INT((ROW()-1)/28), MOD(ROW()-1, 28))","v":0},{"$f":"OFFSET(X0withPad!$B$2, INT((ROW()-1)/28), MOD(ROW()-1, 28))","v":0},{"$f":"OFFSET(X0withPad!$C$2, INT((ROW()-1)/28), MOD(ROW()-1, 28))","v":0},{"$f":"OFFSET(X0withPad!$A$3, INT((ROW()-1)/28), MOD(ROW()-1, 28))","v":0},{"$f":"OFFSET(X0withPad!$B$3, INT((ROW()-1)/28), MOD(ROW()-1, 28))","v":0},{"$f":"OFFSET(X0withPad!$C$3, INT((ROW()-1)/28), MOD(ROW()-1, 28))","v":0}]
[{"$f":"OFFSET(X0withPad!$A$1, INT((ROW()-1)/28), MOD(ROW()-1, 28))","v":0},{"$f":"OFFSET(X0withPad!$B$1, INT((ROW()-1)/28), MOD(ROW()-1, 28))","v":0},{"$f":"OFFSET(X0withPad!$C$1, INT((ROW()-1)/28), MOD(ROW()-1, 28))","v":0},{"$f":"OFFSET(X0withPad!$A$2, INT((ROW()-1)/28), MOD(ROW()-1, 28))","v":0},{"$f":"OFFSET(X0withPad!$B$2, INT((ROW()-1)/28), MOD(ROW()-1, 28))","v":0},{"$f":"OFFSET(X0withPad!$C$2, INT((ROW()-1)/28), MOD(ROW()-1, 28))","v":0},{"$f":"OFFSET(X0withPad!$A$3, INT((ROW()-1)/28), MOD(ROW()-1, 28))","v":0},{"$f":"OFFSET(X0withPad!$B$3, INT((ROW()-1)/28), MOD(ROW()-1, 28))","v":0},{"$f":"OFFSET(X0withPad!$C$3, INT((ROW()-1)/28), MOD(ROW()-1, 28))","v":0}]
[{"$f":"OFFSET(X0withPad!$A$1, INT((ROW()-1)/28), MOD(ROW()-1, 28))","v":0},{"$f":"OFFSET(X0withPad!$B$1, INT((ROW()-1)/28), MOD(ROW()-1, 28))","v":0},{"$f":"OFFSET(X0withPad!$C$1, INT((ROW()-1)/28), MOD(ROW()-1, 28))","v":0},{"$f":"OFFSET(X0withPad!$A$2, INT((ROW()-1)/28), MOD(ROW()-1, 28))","v":0},{"$f":"OFFSET(X0withPad!$B$2, INT((ROW()-1)/28), MOD(ROW()-1, 28))","v":0},{"$f":"OFFSET(X0withPad!$C$2, INT((ROW()-1)/28), MOD(ROW()-1, 28))","v":0},{"$f":"OFFSET(X0withPad!$A$3, INT((ROW()-1)/28), MOD(ROW()-1, 28))","v":0},{"$f":"OFFSET(X0withPad!$B$3, INT((ROW()-1)/28), MOD(ROW()-1, 28))","v":0},{"$f":"OFFSET(X0withPad!$C$3, INT((ROW()-1)/28), MOD(ROW()-1, 28))","v":0}]
[{"$f":"OFFSET(X0withPad!$A$1, INT((ROW()-1)/28), MOD(ROW()-1, 28))","v":0},{"$f":"OFFSET(X0withPad!$B$1, INT((ROW()-1)/28), MOD(ROW()-1, 28))","v":0},{"$f":"OFFSET(X0withPad!$C$1, INT((ROW()-1)/28), MOD(ROW()-1, 28))","v":0},{"$f":"OFFSET(X0withPad!$A$2, INT((ROW()-1)/28), MOD(ROW()-1, 28))","v":0},{"$f":"OFFSET(X0withPad!$B$2, INT((ROW()-1)/28), MOD(ROW()-1, 28))","v":0},{"$f":"OFFSET(X0withPad!$C$2, INT((ROW()-1)/28), MOD(ROW()-1, 28))","v":0},{"$f":"OFFSET(X0withPad!$A$3, INT((ROW()-1)/28), MOD(ROW()-1, 28))","v":0},{"$f":"OFFSET(X0withPad!$B$3, INT((ROW()-1)/28), MOD(ROW()-1, 28))","v":0},{"$f":"OFFSET(X0withPad!$C$3, INT((ROW()-1)/28), MOD(ROW()-1, 28))","v":0}]
[{"$f":"OFFSET(X0withPad!$A$1, INT((ROW()-1)/28), MOD(ROW()-1, 28))","v":0},{"$f":"OFFSET(X0withPad!$B$1, INT((ROW()-1)/28), MOD(ROW()-1, 28))","v":0},{"$f":"OFFSET(X0withPad!$C$1, INT((ROW()-1)/28), MOD(ROW()-1, 28))","v":0},{"$f":"OFFSET(X0withPad!$A$2, INT((ROW()-1)/28), MOD(ROW()-1, 28))","v":0},{"$f":"OFFSET(X0withPad!$B$2, INT((ROW()-1)/28), MOD(ROW()-1, 28))","v":0},{"$f":"OFFSET(X0withPad!$C$2, INT((ROW()-1)/28), MOD(ROW()-1, 28))","v":0},{"$f":"OFFSET(X0withPad!$A$3, INT((ROW()-1)/28), MOD(ROW()-1, 28))","v":0},{"$f":"OFFSET(X0withPad!$B$3, INT((ROW()-1)/28), MOD(ROW()-1, 28))","v":0},{"$f":"OFFSET(X0withPad!$C$3, INT((ROW()-1)/28), MOD(ROW()-1, 28))","v":0}]
[{"$f":"OFFSET(X0withPad!$A$1, INT((ROW()-1)/28), MOD(ROW()-1, 28))","v":0},{"$f":"OFFSET(X0withPad!$B$1, INT((ROW()-1)/28), MOD(ROW()-1, 28))","v":0},{"$f":"OFFSET(X0withPad!$C$1, INT((ROW()-1)/28), MOD(ROW()-1, 28))","v":0},{"$f":"OFFSET(X0withPad!$A$2, INT((ROW()-1)/28), MOD(ROW()-1, 28))","v":0},{"$f":"OFFSET(X0withPad!$B$2, INT((ROW()-1)/28), MOD(ROW()-1, 28))","v":0},{"$f":"OFFSET(X0withPad!$C$2, INT((ROW()-1)/28), MOD(ROW()-1, 28))","v":0},{"$f":"OFFSET(X0withPad!$A$3, INT((ROW()-1)/28), MOD(ROW()-1, 28))","v":0},{"$f":"OFFSET(X0withPad!$B$3, INT((ROW()-1)/28), MOD(ROW()-1, 28))","v":0},{"$f":"OFFSET(X0withPad!$C$3, INT((ROW()-1)/28), MOD(ROW()-1, 28))","v":0}]
[{"$f":"OFFSET(X0withPad!$A$1, INT((ROW()-1)/28), MOD(ROW()-1, 28))","v":0},{"$f":"OFFSET(X0withPad!$B$1, INT((ROW()-1)/28), MOD(ROW()-1, 28))","v":0},{"$f":"OFFSET(X0withPad!$C$1, INT((ROW()-1)/28), MOD(ROW()-1, 28))","v":0},{"$f":"OFFSET(X0withPad!$A$2, INT((ROW()-1)/28), MOD(ROW()-1, 28))","v":0},{"$f":"OFFSET(X0withPad!$B$2, INT((ROW()-1)/28), MOD(ROW()-1, 28))","v":0},{"$f":"OFFSET(X0withPad!$C$2, INT((ROW()-1)/28), MOD(ROW()-1, 28))","v":0},{"$f":"OFFSET(X0withPad!$A$3, INT((ROW()-1)/28), MOD(ROW()-1, 28))","v":0},{"$f":"OFFSET(X0withPad!$B$3, INT((ROW()-1)/28), MOD(ROW()-1, 28))","v":0},{"$f":"OFFSET(X0withPad!$C$3, INT((ROW()-1)/28), MOD(ROW()-1, 28))","v":0}]
[{"$f":"OFFSET(X0withPad!$A$1, INT((ROW()-1)/28), MOD(ROW()-1, 28))","v":0},{"$f":"OFFSET(X0withPad!$B$1, INT((ROW()-1)/28), MOD(ROW()-1, 28))","v":0},{"$f":"OFFSET(X0withPad!$C$1, INT((ROW()-1)/28), MOD(ROW()-1, 28))","v":121},{"$f":"OFFSET(X0withPad!$A$2, INT((ROW()-1)/28), MOD(ROW()-1, 28))","v":0},{"$f":"OFFSET(X0withPad!$B$2, INT((ROW()-1)/28), MOD(ROW()-1, 28))","v":0},{"$f":"OFFSET(X0withPad!$C$2, INT((ROW()-1)/28), MOD(ROW()-1, 28))","v":121},{"$f":"OFFSET(X0withPad!$A$3, INT((ROW()-1)/28), MOD(ROW()-1, 28))","v":0},{"$f":"OFFSET(X0withPad!$B$3, INT((ROW()-1)/28), MOD(ROW()-1, 28))","v":0},{"$f":"OFFSET(X0withPad!$C$3, INT((ROW()-1)/28), MOD(ROW()-1, 28))","v":0}]
[{"$f":"OFFSET(X0withPad!$A$1, INT((ROW()-1)/28), MOD(ROW()-1, 28))","v":0},{"$f":"OFFSET(X0withPad!$B$1, INT((ROW()-1)/28), MOD(ROW()-1, 28))","v":121},{"$f":"OFFSET(X0withPad!$C$1, INT((ROW()-1)/28), MOD(ROW()-1, 28))","v":254},{"$f":"OFFSET(X0withPad!$A$2, INT((ROW()-1)/28), MOD(ROW()-1, 28))","v":0},{"$f":"OFFSET(X0withPad!$B$2, INT((ROW()-1)/28), MOD(ROW()-1, 28))","v":121},{"$f":"OFFSET(X0withPad!$C$2, INT((ROW()-1)/28), MOD(ROW()-1, 28))","v":254},{"$f":"OFFSET(X0withPad!$A$3, INT((ROW()-1)/28), MOD(ROW()-1, 28))","v":0},{"$f":"OFFSET(X0withPad!$B$3, INT((ROW()-1)/28), MOD(ROW()-1, 28))","v":0},{"$f":"OFFSET(X0withPad!$C$3, INT((ROW()-1)/28), MOD(ROW()-1, 28))","v":0}]
[{"$f":"OFFSET(X0withPad!$A$1, INT((ROW()-1)/28), MOD(ROW()-1, 28))","v":121},{"$f":"OFFSET(X0withPad!$B$1, INT((ROW()-1)/28), MOD(ROW()-1, 28))","v":254},{"$f":"OFFSET(X0withPad!$C$1, INT((ROW()-1)/28), MOD(ROW()-1, 28))","v":254},{"$f":"OFFSET(X0withPad!$A$2, INT((ROW()-1)/28), MOD(ROW()-1, 28))","v":121},{"$f":"OFFSET(X0withPad!$B$2, INT((ROW()-1)/28), MOD(ROW()-1, 28))","v":254},{"$f":"OFFSET(X0withPad!$C$2, INT((ROW()-1)/28), MOD(ROW()-1, 28))","v":207},{"$f":"OFFSET(X0withPad!$A$3, INT((ROW()-1)/28), MOD(ROW()-1, 28))","v":0},{"$f":"OFFSET(X0withPad!$B$3, INT((ROW()-1)/28), MOD(ROW()-1, 28))","v":0},{"$f":"OFFSET(X0withPad!$C$3, INT((ROW()-1)/28), MOD(ROW()-1, 28))","v":0}]
[{"$f":"OFFSET(X0withPad!$A$1, INT((ROW()-1)/28), MOD(ROW()-1, 28))","v":254},{"$f":"OFFSET(X0withPad!$B$1, INT((ROW()-1)/28), MOD(ROW()-1, 28))","v":254},{"$f":"OFFSET(X0withPad!$C$1, INT((ROW()-1)/28), MOD(ROW()-1, 28))","v":219},{"$f":"OFFSET(X0withPad!$A$2, INT((ROW()-1)/28), MOD(ROW()-1, 28))","v":254},{"$f":"OFFSET(X0withPad!$B$2, INT((ROW()-1)/28), MOD(ROW()-1, 28))","v":207},{"$f":"OFFSET(X0withPad!$C$2, INT((ROW()-1)/28), MOD(ROW()-1, 28))","v":18},{"$f":"OFFSET(X0withPad!$A$3, INT((ROW()-1)/28), MOD(ROW()-1, 28))","v":0},{"$f":"OFFSET(X0withPad!$B$3, INT((ROW()-1)/28), MOD(ROW()-1, 28))","v":0},{"$f":"OFFSET(X0withPad!$C$3, INT((ROW()-1)/28), MOD(ROW()-1, 28))","v":0}]
[{"$f":"OFFSET(X0withPad!$A$1, INT((ROW()-1)/28), MOD(ROW()-1, 28))","v":254},{"$f":"OFFSET(X0withPad!$B$1, INT((ROW()-1)/28), MOD(ROW()-1, 28))","v":219},{"$f":"OFFSET(X0withPad!$C$1, INT((ROW()-1)/28), MOD(ROW()-1, 28))","v":40},{"$f":"OFFSET(X0withPad!$A$2, INT((ROW()-1)/28), MOD(ROW()-1, 28))","v":207},{"$f":"OFFSET(X0withPad!$B$2, INT((ROW()-1)/28), MOD(ROW()-1, 28))","v":18},{"$f":"OFFSET(X0withPad!$C$2, INT((ROW()-1)/28), MOD(ROW()-1, 28))","v":0},{"$f":"OFFSET(X0withPad!$A$3, INT((ROW()-1)/28), MOD(ROW()-1, 28))","v":0},{"$f":"OFFSET(X0withPad!$B$3, INT((ROW()-1)/28), MOD(ROW()-1, 28))","v":0},{"$f":"OFFSET(X0withPad!$C$3, INT((ROW()-1)/28), MOD(ROW()-1, 28))","v":0}]
[{"$f":"OFFSET(X0withPad!$A$1, INT((ROW()-1)/28), MOD(ROW()-1, 28))","v":219},{"$f":"OFFSET(X0withPad!$B$1, INT((ROW()-1)/28), MOD(ROW()-1, 28))","v":40},{"$f":"OFFSET(X0withPad!$C$1, INT((ROW()-1)/28), MOD(ROW()-1, 28))","v":0},{"$f":"OFFSET(X0withPad!$A$2, INT((ROW()-1)/28), MOD(ROW()-1, 28))","v":18},{"$f":"OFFSET(X0withPad!$B$2, INT((ROW()-1)/28), MOD(ROW()-1, 28))","v":0},{"$f":"OFFSET(X0withPad!$C$2, INT((ROW()-1)/28), MOD(ROW()-1, 28))","v":0},{"$f":"OFFSET(X0withPad!$A$3, INT((ROW()-1)/28), MOD(ROW()-1, 28))","v":0},{"$f":"OFFSET(X0withPad!$B$3, INT((ROW()-1)/28), MOD(ROW()-1, 28))","v":0},{"$f":"OFFSET(X0withPad!$C$3, INT((ROW()-1)/28), MOD(ROW()-1, 28))","v":0}]
[{"$f":"OFFSET(X0withPad!$A$1, INT((ROW()-1)/28), MOD(ROW()-1, 28))","v":40},{"$f":"OFFSET(X0withPad!$B$1, INT((ROW()-1)/28), MOD(ROW()-1, 28))","v":0},{"$f":"OFFSET(X0withPad!$C$1, INT((ROW()-1)/28), MOD(ROW()-1, 28))","v":0},{"$f":"OFFSET(X0withPad!$A$2, INT((ROW()-1)/28), MOD(ROW()-1, 28))","v":0},{"$f":"OFFSET(X0withPad!$B$2, INT((ROW()-1)/28), MOD(ROW()-1, 28))","v":0},{"$f":"OFFSET(X0withPad!$C$2, INT((ROW()-1)/28), MOD(ROW()-1, 28))","v":0},{"$f":"OFFSET(X0withPad!$A$3, INT((ROW()-1)/28), MOD(ROW()-1, 28))","v":0},{"$f":"OFFSET(X0withPad!$B$3, INT((ROW()-1)/28), MOD(ROW()-1, 28))","v":0},{"$f":"OFFSET(X0withPad!$C$3, INT((ROW()-1)/28), MOD(ROW()-1, 28))","v":0}]
[{"$f":"OFFSET(X0withPad!$A$1, INT((ROW()-1)/28), MOD(ROW()-1, 28))","v":0},{"$f":"OFFSET(X0withPad!$B$1, INT((ROW()-1)/28), MOD(ROW()-1, 28))","v":0},{"$f":"OFFSET(X0withPad!$C$1, INT((ROW()-1)/28), MOD(ROW()-1, 28))","v":0},{"$f":"OFFSET(X0withPad!$A$2, INT((ROW()-1)/28), MOD(ROW()-1, 28))","v":0},{"$f":"OFFSET(X0withPad!$B$2, INT((ROW()-1)/28), MOD(ROW()-1, 28))","v":0},{"$f":"OFFSET(X0withPad!$C$2, INT((ROW()-1)/28), MOD(ROW()-1, 28))","v":0},{"$f":"OFFSET(X0withPad!$A$3, INT((ROW()-1)/28), MOD(ROW()-1, 28))","v":0},{"$f":"OFFSET(X0withPad!$B$3, INT((ROW()-1)/28), MOD(ROW()-1, 28))","v":0},{"$f":"OFFSET(X0withPad!$C$3, INT((ROW()-1)/28), MOD(ROW()-1, 28))","v":0}]
[{"$f":"OFFSET(X0withPad!$A$1, INT((ROW()-1)/28), MOD(ROW()-1, 28))","v":0},{"$f":"OFFSET(X0withPad!$B$1, INT((ROW()-1)/28), MOD(ROW()-1, 28))","v":0},{"$f":"OFFSET(X0withPad!$C$1, INT((ROW()-1)/28), MOD(ROW()-1, 28))","v":0},{"$f":"OFFSET(X0withPad!$A$2, INT((ROW()-1)/28), MOD(ROW()-1, 28))","v":0},{"$f":"OFFSET(X0withPad!$B$2, INT((ROW()-1)/28), MOD(ROW()-1, 28))","v":0},{"$f":"OFFSET(X0withPad!$C$2, INT((ROW()-1)/28), MOD(ROW()-1, 28))","v":0},{"$f":"OFFSET(X0withPad!$A$3, INT((ROW()-1)/28), MOD(ROW()-1, 28))","v":0},{"$f":"OFFSET(X0withPad!$B$3, INT((ROW()-1)/28), MOD(ROW()-1, 28))","v":0},{"$f":"OFFSET(X0withPad!$C$3, INT((ROW()-1)/28), MOD(ROW()-1, 28))","v":0}]
[{"$f":"OFFSET(X0withPad!$A$1, INT((ROW()-1)/28), MOD(ROW()-1, 28))","v":0},{"$f":"OFFSET(X0withPad!$B$1, INT((ROW()-1)/28), MOD(ROW()-1, 28))","v":0},{"$f":"OFFSET(X0withPad!$C$1, INT((ROW()-1)/28), MOD(ROW()-1, 28))","v":0},{"$f":"OFFSET(X0withPad!$A$2, INT((ROW()-1)/28), MOD(ROW()-1, 28))","v":0},{"$f":"OFFSET(X0withPad!$B$2, INT((ROW()-1)/28), MOD(ROW()-1, 28))","v":0},{"$f":"OFFSET(X0withPad!$C$2, INT((ROW()-1)/28), MOD(ROW()-1, 28))","v":0},{"$f":"OFFSET(X0withPad!$A$3, INT((ROW()-1)/28), MOD(ROW()-1, 28))","v":0},{"$f":"OFFSET(X0withPad!$B$3, INT((ROW()-1)/28), MOD(ROW()-1, 28))","v":0},{"$f":"OFFSET(X0withPad!$C$3, INT((ROW()-1)/28), MOD(ROW()-1, 28))","v":0}]
[{"$f":"OFFSET(X0withPad!$A$1, INT((ROW()-1)/28), MOD(ROW()-1, 28))","v":0},{"$f":"OFFSET(X0withPad!$B$1, INT((ROW()-1)/28), MOD(ROW()-1, 28))","v":0},{"$f":"OFFSET(X0withPad!$C$1, INT((ROW()-1)/28), MOD(ROW()-1, 28))","v":0},{"$f":"OFFSET(X0withPad!$A$2, INT((ROW()-1)/28), MOD(ROW()-1, 28))","v":0},{"$f":"OFFSET(X0withPad!$B$2, INT((ROW()-1)/28), MOD(ROW()-1, 28))","v":0},{"$f":"OFFSET(X0withPad!$C$2, INT((ROW()-1)/28), MOD(ROW()-1, 28))","v":0},{"$f":"OFFSET(X0withPad!$A$3, INT((ROW()-1)/28), MOD(ROW()-1, 28))","v":0},{"$f":"OFFSET(X0withPad!$B$3, INT((ROW()-1)/28), MOD(ROW()-1, 28))","v":0},{"$f":"OFFSET(X0withPad!$C$3, INT((ROW()-1)/28), MOD(ROW()-1, 28))","v":0}]
[{"$f":"OFFSET(X0withPad!$A$1, INT((ROW()-1)/28), MOD(ROW()-1, 28))","v":0},{"$f":"OFFSET(X0withPad!$B$1, INT((ROW()-1)/28), MOD(ROW()-1, 28))","v":0},{"$f":"OFFSET(X0withPad!$C$1, INT((ROW()-1)/28), MOD(ROW()-1, 28))","v":0},{"$f":"OFFSET(X0withPad!$A$2, INT((ROW()-1)/28), MOD(ROW()-1, 28))","v":0},{"$f":"OFFSET(X0withPad!$B$2, INT((ROW()-1)/28), MOD(ROW()-1, 28))","v":0},{"$f":"OFFSET(X0withPad!$C$2, INT((ROW()-1)/28), MOD(ROW()-1, 28))","v":0},{"$f":"OFFSET(X0withPad!$A$3, INT((ROW()-1)/28), MOD(ROW()-1, 28))","v":0},{"$f":"OFFSET(X0withPad!$B$3, INT((ROW()-1)/28), MOD(ROW()-1, 28))","v":0},{"$f":"OFFSET(X0withPad!$C$3, INT((ROW()-1)/28), MOD(ROW()-1, 28))","v":0}]
[{"$f":"OFFSET(X0withPad!$A$1, INT((ROW()-1)/28), MOD(ROW()-1, 28))","v":0},{"$f":"OFFSET(X0withPad!$B$1, INT((ROW()-1)/28), MOD(ROW()-1, 28))","v":0},{"$f":"OFFSET(X0withPad!$C$1, INT((ROW()-1)/28), MOD(ROW()-1, 28))","v":0},{"$f":"OFFSET(X0withPad!$A$2, INT((ROW()-1)/28), MOD(ROW()-1, 28))","v":0},{"$f":"OFFSET(X0withPad!$B$2, INT((ROW()-1)/28), MOD(ROW()-1, 28))","v":0},{"$f":"OFFSET(X0withPad!$C$2, INT((ROW()-1)/28), MOD(ROW()-1, 28))","v":0},{"$f":"OFFSET(X0withPad!$A$3, INT((ROW()-1)/28), MOD(ROW()-1, 28))","v":0},{"$f":"OFFSET(X0withPad!$B$3, INT((ROW()-1)/28), MOD(ROW()-1, 28))","v":0},{"$f":"OFFSET(X0withPad!$C$3, INT((ROW()-1)/28), MOD(ROW()-1, 28))","v":0}]
[{"$f":"OFFSET(X0withPad!$A$1, INT((ROW()-1)/28), MOD(ROW()-1, 28))","v":0},{"$f":"OFFSET(X0withPad!$B$1, INT((ROW()-1)/28), MOD(ROW()-1, 28))","v":0},{"$f":"OFFSET(X0withPad!$C$1, INT((ROW()-1)/28), MOD(ROW()-1, 28))","v":0},{"$f":"OFFSET(X0withPad!$A$2, INT((ROW()-1)/28), MOD(ROW()-1, 28))","v":0},{"$f":"OFFSET(X0withPad!$B$2, INT((ROW()-1)/28), MOD(ROW()-1, 28))","v":0},{"$f":"OFFSET(X0withPad!$C$2, INT((ROW()-1)/28), MOD(ROW()-1, 28))","v":0},{"$f":"OFFSET(X0withPad!$A$3, INT((ROW()-1)/28), MOD(ROW()-1, 28))","v":0},{"$f":"OFFSET(X0withPad!$B$3, INT((ROW()-1)/28), MOD(ROW()-1, 28))","v":0},{"$f":"OFFSET(X0withPad!$C$3, INT((ROW()-1)/28), MOD(ROW()-1, 28))","v":0}]
[{"$f":"OFFSET(X0withPad!$A$1, INT((ROW()-1)/28), MOD(ROW()-1, 28))","v":0},{"$f":"OFFSET(X0withPad!$B$1, INT((ROW()-1)/28), MOD(ROW()-1, 28))","v":0},{"$f":"OFFSET(X0withPad!$C$1, INT((ROW()-1)/28), MOD(ROW()-1, 28))","v":0},{"$f":"OFFSET(X0withPad!$A$2, INT((ROW()-1)/28), MOD(ROW()-1, 28))","v":0},{"$f":"OFFSET(X0withPad!$B$2, INT((ROW()-1)/28), MOD(ROW()-1, 28))","v":0},{"$f":"OFFSET(X0withPad!$C$2, INT((ROW()-1)/28), MOD(ROW()-1, 28))","v":0},{"$f":"OFFSET(X0withPad!$A$3, INT((ROW()-1)/28), MOD(ROW()-1, 28))","v":0},{"$f":"OFFSET(X0withPad!$B$3, INT((ROW()-1)/28), MOD(ROW()-1, 28))","v":0},{"$f":"OFFSET(X0withPad!$C$3, INT((ROW()-1)/28), MOD(ROW()-1, 28))","v":0}]
[{"$f":"OFFSET(X0withPad!$A$1, INT((ROW()-1)/28), MOD(ROW()-1, 28))","v":0},{"$f":"OFFSET(X0withPad!$B$1, INT((ROW()-1)/28), MOD(ROW()-1, 28))","v":0},{"$f":"OFFSET(X0withPad!$C$1, INT((ROW()-1)/28), MOD(ROW()-1, 28))","v":0},{"$f":"OFFSET(X0withPad!$A$2, INT((ROW()-1)/28), MOD(ROW()-1, 28))","v":0},{"$f":"OFFSET(X0withPad!$B$2, INT((ROW()-1)/28), MOD(ROW()-1, 28))","v":0},{"$f":"OFFSET(X0withPad!$C$2, INT((ROW()-1)/28), MOD(ROW()-1, 28))","v":0},{"$f":"OFFSET(X0withPad!$A$3, INT((ROW()-1)/28), MOD(ROW()-1, 28))","v":0},{"$f":"OFFSET(X0withPad!$B$3, INT((ROW()-1)/28), MOD(ROW()-1, 28))","v":0},{"$f":"OFFSET(X0withPad!$C$3, INT((ROW()-1)/28), MOD(ROW()-1, 28))","v":0}]
[{"$f":"OFFSET(X0withPad!$A$1, INT((ROW()-1)/28), MOD(ROW()-1, 28))","v":0},{"$f":"OFFSET(X0withPad!$B$1, INT((ROW()-1)/28), MOD(ROW()-1, 28))","v":0},{"$f":"OFFSET(X0withPad!$C$1, INT((ROW()-1)/28), MOD(ROW()-1, 28))","v":0},{"$f":"OFFSET(X0withPad!$A$2, INT((ROW()-1)/28), MOD(ROW()-1, 28))","v":0},{"$f":"OFFSET(X0withPad!$B$2, INT((ROW()-1)/28), MOD(ROW()-1, 28))","v":0},{"$f":"OFFSET(X0withPad!$C$2, INT((ROW()-1)/28), MOD(ROW()-1, 28))","v":0},{"$f":"OFFSET(X0withPad!$A$3, INT((ROW()-1)/28), MOD(ROW()-1, 28))","v":0},{"$f":"OFFSET(X0withPad!$B$3, INT((ROW()-1)/28), MOD(ROW()-1, 28))","v":0},{"$f":"OFFSET(X0withPad!$C$3, INT((ROW()-1)/28), MOD(ROW()-1, 28))","v":0}]
[{"$f":"OFFSET(X0withPad!$A$1, INT((ROW()-1)/28), MOD(ROW()-1, 28))","v":0},{"$f":"OFFSET(X0withPad!$B$1, INT((ROW()-1)/28), MOD(ROW()-1, 28))","v":0},{"$f":"OFFSET(X0withPad!$C$1, INT((ROW()-1)/28), MOD(ROW()-1, 28))","v":0},{"$f":"OFFSET(X0withPad!$A$2, INT((ROW()-1)/28), MOD(ROW()-1, 28))","v":0},{"$f":"OFFSET(X0withPad!$B$2, INT((ROW()-1)/28), MOD(ROW()-1, 28))","v":0},{"$f":"OFFSET(X0withPad!$C$2, INT((ROW()-1)/28), MOD(ROW()-1, 28))","v":0},{"$f":"OFFSET(X0withPad!$A$3, INT((ROW()-1)/28), MOD(ROW()-1, 28))","v":0},{"$f":"OFFSET(X0withPad!$B$3, INT((ROW()-1)/28), MOD(ROW()-1, 28))","v":0},{"$f":"OFFSET(X0withPad!$C$3, INT((ROW()-1)/28), MOD(ROW()-1, 28))","v":0}]
[{"$f":"OFFSET(X0withPad!$A$1, INT((ROW()-1)/28), MOD(ROW()-1, 28))","v":0},{"$f":"OFFSET(X0withPad!$B$1, INT((ROW()-1)/28), MOD(ROW()-1, 28))","v":0},{"$f":"OFFSET(X0withPad!$C$1, INT((ROW()-1)/28), MOD(ROW()-1, 28))","v":0},{"$f":"OFFSET(X0withPad!$A$2, INT((ROW()-1)/28), MOD(ROW()-1, 28))","v":0},{"$f":"OFFSET(X0withPad!$B$2, INT((ROW()-1)/28), MOD(ROW()-1, 28))","v":0},{"$f":"OFFSET(X0withPad!$C$2, INT((ROW()-1)/28), MOD(ROW()-1, 28))","v":0},{"$f":"OFFSET(X0withPad!$A$3, INT((ROW()-1)/28), MOD(ROW()-1, 28))","v":0},{"$f":"OFFSET(X0withPad!$B$3, INT((ROW()-1)/28), MOD(ROW()-1, 28))","v":0},{"$f":"OFFSET(X0withPad!$C$3, INT((ROW()-1)/28), MOD(ROW()-1, 28))","v":0}]
[{"$f":"OFFSET(X0withPad!$A$1, INT((ROW()-1)/28), MOD(ROW()-1, 28))","v":0},{"$f":"OFFSET(X0withPad!$B$1, INT((ROW()-1)/28), MOD(ROW()-1, 28))","v":0},{"$f":"OFFSET(X0withPad!$C$1, INT((ROW()-1)/28), MOD(ROW()-1, 28))","v":0},{"$f":"OFFSET(X0withPad!$A$2, INT((ROW()-1)/28), MOD(ROW()-1, 28))","v":0},{"$f":"OFFSET(X0withPad!$B$2, INT((ROW()-1)/28), MOD(ROW()-1, 28))","v":0},{"$f":"OFFSET(X0withPad!$C$2, INT((ROW()-1)/28), MOD(ROW()-1, 28))","v":0},{"$f":"OFFSET(X0withPad!$A$3, INT((ROW()-1)/28), MOD(ROW()-1, 28))","v":0},{"$f":"OFFSET(X0withPad!$B$3, INT((ROW()-1)/28), MOD(ROW()-1, 28))","v":0},{"$f":"OFFSET(X0withPad!$C$3, INT((ROW()-1)/28), MOD(ROW()-1, 28))","v":0}]
[{"$f":"OFFSET(X0withPad!$A$1, INT((ROW()-1)/28), MOD(ROW()-1, 28))","v":0},{"$f":"OFFSET(X0withPad!$B$1, INT((ROW()-1)/28), MOD(ROW()-1, 28))","v":0},{"$f":"OFFSET(X0withPad!$C$1, INT((ROW()-1)/28), MOD(ROW()-1, 28))","v":0},{"$f":"OFFSET(X0withPad!$A$2, INT((ROW()-1)/28), MOD(ROW()-1, 28))","v":0},{"$f":"OFFSET(X0withPad!$B$2, INT((ROW()-1)/28), MOD(ROW()-1, 28))","v":0},{"$f":"OFFSET(X0withPad!$C$2, INT((ROW()-1)/28), MOD(ROW()-1, 28))","v":0},{"$f":"OFFSET(X0withPad!$A$3, INT((ROW()-1)/28), MOD(ROW()-1, 28))","v":0},{"$f":"OFFSET(X0withPad!$B$3, INT((ROW()-1)/28), MOD(ROW()-1, 28))","v":0},{"$f":"OFFSET(X0withPad!$C$3, INT((ROW()-1)/28), MOD(ROW()-1, 28))","v":0}]
[{"$f":"OFFSET(X0withPad!$A$1, INT((ROW()-1)/28), MOD(ROW()-1, 28))","v":0},{"$f":"OFFSET(X0withPad!$B$1, INT((ROW()-1)/28), MOD(ROW()-1, 28))","v":0},{"$f":"OFFSET(X0withPad!$C$1, INT((ROW()-1)/28), MOD(ROW()-1, 28))","v":0},{"$f":"OFFSET(X0withPad!$A$2, INT((ROW()-1)/28), MOD(ROW()-1, 28))","v":0},{"$f":"OFFSET(X0withPad!$B$2, INT((ROW()-1)/28), MOD(ROW()-1, 28))","v":0},{"$f":"OFFSET(X0withPad!$C$2, INT((ROW()-1)/28), MOD(ROW()-1, 28))","v":0},{"$f":"OFFSET(X0withPad!$A$3, INT((ROW()-1)/28), MOD(ROW()-1, 28))","v":0},{"$f":"OFFSET(X0withPad!$B$3, INT((ROW()-1)/28), MOD(ROW()-1, 28))","v":0},{"$f":"OFFSET(X0withPad!$C$3, INT((ROW()-1)/28), MOD(ROW()-1, 28))","v":0}]
[{"$f":"OFFSET(X0withPad!$A$1, INT((ROW()-1)/28), MOD(ROW()-1, 28))","v":0},{"$f":"OFFSET(X0withPad!$B$1, INT((ROW()-1)/28), MOD(ROW()-1, 28))","v":0},{"$f":"OFFSET(X0withPad!$C$1, INT((ROW()-1)/28), MOD(ROW()-1, 28))","v":0},{"$f":"OFFSET(X0withPad!$A$2, INT((ROW()-1)/28), MOD(ROW()-1, 28))","v":0},{"$f":"OFFSET(X0withPad!$B$2, INT((ROW()-1)/28), MOD(ROW()-1, 28))","v":0},{"$f":"OFFSET(X0withPad!$C$2, INT((ROW()-1)/28), MOD(ROW()-1, 28))","v":0},{"$f":"OFFSET(X0withPad!$A$3, INT((ROW()-1)/28), MOD(ROW()-1, 28))","v":0},{"$f":"OFFSET(X0withPad!$B$3, INT((ROW()-1)/28), MOD(ROW()-1, 28))","v":0},{"$f":"OFFSET(X0withPad!$C$3, INT((ROW()-1)/28), MOD(ROW()-1, 28))","v":0}]
[{"$f":"OFFSET(X0withPad!$A$1, INT((ROW()-1)/28), MOD(ROW()-1, 28))","v":0},{"$f":"OFFSET(X0withPad!$B$1, INT((ROW()-1)/28), MOD(ROW()-1, 28))","v":0},{"$f":"OFFSET(X0withPad!$C$1, INT((ROW()-1)/28), MOD(ROW()-1, 28))","v":0},{"$f":"OFFSET(X0withPad!$A$2, INT((ROW()-1)/28), MOD(ROW()-1, 28))","v":0},{"$f":"OFFSET(X0withPad!$B$2, INT((ROW()-1)/28), MOD(ROW()-1, 28))","v":0},{"$f":"OFFSET(X0withPad!$C$2, INT((ROW()-1)/28), MOD(ROW()-1, 28))","v":0},{"$f":"OFFSET(X0withPad!$A$3, INT((ROW()-1)/28), MOD(ROW()-1, 28))","v":0},{"$f":"OFFSET(X0withPad!$B$3, INT((ROW()-1)/28), MOD(ROW()-1, 28))","v":0},{"$f":"OFFSET(X0withPad!$C$3, INT((ROW()-1)/28), MOD(ROW()-1, 28))","v":0}]
[{"$f":"OFFSET(X0withPad!$A$1, INT((ROW()-1)/28), MOD(ROW()-1, 28))","v":0},{"$f":"OFFSET(X0withPad!$B$1, INT((ROW()-1)/28), MOD(ROW()-1, 28))","v":0},{"$f":"OFFSET(X0withPad!$C$1, INT((ROW()-1)/28), MOD(ROW()-1, 28))","v":0},{"$f":"OFFSET(X0withPad!$A$2, INT((ROW()-1)/28), MOD(ROW()-1, 28))","v":0},{"$f":"OFFSET(X0withPad!$B$2, INT((ROW()-1)/28), MOD(ROW()-1, 28))","v":0},{"$f":"OFFSET(X0withPad!$C$2, INT((ROW()-1)/28), MOD(ROW()-1, 28))","v":0},{"$f":"OFFSET(X0withPad!$A$3, INT((ROW()-1)/28), MOD(ROW()-1, 28))","v":0},{"$f":"OFFSET(X0withPad!$B$3, INT((ROW()-1)/28), MOD(ROW()-1, 28))","v":0},{"$f":"OFFSET(X0withPad!$C$3, INT((ROW()-1)/28), MOD(ROW()-1, 28))","v":0}]
[{"$f":"OFFSET(X0withPad!$A$1, INT((ROW()-1)/28), MOD(ROW()-1, 28))","v":0},{"$f":"OFFSET(X0withPad!$B$1, INT((ROW()-1)/28), MOD(ROW()-1, 28))","v":0},{"$f":"OFFSET(X0withPad!$C$1, INT((ROW()-1)/28), MOD(ROW()-1, 28))","v":0},{"$f":"OFFSET(X0withPad!$A$2, INT((ROW()-1)/28), MOD(ROW()-1, 28))","v":0},{"$f":"OFFSET(X0withPad!$B$2, INT((ROW()-1)/28), MOD(ROW()-1, 28))","v":0},{"$f":"OFFSET(X0withPad!$C$2, INT((ROW()-1)/28), MOD(ROW()-1, 28))","v":0},{"$f":"OFFSET(X0withPad!$A$3, INT((ROW()-1)/28), MOD(ROW()-1, 28))","v":0},{"$f":"OFFSET(X0withPad!$B$3, INT((ROW()-1)/28), MOD(ROW()-1, 28))","v":0},{"$f":"OFFSET(X0withPad!$C$3, INT((ROW()-1)/28), MOD(ROW()-1, 28))","v":0}]
[{"$f":"OFFSET(X0withPad!$A$1, INT((ROW()-1)/28), MOD(ROW()-1, 28))","v":0},{"$f":"OFFSET(X0withPad!$B$1, INT((ROW()-1)/28), MOD(ROW()-1, 28))","v":0},{"$f":"OFFSET(X0withPad!$C$1, INT((ROW()-1)/28), MOD(ROW()-1, 28))","v":0},{"$f":"OFFSET(X0withPad!$A$2, INT((ROW()-1)/28), MOD(ROW()-1, 28))","v":0},{"$f":"OFFSET(X0withPad!$B$2, INT((ROW()-1)/28), MOD(ROW()-1, 28))","v":0},{"$f":"OFFSET(X0withPad!$C$2, INT((ROW()-1)/28), MOD(ROW()-1, 28))","v":0},{"$f":"OFFSET(X0withPad!$A$3, INT((ROW()-1)/28), MOD(ROW()-1, 28))","v":0},{"$f":"OFFSET(X0withPad!$B$3, INT((ROW()-1)/28), MOD(ROW()-1, 28))","v":0},{"$f":"OFFSET(X0withPad!$C$3, INT((ROW()-1)/28), MOD(ROW()-1, 28))","v":0}]
[{"$f":"OFFSET(X0withPad!$A$1, INT((ROW()-1)/28), MOD(ROW()-1, 28))","v":0},{"$f":"OFFSET(X0withPad!$B$1, INT((ROW()-1)/28), MOD(ROW()-1, 28))","v":0},{"$f":"OFFSET(X0withPad!$C$1, INT((ROW()-1)/28), MOD(ROW()-1, 28))","v":0},{"$f":"OFFSET(X0withPad!$A$2, INT((ROW()-1)/28), MOD(ROW()-1, 28))","v":0},{"$f":"OFFSET(X0withPad!$B$2, INT((ROW()-1)/28), MOD(ROW()-1, 28))","v":0},{"$f":"OFFSET(X0withPad!$C$2, INT((ROW()-1)/28), MOD(ROW()-1, 28))","v":0},{"$f":"OFFSET(X0withPad!$A$3, INT((ROW()-1)/28), MOD(ROW()-1, 28))","v":0},{"$f":"OFFSET(X0withPad!$B$3, INT((ROW()-1)/28), MOD(ROW()-1, 28))","v":0},{"$f":"OFFSET(X0withPad!$C$3, INT((ROW()-1)/28), MOD(ROW()-1, 28))","v":0}]
[{"$f":"OFFSET(X0withPad!$A$1, INT((ROW()-1)/28), MOD(ROW()-1, 28))","v":0},{"$f":"OFFSET(X0withPad!$B$1, INT((ROW()-1)/28), MOD(ROW()-1, 28))","v":0},{"$f":"OFFSET(X0withPad!$C$1, INT((ROW()-1)/28), MOD(ROW()-1, 28))","v":121},{"$f":"OFFSET(X0withPad!$A$2, INT((ROW()-1)/28), MOD(ROW()-1, 28))","v":0},{"$f":"OFFSET(X0withPad!$B$2, INT((ROW()-1)/28), MOD(ROW()-1, 28))","v":0},{"$f":"OFFSET(X0withPad!$C$2, INT((ROW()-1)/28), MOD(ROW()-1, 28))","v":0},{"$f":"OFFSET(X0withPad!$A$3, INT((ROW()-1)/28), MOD(ROW()-1, 28))","v":0},{"$f":"OFFSET(X0withPad!$B$3, INT((ROW()-1)/28), MOD(ROW()-1, 28))","v":0},{"$f":"OFFSET(X0withPad!$C$3, INT((ROW()-1)/28), MOD(ROW()-1, 28))","v":0}]
[{"$f":"OFFSET(X0withPad!$A$1, INT((ROW()-1)/28), MOD(ROW()-1, 28))","v":0},{"$f":"OFFSET(X0withPad!$B$1, INT((ROW()-1)/28), MOD(ROW()-1, 28))","v":121},{"$f":"OFFSET(X0withPad!$C$1, INT((ROW()-1)/28), MOD(ROW()-1, 28))","v":254},{"$f":"OFFSET(X0withPad!$A$2, INT((ROW()-1)/28), MOD(ROW()-1, 28))","v":0},{"$f":"OFFSET(X0withPad!$B$2, INT((ROW()-1)/28), MOD(ROW()-1, 28))","v":0},{"$f":"OFFSET(X0withPad!$C$2, INT((ROW()-1)/28), MOD(ROW()-1, 28))","v":0},{"$f":"OFFSET(X0withPad!$A$3, INT((ROW()-1)/28), MOD(ROW()-1, 28))","v":0},{"$f":"OFFSET(X0withPad!$B$3, INT((ROW()-1)/28), MOD(ROW()-1, 28))","v":0},{"$f":"OFFSET(X0withPad!$C$3, INT((ROW()-1)/28), MOD(ROW()-1, 28))","v":0}]
[{"$f":"OFFSET(X0withPad!$A$1, INT((ROW()-1)/28), MOD(ROW()-1, 28))","v":121},{"$f":"OFFSET(X0withPad!$B$1, INT((ROW()-1)/28), MOD(ROW()-1, 28))","v":254},{"$f":"OFFSET(X0withPad!$C$1, INT((ROW()-1)/28), MOD(ROW()-1, 28))","v":207},{"$f":"OFFSET(X0withPad!$A$2, INT((ROW()-1)/28), MOD(ROW()-1, 28))","v":0},{"$f":"OFFSET(X0withPad!$B$2, INT((ROW()-1)/28), MOD(ROW()-1, 28))","v":0},{"$f":"OFFSET(X0withPad!$C$2, INT((ROW()-1)/28), MOD(ROW()-1, 28))","v":0},{"$f":"OFFSET(X0withPad!$A$3, INT((ROW()-1)/28), MOD(ROW()-1, 28))","v":0},{"$f":"OFFSET(X0withPad!$B$3, INT((ROW()-1)/28), MOD(ROW()-1, 28))","v":0},{"$f":"OFFSET(X0withPad!$C$3, INT((ROW()-1)/28), MOD(ROW()-1, 28))","v":0}]
[{"$f":"OFFSET(X0withPad!$A$1, INT((ROW()-1)/28), MOD(ROW()-1, 28))","v":254},{"$f":"OFFSET(X0withPad!$B$1, INT((ROW()-1)/28), MOD(ROW()-1, 28))","v":207},{"$f":"OFFSET(X0withPad!$C$1, INT((ROW()-1)/28), MOD(ROW()-1, 28))","v":18},{"$f":"OFFSET(X0withPad!$A$2, INT((ROW()-1)/28), MOD(ROW()-1, 28))","v":0},{"$f":"OFFSET(X0withPad!$B$2, INT((ROW()-1)/28), MOD(ROW()-1, 28))","v":0},{"$f":"OFFSET(X0withPad!$C$2, INT((ROW()-1)/28), MOD(ROW()-1, 28))","v":0},{"$f":"OFFSET(X0withPad!$A$3, INT((ROW()-1)/28), MOD(ROW()-1, 28))","v":0},{"$f":"OFFSET(X0withPad!$B$3, INT((ROW()-1)/28), MOD(ROW()-1, 28))","v":0},{"$f":"OFFSET(X0withPad!$C$3, INT((ROW()-1)/28), MOD(ROW()-1, 28))","v":0}]
[{"$f":"OFFSET(X0withPad!$A$1, INT((ROW()-1)/28), MOD(ROW()-1, 28))","v":207},{"$f":"OFFSET(X0withPad!$B$1, INT((ROW()-1)/28), MOD(ROW()-1, 28))","v":18},{"$f":"OFFSET(X0withPad!$C$1, INT((ROW()-1)/28), MOD(ROW()-1, 28))","v":0},{"$f":"OFFSET(X0withPad!$A$2, INT((ROW()-1)/28), MOD(ROW()-1, 28))","v":0},{"$f":"OFFSET(X0withPad!$B$2, INT((ROW()-1)/28), MOD(ROW()-1, 28))","v":0},{"$f":"OFFSET(X0withPad!$C$2, INT((ROW()-1)/28), MOD(ROW()-1, 28))","v":0},{"$f":"OFFSET(X0withPad!$A$3, INT((ROW()-1)/28), MOD(ROW()-1, 28))","v":0},{"$f":"OFFSET(X0withPad!$B$3, INT((ROW()-1)/28), MOD(ROW()-1, 28))","v":0},{"$f":"OFFSET(X0withPad!$C$3, INT((ROW()-1)/28), MOD(ROW()-1, 28))","v":0}]
[{"$f":"OFFSET(X0withPad!$A$1, INT((ROW()-1)/28), MOD(ROW()-1, 28))","v":18},{"$f":"OFFSET(X0withPad!$B$1, INT((ROW()-1)/28), MOD(ROW()-1, 28))","v":0},{"$f":"OFFSET(X0withPad!$C$1, INT((ROW()-1)/28), MOD(ROW()-1, 28))","v":0},{"$f":"OFFSET(X0withPad!$A$2, INT((ROW()-1)/28), MOD(ROW()-1, 28))","v":0},{"$f":"OFFSET(X0withPad!$B$2, INT((ROW()-1)/28), MOD(ROW()-1, 28))","v":0},{"$f":"OFFSET(X0withPad!$C$2, INT((ROW()-1)/28), MOD(ROW()-1, 28))","v":0},{"$f":"OFFSET(X0withPad!$A$3, INT((ROW()-1)/28), MOD(ROW()-1, 28))","v":0},{"$f":"OFFSET(X0withPad!$B$3, INT((ROW()-1)/28), MOD(ROW()-1, 28))","v":0},{"$f":"OFFSET(X0withPad!$C$3, INT((ROW()-1)/28), MOD(ROW()-1, 28))","v":0}]
[{"$f":"OFFSET(X0withPad!$A$1, INT((ROW()-1)/28), MOD(ROW()-1, 28))","v":0},{"$f":"OFFSET(X0withPad!$B$1, INT((ROW()-1)/28), MOD(ROW()-1, 28))","v":0},{"$f":"OFFSET(X0withPad!$C$1, INT((ROW()-1)/28), MOD(ROW()-1, 28))","v":0},{"$f":"OFFSET(X0withPad!$A$2, INT((ROW()-1)/28), MOD(ROW()-1, 28))","v":0},{"$f":"OFFSET(X0withPad!$B$2, INT((ROW()-1)/28), MOD(ROW()-1, 28))","v":0},{"$f":"OFFSET(X0withPad!$C$2, INT((ROW()-1)/28), MOD(ROW()-1, 28))","v":0},{"$f":"OFFSET(X0withPad!$A$3, INT((ROW()-1)/28), MOD(ROW()-1, 28))","v":0},{"$f":"OFFSET(X0withPad!$B$3, INT((ROW()-1)/28), MOD(ROW()-1, 28))","v":0},{"$f":"OFFSET(X0withPad!$C$3, INT((ROW()-1)/28), MOD(ROW()-1, 28))","v":0}]
[{"$f":"OFFSET(X0withPad!$A$1, INT((ROW()-1)/28), MOD(ROW()-1, 28))","v":0},{"$f":"OFFSET(X0withPad!$B$1, INT((ROW()-1)/28), MOD(ROW()-1, 28))","v":0},{"$f":"OFFSET(X0withPad!$C$1, INT((ROW()-1)/28), MOD(ROW()-1, 28))","v":0},{"$f":"OFFSET(X0withPad!$A$2, INT((ROW()-1)/28), MOD(ROW()-1, 28))","v":0},{"$f":"OFFSET(X0withPad!$B$2, INT((ROW()-1)/28), MOD(ROW()-1, 28))","v":0},{"$f":"OFFSET(X0withPad!$C$2, INT((ROW()-1)/28), MOD(ROW()-1, 28))","v":0},{"$f":"OFFSET(X0withPad!$A$3, INT((ROW()-1)/28), MOD(ROW()-1, 28))","v":0},{"$f":"OFFSET(X0withPad!$B$3, INT((ROW()-1)/28), MOD(ROW()-1, 28))","v":0},{"$f":"OFFSET(X0withPad!$C$3, INT((ROW()-1)/28), MOD(ROW()-1, 28))","v":0}]
[{"$f":"OFFSET(X0withPad!$A$1, INT((ROW()-1)/28), MOD(ROW()-1, 28))","v":0},{"$f":"OFFSET(X0withPad!$B$1, INT((ROW()-1)/28), MOD(ROW()-1, 28))","v":0},{"$f":"OFFSET(X0withPad!$C$1, INT((ROW()-1)/28), MOD(ROW()-1, 28))","v":0},{"$f":"OFFSET(X0withPad!$A$2, INT((ROW()-1)/28), MOD(ROW()-1, 28))","v":0},{"$f":"OFFSET(X0withPad!$B$2, INT((ROW()-1)/28), MOD(ROW()-1, 28))","v":0},{"$f":"OFFSET(X0withPad!$C$2, INT((ROW()-1)/28), MOD(ROW()-1, 28))","v":0},{"$f":"OFFSET(X0withPad!$A$3, INT((ROW()-1)/28), MOD(ROW()-1, 28))","v":0},{"$f":"OFFSET(X0withPad!$B$3, INT((ROW()-1)/28), MOD(ROW()-1, 28))","v":0},{"$f":"OFFSET(X0withPad!$C$3, INT((ROW()-1)/28), MOD(ROW()-1, 28))","v":0}]
[{"$f":"OFFSET(X0withPad!$A$1, INT((ROW()-1)/28), MOD(ROW()-1, 28))","v":0},{"$f":"OFFSET(X0withPad!$B$1, INT((ROW()-1)/28), MOD(ROW()-1, 28))","v":0},{"$f":"OFFSET(X0withPad!$C$1, INT((ROW()-1)/28), MOD(ROW()-1, 28))","v":0},{"$f":"OFFSET(X0withPad!$A$2, INT((ROW()-1)/28), MOD(ROW()-1, 28))","v":0},{"$f":"OFFSET(X0withPad!$B$2, INT((ROW()-1)/28), MOD(ROW()-1, 28))","v":0},{"$f":"OFFSET(X0withPad!$C$2, INT((ROW()-1)/28), MOD(ROW()-1, 28))","v":0},{"$f":"OFFSET(X0withPad!$A$3, INT((ROW()-1)/28), MOD(ROW()-1, 28))","v":0},{"$f":"OFFSET(X0withPad!$B$3, INT((ROW()-1)/28), MOD(ROW()-1, 28))","v":0},{"$f":"OFFSET(X0withPad!$C$3, INT((ROW()-1)/28), MOD(ROW()-1, 28))","v":0}]
[{"$f":"OFFSET(X0withPad!$A$1, INT((ROW()-1)/28), MOD(ROW()-1, 28))","v":0},{"$f":"OFFSET(X0withPad!$B$1, INT((ROW()-1)/28), MOD(ROW()-1, 28))","v":0},{"$f":"OFFSET(X0withPad!$C$1, INT((ROW()-1)/28), MOD(ROW()-1, 28))","v":0},{"$f":"OFFSET(X0withPad!$A$2, INT((ROW()-1)/28), MOD(ROW()-1, 28))","v":0},{"$f":"OFFSET(X0withPad!$B$2, INT((ROW()-1)/28), MOD(ROW()-1, 28))","v":0},{"$f":"OFFSET(X0withPad!$C$2, INT((ROW()-1)/28), MOD(ROW()-1, 28))","v":0},{"$f":"OFFSET(X0withPad!$A$3, INT((ROW()-1)/28), MOD(ROW()-1, 28))","v":0},{"$f":"OFFSET(X0withPad!$B$3, INT((ROW()-1)/28), MOD(ROW()-1, 28))","v":0},{"$f":"OFFSET(X0withPad!$C$3, INT((ROW()-1)/28), MOD(ROW()-1, 28))","v":0}]
[{"$f":"OFFSET(X0withPad!$A$1, INT((ROW()-1)/28), MOD(ROW()-1, 28))","v":0},{"$f":"OFFSET(X0withPad!$B$1, INT((ROW()-1)/28), MOD(ROW()-1, 28))","v":0},{"$f":"OFFSET(X0withPad!$C$1, INT((ROW()-1)/28), MOD(ROW()-1, 28))","v":0},{"$f":"OFFSET(X0withPad!$A$2, INT((ROW()-1)/28), MOD(ROW()-1, 28))","v":0},{"$f":"OFFSET(X0withPad!$B$2, INT((ROW()-1)/28), MOD(ROW()-1, 28))","v":0},{"$f":"OFFSET(X0withPad!$C$2, INT((ROW()-1)/28), MOD(ROW()-1, 28))","v":0},{"$f":"OFFSET(X0withPad!$A$3, INT((ROW()-1)/28), MOD(ROW()-1, 28))","v":0},{"$f":"OFFSET(X0withPad!$B$3, INT((ROW()-1)/28), MOD(ROW()-1, 28))","v":0},{"$f":"OFFSET(X0withPad!$C$3, INT((ROW()-1)/28), MOD(ROW()-1, 28))","v":0}]
[{"$f":"OFFSET(X0withPad!$A$1, INT((ROW()-1)/28), MOD(ROW()-1, 28))","v":0},{"$f":"OFFSET(X0withPad!$B$1, INT((ROW()-1)/28), MOD(ROW()-1, 28))","v":0},{"$f":"OFFSET(X0withPad!$C$1, INT((ROW()-1)/28), MOD(ROW()-1, 28))","v":0},{"$f":"OFFSET(X0withPad!$A$2, INT((ROW()-1)/28), MOD(ROW()-1, 28))","v":0},{"$f":"OFFSET(X0withPad!$B$2, INT((ROW()-1)/28), MOD(ROW()-1, 28))","v":0},{"$f":"OFFSET(X0withPad!$C$2, INT((ROW()-1)/28), MOD(ROW()-1, 28))","v":0},{"$f":"OFFSET(X0withPad!$A$3, INT((ROW()-1)/28), MOD(ROW()-1, 28))","v":0},{"$f":"OFFSET(X0withPad!$B$3, INT((ROW()-1)/28), MOD(ROW()-1, 28))","v":0},{"$f":"OFFSET(X0withPad!$C$3, INT((ROW()-1)/28), MOD(ROW()-1, 28))","v":0}]
[{"$f":"OFFSET(X0withPad!$A$1, INT((ROW()-1)/28), MOD(ROW()-1, 28))","v":0},{"$f":"OFFSET(X0withPad!$B$1, INT((ROW()-1)/28), MOD(ROW()-1, 28))","v":0},{"$f":"OFFSET(X0withPad!$C$1, INT((ROW()-1)/28), MOD(ROW()-1, 28))","v":0},{"$f":"OFFSET(X0withPad!$A$2, INT((ROW()-1)/28), MOD(ROW()-1, 28))","v":0},{"$f":"OFFSET(X0withPad!$B$2, INT((ROW()-1)/28), MOD(ROW()-1, 28))","v":0},{"$f":"OFFSET(X0withPad!$C$2, INT((ROW()-1)/28), MOD(ROW()-1, 28))","v":0},{"$f":"OFFSET(X0withPad!$A$3, INT((ROW()-1)/28), MOD(ROW()-1, 28))","v":0},{"$f":"OFFSET(X0withPad!$B$3, INT((ROW()-1)/28), MOD(ROW()-1, 28))","v":0},{"$f":"OFFSET(X0withPad!$C$3, INT((ROW()-1)/28), MOD(ROW()-1, 28))","v":0}]
[{"$f":"OFFSET(X0withPad!$A$1, INT((ROW()-1)/28), MOD(ROW()-1, 28))","v":0},{"$f":"OFFSET(X0withPad!$B$1, INT((ROW()-1)/28), MOD(ROW()-1, 28))","v":0},{"$f":"OFFSET(X0withPad!$C$1, INT((ROW()-1)/28), MOD(ROW()-1, 28))","v":0},{"$f":"OFFSET(X0withPad!$A$2, INT((ROW()-1)/28), MOD(ROW()-1, 28))","v":0},{"$f":"OFFSET(X0withPad!$B$2, INT((ROW()-1)/28), MOD(ROW()-1, 28))","v":0},{"$f":"OFFSET(X0withPad!$C$2, INT((ROW()-1)/28), MOD(ROW()-1, 28))","v":0},{"$f":"OFFSET(X0withPad!$A$3, INT((ROW()-1)/28), MOD(ROW()-1, 28))","v":0},{"$f":"OFFSET(X0withPad!$B$3, INT((ROW()-1)/28), MOD(ROW()-1, 28))","v":0},{"$f":"OFFSET(X0withPad!$C$3, INT((ROW()-1)/28), MOD(ROW()-1, 28))","v":0}]
[{"$f":"OFFSET(X0withPad!$A$1, INT((ROW()-1)/28), MOD(ROW()-1, 28))","v":0},{"$f":"OFFSET(X0withPad!$B$1, INT((ROW()-1)/28), MOD(ROW()-1, 28))","v":0},{"$f":"OFFSET(X0withPad!$C$1, INT((ROW()-1)/28), MOD(ROW()-1, 28))","v":0},{"$f":"OFFSET(X0withPad!$A$2, INT((ROW()-1)/28), MOD(ROW()-1, 28))","v":0},{"$f":"OFFSET(X0withPad!$B$2, INT((ROW()-1)/28), MOD(ROW()-1, 28))","v":0},{"$f":"OFFSET(X0withPad!$C$2, INT((ROW()-1)/28), MOD(ROW()-1, 28))","v":0},{"$f":"OFFSET(X0withPad!$A$3, INT((ROW()-1)/28), MOD(ROW()-1, 28))","v":0},{"$f":"OFFSET(X0withPad!$B$3, INT((ROW()-1)/28), MOD(ROW()-1, 28))","v":0},{"$f":"OFFSET(X0withPad!$C$3, INT((ROW()-1)/28), MOD(ROW()-1, 28))","v":0}]
[{"$f":"OFFSET(X0withPad!$A$1, INT((ROW()-1)/28), MOD(ROW()-1, 28))","v":0},{"$f":"OFFSET(X0withPad!$B$1, INT((ROW()-1)/28), MOD(ROW()-1, 28))","v":0},{"$f":"OFFSET(X0withPad!$C$1, INT((ROW()-1)/28), MOD(ROW()-1, 28))","v":0},{"$f":"OFFSET(X0withPad!$A$2, INT((ROW()-1)/28), MOD(ROW()-1, 28))","v":0},{"$f":"OFFSET(X0withPad!$B$2, INT((ROW()-1)/28), MOD(ROW()-1, 28))","v":0},{"$f":"OFFSET(X0withPad!$C$2, INT((ROW()-1)/28), MOD(ROW()-1, 28))","v":0},{"$f":"OFFSET(X0withPad!$A$3, INT((ROW()-1)/28), MOD(ROW()-1, 28))","v":0},{"$f":"OFFSET(X0withPad!$B$3, INT((ROW()-1)/28), MOD(ROW()-1, 28))","v":0},{"$f":"OFFSET(X0withPad!$C$3, INT((ROW()-1)/28), MOD(ROW()-1, 28))","v":0}]
[{"$f":"OFFSET(X0withPad!$A$1, INT((ROW()-1)/28), MOD(ROW()-1, 28))","v":0},{"$f":"OFFSET(X0withPad!$B$1, INT((ROW()-1)/28), MOD(ROW()-1, 28))","v":0},{"$f":"OFFSET(X0withPad!$C$1, INT((ROW()-1)/28), MOD(ROW()-1, 28))","v":0},{"$f":"OFFSET(X0withPad!$A$2, INT((ROW()-1)/28), MOD(ROW()-1, 28))","v":0},{"$f":"OFFSET(X0withPad!$B$2, INT((ROW()-1)/28), MOD(ROW()-1, 28))","v":0},{"$f":"OFFSET(X0withPad!$C$2, INT((ROW()-1)/28), MOD(ROW()-1, 28))","v":0},{"$f":"OFFSET(X0withPad!$A$3, INT((ROW()-1)/28), MOD(ROW()-1, 28))","v":0},{"$f":"OFFSET(X0withPad!$B$3, INT((ROW()-1)/28), MOD(ROW()-1, 28))","v":0},{"$f":"OFFSET(X0withPad!$C$3, INT((ROW()-1)/28), MOD(ROW()-1, 28))","v":0}]
[{"$f":"OFFSET(X0withPad!$A$1, INT((ROW()-1)/28), MOD(ROW()-1, 28))","v":0},{"$f":"OFFSET(X0withPad!$B$1, INT((ROW()-1)/28), MOD(ROW()-1, 28))","v":0},{"$f":"OFFSET(X0withPad!$C$1, INT((ROW()-1)/28), MOD(ROW()-1, 28))","v":0},{"$f":"OFFSET(X0withPad!$A$2, INT((ROW()-1)/28), MOD(ROW()-1, 28))","v":0},{"$f":"OFFSET(X0withPad!$B$2, INT((ROW()-1)/28), MOD(ROW()-1, 28))","v":0},{"$f":"OFFSET(X0withPad!$C$2, INT((ROW()-1)/28), MOD(ROW()-1, 28))","v":0},{"$f":"OFFSET(X0withPad!$A$3, INT((ROW()-1)/28), MOD(ROW()-1, 28))","v":0},{"$f":"OFFSET(X0withPad!$B$3, INT((ROW()-1)/28), MOD(ROW()-1, 28))","v":0},{"$f":"OFFSET(X0withPad!$C$3, INT((ROW()-1)/28), MOD(ROW()-1, 28))","v":0}]

{"sheet":"W1_Bias","index":2,"n_rows":13,"n_cols":17,"rows_kept":13,"cut":false,"hidden":false,"merged":[]}
[-10,-213,-140,56,30,78,-105,-158,-252,-30,-4,117,-111,104,9,116]
[118,8,172,-134,67,-181,-17,208,80,23,-110,-170,-158,141,55,-17]
[7,-116,-121,-177,-107,53,111,83,44,60,-62,-2,-94,154,-44,-120]
[27,142,-169,17,-45,-232,-99,-1,125,72,-18,54,-182,-223,-255,49]
[-143,158,21,46,-60,-91,-125,6,-129,137,104,141,94,-27,-74,-80]
[30,-52,-16,206,27,118,39,181,-160,41,-141,145,62,74,63,17]
[-219,99,-33,34,-151,-102,204,-238,53,91,181,2,-90,-83,-20,-203]
[96,104,-42,235,216,32,35,85,171,-54,189,-218,69,-114,181,-109]
[122,130,123,-191,99,95,-17,-58,144,-256,-52,20,28,87,141,-78]
[]
[]
[]
[-44,-5,-5,-38,-3,-2,-12,-20,-15,-7,7,-31,19,-19,-13,8," "]

{"sheet":"im2col_W1","index":3,"n_rows":784,"n_cols":16,"rows_kept":784,"cut":false,"hidden":false,"merged":[]}
[{"$f":"MMULT(im2col!A1:I784,W1_Bias!A1:P9)","v":0},0,0,0,0,0,0,0,0,0,0,0,0,0,0,0]
[0,0,0,0,0,0,0,0,0,0,0,0,0,0,0,0]
[0,0,0,0,0,0,0,0,0,0,0,0,0,0,0,0]
[0,0,0,0,0,0,0,0,0,0,0,0,0,0,0,0]
[0,0,0,0,0,0,0,0,0,0,0,0,0,0,0,0]
[0,0,0,0,0,0,0,0,0,0,0,0,0,0,0,0]
[0,0,0,0,0,0,0,0,0,0,0,0,0,0,0,0]
[0,0,0,0,0,0,0,0,0,0,0,0,0,0,0,0]
[0,0,0,0,0,0,0,0,0,0,0,0,0,0,0,0]
[0,0,0,0,0,0,0,0,0,0,0,0,0,0,0,0]
[0,0,0,0,0,0,0,0,0,0,0,0,0,0,0,0]
[0,0,0,0,0,0,0,0,0,0,0,0,0,0,0,0]
[0,0,0,0,0,0,0,0,0,0,0,0,0,0,0,0]
[0,0,0,0,0,0,0,0,0,0,0,0,0,0,0,0]
[0,0,0,0,0,0,0,0,0,0,0,0,0,0,0,0]
[0,0,0,0,0,0,0,0,0,0,0,0,0,0,0,0]
[0,0,0,0,0,0,0,0,0,0,0,0,0,0,0,0]
[0,0,0,0,0,0,0,0,0,0,0,0,0,0,0,0]
[0,0,0,0,0,0,0,0,0,0,0,0,0,0,0,0]
[0,0,0,0,0,0,0,0,0,0,0,0,0,0,0,0]
[0,0,0,0,0,0,0,0,0,0,0,0,0,0,0,0]
[0,0,0,0,0,0,0,0,0,0,0,0,0,0,0,0]
[0,0,0,0,0,0,0,0,0,0,0,0,0,0,0,0]
[0,0,0,0,0,0,0,0,0,0,0,0,0,0,0,0]
[0,0,0,0,0,0,0,0,0,0,0,0,0,0,0,0]
[0,0,0,0,0,0,0,0,0,0,0,0,0,0,0,0]
[0,0,0,0,0,0,0,0,0,0,0,0,0,0,0,0]
[0,0,0,0,0,0,0,0,0,0,0,0,0,0,0,0]
[0,0,0,0,0,0,0,0,0,0,0,0,0,0,0,0]
[0,0,0,0,0,0,0,0,0,0,0,0,0,0,0,0]
[0,0,0,0,0,0,0,0,0,0,0,0,0,0,0,0]
[0,0,0,0,0,0,0,0,0,0,0,0,0,0,0,0]
[0,0,0,0,0,0,0,0,0,0,0,0,0,0,0,0]
[0,0,0,0,0,0,0,0,0,0,0,0,0,0,0,0]
[0,0,0,0,0,0,0,0,0,0,0,0,0,0,0,0]
[0,0,0,0,0,0,0,0,0,0,0,0,0,0,0,0]
[0,0,0,0,0,0,0,0,0,0,0,0,0,0,0,0]
[0,0,0,0,0,0,0,0,0,0,0,0,0,0,0,0]
[0,0,0,0,0,0,0,0,0,0,0,0,0,0,0,0]
[0,0,0,0,0,0,0,0,0,0,0,0,0,0,0,0]
[0,0,0,0,0,0,0,0,0,0,0,0,0,0,0,0]
[0,0,0,0,0,0,0,0,0,0,0,0,0,0,0,0]
[0,0,0,0,0,0,0,0,0,0,0,0,0,0,0,0]
[0,0,0,0,0,0,0,0,0,0,0,0,0,0,0,0]
[0,0,0,0,0,0,0,0,0,0,0,0,0,0,0,0]
[0,0,0,0,0,0,0,0,0,0,0,0,0,0,0,0]
[0,0,0,0,0,0,0,0,0,0,0,0,0,0,0,0]
[0,0,0,0,0,0,0,0,0,0,0,0,0,0,0,0]
[0,0,0,0,0,0,0,0,0,0,0,0,0,0,0,0]
[0,0,0,0,0,0,0,0,0,0,0,0,0,0,0,0]
[0,0,0,0,0,0,0,0,0,0,0,0,0,0,0,0]
[0,0,0,0,0,0,0,0,0,0,0,0,0,0,0,0]
[0,0,0,0,0,0,0,0,0,0,0,0,0,0,0,0]
[0,0,0,0,0,0,0,0,0,0,0,0,0,0,0,0]
[0,0,0,0,0,0,0,0,0,0,0,0,0,0,0,0]
[0,0,0,0,0,0,0,0,0,0,0,0,0,0,0,0]
[0,0,0,0,0,0,0,0,0,0,0,0,0,0,0,0]
[0,0,0,0,0,0,0,0,0,0,0,0,0,0,0,0]
[0,0,0,0,0,0,0,0,0,0,0,0,0,0,0,0]
[0,0,0,0,0,0,0,0,0,0,0,0,0,0,0,0]
[0,0,0,0,0,0,0,0,0,0,0,0,0,0,0,0]
[0,0,0,0,0,0,0,0,0,0,0,0,0,0,0,0]
[0,0,0,0,0,0,0,0,0,0,0,0,0,0,0,0]
[0,0,0,0,0,0,0,0,0,0,0,0,0,0,0,0]
[0,0,0,0,0,0,0,0,0,0,0,0,0,0,0,0]
[0,0,0,0,0,0,0,0,0,0,0,0,0,0,0,0]
[0,0,0,0,0,0,0,0,0,0,0,0,0,0,0,0]
[0,0,0,0,0,0,0,0,0,0,0,0,0,0,0,0]
[0,0,0,0,0,0,0,0,0,0,0,0,0,0,0,0]
[0,0,0,0,0,0,0,0,0,0,0,0,0,0,0,0]
[0,0,0,0,0,0,0,0,0,0,0,0,0,0,0,0]
[0,0,0,0,0,0,0,0,0,0,0,0,0,0,0,0]
[0,0,0,0,0,0,0,0,0,0,0,0,0,0,0,0]
[0,0,0,0,0,0,0,0,0,0,0,0,0,0,0,0]
[0,0,0,0,0,0,0,0,0,0,0,0,0,0,0,0]
[0,0,0,0,0,0,0,0,0,0,0,0,0,0,0,0]
[0,0,0,0,0,0,0,0,0,0,0,0,0,0,0,0]
[0,0,0,0,0,0,0,0,0,0,0,0,0,0,0,0]
[0,0,0,0,0,0,0,0,0,0,0,0,0,0,0,0]
[0,0,0,0,0,0,0,0,0,0,0,0,0,0,0,0]
[0,0,0,0,0,0,0,0,0,0,0,0,0,0,0,0]
[0,0,0,0,0,0,0,0,0,0,0,0,0,0,0,0]
[0,0,0,0,0,0,0,0,0,0,0,0,0,0,0,0]
[0,0,0,0,0,0,0,0,0,0,0,0,0,0,0,0]
[0,0,0,0,0,0,0,0,0,0,0,0,0,0,0,0]
[0,0,0,0,0,0,0,0,0,0,0,0,0,0,0,0]
[0,0,0,0,0,0,0,0,0,0,0,0,0,0,0,0]
[0,0,0,0,0,0,0,0,0,0,0,0,0,0,0,0]
[0,0,0,0,0,0,0,0,0,0,0,0,0,0,0,0]
[0,0,0,0,0,0,0,0,0,0,0,0,0,0,0,0]
[0,0,0,0,0,0,0,0,0,0,0,0,0,0,0,0]
[0,0,0,0,0,0,0,0,0,0,0,0,0,0,0,0]
[0,0,0,0,0,0,0,0,0,0,0,0,0,0,0,0]
[0,0,0,0,0,0,0,0,0,0,0,0,0,0,0,0]
[0,0,0,0,0,0,0,0,0,0,0,0,0,0,0,0]
[0,0,0,0,0,0,0,0,0,0,0,0,0,0,0,0]
[0,0,0,0,0,0,0,0,0,0,0,0,0,0,0,0]
[0,0,0,0,0,0,0,0,0,0,0,0,0,0,0,0]
[0,0,0,0,0,0,0,0,0,0,0,0,0,0,0,0]
[0,0,0,0,0,0,0,0,0,0,0,0,0,0,0,0]
[0,0,0,0,0,0,0,0,0,0,0,0,0,0,0,0]
[0,0,0,0,0,0,0,0,0,0,0,0,0,0,0,0]
[0,0,0,0,0,0,0,0,0,0,0,0,0,0,0,0]
[0,0,0,0,0,0,0,0,0,0,0,0,0,0,0,0]
[0,0,0,0,0,0,0,0,0,0,0,0,0,0,0,0]
[0,0,0,0,0,0,0,0,0,0,0,0,0,0,0,0]
[0,0,0,0,0,0,0,0,0,0,0,0,0,0,0,0]
[0,0,0,0,0,0,0,0,0,0,0,0,0,0,0,0]
[0,0,0,0,0,0,0,0,0,0,0,0,0,0,0,0]
[0,0,0,0,0,0,0,0,0,0,0,0,0,0,0,0]
[0,0,0,0,0,0,0,0,0,0,0,0,0,0,0,0]
[0,0,0,0,0,0,0,0,0,0,0,0,0,0,0,0]
[0,0,0,0,0,0,0,0,0,0,0,0,0,0,0,0]
[0,0,0,0,0,0,0,0,0,0,0,0,0,0,0,0]
[0,0,0,0,0,0,0,0,0,0,0,0,0,0,0,0]
[0,0,0,0,0,0,0,0,0,0,0,0,0,0,0,0]
[0,0,0,0,0,0,0,0,0,0,0,0,0,0,0,0]
[0,0,0,0,0,0,0,0,0,0,0,0,0,0,0,0]
[0,0,0,0,0,0,0,0,0,0,0,0,0,0,0,0]
[0,0,0,0,0,0,0,0,0,0,0,0,0,0,0,0]
[0,0,0,0,0,0,0,0,0,0,0,0,0,0,0,0]
[0,0,0,0,0,0,0,0,0,0,0,0,0,0,0,0]
[0,0,0,0,0,0,0,0,0,0,0,0,0,0,0,0]
[0,0,0,0,0,0,0,0,0,0,0,0,0,0,0,0]
[0,0,0,0,0,0,0,0,0,0,0,0,0,0,0,0]
[0,0,0,0,0,0,0,0,0,0,0,0,0,0,0,0]
[0,0,0,0,0,0,0,0,0,0,0,0,0,0,0,0]
[0,0,0,0,0,0,0,0,0,0,0,0,0,0,0,0]
[0,0,0,0,0,0,0,0,0,0,0,0,0,0,0,0]
[0,0,0,0,0,0,0,0,0,0,0,0,0,0,0,0]
[0,0,0,0,0,0,0,0,0,0,0,0,0,0,0,0]
[0,0,0,0,0,0,0,0,0,0,0,0,0,0,0,0]
[0,0,0,0,0,0,0,0,0,0,0,0,0,0,0,0]
[0,0,0,0,0,0,0,0,0,0,0,0,0,0,0,0]
[0,0,0,0,0,0,0,0,0,0,0,0,0,0,0,0]
[0,0,0,0,0,0,0,0,0,0,0,0,0,0,0,0]
[0,0,0,0,0,0,0,0,0,0,0,0,0,0,0,0]
[0,0,0,0,0,0,0,0,0,0,0,0,0,0,0,0]
[0,0,0,0,0,0,0,0,0,0,0,0,0,0,0,0]
[0,0,0,0,0,0,0,0,0,0,0,0,0,0,0,0]
[0,0,0,0,0,0,0,0,0,0,0,0,0,0,0,0]
[0,0,0,0,0,0,0,0,0,0,0,0,0,0,0,0]
[0,0,0,0,0,0,0,0,0,0,0,0,0,0,0,0]
[0,0,0,0,0,0,0,0,0,0,0,0,0,0,0,0]
[0,0,0,0,0,0,0,0,0,0,0,0,0,0,0,0]
[0,0,0,0,0,0,0,0,0,0,0,0,0,0,0,0]
[0,0,0,0,0,0,0,0,0,0,0,0,0,0,0,0]
[0,0,0,0,0,0,0,0,0,0,0,0,0,0,0,0]
[0,0,0,0,0,0,0,0,0,0,0,0,0,0,0,0]
[0,0,0,0,0,0,0,0,0,0,0,0,0,0,0,0]
[0,0,0,0,0,0,0,0,0,0,0,0,0,0,0,0]
[0,0,0,0,0,0,0,0,0,0,0,0,0,0,0,0]
[0,0,0,0,0,0,0,0,0,0,0,0,0,0,0,0]
[0,0,0,0,0,0,0,0,0,0,0,0,0,0,0,0]
[0,0,0,0,0,0,0,0,0,0,0,0,0,0,0,0]
[0,0,0,0,0,0,0,0,0,0,0,0,0,0,0,0]
[0,0,0,0,0,0,0,0,0,0,0,0,0,0,0,0]
[0,0,0,0,0,0,0,0,0,0,0,0,0,0,0,0]
[0,0,0,0,0,0,0,0,0,0,0,0,0,0,0,0]
[0,0,0,0,0,0,0,0,0,0,0,0,0,0,0,0]
[0,0,0,0,0,0,0,0,0,0,0,0,0,0,0,0]
[0,0,0,0,0,0,0,0,0,0,0,0,0,0,0,0]
[0,0,0,0,0,0,0,0,0,0,0,0,0,0,0,0]
[0,0,0,0,0,0,0,0,0,0,0,0,0,0,0,0]
[0,0,0,0,0,0,0,0,0,0,0,0,0,0,0,0]
[0,0,0,0,0,0,0,0,0,0,0,0,0,0,0,0]
[0,0,0,0,0,0,0,0,0,0,0,0,0,0,0,0]
[0,0,0,0,0,0,0,0,0,0,0,0,0,0,0,0]
[0,0,0,0,0,0,0,0,0,0,0,0,0,0,0,0]
[0,0,0,0,0,0,0,0,0,0,0,0,0,0,0,0]
[0,0,0,0,0,0,0,0,0,0,0,0,0,0,0,0]
[0,0,0,0,0,0,0,0,0,0,0,0,0,0,0,0]
[0,0,0,0,0,0,0,0,0,0,0,0,0,0,0,0]
[10248,10920,10332,-16044,8316,7980,-1428,-4872,12096,-21504,-4368,1680,2352,7308,11844,-6552]
[30634,32786,19227,-15595,36459,20263,-205,-3590,41004,-51896,6256,-14612,10976,6519,41289,-23586]
[18762,48226,9015,15962,43017,12457,20908,-13489,58983,-43050,41901,-36982,9657,-14229,54224,-49619]
[-6829,54481,5790,14814,21358,563,40738,-39273,58738,-30407,55684,-31272,-1451,-20344,46370,-66664]
[-13005,39245,-4209,29431,14547,-5686,36701,-28487,42888,-9045,54198,-31400,-2211,-25191,32611,-53416]
[-22917,25869,-3075,12358,-6277,-10062,32292,-32926,23447,1285,36799,-12058,-8442,-16241,12916,-40001]
[-9684,9684,-3492,10500,-1284,-4968,13500,-11220,9336,3516,17664,-7728,-2916,-9084,5316,-16104]
[-7884,3564,-1188,1224,-5436,-3672,7344,-8568,1908,3276,6516,72,-3240,-2988,-720,-7308]
[0,0,0,0,0,0,0,0,0,0,0,0,0,0,0,0]
[0,0,0,0,0,0,0,0,0,0,0,0,0,0,0,0]
[0,0,0,0,0,0,0,0,0,0,0,0,0,0,0,0]
[0,0,0,0,0,0,0,0,0,0,0,0,0,0,0,0]
[0,0,0,0,0,0,0,0,0,0,0,0,0,0,0,0]
[0,0,0,0,0,0,0,0,0,0,0,0,0,0,0,0]
[0,0,0,0,0,0,0,0,0,0,0,0,0,0,0,0]
[0,0,0,0,0,0,0,0,0,0,0,0,0,0,0,0]
[0,0,0,0,0,0,0,0,0,0,0,0,0,0,0,0]
[0,0,0,0,0,0,0,0,0,0,0,0,0,0,0,0]
[0,0,0,0,0,0,0,0,0,0,0,0,0,0,0,0]
[0,0,0,0,0,0,0,0,0,0,0,0,0,0,0,0]
[0,0,0,0,0,0,0,0,0,0,0,0,0,0,0,0]
[0,0,0,0,0,0,0,0,0,0,0,0,0,0,0,0]
[0,0,0,0,0,0,0,0,0,0,0,0,0,0,0,0]
[0,0,0,0,0,0,0,0,0,0,0,0,0,0,0,0]
[0,0,0,0,0,0,0,0,0,0,0,0,0,0,0,0]
[0,0,0,0,0,0,0,0,0,0,0,0,0,0,0,0]
[0,0,0,0,0,0,0,0,0,0,0,0,0,0,0,0]
[0,0,0,0,0,0,0,0,0,0,0,0,0,0,0,0]
[29604,24492,25962,-25098,24246,31002,-498,2328,18528,-53388,-23388,16620,11424,25530,36594,-15888]
[45838,59760,20722,45630,73053,45420,167,38127,34102,-57919,11401,-4647,41796,8212,81435,-47585]
[-12663,114304,393,61416,35901,-7947,24620,-16173,52971,-20626,70289,3828,16618,-37245,52255,-100545]
[-13466,128122,-18150,61377,27868,-33221,24087,-25494,71926,-14332,72687,4520,-7584,-62314,27280,-100148]
[-15754,127898,-12468,41821,27061,-37199,24112,-41987,84268,-21031,85154,-11207,-9246,-63034,28769,-102329]
[-5263,111942,-14242,35038,30946,-31129,35564,-46115,96975,-31730,79894,-28210,-18196,-61700,34198,-94835]
[-11862,90158,-3534,30129,28444,-16582,46445,-51295,86041,-31336,83891,-39754,-8223,-45682,48495,-93215]
[-8643,75303,2001,17518,24359,-7788,49164,-52048,79643,-36857,70099,-36778,-9036,-33377,49756,-84185]
[-198,65934,9504,15444,32472,4950,43956,-41778,72864,-43362,62964,-38808,1386,-21780,59796,-77220]
[-198,65934,9504,15444,32472,4950,43956,-41778,72864,-43362,62964,-38808,1386,-21780,59796,-77220]
[-198,65934,9504,15444,32472,4950,43956,-41778,72864,-43362,62964,-38808,1386,-21780,59796,-77220]
[-198,65934,9504,15444,32472,4950,43956,-41778,72864,-43362,62964,-38808,1386,-21780,59796,-77220]
[-198,65934,9504,15444,32472,4950,43956,-41778,72864,-43362,62964,-38808,1386,-21780,59796,-77220]
[-198,65934,9504,15444,32472,4950,43956,-41778,72864,-43362,62964,-38808,1386,-21780,59796,-77220]
[-3614,62294,6060,20792,29700,2290,44432,-40154,68832,-36194,64420,-39368,602,-24216,55848,-75036]
[-20698,44042,-7278,36750,11970,-9816,45458,-35690,47052,-4474,65264,-35624,-4634,-31290,34142,-62780]
[-32238,22238,-7794,18000,-14438,-15676,36500,-36040,17902,12662,40598,-10996,-11712,-20038,6012,-40178]
[-11388,5148,-1716,1768,-7852,-5304,10608,-12376,2756,4732,9412,104,-4680,-4316,-1040,-10556]
[0,0,0,0,0,0,0,0,0,0,0,0,0,0,0,0]
[0,0,0,0,0,0,0,0,0,0,0,0,0,0,0,0]
[0,0,0,0,0,0,0,0,0,0,0,0,0,0,0,0]
[0,0,0,0,0,0,0,0,0,0,0,0,0,0,0,0]
[0,0,0,0,0,0,0,0,0,0,0,0,0,0,0,0]
[0,0,0,0,0,0,0,0,0,0,0,0,0,0,0,0]
[0,0,0,0,0,0,0,0,0,0,0,0,0,0,0,0]
[0,0,0,0,0,0,0,0,0,0,0,0,0,0,0,0]
[0,0,0,0,0,0,0,0,0,0,0,0,0,0,0,0]
[0,0,0,0,0,0,0,0,0,0,0,0,0,0,0,0]
[15422,-12578,-5475,18067,3639,37013,16843,43268,-22176,-3010,-39994,33362,7744,35193,19737,-11532]
[7421,22868,3869,12506,5129,17345,1670,79216,-26545,21058,-26701,41156,13769,55416,24255,-53265]
[4450,51441,-33570,34869,1165,-59498,-21704,75249,-11615,53980,-14009,39414,-50428,9446,-26023,-49248]
[-8021,40937,-51243,29675,-10142,-56910,-28519,35995,-34142,47969,-13248,67485,-68555,12457,-36972,-42801]
[9866,63547,-32319,44481,18544,-52030,-43685,41610,-20222,24471,-8834,57725,-47801,-2428,-18291,-34635]
[1964,85557,-39311,58516,25002,-35625,-35274,10058,-4641,5437,18064,61104,-29692,-24253,-6078,-50216]
[-934,124123,-26912,65101,33233,-44563,-17582,807,40773,-3998,47572,33227,-15541,-54490,6031,-74764]
[-14106,125681,-35263,80442,26563,-41409,6706,-14389,51696,857,65585,23436,-13574,-68915,9850,-87806]
[-20066,130670,-19062,66259,19948,-35168,18743,-19231,56041,-4560,64401,23858,-5371,-59482,18791,-98671]
[-10931,130815,-19323,72088,30591,-31282,13842,-9864,59463,-8765,64633,17478,-760,-60381,24620,-95945]
[-17282,133686,-20280,73074,26212,-34240,19758,-16766,61000,-6126,69882,17536,-3370,-62788,24040,-101832]
[-17770,133166,-20772,73838,25816,-34620,19826,-16534,60424,-5102,70090,17456,-3482,-63136,23476,-101520]
[-20716,130020,-23187,76909,22873,-36743,20043,-15656,56716,490,70426,17908,-4346,-64507,19791,-99446]
[-18806,130690,-19098,67063,21416,-34632,18067,-17939,56513,-5140,64433,22978,-4735,-59606,19595,-98295]
[-12647,132667,-19007,66456,29231,-34994,13566,-15884,64155,-9549,69305,13426,-2856,-62785,22776,-97233]
[-31566,122034,-32554,63484,12664,-59750,19502,-36748,71556,13236,93484,-9862,-18246,-82754,840,-93182]
[-45032,72062,-41900,46818,-18884,-65600,33386,-48410,51944,34918,74782,-13500,-39252,-76356,-26938,-62652]
[-29256,21244,-13408,5644,-23480,-26344,23412,-33372,13920,16484,24404,3088,-22064,-23216,-16060,-25872]
[0,0,0,0,0,0,0,0,0,0,0,0,0,0,0,0]
[0,0,0,0,0,0,0,0,0,0,0,0,0,0,0,0]
[0,0,0,0,0,0,0,0,0,0,0,0,0,0,0,0]
[0,0,0,0,0,0,0,0,0,0,0,0,0,0,0,0]
[0,0,0,0,0,0,0,0,0,0,0,0,0,0,0,0]
[0,0,0,0,0,0,0,0,0,0,0,0,0,0,0,0]
[0,0,0,0,0,0,0,0,0,0,0,0,0,0,0,0]
[0,0,0,0,0,0,0,0,0,0,0,0,0,0,0,0]
[0,0,0,0,0,0,0,0,0,0,0,0,0,0,0,0]
[0,0,0,0,0,0,0,0,0,0,0,0,0,0,0,0]
[3564,-29236,-27934,-25492,-21945,19672,27255,30553,-952,16067,-23211,9271,-16714,39146,-5547,-25501]
[21813,-23030,7033,-48140,-13246,-19365,20491,88294,2053,34199,-49274,-12271,-45586,77045,3258,-37676]
[17197,-50936,-28207,-45347,-11411,-32618,-17509,52487,-42299,37816,-44078,12418,-85664,85327,-16193,-13659]
[25412,-59898,-42184,-36036,-8912,-32248,-18634,54734,-45790,36208,-55342,18868,-99114,82416,-22136,-3570]
[19742,-61774,-34988,-24724,-8219,-20544,-17815,63897,-64298,40947,-57127,29627,-84484,94274,-11447,-8155]
[17772,-47678,-38417,-9518,-8247,-26269,-27334,73668,-73733,48176,-61889,48450,-81856,87798,-18782,-8695]
[16528,-18990,-37506,3810,-1310,-35002,-43922,71220,-73153,45238,-55161,63605,-74443,71011,-23149,-11249]
[3218,-1684,-61882,27225,-6995,-54066,-46601,62314,-62368,63970,-29592,60764,-76719,34928,-44579,-16279]
[137,11552,-54412,9239,-20361,-59250,-32728,55000,-47719,58119,-40726,69801,-84302,33836,-50797,-25544]
[11683,12380,-49412,20767,-1496,-48161,-42235,72084,-48778,52410,-36583,60666,-67961,37794,-34915,-24506]
[859,21745,-56062,23062,-10804,-60295,-34294,59441,-42344,59321,-27512,62338,-78009,26928,-43370,-33844]
[-237,20913,-56982,23766,-11704,-61527,-34314,59181,-42856,61205,-26532,61598,-78481,25936,-44750,-33288]
[-5699,15601,-61068,24634,-17521,-67507,-34267,56880,-45820,69956,-23523,58973,-81775,22096,-52583,-29489]
[22280,33621,-32928,-21517,-1121,-41693,-36888,47487,-23573,14100,-48970,71989,-77353,49106,-24837,-38584]
[49100,58775,-31028,30027,55280,-28114,-41575,71609,6688,-5343,-11435,27850,-49790,29012,22113,-55378]
[-21188,85634,-50022,71414,18598,-83966,-14112,-5724,13782,40540,64598,11212,-68144,-39892,-9702,-75518]
[-54176,58564,-67676,46856,-26704,-90336,-5854,-66900,6598,50954,69596,21906,-75700,-68576,-56634,-43034]
[-19954,19298,-34438,8896,-20746,-39236,2304,-33584,10014,18166,16458,13856,-40792,-34610,-37352,-8626]
[0,0,0,0,0,0,0,0,0,0,0,0,0,0,0,0]
[0,0,0,0,0,0,0,0,0,0,0,0,0,0,0,0]
[0,0,0,0,0,0,0,0,0,0,0,0,0,0,0,0]
[0,0,0,0,0,0,0,0,0,0,0,0,0,0,0,0]
[0,0,0,0,0,0,0,0,0,0,0,0,0,0,0,0]
[0,0,0,0,0,0,0,0,0,0,0,0,0,0,0,0]
[0,0,0,0,0,0,0,0,0,0,0,0,0,0,0,0]
[0,0,0,0,0,0,0,0,0,0,0,0,0,0,0,0]
[0,0,0,0,0,0,0,0,0,0,0,0,0,0,0,0]
[0,0,0,0,0,0,0,0,0,0,0,0,0,0,0,0]
[469,-7772,-8107,-11859,-7169,3551,7437,5561,2948,4020,-4154,-134,-6298,10318,-2948,-8040]
[8704,-12688,-2270,-29156,-7709,-6085,11515,23398,10376,8381,-14438,-11618,-21302,27003,-1331,-14819]
[13286,-21711,1516,-24268,1944,-11592,-981,19102,-4596,4932,-17272,-11685,-32217,34130,3705,-2806]
[8154,-36930,-17370,-23442,-3954,1902,-540,6426,-17952,5076,-15444,870,-34746,39564,-30,-1680]
[13873,-33332,-10195,-40095,-7643,-6379,8595,25865,-1852,10242,-22934,-11282,-41326,48664,-254,-13146]
[20193,-50194,-15663,-52135,-9489,-6574,11119,37810,-8420,14646,-34857,-12361,-58692,71055,1074,-16498]
[26483,-63113,-15209,-51870,-6317,-8670,7669,54592,-24493,20606,-48908,-8060,-72145,92500,5676,-15669]
[20718,-60305,-17028,-54940,-4594,-24641,-12565,38554,-35613,23372,-38214,-4817,-82501,89535,-2224,-9195]
[27578,-73666,-39526,-45316,-6484,-16131,-7972,39895,-39108,22212,-50693,6213,-94162,87119,-10160,-1588]
[22307,-66267,-20577,-49272,-6251,-16401,-6897,50879,-42817,27266,-47319,2555,-81079,98357,512,-12233]
[23448,-64918,-33594,-46747,-7766,-26435,-15189,46244,-43500,30212,-48389,8810,-93944,89554,-12742,-6272]
[23180,-64038,-32982,-47687,-7554,-27591,-15945,44464,-42396,29644,-47013,7658,-94064,88346,-13070,-5928]
[32691,-50132,-20480,-67483,2096,-23851,-20101,30149,-24576,4390,-45061,3402,-92242,89173,-2465,-9820]
[70804,-39936,-12019,-39877,41097,30453,-2607,64378,-15973,-39442,-71561,17145,-69129,113694,52634,-28931]
[35508,12552,-9421,19725,51269,8459,392,74730,-16913,-1143,-4280,3537,-39478,88939,71640,-82495]
[-31505,48945,-59971,47219,-4617,-101508,-7807,1301,-6014,69887,53944,5490,-101835,-11111,-26895,-74152]
[-38363,22397,-59833,15994,-28461,-94844,-24180,-58842,-20577,46457,31267,31074,-104146,-32747,-63550,-13339]
[-2480,-12986,-38108,10254,-3288,-15508,-21522,-26510,-21076,5070,790,22140,-36452,-10572,-26130,17780]
[0,0,0,0,0,0,0,0,0,0,0,0,0,0,0,0]
[0,0,0,0,0,0,0,0,0,0,0,0,0,0,0,0]
[0,0,0,0,0,0,0,0,0,0,0,0,0,0,0,0]
[0,0,0,0,0,0,0,0,0,0,0,0,0,0,0,0]
[0,0,0,0,0,0,0,0,0,0,0,0,0,0,0,0]
[0,0,0,0,0,0,0,0,0,0,0,0,0,0,0,0]
[0,0,0,0,0,0,0,0,0,0,0,0,0,0,0,0]
[0,0,0,0,0,0,0,0,0,0,0,0,0,0,0,0]
[0,0,0,0,0,0,0,0,0,0,0,0,0,0,0,0]
[0,0,0,0,0,0,0,0,0,0,0,0,0,0,0,0]
[0,0,0,0,0,0,0,0,0,0,0,0,0,0,0,0]
[0,0,0,0,0,0,0,0,0,0,0,0,0,0,0,0]
[0,0,0,0,0,0,0,0,0,0,0,0,0,0,0,0]
[0,0,0,0,0,0,0,0,0,0,0,0,0,0,0,0]
[0,0,0,0,0,0,0,0,0,0,0,0,0,0,0,0]
[119,-1972,-2057,-3009,-1819,901,1887,1411,748,1020,-1054,-34,-1598,2618,-748,-2040]
[2468,-7520,-5062,-13960,-5923,421,7037,9014,4264,4351,-5962,-3022,-8890,12561,-1969,-8209]
[7716,-4717,7278,-10370,3434,-9878,-1353,12204,1612,1848,-8196,-9259,-13631,13230,3167,-830]
[1461,-21718,-14939,-10039,-4251,6165,269,-1955,-12564,2362,-5958,5208,-15836,19156,-1584,-622]
[8235,-10218,1457,-20053,-2260,-7484,4828,17285,4780,5141,-11580,-9886,-18438,21221,863,-7555]
[7705,-21507,-5963,-17085,-670,-3350,-737,8911,-8576,3551,-11792,-3685,-24321,26733,1340,-1407]
[10333,-17719,-2289,-19871,2364,-1684,-1999,6971,-5760,-2561,-12440,-3229,-22953,27415,4794,-2163]
[39467,12027,24634,-30106,33776,28293,-5661,6808,12794,-56826,-27721,9666,-5545,42426,44988,-14912]
[47921,19743,-14656,21452,52027,65047,27444,60704,23738,-41243,-9460,5599,12674,55719,78787,-73925]
[-14673,69220,-13330,32691,4106,-52954,45332,67523,36968,55429,39609,-21175,-42912,23514,28471,-126244]
[-42039,41357,-52735,6216,-31260,-120893,-12877,-25034,-4996,71432,41030,12377,-118799,-14675,-57494,-54491]
[-5140,-12515,-55010,7223,-8296,-57966,-34481,-37939,-27326,19885,457,25688,-88758,-12620,-48171,19614]
[-574,-20022,-17882,6242,2370,4092,-12912,-16766,-24462,-1884,-748,13374,-15042,7010,-3636,13178]
[0,0,0,0,0,0,0,0,0,0,0,0,0,0,0,0]
[0,0,0,0,0,0,0,0,0,0,0,0,0,0,0,0]
[0,0,0,0,0,0,0,0,0,0,0,0,0,0,0,0]
[0,0,0,0,0,0,0,0,0,0,0,0,0,0,0,0]
[0,0,0,0,0,0,0,0,0,0,0,0,0,0,0,0]
[0,0,0,0,0,0,0,0,0,0,0,0,0,0,0,0]
[0,0,0,0,0,0,0,0,0,0,0,0,0,0,0,0]
[0,0,0,0,0,0,0,0,0,0,0,0,0,0,0,0]
[0,0,0,0,0,0,0,0,0,0,0,0,0,0,0,0]
[0,0,0,0,0,0,0,0,0,0,0,0,0,0,0,0]
[0,0,0,0,0,0,0,0,0,0,0,0,0,0,0,0]
[0,0,0,0,0,0,0,0,0,0,0,0,0,0,0,0]
[0,0,0,0,0,0,0,0,0,0,0,0,0,0,0,0]
[0,0,0,0,0,0,0,0,0,0,0,0,0,0,0,0]
[0,0,0,0,0,0,0,0,0,0,0,0,0,0,0,0]
[0,0,0,0,0,0,0,0,0,0,0,0,0,0,0,0]
[0,0,0,0,0,0,0,0,0,0,0,0,0,0,0,0]
[0,0,0,0,0,0,0,0,0,0,0,0,0,0,0,0]
[0,0,0,0,0,0,0,0,0,0,0,0,0,0,0,0]
[0,0,0,0,0,0,0,0,0,0,0,0,0,0,0,0]
[0,0,0,0,0,0,0,0,0,0,0,0,0,0,0,0]
[16398,15626,15515,-20107,13365,14851,-1335,-3500,15056,-32122,-9810,5770,4976,12851,19575,-9688]
[47797,28168,12515,16120,49100,58149,15747,45427,22169,-54443,-24538,13679,24725,36822,68562,-41632]
[11659,68121,-4893,26337,29352,19749,36474,62878,34208,-1856,22044,6046,9392,39381,63598,-117435]
[-24607,84779,-41709,22704,-9056,-109821,17876,30403,51966,69981,58171,-23641,-87329,-20597,-23388,-108261]
[-30624,23157,-52704,9561,-23222,-106722,-13648,-47669,-4938,47310,30318,10392,-119789,-25323,-54983,-23620]
[-7361,-28231,-41643,12199,-2903,-10700,-21492,-39833,-38521,4124,3654,25963,-45109,2113,-19174,19073]
[-180,-3834,-2520,1008,540,1404,-1890,-2844,-4536,-540,-72,2106,-1998,1872,162,2088]
[0,0,0,0,0,0,0,0,0,0,0,0,0,0,0,0]
[0,0,0,0,0,0,0,0,0,0,0,0,0,0,0,0]
[0,0,0,0,0,0,0,0,0,0,0,0,0,0,0,0]
[0,0,0,0,0,0,0,0,0,0,0,0,0,0,0,0]
[0,0,0,0,0,0,0,0,0,0,0,0,0,0,0,0]
[0,0,0,0,0,0,0,0,0,0,0,0,0,0,0,0]
[0,0,0,0,0,0,0,0,0,0,0,0,0,0,0,0]
[0,0,0,0,0,0,0,0,0,0,0,0,0,0,0,0]
[0,0,0,0,0,0,0,0,0,0,0,0,0,0,0,0]
[0,0,0,0,0,0,0,0,0,0,0,0,0,0,0,0]
[0,0,0,0,0,0,0,0,0,0,0,0,0,0,0,0]
[0,0,0,0,0,0,0,0,0,0,0,0,0,0,0,0]
[0,0,0,0,0,0,0,0,0,0,0,0,0,0,0,0]
[0,0,0,0,0,0,0,0,0,0,0,0,0,0,0,0]
[0,0,0,0,0,0,0,0,0,0,0,0,0,0,0,0]
[0,0,0,0,0,0,0,0,0,0,0,0,0,0,0,0]
[0,0,0,0,0,0,0,0,0,0,0,0,0,0,0,0]
[0,0,0,0,0,0,0,0,0,0,0,0,0,0,0,0]
[0,0,0,0,0,0,0,0,0,0,0,0,0,0,0,0]
[0,0,0,0,0,0,0,0,0,0,0,0,0,0,0,0]
[7198,7670,7257,-11269,5841,5605,-1003,-3422,8496,-15104,-3068,1180,1652,5133,8319,-4602]
[40066,29246,23423,-11014,38524,41931,5305,15748,26273,-60321,-21350,10779,16973,27871,52947,-26300]
[35371,45079,-6927,26076,45682,52680,35703,63054,37013,-30528,5268,1729,21479,43112,77117,-93266]
[-19223,72799,-25393,44094,-2230,-63280,45427,69358,35154,66914,38859,-13890,-51220,12169,14832,-125031]
[-47189,45761,-48421,11723,-34290,-122900,-18781,-22929,-16592,76319,37540,24391,-113665,-14993,-60998,-51433]
[-6200,-6765,-62768,11336,-9501,-60677,-44600,-37756,-30260,23065,1364,34905,-86179,-21185,-58326,23725]
[358,-11431,-19056,5396,510,-3734,-13071,-13158,-15416,678,-1124,12087,-17221,-1180,-10473,11784]
[0,0,0,0,0,0,0,0,0,0,0,0,0,0,0,0]
[0,0,0,0,0,0,0,0,0,0,0,0,0,0,0,0]
[0,0,0,0,0,0,0,0,0,0,0,0,0,0,0,0]
[0,0,0,0,0,0,0,0,0,0,0,0,0,0,0,0]
[0,0,0,0,0,0,0,0,0,0,0,0,0,0,0,0]
[0,0,0,0,0,0,0,0,0,0,0,0,0,0,0,0]
[0,0,0,0,0,0,0,0,0,0,0,0,0,0,0,0]
[0,0,0,0,0,0,0,0,0,0,0,0,0,0,0,0]
[0,0,0,0,0,0,0,0,0,0,0,0,0,0,0,0]
[0,0,0,0,0,0,0,0,0,0,0,0,0,0,0,0]
[0,0,0,0,0,0,0,0,0,0,0,0,0,0,0,0]
[0,0,0,0,0,0,0,0,0,0,0,0,0,0,0,0]
[0,0,0,0,0,0,0,0,0,0,0,0,0,0,0,0]
[0,0,0,0,0,0,0,0,0,0,0,0,0,0,0,0]
[0,0,0,0,0,0,0,0,0,0,0,0,0,0,0,0]
[0,0,0,0,0,0,0,0,0,0,0,0,0,0,0,0]
[0,0,0,0,0,0,0,0,0,0,0,0,0,0,0,0]
[0,0,0,0,0,0,0,0,0,0,0,0,0,0,0,0]
[0,0,0,0,0,0,0,0,0,0,0,0,0,0,0,0]
[0,0,0,0,0,0,0,0,0,0,0,0,0,0,0,0]
[0,0,0,0,0,0,0,0,0,0,0,0,0,0,0,0]
[17996,14222,15415,-13249,14760,19597,40,2965,9712,-31629,-15235,11215,7382,15937,22470,-9371]
[43692,28262,7302,13916,43254,59236,16992,52703,17544,-46174,-25042,20252,25147,43635,65532,-50276]
[8677,69973,-9408,31032,24022,-3935,31784,74413,33521,17497,21437,1321,-5050,32495,48131,-114655]
[-34455,64457,-56530,11377,-26816,-116313,12848,19854,32882,83256,51037,-10471,-104238,-13880,-44254,-97314]
[-16629,7595,-47953,-10753,-23449,-104418,-20405,-30939,-8514,44023,6744,10912,-126819,-7657,-58753,-10882]
[3391,-41043,-36395,8656,6543,-4294,-30856,-29704,-48441,-1209,-6003,23724,-45104,16715,-11348,28883]
[-440,-9372,-6160,2464,1320,3432,-4620,-6952,-11088,-1320,-176,5148,-4884,4576,396,5104]
[0,0,0,0,0,0,0,0,0,0,0,0,0,0,0,0]
[0,0,0,0,0,0,0,0,0,0,0,0,0,0,0,0]
[0,0,0,0,0,0,0,0,0,0,0,0,0,0,0,0]
[0,0,0,0,0,0,0,0,0,0,0,0,0,0,0,0]
[0,0,0,0,0,0,0,0,0,0,0,0,0,0,0,0]
[0,0,0,0,0,0,0,0,0,0,0,0,0,0,0,0]
[0,0,0,0,0,0,0,0,0,0,0,0,0,0,0,0]
[0,0,0,0,0,0,0,0,0,0,0,0,0,0,0,0]
[0,0,0,0,0,0,0,0,0,0,0,0,0,0,0,0]
[0,0,0,0,0,0,0,0,0,0,0,0,0,0,0,0]
[0,0,0,0,0,0,0,0,0,0,0,0,0,0,0,0]
[0,0,0,0,0,0,0,0,0,0,0,0,0,0,0,0]
[0,0,0,0,0,0,0,0,0,0,0,0,0,0,0,0]
[0,0,0,0,0,0,0,0,0,0,0,0,0,0,0,0]
[0,0,0,0,0,0,0,0,0,0,0,0,0,0,0,0]
[0,0,0,0,0,0,0,0,0,0,0,0,0,0,0,0]
[0,0,0,0,0,0,0,0,0,0,0,0,0,0,0,0]
[0,0,0,0,0,0,0,0,0,0,0,0,0,0,0,0]
[0,0,0,0,0,0,0,0,0,0,0,0,0,0,0,0]
[0,0,0,0,0,0,0,0,0,0,0,0,0,0,0,0]
[1098,1170,1107,-1719,891,855,-153,-522,1296,-2304,-468,180,252,783,1269,-702]
[30277,13826,15570,-20085,19517,38584,8566,17845,12375,-43973,-31370,21305,9061,35737,36317,-21790]
[45271,33845,345,7576,43661,49589,24712,80610,29123,-28807,-16432,5343,15801,59329,70342,-80721]
[-10562,62882,-26348,31619,3454,-66373,29656,67716,31792,61653,35242,-18318,-58217,17441,11086,-111664]
[-40561,37741,-48373,4946,-29581,-122061,-19285,-33685,-9811,65640,37241,14489,-120257,-17259,-59272,-41969]
[-3592,-20520,-58308,11297,-5699,-41165,-35030,-41197,-33244,13233,-184,30097,-76774,-11492,-43519,25399]
[-485,-12496,-9525,3557,1635,3676,-7005,-9801,-14999,-1500,-338,7524,-7792,5333,-717,7437]
[0,0,0,0,0,0,0,0,0,0,0,0,0,0,0,0]
[0,0,0,0,0,0,0,0,0,0,0,0,0,0,0,0]
[0,0,0,0,0,0,0,0,0,0,0,0,0,0,0,0]
[0,0,0,0,0,0,0,0,0,0,0,0,0,0,0,0]
[0,0,0,0,0,0,0,0,0,0,0,0,0,0,0,0]
[0,0,0,0,0,0,0,0,0,0,0,0,0,0,0,0]
[0,0,0,0,0,0,0,0,0,0,0,0,0,0,0,0]
[0,0,0,0,0,0,0,0,0,0,0,0,0,0,0,0]
[0,0,0,0,0,0,0,0,0,0,0,0,0,0,0,0]
[0,0,0,0,0,0,0,0,0,0,0,0,0,0,0,0]
[0,0,0,0,0,0,0,0,0,0,0,0,0,0,0,0]
[0,0,0,0,0,0,0,0,0,0,0,0,0,0,0,0]
[0,0,0,0,0,0,0,0,0,0,0,0,0,0,0,0]
[0,0,0,0,0,0,0,0,0,0,0,0,0,0,0,0]
[0,0,0,0,0,0,0,0,0,0,0,0,0,0,0,0]
[0,0,0,0,0,0,0,0,0,0,0,0,0,0,0,0]
[0,0,0,0,0,0,0,0,0,0,0,0,0,0,0,0]
[0,0,0,0,0,0,0,0,0,0,0,0,0,0,0,0]
[0,0,0,0,0,0,0,0,0,0,0,0,0,0,0,0]
[0,0,0,0,0,0,0,0,0,0,0,0,0,0,0,0]
[0,0,0,0,0,0,0,0,0,0,0,0,0,0,0,0]
[15642,15912,15354,-22212,12717,13032,-1791,-5679,16704,-31887,-7821,3825,4086,11628,18333,-9675]
[48878,21458,6766,199,43126,58582,21725,44176,30013,-54210,-25609,8340,16860,43143,65017,-46741]
[14834,54922,-1482,27103,29580,10476,40589,75901,33136,8358,17160,-9247,-600,45099,63414,-111944]
[-36392,61363,-43950,18560,-20582,-109057,11627,14138,23969,77472,54230,-12713,-93177,-11505,-32172,-91539]
[-21895,9212,-50701,1353,-22508,-95148,-23968,-44037,-15664,39345,12614,19852,-114274,-18423,-58821,-3749]
[286,-31555,-35122,10788,3335,225,-25462,-28564,-39474,-1319,-2342,24161,-32103,7219,-12832,24449]
[-50,-1065,-700,280,150,390,-525,-790,-1260,-150,-20,585,-555,520,45,580]
[0,0,0,0,0,0,0,0,0,0,0,0,0,0,0,0]
[0,0,0,0,0,0,0,0,0,0,0,0,0,0,0,0]
[0,0,0,0,0,0,0,0,0,0,0,0,0,0,0,0]
[0,0,0,0,0,0,0,0,0,0,0,0,0,0,0,0]
[0,0,0,0,0,0,0,0,0,0,0,0,0,0,0,0]
[0,0,0,0,0,0,0,0,0,0,0,0,0,0,0,0]
[0,0,0,0,0,0,0,0,0,0,0,0,0,0,0,0]
[0,0,0,0,0,0,0,0,0,0,0,0,0,0,0,0]
[0,0,0,0,0,0,0,0,0,0,0,0,0,0,0,0]
[0,0,0,0,0,0,0,0,0,0,0,0,0,0,0,0]
[0,0,0,0,0,0,0,0,0,0,0,0,0,0,0,0]
[0,0,0,0,0,0,0,0,0,0,0,0,0,0,0,0]
[0,0,0,0,0,0,0,0,0,0,0,0,0,0,0,0]
[0,0,0,0,0,0,0,0,0,0,0,0,0,0,0,0]
[0,0,0,0,0,0,0,0,0,0,0,0,0,0,0,0]
[0,0,0,0,0,0,0,0,0,0,0,0,0,0,0,0]
[0,0,0,0,0,0,0,0,0,0,0,0,0,0,0,0]
[0,0,0,0,0,0,0,0,0,0,0,0,0,0,0,0]
[0,0,0,0,0,0,0,0,0,0,0,0,0,0,0,0]
[0,0,0,0,0,0,0,0,0,0,0,0,0,0,0,0]
[9150,9750,9225,-14325,7425,7125,-1275,-4350,10800,-19200,-3900,1500,2100,6525,10575,-5850]
[41665,32834,24618,-5953,43488,41590,4271,15370,29205,-62600,-17201,6922,19169,23997,56508,-26691]
[29050,47721,-8172,36324,44617,50924,36763,55182,34302,-27986,12124,2888,24189,34274,75924,-91819]
[-26599,76734,-26232,34503,-8945,-66636,44607,53498,41459,65946,48351,-15963,-48907,3311,7441,-124812]
[-38636,46103,-42480,2227,-29718,-123970,-16244,-27429,1471,65018,36873,9141,-114178,-22754,-59788,-44443]
[-3205,-20873,-57383,11148,-5471,-39192,-33416,-40868,-32085,12185,-331,29098,-74946,-11347,-42128,25129]
[-580,-12354,-8120,3248,1740,4524,-6090,-9164,-14616,-1740,-232,6786,-6438,6032,522,6728]
[0,0,0,0,0,0,0,0,0,0,0,0,0,0,0,0]
[0,0,0,0,0,0,0,0,0,0,0,0,0,0,0,0]
[0,0,0,0,0,0,0,0,0,0,0,0,0,0,0,0]
[0,0,0,0,0,0,0,0,0,0,0,0,0,0,0,0]
[0,0,0,0,0,0,0,0,0,0,0,0,0,0,0,0]
[0,0,0,0,0,0,0,0,0,0,0,0,0,0,0,0]
[0,0,0,0,0,0,0,0,0,0,0,0,0,0,0,0]
[0,0,0,0,0,0,0,0,0,0,0,0,0,0,0,0]
[0,0,0,0,0,0,0,0,0,0,0,0,0,0,0,0]
[0,0,0,0,0,0,0,0,0,0,0,0,0,0,0,0]
[0,0,0,0,0,0,0,0,0,0,0,0,0,0,0,0]
[0,0,0,0,0,0,0,0,0,0,0,0,0,0,0,0]
[0,0,0,0,0,0,0,0,0,0,0,0,0,0,0,0]
[0,0,0,0,0,0,0,0,0,0,0,0,0,0,0,0]
[0,0,0,0,0,0,0,0,0,0,0,0,0,0,0,0]
[0,0,0,0,0,0,0,0,0,0,0,0,0,0,0,0]
[0,0,0,0,0,0,0,0,0,0,0,0,0,0,0,0]
[0,0,0,0,0,0,0,0,0,0,0,0,0,0,0,0]
[0,0,0,0,0,0,0,0,0,0,0,0,0,0,0,0]
[0,0,0,0,0,0,0,0,0,0,0,0,0,0,0,0]
[2318,2470,2337,-3629,1881,1805,-323,-1102,2736,-4864,-988,380,532,1653,2679,-1482]
[31036,26806,25185,-22296,28008,30453,-167,2372,23073,-54527,-18476,11153,12149,22611,39325,-18034]
[45730,42067,3646,36921,58808,58735,21693,55870,31083,-47103,-3403,3658,31419,31280,80154,-64611]
[-13785,79247,-17849,35917,7236,-19909,47764,51525,38903,31664,40681,703,-16676,18283,38135,-130444]
[-35537,67090,-49619,15501,-25330,-120442,7654,13194,29719,80421,50025,-8823,-102220,-21295,-46112,-87130]
[-19089,6874,-49097,2182,-19472,-90929,-26785,-41682,-18003,36761,10618,20107,-110212,-16759,-56442,-128]
[-281,-30672,-35113,11161,2895,972,-24753,-28813,-38739,-1356,-1754,24372,-30576,6217,-12897,23905]
[0,0,0,0,0,0,0,0,0,0,0,0,0,0,0,0]
[0,0,0,0,0,0,0,0,0,0,0,0,0,0,0,0]
[0,0,0,0,0,0,0,0,0,0,0,0,0,0,0,0]
[0,0,0,0,0,0,0,0,0,0,0,0,0,0,0,0]
[0,0,0,0,0,0,0,0,0,0,0,0,0,0,0,0]
[0,0,0,0,0,0,0,0,0,0,0,0,0,0,0,0]
[0,0,0,0,0,0,0,0,0,0,0,0,0,0,0,0]
[0,0,0,0,0,0,0,0,0,0,0,0,0,0,0,0]
[0,0,0,0,0,0,0,0,0,0,0,0,0,0,0,0]
[0,0,0,0,0,0,0,0,0,0,0,0,0,0,0,0]
[0,0,0,0,0,0,0,0,0,0,0,0,0,0,0,0]
[0,0,0,0,0,0,0,0,0,0,0,0,0,0,0,0]
[0,0,0,0,0,0,0,0,0,0,0,0,0,0,0,0]
[0,0,0,0,0,0,0,0,0,0,0,0,0,0,0,0]
[0,0,0,0,0,0,0,0,0,0,0,0,0,0,0,0]
[0,0,0,0,0,0,0,0,0,0,0,0,0,0,0,0]
[0,0,0,0,0,0,0,0,0,0,0,0,0,0,0,0]
[0,0,0,0,0,0,0,0,0,0,0,0,0,0,0,0]
[0,0,0,0,0,0,0,0,0,0,0,0,0,0,0,0]
[0,0,0,0,0,0,0,0,0,0,0,0,0,0,0,0]
[366,390,369,-573,297,285,-51,-174,432,-768,-156,60,84,261,423,-234]
[25624,25714,24539,-34154,21258,21623,-2605,-8080,26705,-51351,-12668,6161,7069,18725,30363,-15838]
[54257,37239,10405,32418,65343,58644,17968,48149,36937,-59549,-8133,-4594,29287,26098,81714,-49311]
[-6218,70875,-10535,33099,16803,13408,53565,44288,35999,7537,36377,5179,3008,31069,60677,-129803]
[-25159,73547,-44314,31139,-14901,-97234,26229,47760,35990,77767,41787,-9091,-83366,-6709,-21279,-109199]
[-35272,29462,-48894,-568,-29388,-116093,-24103,-33412,-13616,60479,28008,18383,-119058,-14569,-62148,-30910]
[1143,-23627,-53005,9814,-1736,-33679,-35463,-34560,-33315,9248,-3883,27424,-69008,-6926,-37735,27900]
[-570,-12141,-7980,3192,1710,4446,-5985,-9006,-14364,-1710,-228,6669,-6327,5928,513,6612]
[0,0,0,0,0,0,0,0,0,0,0,0,0,0,0,0]
[0,0,0,0,0,0,0,0,0,0,0,0,0,0,0,0]
[0,0,0,0,0,0,0,0,0,0,0,0,0,0,0,0]
[0,0,0,0,0,0,0,0,0,0,0,0,0,0,0,0]
[0,0,0,0,0,0,0,0,0,0,0,0,0,0,0,0]
[0,0,0,0,0,0,0,0,0,0,0,0,0,0,0,0]
[0,0,0,0,0,0,0,0,0,0,0,0,0,0,0,0]
[0,0,0,0,0,0,0,0,0,0,0,0,0,0,0,0]
[0,0,0,0,0,0,0,0,0,0,0,0,0,0,0,0]
[0,0,0,0,0,0,0,0,0,0,0,0,0,0,0,0]
[0,0,0,0,0,0,0,0,0,0,0,0,0,0,0,0]
[0,0,0,0,0,0,0,0,0,0,0,0,0,0,0,0]
[0,0,0,0,0,0,0,0,0,0,0,0,0,0,0,0]
[0,0,0,0,0,0,0,0,0,0,0,0,0,0,0,0]
[0,0,0,0,0,0,0,0,0,0,0,0,0,0,0,0]
[0,0,0,0,0,0,0,0,0,0,0,0,0,0,0,0]
[0,0,0,0,0,0,0,0,0,0,0,0,0,0,0,0]
[0,0,0,0,0,0,0,0,0,0,0,0,0,0,0,0]
[0,0,0,0,0,0,0,0,0,0,0,0,0,0,0,0]
[0,0,0,0,0,0,0,0,0,0,0,0,0,0,0,0]
[4726,4784,4626,-6640,3843,3964,-529,-1661,4992,-9605,-2399,1195,1250,3528,5547,-2913]
[40430,24686,24162,-991,36622,50034,6663,26836,11043,-57202,-35515,26616,20816,35633,54423,-23023]
[29511,57006,-4461,32518,46441,47459,20766,67298,26816,-23144,11128,11727,31726,39347,72564,-93830]
[-18453,87399,-37438,40360,-6130,-79890,38533,61680,49621,67832,41725,-10648,-63573,-7007,-3863,-123937]
[-42719,37707,-57841,-2709,-39461,-118109,-5742,-14820,-3540,77854,34680,15737,-121286,-5463,-61259,-63036]
[1093,-8523,-45825,-69,-4840,-72081,-39840,-23939,-23787,23768,-5641,18413,-97920,-6351,-48559,18942]
[-715,-30388,-29155,9891,3405,4828,-20895,-26263,-37457,-2460,-1294,21312,-24796,9459,-7431,20971]
[0,0,0,0,0,0,0,0,0,0,0,0,0,0,0,0]
[0,0,0,0,0,0,0,0,0,0,0,0,0,0,0,0]
[0,0,0,0,0,0,0,0,0,0,0,0,0,0,0,0]
[0,0,0,0,0,0,0,0,0,0,0,0,0,0,0,0]
[0,0,0,0,0,0,0,0,0,0,0,0,0,0,0,0]
[0,0,0,0,0,0,0,0,0,0,0,0,0,0,0,0]
[0,0,0,0,0,0,0,0,0,0,0,0,0,0,0,0]
[0,0,0,0,0,0,0,0,0,0,0,0,0,0,0,0]
[0,0,0,0,0,0,0,0,0,0,0,0,0,0,0,0]
[0,0,0,0,0,0,0,0,0,0,0,0,0,0,0,0]
[0,0,0,0,0,0,0,0,0,0,0,0,0,0,0,0]
[0,0,0,0,0,0,0,0,0,0,0,0,0,0,0,0]
[0,0,0,0,0,0,0,0,0,0,0,0,0,0,0,0]
[0,0,0,0,0,0,0,0,0,0,0,0,0,0,0,0]
[0,0,0,0,0,0,0,0,0,0,0,0,0,0,0,0]
[0,0,0,0,0,0,0,0,0,0,0,0,0,0,0,0]
[0,0,0,0,0,0,0,0,0,0,0,0,0,0,0,0]
[0,0,0,0,0,0,0,0,0,0,0,0,0,0,0,0]
[0,0,0,0,0,0,0,0,0,0,0,0,0,0,0,0]
[0,0,0,0,0,0,0,0,0,0,0,0,0,0,0,0]
[3782,4030,3813,-5921,3069,2945,-527,-1798,4464,-7936,-1612,620,868,2697,4371,-2418]
[31465,30020,25279,-28202,29577,26915,-908,-3230,31609,-57280,-11333,3226,10485,19228,39457,-20565]
[49664,28657,-6502,22919,51907,64866,37484,60605,40153,-46430,-10039,-2418,19542,43444,80161,-73654]
[-12616,67383,-5305,38003,8846,-28800,51453,71900,29870,44995,34398,-12595,-22989,33972,45241,-129851]
[-42143,42821,-63144,5903,-38331,-113622,607,3407,-1265,85783,36314,16286,-115726,-1255,-56678,-77790]
[-5695,3313,-47273,-9312,-14651,-95605,-37784,-18752,-16865,38765,-2836,17003,-115357,-5695,-59796,4373]
[3800,-35334,-37686,8917,5299,-7219,-31009,-27637,-42710,-130,-5931,23833,-43943,10457,-15759,28379]
[-350,-7455,-4900,1960,1050,2730,-3675,-5530,-8820,-1050,-140,4095,-3885,3640,315,4060]
[0,0,0,0,0,0,0,0,0,0,0,0,0,0,0,0]
[0,0,0,0,0,0,0,0,0,0,0,0,0,0,0,0]
[0,0,0,0,0,0,0,0,0,0,0,0,0,0,0,0]
[0,0,0,0,0,0,0,0,0,0,0,0,0,0,0,0]
[0,0,0,0,0,0,0,0,0,0,0,0,0,0,0,0]
[0,0,0,0,0,0,0,0,0,0,0,0,0,0,0,0]
[0,0,0,0,0,0,0,0,0,0,0,0,0,0,0,0]
[0,0,0,0,0,0,0,0,0,0,0,0,0,0,0,0]
[0,0,0,0,0,0,0,0,0,0,0,0,0,0,0,0]
[0,0,0,0,0,0,0,0,0,0,0,0,0,0,0,0]
[0,0,0,0,0,0,0,0,0,0,0,0,0,0,0,0]
[0,0,0,0,0,0,0,0,0,0,0,0,0,0,0,0]
[0,0,0,0,0,0,0,0,0,0,0,0,0,0,0,0]
[0,0,0,0,0,0,0,0,0,0,0,0,0,0,0,0]
[0,0,0,0,0,0,0,0,0,0,0,0,0,0,0,0]
[0,0,0,0,0,0,0,0,0,0,0,0,0,0,0,0]
[0,0,0,0,0,0,0,0,0,0,0,0,0,0,0,0]
[0,0,0,0,0,0,0,0,0,0,0,0,0,0,0,0]
[0,0,0,0,0,0,0,0,0,0,0,0,0,0,0,0]
[0,0,0,0,0,0,0,0,0,0,0,0,0,0,0,0]
[17156,15678,15863,-19017,14004,16293,-1052,-2103,14192,-32777,-11287,7155,5646,13865,20706,-9847]
[46309,35694,18125,23585,53996,54011,9416,40457,21152,-56495,-18787,12861,29519,28527,70033,-37541]
[8932,70029,-12612,28803,27318,27672,38089,51477,35614,-7189,25867,13094,13950,32412,61563,-117706]
[-20352,88756,-39382,20710,-9577,-103900,30267,48147,63138,71669,53605,-28481,-81866,-14932,-17309,-121083]
[-32220,23738,-52282,-2771,-29026,-115600,-8287,-36324,-1191,57232,29319,5632,-130192,-12595,-56017,-38061]
[-1880,-31850,-43446,7675,-308,-26200,-28881,-36601,-40846,7300,-2040,23083,-65876,7285,-23918,23154]
[-743,-16259,-10949,4329,2265,5774,-8184,-12167,-19279,-2238,-326,9063,-8729,7785,438,8981]
[0,0,0,0,0,0,0,0,0,0,0,0,0,0,0,0]
[0,0,0,0,0,0,0,0,0,0,0,0,0,0,0,0]
[0,0,0,0,0,0,0,0,0,0,0,0,0,0,0,0]
[0,0,0,0,0,0,0,0,0,0,0,0,0,0,0,0]
[0,0,0,0,0,0,0,0,0,0,0,0,0,0,0,0]
[0,0,0,0,0,0,0,0,0,0,0,0,0,0,0,0]
[0,0,0,0,0,0,0,0,0,0,0,0,0,0,0,0]
[0,0,0,0,0,0,0,0,0,0,0,0,0,0,0,0]
[0,0,0,0,0,0,0,0,0,0,0,0,0,0,0,0]
[0,0,0,0,0,0,0,0,0,0,0,0,0,0,0,0]
[0,0,0,0,0,0,0,0,0,0,0,0,0,0,0,0]
[0,0,0,0,0,0,0,0,0,0,0,0,0,0,0,0]
[0,0,0,0,0,0,0,0,0,0,0,0,0,0,0,0]
[0,0,0,0,0,0,0,0,0,0,0,0,0,0,0,0]
[0,0,0,0,0,0,0,0,0,0,0,0,0,0,0,0]
[0,0,0,0,0,0,0,0,0,0,0,0,0,0,0,0]
[0,0,0,0,0,0,0,0,0,0,0,0,0,0,0,0]
[0,0,0,0,0,0,0,0,0,0,0,0,0,0,0,0]
[0,0,0,0,0,0,0,0,0,0,0,0,0,0,0,0]
[0,0,0,0,0,0,0,0,0,0,0,0,0,0,0,0]
[7442,7930,7503,-11651,6039,5795,-1037,-3538,8784,-15616,-3172,1220,1708,5307,8601,-4758]
[39587,27292,21325,-9976,37408,42279,6649,17795,25363,-57933,-21730,10765,16317,28716,52178,-26984]
[34688,46297,-3978,25070,45194,49782,34214,63132,35730,-29753,4291,2311,20616,43519,76405,-92302]
[5163,94929,-5165,12435,17861,-41088,40060,59403,57339,17532,26296,-4943,-44433,29259,41662,-136801]
[-24265,72798,-52665,43261,7825,-111153,-10119,-4211,23980,57326,69822,-13956,-98812,-28346,-21138,-82428]
[-40175,21540,-68301,26203,-26454,-88854,-6524,-72103,-7368,40803,42910,20386,-107070,-42271,-55719,-21555]
[-11016,-11955,-26432,8958,-6675,-8579,-6632,-30390,-19644,5049,7906,16197,-27067,-3811,-13210,5315]
[-10,-213,-140,56,30,78,-105,-158,-252,-30,-4,117,-111,104,9,116]
[0,0,0,0,0,0,0,0,0,0,0,0,0,0,0,0]
[0,0,0,0,0,0,0,0,0,0,0,0,0,0,0,0]
[0,0,0,0,0,0,0,0,0,0,0,0,0,0,0,0]
[0,0,0,0,0,0,0,0,0,0,0,0,0,0,0,0]
[0,0,0,0,0,0,0,0,0,0,0,0,0,0,0,0]
[0,0,0,0,0,0,0,0,0,0,0,0,0,0,0,0]
[0,0,0,0,0,0,0,0,0,0,0,0,0,0,0,0]
[0,0,0,0,0,0,0,0,0,0,0,0,0,0,0,0]
[0,0,0,0,0,0,0,0,0,0,0,0,0,0,0,0]
[0,0,0,0,0,0,0,0,0,0,0,0,0,0,0,0]
[0,0,0,0,0,0,0,0,0,0,0,0,0,0,0,0]
[0,0,0,0,0,0,0,0,0,0,0,0,0,0,0,0]
[0,0,0,0,0,0,0,0,0,0,0,0,0,0,0,0]
[0,0,0,0,0,0,0,0,0,0,0,0,0,0,0,0]
[0,0,0,0,0,0,0,0,0,0,0,0,0,0,0,0]
[0,0,0,0,0,0,0,0,0,0,0,0,0,0,0,0]
[0,0,0,0,0,0,0,0,0,0,0,0,0,0,0,0]
[0,0,0,0,0,0,0,0,0,0,0,0,0,0,0,0]
[0,0,0,0,0,0,0,0,0,0,0,0,0,0,0,0]
[0,0,0,0,0,0,0,0,0,0,0,0,0,0,0,0]
[16592,12558,13907,-10545,13626,18693,322,4023,7664,-28475,-14893,11265,7170,15041,20904,-8401]
[42072,27230,7476,9038,39925,58056,16493,50760,16530,-45299,-26363,22127,23697,45047,62595,-49727]
[21006,76705,-568,17003,33065,3103,28806,74171,44006,-1470,14577,1078,-3748,39627,58046,-116855]
[3728,85559,-37407,23073,12749,-68399,21092,48592,43256,33062,24618,7101,-82393,15749,11260,-119844]
[-29830,68516,-49248,50159,6718,-114412,-21283,-16459,5935,57608,67617,-2930,-98971,-31982,-26123,-66637]
[-41103,16439,-77357,30812,-27875,-74318,-13124,-77980,-16359,36757,41299,33644,-94700,-47035,-60612,-11951]
[-7876,268,-17388,5156,-6820,-12088,-2448,-17788,-4484,5824,6096,8972,-18836,-9508,-13592,460]
[0,0,0,0,0,0,0,0,0,0,0,0,0,0,0,0]
[0,0,0,0,0,0,0,0,0,0,0,0,0,0,0,0]
[0,0,0,0,0,0,0,0,0,0,0,0,0,0,0,0]
[0,0,0,0,0,0,0,0,0,0,0,0,0,0,0,0]
[0,0,0,0,0,0,0,0,0,0,0,0,0,0,0,0]
[0,0,0,0,0,0,0,0,0,0,0,0,0,0,0,0]
[0,0,0,0,0,0,0,0,0,0,0,0,0,0,0,0]
[0,0,0,0,0,0,0,0,0,0,0,0,0,0,0,0]
[0,0,0,0,0,0,0,0,0,0,0,0,0,0,0,0]
[0,0,0,0,0,0,0,0,0,0,0,0,0,0,0,0]
[0,0,0,0,0,0,0,0,0,0,0,0,0,0,0,0]
[0,0,0,0,0,0,0,0,0,0,0,0,0,0,0,0]
[0,0,0,0,0,0,0,0,0,0,0,0,0,0,0,0]
[0,0,0,0,0,0,0,0,0,0,0,0,0,0,0,0]
[0,0,0,0,0,0,0,0,0,0,0,0,0,0,0,0]
[0,0,0,0,0,0,0,0,0,0,0,0,0,0,0,0]
[0,0,0,0,0,0,0,0,0,0,0,0,0,0,0,0]
[0,0,0,0,0,0,0,0,0,0,0,0,0,0,0,0]
[0,0,0,0,0,0,0,0,0,0,0,0,0,0,0,0]
[0,0,0,0,0,0,0,0,0,0,0,0,0,0,0,0]
[0,0,0,0,0,0,0,0,0,0,0,0,0,0,0,0]
[18819,2362,5566,-8982,8719,29006,9433,19946,748,-22355,-27135,19843,5156,28875,22000,-14701]
[41813,23930,5847,-13197,29073,48748,20523,75027,16546,-28644,-35283,21739,10197,69702,57470,-68440]
[27428,68890,-6029,16362,34125,-31345,13907,89943,36538,17203,4955,-6323,-38849,43547,41775,-105986]
[-27122,34848,-76884,49517,-15517,-87410,8866,32686,-14093,83215,30470,21653,-107717,9690,-29872,-86406]
[-39068,32853,-44718,4884,-31785,-118081,-33319,-22420,-30252,69138,21253,33319,-113764,-8590,-65370,-29471]
[-153,-14486,-63381,13431,-3869,-45884,-50563,-33579,-36679,16462,-3260,38380,-74128,-17663,-54019,32457]
[560,-5396,-14040,3592,-240,-5224,-9420,-8256,-8104,1320,-928,8244,-13052,-3512,-9732,7992]
[0,0,0,0,0,0,0,0,0,0,0,0,0,0,0,0]
[0,0,0,0,0,0,0,0,0,0,0,0,0,0,0,0]
[0,0,0,0,0,0,0,0,0,0,0,0,0,0,0,0]
[0,0,0,0,0,0,0,0,0,0,0,0,0,0,0,0]
[0,0,0,0,0,0,0,0,0,0,0,0,0,0,0,0]
[0,0,0,0,0,0,0,0,0,0,0,0,0,0,0,0]
[0,0,0,0,0,0,0,0,0,0,0,0,0,0,0,0]
[0,0,0,0,0,0,0,0,0,0,0,0,0,0,0,0]
[0,0,0,0,0,0,0,0,0,0,0,0,0,0,0,0]
[0,0,0,0,0,0,0,0,0,0,0,0,0,0,0,0]
[0,0,0,0,0,0,0,0,0,0,0,0,0,0,0,0]
[0,0,0,0,0,0,0,0,0,0,0,0,0,0,0,0]
[0,0,0,0,0,0,0,0,0,0,0,0,0,0,0,0]
[0,0,0,0,0,0,0,0,0,0,0,0,0,0,0,0]
[0,0,0,0,0,0,0,0,0,0,0,0,0,0,0,0]
[0,0,0,0,0,0,0,0,0,0,0,0,0,0,0,0]
[0,0,0,0,0,0,0,0,0,0,0,0,0,0,0,0]
[0,0,0,0,0,0,0,0,0,0,0,0,0,0,0,0]
[0,0,0,0,0,0,0,0,0,0,0,0,0,0,0,0]
[0,0,0,0,0,0,0,0,0,0,0,0,0,0,0,0]
[0,0,0,0,0,0,0,0,0,0,0,0,0,0,0,0]
[4477,-20328,-16577,3509,-9680,20691,18150,31944,-14036,12221,-24563,17303,-3872,27588,2299,-12463]
[6373,-22586,-11445,-3282,-19473,10522,20918,92950,-35393,45014,-52288,32813,-15872,71706,2527,-37899]
[3695,-6655,-22413,-15835,-21626,-49834,-24485,93666,-49757,69449,-49121,42832,-62751,68991,-32727,-31634]
[6762,-9636,-57238,-41027,-22159,-90196,-56998,35123,-31885,58747,-28116,31613,-114566,35057,-72334,-4942]
[26597,-24752,-37337,-17855,7618,-67369,-48696,8641,-21175,17187,-29440,6124,-102538,16808,-41546,29644]
[3016,-43771,-26822,7210,8440,5666,-25457,-26300,-49738,-4354,-5600,19795,-33905,24402,-419,25606]
[-400,-8520,-5600,2240,1200,3120,-4200,-6320,-10080,-1200,-160,4680,-4440,4160,360,4640]
[0,0,0,0,0,0,0,0,0,0,0,0,0,0,0,0]
[0,0,0,0,0,0,0,0,0,0,0,0,0,0,0,0]
[0,0,0,0,0,0,0,0,0,0,0,0,0,0,0,0]
[0,0,0,0,0,0,0,0,0,0,0,0,0,0,0,0]
[0,0,0,0,0,0,0,0,0,0,0,0,0,0,0,0]
[0,0,0,0,0,0,0,0,0,0,0,0,0,0,0,0]
[0,0,0,0,0,0,0,0,0,0,0,0,0,0,0,0]
[0,0,0,0,0,0,0,0,0,0,0,0,0,0,0,0]
[0,0,0,0,0,0,0,0,0,0,0,0,0,0,0,0]
[0,0,0,0,0,0,0,0,0,0,0,0,0,0,0,0]
[0,0,0,0,0,0,0,0,0,0,0,0,0,0,0,0]
[0,0,0,0,0,0,0,0,0,0,0,0,0,0,0,0]
[0,0,0,0,0,0,0,0,0,0,0,0,0,0,0,0]
[0,0,0,0,0,0,0,0,0,0,0,0,0,0,0,0]
[0,0,0,0,0,0,0,0,0,0,0,0,0,0,0,0]
[0,0,0,0,0,0,0,0,0,0,0,0,0,0,0,0]
[0,0,0,0,0,0,0,0,0,0,0,0,0,0,0,0]
[0,0,0,0,0,0,0,0,0,0,0,0,0,0,0,0]
[0,0,0,0,0,0,0,0,0,0,0,0,0,0,0,0]
[0,0,0,0,0,0,0,0,0,0,0,0,0,0,0,0]
[0,0,0,0,0,0,0,0,0,0,0,0,0,0,0,0]
[847,-14036,-14641,-21417,-12947,6413,13431,10043,5324,7260,-7502,-242,-11374,18634,-5324,-14520]
[16056,-28496,-9922,-61172,-19071,-8439,26137,46250,20856,18023,-29058,-21078,-42994,56177,-4521,-32537]
[30211,-47753,1701,-63899,-1501,-25565,5954,50895,-1064,14632,-41258,-29437,-73021,80276,5951,-15122]
[22012,-54534,-2134,-16700,19563,-16701,-28191,4418,-46656,-1779,-24902,-5508,-62592,58375,12879,23785]
[54,-43947,-25884,9180,7416,12888,-22041,-28962,-50724,-5796,-2808,21159,-25821,24066,2853,23706]
[-180,-3834,-2520,1008,540,1404,-1890,-2844,-4536,-540,-72,2106,-1998,1872,162,2088]
[0,0,0,0,0,0,0,0,0,0,0,0,0,0,0,0]
[0,0,0,0,0,0,0,0,0,0,0,0,0,0,0,0]
[0,0,0,0,0,0,0,0,0,0,0,0,0,0,0,0]
[0,0,0,0,0,0,0,0,0,0,0,0,0,0,0,0]
[0,0,0,0,0,0,0,0,0,0,0,0,0,0,0,0]
[0,0,0,0,0,0,0,0,0,0,0,0,0,0,0,0]
[0,0,0,0,0,0,0,0,0,0,0,0,0,0,0,0]
[0,0,0,0,0,0,0,0,0,0,0,0,0,0,0,0]
[0,0,0,0,0,0,0,0,0,0,0,0,0,0,0,0]
[0,0,0,0,0,0,0,0,0,0,0,0,0,0,0,0]
[0,0,0,0,0,0,0,0,0,0,0,0,0,0,0,0]
[0,0,0,0,0,0,0,0,0,0,0,0,0,0,0,0]
[0,0,0,0,0,0,0,0,0,0,0,0,0,0,0,0]

{"sheet":"truncate","index":4,"n_rows":784,"n_cols":16,"rows_kept":784,"cut":false,"hidden":false,"merged":[]}
[{"$f":"IF(im2col_W1!A1:P784 > 0, ROUNDDOWN(im2col_W1!A1:P784/2^8, 0), ROUNDUP(im2col_W1!A1:P784/2^8, 0))","v":0},0,0,0,0,0,0,0,0,0,0,0,0,0,0,0]
[0,0,0,0,0,0,0,0,0,0,0,0,0,0,0,0]
[0,0,0,0,0,0,0,0,0,0,0,0,0,0,0,0]
[0,0,0,0,0,0,0,0,0,0,0,0,0,0,0,0]
[0,0,0,0,0,0,0,0,0,0,0,0,0,0,0,0]
[0,0,0,0,0,0,0,0,0,0,0,0,0,0,0,0]
[0,0,0,0,0,0,0,0,0,0,0,0,0,0,0,0]
[0,0,0,0,0,0,0,0,0,0,0,0,0,0,0,0]
[0,0,0,0,0,0,0,0,0,0,0,0,0,0,0,0]
[0,0,0,0,0,0,0,0,0,0,0,0,0,0,0,0]
[0,0,0,0,0,0,0,0,0,0,0,0,0,0,0,0]
[0,0,0,0,0,0,0,0,0,0,0,0,0,0,0,0]
[0,0,0,0,0,0,0,0,0,0,0,0,0,0,0,0]
[0,0,0,0,0,0,0,0,0,0,0,0,0,0,0,0]
[0,0,0,0,0,0,0,0,0,0,0,0,0,0,0,0]
[0,0,0,0,0,0,0,0,0,0,0,0,0,0,0,0]
[0,0,0,0,0,0,0,0,0,0,0,0,0,0,0,0]
[0,0,0,0,0,0,0,0,0,0,0,0,0,0,0,0]
[0,0,0,0,0,0,0,0,0,0,0,0,0,0,0,0]
[0,0,0,0,0,0,0,0,0,0,0,0,0,0,0,0]
[0,0,0,0,0,0,0,0,0,0,0,0,0,0,0,0]
[0,0,0,0,0,0,0,0,0,0,0,0,0,0,0,0]
[0,0,0,0,0,0,0,0,0,0,0,0,0,0,0,0]
[0,0,0,0,0,0,0,0,0,0,0,0,0,0,0,0]
[0,0,0,0,0,0,0,0,0,0,0,0,0,0,0,0]
[0,0,0,0,0,0,0,0,0,0,0,0,0,0,0,0]
[0,0,0,0,0,0,0,0,0,0,0,0,0,0,0,0]
[0,0,0,0,0,0,0,0,0,0,0,0,0,0,0,0]
[0,0,0,0,0,0,0,0,0,0,0,0,0,0,0,0]
[0,0,0,0,0,0,0,0,0,0,0,0,0,0,0,0]
[0,0,0,0,0,0,0,0,0,0,0,0,0,0,0,0]
[0,0,0,0,0,0,0,0,0,0,0,0,0,0,0,0]
[0,0,0,0,0,0,0,0,0,0,0,0,0,0,0,0]
[0,0,0,0,0,0,0,0,0,0,0,0,0,0,0,0]
[0,0,0,0,0,0,0,0,0,0,0,0,0,0,0,0]
[0,0,0,0,0,0,0,0,0,0,0,0,0,0,0,0]
[0,0,0,0,0,0,0,0,0,0,0,0,0,0,0,0]
[0,0,0,0,0,0,0,0,0,0,0,0,0,0,0,0]
[0,0,0,0,0,0,0,0,0,0,0,0,0,0,0,0]
[0,0,0,0,0,0,0,0,0,0,0,0,0,0,0,0]
[0,0,0,0,0,0,0,0,0,0,0,0,0,0,0,0]
[0,0,0,0,0,0,0,0,0,0,0,0,0,0,0,0]
[0,0,0,0,0,0,0,0,0,0,0,0,0,0,0,0]
[0,0,0,0,0,0,0,0,0,0,0,0,0,0,0,0]
[0,0,0,0,0,0,0,0,0,0,0,0,0,0,0,0]
[0,0,0,0,0,0,0,0,0,0,0,0,0,0,0,0]
[0,0,0,0,0,0,0,0,0,0,0,0,0,0,0,0]
[0,0,0,0,0,0,0,0,0,0,0,0,0,0,0,0]
[0,0,0,0,0,0,0,0,0,0,0,0,0,0,0,0]
[0,0,0,0,0,0,0,0,0,0,0,0,0,0,0,0]
[0,0,0,0,0,0,0,0,0,0,0,0,0,0,0,0]
[0,0,0,0,0,0,0,0,0,0,0,0,0,0,0,0]
[0,0,0,0,0,0,0,0,0,0,0,0,0,0,0,0]
[0,0,0,0,0,0,0,0,0,0,0,0,0,0,0,0]
[0,0,0,0,0,0,0,0,0,0,0,0,0,0,0,0]
[0,0,0,0,0,0,0,0,0,0,0,0,0,0,0,0]
[0,0,0,0,0,0,0,0,0,0,0,0,0,0,0,0]
[0,0,0,0,0,0,0,0,0,0,0,0,0,0,0,0]
[0,0,0,0,0,0,0,0,0,0,0,0,0,0,0,0]
[0,0,0,0,0,0,0,0,0,0,0,0,0,0,0,0]
[0,0,0,0,0,0,0,0,0,0,0,0,0,0,0,0]
[0,0,0,0,0,0,0,0,0,0,0,0,0,0,0,0]
[0,0,0,0,0,0,0,0,0,0,0,0,0,0,0,0]
[0,0,0,0,0,0,0,0,0,0,0,0,0,0,0,0]
[0,0,0,0,0,0,0,0,0,0,0,0,0,0,0,0]
[0,0,0,0,0,0,0,0,0,0,0,0,0,0,0,0]
[0,0,0,0,0,0,0,0,0,0,0,0,0,0,0,0]
[0,0,0,0,0,0,0,0,0,0,0,0,0,0,0,0]
[0,0,0,0,0,0,0,0,0,0,0,0,0,0,0,0]
[0,0,0,0,0,0,0,0,0,0,0,0,0,0,0,0]
[0,0,0,0,0,0,0,0,0,0,0,0,0,0,0,0]
[0,0,0,0,0,0,0,0,0,0,0,0,0,0,0,0]
[0,0,0,0,0,0,0,0,0,0,0,0,0,0,0,0]
[0,0,0,0,0,0,0,0,0,0,0,0,0,0,0,0]
[0,0,0,0,0,0,0,0,0,0,0,0,0,0,0,0]
[0,0,0,0,0,0,0,0,0,0,0,0,0,0,0,0]
[0,0,0,0,0,0,0,0,0,0,0,0,0,0,0,0]
[0,0,0,0,0,0,0,0,0,0,0,0,0,0,0,0]
[0,0,0,0,0,0,0,0,0,0,0,0,0,0,0,0]
[0,0,0,0,0,0,0,0,0,0,0,0,0,0,0,0]
[0,0,0,0,0,0,0,0,0,0,0,0,0,0,0,0]
[0,0,0,0,0,0,0,0,0,0,0,0,0,0,0,0]
[0,0,0,0,0,0,0,0,0,0,0,0,0,0,0,0]
[0,0,0,0,0,0,0,0,0,0,0,0,0,0,0,0]
[0,0,0,0,0,0,0,0,0,0,0,0,0,0,0,0]
[0,0,0,0,0,0,0,0,0,0,0,0,0,0,0,0]
[0,0,0,0,0,0,0,0,0,0,0,0,0,0,0,0]
[0,0,0,0,0,0,0,0,0,0,0,0,0,0,0,0]
[0,0,0,0,0,0,0,0,0,0,0,0,0,0,0,0]
[0,0,0,0,0,0,0,0,0,0,0,0,0,0,0,0]
[0,0,0,0,0,0,0,0,0,0,0,0,0,0,0,0]
[0,0,0,0,0,0,0,0,0,0,0,0,0,0,0,0]
[0,0,0,0,0,0,0,0,0,0,0,0,0,0,0,0]
[0,0,0,0,0,0,0,0,0,0,0,0,0,0,0,0]
[0,0,0,0,0,0,0,0,0,0,0,0,0,0,0,0]
[0,0,0,0,0,0,0,0,0,0,0,0,0,0,0,0]
[0,0,0,0,0,0,0,0,0,0,0,0,0,0,0,0]
[0,0,0,0,0,0,0,0,0,0,0,0,0,0,0,0]
[0,0,0,0,0,0,0,0,0,0,0,0,0,0,0,0]
[0,0,0,0,0,0,0,0,0,0,0,0,0,0,0,0]
[0,0,0,0,0,0,0,0,0,0,0,0,0,0,0,0]
[0,0,0,0,0,0,0,0,0,0,0,0,0,0,0,0]
[0,0,0,0,0,0,0,0,0,0,0,0,0,0,0,0]
[0,0,0,0,0,0,0,0,0,0,0,0,0,0,0,0]
[0,0,0,0,0,0,0,0,0,0,0,0,0,0,0,0]
[0,0,0,0,0,0,0,0,0,0,0,0,0,0,0,0]
[0,0,0,0,0,0,0,0,0,0,0,0,0,0,0,0]
[0,0,0,0,0,0,0,0,0,0,0,0,0,0,0,0]
[0,0,0,0,0,0,0,0,0,0,0,0,0,0,0,0]
[0,0,0,0,0,0,0,0,0,0,0,0,0,0,0,0]
[0,0,0,0,0,0,0,0,0,0,0,0,0,0,0,0]
[0,0,0,0,0,0,0,0,0,0,0,0,0,0,0,0]
[0,0,0,0,0,0,0,0,0,0,0,0,0,0,0,0]
[0,0,0,0,0,0,0,0,0,0,0,0,0,0,0,0]
[0,0,0,0,0,0,0,0,0,0,0,0,0,0,0,0]
[0,0,0,0,0,0,0,0,0,0,0,0,0,0,0,0]
[0,0,0,0,0,0,0,0,0,0,0,0,0,0,0,0]
[0,0,0,0,0,0,0,0,0,0,0,0,0,0,0,0]
[0,0,0,0,0,0,0,0,0,0,0,0,0,0,0,0]
[0,0,0,0,0,0,0,0,0,0,0,0,0,0,0,0]
[0,0,0,0,0,0,0,0,0,0,0,0,0,0,0,0]
[0,0,0,0,0,0,0,0,0,0,0,0,0,0,0,0]
[0,0,0,0,0,0,0,0,0,0,0,0,0,0,0,0]
[0,0,0,0,0,0,0,0,0,0,0,0,0,0,0,0]
[0,0,0,0,0,0,0,0,0,0,0,0,0,0,0,0]
[0,0,0,0,0,0,0,0,0,0,0,0,0,0,0,0]
[0,0,0,0,0,0,0,0,0,0,0,0,0,0,0,0]
[0,0,0,0,0,0,0,0,0,0,0,0,0,0,0,0]
[0,0,0,0,0,0,0,0,0,0,0,0,0,0,0,0]
[0,0,0,0,0,0,0,0,0,0,0,0,0,0,0,0]
[0,0,0,0,0,0,0,0,0,0,0,0,0,0,0,0]
[0,0,0,0,0,0,0,0,0,0,0,0,0,0,0,0]
[0,0,0,0,0,0,0,0,0,0,0,0,0,0,0,0]
[0,0,0,0,0,0,0,0,0,0,0,0,0,0,0,0]
[0,0,0,0,0,0,0,0,0,0,0,0,0,0,0,0]
[0,0,0,0,0,0,0,0,0,0,0,0,0,0,0,0]
[0,0,0,0,0,0,0,0,0,0,0,0,0,0,0,0]
[0,0,0,0,0,0,0,0,0,0,0,0,0,0,0,0]
[0,0,0,0,0,0,0,0,0,0,0,0,0,0,0,0]
[0,0,0,0,0,0,0,0,0,0,0,0,0,0,0,0]
[0,0,0,0,0,0,0,0,0,0,0,0,0,0,0,0]
[0,0,0,0,0,0,0,0,0,0,0,0,0,0,0,0]
[0,0,0,0,0,0,0,0,0,0,0,0,0,0,0,0]
[0,0,0,0,0,0,0,0,0,0,0,0,0,0,0,0]
[0,0,0,0,0,0,0,0,0,0,0,0,0,0,0,0]
[0,0,0,0,0,0,0,0,0,0,0,0,0,0,0,0]
[0,0,0,0,0,0,0,0,0,0,0,0,0,0,0,0]
[0,0,0,0,0,0,0,0,0,0,0,0,0,0,0,0]
[0,0,0,0,0,0,0,0,0,0,0,0,0,0,0,0]
[0,0,0,0,0,0,0,0,0,0,0,0,0,0,0,0]
[0,0,0,0,0,0,0,0,0,0,0,0,0,0,0,0]
[0,0,0,0,0,0,0,0,0,0,0,0,0,0,0,0]
[0,0,0,0,0,0,0,0,0,0,0,0,0,0,0,0]
[0,0,0,0,0,0,0,0,0,0,0,0,0,0,0,0]
[0,0,0,0,0,0,0,0,0,0,0,0,0,0,0,0]
[0,0,0,0,0,0,0,0,0,0,0,0,0,0,0,0]
[0,0,0,0,0,0,0,0,0,0,0,0,0,0,0,0]
[0,0,0,0,0,0,0,0,0,0,0,0,0,0,0,0]
[0,0,0,0,0,0,0,0,0,0,0,0,0,0,0,0]
[0,0,0,0,0,0,0,0,0,0,0,0,0,0,0,0]
[0,0,0,0,0,0,0,0,0,0,0,0,0,0,0,0]
[0,0,0,0,0,0,0,0,0,0,0,0,0,0,0,0]
[0,0,0,0,0,0,0,0,0,0,0,0,0,0,0,0]
[0,0,0,0,0,0,0,0,0,0,0,0,0,0,0,0]
[0,0,0,0,0,0,0,0,0,0,0,0,0,0,0,0]
[0,0,0,0,0,0,0,0,0,0,0,0,0,0,0,0]
[0,0,0,0,0,0,0,0,0,0,0,0,0,0,0,0]
[0,0,0,0,0,0,0,0,0,0,0,0,0,0,0,0]
[0,0,0,0,0,0,0,0,0,0,0,0,0,0,0,0]
[0,0,0,0,0,0,0,0,0,0,0,0,0,0,0,0]
[0,0,0,0,0,0,0,0,0,0,0,0,0,0,0,0]
[0,0,0,0,0,0,0,0,0,0,0,0,0,0,0,0]
[0,0,0,0,0,0,0,0,0,0,0,0,0,0,0,0]
[40,42,40,-63,32,31,-6,-20,47,-84,-18,6,9,28,46,-26]
[119,128,75,-61,142,79,-1,-15,160,-203,24,-58,42,25,161,-93]
[73,188,35,62,168,48,81,-53,230,-169,163,-145,37,-56,211,-194]
[-27,212,22,57,83,2,159,-154,229,-119,217,-123,-6,-80,181,-261]
[-51,153,-17,114,56,-23,143,-112,167,-36,211,-123,-9,-99,127,-209]
[-90,101,-13,48,-25,-40,126,-129,91,5,143,-48,-33,-64,50,-157]
[-38,37,-14,41,-6,-20,52,-44,36,13,69,-31,-12,-36,20,-63]
[-31,13,-5,4,-22,-15,28,-34,7,12,25,0,-13,-12,-3,-29]
[0,0,0,0,0,0,0,0,0,0,0,0,0,0,0,0]
[0,0,0,0,0,0,0,0,0,0,0,0,0,0,0,0]
[0,0,0,0,0,0,0,0,0,0,0,0,0,0,0,0]
[0,0,0,0,0,0,0,0,0,0,0,0,0,0,0,0]
[0,0,0,0,0,0,0,0,0,0,0,0,0,0,0,0]
[0,0,0,0,0,0,0,0,0,0,0,0,0,0,0,0]
[0,0,0,0,0,0,0,0,0,0,0,0,0,0,0,0]
[0,0,0,0,0,0,0,0,0,0,0,0,0,0,0,0]
[0,0,0,0,0,0,0,0,0,0,0,0,0,0,0,0]
[0,0,0,0,0,0,0,0,0,0,0,0,0,0,0,0]
[0,0,0,0,0,0,0,0,0,0,0,0,0,0,0,0]
[0,0,0,0,0,0,0,0,0,0,0,0,0,0,0,0]
[0,0,0,0,0,0,0,0,0,0,0,0,0,0,0,0]
[0,0,0,0,0,0,0,0,0,0,0,0,0,0,0,0]
[0,0,0,0,0,0,0,0,0,0,0,0,0,0,0,0]
[0,0,0,0,0,0,0,0,0,0,0,0,0,0,0,0]
[0,0,0,0,0,0,0,0,0,0,0,0,0,0,0,0]
[0,0,0,0,0,0,0,0,0,0,0,0,0,0,0,0]
[0,0,0,0,0,0,0,0,0,0,0,0,0,0,0,0]
[0,0,0,0,0,0,0,0,0,0,0,0,0,0,0,0]
[115,95,101,-99,94,121,-2,9,72,-209,-92,64,44,99,142,-63]
[179,233,80,178,285,177,0,148,133,-227,44,-19,163,32,318,-186]
[-50,446,1,239,140,-32,96,-64,206,-81,274,14,64,-146,204,-393]
[-53,500,-71,239,108,-130,94,-100,280,-56,283,17,-30,-244,106,-392]
[-62,499,-49,163,105,-146,94,-165,329,-83,332,-44,-37,-247,112,-400]
[-21,437,-56,136,120,-122,138,-181,378,-124,312,-111,-72,-242,133,-371]
[-47,352,-14,117,111,-65,181,-201,336,-123,327,-156,-33,-179,189,-365]
[-34,294,7,68,95,-31,192,-204,311,-144,273,-144,-36,-131,194,-329]
[-1,257,37,60,126,19,171,-164,284,-170,245,-152,5,-86,233,-302]
[-1,257,37,60,126,19,171,-164,284,-170,245,-152,5,-86,233,-302]
[-1,257,37,60,126,19,171,-164,284,-170,245,-152,5,-86,233,-302]
[-1,257,37,60,126,19,171,-164,284,-170,245,-152,5,-86,233,-302]
[-1,257,37,60,126,19,171,-164,284,-170,245,-152,5,-86,233,-302]
[-1,257,37,60,126,19,171,-164,284,-170,245,-152,5,-86,233,-302]
[-15,243,23,81,116,8,173,-157,268,-142,251,-154,2,-95,218,-294]
[-81,172,-29,143,46,-39,177,-140,183,-18,254,-140,-19,-123,133,-246]
[-126,86,-31,70,-57,-62,142,-141,69,49,158,-43,-46,-79,23,-157]
[-45,20,-7,6,-31,-21,41,-49,10,18,36,0,-19,-17,-5,-42]
[0,0,0,0,0,0,0,0,0,0,0,0,0,0,0,0]
[0,0,0,0,0,0,0,0,0,0,0,0,0,0,0,0]
[0,0,0,0,0,0,0,0,0,0,0,0,0,0,0,0]
[0,0,0,0,0,0,0,0,0,0,0,0,0,0,0,0]
[0,0,0,0,0,0,0,0,0,0,0,0,0,0,0,0]
[0,0,0,0,0,0,0,0,0,0,0,0,0,0,0,0]
[0,0,0,0,0,0,0,0,0,0,0,0,0,0,0,0]
[0,0,0,0,0,0,0,0,0,0,0,0,0,0,0,0]
[0,0,0,0,0,0,0,0,0,0,0,0,0,0,0,0]
[0,0,0,0,0,0,0,0,0,0,0,0,0,0,0,0]
[60,-50,-22,70,14,144,65,169,-87,-12,-157,130,30,137,77,-46]
[28,89,15,48,20,67,6,309,-104,82,-105,160,53,216,94,-209]
[17,200,-132,136,4,-233,-85,293,-46,210,-55,153,-197,36,-102,-193]
[-32,159,-201,115,-40,-223,-112,140,-134,187,-52,263,-268,48,-145,-168]
[38,248,-127,173,72,-204,-171,162,-79,95,-35,225,-187,-10,-72,-136]
[7,334,-154,228,97,-140,-138,39,-19,21,70,238,-116,-95,-24,-197]
[-4,484,-106,254,129,-175,-69,3,159,-16,185,129,-61,-213,23,-293]
[-56,490,-138,314,103,-162,26,-57,201,3,256,91,-54,-270,38,-343]
[-79,510,-75,258,77,-138,73,-76,218,-18,251,93,-21,-233,73,-386]
[-43,510,-76,281,119,-123,54,-39,232,-35,252,68,-3,-236,96,-375]
[-68,522,-80,285,102,-134,77,-66,238,-24,272,68,-14,-246,93,-398]
[-70,520,-82,288,100,-136,77,-65,236,-20,273,68,-14,-247,91,-397]
[-81,507,-91,300,89,-144,78,-62,221,1,275,69,-17,-252,77,-389]
[-74,510,-75,261,83,-136,70,-71,220,-21,251,89,-19,-233,76,-384]
[-50,518,-75,259,114,-137,52,-63,250,-38,270,52,-12,-246,88,-380]
[-124,476,-128,247,49,-234,76,-144,279,51,365,-39,-72,-324,3,-364]
[-176,281,-164,182,-74,-257,130,-190,202,136,292,-53,-154,-299,-106,-245]
[-115,82,-53,22,-92,-103,91,-131,54,64,95,12,-87,-91,-63,-102]
[0,0,0,0,0,0,0,0,0,0,0,0,0,0,0,0]
[0,0,0,0,0,0,0,0,0,0,0,0,0,0,0,0]
[0,0,0,0,0,0,0,0,0,0,0,0,0,0,0,0]
[0,0,0,0,0,0,0,0,0,0,0,0,0,0,0,0]
[0,0,0,0,0,0,0,0,0,0,0,0,0,0,0,0]
[0,0,0,0,0,0,0,0,0,0,0,0,0,0,0,0]
[0,0,0,0,0,0,0,0,0,0,0,0,0,0,0,0]
[0,0,0,0,0,0,0,0,0,0,0,0,0,0,0,0]
[0,0,0,0,0,0,0,0,0,0,0,0,0,0,0,0]
[0,0,0,0,0,0,0,0,0,0,0,0,0,0,0,0]
[13,-115,-110,-100,-86,76,106,119,-4,62,-91,36,-66,152,-22,-100]
[85,-90,27,-189,-52,-76,80,344,8,133,-193,-48,-179,300,12,-148]
[67,-199,-111,-178,-45,-128,-69,205,-166,147,-173,48,-335,333,-64,-54]
[99,-234,-165,-141,-35,-126,-73,213,-179,141,-217,73,-388,321,-87,-14]
[77,-242,-137,-97,-33,-81,-70,249,-252,159,-224,115,-331,368,-45,-32]
[69,-187,-151,-38,-33,-103,-107,287,-289,188,-242,189,-320,342,-74,-34]
[64,-75,-147,14,-6,-137,-172,278,-286,176,-216,248,-291,277,-91,-44]
[12,-7,-242,106,-28,-212,-183,243,-244,249,-116,237,-300,136,-175,-64]
[0,45,-213,36,-80,-232,-128,214,-187,227,-160,272,-330,132,-199,-100]
[45,48,-194,81,-6,-189,-165,281,-191,204,-143,236,-266,147,-137,-96]
[3,84,-219,90,-43,-236,-134,232,-166,231,-108,243,-305,105,-170,-133]
[-1,81,-223,92,-46,-241,-135,231,-168,239,-104,240,-307,101,-175,-131]
[-23,60,-239,96,-69,-264,-134,222,-179,273,-92,230,-320,86,-206,-116]
[87,131,-129,-85,-5,-163,-145,185,-93,55,-192,281,-303,191,-98,-151]
[191,229,-122,117,215,-110,-163,279,26,-21,-45,108,-195,113,86,-217]
[-83,334,-196,278,72,-328,-56,-23,53,158,252,43,-267,-156,-38,-295]
[-212,228,-265,183,-105,-353,-23,-262,25,199,271,85,-296,-268,-222,-169]
[-78,75,-135,34,-82,-154,9,-132,39,70,64,54,-160,-136,-146,-34]
[0,0,0,0,0,0,0,0,0,0,0,0,0,0,0,0]
[0,0,0,0,0,0,0,0,0,0,0,0,0,0,0,0]
[0,0,0,0,0,0,0,0,0,0,0,0,0,0,0,0]
[0,0,0,0,0,0,0,0,0,0,0,0,0,0,0,0]
[0,0,0,0,0,0,0,0,0,0,0,0,0,0,0,0]
[0,0,0,0,0,0,0,0,0,0,0,0,0,0,0,0]
[0,0,0,0,0,0,0,0,0,0,0,0,0,0,0,0]
[0,0,0,0,0,0,0,0,0,0,0,0,0,0,0,0]
[0,0,0,0,0,0,0,0,0,0,0,0,0,0,0,0]
[0,0,0,0,0,0,0,0,0,0,0,0,0,0,0,0]
[1,-31,-32,-47,-29,13,29,21,11,15,-17,-1,-25,40,-12,-32]
[34,-50,-9,-114,-31,-24,44,91,40,32,-57,-46,-84,105,-6,-58]
[51,-85,5,-95,7,-46,-4,74,-18,19,-68,-46,-126,133,14,-11]
[31,-145,-68,-92,-16,7,-3,25,-71,19,-61,3,-136,154,-1,-7]
[54,-131,-40,-157,-30,-25,33,101,-8,40,-90,-45,-162,190,-1,-52]
[78,-197,-62,-204,-38,-26,43,147,-33,57,-137,-49,-230,277,4,-65]
[103,-247,-60,-203,-25,-34,29,213,-96,80,-192,-32,-282,361,22,-62]
[80,-236,-67,-215,-18,-97,-50,150,-140,91,-150,-19,-323,349,-9,-36]
[107,-288,-155,-178,-26,-64,-32,155,-153,86,-199,24,-368,340,-40,-7]
[87,-259,-81,-193,-25,-65,-27,198,-168,106,-185,9,-317,384,2,-48]
[91,-254,-132,-183,-31,-104,-60,180,-170,118,-190,34,-367,349,-50,-25]
[90,-251,-129,-187,-30,-108,-63,173,-166,115,-184,29,-368,345,-52,-24]
[127,-196,-80,-264,8,-94,-79,117,-96,17,-177,13,-361,348,-10,-39]
[276,-156,-47,-156,160,118,-11,251,-63,-155,-280,66,-271,444,205,-114]
[138,49,-37,77,200,33,1,291,-67,-5,-17,13,-155,347,279,-323]
[-124,191,-235,184,-19,-397,-31,5,-24,272,210,21,-398,-44,-106,-290]
[-150,87,-234,62,-112,-371,-95,-230,-81,181,122,121,-407,-128,-249,-53]
[-10,-51,-149,40,-13,-61,-85,-104,-83,19,3,86,-143,-42,-103,69]
[0,0,0,0,0,0,0,0,0,0,0,0,0,0,0,0]
[0,0,0,0,0,0,0,0,0,0,0,0,0,0,0,0]
[0,0,0,0,0,0,0,0,0,0,0,0,0,0,0,0]
[0,0,0,0,0,0,0,0,0,0,0,0,0,0,0,0]
[0,0,0,0,0,0,0,0,0,0,0,0,0,0,0,0]
[0,0,0,0,0,0,0,0,0,0,0,0,0,0,0,0]
[0,0,0,0,0,0,0,0,0,0,0,0,0,0,0,0]
[0,0,0,0,0,0,0,0,0,0,0,0,0,0,0,0]
[0,0,0,0,0,0,0,0,0,0,0,0,0,0,0,0]
[0,0,0,0,0,0,0,0,0,0,0,0,0,0,0,0]
[0,0,0,0,0,0,0,0,0,0,0,0,0,0,0,0]
[0,0,0,0,0,0,0,0,0,0,0,0,0,0,0,0]
[0,0,0,0,0,0,0,0,0,0,0,0,0,0,0,0]
[0,0,0,0,0,0,0,0,0,0,0,0,0,0,0,0]
[0,0,0,0,0,0,0,0,0,0,0,0,0,0,0,0]
[0,-8,-9,-12,-8,3,7,5,2,3,-5,-1,-7,10,-3,-8]
[9,-30,-20,-55,-24,1,27,35,16,16,-24,-12,-35,49,-8,-33]
[30,-19,28,-41,13,-39,-6,47,6,7,-33,-37,-54,51,12,-4]
[5,-85,-59,-40,-17,24,1,-8,-50,9,-24,20,-62,74,-7,-3]
[32,-40,5,-79,-9,-30,18,67,18,20,-46,-39,-73,82,3,-30]
[30,-85,-24,-67,-3,-14,-3,34,-34,13,-47,-15,-96,104,5,-6]
[40,-70,-9,-78,9,-7,-8,27,-23,-11,-49,-13,-90,107,18,-9]
[154,46,96,-118,131,110,-23,26,49,-222,-109,37,-22,165,175,-59]
[187,77,-58,83,203,254,107,237,92,-162,-37,21,49,217,307,-289]
[-58,270,-53,127,16,-207,177,263,144,216,154,-83,-168,91,111,-494]
[-165,161,-206,24,-123,-473,-51,-98,-20,279,160,48,-465,-58,-225,-213]
[-21,-49,-215,28,-33,-227,-135,-149,-107,77,1,100,-347,-50,-189,76]
[-3,-79,-70,24,9,15,-51,-66,-96,-8,-3,52,-59,27,-15,51]
[0,0,0,0,0,0,0,0,0,0,0,0,0,0,0,0]
[0,0,0,0,0,0,0,0,0,0,0,0,0,0,0,0]
[0,0,0,0,0,0,0,0,0,0,0,0,0,0,0,0]
[0,0,0,0,0,0,0,0,0,0,0,0,0,0,0,0]
[0,0,0,0,0,0,0,0,0,0,0,0,0,0,0,0]
[0,0,0,0,0,0,0,0,0,0,0,0,0,0,0,0]
[0,0,0,0,0,0,0,0,0,0,0,0,0,0,0,0]
[0,0,0,0,0,0,0,0,0,0,0,0,0,0,0,0]
[0,0,0,0,0,0,0,0,0,0,0,0,0,0,0,0]
[0,0,0,0,0,0,0,0,0,0,0,0,0,0,0,0]
[0,0,0,0,0,0,0,0,0,0,0,0,0,0,0,0]
[0,0,0,0,0,0,0,0,0,0,0,0,0,0,0,0]
[0,0,0,0,0,0,0,0,0,0,0,0,0,0,0,0]
[0,0,0,0,0,0,0,0,0,0,0,0,0,0,0,0]
[0,0,0,0,0,0,0,0,0,0,0,0,0,0,0,0]
[0,0,0,0,0,0,0,0,0,0,0,0,0,0,0,0]
[0,0,0,0,0,0,0,0,0,0,0,0,0,0,0,0]
[0,0,0,0,0,0,0,0,0,0,0,0,0,0,0,0]
[0,0,0,0,0,0,0,0,0,0,0,0,0,0,0,0]
[0,0,0,0,0,0,0,0,0,0,0,0,0,0,0,0]
[0,0,0,0,0,0,0,0,0,0,0,0,0,0,0,0]
[64,61,60,-79,52,58,-6,-14,58,-126,-39,22,19,50,76,-38]
[186,110,48,62,191,227,61,177,86,-213,-96,53,96,143,267,-163]
[45,266,-20,102,114,77,142,245,133,-8,86,23,36,153,248,-459]
[-97,331,-163,88,-36,-429,69,118,202,273,227,-93,-342,-81,-92,-423]
[-120,90,-206,37,-91,-417,-54,-187,-20,184,118,40,-468,-99,-215,-93]
[-29,-111,-163,47,-12,-42,-84,-156,-151,16,14,101,-177,8,-75,74]
[-1,-15,-10,3,2,5,-8,-12,-18,-3,-1,8,-8,7,0,8]
[0,0,0,0,0,0,0,0,0,0,0,0,0,0,0,0]
[0,0,0,0,0,0,0,0,0,0,0,0,0,0,0,0]
[0,0,0,0,0,0,0,0,0,0,0,0,0,0,0,0]
[0,0,0,0,0,0,0,0,0,0,0,0,0,0,0,0]
[0,0,0,0,0,0,0,0,0,0,0,0,0,0,0,0]
[0,0,0,0,0,0,0,0,0,0,0,0,0,0,0,0]
[0,0,0,0,0,0,0,0,0,0,0,0,0,0,0,0]
[0,0,0,0,0,0,0,0,0,0,0,0,0,0,0,0]
[0,0,0,0,0,0,0,0,0,0,0,0,0,0,0,0]
[0,0,0,0,0,0,0,0,0,0,0,0,0,0,0,0]
[0,0,0,0,0,0,0,0,0,0,0,0,0,0,0,0]
[0,0,0,0,0,0,0,0,0,0,0,0,0,0,0,0]
[0,0,0,0,0,0,0,0,0,0,0,0,0,0,0,0]
[0,0,0,0,0,0,0,0,0,0,0,0,0,0,0,0]
[0,0,0,0,0,0,0,0,0,0,0,0,0,0,0,0]
[0,0,0,0,0,0,0,0,0,0,0,0,0,0,0,0]
[0,0,0,0,0,0,0,0,0,0,0,0,0,0,0,0]
[0,0,0,0,0,0,0,0,0,0,0,0,0,0,0,0]
[0,0,0,0,0,0,0,0,0,0,0,0,0,0,0,0]
[0,0,0,0,0,0,0,0,0,0,0,0,0,0,0,0]
[28,29,28,-45,22,21,-4,-14,33,-59,-12,4,6,20,32,-18]
[156,114,91,-44,150,163,20,61,102,-236,-84,42,66,108,206,-103]
[138,176,-28,101,178,205,139,246,144,-120,20,6,83,168,301,-365]
[-76,284,-100,172,-9,-248,177,270,137,261,151,-55,-201,47,57,-489]
[-185,178,-190,45,-134,-481,-74,-90,-65,298,146,95,-445,-59,-239,-201]
[-25,-27,-246,44,-38,-238,-175,-148,-119,90,5,136,-337,-83,-228,92]
[1,-45,-75,21,1,-15,-52,-52,-61,2,-5,47,-68,-5,-41,46]
[0,0,0,0,0,0,0,0,0,0,0,0,0,0,0,0]
[0,0,0,0,0,0,0,0,0,0,0,0,0,0,0,0]
[0,0,0,0,0,0,0,0,0,0,0,0,0,0,0,0]
[0,0,0,0,0,0,0,0,0,0,0,0,0,0,0,0]
[0,0,0,0,0,0,0,0,0,0,0,0,0,0,0,0]
[0,0,0,0,0,0,0,0,0,0,0,0,0,0,0,0]
[0,0,0,0,0,0,0,0,0,0,0,0,0,0,0,0]
[0,0,0,0,0,0,0,0,0,0,0,0,0,0,0,0]
[0,0,0,0,0,0,0,0,0,0,0,0,0,0,0,0]
[0,0,0,0,0,0,0,0,0,0,0,0,0,0,0,0]
[0,0,0,0,0,0,0,0,0,0,0,0,0,0,0,0]
[0,0,0,0,0,0,0,0,0,0,0,0,0,0,0,0]
[0,0,0,0,0,0,0,0,0,0,0,0,0,0,0,0]
[0,0,0,0,0,0,0,0,0,0,0,0,0,0,0,0]
[0,0,0,0,0,0,0,0,0,0,0,0,0,0,0,0]
[0,0,0,0,0,0,0,0,0,0,0,0,0,0,0,0]
[0,0,0,0,0,0,0,0,0,0,0,0,0,0,0,0]
[0,0,0,0,0,0,0,0,0,0,0,0,0,0,0,0]
[0,0,0,0,0,0,0,0,0,0,0,0,0,0,0,0]
[0,0,0,0,0,0,0,0,0,0,0,0,0,0,0,0]
[0,0,0,0,0,0,0,0,0,0,0,0,0,0,0,0]
[70,55,60,-52,57,76,0,11,37,-124,-60,43,28,62,87,-37]
[170,110,28,54,168,231,66,205,68,-181,-98,79,98,170,255,-197]
[33,273,-37,121,93,-16,124,290,130,68,83,5,-20,126,188,-448]
[-135,251,-221,44,-105,-455,50,77,128,325,199,-41,-408,-55,-173,-381]
[-65,29,-188,-43,-92,-408,-80,-121,-34,171,26,42,-496,-30,-230,-43]
[13,-161,-143,33,25,-17,-121,-117,-190,-5,-24,92,-177,65,-45,112]
[-2,-37,-25,9,5,13,-19,-28,-44,-6,-1,20,-20,17,1,19]
[0,0,0,0,0,0,0,0,0,0,0,0,0,0,0,0]
[0,0,0,0,0,0,0,0,0,0,0,0,0,0,0,0]
[0,0,0,0,0,0,0,0,0,0,0,0,0,0,0,0]
[0,0,0,0,0,0,0,0,0,0,0,0,0,0,0,0]
[0,0,0,0,0,0,0,0,0,0,0,0,0,0,0,0]
[0,0,0,0,0,0,0,0,0,0,0,0,0,0,0,0]
[0,0,0,0,0,0,0,0,0,0,0,0,0,0,0,0]
[0,0,0,0,0,0,0,0,0,0,0,0,0,0,0,0]
[0,0,0,0,0,0,0,0,0,0,0,0,0,0,0,0]
[0,0,0,0,0,0,0,0,0,0,0,0,0,0,0,0]
[0,0,0,0,0,0,0,0,0,0,0,0,0,0,0,0]
[0,0,0,0,0,0,0,0,0,0,0,0,0,0,0,0]
[0,0,0,0,0,0,0,0,0,0,0,0,0,0,0,0]
[0,0,0,0,0,0,0,0,0,0,0,0,0,0,0,0]
[0,0,0,0,0,0,0,0,0,0,0,0,0,0,0,0]
[0,0,0,0,0,0,0,0,0,0,0,0,0,0,0,0]
[0,0,0,0,0,0,0,0,0,0,0,0,0,0,0,0]
[0,0,0,0,0,0,0,0,0,0,0,0,0,0,0,0]
[0,0,0,0,0,0,0,0,0,0,0,0,0,0,0,0]
[0,0,0,0,0,0,0,0,0,0,0,0,0,0,0,0]
[4,4,4,-7,3,3,-1,-3,5,-9,-2,0,0,3,4,-3]
[118,54,60,-79,76,150,33,69,48,-172,-123,83,35,139,141,-86]
[176,132,1,29,170,193,96,314,113,-113,-65,20,61,231,274,-316]
[-42,245,-103,123,13,-260,115,264,124,240,137,-72,-228,68,43,-437]
[-159,147,-189,19,-116,-477,-76,-132,-39,256,145,56,-470,-68,-232,-164]
[-15,-81,-228,44,-23,-161,-137,-161,-130,51,-1,117,-300,-45,-170,99]
[-2,-49,-38,13,6,14,-28,-39,-59,-6,-2,29,-31,20,-3,29]
[0,0,0,0,0,0,0,0,0,0,0,0,0,0,0,0]
[0,0,0,0,0,0,0,0,0,0,0,0,0,0,0,0]
[0,0,0,0,0,0,0,0,0,0,0,0,0,0,0,0]
[0,0,0,0,0,0,0,0,0,0,0,0,0,0,0,0]
[0,0,0,0,0,0,0,0,0,0,0,0,0,0,0,0]
[0,0,0,0,0,0,0,0,0,0,0,0,0,0,0,0]
[0,0,0,0,0,0,0,0,0,0,0,0,0,0,0,0]
[0,0,0,0,0,0,0,0,0,0,0,0,0,0,0,0]
[0,0,0,0,0,0,0,0,0,0,0,0,0,0,0,0]
[0,0,0,0,0,0,0,0,0,0,0,0,0,0,0,0]
[0,0,0,0,0,0,0,0,0,0,0,0,0,0,0,0]
[0,0,0,0,0,0,0,0,0,0,0,0,0,0,0,0]
[0,0,0,0,0,0,0,0,0,0,0,0,0,0,0,0]
[0,0,0,0,0,0,0,0,0,0,0,0,0,0,0,0]
[0,0,0,0,0,0,0,0,0,0,0,0,0,0,0,0]
[0,0,0,0,0,0,0,0,0,0,0,0,0,0,0,0]
[0,0,0,0,0,0,0,0,0,0,0,0,0,0,0,0]
[0,0,0,0,0,0,0,0,0,0,0,0,0,0,0,0]
[0,0,0,0,0,0,0,0,0,0,0,0,0,0,0,0]
[0,0,0,0,0,0,0,0,0,0,0,0,0,0,0,0]
[0,0,0,0,0,0,0,0,0,0,0,0,0,0,0,0]
[61,62,59,-87,49,50,-7,-23,65,-125,-31,14,15,45,71,-38]
[190,83,26,0,168,228,84,172,117,-212,-101,32,65,168,253,-183]
[57,214,-6,105,115,40,158,296,129,32,67,-37,-3,176,247,-438]
[-143,239,-172,72,-81,-427,45,55,93,302,211,-50,-364,-45,-126,-358]
[-86,35,-199,5,-88,-372,-94,-173,-62,153,49,77,-447,-72,-230,-15]
[1,-124,-138,42,13,0,-100,-112,-155,-6,-10,94,-126,28,-51,95]
[-1,-5,-3,1,0,1,-3,-4,-5,-1,-1,2,-3,2,0,2]
[0,0,0,0,0,0,0,0,0,0,0,0,0,0,0,0]
[0,0,0,0,0,0,0,0,0,0,0,0,0,0,0,0]
[0,0,0,0,0,0,0,0,0,0,0,0,0,0,0,0]
[0,0,0,0,0,0,0,0,0,0,0,0,0,0,0,0]
[0,0,0,0,0,0,0,0,0,0,0,0,0,0,0,0]
[0,0,0,0,0,0,0,0,0,0,0,0,0,0,0,0]
[0,0,0,0,0,0,0,0,0,0,0,0,0,0,0,0]
[0,0,0,0,0,0,0,0,0,0,0,0,0,0,0,0]
[0,0,0,0,0,0,0,0,0,0,0,0,0,0,0,0]
[0,0,0,0,0,0,0,0,0,0,0,0,0,0,0,0]
[0,0,0,0,0,0,0,0,0,0,0,0,0,0,0,0]
[0,0,0,0,0,0,0,0,0,0,0,0,0,0,0,0]
[0,0,0,0,0,0,0,0,0,0,0,0,0,0,0,0]
[0,0,0,0,0,0,0,0,0,0,0,0,0,0,0,0]
[0,0,0,0,0,0,0,0,0,0,0,0,0,0,0,0]
[0,0,0,0,0,0,0,0,0,0,0,0,0,0,0,0]
[0,0,0,0,0,0,0,0,0,0,0,0,0,0,0,0]
[0,0,0,0,0,0,0,0,0,0,0,0,0,0,0,0]
[0,0,0,0,0,0,0,0,0,0,0,0,0,0,0,0]
[0,0,0,0,0,0,0,0,0,0,0,0,0,0,0,0]
[35,38,36,-56,29,27,-5,-17,42,-75,-16,5,8,25,41,-23]
[162,128,96,-24,169,162,16,60,114,-245,-68,27,74,93,220,-105]
[113,186,-32,141,174,198,143,215,133,-110,47,11,94,133,296,-359]
[-104,299,-103,134,-35,-261,174,208,161,257,188,-63,-192,12,29,-488]
[-151,180,-166,8,-117,-485,-64,-108,5,253,144,35,-447,-89,-234,-174]
[-13,-82,-225,43,-22,-154,-131,-160,-126,47,-2,113,-293,-45,-165,98]
[-3,-49,-32,12,6,17,-24,-36,-58,-7,-1,26,-26,23,2,26]
[0,0,0,0,0,0,0,0,0,0,0,0,0,0,0,0]
[0,0,0,0,0,0,0,0,0,0,0,0,0,0,0,0]
[0,0,0,0,0,0,0,0,0,0,0,0,0,0,0,0]
[0,0,0,0,0,0,0,0,0,0,0,0,0,0,0,0]
[0,0,0,0,0,0,0,0,0,0,0,0,0,0,0,0]
[0,0,0,0,0,0,0,0,0,0,0,0,0,0,0,0]
[0,0,0,0,0,0,0,0,0,0,0,0,0,0,0,0]
[0,0,0,0,0,0,0,0,0,0,0,0,0,0,0,0]
[0,0,0,0,0,0,0,0,0,0,0,0,0,0,0,0]
[0,0,0,0,0,0,0,0,0,0,0,0,0,0,0,0]
[0,0,0,0,0,0,0,0,0,0,0,0,0,0,0,0]
[0,0,0,0,0,0,0,0,0,0,0,0,0,0,0,0]
[0,0,0,0,0,0,0,0,0,0,0,0,0,0,0,0]
[0,0,0,0,0,0,0,0,0,0,0,0,0,0,0,0]
[0,0,0,0,0,0,0,0,0,0,0,0,0,0,0,0]
[0,0,0,0,0,0,0,0,0,0,0,0,0,0,0,0]
[0,0,0,0,0,0,0,0,0,0,0,0,0,0,0,0]
[0,0,0,0,0,0,0,0,0,0,0,0,0,0,0,0]
[0,0,0,0,0,0,0,0,0,0,0,0,0,0,0,0]
[0,0,0,0,0,0,0,0,0,0,0,0,0,0,0,0]
[9,9,9,-15,7,7,-2,-5,10,-19,-4,1,2,6,10,-6]
[121,104,98,-88,109,118,-1,9,90,-213,-73,43,47,88,153,-71]
[178,164,14,144,229,229,84,218,121,-184,-14,14,122,122,313,-253]
[-54,309,-70,140,28,-78,186,201,151,123,158,2,-66,71,148,-510]
[-139,262,-194,60,-99,-471,29,51,116,314,195,-35,-400,-84,-181,-341]
[-75,26,-192,8,-77,-356,-105,-163,-71,143,41,78,-431,-66,-221,-1]
[-2,-120,-138,43,11,3,-97,-113,-152,-6,-7,95,-120,24,-51,93]
[0,0,0,0,0,0,0,0,0,0,0,0,0,0,0,0]
[0,0,0,0,0,0,0,0,0,0,0,0,0,0,0,0]
[0,0,0,0,0,0,0,0,0,0,0,0,0,0,0,0]
[0,0,0,0,0,0,0,0,0,0,0,0,0,0,0,0]
[0,0,0,0,0,0,0,0,0,0,0,0,0,0,0,0]
[0,0,0,0,0,0,0,0,0,0,0,0,0,0,0,0]
[0,0,0,0,0,0,0,0,0,0,0,0,0,0,0,0]
[0,0,0,0,0,0,0,0,0,0,0,0,0,0,0,0]
[0,0,0,0,0,0,0,0,0,0,0,0,0,0,0,0]
[0,0,0,0,0,0,0,0,0,0,0,0,0,0,0,0]
[0,0,0,0,0,0,0,0,0,0,0,0,0,0,0,0]
[0,0,0,0,0,0,0,0,0,0,0,0,0,0,0,0]
[0,0,0,0,0,0,0,0,0,0,0,0,0,0,0,0]
[0,0,0,0,0,0,0,0,0,0,0,0,0,0,0,0]
[0,0,0,0,0,0,0,0,0,0,0,0,0,0,0,0]
[0,0,0,0,0,0,0,0,0,0,0,0,0,0,0,0]
[0,0,0,0,0,0,0,0,0,0,0,0,0,0,0,0]
[0,0,0,0,0,0,0,0,0,0,0,0,0,0,0,0]
[0,0,0,0,0,0,0,0,0,0,0,0,0,0,0,0]
[0,0,0,0,0,0,0,0,0,0,0,0,0,0,0,0]
[1,1,1,-3,1,1,-1,-1,1,-3,-1,0,0,1,1,-1]
[100,100,95,-134,83,84,-11,-32,104,-201,-50,24,27,73,118,-62]
[211,145,40,126,255,229,70,188,144,-233,-32,-18,114,101,319,-193]
[-25,276,-42,129,65,52,209,173,140,29,142,20,11,121,237,-508]
[-99,287,-174,121,-59,-380,102,186,140,303,163,-36,-326,-27,-84,-427]
[-138,115,-191,-3,-115,-454,-95,-131,-54,236,109,71,-466,-57,-243,-121]
[4,-93,-208,38,-7,-132,-139,-135,-131,36,-16,107,-270,-28,-148,108]
[-3,-48,-32,12,6,17,-24,-36,-57,-7,-1,26,-25,23,2,25]
[0,0,0,0,0,0,0,0,0,0,0,0,0,0,0,0]
[0,0,0,0,0,0,0,0,0,0,0,0,0,0,0,0]
[0,0,0,0,0,0,0,0,0,0,0,0,0,0,0,0]
[0,0,0,0,0,0,0,0,0,0,0,0,0,0,0,0]
[0,0,0,0,0,0,0,0,0,0,0,0,0,0,0,0]
[0,0,0,0,0,0,0,0,0,0,0,0,0,0,0,0]
[0,0,0,0,0,0,0,0,0,0,0,0,0,0,0,0]
[0,0,0,0,0,0,0,0,0,0,0,0,0,0,0,0]
[0,0,0,0,0,0,0,0,0,0,0,0,0,0,0,0]
[0,0,0,0,0,0,0,0,0,0,0,0,0,0,0,0]
[0,0,0,0,0,0,0,0,0,0,0,0,0,0,0,0]
[0,0,0,0,0,0,0,0,0,0,0,0,0,0,0,0]
[0,0,0,0,0,0,0,0,0,0,0,0,0,0,0,0]
[0,0,0,0,0,0,0,0,0,0,0,0,0,0,0,0]
[0,0,0,0,0,0,0,0,0,0,0,0,0,0,0,0]
[0,0,0,0,0,0,0,0,0,0,0,0,0,0,0,0]
[0,0,0,0,0,0,0,0,0,0,0,0,0,0,0,0]
[0,0,0,0,0,0,0,0,0,0,0,0,0,0,0,0]
[0,0,0,0,0,0,0,0,0,0,0,0,0,0,0,0]
[0,0,0,0,0,0,0,0,0,0,0,0,0,0,0,0]
[18,18,18,-26,15,15,-3,-7,19,-38,-10,4,4,13,21,-12]
[157,96,94,-4,143,195,26,104,43,-224,-139,103,81,139,212,-90]
[115,222,-18,127,181,185,81,262,104,-91,43,45,123,153,283,-367]
[-73,341,-147,157,-24,-313,150,240,193,264,162,-42,-249,-28,-16,-485]
[-167,147,-226,-11,-155,-462,-23,-58,-14,304,135,61,-474,-22,-240,-247]
[4,-34,-180,-1,-19,-282,-156,-94,-93,92,-23,71,-383,-25,-190,73]
[-3,-119,-114,38,13,18,-82,-103,-147,-10,-6,83,-97,36,-30,81]
[0,0,0,0,0,0,0,0,0,0,0,0,0,0,0,0]
[0,0,0,0,0,0,0,0,0,0,0,0,0,0,0,0]
[0,0,0,0,0,0,0,0,0,0,0,0,0,0,0,0]
[0,0,0,0,0,0,0,0,0,0,0,0,0,0,0,0]
[0,0,0,0,0,0,0,0,0,0,0,0,0,0,0,0]
[0,0,0,0,0,0,0,0,0,0,0,0,0,0,0,0]
[0,0,0,0,0,0,0,0,0,0,0,0,0,0,0,0]
[0,0,0,0,0,0,0,0,0,0,0,0,0,0,0,0]
[0,0,0,0,0,0,0,0,0,0,0,0,0,0,0,0]
[0,0,0,0,0,0,0,0,0,0,0,0,0,0,0,0]
[0,0,0,0,0,0,0,0,0,0,0,0,0,0,0,0]
[0,0,0,0,0,0,0,0,0,0,0,0,0,0,0,0]
[0,0,0,0,0,0,0,0,0,0,0,0,0,0,0,0]
[0,0,0,0,0,0,0,0,0,0,0,0,0,0,0,0]
[0,0,0,0,0,0,0,0,0,0,0,0,0,0,0,0]
[0,0,0,0,0,0,0,0,0,0,0,0,0,0,0,0]
[0,0,0,0,0,0,0,0,0,0,0,0,0,0,0,0]
[0,0,0,0,0,0,0,0,0,0,0,0,0,0,0,0]
[0,0,0,0,0,0,0,0,0,0,0,0,0,0,0,0]
[0,0,0,0,0,0,0,0,0,0,0,0,0,0,0,0]
[14,15,14,-24,11,11,-3,-8,17,-31,-7,2,3,10,17,-10]
[122,117,98,-111,115,105,-4,-13,123,-224,-45,12,40,75,154,-81]
[194,111,-26,89,202,253,146,236,156,-182,-40,-10,76,169,313,-288]
[-50,263,-21,148,34,-113,200,280,116,175,134,-50,-90,132,176,-508]
[-165,167,-247,23,-150,-444,2,13,-5,335,141,63,-453,-5,-222,-304]
[-23,12,-185,-37,-58,-374,-148,-74,-66,151,-12,66,-451,-23,-234,17]
[14,-139,-148,34,20,-29,-122,-108,-167,-1,-24,93,-172,40,-62,110]
[-2,-30,-20,7,4,10,-15,-22,-35,-5,-1,15,-16,14,1,15]
[0,0,0,0,0,0,0,0,0,0,0,0,0,0,0,0]
[0,0,0,0,0,0,0,0,0,0,0,0,0,0,0,0]
[0,0,0,0,0,0,0,0,0,0,0,0,0,0,0,0]
[0,0,0,0,0,0,0,0,0,0,0,0,0,0,0,0]
[0,0,0,0,0,0,0,0,0,0,0,0,0,0,0,0]
[0,0,0,0,0,0,0,0,0,0,0,0,0,0,0,0]
[0,0,0,0,0,0,0,0,0,0,0,0,0,0,0,0]
[0,0,0,0,0,0,0,0,0,0,0,0,0,0,0,0]
[0,0,0,0,0,0,0,0,0,0,0,0,0,0,0,0]
[0,0,0,0,0,0,0,0,0,0,0,0,0,0,0,0]
[0,0,0,0,0,0,0,0,0,0,0,0,0,0,0,0]
[0,0,0,0,0,0,0,0,0,0,0,0,0,0,0,0]
[0,0,0,0,0,0,0,0,0,0,0,0,0,0,0,0]
[0,0,0,0,0,0,0,0,0,0,0,0,0,0,0,0]
[0,0,0,0,0,0,0,0,0,0,0,0,0,0,0,0]
[0,0,0,0,0,0,0,0,0,0,0,0,0,0,0,0]
[0,0,0,0,0,0,0,0,0,0,0,0,0,0,0,0]
[0,0,0,0,0,0,0,0,0,0,0,0,0,0,0,0]
[0,0,0,0,0,0,0,0,0,0,0,0,0,0,0,0]
[0,0,0,0,0,0,0,0,0,0,0,0,0,0,0,0]
[67,61,61,-75,54,63,-5,-9,55,-129,-45,27,22,54,80,-39]
[180,139,70,92,210,210,36,158,82,-221,-74,50,115,111,273,-147]
[34,273,-50,112,106,108,148,201,139,-29,101,51,54,126,240,-460]
[-80,346,-154,80,-38,-406,118,188,246,279,209,-112,-320,-59,-68,-473]
[-126,92,-205,-11,-114,-452,-33,-142,-5,223,114,22,-509,-50,-219,-149]
[-8,-125,-170,29,-2,-103,-113,-143,-160,28,-8,90,-258,28,-94,90]
[-3,-64,-43,16,8,22,-32,-48,-76,-9,-2,35,-35,30,1,35]
[0,0,0,0,0,0,0,0,0,0,0,0,0,0,0,0]
[0,0,0,0,0,0,0,0,0,0,0,0,0,0,0,0]
[0,0,0,0,0,0,0,0,0,0,0,0,0,0,0,0]
[0,0,0,0,0,0,0,0,0,0,0,0,0,0,0,0]
[0,0,0,0,0,0,0,0,0,0,0,0,0,0,0,0]
[0,0,0,0,0,0,0,0,0,0,0,0,0,0,0,0]
[0,0,0,0,0,0,0,0,0,0,0,0,0,0,0,0]
[0,0,0,0,0,0,0,0,0,0,0,0,0,0,0,0]
[0,0,0,0,0,0,0,0,0,0,0,0,0,0,0,0]
[0,0,0,0,0,0,0,0,0,0,0,0,0,0,0,0]
[0,0,0,0,0,0,0,0,0,0,0,0,0,0,0,0]
[0,0,0,0,0,0,0,0,0,0,0,0,0,0,0,0]
[0,0,0,0,0,0,0,0,0,0,0,0,0,0,0,0]
[0,0,0,0,0,0,0,0,0,0,0,0,0,0,0,0]
[0,0,0,0,0,0,0,0,0,0,0,0,0,0,0,0]
[0,0,0,0,0,0,0,0,0,0,0,0,0,0,0,0]
[0,0,0,0,0,0,0,0,0,0,0,0,0,0,0,0]
[0,0,0,0,0,0,0,0,0,0,0,0,0,0,0,0]
[0,0,0,0,0,0,0,0,0,0,0,0,0,0,0,0]
[0,0,0,0,0,0,0,0,0,0,0,0,0,0,0,0]
[29,30,29,-46,23,22,-5,-14,34,-61,-13,4,6,20,33,-19]
[154,106,83,-39,146,165,25,69,99,-227,-85,42,63,112,203,-106]
[135,180,-16,97,176,194,133,246,139,-117,16,9,80,169,298,-361]
[20,370,-21,48,69,-161,156,232,223,68,102,-20,-174,114,162,-535]
[-95,284,-206,168,30,-435,-40,-17,93,223,272,-55,-386,-111,-83,-322]
[-157,84,-267,102,-104,-348,-26,-282,-29,159,167,79,-419,-166,-218,-85]
[-44,-47,-104,34,-27,-34,-26,-119,-77,19,30,63,-106,-15,-52,20]
[-1,-1,-1,0,0,0,-1,-1,-1,-1,-1,0,-1,0,0,0]
[0,0,0,0,0,0,0,0,0,0,0,0,0,0,0,0]
[0,0,0,0,0,0,0,0,0,0,0,0,0,0,0,0]
[0,0,0,0,0,0,0,0,0,0,0,0,0,0,0,0]
[0,0,0,0,0,0,0,0,0,0,0,0,0,0,0,0]
[0,0,0,0,0,0,0,0,0,0,0,0,0,0,0,0]
[0,0,0,0,0,0,0,0,0,0,0,0,0,0,0,0]
[0,0,0,0,0,0,0,0,0,0,0,0,0,0,0,0]
[0,0,0,0,0,0,0,0,0,0,0,0,0,0,0,0]
[0,0,0,0,0,0,0,0,0,0,0,0,0,0,0,0]
[0,0,0,0,0,0,0,0,0,0,0,0,0,0,0,0]
[0,0,0,0,0,0,0,0,0,0,0,0,0,0,0,0]
[0,0,0,0,0,0,0,0,0,0,0,0,0,0,0,0]
[0,0,0,0,0,0,0,0,0,0,0,0,0,0,0,0]
[0,0,0,0,0,0,0,0,0,0,0,0,0,0,0,0]
[0,0,0,0,0,0,0,0,0,0,0,0,0,0,0,0]
[0,0,0,0,0,0,0,0,0,0,0,0,0,0,0,0]
[0,0,0,0,0,0,0,0,0,0,0,0,0,0,0,0]
[0,0,0,0,0,0,0,0,0,0,0,0,0,0,0,0]
[0,0,0,0,0,0,0,0,0,0,0,0,0,0,0,0]
[0,0,0,0,0,0,0,0,0,0,0,0,0,0,0,0]
[64,49,54,-42,53,73,1,15,29,-112,-59,44,28,58,81,-33]
[164,106,29,35,155,226,64,198,64,-177,-103,86,92,175,244,-195]
[82,299,-3,66,129,12,112,289,171,-6,56,4,-15,154,226,-457]
[14,334,-147,90,49,-268,82,189,168,129,96,27,-322,61,43,-469]
[-117,267,-193,195,26,-447,-84,-65,23,225,264,-12,-387,-125,-103,-261]
[-161,64,-303,120,-109,-291,-52,-305,-64,143,161,131,-370,-184,-237,-47]
[-31,1,-68,20,-27,-48,-10,-70,-18,22,23,35,-74,-38,-54,1]
[0,0,0,0,0,0,0,0,0,0,0,0,0,0,0,0]
[0,0,0,0,0,0,0,0,0,0,0,0,0,0,0,0]
[0,0,0,0,0,0,0,0,0,0,0,0,0,0,0,0]
[0,0,0,0,0,0,0,0,0,0,0,0,0,0,0,0]
[0,0,0,0,0,0,0,0,0,0,0,0,0,0,0,0]
[0,0,0,0,0,0,0,0,0,0,0,0,0,0,0,0]
[0,0,0,0,0,0,0,0,0,0,0,0,0,0,0,0]
[0,0,0,0,0,0,0,0,0,0,0,0,0,0,0,0]
[0,0,0,0,0,0,0,0,0,0,0,0,0,0,0,0]
[0,0,0,0,0,0,0,0,0,0,0,0,0,0,0,0]
[0,0,0,0,0,0,0,0,0,0,0,0,0,0,0,0]
[0,0,0,0,0,0,0,0,0,0,0,0,0,0,0,0]
[0,0,0,0,0,0,0,0,0,0,0,0,0,0,0,0]
[0,0,0,0,0,0,0,0,0,0,0,0,0,0,0,0]
[0,0,0,0,0,0,0,0,0,0,0,0,0,0,0,0]
[0,0,0,0,0,0,0,0,0,0,0,0,0,0,0,0]
[0,0,0,0,0,0,0,0,0,0,0,0,0,0,0,0]
[0,0,0,0,0,0,0,0,0,0,0,0,0,0,0,0]
[0,0,0,0,0,0,0,0,0,0,0,0,0,0,0,0]
[0,0,0,0,0,0,0,0,0,0,0,0,0,0,0,0]
[0,0,0,0,0,0,0,0,0,0,0,0,0,0,0,0]
[73,9,21,-36,34,113,36,77,2,-88,-106,77,20,112,85,-58]
[163,93,22,-52,113,190,80,293,64,-112,-138,84,39,272,224,-268]
[107,269,-24,63,133,-123,54,351,142,67,19,-25,-152,170,163,-415]
[-106,136,-301,193,-61,-342,34,127,-56,325,119,84,-421,37,-117,-338]
[-153,128,-175,19,-125,-462,-131,-88,-119,270,83,130,-445,-34,-256,-116]
[-1,-57,-248,52,-16,-180,-198,-132,-144,64,-13,149,-290,-69,-212,126]
[2,-22,-55,14,-1,-21,-37,-33,-32,5,-4,32,-51,-14,-39,31]
[0,0,0,0,0,0,0,0,0,0,0,0,0,0,0,0]
[0,0,0,0,0,0,0,0,0,0,0,0,0,0,0,0]
[0,0,0,0,0,0,0,0,0,0,0,0,0,0,0,0]
[0,0,0,0,0,0,0,0,0,0,0,0,0,0,0,0]
[0,0,0,0,0,0,0,0,0,0,0,0,0,0,0,0]
[0,0,0,0,0,0,0,0,0,0,0,0,0,0,0,0]
[0,0,0,0,0,0,0,0,0,0,0,0,0,0,0,0]
[0,0,0,0,0,0,0,0,0,0,0,0,0,0,0,0]
[0,0,0,0,0,0,0,0,0,0,0,0,0,0,0,0]
[0,0,0,0,0,0,0,0,0,0,0,0,0,0,0,0]
[0,0,0,0,0,0,0,0,0,0,0,0,0,0,0,0]
[0,0,0,0,0,0,0,0,0,0,0,0,0,0,0,0]
[0,0,0,0,0,0,0,0,0,0,0,0,0,0,0,0]
[0,0,0,0,0,0,0,0,0,0,0,0,0,0,0,0]
[0,0,0,0,0,0,0,0,0,0,0,0,0,0,0,0]
[0,0,0,0,0,0,0,0,0,0,0,0,0,0,0,0]
[0,0,0,0,0,0,0,0,0,0,0,0,0,0,0,0]
[0,0,0,0,0,0,0,0,0,0,0,0,0,0,0,0]
[0,0,0,0,0,0,0,0,0,0,0,0,0,0,0,0]
[0,0,0,0,0,0,0,0,0,0,0,0,0,0,0,0]
[0,0,0,0,0,0,0,0,0,0,0,0,0,0,0,0]
[17,-80,-65,13,-38,80,70,124,-55,47,-96,67,-16,107,8,-49]
[24,-89,-45,-13,-77,41,81,363,-139,175,-205,128,-62,280,9,-149]
[14,-26,-88,-62,-85,-195,-96,365,-195,271,-192,167,-246,269,-128,-124]
[26,-38,-224,-161,-87,-353,-223,137,-125,229,-110,123,-448,136,-283,-20]
[103,-97,-146,-70,29,-264,-191,33,-83,67,-115,23,-401,65,-163,115]
[11,-171,-105,28,32,22,-100,-103,-195,-18,-22,77,-133,95,-2,100]
[-2,-34,-22,8,4,12,-17,-25,-40,-5,-1,18,-18,16,1,18]
[0,0,0,0,0,0,0,0,0,0,0,0,0,0,0,0]
[0,0,0,0,0,0,0,0,0,0,0,0,0,0,0,0]
[0,0,0,0,0,0,0,0,0,0,0,0,0,0,0,0]
[0,0,0,0,0,0,0,0,0,0,0,0,0,0,0,0]
[0,0,0,0,0,0,0,0,0,0,0,0,0,0,0,0]
[0,0,0,0,0,0,0,0,0,0,0,0,0,0,0,0]
[0,0,0,0,0,0,0,0,0,0,0,0,0,0,0,0]
[0,0,0,0,0,0,0,0,0,0,0,0,0,0,0,0]
[0,0,0,0,0,0,0,0,0,0,0,0,0,0,0,0]
[0,0,0,0,0,0,0,0,0,0,0,0,0,0,0,0]
[0,0,0,0,0,0,0,0,0,0,0,0,0,0,0,0]
[0,0,0,0,0,0,0,0,0,0,0,0,0,0,0,0]
[0,0,0,0,0,0,0,0,0,0,0,0,0,0,0,0]
[0,0,0,0,0,0,0,0,0,0,0,0,0,0,0,0]
[0,0,0,0,0,0,0,0,0,0,0,0,0,0,0,0]
[0,0,0,0,0,0,0,0,0,0,0,0,0,0,0,0]
[0,0,0,0,0,0,0,0,0,0,0,0,0,0,0,0]
[0,0,0,0,0,0,0,0,0,0,0,0,0,0,0,0]
[0,0,0,0,0,0,0,0,0,0,0,0,0,0,0,0]
[0,0,0,0,0,0,0,0,0,0,0,0,0,0,0,0]
[0,0,0,0,0,0,0,0,0,0,0,0,0,0,0,0]
[3,-55,-58,-84,-51,25,52,39,20,28,-30,-1,-45,72,-21,-57]
[62,-112,-39,-239,-75,-33,102,180,81,70,-114,-83,-168,219,-18,-128]
[118,-187,6,-250,-6,-100,23,198,-5,57,-162,-115,-286,313,23,-60]
[85,-214,-9,-66,76,-66,-111,17,-183,-7,-98,-22,-245,228,50,92]
[0,-172,-102,35,28,50,-87,-114,-199,-23,-11,82,-101,94,11,92]
[-1,-15,-10,3,2,5,-8,-12,-18,-3,-1,8,-8,7,0,8]
[0,0,0,0,0,0,0,0,0,0,0,0,0,0,0,0]
[0,0,0,0,0,0,0,0,0,0,0,0,0,0,0,0]
[0,0,0,0,0,0,0,0,0,0,0,0,0,0,0,0]
[0,0,0,0,0,0,0,0,0,0,0,0,0,0,0,0]
[0,0,0,0,0,0,0,0,0,0,0,0,0,0,0,0]
[0,0,0,0,0,0,0,0,0,0,0,0,0,0,0,0]
[0,0,0,0,0,0,0,0,0,0,0,0,0,0,0,0]
[0,0,0,0,0,0,0,0,0,0,0,0,0,0,0,0]
[0,0,0,0,0,0,0,0,0,0,0,0,0,0,0,0]
[0,0,0,0,0,0,0,0,0,0,0,0,0,0,0,0]
[0,0,0,0,0,0,0,0,0,0,0,0,0,0,0,0]
[0,0,0,0,0,0,0,0,0,0,0,0,0,0,0,0]
[0,0,0,0,0,0,0,0,0,0,0,0,0,0,0,0]

{"sheet":"plusBias","index":5,"n_rows":784,"n_cols":16,"rows_kept":784,"cut":false,"hidden":false,"merged":[]}
[{"$f":"truncate!A1:P784+W1_Bias!A13:P13","v":-44},-5,-5,-38,-3,-2,-12,-20,-15,-7,7,-31,19,-19,-13,8]
[-44,-5,-5,-38,-3,-2,-12,-20,-15,-7,7,-31,19,-19,-13,8]
[-44,-5,-5,-38,-3,-2,-12,-20,-15,-7,7,-31,19,-19,-13,8]
[-44,-5,-5,-38,-3,-2,-12,-20,-15,-7,7,-31,19,-19,-13,8]
[-44,-5,-5,-38,-3,-2,-12,-20,-15,-7,7,-31,19,-19,-13,8]
[-44,-5,-5,-38,-3,-2,-12,-20,-15,-7,7,-31,19,-19,-13,8]
[-44,-5,-5,-38,-3,-2,-12,-20,-15,-7,7,-31,19,-19,-13,8]
[-44,-5,-5,-38,-3,-2,-12,-20,-15,-7,7,-31,19,-19,-13,8]
[-44,-5,-5,-38,-3,-2,-12,-20,-15,-7,7,-31,19,-19,-13,8]
[-44,-5,-5,-38,-3,-2,-12,-20,-15,-7,7,-31,19,-19,-13,8]
[-44,-5,-5,-38,-3,-2,-12,-20,-15,-7,7,-31,19,-19,-13,8]
[-44,-5,-5,-38,-3,-2,-12,-20,-15,-7,7,-31,19,-19,-13,8]
[-44,-5,-5,-38,-3,-2,-12,-20,-15,-7,7,-31,19,-19,-13,8]
[-44,-5,-5,-38,-3,-2,-12,-20,-15,-7,7,-31,19,-19,-13,8]
[-44,-5,-5,-38,-3,-2,-12,-20,-15,-7,7,-31,19,-19,-13,8]
[-44,-5,-5,-38,-3,-2,-12,-20,-15,-7,7,-31,19,-19,-13,8]
[-44,-5,-5,-38,-3,-2,-12,-20,-15,-7,7,-31,19,-19,-13,8]
[-44,-5,-5,-38,-3,-2,-12,-20,-15,-7,7,-31,19,-19,-13,8]
[-44,-5,-5,-38,-3,-2,-12,-20,-15,-7,7,-31,19,-19,-13,8]
[-44,-5,-5,-38,-3,-2,-12,-20,-15,-7,7,-31,19,-19,-13,8]
[-44,-5,-5,-38,-3,-2,-12,-20,-15,-7,7,-31,19,-19,-13,8]
[-44,-5,-5,-38,-3,-2,-12,-20,-15,-7,7,-31,19,-19,-13,8]
[-44,-5,-5,-38,-3,-2,-12,-20,-15,-7,7,-31,19,-19,-13,8]
[-44,-5,-5,-38,-3,-2,-12,-20,-15,-7,7,-31,19,-19,-13,8]
[-44,-5,-5,-38,-3,-2,-12,-20,-15,-7,7,-31,19,-19,-13,8]
[-44,-5,-5,-38,-3,-2,-12,-20,-15,-7,7,-31,19,-19,-13,8]
[-44,-5,-5,-38,-3,-2,-12,-20,-15,-7,7,-31,19,-19,-13,8]
[-44,-5,-5,-38,-3,-2,-12,-20,-15,-7,7,-31,19,-19,-13,8]
[-44,-5,-5,-38,-3,-2,-12,-20,-15,-7,7,-31,19,-19,-13,8]
[-44,-5,-5,-38,-3,-2,-12,-20,-15,-7,7,-31,19,-19,-13,8]
[-44,-5,-5,-38,-3,-2,-12,-20,-15,-7,7,-31,19,-19,-13,8]
[-44,-5,-5,-38,-3,-2,-12,-20,-15,-7,7,-31,19,-19,-13,8]
[-44,-5,-5,-38,-3,-2,-12,-20,-15,-7,7,-31,19,-19,-13,8]
[-44,-5,-5,-38,-3,-2,-12,-20,-15,-7,7,-31,19,-19,-13,8]
[-44,-5,-5,-38,-3,-2,-12,-20,-15,-7,7,-31,19,-19,-13,8]
[-44,-5,-5,-38,-3,-2,-12,-20,-15,-7,7,-31,19,-19,-13,8]
[-44,-5,-5,-38,-3,-2,-12,-20,-15,-7,7,-31,19,-19,-13,8]
[-44,-5,-5,-38,-3,-2,-12,-20,-15,-7,7,-31,19,-19,-13,8]
[-44,-5,-5,-38,-3,-2,-12,-20,-15,-7,7,-31,19,-19,-13,8]
[-44,-5,-5,-38,-3,-2,-12,-20,-15,-7,7,-31,19,-19,-13,8]
[-44,-5,-5,-38,-3,-2,-12,-20,-15,-7,7,-31,19,-19,-13,8]
[-44,-5,-5,-38,-3,-2,-12,-20,-15,-7,7,-31,19,-19,-13,8]
[-44,-5,-5,-38,-3,-2,-12,-20,-15,-7,7,-31,19,-19,-13,8]
[-44,-5,-5,-38,-3,-2,-12,-20,-15,-7,7,-31,19,-19,-13,8]
[-44,-5,-5,-38,-3,-2,-12,-20,-15,-7,7,-31,19,-19,-13,8]
[-44,-5,-5,-38,-3,-2,-12,-20,-15,-7,7,-31,19,-19,-13,8]
[-44,-5,-5,-38,-3,-2,-12,-20,-15,-7,7,-31,19,-19,-13,8]
[-44,-5,-5,-38,-3,-2,-12,-20,-15,-7,7,-31,19,-19,-13,8]
[-44,-5,-5,-38,-3,-2,-12,-20,-15,-7,7,-31,19,-19,-13,8]
[-44,-5,-5,-38,-3,-2,-12,-20,-15,-7,7,-31,19,-19,-13,8]
[-44,-5,-5,-38,-3,-2,-12,-20,-15,-7,7,-31,19,-19,-13,8]
[-44,-5,-5,-38,-3,-2,-12,-20,-15,-7,7,-31,19,-19,-13,8]
[-44,-5,-5,-38,-3,-2,-12,-20,-15,-7,7,-31,19,-19,-13,8]
[-44,-5,-5,-38,-3,-2,-12,-20,-15,-7,7,-31,19,-19,-13,8]
[-44,-5,-5,-38,-3,-2,-12,-20,-15,-7,7,-31,19,-19,-13,8]
[-44,-5,-5,-38,-3,-2,-12,-20,-15,-7,7,-31,19,-19,-13,8]
[-44,-5,-5,-38,-3,-2,-12,-20,-15,-7,7,-31,19,-19,-13,8]
[-44,-5,-5,-38,-3,-2,-12,-20,-15,-7,7,-31,19,-19,-13,8]
[-44,-5,-5,-38,-3,-2,-12,-20,-15,-7,7,-31,19,-19,-13,8]
[-44,-5,-5,-38,-3,-2,-12,-20,-15,-7,7,-31,19,-19,-13,8]
[-44,-5,-5,-38,-3,-2,-12,-20,-15,-7,7,-31,19,-19,-13,8]
[-44,-5,-5,-38,-3,-2,-12,-20,-15,-7,7,-31,19,-19,-13,8]
[-44,-5,-5,-38,-3,-2,-12,-20,-15,-7,7,-31,19,-19,-13,8]
[-44,-5,-5,-38,-3,-2,-12,-20,-15,-7,7,-31,19,-19,-13,8]
[-44,-5,-5,-38,-3,-2,-12,-20,-15,-7,7,-31,19,-19,-13,8]
[-44,-5,-5,-38,-3,-2,-12,-20,-15,-7,7,-31,19,-19,-13,8]
[-44,-5,-5,-38,-3,-2,-12,-20,-15,-7,7,-31,19,-19,-13,8]
[-44,-5,-5,-38,-3,-2,-12,-20,-15,-7,7,-31,19,-19,-13,8]
[-44,-5,-5,-38,-3,-2,-12,-20,-15,-7,7,-31,19,-19,-13,8]
[-44,-5,-5,-38,-3,-2,-12,-20,-15,-7,7,-31,19,-19,-13,8]
[-44,-5,-5,-38,-3,-2,-12,-20,-15,-7,7,-31,19,-19,-13,8]
[-44,-5,-5,-38,-3,-2,-12,-20,-15,-7,7,-31,19,-19,-13,8]
[-44,-5,-5,-38,-3,-2,-12,-20,-15,-7,7,-31,19,-19,-13,8]
[-44,-5,-5,-38,-3,-2,-12,-20,-15,-7,7,-31,19,-19,-13,8]
[-44,-5,-5,-38,-3,-2,-12,-20,-15,-7,7,-31,19,-19,-13,8]
[-44,-5,-5,-38,-3,-2,-12,-20,-15,-7,7,-31,19,-19,-13,8]
[-44,-5,-5,-38,-3,-2,-12,-20,-15,-7,7,-31,19,-19,-13,8]
[-44,-5,-5,-38,-3,-2,-12,-20,-15,-7,7,-31,19,-19,-13,8]
[-44,-5,-5,-38,-3,-2,-12,-20,-15,-7,7,-31,19,-19,-13,8]
[-44,-5,-5,-38,-3,-2,-12,-20,-15,-7,7,-31,19,-19,-13,8]
[-44,-5,-5,-38,-3,-2,-12,-20,-15,-7,7,-31,19,-19,-13,8]
[-44,-5,-5,-38,-3,-2,-12,-20,-15,-7,7,-31,19,-19,-13,8]
[-44,-5,-5,-38,-3,-2,-12,-20,-15,-7,7,-31,19,-19,-13,8]
[-44,-5,-5,-38,-3,-2,-12,-20,-15,-7,7,-31,19,-19,-13,8]
[-44,-5,-5,-38,-3,-2,-12,-20,-15,-7,7,-31,19,-19,-13,8]
[-44,-5,-5,-38,-3,-2,-12,-20,-15,-7,7,-31,19,-19,-13,8]
[-44,-5,-5,-38,-3,-2,-12,-20,-15,-7,7,-31,19,-19,-13,8]
[-44,-5,-5,-38,-3,-2,-12,-20,-15,-7,7,-31,19,-19,-13,8]
[-44,-5,-5,-38,-3,-2,-12,-20,-15,-7,7,-31,19,-19,-13,8]
[-44,-5,-5,-38,-3,-2,-12,-20,-15,-7,7,-31,19,-19,-13,8]
[-44,-5,-5,-38,-3,-2,-12,-20,-15,-7,7,-31,19,-19,-13,8]
[-44,-5,-5,-38,-3,-2,-12,-20,-15,-7,7,-31,19,-19,-13,8]
[-44,-5,-5,-38,-3,-2,-12,-20,-15,-7,7,-31,19,-19,-13,8]
[-44,-5,-5,-38,-3,-2,-12,-20,-15,-7,7,-31,19,-19,-13,8]
[-44,-5,-5,-38,-3,-2,-12,-20,-15,-7,7,-31,19,-19,-13,8]
[-44,-5,-5,-38,-3,-2,-12,-20,-15,-7,7,-31,19,-19,-13,8]
[-44,-5,-5,-38,-3,-2,-12,-20,-15,-7,7,-31,19,-19,-13,8]
[-44,-5,-5,-38,-3,-2,-12,-20,-15,-7,7,-31,19,-19,-13,8]
[-44,-5,-5,-38,-3,-2,-12,-20,-15,-7,7,-31,19,-19,-13,8]
[-44,-5,-5,-38,-3,-2,-12,-20,-15,-7,7,-31,19,-19,-13,8]
[-44,-5,-5,-38,-3,-2,-12,-20,-15,-7,7,-31,19,-19,-13,8]
[-44,-5,-5,-38,-3,-2,-12,-20,-15,-7,7,-31,19,-19,-13,8]
[-44,-5,-5,-38,-3,-2,-12,-20,-15,-7,7,-31,19,-19,-13,8]
[-44,-5,-5,-38,-3,-2,-12,-20,-15,-7,7,-31,19,-19,-13,8]
[-44,-5,-5,-38,-3,-2,-12,-20,-15,-7,7,-31,19,-19,-13,8]
[-44,-5,-5,-38,-3,-2,-12,-20,-15,-7,7,-31,19,-19,-13,8]
[-44,-5,-5,-38,-3,-2,-12,-20,-15,-7,7,-31,19,-19,-13,8]
[-44,-5,-5,-38,-3,-2,-12,-20,-15,-7,7,-31,19,-19,-13,8]
[-44,-5,-5,-38,-3,-2,-12,-20,-15,-7,7,-31,19,-19,-13,8]
[-44,-5,-5,-38,-3,-2,-12,-20,-15,-7,7,-31,19,-19,-13,8]
[-44,-5,-5,-38,-3,-2,-12,-20,-15,-7,7,-31,19,-19,-13,8]
[-44,-5,-5,-38,-3,-2,-12,-20,-15,-7,7,-31,19,-19,-13,8]
[-44,-5,-5,-38,-3,-2,-12,-20,-15,-7,7,-31,19,-19,-13,8]
[-44,-5,-5,-38,-3,-2,-12,-20,-15,-7,7,-31,19,-19,-13,8]
[-44,-5,-5,-38,-3,-2,-12,-20,-15,-7,7,-31,19,-19,-13,8]
[-44,-5,-5,-38,-3,-2,-12,-20,-15,-7,7,-31,19,-19,-13,8]
[-44,-5,-5,-38,-3,-2,-12,-20,-15,-7,7,-31,19,-19,-13,8]
[-44,-5,-5,-38,-3,-2,-12,-20,-15,-7,7,-31,19,-19,-13,8]
[-44,-5,-5,-38,-3,-2,-12,-20,-15,-7,7,-31,19,-19,-13,8]
[-44,-5,-5,-38,-3,-2,-12,-20,-15,-7,7,-31,19,-19,-13,8]
[-44,-5,-5,-38,-3,-2,-12,-20,-15,-7,7,-31,19,-19,-13,8]
[-44,-5,-5,-38,-3,-2,-12,-20,-15,-7,7,-31,19,-19,-13,8]
[-44,-5,-5,-38,-3,-2,-12,-20,-15,-7,7,-31,19,-19,-13,8]
[-44,-5,-5,-38,-3,-2,-12,-20,-15,-7,7,-31,19,-19,-13,8]
[-44,-5,-5,-38,-3,-2,-12,-20,-15,-7,7,-31,19,-19,-13,8]
[-44,-5,-5,-38,-3,-2,-12,-20,-15,-7,7,-31,19,-19,-13,8]
[-44,-5,-5,-38,-3,-2,-12,-20,-15,-7,7,-31,19,-19,-13,8]
[-44,-5,-5,-38,-3,-2,-12,-20,-15,-7,7,-31,19,-19,-13,8]
[-44,-5,-5,-38,-3,-2,-12,-20,-15,-7,7,-31,19,-19,-13,8]
[-44,-5,-5,-38,-3,-2,-12,-20,-15,-7,7,-31,19,-19,-13,8]
[-44,-5,-5,-38,-3,-2,-12,-20,-15,-7,7,-31,19,-19,-13,8]
[-44,-5,-5,-38,-3,-2,-12,-20,-15,-7,7,-31,19,-19,-13,8]
[-44,-5,-5,-38,-3,-2,-12,-20,-15,-7,7,-31,19,-19,-13,8]
[-44,-5,-5,-38,-3,-2,-12,-20,-15,-7,7,-31,19,-19,-13,8]
[-44,-5,-5,-38,-3,-2,-12,-20,-15,-7,7,-31,19,-19,-13,8]
[-44,-5,-5,-38,-3,-2,-12,-20,-15,-7,7,-31,19,-19,-13,8]
[-44,-5,-5,-38,-3,-2,-12,-20,-15,-7,7,-31,19,-19,-13,8]
[-44,-5,-5,-38,-3,-2,-12,-20,-15,-7,7,-31,19,-19,-13,8]
[-44,-5,-5,-38,-3,-2,-12,-20,-15,-7,7,-31,19,-19,-13,8]
[-44,-5,-5,-38,-3,-2,-12,-20,-15,-7,7,-31,19,-19,-13,8]
[-44,-5,-5,-38,-3,-2,-12,-20,-15,-7,7,-31,19,-19,-13,8]
[-44,-5,-5,-38,-3,-2,-12,-20,-15,-7,7,-31,19,-19,-13,8]
[-44,-5,-5,-38,-3,-2,-12,-20,-15,-7,7,-31,19,-19,-13,8]
[-44,-5,-5,-38,-3,-2,-12,-20,-15,-7,7,-31,19,-19,-13,8]
[-44,-5,-5,-38,-3,-2,-12,-20,-15,-7,7,-31,19,-19,-13,8]
[-44,-5,-5,-38,-3,-2,-12,-20,-15,-7,7,-31,19,-19,-13,8]
[-44,-5,-5,-38,-3,-2,-12,-20,-15,-7,7,-31,19,-19,-13,8]
[-44,-5,-5,-38,-3,-2,-12,-20,-15,-7,7,-31,19,-19,-13,8]
[-44,-5,-5,-38,-3,-2,-12,-20,-15,-7,7,-31,19,-19,-13,8]
[-44,-5,-5,-38,-3,-2,-12,-20,-15,-7,7,-31,19,-19,-13,8]
[-44,-5,-5,-38,-3,-2,-12,-20,-15,-7,7,-31,19,-19,-13,8]
[-44,-5,-5,-38,-3,-2,-12,-20,-15,-7,7,-31,19,-19,-13,8]
[-44,-5,-5,-38,-3,-2,-12,-20,-15,-7,7,-31,19,-19,-13,8]
[-44,-5,-5,-38,-3,-2,-12,-20,-15,-7,7,-31,19,-19,-13,8]
[-44,-5,-5,-38,-3,-2,-12,-20,-15,-7,7,-31,19,-19,-13,8]
[-44,-5,-5,-38,-3,-2,-12,-20,-15,-7,7,-31,19,-19,-13,8]
[-44,-5,-5,-38,-3,-2,-12,-20,-15,-7,7,-31,19,-19,-13,8]
[-44,-5,-5,-38,-3,-2,-12,-20,-15,-7,7,-31,19,-19,-13,8]
[-44,-5,-5,-38,-3,-2,-12,-20,-15,-7,7,-31,19,-19,-13,8]
[-44,-5,-5,-38,-3,-2,-12,-20,-15,-7,7,-31,19,-19,-13,8]
[-44,-5,-5,-38,-3,-2,-12,-20,-15,-7,7,-31,19,-19,-13,8]
[-44,-5,-5,-38,-3,-2,-12,-20,-15,-7,7,-31,19,-19,-13,8]
[-44,-5,-5,-38,-3,-2,-12,-20,-15,-7,7,-31,19,-19,-13,8]
[-44,-5,-5,-38,-3,-2,-12,-20,-15,-7,7,-31,19,-19,-13,8]
[-44,-5,-5,-38,-3,-2,-12,-20,-15,-7,7,-31,19,-19,-13,8]
[-44,-5,-5,-38,-3,-2,-12,-20,-15,-7,7,-31,19,-19,-13,8]
[-44,-5,-5,-38,-3,-2,-12,-20,-15,-7,7,-31,19,-19,-13,8]
[-44,-5,-5,-38,-3,-2,-12,-20,-15,-7,7,-31,19,-19,-13,8]
[-44,-5,-5,-38,-3,-2,-12,-20,-15,-7,7,-31,19,-19,-13,8]
[-44,-5,-5,-38,-3,-2,-12,-20,-15,-7,7,-31,19,-19,-13,8]
[-44,-5,-5,-38,-3,-2,-12,-20,-15,-7,7,-31,19,-19,-13,8]
[-44,-5,-5,-38,-3,-2,-12,-20,-15,-7,7,-31,19,-19,-13,8]
[-44,-5,-5,-38,-3,-2,-12,-20,-15,-7,7,-31,19,-19,-13,8]
[-4,37,35,-101,29,29,-18,-40,32,-91,-11,-25,28,9,33,-18]
[75,123,70,-99,139,77,-13,-35,145,-210,31,-89,61,6,148,-85]
[29,183,30,24,165,46,69,-73,215,-176,170,-176,56,-75,198,-186]
[-71,207,17,19,80,0,147,-174,214,-126,224,-154,13,-99,168,-253]
[-95,148,-22,76,53,-25,131,-132,152,-43,218,-154,10,-118,114,-201]
[-134,96,-18,10,-28,-42,114,-149,76,-2,150,-79,-14,-83,37,-149]
[-82,32,-19,3,-9,-22,40,-64,21,6,76,-62,7,-55,7,-55]
[-75,8,-10,-34,-25,-17,16,-54,-8,5,32,-31,6,-31,-16,-21]
[-44,-5,-5,-38,-3,-2,-12,-20,-15,-7,7,-31,19,-19,-13,8]
[-44,-5,-5,-38,-3,-2,-12,-20,-15,-7,7,-31,19,-19,-13,8]
[-44,-5,-5,-38,-3,-2,-12,-20,-15,-7,7,-31,19,-19,-13,8]
[-44,-5,-5,-38,-3,-2,-12,-20,-15,-7,7,-31,19,-19,-13,8]
[-44,-5,-5,-38,-3,-2,-12,-20,-15,-7,7,-31,19,-19,-13,8]
[-44,-5,-5,-38,-3,-2,-12,-20,-15,-7,7,-31,19,-19,-13,8]
[-44,-5,-5,-38,-3,-2,-12,-20,-15,-7,7,-31,19,-19,-13,8]
[-44,-5,-5,-38,-3,-2,-12,-20,-15,-7,7,-31,19,-19,-13,8]
[-44,-5,-5,-38,-3,-2,-12,-20,-15,-7,7,-31,19,-19,-13,8]
[-44,-5,-5,-38,-3,-2,-12,-20,-15,-7,7,-31,19,-19,-13,8]
[-44,-5,-5,-38,-3,-2,-12,-20,-15,-7,7,-31,19,-19,-13,8]
[-44,-5,-5,-38,-3,-2,-12,-20,-15,-7,7,-31,19,-19,-13,8]
[-44,-5,-5,-38,-3,-2,-12,-20,-15,-7,7,-31,19,-19,-13,8]
[-44,-5,-5,-38,-3,-2,-12,-20,-15,-7,7,-31,19,-19,-13,8]
[-44,-5,-5,-38,-3,-2,-12,-20,-15,-7,7,-31,19,-19,-13,8]
[-44,-5,-5,-38,-3,-2,-12,-20,-15,-7,7,-31,19,-19,-13,8]
[-44,-5,-5,-38,-3,-2,-12,-20,-15,-7,7,-31,19,-19,-13,8]
[-44,-5,-5,-38,-3,-2,-12,-20,-15,-7,7,-31,19,-19,-13,8]
[-44,-5,-5,-38,-3,-2,-12,-20,-15,-7,7,-31,19,-19,-13,8]
[-44,-5,-5,-38,-3,-2,-12,-20,-15,-7,7,-31,19,-19,-13,8]
[71,90,96,-137,91,119,-14,-11,57,-216,-85,33,63,80,129,-55]
[135,228,75,140,282,175,-12,128,118,-234,51,-50,182,13,305,-178]
[-94,441,-4,201,137,-34,84,-84,191,-88,281,-17,83,-165,191,-385]
[-97,495,-76,201,105,-132,82,-120,265,-63,290,-14,-11,-263,93,-384]
[-106,494,-54,125,102,-148,82,-185,314,-90,339,-75,-18,-266,99,-392]
[-65,432,-61,98,117,-124,126,-201,363,-131,319,-142,-53,-261,120,-363]
[-91,347,-19,79,108,-67,169,-221,321,-130,334,-187,-14,-198,176,-357]
[-78,289,2,30,92,-33,180,-224,296,-151,280,-175,-17,-150,181,-321]
[-45,252,32,22,123,17,159,-184,269,-177,252,-183,24,-105,220,-294]
[-45,252,32,22,123,17,159,-184,269,-177,252,-183,24,-105,220,-294]
[-45,252,32,22,123,17,159,-184,269,-177,252,-183,24,-105,220,-294]
[-45,252,32,22,123,17,159,-184,269,-177,252,-183,24,-105,220,-294]
[-45,252,32,22,123,17,159,-184,269,-177,252,-183,24,-105,220,-294]
[-45,252,32,22,123,17,159,-184,269,-177,252,-183,24,-105,220,-294]
[-59,238,18,43,113,6,161,-177,253,-149,258,-185,21,-114,205,-286]
[-125,167,-34,105,43,-41,165,-160,168,-25,261,-171,0,-142,120,-238]
[-170,81,-36,32,-60,-64,130,-161,54,42,165,-74,-27,-98,10,-149]
[-89,15,-12,-32,-34,-23,29,-69,-5,11,43,-31,0,-36,-18,-34]
[-44,-5,-5,-38,-3,-2,-12,-20,-15,-7,7,-31,19,-19,-13,8]
[-44,-5,-5,-38,-3,-2,-12,-20,-15,-7,7,-31,19,-19,-13,8]
[-44,-5,-5,-38,-3,-2,-12,-20,-15,-7,7,-31,19,-19,-13,8]
[-44,-5,-5,-38,-3,-2,-12,-20,-15,-7,7,-31,19,-19,-13,8]
[-44,-5,-5,-38,-3,-2,-12,-20,-15,-7,7,-31,19,-19,-13,8]
[-44,-5,-5,-38,-3,-2,-12,-20,-15,-7,7,-31,19,-19,-13,8]
[-44,-5,-5,-38,-3,-2,-12,-20,-15,-7,7,-31,19,-19,-13,8]
[-44,-5,-5,-38,-3,-2,-12,-20,-15,-7,7,-31,19,-19,-13,8]
[-44,-5,-5,-38,-3,-2,-12,-20,-15,-7,7,-31,19,-19,-13,8]
[-44,-5,-5,-38,-3,-2,-12,-20,-15,-7,7,-31,19,-19,-13,8]
[16,-55,-27,32,11,142,53,149,-102,-19,-150,99,49,118,64,-38]
[-16,84,10,10,17,65,-6,289,-119,75,-98,129,72,197,81,-201]
[-27,195,-137,98,1,-235,-97,273,-61,203,-48,122,-178,17,-115,-185]
[-76,154,-206,77,-43,-225,-124,120,-149,180,-45,232,-249,29,-158,-160]
[-6,243,-132,135,69,-206,-183,142,-94,88,-28,194,-168,-29,-85,-128]
[-37,329,-159,190,94,-142,-150,19,-34,14,77,207,-97,-114,-37,-189]
[-48,479,-111,216,126,-177,-81,-17,144,-23,192,98,-42,-232,10,-285]
[-100,485,-143,276,100,-164,14,-77,186,-4,263,60,-35,-289,25,-335]
[-123,505,-80,220,74,-140,61,-96,203,-25,258,62,-2,-252,60,-378]
[-87,505,-81,243,116,-125,42,-59,217,-42,259,37,16,-255,83,-367]
[-112,517,-85,247,99,-136,65,-86,223,-31,279,37,5,-265,80,-390]
[-114,515,-87,250,97,-138,65,-85,221,-27,280,37,5,-266,78,-389]
[-125,502,-96,262,86,-146,66,-82,206,-6,282,38,2,-271,64,-381]
[-118,505,-80,223,80,-138,58,-91,205,-28,258,58,0,-252,63,-376]
[-94,513,-80,221,111,-139,40,-83,235,-45,277,21,7,-265,75,-372]
[-168,471,-133,209,46,-236,64,-164,264,44,372,-70,-53,-343,-10,-356]
[-220,276,-169,144,-77,-259,118,-210,187,129,299,-84,-135,-318,-119,-237]
[-159,77,-58,-16,-95,-105,79,-151,39,57,102,-19,-68,-110,-76,-94]
[-44,-5,-5,-38,-3,-2,-12,-20,-15,-7,7,-31,19,-19,-13,8]
[-44,-5,-5,-38,-3,-2,-12,-20,-15,-7,7,-31,19,-19,-13,8]
[-44,-5,-5,-38,-3,-2,-12,-20,-15,-7,7,-31,19,-19,-13,8]
[-44,-5,-5,-38,-3,-2,-12,-20,-15,-7,7,-31,19,-19,-13,8]
[-44,-5,-5,-38,-3,-2,-12,-20,-15,-7,7,-31,19,-19,-13,8]
[-44,-5,-5,-38,-3,-2,-12,-20,-15,-7,7,-31,19,-19,-13,8]
[-44,-5,-5,-38,-3,-2,-12,-20,-15,-7,7,-31,19,-19,-13,8]
[-44,-5,-5,-38,-3,-2,-12,-20,-15,-7,7,-31,19,-19,-13,8]
[-44,-5,-5,-38,-3,-2,-12,-20,-15,-7,7,-31,19,-19,-13,8]
[-44,-5,-5,-38,-3,-2,-12,-20,-15,-7,7,-31,19,-19,-13,8]
[-31,-120,-115,-138,-89,74,94,99,-19,55,-84,5,-47,133,-35,-92]
[41,-95,22,-227,-55,-78,68,324,-7,126,-186,-79,-160,281,-1,-140]
[23,-204,-116,-216,-48,-130,-81,185,-181,140,-166,17,-316,314,-77,-46]
[55,-239,-170,-179,-38,-128,-85,193,-194,134,-210,42,-369,302,-100,-6]
[33,-247,-142,-135,-36,-83,-82,229,-267,152,-217,84,-312,349,-58,-24]
[25,-192,-156,-76,-36,-105,-119,267,-304,181,-235,158,-301,323,-87,-26]
[20,-80,-152,-24,-9,-139,-184,258,-301,169,-209,217,-272,258,-104,-36]
[-32,-12,-247,68,-31,-214,-195,223,-259,242,-109,206,-281,117,-188,-56]
[-44,40,-218,-2,-83,-234,-140,194,-202,220,-153,241,-311,113,-212,-92]
[1,43,-199,43,-9,-191,-177,261,-206,197,-136,205,-247,128,-150,-88]
[-41,79,-224,52,-46,-238,-146,212,-181,224,-101,212,-286,86,-183,-125]
[-45,76,-228,54,-49,-243,-147,211,-183,232,-97,209,-288,82,-188,-123]
[-67,55,-244,58,-72,-266,-146,202,-194,266,-85,199,-301,67,-219,-108]
[43,126,-134,-123,-8,-165,-157,165,-108,48,-185,250,-284,172,-111,-143]
[147,224,-127,79,212,-112,-175,259,11,-28,-38,77,-176,94,73,-209]
[-127,329,-201,240,69,-330,-68,-43,38,151,259,12,-248,-175,-51,-287]
[-256,223,-270,145,-108,-355,-35,-282,10,192,278,54,-277,-287,-235,-161]
[-122,70,-140,-4,-85,-156,-3,-152,24,63,71,23,-141,-155,-159,-26]
[-44,-5,-5,-38,-3,-2,-12,-20,-15,-7,7,-31,19,-19,-13,8]
[-44,-5,-5,-38,-3,-2,-12,-20,-15,-7,7,-31,19,-19,-13,8]
[-44,-5,-5,-38,-3,-2,-12,-20,-15,-7,7,-31,19,-19,-13,8]
[-44,-5,-5,-38,-3,-2,-12,-20,-15,-7,7,-31,19,-19,-13,8]
[-44,-5,-5,-38,-3,-2,-12,-20,-15,-7,7,-31,19,-19,-13,8]
[-44,-5,-5,-38,-3,-2,-12,-20,-15,-7,7,-31,19,-19,-13,8]
[-44,-5,-5,-38,-3,-2,-12,-20,-15,-7,7,-31,19,-19,-13,8]
[-44,-5,-5,-38,-3,-2,-12,-20,-15,-7,7,-31,19,-19,-13,8]
[-44,-5,-5,-38,-3,-2,-12,-20,-15,-7,7,-31,19,-19,-13,8]
[-44,-5,-5,-38,-3,-2,-12,-20,-15,-7,7,-31,19,-19,-13,8]
[-43,-36,-37,-85,-32,11,17,1,-4,8,-10,-32,-6,21,-25,-24]
[-10,-55,-14,-152,-34,-26,32,71,25,25,-50,-77,-65,86,-19,-50]
[7,-90,0,-133,4,-48,-16,54,-33,12,-61,-77,-107,114,1,-3]
[-13,-150,-73,-130,-19,5,-15,5,-86,12,-54,-28,-117,135,-14,1]
[10,-136,-45,-195,-33,-27,21,81,-23,33,-83,-76,-143,171,-14,-44]
[34,-202,-67,-242,-41,-28,31,127,-48,50,-130,-80,-211,258,-9,-57]
[59,-252,-65,-241,-28,-36,17,193,-111,73,-185,-63,-263,342,9,-54]
[36,-241,-72,-253,-21,-99,-62,130,-155,84,-143,-50,-304,330,-22,-28]
[63,-293,-160,-216,-29,-66,-44,135,-168,79,-192,-7,-349,321,-53,1]
[43,-264,-86,-231,-28,-67,-39,178,-183,99,-178,-22,-298,365,-11,-40]
[47,-259,-137,-221,-34,-106,-72,160,-185,111,-183,3,-348,330,-63,-17]
[46,-256,-134,-225,-33,-110,-75,153,-181,108,-177,-2,-349,326,-65,-16]
[83,-201,-85,-302,5,-96,-91,97,-111,10,-170,-18,-342,329,-23,-31]
[232,-161,-52,-194,157,116,-23,231,-78,-162,-273,35,-252,425,192,-106]
[94,44,-42,39,197,31,-11,271,-82,-12,-10,-18,-136,328,266,-315]
[-168,186,-240,146,-22,-399,-43,-15,-39,265,217,-10,-379,-63,-119,-282]
[-194,82,-239,24,-115,-373,-107,-250,-96,174,129,90,-388,-147,-262,-45]
[-54,-56,-154,2,-16,-63,-97,-124,-98,12,10,55,-124,-61,-116,77]
[-44,-5,-5,-38,-3,-2,-12,-20,-15,-7,7,-31,19,-19,-13,8]
[-44,-5,-5,-38,-3,-2,-12,-20,-15,-7,7,-31,19,-19,-13,8]
[-44,-5,-5,-38,-3,-2,-12,-20,-15,-7,7,-31,19,-19,-13,8]
[-44,-5,-5,-38,-3,-2,-12,-20,-15,-7,7,-31,19,-19,-13,8]
[-44,-5,-5,-38,-3,-2,-12,-20,-15,-7,7,-31,19,-19,-13,8]
[-44,-5,-5,-38,-3,-2,-12,-20,-15,-7,7,-31,19,-19,-13,8]
[-44,-5,-5,-38,-3,-2,-12,-20,-15,-7,7,-31,19,-19,-13,8]
[-44,-5,-5,-38,-3,-2,-12,-20,-15,-7,7,-31,19,-19,-13,8]
[-44,-5,-5,-38,-3,-2,-12,-20,-15,-7,7,-31,19,-19,-13,8]
[-44,-5,-5,-38,-3,-2,-12,-20,-15,-7,7,-31,19,-19,-13,8]
[-44,-5,-5,-38,-3,-2,-12,-20,-15,-7,7,-31,19,-19,-13,8]
[-44,-5,-5,-38,-3,-2,-12,-20,-15,-7,7,-31,19,-19,-13,8]
[-44,-5,-5,-38,-3,-2,-12,-20,-15,-7,7,-31,19,-19,-13,8]
[-44,-5,-5,-38,-3,-2,-12,-20,-15,-7,7,-31,19,-19,-13,8]
[-44,-5,-5,-38,-3,-2,-12,-20,-15,-7,7,-31,19,-19,-13,8]
[-44,-13,-14,-50,-11,1,-5,-15,-13,-4,2,-32,12,-9,-16,0]
[-35,-35,-25,-93,-27,-1,15,15,1,9,-17,-43,-16,30,-21,-25]
[-14,-24,23,-79,10,-41,-18,27,-9,0,-26,-68,-35,32,-1,4]
[-39,-90,-64,-78,-20,22,-11,-28,-65,2,-17,-11,-43,55,-20,5]
[-12,-45,0,-117,-12,-32,6,47,3,13,-39,-70,-54,63,-10,-22]
[-14,-90,-29,-105,-6,-16,-15,14,-49,6,-40,-46,-77,85,-8,2]
[-4,-75,-14,-116,6,-9,-20,7,-38,-18,-42,-44,-71,88,5,-1]
[110,41,91,-156,128,108,-35,6,34,-229,-102,6,-3,146,162,-51]
[143,72,-63,45,200,252,95,217,77,-169,-30,-10,68,198,294,-281]
[-102,265,-58,89,13,-209,165,243,129,209,161,-114,-149,72,98,-486]
[-209,156,-211,-14,-126,-475,-63,-118,-35,272,167,17,-446,-77,-238,-205]
[-65,-54,-220,-10,-36,-229,-147,-169,-122,70,8,69,-328,-69,-202,84]
[-47,-84,-75,-14,6,13,-63,-86,-111,-15,4,21,-40,8,-28,59]
[-44,-5,-5,-38,-3,-2,-12,-20,-15,-7,7,-31,19,-19,-13,8]
[-44,-5,-5,-38,-3,-2,-12,-20,-15,-7,7,-31,19,-19,-13,8]
[-44,-5,-5,-38,-3,-2,-12,-20,-15,-7,7,-31,19,-19,-13,8]
[-44,-5,-5,-38,-3,-2,-12,-20,-15,-7,7,-31,19,-19,-13,8]
[-44,-5,-5,-38,-3,-2,-12,-20,-15,-7,7,-31,19,-19,-13,8]
[-44,-5,-5,-38,-3,-2,-12,-20,-15,-7,7,-31,19,-19,-13,8]
[-44,-5,-5,-38,-3,-2,-12,-20,-15,-7,7,-31,19,-19,-13,8]
[-44,-5,-5,-38,-3,-2,-12,-20,-15,-7,7,-31,19,-19,-13,8]
[-44,-5,-5,-38,-3,-2,-12,-20,-15,-7,7,-31,19,-19,-13,8]
[-44,-5,-5,-38,-3,-2,-12,-20,-15,-7,7,-31,19,-19,-13,8]
[-44,-5,-5,-38,-3,-2,-12,-20,-15,-7,7,-31,19,-19,-13,8]
[-44,-5,-5,-38,-3,-2,-12,-20,-15,-7,7,-31,19,-19,-13,8]
[-44,-5,-5,-38,-3,-2,-12,-20,-15,-7,7,-31,19,-19,-13,8]
[-44,-5,-5,-38,-3,-2,-12,-20,-15,-7,7,-31,19,-19,-13,8]
[-44,-5,-5,-38,-3,-2,-12,-20,-15,-7,7,-31,19,-19,-13,8]
[-44,-5,-5,-38,-3,-2,-12,-20,-15,-7,7,-31,19,-19,-13,8]
[-44,-5,-5,-38,-3,-2,-12,-20,-15,-7,7,-31,19,-19,-13,8]
[-44,-5,-5,-38,-3,-2,-12,-20,-15,-7,7,-31,19,-19,-13,8]
[-44,-5,-5,-38,-3,-2,-12,-20,-15,-7,7,-31,19,-19,-13,8]
[-44,-5,-5,-38,-3,-2,-12,-20,-15,-7,7,-31,19,-19,-13,8]
[-44,-5,-5,-38,-3,-2,-12,-20,-15,-7,7,-31,19,-19,-13,8]
[20,56,55,-117,49,56,-18,-34,43,-133,-32,-9,38,31,63,-30]
[142,105,43,24,188,225,49,157,71,-220,-89,22,115,124,254,-155]
[1,261,-25,64,111,75,130,225,118,-15,93,-8,55,134,235,-451]
[-141,326,-168,50,-39,-431,57,98,187,266,234,-124,-323,-100,-105,-415]
[-164,85,-211,-1,-94,-419,-66,-207,-35,177,125,9,-449,-118,-228,-85]
[-73,-116,-168,9,-15,-44,-96,-176,-166,9,21,70,-158,-11,-88,82]
[-45,-20,-15,-35,-1,3,-20,-32,-33,-10,6,-23,11,-12,-13,16]
[-44,-5,-5,-38,-3,-2,-12,-20,-15,-7,7,-31,19,-19,-13,8]
[-44,-5,-5,-38,-3,-2,-12,-20,-15,-7,7,-31,19,-19,-13,8]
[-44,-5,-5,-38,-3,-2,-12,-20,-15,-7,7,-31,19,-19,-13,8]
[-44,-5,-5,-38,-3,-2,-12,-20,-15,-7,7,-31,19,-19,-13,8]
[-44,-5,-5,-38,-3,-2,-12,-20,-15,-7,7,-31,19,-19,-13,8]
[-44,-5,-5,-38,-3,-2,-12,-20,-15,-7,7,-31,19,-19,-13,8]
[-44,-5,-5,-38,-3,-2,-12,-20,-15,-7,7,-31,19,-19,-13,8]
[-44,-5,-5,-38,-3,-2,-12,-20,-15,-7,7,-31,19,-19,-13,8]
[-44,-5,-5,-38,-3,-2,-12,-20,-15,-7,7,-31,19,-19,-13,8]
[-44,-5,-5,-38,-3,-2,-12,-20,-15,-7,7,-31,19,-19,-13,8]
[-44,-5,-5,-38,-3,-2,-12,-20,-15,-7,7,-31,19,-19,-13,8]
[-44,-5,-5,-38,-3,-2,-12,-20,-15,-7,7,-31,19,-19,-13,8]
[-44,-5,-5,-38,-3,-2,-12,-20,-15,-7,7,-31,19,-19,-13,8]
[-44,-5,-5,-38,-3,-2,-12,-20,-15,-7,7,-31,19,-19,-13,8]
[-44,-5,-5,-38,-3,-2,-12,-20,-15,-7,7,-31,19,-19,-13,8]
[-44,-5,-5,-38,-3,-2,-12,-20,-15,-7,7,-31,19,-19,-13,8]
[-44,-5,-5,-38,-3,-2,-12,-20,-15,-7,7,-31,19,-19,-13,8]
[-44,-5,-5,-38,-3,-2,-12,-20,-15,-7,7,-31,19,-19,-13,8]
[-44,-5,-5,-38,-3,-2,-12,-20,-15,-7,7,-31,19,-19,-13,8]
[-44,-5,-5,-38,-3,-2,-12,-20,-15,-7,7,-31,19,-19,-13,8]
[-16,24,23,-83,19,19,-16,-34,18,-66,-5,-27,25,1,19,-10]
[112,109,86,-82,147,161,8,41,87,-243,-77,11,85,89,193,-95]
[94,171,-33,63,175,203,127,226,129,-127,27,-25,102,149,288,-357]
[-120,279,-105,134,-12,-250,165,250,122,254,158,-86,-182,28,44,-481]
[-229,173,-195,7,-137,-483,-86,-110,-80,291,153,64,-426,-78,-252,-193]
[-69,-32,-251,6,-41,-240,-187,-168,-134,83,12,105,-318,-102,-241,100]
[-43,-50,-80,-17,-2,-17,-64,-72,-76,-5,2,16,-49,-24,-54,54]
[-44,-5,-5,-38,-3,-2,-12,-20,-15,-7,7,-31,19,-19,-13,8]
[-44,-5,-5,-38,-3,-2,-12,-20,-15,-7,7,-31,19,-19,-13,8]
[-44,-5,-5,-38,-3,-2,-12,-20,-15,-7,7,-31,19,-19,-13,8]
[-44,-5,-5,-38,-3,-2,-12,-20,-15,-7,7,-31,19,-19,-13,8]
[-44,-5,-5,-38,-3,-2,-12,-20,-15,-7,7,-31,19,-19,-13,8]
[-44,-5,-5,-38,-3,-2,-12,-20,-15,-7,7,-31,19,-19,-13,8]
[-44,-5,-5,-38,-3,-2,-12,-20,-15,-7,7,-31,19,-19,-13,8]
[-44,-5,-5,-38,-3,-2,-12,-20,-15,-7,7,-31,19,-19,-13,8]
[-44,-5,-5,-38,-3,-2,-12,-20,-15,-7,7,-31,19,-19,-13,8]
[-44,-5,-5,-38,-3,-2,-12,-20,-15,-7,7,-31,19,-19,-13,8]
[-44,-5,-5,-38,-3,-2,-12,-20,-15,-7,7,-31,19,-19,-13,8]
[-44,-5,-5,-38,-3,-2,-12,-20,-15,-7,7,-31,19,-19,-13,8]
[-44,-5,-5,-38,-3,-2,-12,-20,-15,-7,7,-31,19,-19,-13,8]
[-44,-5,-5,-38,-3,-2,-12,-20,-15,-7,7,-31,19,-19,-13,8]
[-44,-5,-5,-38,-3,-2,-12,-20,-15,-7,7,-31,19,-19,-13,8]
[-44,-5,-5,-38,-3,-2,-12,-20,-15,-7,7,-31,19,-19,-13,8]
[-44,-5,-5,-38,-3,-2,-12,-20,-15,-7,7,-31,19,-19,-13,8]
[-44,-5,-5,-38,-3,-2,-12,-20,-15,-7,7,-31,19,-19,-13,8]
[-44,-5,-5,-38,-3,-2,-12,-20,-15,-7,7,-31,19,-19,-13,8]
[-44,-5,-5,-38,-3,-2,-12,-20,-15,-7,7,-31,19,-19,-13,8]
[-44,-5,-5,-38,-3,-2,-12,-20,-15,-7,7,-31,19,-19,-13,8]
[26,50,55,-90,54,74,-12,-9,22,-131,-53,12,47,43,74,-29]
[126,105,23,16,165,229,54,185,53,-188,-91,48,117,151,242,-189]
[-11,268,-42,83,90,-18,112,270,115,61,90,-26,-1,107,175,-440]
[-179,246,-226,6,-108,-457,38,57,113,318,206,-72,-389,-74,-186,-373]
[-109,24,-193,-81,-95,-410,-92,-141,-49,164,33,11,-477,-49,-243,-35]
[-31,-166,-148,-5,22,-19,-133,-137,-205,-12,-17,61,-158,46,-58,120]
[-46,-42,-30,-29,2,11,-31,-48,-59,-13,6,-11,-1,-2,-12,27]
[-44,-5,-5,-38,-3,-2,-12,-20,-15,-7,7,-31,19,-19,-13,8]
[-44,-5,-5,-38,-3,-2,-12,-20,-15,-7,7,-31,19,-19,-13,8]
[-44,-5,-5,-38,-3,-2,-12,-20,-15,-7,7,-31,19,-19,-13,8]
[-44,-5,-5,-38,-3,-2,-12,-20,-15,-7,7,-31,19,-19,-13,8]
[-44,-5,-5,-38,-3,-2,-12,-20,-15,-7,7,-31,19,-19,-13,8]
[-44,-5,-5,-38,-3,-2,-12,-20,-15,-7,7,-31,19,-19,-13,8]
[-44,-5,-5,-38,-3,-2,-12,-20,-15,-7,7,-31,19,-19,-13,8]
[-44,-5,-5,-38,-3,-2,-12,-20,-15,-7,7,-31,19,-19,-13,8]
[-44,-5,-5,-38,-3,-2,-12,-20,-15,-7,7,-31,19,-19,-13,8]
[-44,-5,-5,-38,-3,-2,-12,-20,-15,-7,7,-31,19,-19,-13,8]
[-44,-5,-5,-38,-3,-2,-12,-20,-15,-7,7,-31,19,-19,-13,8]
[-44,-5,-5,-38,-3,-2,-12,-20,-15,-7,7,-31,19,-19,-13,8]
[-44,-5,-5,-38,-3,-2,-12,-20,-15,-7,7,-31,19,-19,-13,8]
[-44,-5,-5,-38,-3,-2,-12,-20,-15,-7,7,-31,19,-19,-13,8]
[-44,-5,-5,-38,-3,-2,-12,-20,-15,-7,7,-31,19,-19,-13,8]
[-44,-5,-5,-38,-3,-2,-12,-20,-15,-7,7,-31,19,-19,-13,8]
[-44,-5,-5,-38,-3,-2,-12,-20,-15,-7,7,-31,19,-19,-13,8]
[-44,-5,-5,-38,-3,-2,-12,-20,-15,-7,7,-31,19,-19,-13,8]
[-44,-5,-5,-38,-3,-2,-12,-20,-15,-7,7,-31,19,-19,-13,8]
[-44,-5,-5,-38,-3,-2,-12,-20,-15,-7,7,-31,19,-19,-13,8]
[-40,-1,-1,-45,0,1,-13,-23,-10,-16,5,-31,19,-16,-9,5]
[74,49,55,-117,73,148,21,49,33,-179,-116,52,54,120,128,-78]
[132,127,-4,-9,167,191,84,294,98,-120,-58,-11,80,212,261,-308]
[-86,240,-108,85,10,-262,103,244,109,233,144,-103,-209,49,30,-429]
[-203,142,-194,-19,-119,-479,-88,-152,-54,249,152,25,-451,-87,-245,-156]
[-59,-86,-233,6,-26,-163,-149,-181,-145,44,6,86,-281,-64,-183,107]
[-46,-54,-43,-25,3,12,-40,-59,-74,-13,5,-2,-12,1,-16,37]
[-44,-5,-5,-38,-3,-2,-12,-20,-15,-7,7,-31,19,-19,-13,8]
[-44,-5,-5,-38,-3,-2,-12,-20,-15,-7,7,-31,19,-19,-13,8]
[-44,-5,-5,-38,-3,-2,-12,-20,-15,-7,7,-31,19,-19,-13,8]
[-44,-5,-5,-38,-3,-2,-12,-20,-15,-7,7,-31,19,-19,-13,8]
[-44,-5,-5,-38,-3,-2,-12,-20,-15,-7,7,-31,19,-19,-13,8]
[-44,-5,-5,-38,-3,-2,-12,-20,-15,-7,7,-31,19,-19,-13,8]
[-44,-5,-5,-38,-3,-2,-12,-20,-15,-7,7,-31,19,-19,-13,8]
[-44,-5,-5,-38,-3,-2,-12,-20,-15,-7,7,-31,19,-19,-13,8]
[-44,-5,-5,-38,-3,-2,-12,-20,-15,-7,7,-31,19,-19,-13,8]
[-44,-5,-5,-38,-3,-2,-12,-20,-15,-7,7,-31,19,-19,-13,8]
[-44,-5,-5,-38,-3,-2,-12,-20,-15,-7,7,-31,19,-19,-13,8]
[-44,-5,-5,-38,-3,-2,-12,-20,-15,-7,7,-31,19,-19,-13,8]
[-44,-5,-5,-38,-3,-2,-12,-20,-15,-7,7,-31,19,-19,-13,8]
[-44,-5,-5,-38,-3,-2,-12,-20,-15,-7,7,-31,19,-19,-13,8]
[-44,-5,-5,-38,-3,-2,-12,-20,-15,-7,7,-31,19,-19,-13,8]
[-44,-5,-5,-38,-3,-2,-12,-20,-15,-7,7,-31,19,-19,-13,8]
[-44,-5,-5,-38,-3,-2,-12,-20,-15,-7,7,-31,19,-19,-13,8]
[-44,-5,-5,-38,-3,-2,-12,-20,-15,-7,7,-31,19,-19,-13,8]
[-44,-5,-5,-38,-3,-2,-12,-20,-15,-7,7,-31,19,-19,-13,8]
[-44,-5,-5,-38,-3,-2,-12,-20,-15,-7,7,-31,19,-19,-13,8]
[-44,-5,-5,-38,-3,-2,-12,-20,-15,-7,7,-31,19,-19,-13,8]
[17,57,54,-125,46,48,-19,-43,50,-132,-24,-17,34,26,58,-30]
[146,78,21,-38,165,226,72,152,102,-219,-94,1,84,149,240,-175]
[13,209,-11,67,112,38,146,276,114,25,74,-68,16,157,234,-430]
[-187,234,-177,34,-84,-429,33,35,78,295,218,-81,-345,-64,-139,-350]
[-130,30,-204,-33,-91,-374,-106,-193,-77,146,56,46,-428,-91,-243,-7]
[-43,-129,-143,4,10,-2,-112,-132,-170,-13,-3,63,-107,9,-64,103]
[-45,-10,-8,-37,-3,-1,-15,-24,-20,-8,6,-29,16,-17,-13,10]
[-44,-5,-5,-38,-3,-2,-12,-20,-15,-7,7,-31,19,-19,-13,8]
[-44,-5,-5,-38,-3,-2,-12,-20,-15,-7,7,-31,19,-19,-13,8]
[-44,-5,-5,-38,-3,-2,-12,-20,-15,-7,7,-31,19,-19,-13,8]
[-44,-5,-5,-38,-3,-2,-12,-20,-15,-7,7,-31,19,-19,-13,8]
[-44,-5,-5,-38,-3,-2,-12,-20,-15,-7,7,-31,19,-19,-13,8]
[-44,-5,-5,-38,-3,-2,-12,-20,-15,-7,7,-31,19,-19,-13,8]
[-44,-5,-5,-38,-3,-2,-12,-20,-15,-7,7,-31,19,-19,-13,8]
[-44,-5,-5,-38,-3,-2,-12,-20,-15,-7,7,-31,19,-19,-13,8]
[-44,-5,-5,-38,-3,-2,-12,-20,-15,-7,7,-31,19,-19,-13,8]
[-44,-5,-5,-38,-3,-2,-12,-20,-15,-7,7,-31,19,-19,-13,8]
[-44,-5,-5,-38,-3,-2,-12,-20,-15,-7,7,-31,19,-19,-13,8]
[-44,-5,-5,-38,-3,-2,-12,-20,-15,-7,7,-31,19,-19,-13,8]
[-44,-5,-5,-38,-3,-2,-12,-20,-15,-7,7,-31,19,-19,-13,8]
[-44,-5,-5,-38,-3,-2,-12,-20,-15,-7,7,-31,19,-19,-13,8]
[-44,-5,-5,-38,-3,-2,-12,-20,-15,-7,7,-31,19,-19,-13,8]
[-44,-5,-5,-38,-3,-2,-12,-20,-15,-7,7,-31,19,-19,-13,8]
[-44,-5,-5,-38,-3,-2,-12,-20,-15,-7,7,-31,19,-19,-13,8]
[-44,-5,-5,-38,-3,-2,-12,-20,-15,-7,7,-31,19,-19,-13,8]
[-44,-5,-5,-38,-3,-2,-12,-20,-15,-7,7,-31,19,-19,-13,8]
[-44,-5,-5,-38,-3,-2,-12,-20,-15,-7,7,-31,19,-19,-13,8]
[-9,33,31,-94,26,25,-17,-37,27,-82,-9,-26,27,6,28,-15]
[118,123,91,-62,166,160,4,40,99,-252,-61,-4,93,74,207,-97]
[69,181,-37,103,171,196,131,195,118,-117,54,-20,113,114,283,-351]
[-148,294,-108,96,-38,-263,162,188,146,250,195,-94,-173,-7,16,-480]
[-195,175,-171,-30,-120,-487,-76,-128,-10,246,151,4,-428,-108,-247,-166]
[-57,-87,-230,5,-25,-156,-143,-180,-141,40,5,82,-274,-64,-178,106]
[-47,-54,-37,-26,3,15,-36,-56,-73,-14,6,-5,-7,4,-11,34]
[-44,-5,-5,-38,-3,-2,-12,-20,-15,-7,7,-31,19,-19,-13,8]
[-44,-5,-5,-38,-3,-2,-12,-20,-15,-7,7,-31,19,-19,-13,8]
[-44,-5,-5,-38,-3,-2,-12,-20,-15,-7,7,-31,19,-19,-13,8]
[-44,-5,-5,-38,-3,-2,-12,-20,-15,-7,7,-31,19,-19,-13,8]
[-44,-5,-5,-38,-3,-2,-12,-20,-15,-7,7,-31,19,-19,-13,8]
[-44,-5,-5,-38,-3,-2,-12,-20,-15,-7,7,-31,19,-19,-13,8]
[-44,-5,-5,-38,-3,-2,-12,-20,-15,-7,7,-31,19,-19,-13,8]
[-44,-5,-5,-38,-3,-2,-12,-20,-15,-7,7,-31,19,-19,-13,8]
[-44,-5,-5,-38,-3,-2,-12,-20,-15,-7,7,-31,19,-19,-13,8]
[-44,-5,-5,-38,-3,-2,-12,-20,-15,-7,7,-31,19,-19,-13,8]
[-44,-5,-5,-38,-3,-2,-12,-20,-15,-7,7,-31,19,-19,-13,8]
[-44,-5,-5,-38,-3,-2,-12,-20,-15,-7,7,-31,19,-19,-13,8]
[-44,-5,-5,-38,-3,-2,-12,-20,-15,-7,7,-31,19,-19,-13,8]
[-44,-5,-5,-38,-3,-2,-12,-20,-15,-7,7,-31,19,-19,-13,8]
[-44,-5,-5,-38,-3,-2,-12,-20,-15,-7,7,-31,19,-19,-13,8]
[-44,-5,-5,-38,-3,-2,-12,-20,-15,-7,7,-31,19,-19,-13,8]
[-44,-5,-5,-38,-3,-2,-12,-20,-15,-7,7,-31,19,-19,-13,8]
[-44,-5,-5,-38,-3,-2,-12,-20,-15,-7,7,-31,19,-19,-13,8]
[-44,-5,-5,-38,-3,-2,-12,-20,-15,-7,7,-31,19,-19,-13,8]
[-44,-5,-5,-38,-3,-2,-12,-20,-15,-7,7,-31,19,-19,-13,8]
[-35,4,4,-53,4,5,-14,-25,-5,-26,3,-30,21,-13,-3,2]
[77,99,93,-126,106,116,-13,-11,75,-220,-66,12,66,69,140,-63]
[134,159,9,106,226,227,72,198,106,-191,-7,-17,141,103,300,-245]
[-98,304,-75,102,25,-80,174,181,136,116,165,-29,-47,52,135,-502]
[-183,257,-199,22,-102,-473,17,31,101,307,202,-66,-381,-103,-194,-333]
[-119,21,-197,-30,-80,-358,-117,-183,-86,136,48,47,-412,-85,-234,7]
[-46,-125,-143,5,8,1,-109,-133,-167,-13,0,64,-101,5,-64,101]
[-44,-5,-5,-38,-3,-2,-12,-20,-15,-7,7,-31,19,-19,-13,8]
[-44,-5,-5,-38,-3,-2,-12,-20,-15,-7,7,-31,19,-19,-13,8]
[-44,-5,-5,-38,-3,-2,-12,-20,-15,-7,7,-31,19,-19,-13,8]
[-44,-5,-5,-38,-3,-2,-12,-20,-15,-7,7,-31,19,-19,-13,8]
[-44,-5,-5,-38,-3,-2,-12,-20,-15,-7,7,-31,19,-19,-13,8]
[-44,-5,-5,-38,-3,-2,-12,-20,-15,-7,7,-31,19,-19,-13,8]
[-44,-5,-5,-38,-3,-2,-12,-20,-15,-7,7,-31,19,-19,-13,8]
[-44,-5,-5,-38,-3,-2,-12,-20,-15,-7,7,-31,19,-19,-13,8]
[-44,-5,-5,-38,-3,-2,-12,-20,-15,-7,7,-31,19,-19,-13,8]
[-44,-5,-5,-38,-3,-2,-12,-20,-15,-7,7,-31,19,-19,-13,8]
[-44,-5,-5,-38,-3,-2,-12,-20,-15,-7,7,-31,19,-19,-13,8]
[-44,-5,-5,-38,-3,-2,-12,-20,-15,-7,7,-31,19,-19,-13,8]
[-44,-5,-5,-38,-3,-2,-12,-20,-15,-7,7,-31,19,-19,-13,8]
[-44,-5,-5,-38,-3,-2,-12,-20,-15,-7,7,-31,19,-19,-13,8]
[-44,-5,-5,-38,-3,-2,-12,-20,-15,-7,7,-31,19,-19,-13,8]
[-44,-5,-5,-38,-3,-2,-12,-20,-15,-7,7,-31,19,-19,-13,8]
[-44,-5,-5,-38,-3,-2,-12,-20,-15,-7,7,-31,19,-19,-13,8]
[-44,-5,-5,-38,-3,-2,-12,-20,-15,-7,7,-31,19,-19,-13,8]
[-44,-5,-5,-38,-3,-2,-12,-20,-15,-7,7,-31,19,-19,-13,8]
[-44,-5,-5,-38,-3,-2,-12,-20,-15,-7,7,-31,19,-19,-13,8]
[-43,-4,-4,-41,-2,-1,-13,-21,-14,-10,6,-31,19,-18,-12,7]
[56,95,90,-172,80,82,-23,-52,89,-208,-43,-7,46,54,105,-54]
[167,140,35,88,252,227,58,168,129,-240,-25,-49,133,82,306,-185]
[-69,271,-47,91,62,50,197,153,125,22,149,-11,30,102,224,-500]
[-143,282,-179,83,-62,-382,90,166,125,296,170,-67,-307,-46,-97,-419]
[-182,110,-196,-41,-118,-456,-107,-151,-69,229,116,40,-447,-76,-256,-113]
[-40,-98,-213,0,-10,-134,-151,-155,-146,29,-9,76,-251,-47,-161,116]
[-47,-53,-37,-26,3,15,-36,-56,-72,-14,6,-5,-6,4,-11,33]
[-44,-5,-5,-38,-3,-2,-12,-20,-15,-7,7,-31,19,-19,-13,8]
[-44,-5,-5,-38,-3,-2,-12,-20,-15,-7,7,-31,19,-19,-13,8]
[-44,-5,-5,-38,-3,-2,-12,-20,-15,-7,7,-31,19,-19,-13,8]
[-44,-5,-5,-38,-3,-2,-12,-20,-15,-7,7,-31,19,-19,-13,8]
[-44,-5,-5,-38,-3,-2,-12,-20,-15,-7,7,-31,19,-19,-13,8]
[-44,-5,-5,-38,-3,-2,-12,-20,-15,-7,7,-31,19,-19,-13,8]
[-44,-5,-5,-38,-3,-2,-12,-20,-15,-7,7,-31,19,-19,-13,8]
[-44,-5,-5,-38,-3,-2,-12,-20,-15,-7,7,-31,19,-19,-13,8]
[-44,-5,-5,-38,-3,-2,-12,-20,-15,-7,7,-31,19,-19,-13,8]
[-44,-5,-5,-38,-3,-2,-12,-20,-15,-7,7,-31,19,-19,-13,8]
[-44,-5,-5,-38,-3,-2,-12,-20,-15,-7,7,-31,19,-19,-13,8]
[-44,-5,-5,-38,-3,-2,-12,-20,-15,-7,7,-31,19,-19,-13,8]
[-44,-5,-5,-38,-3,-2,-12,-20,-15,-7,7,-31,19,-19,-13,8]
[-44,-5,-5,-38,-3,-2,-12,-20,-15,-7,7,-31,19,-19,-13,8]
[-44,-5,-5,-38,-3,-2,-12,-20,-15,-7,7,-31,19,-19,-13,8]
[-44,-5,-5,-38,-3,-2,-12,-20,-15,-7,7,-31,19,-19,-13,8]
[-44,-5,-5,-38,-3,-2,-12,-20,-15,-7,7,-31,19,-19,-13,8]
[-44,-5,-5,-38,-3,-2,-12,-20,-15,-7,7,-31,19,-19,-13,8]
[-44,-5,-5,-38,-3,-2,-12,-20,-15,-7,7,-31,19,-19,-13,8]
[-44,-5,-5,-38,-3,-2,-12,-20,-15,-7,7,-31,19,-19,-13,8]
[-26,13,13,-64,12,13,-15,-27,4,-45,-3,-27,23,-6,8,-4]
[113,91,89,-42,140,193,14,84,28,-231,-132,72,100,120,199,-82]
[71,217,-23,89,178,183,69,242,89,-98,50,14,142,134,270,-359]
[-117,336,-152,119,-27,-315,138,220,178,257,169,-73,-230,-47,-29,-477]
[-211,142,-231,-49,-158,-464,-35,-78,-29,297,142,30,-455,-41,-253,-239]
[-40,-39,-185,-39,-22,-284,-168,-114,-108,85,-16,40,-364,-44,-203,81]
[-47,-124,-119,0,10,16,-94,-123,-162,-17,1,52,-78,17,-43,89]
[-44,-5,-5,-38,-3,-2,-12,-20,-15,-7,7,-31,19,-19,-13,8]
[-44,-5,-5,-38,-3,-2,-12,-20,-15,-7,7,-31,19,-19,-13,8]
[-44,-5,-5,-38,-3,-2,-12,-20,-15,-7,7,-31,19,-19,-13,8]
[-44,-5,-5,-38,-3,-2,-12,-20,-15,-7,7,-31,19,-19,-13,8]
[-44,-5,-5,-38,-3,-2,-12,-20,-15,-7,7,-31,19,-19,-13,8]
[-44,-5,-5,-38,-3,-2,-12,-20,-15,-7,7,-31,19,-19,-13,8]
[-44,-5,-5,-38,-3,-2,-12,-20,-15,-7,7,-31,19,-19,-13,8]
[-44,-5,-5,-38,-3,-2,-12,-20,-15,-7,7,-31,19,-19,-13,8]
[-44,-5,-5,-38,-3,-2,-12,-20,-15,-7,7,-31,19,-19,-13,8]
[-44,-5,-5,-38,-3,-2,-12,-20,-15,-7,7,-31,19,-19,-13,8]
[-44,-5,-5,-38,-3,-2,-12,-20,-15,-7,7,-31,19,-19,-13,8]
[-44,-5,-5,-38,-3,-2,-12,-20,-15,-7,7,-31,19,-19,-13,8]
[-44,-5,-5,-38,-3,-2,-12,-20,-15,-7,7,-31,19,-19,-13,8]
[-44,-5,-5,-38,-3,-2,-12,-20,-15,-7,7,-31,19,-19,-13,8]
[-44,-5,-5,-38,-3,-2,-12,-20,-15,-7,7,-31,19,-19,-13,8]
[-44,-5,-5,-38,-3,-2,-12,-20,-15,-7,7,-31,19,-19,-13,8]
[-44,-5,-5,-38,-3,-2,-12,-20,-15,-7,7,-31,19,-19,-13,8]
[-44,-5,-5,-38,-3,-2,-12,-20,-15,-7,7,-31,19,-19,-13,8]
[-44,-5,-5,-38,-3,-2,-12,-20,-15,-7,7,-31,19,-19,-13,8]
[-44,-5,-5,-38,-3,-2,-12,-20,-15,-7,7,-31,19,-19,-13,8]
[-30,10,9,-62,8,9,-15,-28,2,-38,0,-29,22,-9,4,-2]
[78,112,93,-149,112,103,-16,-33,108,-231,-38,-19,59,56,141,-73]
[150,106,-31,51,199,251,134,216,141,-189,-33,-41,95,150,300,-280]
[-94,258,-26,110,31,-115,188,260,101,168,141,-81,-71,113,163,-500]
[-209,162,-252,-15,-153,-446,-10,-7,-20,328,148,32,-434,-24,-235,-296]
[-67,7,-190,-75,-61,-376,-160,-94,-81,144,-5,35,-432,-42,-247,25]
[-30,-144,-153,-4,17,-31,-134,-128,-182,-8,-17,62,-153,21,-75,118]
[-46,-35,-25,-31,1,8,-27,-42,-50,-12,6,-16,3,-5,-12,23]
[-44,-5,-5,-38,-3,-2,-12,-20,-15,-7,7,-31,19,-19,-13,8]
[-44,-5,-5,-38,-3,-2,-12,-20,-15,-7,7,-31,19,-19,-13,8]
[-44,-5,-5,-38,-3,-2,-12,-20,-15,-7,7,-31,19,-19,-13,8]
[-44,-5,-5,-38,-3,-2,-12,-20,-15,-7,7,-31,19,-19,-13,8]
[-44,-5,-5,-38,-3,-2,-12,-20,-15,-7,7,-31,19,-19,-13,8]
[-44,-5,-5,-38,-3,-2,-12,-20,-15,-7,7,-31,19,-19,-13,8]
[-44,-5,-5,-38,-3,-2,-12,-20,-15,-7,7,-31,19,-19,-13,8]
[-44,-5,-5,-38,-3,-2,-12,-20,-15,-7,7,-31,19,-19,-13,8]
[-44,-5,-5,-38,-3,-2,-12,-20,-15,-7,7,-31,19,-19,-13,8]
[-44,-5,-5,-38,-3,-2,-12,-20,-15,-7,7,-31,19,-19,-13,8]
[-44,-5,-5,-38,-3,-2,-12,-20,-15,-7,7,-31,19,-19,-13,8]
[-44,-5,-5,-38,-3,-2,-12,-20,-15,-7,7,-31,19,-19,-13,8]
[-44,-5,-5,-38,-3,-2,-12,-20,-15,-7,7,-31,19,-19,-13,8]
[-44,-5,-5,-38,-3,-2,-12,-20,-15,-7,7,-31,19,-19,-13,8]
[-44,-5,-5,-38,-3,-2,-12,-20,-15,-7,7,-31,19,-19,-13,8]
[-44,-5,-5,-38,-3,-2,-12,-20,-15,-7,7,-31,19,-19,-13,8]
[-44,-5,-5,-38,-3,-2,-12,-20,-15,-7,7,-31,19,-19,-13,8]
[-44,-5,-5,-38,-3,-2,-12,-20,-15,-7,7,-31,19,-19,-13,8]
[-44,-5,-5,-38,-3,-2,-12,-20,-15,-7,7,-31,19,-19,-13,8]
[-44,-5,-5,-38,-3,-2,-12,-20,-15,-7,7,-31,19,-19,-13,8]
[23,56,56,-113,51,61,-17,-29,40,-136,-38,-4,41,35,67,-31]
[136,134,65,54,207,208,24,138,67,-228,-67,19,134,92,260,-139]
[-10,268,-55,74,103,106,136,181,124,-36,108,20,73,107,227,-452]
[-124,341,-159,42,-41,-408,106,168,231,272,216,-143,-301,-78,-81,-465]
[-170,87,-210,-49,-117,-454,-45,-162,-20,216,121,-9,-490,-69,-232,-141]
[-52,-130,-175,-9,-5,-105,-125,-163,-175,21,-1,59,-239,9,-107,98]
[-47,-69,-48,-22,5,20,-44,-68,-91,-16,5,4,-16,11,-12,43]
[-44,-5,-5,-38,-3,-2,-12,-20,-15,-7,7,-31,19,-19,-13,8]
[-44,-5,-5,-38,-3,-2,-12,-20,-15,-7,7,-31,19,-19,-13,8]
[-44,-5,-5,-38,-3,-2,-12,-20,-15,-7,7,-31,19,-19,-13,8]
[-44,-5,-5,-38,-3,-2,-12,-20,-15,-7,7,-31,19,-19,-13,8]
[-44,-5,-5,-38,-3,-2,-12,-20,-15,-7,7,-31,19,-19,-13,8]
[-44,-5,-5,-38,-3,-2,-12,-20,-15,-7,7,-31,19,-19,-13,8]
[-44,-5,-5,-38,-3,-2,-12,-20,-15,-7,7,-31,19,-19,-13,8]
[-44,-5,-5,-38,-3,-2,-12,-20,-15,-7,7,-31,19,-19,-13,8]
[-44,-5,-5,-38,-3,-2,-12,-20,-15,-7,7,-31,19,-19,-13,8]
[-44,-5,-5,-38,-3,-2,-12,-20,-15,-7,7,-31,19,-19,-13,8]
[-44,-5,-5,-38,-3,-2,-12,-20,-15,-7,7,-31,19,-19,-13,8]
[-44,-5,-5,-38,-3,-2,-12,-20,-15,-7,7,-31,19,-19,-13,8]
[-44,-5,-5,-38,-3,-2,-12,-20,-15,-7,7,-31,19,-19,-13,8]
[-44,-5,-5,-38,-3,-2,-12,-20,-15,-7,7,-31,19,-19,-13,8]
[-44,-5,-5,-38,-3,-2,-12,-20,-15,-7,7,-31,19,-19,-13,8]
[-44,-5,-5,-38,-3,-2,-12,-20,-15,-7,7,-31,19,-19,-13,8]
[-44,-5,-5,-38,-3,-2,-12,-20,-15,-7,7,-31,19,-19,-13,8]
[-44,-5,-5,-38,-3,-2,-12,-20,-15,-7,7,-31,19,-19,-13,8]
[-44,-5,-5,-38,-3,-2,-12,-20,-15,-7,7,-31,19,-19,-13,8]
[-44,-5,-5,-38,-3,-2,-12,-20,-15,-7,7,-31,19,-19,-13,8]
[-15,25,24,-84,20,20,-17,-34,19,-68,-6,-27,25,1,20,-11]
[110,101,78,-77,143,163,13,49,84,-234,-78,11,82,93,190,-98]
[91,175,-21,59,173,192,121,226,124,-124,23,-22,99,150,285,-353]
[-24,365,-26,10,66,-163,144,212,208,61,109,-51,-155,95,149,-527]
[-139,279,-211,130,27,-437,-52,-37,78,216,279,-86,-367,-130,-96,-314]
[-201,79,-272,64,-107,-350,-38,-302,-44,152,174,48,-400,-185,-231,-77]
[-88,-52,-109,-4,-30,-36,-38,-139,-92,12,37,32,-87,-34,-65,28]
[-45,-6,-6,-38,-3,-2,-13,-21,-16,-8,6,-31,18,-19,-13,8]
[-44,-5,-5,-38,-3,-2,-12,-20,-15,-7,7,-31,19,-19,-13,8]
[-44,-5,-5,-38,-3,-2,-12,-20,-15,-7,7,-31,19,-19,-13,8]
[-44,-5,-5,-38,-3,-2,-12,-20,-15,-7,7,-31,19,-19,-13,8]
[-44,-5,-5,-38,-3,-2,-12,-20,-15,-7,7,-31,19,-19,-13,8]
[-44,-5,-5,-38,-3,-2,-12,-20,-15,-7,7,-31,19,-19,-13,8]
[-44,-5,-5,-38,-3,-2,-12,-20,-15,-7,7,-31,19,-19,-13,8]
[-44,-5,-5,-38,-3,-2,-12,-20,-15,-7,7,-31,19,-19,-13,8]
[-44,-5,-5,-38,-3,-2,-12,-20,-15,-7,7,-31,19,-19,-13,8]
[-44,-5,-5,-38,-3,-2,-12,-20,-15,-7,7,-31,19,-19,-13,8]
[-44,-5,-5,-38,-3,-2,-12,-20,-15,-7,7,-31,19,-19,-13,8]
[-44,-5,-5,-38,-3,-2,-12,-20,-15,-7,7,-31,19,-19,-13,8]
[-44,-5,-5,-38,-3,-2,-12,-20,-15,-7,7,-31,19,-19,-13,8]
[-44,-5,-5,-38,-3,-2,-12,-20,-15,-7,7,-31,19,-19,-13,8]
[-44,-5,-5,-38,-3,-2,-12,-20,-15,-7,7,-31,19,-19,-13,8]
[-44,-5,-5,-38,-3,-2,-12,-20,-15,-7,7,-31,19,-19,-13,8]
[-44,-5,-5,-38,-3,-2,-12,-20,-15,-7,7,-31,19,-19,-13,8]
[-44,-5,-5,-38,-3,-2,-12,-20,-15,-7,7,-31,19,-19,-13,8]
[-44,-5,-5,-38,-3,-2,-12,-20,-15,-7,7,-31,19,-19,-13,8]
[-44,-5,-5,-38,-3,-2,-12,-20,-15,-7,7,-31,19,-19,-13,8]
[-44,-5,-5,-38,-3,-2,-12,-20,-15,-7,7,-31,19,-19,-13,8]
[20,44,49,-80,50,71,-11,-5,14,-119,-52,13,47,39,68,-25]
[120,101,24,-3,152,224,52,178,49,-184,-96,55,111,156,231,-187]
[38,294,-8,28,126,10,100,269,156,-13,63,-27,4,135,213,-449]
[-30,329,-152,52,46,-270,70,169,153,122,103,-4,-303,42,30,-461]
[-161,262,-198,157,23,-449,-96,-85,8,218,271,-43,-368,-144,-116,-253]
[-205,59,-308,82,-112,-293,-64,-325,-79,136,168,100,-351,-203,-250,-39]
[-75,-4,-73,-18,-30,-50,-22,-90,-33,15,30,4,-55,-57,-67,9]
[-44,-5,-5,-38,-3,-2,-12,-20,-15,-7,7,-31,19,-19,-13,8]
[-44,-5,-5,-38,-3,-2,-12,-20,-15,-7,7,-31,19,-19,-13,8]
[-44,-5,-5,-38,-3,-2,-12,-20,-15,-7,7,-31,19,-19,-13,8]
[-44,-5,-5,-38,-3,-2,-12,-20,-15,-7,7,-31,19,-19,-13,8]
[-44,-5,-5,-38,-3,-2,-12,-20,-15,-7,7,-31,19,-19,-13,8]
[-44,-5,-5,-38,-3,-2,-12,-20,-15,-7,7,-31,19,-19,-13,8]
[-44,-5,-5,-38,-3,-2,-12,-20,-15,-7,7,-31,19,-19,-13,8]
[-44,-5,-5,-38,-3,-2,-12,-20,-15,-7,7,-31,19,-19,-13,8]
[-44,-5,-5,-38,-3,-2,-12,-20,-15,-7,7,-31,19,-19,-13,8]
[-44,-5,-5,-38,-3,-2,-12,-20,-15,-7,7,-31,19,-19,-13,8]
[-44,-5,-5,-38,-3,-2,-12,-20,-15,-7,7,-31,19,-19,-13,8]
[-44,-5,-5,-38,-3,-2,-12,-20,-15,-7,7,-31,19,-19,-13,8]
[-44,-5,-5,-38,-3,-2,-12,-20,-15,-7,7,-31,19,-19,-13,8]
[-44,-5,-5,-38,-3,-2,-12,-20,-15,-7,7,-31,19,-19,-13,8]
[-44,-5,-5,-38,-3,-2,-12,-20,-15,-7,7,-31,19,-19,-13,8]
[-44,-5,-5,-38,-3,-2,-12,-20,-15,-7,7,-31,19,-19,-13,8]
[-44,-5,-5,-38,-3,-2,-12,-20,-15,-7,7,-31,19,-19,-13,8]
[-44,-5,-5,-38,-3,-2,-12,-20,-15,-7,7,-31,19,-19,-13,8]
[-44,-5,-5,-38,-3,-2,-12,-20,-15,-7,7,-31,19,-19,-13,8]
[-44,-5,-5,-38,-3,-2,-12,-20,-15,-7,7,-31,19,-19,-13,8]
[-44,-5,-5,-38,-3,-2,-12,-20,-15,-7,7,-31,19,-19,-13,8]
[29,4,16,-74,31,111,24,57,-13,-95,-99,46,39,93,72,-50]
[119,88,17,-90,110,188,68,273,49,-119,-131,53,58,253,211,-260]
[63,264,-29,25,130,-125,42,331,127,60,26,-56,-133,151,150,-407]
[-150,131,-306,155,-64,-344,22,107,-71,318,126,53,-402,18,-130,-330]
[-197,123,-180,-19,-128,-464,-143,-108,-134,263,90,99,-426,-53,-269,-108]
[-45,-62,-253,14,-19,-182,-210,-152,-159,57,-6,118,-271,-88,-225,134]
[-42,-27,-60,-24,-4,-23,-49,-53,-47,-2,3,1,-32,-33,-52,39]
[-44,-5,-5,-38,-3,-2,-12,-20,-15,-7,7,-31,19,-19,-13,8]
[-44,-5,-5,-38,-3,-2,-12,-20,-15,-7,7,-31,19,-19,-13,8]
[-44,-5,-5,-38,-3,-2,-12,-20,-15,-7,7,-31,19,-19,-13,8]
[-44,-5,-5,-38,-3,-2,-12,-20,-15,-7,7,-31,19,-19,-13,8]
[-44,-5,-5,-38,-3,-2,-12,-20,-15,-7,7,-31,19,-19,-13,8]
[-44,-5,-5,-38,-3,-2,-12,-20,-15,-7,7,-31,19,-19,-13,8]
[-44,-5,-5,-38,-3,-2,-12,-20,-15,-7,7,-31,19,-19,-13,8]
[-44,-5,-5,-38,-3,-2,-12,-20,-15,-7,7,-31,19,-19,-13,8]
[-44,-5,-5,-38,-3,-2,-12,-20,-15,-7,7,-31,19,-19,-13,8]
[-44,-5,-5,-38,-3,-2,-12,-20,-15,-7,7,-31,19,-19,-13,8]
[-44,-5,-5,-38,-3,-2,-12,-20,-15,-7,7,-31,19,-19,-13,8]
[-44,-5,-5,-38,-3,-2,-12,-20,-15,-7,7,-31,19,-19,-13,8]
[-44,-5,-5,-38,-3,-2,-12,-20,-15,-7,7,-31,19,-19,-13,8]
[-44,-5,-5,-38,-3,-2,-12,-20,-15,-7,7,-31,19,-19,-13,8]
[-44,-5,-5,-38,-3,-2,-12,-20,-15,-7,7,-31,19,-19,-13,8]
[-44,-5,-5,-38,-3,-2,-12,-20,-15,-7,7,-31,19,-19,-13,8]
[-44,-5,-5,-38,-3,-2,-12,-20,-15,-7,7,-31,19,-19,-13,8]
[-44,-5,-5,-38,-3,-2,-12,-20,-15,-7,7,-31,19,-19,-13,8]
[-44,-5,-5,-38,-3,-2,-12,-20,-15,-7,7,-31,19,-19,-13,8]
[-44,-5,-5,-38,-3,-2,-12,-20,-15,-7,7,-31,19,-19,-13,8]
[-44,-5,-5,-38,-3,-2,-12,-20,-15,-7,7,-31,19,-19,-13,8]
[-27,-85,-70,-25,-41,78,58,104,-70,40,-89,36,3,88,-5,-41]
[-20,-94,-50,-51,-80,39,69,343,-154,168,-198,97,-43,261,-4,-141]
[-30,-31,-93,-100,-88,-197,-108,345,-210,264,-185,136,-227,250,-141,-116]
[-18,-43,-229,-199,-90,-355,-235,117,-140,222,-103,92,-429,117,-296,-12]
[59,-102,-151,-108,26,-266,-203,13,-98,60,-108,-8,-382,46,-176,123]
[-33,-176,-110,-10,29,20,-112,-123,-210,-25,-15,46,-114,76,-15,108]
[-46,-39,-27,-30,1,10,-29,-45,-55,-12,6,-13,1,-3,-12,26]
[-44,-5,-5,-38,-3,-2,-12,-20,-15,-7,7,-31,19,-19,-13,8]
[-44,-5,-5,-38,-3,-2,-12,-20,-15,-7,7,-31,19,-19,-13,8]
[-44,-5,-5,-38,-3,-2,-12,-20,-15,-7,7,-31,19,-19,-13,8]
[-44,-5,-5,-38,-3,-2,-12,-20,-15,-7,7,-31,19,-19,-13,8]
[-44,-5,-5,-38,-3,-2,-12,-20,-15,-7,7,-31,19,-19,-13,8]
[-44,-5,-5,-38,-3,-2,-12,-20,-15,-7,7,-31,19,-19,-13,8]
[-44,-5,-5,-38,-3,-2,-12,-20,-15,-7,7,-31,19,-19,-13,8]
[-44,-5,-5,-38,-3,-2,-12,-20,-15,-7,7,-31,19,-19,-13,8]
[-44,-5,-5,-38,-3,-2,-12,-20,-15,-7,7,-31,19,-19,-13,8]
[-44,-5,-5,-38,-3,-2,-12,-20,-15,-7,7,-31,19,-19,-13,8]
[-44,-5,-5,-38,-3,-2,-12,-20,-15,-7,7,-31,19,-19,-13,8]
[-44,-5,-5,-38,-3,-2,-12,-20,-15,-7,7,-31,19,-19,-13,8]
[-44,-5,-5,-38,-3,-2,-12,-20,-15,-7,7,-31,19,-19,-13,8]
[-44,-5,-5,-38,-3,-2,-12,-20,-15,-7,7,-31,19,-19,-13,8]
[-44,-5,-5,-38,-3,-2,-12,-20,-15,-7,7,-31,19,-19,-13,8]
[-44,-5,-5,-38,-3,-2,-12,-20,-15,-7,7,-31,19,-19,-13,8]
[-44,-5,-5,-38,-3,-2,-12,-20,-15,-7,7,-31,19,-19,-13,8]
[-44,-5,-5,-38,-3,-2,-12,-20,-15,-7,7,-31,19,-19,-13,8]
[-44,-5,-5,-38,-3,-2,-12,-20,-15,-7,7,-31,19,-19,-13,8]
[-44,-5,-5,-38,-3,-2,-12,-20,-15,-7,7,-31,19,-19,-13,8]
[-44,-5,-5,-38,-3,-2,-12,-20,-15,-7,7,-31,19,-19,-13,8]
[-41,-60,-63,-122,-54,23,40,19,5,21,-23,-32,-26,53,-34,-49]
[18,-117,-44,-277,-78,-35,90,160,66,63,-107,-114,-149,200,-31,-120]
[74,-192,1,-288,-9,-102,11,178,-20,50,-155,-146,-267,294,10,-52]
[41,-219,-14,-104,73,-68,-123,-3,-198,-14,-91,-53,-226,209,37,100]
[-44,-177,-107,-3,25,48,-99,-134,-214,-30,-4,51,-82,75,-2,100]
[-45,-20,-15,-35,-1,3,-20,-32,-33,-10,6,-23,11,-12,-13,16]
[-44,-5,-5,-38,-3,-2,-12,-20,-15,-7,7,-31,19,-19,-13,8]
[-44,-5,-5,-38,-3,-2,-12,-20,-15,-7,7,-31,19,-19,-13,8]
[-44,-5,-5,-38,-3,-2,-12,-20,-15,-7,7,-31,19,-19,-13,8]
[-44,-5,-5,-38,-3,-2,-12,-20,-15,-7,7,-31,19,-19,-13,8]
[-44,-5,-5,-38,-3,-2,-12,-20,-15,-7,7,-31,19,-19,-13,8]
[-44,-5,-5,-38,-3,-2,-12,-20,-15,-7,7,-31,19,-19,-13,8]
[-44,-5,-5,-38,-3,-2,-12,-20,-15,-7,7,-31,19,-19,-13,8]
[-44,-5,-5,-38,-3,-2,-12,-20,-15,-7,7,-31,19,-19,-13,8]
[-44,-5,-5,-38,-3,-2,-12,-20,-15,-7,7,-31,19,-19,-13,8]
[-44,-5,-5,-38,-3,-2,-12,-20,-15,-7,7,-31,19,-19,-13,8]
[-44,-5,-5,-38,-3,-2,-12,-20,-15,-7,7,-31,19,-19,-13,8]
[-44,-5,-5,-38,-3,-2,-12,-20,-15,-7,7,-31,19,-19,-13,8]
[-44,-5,-5,-38,-3,-2,-12,-20,-15,-7,7,-31,19,-19,-13,8]

{"sheet":"Relu","index":6,"n_rows":789,"n_cols":16,"rows_kept":789,"cut":false,"hidden":false,"merged":[]}
[{"$f":"IF(plusBias!A1:P784 > 0, plusBias!A1:P784, 0)","v":0},0,0,0,0,0,0,0,0,0,7,0,19,0,0,8]
[0,0,0,0,0,0,0,0,0,0,7,0,19,0,0,8]
[0,0,0,0,0,0,0,0,0,0,7,0,19,0,0,8]
[0,0,0,0,0,0,0,0,0,0,7,0,19,0,0,8]
[0,0,0,0,0,0,0,0,0,0,7,0,19,0,0,8]
[0,0,0,0,0,0,0,0,0,0,7,0,19,0,0,8]
[0,0,0,0,0,0,0,0,0,0,7,0,19,0,0,8]
[0,0,0,0,0,0,0,0,0,0,7,0,19,0,0,8]
[0,0,0,0,0,0,0,0,0,0,7,0,19,0,0,8]
[0,0,0,0,0,0,0,0,0,0,7,0,19,0,0,8]
[0,0,0,0,0,0,0,0,0,0,7,0,19,0,0,8]
[0,0,0,0,0,0,0,0,0,0,7,0,19,0,0,8]
[0,0,0,0,0,0,0,0,0,0,7,0,19,0,0,8]
[0,0,0,0,0,0,0,0,0,0,7,0,19,0,0,8]
[0,0,0,0,0,0,0,0,0,0,7,0,19,0,0,8]
[0,0,0,0,0,0,0,0,0,0,7,0,19,0,0,8]
[0,0,0,0,0,0,0,0,0,0,7,0,19,0,0,8]
[0,0,0,0,0,0,0,0,0,0,7,0,19,0,0,8]
[0,0,0,0,0,0,0,0,0,0,7,0,19,0,0,8]
[0,0,0,0,0,0,0,0,0,0,7,0,19,0,0,8]
[0,0,0,0,0,0,0,0,0,0,7,0,19,0,0,8]
[0,0,0,0,0,0,0,0,0,0,7,0,19,0,0,8]
[0,0,0,0,0,0,0,0,0,0,7,0,19,0,0,8]
[0,0,0,0,0,0,0,0,0,0,7,0,19,0,0,8]
[0,0,0,0,0,0,0,0,0,0,7,0,19,0,0,8]
[0,0,0,0,0,0,0,0,0,0,7,0,19,0,0,8]
[0,0,0,0,0,0,0,0,0,0,7,0,19,0,0,8]
[0,0,0,0,0,0,0,0,0,0,7,0,19,0,0,8]
[0,0,0,0,0,0,0,0,0,0,7,0,19,0,0,8]
[0,0,0,0,0,0,0,0,0,0,7,0,19,0,0,8]
[0,0,0,0,0,0,0,0,0,0,7,0,19,0,0,8]
[0,0,0,0,0,0,0,0,0,0,7,0,19,0,0,8]
[0,0,0,0,0,0,0,0,0,0,7,0,19,0,0,8]
[0,0,0,0,0,0,0,0,0,0,7,0,19,0,0,8]
[0,0,0,0,0,0,0,0,0,0,7,0,19,0,0,8]
[0,0,0,0,0,0,0,0,0,0,7,0,19,0,0,8]
[0,0,0,0,0,0,0,0,0,0,7,0,19,0,0,8]
[0,0,0,0,0,0,0,0,0,0,7,0,19,0,0,8]
[0,0,0,0,0,0,0,0,0,0,7,0,19,0,0,8]
[0,0,0,0,0,0,0,0,0,0,7,0,19,0,0,8]
[0,0,0,0,0,0,0,0,0,0,7,0,19,0,0,8]
[0,0,0,0,0,0,0,0,0,0,7,0,19,0,0,8]
[0,0,0,0,0,0,0,0,0,0,7,0,19,0,0,8]
[0,0,0,0,0,0,0,0,0,0,7,0,19,0,0,8]
[0,0,0,0,0,0,0,0,0,0,7,0,19,0,0,8]
[0,0,0,0,0,0,0,0,0,0,7,0,19,0,0,8]
[0,0,0,0,0,0,0,0,0,0,7,0,19,0,0,8]
[0,0,0,0,0,0,0,0,0,0,7,0,19,0,0,8]
[0,0,0,0,0,0,0,0,0,0,7,0,19,0,0,8]
[0,0,0,0,0,0,0,0,0,0,7,0,19,0,0,8]
[0,0,0,0,0,0,0,0,0,0,7,0,19,0,0,8]
[0,0,0,0,0,0,0,0,0,0,7,0,19,0,0,8]
[0,0,0,0,0,0,0,0,0,0,7,0,19,0,0,8]
[0,0,0,0,0,0,0,0,0,0,7,0,19,0,0,8]
[0,0,0,0,0,0,0,0,0,0,7,0,19,0,0,8]
[0,0,0,0,0,0,0,0,0,0,7,0,19,0,0,8]
[0,0,0,0,0,0,0,0,0,0,7,0,19,0,0,8]
[0,0,0,0,0,0,0,0,0,0,7,0,19,0,0,8]
[0,0,0,0,0,0,0,0,0,0,7,0,19,0,0,8]
[0,0,0,0,0,0,0,0,0,0,7,0,19,0,0,8]
[0,0,0,0,0,0,0,0,0,0,7,0,19,0,0,8]
[0,0,0,0,0,0,0,0,0,0,7,0,19,0,0,8]
[0,0,0,0,0,0,0,0,0,0,7,0,19,0,0,8]
[0,0,0,0,0,0,0,0,0,0,7,0,19,0,0,8]
[0,0,0,0,0,0,0,0,0,0,7,0,19,0,0,8]
[0,0,0,0,0,0,0,0,0,0,7,0,19,0,0,8]
[0,0,0,0,0,0,0,0,0,0,7,0,19,0,0,8]
[0,0,0,0,0,0,0,0,0,0,7,0,19,0,0,8]
[0,0,0,0,0,0,0,0,0,0,7,0,19,0,0,8]
[0,0,0,0,0,0,0,0,0,0,7,0,19,0,0,8]
[0,0,0,0,0,0,0,0,0,0,7,0,19,0,0,8]
[0,0,0,0,0,0,0,0,0,0,7,0,19,0,0,8]
[0,0,0,0,0,0,0,0,0,0,7,0,19,0,0,8]
[0,0,0,0,0,0,0,0,0,0,7,0,19,0,0,8]
[0,0,0,0,0,0,0,0,0,0,7,0,19,0,0,8]
[0,0,0,0,0,0,0,0,0,0,7,0,19,0,0,8]
[0,0,0,0,0,0,0,0,0,0,7,0,19,0,0,8]
[0,0,0,0,0,0,0,0,0,0,7,0,19,0,0,8]
[0,0,0,0,0,0,0,0,0,0,7,0,19,0,0,8]
[0,0,0,0,0,0,0,0,0,0,7,0,19,0,0,8]
[0,0,0,0,0,0,0,0,0,0,7,0,19,0,0,8]
[0,0,0,0,0,0,0,0,0,0,7,0,19,0,0,8]
[0,0,0,0,0,0,0,0,0,0,7,0,19,0,0,8]
[0,0,0,0,0,0,0,0,0,0,7,0,19,0,0,8]
[0,0,0,0,0,0,0,0,0,0,7,0,19,0,0,8]
[0,0,0,0,0,0,0,0,0,0,7,0,19,0,0,8]
[0,0,0,0,0,0,0,0,0,0,7,0,19,0,0,8]
[0,0,0,0,0,0,0,0,0,0,7,0,19,0,0,8]
[0,0,0,0,0,0,0,0,0,0,7,0,19,0,0,8]
[0,0,0,0,0,0,0,0,0,0,7,0,19,0,0,8]
[0,0,0,0,0,0,0,0,0,0,7,0,19,0,0,8]
[0,0,0,0,0,0,0,0,0,0,7,0,19,0,0,8]
[0,0,0,0,0,0,0,0,0,0,7,0,19,0,0,8]
[0,0,0,0,0,0,0,0,0,0,7,0,19,0,0,8]
[0,0,0,0,0,0,0,0,0,0,7,0,19,0,0,8]
[0,0,0,0,0,0,0,0,0,0,7,0,19,0,0,8]
[0,0,0,0,0,0,0,0,0,0,7,0,19,0,0,8]
[0,0,0,0,0,0,0,0,0,0,7,0,19,0,0,8]
[0,0,0,0,0,0,0,0,0,0,7,0,19,0,0,8]
[0,0,0,0,0,0,0,0,0,0,7,0,19,0,0,8]
[0,0,0,0,0,0,0,0,0,0,7,0,19,0,0,8]
[0,0,0,0,0,0,0,0,0,0,7,0,19,0,0,8]
[0,0,0,0,0,0,0,0,0,0,7,0,19,0,0,8]
[0,0,0,0,0,0,0,0,0,0,7,0,19,0,0,8]
[0,0,0,0,0,0,0,0,0,0,7,0,19,0,0,8]
[0,0,0,0,0,0,0,0,0,0,7,0,19,0,0,8]
[0,0,0,0,0,0,0,0,0,0,7,0,19,0,0,8]
[0,0,0,0,0,0,0,0,0,0,7,0,19,0,0,8]
[0,0,0,0,0,0,0,0,0,0,7,0,19,0,0,8]
[0,0,0,0,0,0,0,0,0,0,7,0,19,0,0,8]
[0,0,0,0,0,0,0,0,0,0,7,0,19,0,0,8]
[0,0,0,0,0,0,0,0,0,0,7,0,19,0,0,8]
[0,0,0,0,0,0,0,0,0,0,7,0,19,0,0,8]
[0,0,0,0,0,0,0,0,0,0,7,0,19,0,0,8]
[0,0,0,0,0,0,0,0,0,0,7,0,19,0,0,8]
[0,0,0,0,0,0,0,0,0,0,7,0,19,0,0,8]
[0,0,0,0,0,0,0,0,0,0,7,0,19,0,0,8]
[0,0,0,0,0,0,0,0,0,0,7,0,19,0,0,8]
[0,0,0,0,0,0,0,0,0,0,7,0,19,0,0,8]
[0,0,0,0,0,0,0,0,0,0,7,0,19,0,0,8]
[0,0,0,0,0,0,0,0,0,0,7,0,19,0,0,8]
[0,0,0,0,0,0,0,0,0,0,7,0,19,0,0,8]
[0,0,0,0,0,0,0,0,0,0,7,0,19,0,0,8]
[0,0,0,0,0,0,0,0,0,0,7,0,19,0,0,8]
[0,0,0,0,0,0,0,0,0,0,7,0,19,0,0,8]
[0,0,0,0,0,0,0,0,0,0,7,0,19,0,0,8]
[0,0,0,0,0,0,0,0,0,0,7,0,19,0,0,8]
[0,0,0,0,0,0,0,0,0,0,7,0,19,0,0,8]
[0,0,0,0,0,0,0,0,0,0,7,0,19,0,0,8]
[0,0,0,0,0,0,0,0,0,0,7,0,19,0,0,8]
[0,0,0,0,0,0,0,0,0,0,7,0,19,0,0,8]
[0,0,0,0,0,0,0,0,0,0,7,0,19,0,0,8]
[0,0,0,0,0,0,0,0,0,0,7,0,19,0,0,8]
[0,0,0,0,0,0,0,0,0,0,7,0,19,0,0,8]
[0,0,0,0,0,0,0,0,0,0,7,0,19,0,0,8]
[0,0,0,0,0,0,0,0,0,0,7,0,19,0,0,8]
[0,0,0,0,0,0,0,0,0,0,7,0,19,0,0,8]
[0,0,0,0,0,0,0,0,0,0,7,0,19,0,0,8]
[0,0,0,0,0,0,0,0,0,0,7,0,19,0,0,8]
[0,0,0,0,0,0,0,0,0,0,7,0,19,0,0,8]
[0,0,0,0,0,0,0,0,0,0,7,0,19,0,0,8]
[0,0,0,0,0,0,0,0,0,0,7,0,19,0,0,8]
[0,0,0,0,0,0,0,0,0,0,7,0,19,0,0,8]
[0,0,0,0,0,0,0,0,0,0,7,0,19,0,0,8]
[0,0,0,0,0,0,0,0,0,0,7,0,19,0,0,8]
[0,0,0,0,0,0,0,0,0,0,7,0,19,0,0,8]
[0,0,0,0,0,0,0,0,0,0,7,0,19,0,0,8]
[0,0,0,0,0,0,0,0,0,0,7,0,19,0,0,8]
[0,0,0,0,0,0,0,0,0,0,7,0,19,0,0,8]
[0,0,0,0,0,0,0,0,0,0,7,0,19,0,0,8]
[0,0,0,0,0,0,0,0,0,0,7,0,19,0,0,8]
[0,0,0,0,0,0,0,0,0,0,7,0,19,0,0,8]
[0,0,0,0,0,0,0,0,0,0,7,0,19,0,0,8]
[0,0,0,0,0,0,0,0,0,0,7,0,19,0,0,8]
[0,0,0,0,0,0,0,0,0,0,7,0,19,0,0,8]
[0,0,0,0,0,0,0,0,0,0,7,0,19,0,0,8]
[0,0,0,0,0,0,0,0,0,0,7,0,19,0,0,8]
[0,0,0,0,0,0,0,0,0,0,7,0,19,0,0,8]
[0,0,0,0,0,0,0,0,0,0,7,0,19,0,0,8]
[0,0,0,0,0,0,0,0,0,0,7,0,19,0,0,8]
[0,0,0,0,0,0,0,0,0,0,7,0,19,0,0,8]
[0,0,0,0,0,0,0,0,0,0,7,0,19,0,0,8]
[0,0,0,0,0,0,0,0,0,0,7,0,19,0,0,8]
[0,0,0,0,0,0,0,0,0,0,7,0,19,0,0,8]
[0,0,0,0,0,0,0,0,0,0,7,0,19,0,0,8]
[0,0,0,0,0,0,0,0,0,0,7,0,19,0,0,8]
[0,0,0,0,0,0,0,0,0,0,7,0,19,0,0,8]
[0,0,0,0,0,0,0,0,0,0,7,0,19,0,0,8]
[0,0,0,0,0,0,0,0,0,0,7,0,19,0,0,8]
[0,0,0,0,0,0,0,0,0,0,7,0,19,0,0,8]
[0,0,0,0,0,0,0,0,0,0,7,0,19,0,0,8]
[0,0,0,0,0,0,0,0,0,0,7,0,19,0,0,8]
[0,0,0,0,0,0,0,0,0,0,7,0,19,0,0,8]
[0,37,35,0,29,29,0,0,32,0,0,0,28,9,33,0]
[75,123,70,0,139,77,0,0,145,0,31,0,61,6,148,0]
[29,183,30,24,165,46,69,0,215,0,170,0,56,0,198,0]
[0,207,17,19,80,0,147,0,214,0,224,0,13,0,168,0]
[0,148,0,76,53,0,131,0,152,0,218,0,10,0,114,0]
[0,96,0,10,0,0,114,0,76,0,150,0,0,0,37,0]
[0,32,0,3,0,0,40,0,21,6,76,0,7,0,7,0]
[0,8,0,0,0,0,16,0,0,5,32,0,6,0,0,0]
[0,0,0,0,0,0,0,0,0,0,7,0,19,0,0,8]
[0,0,0,0,0,0,0,0,0,0,7,0,19,0,0,8]
[0,0,0,0,0,0,0,0,0,0,7,0,19,0,0,8]
[0,0,0,0,0,0,0,0,0,0,7,0,19,0,0,8]
[0,0,0,0,0,0,0,0,0,0,7,0,19,0,0,8]
[0,0,0,0,0,0,0,0,0,0,7,0,19,0,0,8]
[0,0,0,0,0,0,0,0,0,0,7,0,19,0,0,8]
[0,0,0,0,0,0,0,0,0,0,7,0,19,0,0,8]
[0,0,0,0,0,0,0,0,0,0,7,0,19,0,0,8]
[0,0,0,0,0,0,0,0,0,0,7,0,19,0,0,8]
[0,0,0,0,0,0,0,0,0,0,7,0,19,0,0,8]
[0,0,0,0,0,0,0,0,0,0,7,0,19,0,0,8]
[0,0,0,0,0,0,0,0,0,0,7,0,19,0,0,8]
[0,0,0,0,0,0,0,0,0,0,7,0,19,0,0,8]
[0,0,0,0,0,0,0,0,0,0,7,0,19,0,0,8]
[0,0,0,0,0,0,0,0,0,0,7,0,19,0,0,8]
[0,0,0,0,0,0,0,0,0,0,7,0,19,0,0,8]
[0,0,0,0,0,0,0,0,0,0,7,0,19,0,0,8]
[0,0,0,0,0,0,0,0,0,0,7,0,19,0,0,8]
[0,0,0,0,0,0,0,0,0,0,7,0,19,0,0,8]
[71,90,96,0,91,119,0,0,57,0,0,33,63,80,129,0]
[135,228,75,140,282,175,0,128,118,0,51,0,182,13,305,0]
[0,441,0,201,137,0,84,0,191,0,281,0,83,0,191,0]
[0,495,0,201,105,0,82,0,265,0,290,0,0,0,93,0]
[0,494,0,125,102,0,82,0,314,0,339,0,0,0,99,0]
[0,432,0,98,117,0,126,0,363,0,319,0,0,0,120,0]
[0,347,0,79,108,0,169,0,321,0,334,0,0,0,176,0]
[0,289,2,30,92,0,180,0,296,0,280,0,0,0,181,0]
[0,252,32,22,123,17,159,0,269,0,252,0,24,0,220,0]
[0,252,32,22,123,17,159,0,269,0,252,0,24,0,220,0]
[0,252,32,22,123,17,159,0,269,0,252,0,24,0,220,0]
[0,252,32,22,123,17,159,0,269,0,252,0,24,0,220,0]
[0,252,32,22,123,17,159,0,269,0,252,0,24,0,220,0]
[0,252,32,22,123,17,159,0,269,0,252,0,24,0,220,0]
[0,238,18,43,113,6,161,0,253,0,258,0,21,0,205,0]
[0,167,0,105,43,0,165,0,168,0,261,0,0,0,120,0]
[0,81,0,32,0,0,130,0,54,42,165,0,0,0,10,0]
[0,15,0,0,0,0,29,0,0,11,43,0,0,0,0,0]
[0,0,0,0,0,0,0,0,0,0,7,0,19,0,0,8]
[0,0,0,0,0,0,0,0,0,0,7,0,19,0,0,8]
[0,0,0,0,0,0,0,0,0,0,7,0,19,0,0,8]
[0,0,0,0,0,0,0,0,0,0,7,0,19,0,0,8]
[0,0,0,0,0,0,0,0,0,0,7,0,19,0,0,8]
[0,0,0,0,0,0,0,0,0,0,7,0,19,0,0,8]
[0,0,0,0,0,0,0,0,0,0,7,0,19,0,0,8]
[0,0,0,0,0,0,0,0,0,0,7,0,19,0,0,8]
[0,0,0,0,0,0,0,0,0,0,7,0,19,0,0,8]
[0,0,0,0,0,0,0,0,0,0,7,0,19,0,0,8]
[16,0,0,32,11,142,53,149,0,0,0,99,49,118,64,0]
[0,84,10,10,17,65,0,289,0,75,0,129,72,197,81,0]
[0,195,0,98,1,0,0,273,0,203,0,122,0,17,0,0]
[0,154,0,77,0,0,0,120,0,180,0,232,0,29,0,0]
[0,243,0,135,69,0,0,142,0,88,0,194,0,0,0,0]
[0,329,0,190,94,0,0,19,0,14,77,207,0,0,0,0]
[0,479,0,216,126,0,0,0,144,0,192,98,0,0,10,0]
[0,485,0,276,100,0,14,0,186,0,263,60,0,0,25,0]
[0,505,0,220,74,0,61,0,203,0,258,62,0,0,60,0]
[0,505,0,243,116,0,42,0,217,0,259,37,16,0,83,0]
[0,517,0,247,99,0,65,0,223,0,279,37,5,0,80,0]
[0,515,0,250,97,0,65,0,221,0,280,37,5,0,78,0]
[0,502,0,262,86,0,66,0,206,0,282,38,2,0,64,0]
[0,505,0,223,80,0,58,0,205,0,258,58,0,0,63,0]
[0,513,0,221,111,0,40,0,235,0,277,21,7,0,75,0]
[0,471,0,209,46,0,64,0,264,44,372,0,0,0,0,0]
[0,276,0,144,0,0,118,0,187,129,299,0,0,0,0,0]
[0,77,0,0,0,0,79,0,39,57,102,0,0,0,0,0]
[0,0,0,0,0,0,0,0,0,0,7,0,19,0,0,8]
[0,0,0,0,0,0,0,0,0,0,7,0,19,0,0,8]
[0,0,0,0,0,0,0,0,0,0,7,0,19,0,0,8]
[0,0,0,0,0,0,0,0,0,0,7,0,19,0,0,8]
[0,0,0,0,0,0,0,0,0,0,7,0,19,0,0,8]
[0,0,0,0,0,0,0,0,0,0,7,0,19,0,0,8]
[0,0,0,0,0,0,0,0,0,0,7,0,19,0,0,8]
[0,0,0,0,0,0,0,0,0,0,7,0,19,0,0,8]
[0,0,0,0,0,0,0,0,0,0,7,0,19,0,0,8]
[0,0,0,0,0,0,0,0,0,0,7,0,19,0,0,8]
[0,0,0,0,0,74,94,99,0,55,0,5,0,133,0,0]
[41,0,22,0,0,0,68,324,0,126,0,0,0,281,0,0]
[23,0,0,0,0,0,0,185,0,140,0,17,0,314,0,0]
[55,0,0,0,0,0,0,193,0,134,0,42,0,302,0,0]
[33,0,0,0,0,0,0,229,0,152,0,84,0,349,0,0]
[25,0,0,0,0,0,0,267,0,181,0,158,0,323,0,0]
[20,0,0,0,0,0,0,258,0,169,0,217,0,258,0,0]
[0,0,0,68,0,0,0,223,0,242,0,206,0,117,0,0]
[0,40,0,0,0,0,0,194,0,220,0,241,0,113,0,0]
[1,43,0,43,0,0,0,261,0,197,0,205,0,128,0,0]
[0,79,0,52,0,0,0,212,0,224,0,212,0,86,0,0]
[0,76,0,54,0,0,0,211,0,232,0,209,0,82,0,0]
[0,55,0,58,0,0,0,202,0,266,0,199,0,67,0,0]
[43,126,0,0,0,0,0,165,0,48,0,250,0,172,0,0]
[147,224,0,79,212,0,0,259,11,0,0,77,0,94,73,0]
[0,329,0,240,69,0,0,0,38,151,259,12,0,0,0,0]
[0,223,0,145,0,0,0,0,10,192,278,54,0,0,0,0]
[0,70,0,0,0,0,0,0,24,63,71,23,0,0,0,0]
[0,0,0,0,0,0,0,0,0,0,7,0,19,0,0,8]
[0,0,0,0,0,0,0,0,0,0,7,0,19,0,0,8]
[0,0,0,0,0,0,0,0,0,0,7,0,19,0,0,8]
[0,0,0,0,0,0,0,0,0,0,7,0,19,0,0,8]
[0,0,0,0,0,0,0,0,0,0,7,0,19,0,0,8]
[0,0,0,0,0,0,0,0,0,0,7,0,19,0,0,8]
[0,0,0,0,0,0,0,0,0,0,7,0,19,0,0,8]
[0,0,0,0,0,0,0,0,0,0,7,0,19,0,0,8]
[0,0,0,0,0,0,0,0,0,0,7,0,19,0,0,8]
[0,0,0,0,0,0,0,0,0,0,7,0,19,0,0,8]
[0,0,0,0,0,11,17,1,0,8,0,0,0,21,0,0]
[0,0,0,0,0,0,32,71,25,25,0,0,0,86,0,0]
[7,0,0,0,4,0,0,54,0,12,0,0,0,114,1,0]
[0,0,0,0,0,5,0,5,0,12,0,0,0,135,0,1]
[10,0,0,0,0,0,21,81,0,33,0,0,0,171,0,0]
[34,0,0,0,0,0,31,127,0,50,0,0,0,258,0,0]
[59,0,0,0,0,0,17,193,0,73,0,0,0,342,9,0]
[36,0,0,0,0,0,0,130,0,84,0,0,0,330,0,0]
[63,0,0,0,0,0,0,135,0,79,0,0,0,321,0,1]
[43,0,0,0,0,0,0,178,0,99,0,0,0,365,0,0]
[47,0,0,0,0,0,0,160,0,111,0,3,0,330,0,0]
[46,0,0,0,0,0,0,153,0,108,0,0,0,326,0,0]
[83,0,0,0,5,0,0,97,0,10,0,0,0,329,0,0]
[232,0,0,0,157,116,0,231,0,0,0,35,0,425,192,0]
[94,44,0,39,197,31,0,271,0,0,0,0,0,328,266,0]
[0,186,0,146,0,0,0,0,0,265,217,0,0,0,0,0]
[0,82,0,24,0,0,0,0,0,174,129,90,0,0,0,0]
[0,0,0,2,0,0,0,0,0,12,10,55,0,0,0,77]
[0,0,0,0,0,0,0,0,0,0,7,0,19,0,0,8]
[0,0,0,0,0,0,0,0,0,0,7,0,19,0,0,8]
[0,0,0,0,0,0,0,0,0,0,7,0,19,0,0,8]
[0,0,0,0,0,0,0,0,0,0,7,0,19,0,0,8]
[0,0,0,0,0,0,0,0,0,0,7,0,19,0,0,8]
[0,0,0,0,0,0,0,0,0,0,7,0,19,0,0,8]
[0,0,0,0,0,0,0,0,0,0,7,0,19,0,0,8]
[0,0,0,0,0,0,0,0,0,0,7,0,19,0,0,8]
[0,0,0,0,0,0,0,0,0,0,7,0,19,0,0,8]
[0,0,0,0,0,0,0,0,0,0,7,0,19,0,0,8]
[0,0,0,0,0,0,0,0,0,0,7,0,19,0,0,8]
[0,0,0,0,0,0,0,0,0,0,7,0,19,0,0,8]
[0,0,0,0,0,0,0,0,0,0,7,0,19,0,0,8]
[0,0,0,0,0,0,0,0,0,0,7,0,19,0,0,8]
[0,0,0,0,0,0,0,0,0,0,7,0,19,0,0,8]
[0,0,0,0,0,1,0,0,0,0,2,0,12,0,0,0]
[0,0,0,0,0,0,15,15,1,9,0,0,0,30,0,0]
[0,0,23,0,10,0,0,27,0,0,0,0,0,32,0,4]
[0,0,0,0,0,22,0,0,0,2,0,0,0,55,0,5]
[0,0,0,0,0,0,6,47,3,13,0,0,0,63,0,0]
[0,0,0,0,0,0,0,14,0,6,0,0,0,85,0,2]
[0,0,0,0,6,0,0,7,0,0,0,0,0,88,5,0]
[110,41,91,0,128,108,0,6,34,0,0,6,0,146,162,0]
[143,72,0,45,200,252,95,217,77,0,0,0,68,198,294,0]
[0,265,0,89,13,0,165,243,129,209,161,0,0,72,98,0]
[0,156,0,0,0,0,0,0,0,272,167,17,0,0,0,0]
[0,0,0,0,0,0,0,0,0,70,8,69,0,0,0,84]
[0,0,0,0,6,13,0,0,0,0,4,21,0,8,0,59]
[0,0,0,0,0,0,0,0,0,0,7,0,19,0,0,8]
[0,0,0,0,0,0,0,0,0,0,7,0,19,0,0,8]
[0,0,0,0,0,0,0,0,0,0,7,0,19,0,0,8]
[0,0,0,0,0,0,0,0,0,0,7,0,19,0,0,8]
[0,0,0,0,0,0,0,0,0,0,7,0,19,0,0,8]
[0,0,0,0,0,0,0,0,0,0,7,0,19,0,0,8]
[0,0,0,0,0,0,0,0,0,0,7,0,19,0,0,8]
[0,0,0,0,0,0,0,0,0,0,7,0,19,0,0,8]
[0,0,0,0,0,0,0,0,0,0,7,0,19,0,0,8]
[0,0,0,0,0,0,0,0,0,0,7,0,19,0,0,8]
[0,0,0,0,0,0,0,0,0,0,7,0,19,0,0,8]
[0,0,0,0,0,0,0,0,0,0,7,0,19,0,0,8]
[0,0,0,0,0,0,0,0,0,0,7,0,19,0,0,8]
[0,0,0,0,0,0,0,0,0,0,7,0,19,0,0,8]
[0,0,0,0,0,0,0,0,0,0,7,0,19,0,0,8]
[0,0,0,0,0,0,0,0,0,0,7,0,19,0,0,8]
[0,0,0,0,0,0,0,0,0,0,7,0,19,0,0,8]
[0,0,0,0,0,0,0,0,0,0,7,0,19,0,0,8]
[0,0,0,0,0,0,0,0,0,0,7,0,19,0,0,8]
[0,0,0,0,0,0,0,0,0,0,7,0,19,0,0,8]
[0,0,0,0,0,0,0,0,0,0,7,0,19,0,0,8]
[20,56,55,0,49,56,0,0,43,0,0,0,38,31,63,0]
[142,105,43,24,188,225,49,157,71,0,0,22,115,124,254,0]
[1,261,0,64,111,75,130,225,118,0,93,0,55,134,235,0]
[0,326,0,50,0,0,57,98,187,266,234,0,0,0,0,0]
[0,85,0,0,0,0,0,0,0,177,125,9,0,0,0,0]
[0,0,0,9,0,0,0,0,0,9,21,70,0,0,0,82]
[0,0,0,0,0,3,0,0,0,0,6,0,11,0,0,16]
[0,0,0,0,0,0,0,0,0,0,7,0,19,0,0,8]
[0,0,0,0,0,0,0,0,0,0,7,0,19,0,0,8]
[0,0,0,0,0,0,0,0,0,0,7,0,19,0,0,8]
[0,0,0,0,0,0,0,0,0,0,7,0,19,0,0,8]
[0,0,0,0,0,0,0,0,0,0,7,0,19,0,0,8]
[0,0,0,0,0,0,0,0,0,0,7,0,19,0,0,8]
[0,0,0,0,0,0,0,0,0,0,7,0,19,0,0,8]
[0,0,0,0,0,0,0,0,0,0,7,0,19,0,0,8]
[0,0,0,0,0,0,0,0,0,0,7,0,19,0,0,8]
[0,0,0,0,0,0,0,0,0,0,7,0,19,0,0,8]
[0,0,0,0,0,0,0,0,0,0,7,0,19,0,0,8]
[0,0,0,0,0,0,0,0,0,0,7,0,19,0,0,8]
[0,0,0,0,0,0,0,0,0,0,7,0,19,0,0,8]
[0,0,0,0,0,0,0,0,0,0,7,0,19,0,0,8]
[0,0,0,0,0,0,0,0,0,0,7,0,19,0,0,8]
[0,0,0,0,0,0,0,0,0,0,7,0,19,0,0,8]
[0,0,0,0,0,0,0,0,0,0,7,0,19,0,0,8]
[0,0,0,0,0,0,0,0,0,0,7,0,19,0,0,8]
[0,0,0,0,0,0,0,0,0,0,7,0,19,0,0,8]
[0,0,0,0,0,0,0,0,0,0,7,0,19,0,0,8]
[0,24,23,0,19,19,0,0,18,0,0,0,25,1,19,0]
[112,109,86,0,147,161,8,41,87,0,0,11,85,89,193,0]
[94,171,0,63,175,203,127,226,129,0,27,0,102,149,288,0]
[0,279,0,134,0,0,165,250,122,254,158,0,0,28,44,0]
[0,173,0,7,0,0,0,0,0,291,153,64,0,0,0,0]
[0,0,0,6,0,0,0,0,0,83,12,105,0,0,0,100]
[0,0,0,0,0,0,0,0,0,0,2,16,0,0,0,54]
[0,0,0,0,0,0,0,0,0,0,7,0,19,0,0,8]
[0,0,0,0,0,0,0,0,0,0,7,0,19,0,0,8]
[0,0,0,0,0,0,0,0,0,0,7,0,19,0,0,8]
[0,0,0,0,0,0,0,0,0,0,7,0,19,0,0,8]
[0,0,0,0,0,0,0,0,0,0,7,0,19,0,0,8]
[0,0,0,0,0,0,0,0,0,0,7,0,19,0,0,8]
[0,0,0,0,0,0,0,0,0,0,7,0,19,0,0,8]
[0,0,0,0,0,0,0,0,0,0,7,0,19,0,0,8]
[0,0,0,0,0,0,0,0,0,0,7,0,19,0,0,8]
[0,0,0,0,0,0,0,0,0,0,7,0,19,0,0,8]
[0,0,0,0,0,0,0,0,0,0,7,0,19,0,0,8]
[0,0,0,0,0,0,0,0,0,0,7,0,19,0,0,8]
[0,0,0,0,0,0,0,0,0,0,7,0,19,0,0,8]
[0,0,0,0,0,0,0,0,0,0,7,0,19,0,0,8]
[0,0,0,0,0,0,0,0,0,0,7,0,19,0,0,8]
[0,0,0,0,0,0,0,0,0,0,7,0,19,0,0,8]
[0,0,0,0,0,0,0,0,0,0,7,0,19,0,0,8]
[0,0,0,0,0,0,0,0,0,0,7,0,19,0,0,8]
[0,0,0,0,0,0,0,0,0,0,7,0,19,0,0,8]
[0,0,0,0,0,0,0,0,0,0,7,0,19,0,0,8]
[0,0,0,0,0,0,0,0,0,0,7,0,19,0,0,8]
[26,50,55,0,54,74,0,0,22,0,0,12,47,43,74,0]
[126,105,23,16,165,229,54,185,53,0,0,48,117,151,242,0]
[0,268,0,83,90,0,112,270,115,61,90,0,0,107,175,0]
[0,246,0,6,0,0,38,57,113,318,206,0,0,0,0,0]
[0,24,0,0,0,0,0,0,0,164,33,11,0,0,0,0]
[0,0,0,0,22,0,0,0,0,0,0,61,0,46,0,120]
[0,0,0,0,2,11,0,0,0,0,6,0,0,0,0,27]
[0,0,0,0,0,0,0,0,0,0,7,0,19,0,0,8]
[0,0,0,0,0,0,0,0,0,0,7,0,19,0,0,8]
[0,0,0,0,0,0,0,0,0,0,7,0,19,0,0,8]
[0,0,0,0,0,0,0,0,0,0,7,0,19,0,0,8]
[0,0,0,0,0,0,0,0,0,0,7,0,19,0,0,8]
[0,0,0,0,0,0,0,0,0,0,7,0,19,0,0,8]
[0,0,0,0,0,0,0,0,0,0,7,0,19,0,0,8]
[0,0,0,0,0,0,0,0,0,0,7,0,19,0,0,8]
[0,0,0,0,0,0,0,0,0,0,7,0,19,0,0,8]
[0,0,0,0,0,0,0,0,0,0,7,0,19,0,0,8]
[0,0,0,0,0,0,0,0,0,0,7,0,19,0,0,8]
[0,0,0,0,0,0,0,0,0,0,7,0,19,0,0,8]
[0,0,0,0,0,0,0,0,0,0,7,0,19,0,0,8]
[0,0,0,0,0,0,0,0,0,0,7,0,19,0,0,8]
[0,0,0,0,0,0,0,0,0,0,7,0,19,0,0,8]
[0,0,0,0,0,0,0,0,0,0,7,0,19,0,0,8]
[0,0,0,0,0,0,0,0,0,0,7,0,19,0,0,8]
[0,0,0,0,0,0,0,0,0,0,7,0,19,0,0,8]
[0,0,0,0,0,0,0,0,0,0,7,0,19,0,0,8]
[0,0,0,0,0,0,0,0,0,0,7,0,19,0,0,8]
[0,0,0,0,0,1,0,0,0,0,5,0,19,0,0,5]
[74,49,55,0,73,148,21,49,33,0,0,52,54,120,128,0]
[132,127,0,0,167,191,84,294,98,0,0,0,80,212,261,0]
[0,240,0,85,10,0,103,244,109,233,144,0,0,49,30,0]
[0,142,0,0,0,0,0,0,0,249,152,25,0,0,0,0]
[0,0,0,6,0,0,0,0,0,44,6,86,0,0,0,107]
[0,0,0,0,3,12,0,0,0,0,5,0,0,1,0,37]
[0,0,0,0,0,0,0,0,0,0,7,0,19,0,0,8]
[0,0,0,0,0,0,0,0,0,0,7,0,19,0,0,8]
[0,0,0,0,0,0,0,0,0,0,7,0,19,0,0,8]
[0,0,0,0,0,0,0,0,0,0,7,0,19,0,0,8]
[0,0,0,0,0,0,0,0,0,0,7,0,19,0,0,8]
[0,0,0,0,0,0,0,0,0,0,7,0,19,0,0,8]
[0,0,0,0,0,0,0,0,0,0,7,0,19,0,0,8]
[0,0,0,0,0,0,0,0,0,0,7,0,19,0,0,8]
[0,0,0,0,0,0,0,0,0,0,7,0,19,0,0,8]
[0,0,0,0,0,0,0,0,0,0,7,0,19,0,0,8]
[0,0,0,0,0,0,0,0,0,0,7,0,19,0,0,8]
[0,0,0,0,0,0,0,0,0,0,7,0,19,0,0,8]
[0,0,0,0,0,0,0,0,0,0,7,0,19,0,0,8]
[0,0,0,0,0,0,0,0,0,0,7,0,19,0,0,8]
[0,0,0,0,0,0,0,0,0,0,7,0,19,0,0,8]
[0,0,0,0,0,0,0,0,0,0,7,0,19,0,0,8]
[0,0,0,0,0,0,0,0,0,0,7,0,19,0,0,8]
[0,0,0,0,0,0,0,0,0,0,7,0,19,0,0,8]
[0,0,0,0,0,0,0,0,0,0,7,0,19,0,0,8]
[0,0,0,0,0,0,0,0,0,0,7,0,19,0,0,8]
[0,0,0,0,0,0,0,0,0,0,7,0,19,0,0,8]
[17,57,54,0,46,48,0,0,50,0,0,0,34,26,58,0]
[146,78,21,0,165,226,72,152,102,0,0,1,84,149,240,0]
[13,209,0,67,112,38,146,276,114,25,74,0,16,157,234,0]
[0,234,0,34,0,0,33,35,78,295,218,0,0,0,0,0]
[0,30,0,0,0,0,0,0,0,146,56,46,0,0,0,0]
[0,0,0,4,10,0,0,0,0,0,0,63,0,9,0,103]
[0,0,0,0,0,0,0,0,0,0,6,0,16,0,0,10]
[0,0,0,0,0,0,0,0,0,0,7,0,19,0,0,8]
[0,0,0,0,0,0,0,0,0,0,7,0,19,0,0,8]
[0,0,0,0,0,0,0,0,0,0,7,0,19,0,0,8]
[0,0,0,0,0,0,0,0,0,0,7,0,19,0,0,8]
[0,0,0,0,0,0,0,0,0,0,7,0,19,0,0,8]
[0,0,0,0,0,0,0,0,0,0,7,0,19,0,0,8]
[0,0,0,0,0,0,0,0,0,0,7,0,19,0,0,8]
[0,0,0,0,0,0,0,0,0,0,7,0,19,0,0,8]
[0,0,0,0,0,0,0,0,0,0,7,0,19,0,0,8]
[0,0,0,0,0,0,0,0,0,0,7,0,19,0,0,8]
[0,0,0,0,0,0,0,0,0,0,7,0,19,0,0,8]
[0,0,0,0,0,0,0,0,0,0,7,0,19,0,0,8]
[0,0,0,0,0,0,0,0,0,0,7,0,19,0,0,8]
[0,0,0,0,0,0,0,0,0,0,7,0,19,0,0,8]
[0,0,0,0,0,0,0,0,0,0,7,0,19,0,0,8]
[0,0,0,0,0,0,0,0,0,0,7,0,19,0,0,8]
[0,0,0,0,0,0,0,0,0,0,7,0,19,0,0,8]
[0,0,0,0,0,0,0,0,0,0,7,0,19,0,0,8]
[0,0,0,0,0,0,0,0,0,0,7,0,19,0,0,8]
[0,0,0,0,0,0,0,0,0,0,7,0,19,0,0,8]
[0,33,31,0,26,25,0,0,27,0,0,0,27,6,28,0]
[118,123,91,0,166,160,4,40,99,0,0,0,93,74,207,0]
[69,181,0,103,171,196,131,195,118,0,54,0,113,114,283,0]
[0,294,0,96,0,0,162,188,146,250,195,0,0,0,16,0]
[0,175,0,0,0,0,0,0,0,246,151,4,0,0,0,0]
[0,0,0,5,0,0,0,0,0,40,5,82,0,0,0,106]
[0,0,0,0,3,15,0,0,0,0,6,0,0,4,0,34]
[0,0,0,0,0,0,0,0,0,0,7,0,19,0,0,8]
[0,0,0,0,0,0,0,0,0,0,7,0,19,0,0,8]
[0,0,0,0,0,0,0,0,0,0,7,0,19,0,0,8]
[0,0,0,0,0,0,0,0,0,0,7,0,19,0,0,8]
[0,0,0,0,0,0,0,0,0,0,7,0,19,0,0,8]
[0,0,0,0,0,0,0,0,0,0,7,0,19,0,0,8]
[0,0,0,0,0,0,0,0,0,0,7,0,19,0,0,8]
[0,0,0,0,0,0,0,0,0,0,7,0,19,0,0,8]
[0,0,0,0,0,0,0,0,0,0,7,0,19,0,0,8]
[0,0,0,0,0,0,0,0,0,0,7,0,19,0,0,8]
[0,0,0,0,0,0,0,0,0,0,7,0,19,0,0,8]
[0,0,0,0,0,0,0,0,0,0,7,0,19,0,0,8]
[0,0,0,0,0,0,0,0,0,0,7,0,19,0,0,8]
[0,0,0,0,0,0,0,0,0,0,7,0,19,0,0,8]
[0,0,0,0,0,0,0,0,0,0,7,0,19,0,0,8]
[0,0,0,0,0,0,0,0,0,0,7,0,19,0,0,8]
[0,0,0,0,0,0,0,0,0,0,7,0,19,0,0,8]
[0,0,0,0,0,0,0,0,0,0,7,0,19,0,0,8]
[0,0,0,0,0,0,0,0,0,0,7,0,19,0,0,8]
[0,0,0,0,0,0,0,0,0,0,7,0,19,0,0,8]
[0,4,4,0,4,5,0,0,0,0,3,0,21,0,0,2]
[77,99,93,0,106,116,0,0,75,0,0,12,66,69,140,0]
[134,159,9,106,226,227,72,198,106,0,0,0,141,103,300,0]
[0,304,0,102,25,0,174,181,136,116,165,0,0,52,135,0]
[0,257,0,22,0,0,17,31,101,307,202,0,0,0,0,0]
[0,21,0,0,0,0,0,0,0,136,48,47,0,0,0,7]
[0,0,0,5,8,1,0,0,0,0,0,64,0,5,0,101]
[0,0,0,0,0,0,0,0,0,0,7,0,19,0,0,8]
[0,0,0,0,0,0,0,0,0,0,7,0,19,0,0,8]
[0,0,0,0,0,0,0,0,0,0,7,0,19,0,0,8]
[0,0,0,0,0,0,0,0,0,0,7,0,19,0,0,8]
[0,0,0,0,0,0,0,0,0,0,7,0,19,0,0,8]
[0,0,0,0,0,0,0,0,0,0,7,0,19,0,0,8]
[0,0,0,0,0,0,0,0,0,0,7,0,19,0,0,8]
[0,0,0,0,0,0,0,0,0,0,7,0,19,0,0,8]
[0,0,0,0,0,0,0,0,0,0,7,0,19,0,0,8]
[0,0,0,0,0,0,0,0,0,0,7,0,19,0,0,8]
[0,0,0,0,0,0,0,0,0,0,7,0,19,0,0,8]
[0,0,0,0,0,0,0,0,0,0,7,0,19,0,0,8]
[0,0,0,0,0,0,0,0,0,0,7,0,19,0,0,8]
[0,0,0,0,0,0,0,0,0,0,7,0,19,0,0,8]
[0,0,0,0,0,0,0,0,0,0,7,0,19,0,0,8]
[0,0,0,0,0,0,0,0,0,0,7,0,19,0,0,8]
[0,0,0,0,0,0,0,0,0,0,7,0,19,0,0,8]
[0,0,0,0,0,0,0,0,0,0,7,0,19,0,0,8]
[0,0,0,0,0,0,0,0,0,0,7,0,19,0,0,8]
[0,0,0,0,0,0,0,0,0,0,7,0,19,0,0,8]
[0,0,0,0,0,0,0,0,0,0,6,0,19,0,0,7]
[56,95,90,0,80,82,0,0,89,0,0,0,46,54,105,0]
[167,140,35,88,252,227,58,168,129,0,0,0,133,82,306,0]
[0,271,0,91,62,50,197,153,125,22,149,0,30,102,224,0]
[0,282,0,83,0,0,90,166,125,296,170,0,0,0,0,0]
[0,110,0,0,0,0,0,0,0,229,116,40,0,0,0,0]
[0,0,0,0,0,0,0,0,0,29,0,76,0,0,0,116]
[0,0,0,0,3,15,0,0,0,0,6,0,0,4,0,33]
[0,0,0,0,0,0,0,0,0,0,7,0,19,0,0,8]
[0,0,0,0,0,0,0,0,0,0,7,0,19,0,0,8]
[0,0,0,0,0,0,0,0,0,0,7,0,19,0,0,8]
[0,0,0,0,0,0,0,0,0,0,7,0,19,0,0,8]
[0,0,0,0,0,0,0,0,0,0,7,0,19,0,0,8]
[0,0,0,0,0,0,0,0,0,0,7,0,19,0,0,8]
[0,0,0,0,0,0,0,0,0,0,7,0,19,0,0,8]
[0,0,0,0,0,0,0,0,0,0,7,0,19,0,0,8]
[0,0,0,0,0,0,0,0,0,0,7,0,19,0,0,8]
[0,0,0,0,0,0,0,0,0,0,7,0,19,0,0,8]
[0,0,0,0,0,0,0,0,0,0,7,0,19,0,0,8]
[0,0,0,0,0,0,0,0,0,0,7,0,19,0,0,8]
[0,0,0,0,0,0,0,0,0,0,7,0,19,0,0,8]
[0,0,0,0,0,0,0,0,0,0,7,0,19,0,0,8]
[0,0,0,0,0,0,0,0,0,0,7,0,19,0,0,8]
[0,0,0,0,0,0,0,0,0,0,7,0,19,0,0,8]
[0,0,0,0,0,0,0,0,0,0,7,0,19,0,0,8]
[0,0,0,0,0,0,0,0,0,0,7,0,19,0,0,8]
[0,0,0,0,0,0,0,0,0,0,7,0,19,0,0,8]
[0,0,0,0,0,0,0,0,0,0,7,0,19,0,0,8]
[0,13,13,0,12,13,0,0,4,0,0,0,23,0,8,0]
[113,91,89,0,140,193,14,84,28,0,0,72,100,120,199,0]
[71,217,0,89,178,183,69,242,89,0,50,14,142,134,270,0]
[0,336,0,119,0,0,138,220,178,257,169,0,0,0,0,0]
[0,142,0,0,0,0,0,0,0,297,142,30,0,0,0,0]
[0,0,0,0,0,0,0,0,0,85,0,40,0,0,0,81]
[0,0,0,0,10,16,0,0,0,0,1,52,0,17,0,89]
[0,0,0,0,0,0,0,0,0,0,7,0,19,0,0,8]
[0,0,0,0,0,0,0,0,0,0,7,0,19,0,0,8]
[0,0,0,0,0,0,0,0,0,0,7,0,19,0,0,8]
[0,0,0,0,0,0,0,0,0,0,7,0,19,0,0,8]
[0,0,0,0,0,0,0,0,0,0,7,0,19,0,0,8]
[0,0,0,0,0,0,0,0,0,0,7,0,19,0,0,8]
[0,0,0,0,0,0,0,0,0,0,7,0,19,0,0,8]
[0,0,0,0,0,0,0,0,0,0,7,0,19,0,0,8]
[0,0,0,0,0,0,0,0,0,0,7,0,19,0,0,8]
[0,0,0,0,0,0,0,0,0,0,7,0,19,0,0,8]
[0,0,0,0,0,0,0,0,0,0,7,0,19,0,0,8]
[0,0,0,0,0,0,0,0,0,0,7,0,19,0,0,8]
[0,0,0,0,0,0,0,0,0,0,7,0,19,0,0,8]
[0,0,0,0,0,0,0,0,0,0,7,0,19,0,0,8]
[0,0,0,0,0,0,0,0,0,0,7,0,19,0,0,8]
[0,0,0,0,0,0,0,0,0,0,7,0,19,0,0,8]
[0,0,0,0,0,0,0,0,0,0,7,0,19,0,0,8]
[0,0,0,0,0,0,0,0,0,0,7,0,19,0,0,8]
[0,0,0,0,0,0,0,0,0,0,7,0,19,0,0,8]
[0,0,0,0,0,0,0,0,0,0,7,0,19,0,0,8]
[0,10,9,0,8,9,0,0,2,0,0,0,22,0,4,0]
[78,112,93,0,112,103,0,0,108,0,0,0,59,56,141,0]
[150,106,0,51,199,251,134,216,141,0,0,0,95,150,300,0]
[0,258,0,110,31,0,188,260,101,168,141,0,0,113,163,0]
[0,162,0,0,0,0,0,0,0,328,148,32,0,0,0,0]
[0,7,0,0,0,0,0,0,0,144,0,35,0,0,0,25]
[0,0,0,0,17,0,0,0,0,0,0,62,0,21,0,118]
[0,0,0,0,1,8,0,0,0,0,6,0,3,0,0,23]
[0,0,0,0,0,0,0,0,0,0,7,0,19,0,0,8]
[0,0,0,0,0,0,0,0,0,0,7,0,19,0,0,8]
[0,0,0,0,0,0,0,0,0,0,7,0,19,0,0,8]
[0,0,0,0,0,0,0,0,0,0,7,0,19,0,0,8]
[0,0,0,0,0,0,0,0,0,0,7,0,19,0,0,8]
[0,0,0,0,0,0,0,0,0,0,7,0,19,0,0,8]
[0,0,0,0,0,0,0,0,0,0,7,0,19,0,0,8]
[0,0,0,0,0,0,0,0,0,0,7,0,19,0,0,8]
[0,0,0,0,0,0,0,0,0,0,7,0,19,0,0,8]
[0,0,0,0,0,0,0,0,0,0,7,0,19,0,0,8]
[0,0,0,0,0,0,0,0,0,0,7,0,19,0,0,8]
[0,0,0,0,0,0,0,0,0,0,7,0,19,0,0,8]
[0,0,0,0,0,0,0,0,0,0,7,0,19,0,0,8]
[0,0,0,0,0,0,0,0,0,0,7,0,19,0,0,8]
[0,0,0,0,0,0,0,0,0,0,7,0,19,0,0,8]
[0,0,0,0,0,0,0,0,0,0,7,0,19,0,0,8]
[0,0,0,0,0,0,0,0,0,0,7,0,19,0,0,8]
[0,0,0,0,0,0,0,0,0,0,7,0,19,0,0,8]
[0,0,0,0,0,0,0,0,0,0,7,0,19,0,0,8]
[0,0,0,0,0,0,0,0,0,0,7,0,19,0,0,8]
[23,56,56,0,51,61,0,0,40,0,0,0,41,35,67,0]
[136,134,65,54,207,208,24,138,67,0,0,19,134,92,260,0]
[0,268,0,74,103,106,136,181,124,0,108,20,73,107,227,0]
[0,341,0,42,0,0,106,168,231,272,216,0,0,0,0,0]
[0,87,0,0,0,0,0,0,0,216,121,0,0,0,0,0]
[0,0,0,0,0,0,0,0,0,21,0,59,0,9,0,98]
[0,0,0,0,5,20,0,0,0,0,5,4,0,11,0,43]
[0,0,0,0,0,0,0,0,0,0,7,0,19,0,0,8]
[0,0,0,0,0,0,0,0,0,0,7,0,19,0,0,8]
[0,0,0,0,0,0,0,0,0,0,7,0,19,0,0,8]
[0,0,0,0,0,0,0,0,0,0,7,0,19,0,0,8]
[0,0,0,0,0,0,0,0,0,0,7,0,19,0,0,8]
[0,0,0,0,0,0,0,0,0,0,7,0,19,0,0,8]
[0,0,0,0,0,0,0,0,0,0,7,0,19,0,0,8]
[0,0,0,0,0,0,0,0,0,0,7,0,19,0,0,8]
[0,0,0,0,0,0,0,0,0,0,7,0,19,0,0,8]
[0,0,0,0,0,0,0,0,0,0,7,0,19,0,0,8]
[0,0,0,0,0,0,0,0,0,0,7,0,19,0,0,8]
[0,0,0,0,0,0,0,0,0,0,7,0,19,0,0,8]
[0,0,0,0,0,0,0,0,0,0,7,0,19,0,0,8]
[0,0,0,0,0,0,0,0,0,0,7,0,19,0,0,8]
[0,0,0,0,0,0,0,0,0,0,7,0,19,0,0,8]
[0,0,0,0,0,0,0,0,0,0,7,0,19,0,0,8]
[0,0,0,0,0,0,0,0,0,0,7,0,19,0,0,8]
[0,0,0,0,0,0,0,0,0,0,7,0,19,0,0,8]
[0,0,0,0,0,0,0,0,0,0,7,0,19,0,0,8]
[0,0,0,0,0,0,0,0,0,0,7,0,19,0,0,8]
[0,25,24,0,20,20,0,0,19,0,0,0,25,1,20,0]
[110,101,78,0,143,163,13,49,84,0,0,11,82,93,190,0]
[91,175,0,59,173,192,121,226,124,0,23,0,99,150,285,0]
[0,365,0,10,66,0,144,212,208,61,109,0,0,95,149,0]
[0,279,0,130,27,0,0,0,78,216,279,0,0,0,0,0]
[0,79,0,64,0,0,0,0,0,152,174,48,0,0,0,0]
[0,0,0,0,0,0,0,0,0,12,37,32,0,0,0,28]
[0,0,0,0,0,0,0,0,0,0,6,0,18,0,0,8]
[0,0,0,0,0,0,0,0,0,0,7,0,19,0,0,8]
[0,0,0,0,0,0,0,0,0,0,7,0,19,0,0,8]
[0,0,0,0,0,0,0,0,0,0,7,0,19,0,0,8]
[0,0,0,0,0,0,0,0,0,0,7,0,19,0,0,8]
[0,0,0,0,0,0,0,0,0,0,7,0,19,0,0,8]
[0,0,0,0,0,0,0,0,0,0,7,0,19,0,0,8]
[0,0,0,0,0,0,0,0,0,0,7,0,19,0,0,8]
[0,0,0,0,0,0,0,0,0,0,7,0,19,0,0,8]
[0,0,0,0,0,0,0,0,0,0,7,0,19,0,0,8]
[0,0,0,0,0,0,0,0,0,0,7,0,19,0,0,8]
[0,0,0,0,0,0,0,0,0,0,7,0,19,0,0,8]
[0,0,0,0,0,0,0,0,0,0,7,0,19,0,0,8]
[0,0,0,0,0,0,0,0,0,0,7,0,19,0,0,8]
[0,0,0,0,0,0,0,0,0,0,7,0,19,0,0,8]
[0,0,0,0,0,0,0,0,0,0,7,0,19,0,0,8]
[0,0,0,0,0,0,0,0,0,0,7,0,19,0,0,8]
[0,0,0,0,0,0,0,0,0,0,7,0,19,0,0,8]
[0,0,0,0,0,0,0,0,0,0,7,0,19,0,0,8]
[0,0,0,0,0,0,0,0,0,0,7,0,19,0,0,8]
[0,0,0,0,0,0,0,0,0,0,7,0,19,0,0,8]
[20,44,49,0,50,71,0,0,14,0,0,13,47,39,68,0]
[120,101,24,0,152,224,52,178,49,0,0,55,111,156,231,0]
[38,294,0,28,126,10,100,269,156,0,63,0,4,135,213,0]
[0,329,0,52,46,0,70,169,153,122,103,0,0,42,30,0]
[0,262,0,157,23,0,0,0,8,218,271,0,0,0,0,0]
[0,59,0,82,0,0,0,0,0,136,168,100,0,0,0,0]
[0,0,0,0,0,0,0,0,0,15,30,4,0,0,0,9]
[0,0,0,0,0,0,0,0,0,0,7,0,19,0,0,8]
[0,0,0,0,0,0,0,0,0,0,7,0,19,0,0,8]
[0,0,0,0,0,0,0,0,0,0,7,0,19,0,0,8]
[0,0,0,0,0,0,0,0,0,0,7,0,19,0,0,8]
[0,0,0,0,0,0,0,0,0,0,7,0,19,0,0,8]
[0,0,0,0,0,0,0,0,0,0,7,0,19,0,0,8]
[0,0,0,0,0,0,0,0,0,0,7,0,19,0,0,8]
[0,0,0,0,0,0,0,0,0,0,7,0,19,0,0,8]
[0,0,0,0,0,0,0,0,0,0,7,0,19,0,0,8]
[0,0,0,0,0,0,0,0,0,0,7,0,19,0,0,8]
[0,0,0,0,0,0,0,0,0,0,7,0,19,0,0,8]
[0,0,0,0,0,0,0,0,0,0,7,0,19,0,0,8]
[0,0,0,0,0,0,0,0,0,0,7,0,19,0,0,8]
[0,0,0,0,0,0,0,0,0,0,7,0,19,0,0,8]
[0,0,0,0,0,0,0,0,0,0,7,0,19,0,0,8]
[0,0,0,0,0,0,0,0,0,0,7,0,19,0,0,8]
[0,0,0,0,0,0,0,0,0,0,7,0,19,0,0,8]
[0,0,0,0,0,0,0,0,0,0,7,0,19,0,0,8]
[0,0,0,0,0,0,0,0,0,0,7,0,19,0,0,8]
[0,0,0,0,0,0,0,0,0,0,7,0,19,0,0,8]
[0,0,0,0,0,0,0,0,0,0,7,0,19,0,0,8]
[29,4,16,0,31,111,24,57,0,0,0,46,39,93,72,0]
[119,88,17,0,110,188,68,273,49,0,0,53,58,253,211,0]
[63,264,0,25,130,0,42,331,127,60,26,0,0,151,150,0]
[0,131,0,155,0,0,22,107,0,318,126,53,0,18,0,0]
[0,123,0,0,0,0,0,0,0,263,90,99,0,0,0,0]
[0,0,0,14,0,0,0,0,0,57,0,118,0,0,0,134]
[0,0,0,0,0,0,0,0,0,0,3,1,0,0,0,39]
[0,0,0,0,0,0,0,0,0,0,7,0,19,0,0,8]
[0,0,0,0,0,0,0,0,0,0,7,0,19,0,0,8]
[0,0,0,0,0,0,0,0,0,0,7,0,19,0,0,8]
[0,0,0,0,0,0,0,0,0,0,7,0,19,0,0,8]
[0,0,0,0,0,0,0,0,0,0,7,0,19,0,0,8]
[0,0,0,0,0,0,0,0,0,0,7,0,19,0,0,8]
[0,0,0,0,0,0,0,0,0,0,7,0,19,0,0,8]
[0,0,0,0,0,0,0,0,0,0,7,0,19,0,0,8]
[0,0,0,0,0,0,0,0,0,0,7,0,19,0,0,8]
[0,0,0,0,0,0,0,0,0,0,7,0,19,0,0,8]
[0,0,0,0,0,0,0,0,0,0,7,0,19,0,0,8]
[0,0,0,0,0,0,0,0,0,0,7,0,19,0,0,8]
[0,0,0,0,0,0,0,0,0,0,7,0,19,0,0,8]
[0,0,0,0,0,0,0,0,0,0,7,0,19,0,0,8]
[0,0,0,0,0,0,0,0,0,0,7,0,19,0,0,8]
[0,0,0,0,0,0,0,0,0,0,7,0,19,0,0,8]
[0,0,0,0,0,0,0,0,0,0,7,0,19,0,0,8]
[0,0,0,0,0,0,0,0,0,0,7,0,19,0,0,8]
[0,0,0,0,0,0,0,0,0,0,7,0,19,0,0,8]
[0,0,0,0,0,0,0,0,0,0,7,0,19,0,0,8]
[0,0,0,0,0,0,0,0,0,0,7,0,19,0,0,8]
[0,0,0,0,0,78,58,104,0,40,0,36,3,88,0,0]
[0,0,0,0,0,39,69,343,0,168,0,97,0,261,0,0]
[0,0,0,0,0,0,0,345,0,264,0,136,0,250,0,0]
[0,0,0,0,0,0,0,117,0,222,0,92,0,117,0,0]
[59,0,0,0,26,0,0,13,0,60,0,0,0,46,0,123]
[0,0,0,0,29,20,0,0,0,0,0,46,0,76,0,108]
[0,0,0,0,1,10,0,0,0,0,6,0,1,0,0,26]
[0,0,0,0,0,0,0,0,0,0,7,0,19,0,0,8]
[0,0,0,0,0,0,0,0,0,0,7,0,19,0,0,8]
[0,0,0,0,0,0,0,0,0,0,7,0,19,0,0,8]
[0,0,0,0,0,0,0,0,0,0,7,0,19,0,0,8]
[0,0,0,0,0,0,0,0,0,0,7,0,19,0,0,8]
[0,0,0,0,0,0,0,0,0,0,7,0,19,0,0,8]
[0,0,0,0,0,0,0,0,0,0,7,0,19,0,0,8]
[0,0,0,0,0,0,0,0,0,0,7,0,19,0,0,8]
[0,0,0,0,0,0,0,0,0,0,7,0,19,0,0,8]
[0,0,0,0,0,0,0,0,0,0,7,0,19,0,0,8]
[0,0,0,0,0,0,0,0,0,0,7,0,19,0,0,8]
[0,0,0,0,0,0,0,0,0,0,7,0,19,0,0,8]
[0,0,0,0,0,0,0,0,0,0,7,0,19,0,0,8]
[0,0,0,0,0,0,0,0,0,0,7,0,19,0,0,8]
[0,0,0,0,0,0,0,0,0,0,7,0,19,0,0,8]
[0,0,0,0,0,0,0,0,0,0,7,0,19,0,0,8]
[0,0,0,0,0,0,0,0,0,0,7,0,19,0,0,8]
[0,0,0,0,0,0,0,0,0,0,7,0,19,0,0,8]
[0,0,0,0,0,0,0,0,0,0,7,0,19,0,0,8]
[0,0,0,0,0,0,0,0,0,0,7,0,19,0,0,8]
[0,0,0,0,0,0,0,0,0,0,7,0,19,0,0,8]
[0,0,0,0,0,23,40,19,5,21,0,0,0,53,0,0]
[18,0,0,0,0,0,90,160,66,63,0,0,0,200,0,0]
[74,0,1,0,0,0,11,178,0,50,0,0,0,294,10,0]
[41,0,0,0,73,0,0,0,0,0,0,0,0,209,37,100]
[0,0,0,0,25,48,0,0,0,0,0,51,0,75,0,100]
[0,0,0,0,0,3,0,0,0,0,6,0,11,0,0,16]
[0,0,0,0,0,0,0,0,0,0,7,0,19,0,0,8]
[0,0,0,0,0,0,0,0,0,0,7,0,19,0,0,8]
[0,0,0,0,0,0,0,0,0,0,7,0,19,0,0,8]
[0,0,0,0,0,0,0,0,0,0,7,0,19,0,0,8]
[0,0,0,0,0,0,0,0,0,0,7,0,19,0,0,8]
[0,0,0,0,0,0,0,0,0,0,7,0,19,0,0,8]
[0,0,0,0,0,0,0,0,0,0,7,0,19,0,0,8]
[0,0,0,0,0,0,0,0,0,0,7,0,19,0,0,8]
[0,0,0,0,0,0,0,0,0,0,7,0,19,0,0,8]
[0,0,0,0,0,0,0,0,0,0,7,0,19,0,0,8]
[0,0,0,0,0,0,0,0,0,0,7,0,19,0,0,8]
[0,0,0,0,0,0,0,0,0,0,7,0,19,0,0,8]
[0,0,0,0,0,0,0,0,0,0,7,0,19,0,0,8]
[]
[]
[]
["最大値"]
[{"$f":"MAX(A1:P784)","v":517}]

{"sheet":"outCh0","index":7,"n_rows":30,"n_cols":30,"rows_kept":30,"cut":false,"hidden":false,"merged":[]}
[0,0,0,0,0,0,0,0,0,0,0,0,0,0,0,0,0,0,0,0,0,0,0,0,0,0,0,0,0,0]
[0,{"$f":"OFFSET(Relu!$A$1, (ROW()-2)*28+COLUMN()-COLUMN($B$2), 0)","v":0},{"$f":"OFFSET(Relu!$A$1, (ROW()-2)*28+COLUMN()-COLUMN($B$2), 0)","v":0},{"$f":"OFFSET(Relu!$A$1, (ROW()-2)*28+COLUMN()-COLUMN($B$2), 0)","v":0},{"$f":"OFFSET(Relu!$A$1, (ROW()-2)*28+COLUMN()-COLUMN($B$2), 0)","v":0},{"$f":"OFFSET(Relu!$A$1, (ROW()-2)*28+COLUMN()-COLUMN($B$2), 0)","v":0},{"$f":"OFFSET(Relu!$A$1, (ROW()-2)*28+COLUMN()-COLUMN($B$2), 0)","v":0},{"$f":"OFFSET(Relu!$A$1, (ROW()-2)*28+COLUMN()-COLUMN($B$2), 0)","v":0},{"$f":"OFFSET(Relu!$A$1, (ROW()-2)*28+COLUMN()-COLUMN($B$2), 0)","v":0},{"$f":"OFFSET(Relu!$A$1, (ROW()-2)*28+COLUMN()-COLUMN($B$2), 0)","v":0},{"$f":"OFFSET(Relu!$A$1, (ROW()-2)*28+COLUMN()-COLUMN($B$2), 0)","v":0},{"$f":"OFFSET(Relu!$A$1, (ROW()-2)*28+COLUMN()-COLUMN($B$2), 0)","v":0},{"$f":"OFFSET(Relu!$A$1, (ROW()-2)*28+COLUMN()-COLUMN($B$2), 0)","v":0},{"$f":"OFFSET(Relu!$A$1, (ROW()-2)*28+COLUMN()-COLUMN($B$2), 0)","v":0},{"$f":"OFFSET(Relu!$A$1, (ROW()-2)*28+COLUMN()-COLUMN($B$2), 0)","v":0},{"$f":"OFFSET(Relu!$A$1, (ROW()-2)*28+COLUMN()-COLUMN($B$2), 0)","v":0},{"$f":"OFFSET(Relu!$A$1, (ROW()-2)*28+COLUMN()-COLUMN($B$2), 0)","v":0},{"$f":"OFFSET(Relu!$A$1, (ROW()-2)*28+COLUMN()-COLUMN($B$2), 0)","v":0},{"$f":"OFFSET(Relu!$A$1, (ROW()-2)*28+COLUMN()-COLUMN($B$2), 0)","v":0},{"$f":"OFFSET(Relu!$A$1, (ROW()-2)*28+COLUMN()-COLUMN($B$2), 0)","v":0},{"$f":"OFFSET(Relu!$A$1, (ROW()-2)*28+COLUMN()-COLUMN($B$2), 0)","v":0},{"$f":"OFFSET(Relu!$A$1, (ROW()-2)*28+COLUMN()-COLUMN($B$2), 0)","v":0},{"$f":"OFFSET(Relu!$A$1, (ROW()-2)*28+COLUMN()-COLUMN($B$2), 0)","v":0},{"$f":"OFFSET(Relu!$A$1, (ROW()-2)*28+COLUMN()-COLUMN($B$2), 0)","v":0},{"$f":"OFFSET(Relu!$A$1, (ROW()-2)*28+COLUMN()-COLUMN($B$2), 0)","v":0},{"$f":"OFFSET(Relu!$A$1, (ROW()-2)*28+COLUMN()-COLUMN($B$2), 0)","v":0},{"$f":"OFFSET(Relu!$A$1, (ROW()-2)*28+COLUMN()-COLUMN($B$2), 0)","v":0},{"$f":"OFFSET(Relu!$A$1, (ROW()-2)*28+COLUMN()-COLUMN($B$2), 0)","v":0},{"$f":"OFFSET(Relu!$A$1, (ROW()-2)*28+COLUMN()-COLUMN($B$2), 0)","v":0},0]
[0,{"$f":"OFFSET(Relu!$A$1, (ROW()-2)*28+COLUMN()-COLUMN($B$2), 0)","v":0},{"$f":"OFFSET(Relu!$A$1, (ROW()-2)*28+COLUMN()-COLUMN($B$2), 0)","v":0},{"$f":"OFFSET(Relu!$A$1, (ROW()-2)*28+COLUMN()-COLUMN($B$2), 0)","v":0},{"$f":"OFFSET(Relu!$A$1, (ROW()-2)*28+COLUMN()-COLUMN($B$2), 0)","v":0},{"$f":"OFFSET(Relu!$A$1, (ROW()-2)*28+COLUMN()-COLUMN($B$2), 0)","v":0},{"$f":"OFFSET(Relu!$A$1, (ROW()-2)*28+COLUMN()-COLUMN($B$2), 0)","v":0},{"$f":"OFFSET(Relu!$A$1, (ROW()-2)*28+COLUMN()-COLUMN($B$2), 0)","v":0},{"$f":"OFFSET(Relu!$A$1, (ROW()-2)*28+COLUMN()-COLUMN($B$2), 0)","v":0},{"$f":"OFFSET(Relu!$A$1, (ROW()-2)*28+COLUMN()-COLUMN($B$2), 0)","v":0},{"$f":"OFFSET(Relu!$A$1, (ROW()-2)*28+COLUMN()-COLUMN($B$2), 0)","v":0},{"$f":"OFFSET(Relu!$A$1, (ROW()-2)*28+COLUMN()-COLUMN($B$2), 0)","v":0},{"$f":"OFFSET(Relu!$A$1, (ROW()-2)*28+COLUMN()-COLUMN($B$2), 0)","v":0},{"$f":"OFFSET(Relu!$A$1, (ROW()-2)*28+COLUMN()-COLUMN($B$2), 0)","v":0},{"$f":"OFFSET(Relu!$A$1, (ROW()-2)*28+COLUMN()-COLUMN($B$2), 0)","v":0},{"$f":"OFFSET(Relu!$A$1, (ROW()-2)*28+COLUMN()-COLUMN($B$2), 0)","v":0},{"$f":"OFFSET(Relu!$A$1, (ROW()-2)*28+COLUMN()-COLUMN($B$2), 0)","v":0},{"$f":"OFFSET(Relu!$A$1, (ROW()-2)*28+COLUMN()-COLUMN($B$2), 0)","v":0},{"$f":"OFFSET(Relu!$A$1, (ROW()-2)*28+COLUMN()-COLUMN($B$2), 0)","v":0},{"$f":"OFFSET(Relu!$A$1, (ROW()-2)*28+COLUMN()-COLUMN($B$2), 0)","v":0},{"$f":"OFFSET(Relu!$A$1, (ROW()-2)*28+COLUMN()-COLUMN($B$2), 0)","v":0},{"$f":"OFFSET(Relu!$A$1, (ROW()-2)*28+COLUMN()-COLUMN($B$2), 0)","v":0},{"$f":"OFFSET(Relu!$A$1, (ROW()-2)*28+COLUMN()-COLUMN($B$2), 0)","v":0},{"$f":"OFFSET(Relu!$A$1, (ROW()-2)*28+COLUMN()-COLUMN($B$2), 0)","v":0},{"$f":"OFFSET(Relu!$A$1, (ROW()-2)*28+COLUMN()-COLUMN($B$2), 0)","v":0},{"$f":"OFFSET(Relu!$A$1, (ROW()-2)*28+COLUMN()-COLUMN($B$2), 0)","v":0},{"$f":"OFFSET(Relu!$A$1, (ROW()-2)*28+COLUMN()-COLUMN($B$2), 0)","v":0},{"$f":"OFFSET(Relu!$A$1, (ROW()-2)*28+COLUMN()-COLUMN($B$2), 0)","v":0},{"$f":"OFFSET(Relu!$A$1, (ROW()-2)*28+COLUMN()-COLUMN($B$2), 0)","v":0},0]
[0,{"$f":"OFFSET(Relu!$A$1, (ROW()-2)*28+COLUMN()-COLUMN($B$2), 0)","v":0},{"$f":"OFFSET(Relu!$A$1, (ROW()-2)*28+COLUMN()-COLUMN($B$2), 0)","v":0},{"$f":"OFFSET(Relu!$A$1, (ROW()-2)*28+COLUMN()-COLUMN($B$2), 0)","v":0},{"$f":"OFFSET(Relu!$A$1, (ROW()-2)*28+COLUMN()-COLUMN($B$2), 0)","v":0},{"$f":"OFFSET(Relu!$A$1, (ROW()-2)*28+COLUMN()-COLUMN($B$2), 0)","v":0},{"$f":"OFFSET(Relu!$A$1, (ROW()-2)*28+COLUMN()-COLUMN($B$2), 0)","v":0},{"$f":"OFFSET(Relu!$A$1, (ROW()-2)*28+COLUMN()-COLUMN($B$2), 0)","v":0},{"$f":"OFFSET(Relu!$A$1, (ROW()-2)*28+COLUMN()-COLUMN($B$2), 0)","v":0},{"$f":"OFFSET(Relu!$A$1, (ROW()-2)*28+COLUMN()-COLUMN($B$2), 0)","v":0},{"$f":"OFFSET(Relu!$A$1, (ROW()-2)*28+COLUMN()-COLUMN($B$2), 0)","v":0},{"$f":"OFFSET(Relu!$A$1, (ROW()-2)*28+COLUMN()-COLUMN($B$2), 0)","v":0},{"$f":"OFFSET(Relu!$A$1, (ROW()-2)*28+COLUMN()-COLUMN($B$2), 0)","v":0},{"$f":"OFFSET(Relu!$A$1, (ROW()-2)*28+COLUMN()-COLUMN($B$2), 0)","v":0},{"$f":"OFFSET(Relu!$A$1, (ROW()-2)*28+COLUMN()-COLUMN($B$2), 0)","v":0},{"$f":"OFFSET(Relu!$A$1, (ROW()-2)*28+COLUMN()-COLUMN($B$2), 0)","v":0},{"$f":"OFFSET(Relu!$A$1, (ROW()-2)*28+COLUMN()-COLUMN($B$2), 0)","v":0},{"$f":"OFFSET(Relu!$A$1, (ROW()-2)*28+COLUMN()-COLUMN($B$2), 0)","v":0},{"$f":"OFFSET(Relu!$A$1, (ROW()-2)*28+COLUMN()-COLUMN($B$2), 0)","v":0},{"$f":"OFFSET(Relu!$A$1, (ROW()-2)*28+COLUMN()-COLUMN($B$2), 0)","v":0},{"$f":"OFFSET(Relu!$A$1, (ROW()-2)*28+COLUMN()-COLUMN($B$2), 0)","v":0},{"$f":"OFFSET(Relu!$A$1, (ROW()-2)*28+COLUMN()-COLUMN($B$2), 0)","v":0},{"$f":"OFFSET(Relu!$A$1, (ROW()-2)*28+COLUMN()-COLUMN($B$2), 0)","v":0},{"$f":"OFFSET(Relu!$A$1, (ROW()-2)*28+COLUMN()-COLUMN($B$2), 0)","v":0},{"$f":"OFFSET(Relu!$A$1, (ROW()-2)*28+COLUMN()-COLUMN($B$2), 0)","v":0},{"$f":"OFFSET(Relu!$A$1, (ROW()-2)*28+COLUMN()-COLUMN($B$2), 0)","v":0},{"$f":"OFFSET(Relu!$A$1, (ROW()-2)*28+COLUMN()-COLUMN($B$2), 0)","v":0},{"$f":"OFFSET(Relu!$A$1, (ROW()-2)*28+COLUMN()-COLUMN($B$2), 0)","v":0},{"$f":"OFFSET(Relu!$A$1, (ROW()-2)*28+COLUMN()-COLUMN($B$2), 0)","v":0},0]
[0,{"$f":"OFFSET(Relu!$A$1, (ROW()-2)*28+COLUMN()-COLUMN($B$2), 0)","v":0},{"$f":"OFFSET(Relu!$A$1, (ROW()-2)*28+COLUMN()-COLUMN($B$2), 0)","v":0},{"$f":"OFFSET(Relu!$A$1, (ROW()-2)*28+COLUMN()-COLUMN($B$2), 0)","v":0},{"$f":"OFFSET(Relu!$A$1, (ROW()-2)*28+COLUMN()-COLUMN($B$2), 0)","v":0},{"$f":"OFFSET(Relu!$A$1, (ROW()-2)*28+COLUMN()-COLUMN($B$2), 0)","v":0},{"$f":"OFFSET(Relu!$A$1, (ROW()-2)*28+COLUMN()-COLUMN($B$2), 0)","v":0},{"$f":"OFFSET(Relu!$A$1, (ROW()-2)*28+COLUMN()-COLUMN($B$2), 0)","v":0},{"$f":"OFFSET(Relu!$A$1, (ROW()-2)*28+COLUMN()-COLUMN($B$2), 0)","v":0},{"$f":"OFFSET(Relu!$A$1, (ROW()-2)*28+COLUMN()-COLUMN($B$2), 0)","v":0},{"$f":"OFFSET(Relu!$A$1, (ROW()-2)*28+COLUMN()-COLUMN($B$2), 0)","v":0},{"$f":"OFFSET(Relu!$A$1, (ROW()-2)*28+COLUMN()-COLUMN($B$2), 0)","v":0},{"$f":"OFFSET(Relu!$A$1, (ROW()-2)*28+COLUMN()-COLUMN($B$2), 0)","v":0},{"$f":"OFFSET(Relu!$A$1, (ROW()-2)*28+COLUMN()-COLUMN($B$2), 0)","v":0},{"$f":"OFFSET(Relu!$A$1, (ROW()-2)*28+COLUMN()-COLUMN($B$2), 0)","v":0},{"$f":"OFFSET(Relu!$A$1, (ROW()-2)*28+COLUMN()-COLUMN($B$2), 0)","v":0},{"$f":"OFFSET(Relu!$A$1, (ROW()-2)*28+COLUMN()-COLUMN($B$2), 0)","v":0},{"$f":"OFFSET(Relu!$A$1, (ROW()-2)*28+COLUMN()-COLUMN($B$2), 0)","v":0},{"$f":"OFFSET(Relu!$A$1, (ROW()-2)*28+COLUMN()-COLUMN($B$2), 0)","v":0},{"$f":"OFFSET(Relu!$A$1, (ROW()-2)*28+COLUMN()-COLUMN($B$2), 0)","v":0},{"$f":"OFFSET(Relu!$A$1, (ROW()-2)*28+COLUMN()-COLUMN($B$2), 0)","v":0},{"$f":"OFFSET(Relu!$A$1, (ROW()-2)*28+COLUMN()-COLUMN($B$2), 0)","v":0},{"$f":"OFFSET(Relu!$A$1, (ROW()-2)*28+COLUMN()-COLUMN($B$2), 0)","v":0},{"$f":"OFFSET(Relu!$A$1, (ROW()-2)*28+COLUMN()-COLUMN($B$2), 0)","v":0},{"$f":"OFFSET(Relu!$A$1, (ROW()-2)*28+COLUMN()-COLUMN($B$2), 0)","v":0},{"$f":"OFFSET(Relu!$A$1, (ROW()-2)*28+COLUMN()-COLUMN($B$2), 0)","v":0},{"$f":"OFFSET(Relu!$A$1, (ROW()-2)*28+COLUMN()-COLUMN($B$2), 0)","v":0},{"$f":"OFFSET(Relu!$A$1, (ROW()-2)*28+COLUMN()-COLUMN($B$2), 0)","v":0},{"$f":"OFFSET(Relu!$A$1, (ROW()-2)*28+COLUMN()-COLUMN($B$2), 0)","v":0},0]
[0,{"$f":"OFFSET(Relu!$A$1, (ROW()-2)*28+COLUMN()-COLUMN($B$2), 0)","v":0},{"$f":"OFFSET(Relu!$A$1, (ROW()-2)*28+COLUMN()-COLUMN($B$2), 0)","v":0},{"$f":"OFFSET(Relu!$A$1, (ROW()-2)*28+COLUMN()-COLUMN($B$2), 0)","v":0},{"$f":"OFFSET(Relu!$A$1, (ROW()-2)*28+COLUMN()-COLUMN($B$2), 0)","v":0},{"$f":"OFFSET(Relu!$A$1, (ROW()-2)*28+COLUMN()-COLUMN($B$2), 0)","v":0},{"$f":"OFFSET(Relu!$A$1, (ROW()-2)*28+COLUMN()-COLUMN($B$2), 0)","v":0},{"$f":"OFFSET(Relu!$A$1, (ROW()-2)*28+COLUMN()-COLUMN($B$2), 0)","v":0},{"$f":"OFFSET(Relu!$A$1, (ROW()-2)*28+COLUMN()-COLUMN($B$2), 0)","v":0},{"$f":"OFFSET(Relu!$A$1, (ROW()-2)*28+COLUMN()-COLUMN($B$2), 0)","v":0},{"$f":"OFFSET(Relu!$A$1, (ROW()-2)*28+COLUMN()-COLUMN($B$2), 0)","v":0},{"$f":"OFFSET(Relu!$A$1, (ROW()-2)*28+COLUMN()-COLUMN($B$2), 0)","v":0},{"$f":"OFFSET(Relu!$A$1, (ROW()-2)*28+COLUMN()-COLUMN($B$2), 0)","v":0},{"$f":"OFFSET(Relu!$A$1, (ROW()-2)*28+COLUMN()-COLUMN($B$2), 0)","v":0},{"$f":"OFFSET(Relu!$A$1, (ROW()-2)*28+COLUMN()-COLUMN($B$2), 0)","v":0},{"$f":"OFFSET(Relu!$A$1, (ROW()-2)*28+COLUMN()-COLUMN($B$2), 0)","v":0},{"$f":"OFFSET(Relu!$A$1, (ROW()-2)*28+COLUMN()-COLUMN($B$2), 0)","v":0},{"$f":"OFFSET(Relu!$A$1, (ROW()-2)*28+COLUMN()-COLUMN($B$2), 0)","v":0},{"$f":"OFFSET(Relu!$A$1, (ROW()-2)*28+COLUMN()-COLUMN($B$2), 0)","v":0},{"$f":"OFFSET(Relu!$A$1, (ROW()-2)*28+COLUMN()-COLUMN($B$2), 0)","v":0},{"$f":"OFFSET(Relu!$A$1, (ROW()-2)*28+COLUMN()-COLUMN($B$2), 0)","v":0},{"$f":"OFFSET(Relu!$A$1, (ROW()-2)*28+COLUMN()-COLUMN($B$2), 0)","v":0},{"$f":"OFFSET(Relu!$A$1, (ROW()-2)*28+COLUMN()-COLUMN($B$2), 0)","v":0},{"$f":"OFFSET(Relu!$A$1, (ROW()-2)*28+COLUMN()-COLUMN($B$2), 0)","v":0},{"$f":"OFFSET(Relu!$A$1, (ROW()-2)*28+COLUMN()-COLUMN($B$2), 0)","v":0},{"$f":"OFFSET(Relu!$A$1, (ROW()-2)*28+COLUMN()-COLUMN($B$2), 0)","v":0},{"$f":"OFFSET(Relu!$A$1, (ROW()-2)*28+COLUMN()-COLUMN($B$2), 0)","v":0},{"$f":"OFFSET(Relu!$A$1, (ROW()-2)*28+COLUMN()-COLUMN($B$2), 0)","v":0},{"$f":"OFFSET(Relu!$A$1, (ROW()-2)*28+COLUMN()-COLUMN($B$2), 0)","v":0},0]
[0,{"$f":"OFFSET(Relu!$A$1, (ROW()-2)*28+COLUMN()-COLUMN($B$2), 0)","v":0},{"$f":"OFFSET(Relu!$A$1, (ROW()-2)*28+COLUMN()-COLUMN($B$2), 0)","v":0},{"$f":"OFFSET(Relu!$A$1, (ROW()-2)*28+COLUMN()-COLUMN($B$2), 0)","v":0},{"$f":"OFFSET(Relu!$A$1, (ROW()-2)*28+COLUMN()-COLUMN($B$2), 0)","v":0},{"$f":"OFFSET(Relu!$A$1, (ROW()-2)*28+COLUMN()-COLUMN($B$2), 0)","v":0},{"$f":"OFFSET(Relu!$A$1, (ROW()-2)*28+COLUMN()-COLUMN($B$2), 0)","v":0},{"$f":"OFFSET(Relu!$A$1, (ROW()-2)*28+COLUMN()-COLUMN($B$2), 0)","v":0},{"$f":"OFFSET(Relu!$A$1, (ROW()-2)*28+COLUMN()-COLUMN($B$2), 0)","v":0},{"$f":"OFFSET(Relu!$A$1, (ROW()-2)*28+COLUMN()-COLUMN($B$2), 0)","v":0},{"$f":"OFFSET(Relu!$A$1, (ROW()-2)*28+COLUMN()-COLUMN($B$2), 0)","v":0},{"$f":"OFFSET(Relu!$A$1, (ROW()-2)*28+COLUMN()-COLUMN($B$2), 0)","v":0},{"$f":"OFFSET(Relu!$A$1, (ROW()-2)*28+COLUMN()-COLUMN($B$2), 0)","v":0},{"$f":"OFFSET(Relu!$A$1, (ROW()-2)*28+COLUMN()-COLUMN($B$2), 0)","v":0},{"$f":"OFFSET(Relu!$A$1, (ROW()-2)*28+COLUMN()-COLUMN($B$2), 0)","v":0},{"$f":"OFFSET(Relu!$A$1, (ROW()-2)*28+COLUMN()-COLUMN($B$2), 0)","v":0},{"$f":"OFFSET(Relu!$A$1, (ROW()-2)*28+COLUMN()-COLUMN($B$2), 0)","v":0},{"$f":"OFFSET(Relu!$A$1, (ROW()-2)*28+COLUMN()-COLUMN($B$2), 0)","v":0},{"$f":"OFFSET(Relu!$A$1, (ROW()-2)*28+COLUMN()-COLUMN($B$2), 0)","v":0},{"$f":"OFFSET(Relu!$A$1, (ROW()-2)*28+COLUMN()-COLUMN($B$2), 0)","v":0},{"$f":"OFFSET(Relu!$A$1, (ROW()-2)*28+COLUMN()-COLUMN($B$2), 0)","v":0},{"$f":"OFFSET(Relu!$A$1, (ROW()-2)*28+COLUMN()-COLUMN($B$2), 0)","v":0},{"$f":"OFFSET(Relu!$A$1, (ROW()-2)*28+COLUMN()-COLUMN($B$2), 0)","v":0},{"$f":"OFFSET(Relu!$A$1, (ROW()-2)*28+COLUMN()-COLUMN($B$2), 0)","v":0},{"$f":"OFFSET(Relu!$A$1, (ROW()-2)*28+COLUMN()-COLUMN($B$2), 0)","v":0},{"$f":"OFFSET(Relu!$A$1, (ROW()-2)*28+COLUMN()-COLUMN($B$2), 0)","v":0},{"$f":"OFFSET(Relu!$A$1, (ROW()-2)*28+COLUMN()-COLUMN($B$2), 0)","v":0},{"$f":"OFFSET(Relu!$A$1, (ROW()-2)*28+COLUMN()-COLUMN($B$2), 0)","v":0},{"$f":"OFFSET(Relu!$A$1, (ROW()-2)*28+COLUMN()-COLUMN($B$2), 0)","v":0},0]
[0,{"$f":"OFFSET(Relu!$A$1, (ROW()-2)*28+COLUMN()-COLUMN($B$2), 0)","v":0},{"$f":"OFFSET(Relu!$A$1, (ROW()-2)*28+COLUMN()-COLUMN($B$2), 0)","v":0},{"$f":"OFFSET(Relu!$A$1, (ROW()-2)*28+COLUMN()-COLUMN($B$2), 0)","v":0},{"$f":"OFFSET(Relu!$A$1, (ROW()-2)*28+COLUMN()-COLUMN($B$2), 0)","v":0},{"$f":"OFFSET(Relu!$A$1, (ROW()-2)*28+COLUMN()-COLUMN($B$2), 0)","v":0},{"$f":"OFFSET(Relu!$A$1, (ROW()-2)*28+COLUMN()-COLUMN($B$2), 0)","v":0},{"$f":"OFFSET(Relu!$A$1, (ROW()-2)*28+COLUMN()-COLUMN($B$2), 0)","v":75},{"$f":"OFFSET(Relu!$A$1, (ROW()-2)*28+COLUMN()-COLUMN($B$2), 0)","v":29},{"$f":"OFFSET(Relu!$A$1, (ROW()-2)*28+COLUMN()-COLUMN($B$2), 0)","v":0},{"$f":"OFFSET(Relu!$A$1, (ROW()-2)*28+COLUMN()-COLUMN($B$2), 0)","v":0},{"$f":"OFFSET(Relu!$A$1, (ROW()-2)*28+COLUMN()-COLUMN($B$2), 0)","v":0},{"$f":"OFFSET(Relu!$A$1, (ROW()-2)*28+COLUMN()-COLUMN($B$2), 0)","v":0},{"$f":"OFFSET(Relu!$A$1, (ROW()-2)*28+COLUMN()-COLUMN($B$2), 0)","v":0},{"$f":"OFFSET(Relu!$A$1, (ROW()-2)*28+COLUMN()-COLUMN($B$2), 0)","v":0},{"$f":"OFFSET(Relu!$A$1, (ROW()-2)*28+COLUMN()-COLUMN($B$2), 0)","v":0},{"$f":"OFFSET(Relu!$A$1, (ROW()-2)*28+COLUMN()-COLUMN($B$2), 0)","v":0},{"$f":"OFFSET(Relu!$A$1, (ROW()-2)*28+COLUMN()-COLUMN($B$2), 0)","v":0},{"$f":"OFFSET(Relu!$A$1, (ROW()-2)*28+COLUMN()-COLUMN($B$2), 0)","v":0},{"$f":"OFFSET(Relu!$A$1, (ROW()-2)*28+COLUMN()-COLUMN($B$2), 0)","v":0},{"$f":"OFFSET(Relu!$A$1, (ROW()-2)*28+COLUMN()-COLUMN($B$2), 0)","v":0},{"$f":"OFFSET(Relu!$A$1, (ROW()-2)*28+COLUMN()-COLUMN($B$2), 0)","v":0},{"$f":"OFFSET(Relu!$A$1, (ROW()-2)*28+COLUMN()-COLUMN($B$2), 0)","v":0},{"$f":"OFFSET(Relu!$A$1, (ROW()-2)*28+COLUMN()-COLUMN($B$2), 0)","v":0},{"$f":"OFFSET(Relu!$A$1, (ROW()-2)*28+COLUMN()-COLUMN($B$2), 0)","v":0},{"$f":"OFFSET(Relu!$A$1, (ROW()-2)*28+COLUMN()-COLUMN($B$2), 0)","v":0},{"$f":"OFFSET(Relu!$A$1, (ROW()-2)*28+COLUMN()-COLUMN($B$2), 0)","v":0},{"$f":"OFFSET(Relu!$A$1, (ROW()-2)*28+COLUMN()-COLUMN($B$2), 0)","v":0},{"$f":"OFFSET(Relu!$A$1, (ROW()-2)*28+COLUMN()-COLUMN($B$2), 0)","v":0},0]
[0,{"$f":"OFFSET(Relu!$A$1, (ROW()-2)*28+COLUMN()-COLUMN($B$2), 0)","v":0},{"$f":"OFFSET(Relu!$A$1, (ROW()-2)*28+COLUMN()-COLUMN($B$2), 0)","v":0},{"$f":"OFFSET(Relu!$A$1, (ROW()-2)*28+COLUMN()-COLUMN($B$2), 0)","v":0},{"$f":"OFFSET(Relu!$A$1, (ROW()-2)*28+COLUMN()-COLUMN($B$2), 0)","v":0},{"$f":"OFFSET(Relu!$A$1, (ROW()-2)*28+COLUMN()-COLUMN($B$2), 0)","v":0},{"$f":"OFFSET(Relu!$A$1, (ROW()-2)*28+COLUMN()-COLUMN($B$2), 0)","v":71},{"$f":"OFFSET(Relu!$A$1, (ROW()-2)*28+COLUMN()-COLUMN($B$2), 0)","v":135},{"$f":"OFFSET(Relu!$A$1, (ROW()-2)*28+COLUMN()-COLUMN($B$2), 0)","v":0},{"$f":"OFFSET(Relu!$A$1, (ROW()-2)*28+COLUMN()-COLUMN($B$2), 0)","v":0},{"$f":"OFFSET(Relu!$A$1, (ROW()-2)*28+COLUMN()-COLUMN($B$2), 0)","v":0},{"$f":"OFFSET(Relu!$A$1, (ROW()-2)*28+COLUMN()-COLUMN($B$2), 0)","v":0},{"$f":"OFFSET(Relu!$A$1, (ROW()-2)*28+COLUMN()-COLUMN($B$2), 0)","v":0},{"$f":"OFFSET(Relu!$A$1, (ROW()-2)*28+COLUMN()-COLUMN($B$2), 0)","v":0},{"$f":"OFFSET(Relu!$A$1, (ROW()-2)*28+COLUMN()-COLUMN($B$2), 0)","v":0},{"$f":"OFFSET(Relu!$A$1, (ROW()-2)*28+COLUMN()-COLUMN($B$2), 0)","v":0},{"$f":"OFFSET(Relu!$A$1, (ROW()-2)*28+COLUMN()-COLUMN($B$2), 0)","v":0},{"$f":"OFFSET(Relu!$A$1, (ROW()-2)*28+COLUMN()-COLUMN($B$2), 0)","v":0},{"$f":"OFFSET(Relu!$A$1, (ROW()-2)*28+COLUMN()-COLUMN($B$2), 0)","v":0},{"$f":"OFFSET(Relu!$A$1, (ROW()-2)*28+COLUMN()-COLUMN($B$2), 0)","v":0},{"$f":"OFFSET(Relu!$A$1, (ROW()-2)*28+COLUMN()-COLUMN($B$2), 0)","v":0},{"$f":"OFFSET(Relu!$A$1, (ROW()-2)*28+COLUMN()-COLUMN($B$2), 0)","v":0},{"$f":"OFFSET(Relu!$A$1, (ROW()-2)*28+COLUMN()-COLUMN($B$2), 0)","v":0},{"$f":"OFFSET(Relu!$A$1, (ROW()-2)*28+COLUMN()-COLUMN($B$2), 0)","v":0},{"$f":"OFFSET(Relu!$A$1, (ROW()-2)*28+COLUMN()-COLUMN($B$2), 0)","v":0},{"$f":"OFFSET(Relu!$A$1, (ROW()-2)*28+COLUMN()-COLUMN($B$2), 0)","v":0},{"$f":"OFFSET(Relu!$A$1, (ROW()-2)*28+COLUMN()-COLUMN($B$2), 0)","v":0},{"$f":"OFFSET(Relu!$A$1, (ROW()-2)*28+COLUMN()-COLUMN($B$2), 0)","v":0},{"$f":"OFFSET(Relu!$A$1, (ROW()-2)*28+COLUMN()-COLUMN($B$2), 0)","v":0},0]
[0,{"$f":"OFFSET(Relu!$A$1, (ROW()-2)*28+COLUMN()-COLUMN($B$2), 0)","v":0},{"$f":"OFFSET(Relu!$A$1, (ROW()-2)*28+COLUMN()-COLUMN($B$2), 0)","v":0},{"$f":"OFFSET(Relu!$A$1, (ROW()-2)*28+COLUMN()-COLUMN($B$2), 0)","v":0},{"$f":"OFFSET(Relu!$A$1, (ROW()-2)*28+COLUMN()-COLUMN($B$2), 0)","v":0},{"$f":"OFFSET(Relu!$A$1, (ROW()-2)*28+COLUMN()-COLUMN($B$2), 0)","v":0},{"$f":"OFFSET(Relu!$A$1, (ROW()-2)*28+COLUMN()-COLUMN($B$2), 0)","v":16},{"$f":"OFFSET(Relu!$A$1, (ROW()-2)*28+COLUMN()-COLUMN($B$2), 0)","v":0},{"$f":"OFFSET(Relu!$A$1, (ROW()-2)*28+COLUMN()-COLUMN($B$2), 0)","v":0},{"$f":"OFFSET(Relu!$A$1, (ROW()-2)*28+COLUMN()-COLUMN($B$2), 0)","v":0},{"$f":"OFFSET(Relu!$A$1, (ROW()-2)*28+COLUMN()-COLUMN($B$2), 0)","v":0},{"$f":"OFFSET(Relu!$A$1, (ROW()-2)*28+COLUMN()-COLUMN($B$2), 0)","v":0},{"$f":"OFFSET(Relu!$A$1, (ROW()-2)*28+COLUMN()-COLUMN($B$2), 0)","v":0},{"$f":"OFFSET(Relu!$A$1, (ROW()-2)*28+COLUMN()-COLUMN($B$2), 0)","v":0},{"$f":"OFFSET(Relu!$A$1, (ROW()-2)*28+COLUMN()-COLUMN($B$2), 0)","v":0},{"$f":"OFFSET(Relu!$A$1, (ROW()-2)*28+COLUMN()-COLUMN($B$2), 0)","v":0},{"$f":"OFFSET(Relu!$A$1, (ROW()-2)*28+COLUMN()-COLUMN($B$2), 0)","v":0},{"$f":"OFFSET(Relu!$A$1, (ROW()-2)*28+COLUMN()-COLUMN($B$2), 0)","v":0},{"$f":"OFFSET(Relu!$A$1, (ROW()-2)*28+COLUMN()-COLUMN($B$2), 0)","v":0},{"$f":"OFFSET(Relu!$A$1, (ROW()-2)*28+COLUMN()-COLUMN($B$2), 0)","v":0},{"$f":"OFFSET(Relu!$A$1, (ROW()-2)*28+COLUMN()-COLUMN($B$2), 0)","v":0},{"$f":"OFFSET(Relu!$A$1, (ROW()-2)*28+COLUMN()-COLUMN($B$2), 0)","v":0},{"$f":"OFFSET(Relu!$A$1, (ROW()-2)*28+COLUMN()-COLUMN($B$2), 0)","v":0},{"$f":"OFFSET(Relu!$A$1, (ROW()-2)*28+COLUMN()-COLUMN($B$2), 0)","v":0},{"$f":"OFFSET(Relu!$A$1, (ROW()-2)*28+COLUMN()-COLUMN($B$2), 0)","v":0},{"$f":"OFFSET(Relu!$A$1, (ROW()-2)*28+COLUMN()-COLUMN($B$2), 0)","v":0},{"$f":"OFFSET(Relu!$A$1, (ROW()-2)*28+COLUMN()-COLUMN($B$2), 0)","v":0},{"$f":"OFFSET(Relu!$A$1, (ROW()-2)*28+COLUMN()-COLUMN($B$2), 0)","v":0},{"$f":"OFFSET(Relu!$A$1, (ROW()-2)*28+COLUMN()-COLUMN($B$2), 0)","v":0},0]
[0,{"$f":"OFFSET(Relu!$A$1, (ROW()-2)*28+COLUMN()-COLUMN($B$2), 0)","v":0},{"$f":"OFFSET(Relu!$A$1, (ROW()-2)*28+COLUMN()-COLUMN($B$2), 0)","v":0},{"$f":"OFFSET(Relu!$A$1, (ROW()-2)*28+COLUMN()-COLUMN($B$2), 0)","v":0},{"$f":"OFFSET(Relu!$A$1, (ROW()-2)*28+COLUMN()-COLUMN($B$2), 0)","v":0},{"$f":"OFFSET(Relu!$A$1, (ROW()-2)*28+COLUMN()-COLUMN($B$2), 0)","v":0},{"$f":"OFFSET(Relu!$A$1, (ROW()-2)*28+COLUMN()-COLUMN($B$2), 0)","v":0},{"$f":"OFFSET(Relu!$A$1, (ROW()-2)*28+COLUMN()-COLUMN($B$2), 0)","v":41},{"$f":"OFFSET(Relu!$A$1, (ROW()-2)*28+COLUMN()-COLUMN($B$2), 0)","v":23},{"$f":"OFFSET(Relu!$A$1, (ROW()-2)*28+COLUMN()-COLUMN($B$2), 0)","v":55},{"$f":"OFFSET(Relu!$A$1, (ROW()-2)*28+COLUMN()-COLUMN($B$2), 0)","v":33},{"$f":"OFFSET(Relu!$A$1, (ROW()-2)*28+COLUMN()-COLUMN($B$2), 0)","v":25},{"$f":"OFFSET(Relu!$A$1, (ROW()-2)*28+COLUMN()-COLUMN($B$2), 0)","v":20},{"$f":"OFFSET(Relu!$A$1, (ROW()-2)*28+COLUMN()-COLUMN($B$2), 0)","v":0},{"$f":"OFFSET(Relu!$A$1, (ROW()-2)*28+COLUMN()-COLUMN($B$2), 0)","v":0},{"$f":"OFFSET(Relu!$A$1, (ROW()-2)*28+COLUMN()-COLUMN($B$2), 0)","v":1},{"$f":"OFFSET(Relu!$A$1, (ROW()-2)*28+COLUMN()-COLUMN($B$2), 0)","v":0},{"$f":"OFFSET(Relu!$A$1, (ROW()-2)*28+COLUMN()-COLUMN($B$2), 0)","v":0},{"$f":"OFFSET(Relu!$A$1, (ROW()-2)*28+COLUMN()-COLUMN($B$2), 0)","v":0},{"$f":"OFFSET(Relu!$A$1, (ROW()-2)*28+COLUMN()-COLUMN($B$2), 0)","v":43},{"$f":"OFFSET(Relu!$A$1, (ROW()-2)*28+COLUMN()-COLUMN($B$2), 0)","v":147},{"$f":"OFFSET(Relu!$A$1, (ROW()-2)*28+COLUMN()-COLUMN($B$2), 0)","v":0},{"$f":"OFFSET(Relu!$A$1, (ROW()-2)*28+COLUMN()-COLUMN($B$2), 0)","v":0},{"$f":"OFFSET(Relu!$A$1, (ROW()-2)*28+COLUMN()-COLUMN($B$2), 0)","v":0},{"$f":"OFFSET(Relu!$A$1, (ROW()-2)*28+COLUMN()-COLUMN($B$2), 0)","v":0},{"$f":"OFFSET(Relu!$A$1, (ROW()-2)*28+COLUMN()-COLUMN($B$2), 0)","v":0},{"$f":"OFFSET(Relu!$A$1, (ROW()-2)*28+COLUMN()-COLUMN($B$2), 0)","v":0},{"$f":"OFFSET(Relu!$A$1, (ROW()-2)*28+COLUMN()-COLUMN($B$2), 0)","v":0},{"$f":"OFFSET(Relu!$A$1, (ROW()-2)*28+COLUMN()-COLUMN($B$2), 0)","v":0},0]
[0,{"$f":"OFFSET(Relu!$A$1, (ROW()-2)*28+COLUMN()-COLUMN($B$2), 0)","v":0},{"$f":"OFFSET(Relu!$A$1, (ROW()-2)*28+COLUMN()-COLUMN($B$2), 0)","v":0},{"$f":"OFFSET(Relu!$A$1, (ROW()-2)*28+COLUMN()-COLUMN($B$2), 0)","v":0},{"$f":"OFFSET(Relu!$A$1, (ROW()-2)*28+COLUMN()-COLUMN($B$2), 0)","v":0},{"$f":"OFFSET(Relu!$A$1, (ROW()-2)*28+COLUMN()-COLUMN($B$2), 0)","v":0},{"$f":"OFFSET(Relu!$A$1, (ROW()-2)*28+COLUMN()-COLUMN($B$2), 0)","v":0},{"$f":"OFFSET(Relu!$A$1, (ROW()-2)*28+COLUMN()-COLUMN($B$2), 0)","v":0},{"$f":"OFFSET(Relu!$A$1, (ROW()-2)*28+COLUMN()-COLUMN($B$2), 0)","v":7},{"$f":"OFFSET(Relu!$A$1, (ROW()-2)*28+COLUMN()-COLUMN($B$2), 0)","v":0},{"$f":"OFFSET(Relu!$A$1, (ROW()-2)*28+COLUMN()-COLUMN($B$2), 0)","v":10},{"$f":"OFFSET(Relu!$A$1, (ROW()-2)*28+COLUMN()-COLUMN($B$2), 0)","v":34},{"$f":"OFFSET(Relu!$A$1, (ROW()-2)*28+COLUMN()-COLUMN($B$2), 0)","v":59},{"$f":"OFFSET(Relu!$A$1, (ROW()-2)*28+COLUMN()-COLUMN($B$2), 0)","v":36},{"$f":"OFFSET(Relu!$A$1, (ROW()-2)*28+COLUMN()-COLUMN($B$2), 0)","v":63},{"$f":"OFFSET(Relu!$A$1, (ROW()-2)*28+COLUMN()-COLUMN($B$2), 0)","v":43},{"$f":"OFFSET(Relu!$A$1, (ROW()-2)*28+COLUMN()-COLUMN($B$2), 0)","v":47},{"$f":"OFFSET(Relu!$A$1, (ROW()-2)*28+COLUMN()-COLUMN($B$2), 0)","v":46},{"$f":"OFFSET(Relu!$A$1, (ROW()-2)*28+COLUMN()-COLUMN($B$2), 0)","v":83},{"$f":"OFFSET(Relu!$A$1, (ROW()-2)*28+COLUMN()-COLUMN($B$2), 0)","v":232},{"$f":"OFFSET(Relu!$A$1, (ROW()-2)*28+COLUMN()-COLUMN($B$2), 0)","v":94},{"$f":"OFFSET(Relu!$A$1, (ROW()-2)*28+COLUMN()-COLUMN($B$2), 0)","v":0},{"$f":"OFFSET(Relu!$A$1, (ROW()-2)*28+COLUMN()-COLUMN($B$2), 0)","v":0},{"$f":"OFFSET(Relu!$A$1, (ROW()-2)*28+COLUMN()-COLUMN($B$2), 0)","v":0},{"$f":"OFFSET(Relu!$A$1, (ROW()-2)*28+COLUMN()-COLUMN($B$2), 0)","v":0},{"$f":"OFFSET(Relu!$A$1, (ROW()-2)*28+COLUMN()-COLUMN($B$2), 0)","v":0},{"$f":"OFFSET(Relu!$A$1, (ROW()-2)*28+COLUMN()-COLUMN($B$2), 0)","v":0},{"$f":"OFFSET(Relu!$A$1, (ROW()-2)*28+COLUMN()-COLUMN($B$2), 0)","v":0},{"$f":"OFFSET(Relu!$A$1, (ROW()-2)*28+COLUMN()-COLUMN($B$2), 0)","v":0},0]
[0,{"$f":"OFFSET(Relu!$A$1, (ROW()-2)*28+COLUMN()-COLUMN($B$2), 0)","v":0},{"$f":"OFFSET(Relu!$A$1, (ROW()-2)*28+COLUMN()-COLUMN($B$2), 0)","v":0},{"$f":"OFFSET(Relu!$A$1, (ROW()-2)*28+COLUMN()-COLUMN($B$2), 0)","v":0},{"$f":"OFFSET(Relu!$A$1, (ROW()-2)*28+COLUMN()-COLUMN($B$2), 0)","v":0},{"$f":"OFFSET(Relu!$A$1, (ROW()-2)*28+COLUMN()-COLUMN($B$2), 0)","v":0},{"$f":"OFFSET(Relu!$A$1, (ROW()-2)*28+COLUMN()-COLUMN($B$2), 0)","v":0},{"$f":"OFFSET(Relu!$A$1, (ROW()-2)*28+COLUMN()-COLUMN($B$2), 0)","v":0},{"$f":"OFFSET(Relu!$A$1, (ROW()-2)*28+COLUMN()-COLUMN($B$2), 0)","v":0},{"$f":"OFFSET(Relu!$A$1, (ROW()-2)*28+COLUMN()-COLUMN($B$2), 0)","v":0},{"$f":"OFFSET(Relu!$A$1, (ROW()-2)*28+COLUMN()-COLUMN($B$2), 0)","v":0},{"$f":"OFFSET(Relu!$A$1, (ROW()-2)*28+COLUMN()-COLUMN($B$2), 0)","v":0},{"$f":"OFFSET(Relu!$A$1, (ROW()-2)*28+COLUMN()-COLUMN($B$2), 0)","v":0},{"$f":"OFFSET(Relu!$A$1, (ROW()-2)*28+COLUMN()-COLUMN($B$2), 0)","v":0},{"$f":"OFFSET(Relu!$A$1, (ROW()-2)*28+COLUMN()-COLUMN($B$2), 0)","v":0},{"$f":"OFFSET(Relu!$A$1, (ROW()-2)*28+COLUMN()-COLUMN($B$2), 0)","v":0},{"$f":"OFFSET(Relu!$A$1, (ROW()-2)*28+COLUMN()-COLUMN($B$2), 0)","v":0},{"$f":"OFFSET(Relu!$A$1, (ROW()-2)*28+COLUMN()-COLUMN($B$2), 0)","v":0},{"$f":"OFFSET(Relu!$A$1, (ROW()-2)*28+COLUMN()-COLUMN($B$2), 0)","v":110},{"$f":"OFFSET(Relu!$A$1, (ROW()-2)*28+COLUMN()-COLUMN($B$2), 0)","v":143},{"$f":"OFFSET(Relu!$A$1, (ROW()-2)*28+COLUMN()-COLUMN($B$2), 0)","v":0},{"$f":"OFFSET(Relu!$A$1, (ROW()-2)*28+COLUMN()-COLUMN($B$2), 0)","v":0},{"$f":"OFFSET(Relu!$A$1, (ROW()-2)*28+COLUMN()-COLUMN($B$2), 0)","v":0},{"$f":"OFFSET(Relu!$A$1, (ROW()-2)*28+COLUMN()-COLUMN($B$2), 0)","v":0},{"$f":"OFFSET(Relu!$A$1, (ROW()-2)*28+COLUMN()-COLUMN($B$2), 0)","v":0},{"$f":"OFFSET(Relu!$A$1, (ROW()-2)*28+COLUMN()-COLUMN($B$2), 0)","v":0},{"$f":"OFFSET(Relu!$A$1, (ROW()-2)*28+COLUMN()-COLUMN($B$2), 0)","v":0},{"$f":"OFFSET(Relu!$A$1, (ROW()-2)*28+COLUMN()-COLUMN($B$2), 0)","v":0},{"$f":"OFFSET(Relu!$A$1, (ROW()-2)*28+COLUMN()-COLUMN($B$2), 0)","v":0},0]
[0,{"$f":"OFFSET(Relu!$A$1, (ROW()-2)*28+COLUMN()-COLUMN($B$2), 0)","v":0},{"$f":"OFFSET(Relu!$A$1, (ROW()-2)*28+COLUMN()-COLUMN($B$2), 0)","v":0},{"$f":"OFFSET(Relu!$A$1, (ROW()-2)*28+COLUMN()-COLUMN($B$2), 0)","v":0},{"$f":"OFFSET(Relu!$A$1, (ROW()-2)*28+COLUMN()-COLUMN($B$2), 0)","v":0},{"$f":"OFFSET(Relu!$A$1, (ROW()-2)*28+COLUMN()-COLUMN($B$2), 0)","v":0},{"$f":"OFFSET(Relu!$A$1, (ROW()-2)*28+COLUMN()-COLUMN($B$2), 0)","v":0},{"$f":"OFFSET(Relu!$A$1, (ROW()-2)*28+COLUMN()-COLUMN($B$2), 0)","v":0},{"$f":"OFFSET(Relu!$A$1, (ROW()-2)*28+COLUMN()-COLUMN($B$2), 0)","v":0},{"$f":"OFFSET(Relu!$A$1, (ROW()-2)*28+COLUMN()-COLUMN($B$2), 0)","v":0},{"$f":"OFFSET(Relu!$A$1, (ROW()-2)*28+COLUMN()-COLUMN($B$2), 0)","v":0},{"$f":"OFFSET(Relu!$A$1, (ROW()-2)*28+COLUMN()-COLUMN($B$2), 0)","v":0},{"$f":"OFFSET(Relu!$A$1, (ROW()-2)*28+COLUMN()-COLUMN($B$2), 0)","v":0},{"$f":"OFFSET(Relu!$A$1, (ROW()-2)*28+COLUMN()-COLUMN($B$2), 0)","v":0},{"$f":"OFFSET(Relu!$A$1, (ROW()-2)*28+COLUMN()-COLUMN($B$2), 0)","v":0},{"$f":"OFFSET(Relu!$A$1, (ROW()-2)*28+COLUMN()-COLUMN($B$2), 0)","v":0},{"$f":"OFFSET(Relu!$A$1, (ROW()-2)*28+COLUMN()-COLUMN($B$2), 0)","v":0},{"$f":"OFFSET(Relu!$A$1, (ROW()-2)*28+COLUMN()-COLUMN($B$2), 0)","v":20},{"$f":"OFFSET(Relu!$A$1, (ROW()-2)*28+COLUMN()-COLUMN($B$2), 0)","v":142},{"$f":"OFFSET(Relu!$A$1, (ROW()-2)*28+COLUMN()-COLUMN($B$2), 0)","v":1},{"$f":"OFFSET(Relu!$A$1, (ROW()-2)*28+COLUMN()-COLUMN($B$2), 0)","v":0},{"$f":"OFFSET(Relu!$A$1, (ROW()-2)*28+COLUMN()-COLUMN($B$2), 0)","v":0},{"$f":"OFFSET(Relu!$A$1, (ROW()-2)*28+COLUMN()-COLUMN($B$2), 0)","v":0},{"$f":"OFFSET(Relu!$A$1, (ROW()-2)*28+COLUMN()-COLUMN($B$2), 0)","v":0},{"$f":"OFFSET(Relu!$A$1, (ROW()-2)*28+COLUMN()-COLUMN($B$2), 0)","v":0},{"$f":"OFFSET(Relu!$A$1, (ROW()-2)*28+COLUMN()-COLUMN($B$2), 0)","v":0},{"$f":"OFFSET(Relu!$A$1, (ROW()-2)*28+COLUMN()-COLUMN($B$2), 0)","v":0},{"$f":"OFFSET(Relu!$A$1, (ROW()-2)*28+COLUMN()-COLUMN($B$2), 0)","v":0},{"$f":"OFFSET(Relu!$A$1, (ROW()-2)*28+COLUMN()-COLUMN($B$2), 0)","v":0},0]
[0,{"$f":"OFFSET(Relu!$A$1, (ROW()-2)*28+COLUMN()-COLUMN($B$2), 0)","v":0},{"$f":"OFFSET(Relu!$A$1, (ROW()-2)*28+COLUMN()-COLUMN($B$2), 0)","v":0},{"$f":"OFFSET(Relu!$A$1, (ROW()-2)*28+COLUMN()-COLUMN($B$2), 0)","v":0},{"$f":"OFFSET(Relu!$A$1, (ROW()-2)*28+COLUMN()-COLUMN($B$2), 0)","v":0},{"$f":"OFFSET(Relu!$A$1, (ROW()-2)*28+COLUMN()-COLUMN($B$2), 0)","v":0},{"$f":"OFFSET(Relu!$A$1, (ROW()-2)*28+COLUMN()-COLUMN($B$2), 0)","v":0},{"$f":"OFFSET(Relu!$A$1, (ROW()-2)*28+COLUMN()-COLUMN($B$2), 0)","v":0},{"$f":"OFFSET(Relu!$A$1, (ROW()-2)*28+COLUMN()-COLUMN($B$2), 0)","v":0},{"$f":"OFFSET(Relu!$A$1, (ROW()-2)*28+COLUMN()-COLUMN($B$2), 0)","v":0},{"$f":"OFFSET(Relu!$A$1, (ROW()-2)*28+COLUMN()-COLUMN($B$2), 0)","v":0},{"$f":"OFFSET(Relu!$A$1, (ROW()-2)*28+COLUMN()-COLUMN($B$2), 0)","v":0},{"$f":"OFFSET(Relu!$A$1, (ROW()-2)*28+COLUMN()-COLUMN($B$2), 0)","v":0},{"$f":"OFFSET(Relu!$A$1, (ROW()-2)*28+COLUMN()-COLUMN($B$2), 0)","v":0},{"$f":"OFFSET(Relu!$A$1, (ROW()-2)*28+COLUMN()-COLUMN($B$2), 0)","v":0},{"$f":"OFFSET(Relu!$A$1, (ROW()-2)*28+COLUMN()-COLUMN($B$2), 0)","v":0},{"$f":"OFFSET(Relu!$A$1, (ROW()-2)*28+COLUMN()-COLUMN($B$2), 0)","v":0},{"$f":"OFFSET(Relu!$A$1, (ROW()-2)*28+COLUMN()-COLUMN($B$2), 0)","v":112},{"$f":"OFFSET(Relu!$A$1, (ROW()-2)*28+COLUMN()-COLUMN($B$2), 0)","v":94},{"$f":"OFFSET(Relu!$A$1, (ROW()-2)*28+COLUMN()-COLUMN($B$2), 0)","v":0},{"$f":"OFFSET(Relu!$A$1, (ROW()-2)*28+COLUMN()-COLUMN($B$2), 0)","v":0},{"$f":"OFFSET(Relu!$A$1, (ROW()-2)*28+COLUMN()-COLUMN($B$2), 0)","v":0},{"$f":"OFFSET(Relu!$A$1, (ROW()-2)*28+COLUMN()-COLUMN($B$2), 0)","v":0},{"$f":"OFFSET(Relu!$A$1, (ROW()-2)*28+COLUMN()-COLUMN($B$2), 0)","v":0},{"$f":"OFFSET(Relu!$A$1, (ROW()-2)*28+COLUMN()-COLUMN($B$2), 0)","v":0},{"$f":"OFFSET(Relu!$A$1, (ROW()-2)*28+COLUMN()-COLUMN($B$2), 0)","v":0},{"$f":"OFFSET(Relu!$A$1, (ROW()-2)*28+COLUMN()-COLUMN($B$2), 0)","v":0},{"$f":"OFFSET(Relu!$A$1, (ROW()-2)*28+COLUMN()-COLUMN($B$2), 0)","v":0},{"$f":"OFFSET(Relu!$A$1, (ROW()-2)*28+COLUMN()-COLUMN($B$2), 0)","v":0},0]
[0,{"$f":"OFFSET(Relu!$A$1, (ROW()-2)*28+COLUMN()-COLUMN($B$2), 0)","v":0},{"$f":"OFFSET(Relu!$A$1, (ROW()-2)*28+COLUMN()-COLUMN($B$2), 0)","v":0},{"$f":"OFFSET(Relu!$A$1, (ROW()-2)*28+COLUMN()-COLUMN($B$2), 0)","v":0},{"$f":"OFFSET(Relu!$A$1, (ROW()-2)*28+COLUMN()-COLUMN($B$2), 0)","v":0},{"$f":"OFFSET(Relu!$A$1, (ROW()-2)*28+COLUMN()-COLUMN($B$2), 0)","v":0},{"$f":"OFFSET(Relu!$A$1, (ROW()-2)*28+COLUMN()-COLUMN($B$2), 0)","v":0},{"$f":"OFFSET(Relu!$A$1, (ROW()-2)*28+COLUMN()-COLUMN($B$2), 0)","v":0},{"$f":"OFFSET(Relu!$A$1, (ROW()-2)*28+COLUMN()-COLUMN($B$2), 0)","v":0},{"$f":"OFFSET(Relu!$A$1, (ROW()-2)*28+COLUMN()-COLUMN($B$2), 0)","v":0},{"$f":"OFFSET(Relu!$A$1, (ROW()-2)*28+COLUMN()-COLUMN($B$2), 0)","v":0},{"$f":"OFFSET(Relu!$A$1, (ROW()-2)*28+COLUMN()-COLUMN($B$2), 0)","v":0},{"$f":"OFFSET(Relu!$A$1, (ROW()-2)*28+COLUMN()-COLUMN($B$2), 0)","v":0},{"$f":"OFFSET(Relu!$A$1, (ROW()-2)*28+COLUMN()-COLUMN($B$2), 0)","v":0},{"$f":"OFFSET(Relu!$A$1, (ROW()-2)*28+COLUMN()-COLUMN($B$2), 0)","v":0},{"$f":"OFFSET(Relu!$A$1, (ROW()-2)*28+COLUMN()-COLUMN($B$2), 0)","v":0},{"$f":"OFFSET(Relu!$A$1, (ROW()-2)*28+COLUMN()-COLUMN($B$2), 0)","v":26},{"$f":"OFFSET(Relu!$A$1, (ROW()-2)*28+COLUMN()-COLUMN($B$2), 0)","v":126},{"$f":"OFFSET(Relu!$A$1, (ROW()-2)*28+COLUMN()-COLUMN($B$2), 0)","v":0},{"$f":"OFFSET(Relu!$A$1, (ROW()-2)*28+COLUMN()-COLUMN($B$2), 0)","v":0},{"$f":"OFFSET(Relu!$A$1, (ROW()-2)*28+COLUMN()-COLUMN($B$2), 0)","v":0},{"$f":"OFFSET(Relu!$A$1, (ROW()-2)*28+COLUMN()-COLUMN($B$2), 0)","v":0},{"$f":"OFFSET(Relu!$A$1, (ROW()-2)*28+COLUMN()-COLUMN($B$2), 0)","v":0},{"$f":"OFFSET(Relu!$A$1, (ROW()-2)*28+COLUMN()-COLUMN($B$2), 0)","v":0},{"$f":"OFFSET(Relu!$A$1, (ROW()-2)*28+COLUMN()-COLUMN($B$2), 0)","v":0},{"$f":"OFFSET(Relu!$A$1, (ROW()-2)*28+COLUMN()-COLUMN($B$2), 0)","v":0},{"$f":"OFFSET(Relu!$A$1, (ROW()-2)*28+COLUMN()-COLUMN($B$2), 0)","v":0},{"$f":"OFFSET(Relu!$A$1, (ROW()-2)*28+COLUMN()-COLUMN($B$2), 0)","v":0},{"$f":"OFFSET(Relu!$A$1, (ROW()-2)*28+COLUMN()-COLUMN($B$2), 0)","v":0},0]
[0,{"$f":"OFFSET(Relu!$A$1, (ROW()-2)*28+COLUMN()-COLUMN($B$2), 0)","v":0},{"$f":"OFFSET(Relu!$A$1, (ROW()-2)*28+COLUMN()-COLUMN($B$2), 0)","v":0},{"$f":"OFFSET(Relu!$A$1, (ROW()-2)*28+COLUMN()-COLUMN($B$2), 0)","v":0},{"$f":"OFFSET(Relu!$A$1, (ROW()-2)*28+COLUMN()-COLUMN($B$2), 0)","v":0},{"$f":"OFFSET(Relu!$A$1, (ROW()-2)*28+COLUMN()-COLUMN($B$2), 0)","v":0},{"$f":"OFFSET(Relu!$A$1, (ROW()-2)*28+COLUMN()-COLUMN($B$2), 0)","v":0},{"$f":"OFFSET(Relu!$A$1, (ROW()-2)*28+COLUMN()-COLUMN($B$2), 0)","v":0},{"$f":"OFFSET(Relu!$A$1, (ROW()-2)*28+COLUMN()-COLUMN($B$2), 0)","v":0},{"$f":"OFFSET(Relu!$A$1, (ROW()-2)*28+COLUMN()-COLUMN($B$2), 0)","v":0},{"$f":"OFFSET(Relu!$A$1, (ROW()-2)*28+COLUMN()-COLUMN($B$2), 0)","v":0},{"$f":"OFFSET(Relu!$A$1, (ROW()-2)*28+COLUMN()-COLUMN($B$2), 0)","v":0},{"$f":"OFFSET(Relu!$A$1, (ROW()-2)*28+COLUMN()-COLUMN($B$2), 0)","v":0},{"$f":"OFFSET(Relu!$A$1, (ROW()-2)*28+COLUMN()-COLUMN($B$2), 0)","v":0},{"$f":"OFFSET(Relu!$A$1, (ROW()-2)*28+COLUMN()-COLUMN($B$2), 0)","v":0},{"$f":"OFFSET(Relu!$A$1, (ROW()-2)*28+COLUMN()-COLUMN($B$2), 0)","v":0},{"$f":"OFFSET(Relu!$A$1, (ROW()-2)*28+COLUMN()-COLUMN($B$2), 0)","v":74},{"$f":"OFFSET(Relu!$A$1, (ROW()-2)*28+COLUMN()-COLUMN($B$2), 0)","v":132},{"$f":"OFFSET(Relu!$A$1, (ROW()-2)*28+COLUMN()-COLUMN($B$2), 0)","v":0},{"$f":"OFFSET(Relu!$A$1, (ROW()-2)*28+COLUMN()-COLUMN($B$2), 0)","v":0},{"$f":"OFFSET(Relu!$A$1, (ROW()-2)*28+COLUMN()-COLUMN($B$2), 0)","v":0},{"$f":"OFFSET(Relu!$A$1, (ROW()-2)*28+COLUMN()-COLUMN($B$2), 0)","v":0},{"$f":"OFFSET(Relu!$A$1, (ROW()-2)*28+COLUMN()-COLUMN($B$2), 0)","v":0},{"$f":"OFFSET(Relu!$A$1, (ROW()-2)*28+COLUMN()-COLUMN($B$2), 0)","v":0},{"$f":"OFFSET(Relu!$A$1, (ROW()-2)*28+COLUMN()-COLUMN($B$2), 0)","v":0},{"$f":"OFFSET(Relu!$A$1, (ROW()-2)*28+COLUMN()-COLUMN($B$2), 0)","v":0},{"$f":"OFFSET(Relu!$A$1, (ROW()-2)*28+COLUMN()-COLUMN($B$2), 0)","v":0},{"$f":"OFFSET(Relu!$A$1, (ROW()-2)*28+COLUMN()-COLUMN($B$2), 0)","v":0},{"$f":"OFFSET(Relu!$A$1, (ROW()-2)*28+COLUMN()-COLUMN($B$2), 0)","v":0},0]
[0,{"$f":"OFFSET(Relu!$A$1, (ROW()-2)*28+COLUMN()-COLUMN($B$2), 0)","v":0},{"$f":"OFFSET(Relu!$A$1, (ROW()-2)*28+COLUMN()-COLUMN($B$2), 0)","v":0},{"$f":"OFFSET(Relu!$A$1, (ROW()-2)*28+COLUMN()-COLUMN($B$2), 0)","v":0},{"$f":"OFFSET(Relu!$A$1, (ROW()-2)*28+COLUMN()-COLUMN($B$2), 0)","v":0},{"$f":"OFFSET(Relu!$A$1, (ROW()-2)*28+COLUMN()-COLUMN($B$2), 0)","v":0},{"$f":"OFFSET(Relu!$A$1, (ROW()-2)*28+COLUMN()-COLUMN($B$2), 0)","v":0},{"$f":"OFFSET(Relu!$A$1, (ROW()-2)*28+COLUMN()-COLUMN($B$2), 0)","v":0},{"$f":"OFFSET(Relu!$A$1, (ROW()-2)*28+COLUMN()-COLUMN($B$2), 0)","v":0},{"$f":"OFFSET(Relu!$A$1, (ROW()-2)*28+COLUMN()-COLUMN($B$2), 0)","v":0},{"$f":"OFFSET(Relu!$A$1, (ROW()-2)*28+COLUMN()-COLUMN($B$2), 0)","v":0},{"$f":"OFFSET(Relu!$A$1, (ROW()-2)*28+COLUMN()-COLUMN($B$2), 0)","v":0},{"$f":"OFFSET(Relu!$A$1, (ROW()-2)*28+COLUMN()-COLUMN($B$2), 0)","v":0},{"$f":"OFFSET(Relu!$A$1, (ROW()-2)*28+COLUMN()-COLUMN($B$2), 0)","v":0},{"$f":"OFFSET(Relu!$A$1, (ROW()-2)*28+COLUMN()-COLUMN($B$2), 0)","v":0},{"$f":"OFFSET(Relu!$A$1, (ROW()-2)*28+COLUMN()-COLUMN($B$2), 0)","v":17},{"$f":"OFFSET(Relu!$A$1, (ROW()-2)*28+COLUMN()-COLUMN($B$2), 0)","v":146},{"$f":"OFFSET(Relu!$A$1, (ROW()-2)*28+COLUMN()-COLUMN($B$2), 0)","v":13},{"$f":"OFFSET(Relu!$A$1, (ROW()-2)*28+COLUMN()-COLUMN($B$2), 0)","v":0},{"$f":"OFFSET(Relu!$A$1, (ROW()-2)*28+COLUMN()-COLUMN($B$2), 0)","v":0},{"$f":"OFFSET(Relu!$A$1, (ROW()-2)*28+COLUMN()-COLUMN($B$2), 0)","v":0},{"$f":"OFFSET(Relu!$A$1, (ROW()-2)*28+COLUMN()-COLUMN($B$2), 0)","v":0},{"$f":"OFFSET(Relu!$A$1, (ROW()-2)*28+COLUMN()-COLUMN($B$2), 0)","v":0},{"$f":"OFFSET(Relu!$A$1, (ROW()-2)*28+COLUMN()-COLUMN($B$2), 0)","v":0},{"$f":"OFFSET(Relu!$A$1, (ROW()-2)*28+COLUMN()-COLUMN($B$2), 0)","v":0},{"$f":"OFFSET(Relu!$A$1, (ROW()-2)*28+COLUMN()-COLUMN($B$2), 0)","v":0},{"$f":"OFFSET(Relu!$A$1, (ROW()-2)*28+COLUMN()-COLUMN($B$2), 0)","v":0},{"$f":"OFFSET(Relu!$A$1, (ROW()-2)*28+COLUMN()-COLUMN($B$2), 0)","v":0},{"$f":"OFFSET(Relu!$A$1, (ROW()-2)*28+COLUMN()-COLUMN($B$2), 0)","v":0},0]
[0,{"$f":"OFFSET(Relu!$A$1, (ROW()-2)*28+COLUMN()-COLUMN($B$2), 0)","v":0},{"$f":"OFFSET(Relu!$A$1, (ROW()-2)*28+COLUMN()-COLUMN($B$2), 0)","v":0},{"$f":"OFFSET(Relu!$A$1, (ROW()-2)*28+COLUMN()-COLUMN($B$2), 0)","v":0},{"$f":"OFFSET(Relu!$A$1, (ROW()-2)*28+COLUMN()-COLUMN($B$2), 0)","v":0},{"$f":"OFFSET(Relu!$A$1, (ROW()-2)*28+COLUMN()-COLUMN($B$2), 0)","v":0},{"$f":"OFFSET(Relu!$A$1, (ROW()-2)*28+COLUMN()-COLUMN($B$2), 0)","v":0},{"$f":"OFFSET(Relu!$A$1, (ROW()-2)*28+COLUMN()-COLUMN($B$2), 0)","v":0},{"$f":"OFFSET(Relu!$A$1, (ROW()-2)*28+COLUMN()-COLUMN($B$2), 0)","v":0},{"$f":"OFFSET(Relu!$A$1, (ROW()-2)*28+COLUMN()-COLUMN($B$2), 0)","v":0},{"$f":"OFFSET(Relu!$A$1, (ROW()-2)*28+COLUMN()-COLUMN($B$2), 0)","v":0},{"$f":"OFFSET(Relu!$A$1, (ROW()-2)*28+COLUMN()-COLUMN($B$2), 0)","v":0},{"$f":"OFFSET(Relu!$A$1, (ROW()-2)*28+COLUMN()-COLUMN($B$2), 0)","v":0},{"$f":"OFFSET(Relu!$A$1, (ROW()-2)*28+COLUMN()-COLUMN($B$2), 0)","v":0},{"$f":"OFFSET(Relu!$A$1, (ROW()-2)*28+COLUMN()-COLUMN($B$2), 0)","v":0},{"$f":"OFFSET(Relu!$A$1, (ROW()-2)*28+COLUMN()-COLUMN($B$2), 0)","v":118},{"$f":"OFFSET(Relu!$A$1, (ROW()-2)*28+COLUMN()-COLUMN($B$2), 0)","v":69},{"$f":"OFFSET(Relu!$A$1, (ROW()-2)*28+COLUMN()-COLUMN($B$2), 0)","v":0},{"$f":"OFFSET(Relu!$A$1, (ROW()-2)*28+COLUMN()-COLUMN($B$2), 0)","v":0},{"$f":"OFFSET(Relu!$A$1, (ROW()-2)*28+COLUMN()-COLUMN($B$2), 0)","v":0},{"$f":"OFFSET(Relu!$A$1, (ROW()-2)*28+COLUMN()-COLUMN($B$2), 0)","v":0},{"$f":"OFFSET(Relu!$A$1, (ROW()-2)*28+COLUMN()-COLUMN($B$2), 0)","v":0},{"$f":"OFFSET(Relu!$A$1, (ROW()-2)*28+COLUMN()-COLUMN($B$2), 0)","v":0},{"$f":"OFFSET(Relu!$A$1, (ROW()-2)*28+COLUMN()-COLUMN($B$2), 0)","v":0},{"$f":"OFFSET(Relu!$A$1, (ROW()-2)*28+COLUMN()-COLUMN($B$2), 0)","v":0},{"$f":"OFFSET(Relu!$A$1, (ROW()-2)*28+COLUMN()-COLUMN($B$2), 0)","v":0},{"$f":"OFFSET(Relu!$A$1, (ROW()-2)*28+COLUMN()-COLUMN($B$2), 0)","v":0},{"$f":"OFFSET(Relu!$A$1, (ROW()-2)*28+COLUMN()-COLUMN($B$2), 0)","v":0},{"$f":"OFFSET(Relu!$A$1, (ROW()-2)*28+COLUMN()-COLUMN($B$2), 0)","v":0},0]
[0,{"$f":"OFFSET(Relu!$A$1, (ROW()-2)*28+COLUMN()-COLUMN($B$2), 0)","v":0},{"$f":"OFFSET(Relu!$A$1, (ROW()-2)*28+COLUMN()-COLUMN($B$2), 0)","v":0},{"$f":"OFFSET(Relu!$A$1, (ROW()-2)*28+COLUMN()-COLUMN($B$2), 0)","v":0},{"$f":"OFFSET(Relu!$A$1, (ROW()-2)*28+COLUMN()-COLUMN($B$2), 0)","v":0},{"$f":"OFFSET(Relu!$A$1, (ROW()-2)*28+COLUMN()-COLUMN($B$2), 0)","v":0},{"$f":"OFFSET(Relu!$A$1, (ROW()-2)*28+COLUMN()-COLUMN($B$2), 0)","v":0},{"$f":"OFFSET(Relu!$A$1, (ROW()-2)*28+COLUMN()-COLUMN($B$2), 0)","v":0},{"$f":"OFFSET(Relu!$A$1, (ROW()-2)*28+COLUMN()-COLUMN($B$2), 0)","v":0},{"$f":"OFFSET(Relu!$A$1, (ROW()-2)*28+COLUMN()-COLUMN($B$2), 0)","v":0},{"$f":"OFFSET(Relu!$A$1, (ROW()-2)*28+COLUMN()-COLUMN($B$2), 0)","v":0},{"$f":"OFFSET(Relu!$A$1, (ROW()-2)*28+COLUMN()-COLUMN($B$2), 0)","v":0},{"$f":"OFFSET(Relu!$A$1, (ROW()-2)*28+COLUMN()-COLUMN($B$2), 0)","v":0},{"$f":"OFFSET(Relu!$A$1, (ROW()-2)*28+COLUMN()-COLUMN($B$2), 0)","v":0},{"$f":"OFFSET(Relu!$A$1, (ROW()-2)*28+COLUMN()-COLUMN($B$2), 0)","v":77},{"$f":"OFFSET(Relu!$A$1, (ROW()-2)*28+COLUMN()-COLUMN($B$2), 0)","v":134},{"$f":"OFFSET(Relu!$A$1, (ROW()-2)*28+COLUMN()-COLUMN($B$2), 0)","v":0},{"$f":"OFFSET(Relu!$A$1, (ROW()-2)*28+COLUMN()-COLUMN($B$2), 0)","v":0},{"$f":"OFFSET(Relu!$A$1, (ROW()-2)*28+COLUMN()-COLUMN($B$2), 0)","v":0},{"$f":"OFFSET(Relu!$A$1, (ROW()-2)*28+COLUMN()-COLUMN($B$2), 0)","v":0},{"$f":"OFFSET(Relu!$A$1, (ROW()-2)*28+COLUMN()-COLUMN($B$2), 0)","v":0},{"$f":"OFFSET(Relu!$A$1, (ROW()-2)*28+COLUMN()-COLUMN($B$2), 0)","v":0},{"$f":"OFFSET(Relu!$A$1, (ROW()-2)*28+COLUMN()-COLUMN($B$2), 0)","v":0},{"$f":"OFFSET(Relu!$A$1, (ROW()-2)*28+COLUMN()-COLUMN($B$2), 0)","v":0},{"$f":"OFFSET(Relu!$A$1, (ROW()-2)*28+COLUMN()-COLUMN($B$2), 0)","v":0},{"$f":"OFFSET(Relu!$A$1, (ROW()-2)*28+COLUMN()-COLUMN($B$2), 0)","v":0},{"$f":"OFFSET(Relu!$A$1, (ROW()-2)*28+COLUMN()-COLUMN($B$2), 0)","v":0},{"$f":"OFFSET(Relu!$A$1, (ROW()-2)*28+COLUMN()-COLUMN($B$2), 0)","v":0},{"$f":"OFFSET(Relu!$A$1, (ROW()-2)*28+COLUMN()-COLUMN($B$2), 0)","v":0},0]
[0,{"$f":"OFFSET(Relu!$A$1, (ROW()-2)*28+COLUMN()-COLUMN($B$2), 0)","v":0},{"$f":"OFFSET(Relu!$A$1, (ROW()-2)*28+COLUMN()-COLUMN($B$2), 0)","v":0},{"$f":"OFFSET(Relu!$A$1, (ROW()-2)*28+COLUMN()-COLUMN($B$2), 0)","v":0},{"$f":"OFFSET(Relu!$A$1, (ROW()-2)*28+COLUMN()-COLUMN($B$2), 0)","v":0},{"$f":"OFFSET(Relu!$A$1, (ROW()-2)*28+COLUMN()-COLUMN($B$2), 0)","v":0},{"$f":"OFFSET(Relu!$A$1, (ROW()-2)*28+COLUMN()-COLUMN($B$2), 0)","v":0},{"$f":"OFFSET(Relu!$A$1, (ROW()-2)*28+COLUMN()-COLUMN($B$2), 0)","v":0},{"$f":"OFFSET(Relu!$A$1, (ROW()-2)*28+COLUMN()-COLUMN($B$2), 0)","v":0},{"$f":"OFFSET(Relu!$A$1, (ROW()-2)*28+COLUMN()-COLUMN($B$2), 0)","v":0},{"$f":"OFFSET(Relu!$A$1, (ROW()-2)*28+COLUMN()-COLUMN($B$2), 0)","v":0},{"$f":"OFFSET(Relu!$A$1, (ROW()-2)*28+COLUMN()-COLUMN($B$2), 0)","v":0},{"$f":"OFFSET(Relu!$A$1, (ROW()-2)*28+COLUMN()-COLUMN($B$2), 0)","v":0},{"$f":"OFFSET(Relu!$A$1, (ROW()-2)*28+COLUMN()-COLUMN($B$2), 0)","v":56},{"$f":"OFFSET(Relu!$A$1, (ROW()-2)*28+COLUMN()-COLUMN($B$2), 0)","v":167},{"$f":"OFFSET(Relu!$A$1, (ROW()-2)*28+COLUMN()-COLUMN($B$2), 0)","v":0},{"$f":"OFFSET(Relu!$A$1, (ROW()-2)*28+COLUMN()-COLUMN($B$2), 0)","v":0},{"$f":"OFFSET(Relu!$A$1, (ROW()-2)*28+COLUMN()-COLUMN($B$2), 0)","v":0},{"$f":"OFFSET(Relu!$A$1, (ROW()-2)*28+COLUMN()-COLUMN($B$2), 0)","v":0},{"$f":"OFFSET(Relu!$A$1, (ROW()-2)*28+COLUMN()-COLUMN($B$2), 0)","v":0},{"$f":"OFFSET(Relu!$A$1, (ROW()-2)*28+COLUMN()-COLUMN($B$2), 0)","v":0},{"$f":"OFFSET(Relu!$A$1, (ROW()-2)*28+COLUMN()-COLUMN($B$2), 0)","v":0},{"$f":"OFFSET(Relu!$A$1, (ROW()-2)*28+COLUMN()-COLUMN($B$2), 0)","v":0},{"$f":"OFFSET(Relu!$A$1, (ROW()-2)*28+COLUMN()-COLUMN($B$2), 0)","v":0},{"$f":"OFFSET(Relu!$A$1, (ROW()-2)*28+COLUMN()-COLUMN($B$2), 0)","v":0},{"$f":"OFFSET(Relu!$A$1, (ROW()-2)*28+COLUMN()-COLUMN($B$2), 0)","v":0},{"$f":"OFFSET(Relu!$A$1, (ROW()-2)*28+COLUMN()-COLUMN($B$2), 0)","v":0},{"$f":"OFFSET(Relu!$A$1, (ROW()-2)*28+COLUMN()-COLUMN($B$2), 0)","v":0},{"$f":"OFFSET(Relu!$A$1, (ROW()-2)*28+COLUMN()-COLUMN($B$2), 0)","v":0},0]
[0,{"$f":"OFFSET(Relu!$A$1, (ROW()-2)*28+COLUMN()-COLUMN($B$2), 0)","v":0},{"$f":"OFFSET(Relu!$A$1, (ROW()-2)*28+COLUMN()-COLUMN($B$2), 0)","v":0},{"$f":"OFFSET(Relu!$A$1, (ROW()-2)*28+COLUMN()-COLUMN($B$2), 0)","v":0},{"$f":"OFFSET(Relu!$A$1, (ROW()-2)*28+COLUMN()-COLUMN($B$2), 0)","v":0},{"$f":"OFFSET(Relu!$A$1, (ROW()-2)*28+COLUMN()-COLUMN($B$2), 0)","v":0},{"$f":"OFFSET(Relu!$A$1, (ROW()-2)*28+COLUMN()-COLUMN($B$2), 0)","v":0},{"$f":"OFFSET(Relu!$A$1, (ROW()-2)*28+COLUMN()-COLUMN($B$2), 0)","v":0},{"$f":"OFFSET(Relu!$A$1, (ROW()-2)*28+COLUMN()-COLUMN($B$2), 0)","v":0},{"$f":"OFFSET(Relu!$A$1, (ROW()-2)*28+COLUMN()-COLUMN($B$2), 0)","v":0},{"$f":"OFFSET(Relu!$A$1, (ROW()-2)*28+COLUMN()-COLUMN($B$2), 0)","v":0},{"$f":"OFFSET(Relu!$A$1, (ROW()-2)*28+COLUMN()-COLUMN($B$2), 0)","v":0},{"$f":"OFFSET(Relu!$A$1, (ROW()-2)*28+COLUMN()-COLUMN($B$2), 0)","v":0},{"$f":"OFFSET(Relu!$A$1, (ROW()-2)*28+COLUMN()-COLUMN($B$2), 0)","v":113},{"$f":"OFFSET(Relu!$A$1, (ROW()-2)*28+COLUMN()-COLUMN($B$2), 0)","v":71},{"$f":"OFFSET(Relu!$A$1, (ROW()-2)*28+COLUMN()-COLUMN($B$2), 0)","v":0},{"$f":"OFFSET(Relu!$A$1, (ROW()-2)*28+COLUMN()-COLUMN($B$2), 0)","v":0},{"$f":"OFFSET(Relu!$A$1, (ROW()-2)*28+COLUMN()-COLUMN($B$2), 0)","v":0},{"$f":"OFFSET(Relu!$A$1, (ROW()-2)*28+COLUMN()-COLUMN($B$2), 0)","v":0},{"$f":"OFFSET(Relu!$A$1, (ROW()-2)*28+COLUMN()-COLUMN($B$2), 0)","v":0},{"$f":"OFFSET(Relu!$A$1, (ROW()-2)*28+COLUMN()-COLUMN($B$2), 0)","v":0},{"$f":"OFFSET(Relu!$A$1, (ROW()-2)*28+COLUMN()-COLUMN($B$2), 0)","v":0},{"$f":"OFFSET(Relu!$A$1, (ROW()-2)*28+COLUMN()-COLUMN($B$2), 0)","v":0},{"$f":"OFFSET(Relu!$A$1, (ROW()-2)*28+COLUMN()-COLUMN($B$2), 0)","v":0},{"$f":"OFFSET(Relu!$A$1, (ROW()-2)*28+COLUMN()-COLUMN($B$2), 0)","v":0},{"$f":"OFFSET(Relu!$A$1, (ROW()-2)*28+COLUMN()-COLUMN($B$2), 0)","v":0},{"$f":"OFFSET(Relu!$A$1, (ROW()-2)*28+COLUMN()-COLUMN($B$2), 0)","v":0},{"$f":"OFFSET(Relu!$A$1, (ROW()-2)*28+COLUMN()-COLUMN($B$2), 0)","v":0},{"$f":"OFFSET(Relu!$A$1, (ROW()-2)*28+COLUMN()-COLUMN($B$2), 0)","v":0},0]
[0,{"$f":"OFFSET(Relu!$A$1, (ROW()-2)*28+COLUMN()-COLUMN($B$2), 0)","v":0},{"$f":"OFFSET(Relu!$A$1, (ROW()-2)*28+COLUMN()-COLUMN($B$2), 0)","v":0},{"$f":"OFFSET(Relu!$A$1, (ROW()-2)*28+COLUMN()-COLUMN($B$2), 0)","v":0},{"$f":"OFFSET(Relu!$A$1, (ROW()-2)*28+COLUMN()-COLUMN($B$2), 0)","v":0},{"$f":"OFFSET(Relu!$A$1, (ROW()-2)*28+COLUMN()-COLUMN($B$2), 0)","v":0},{"$f":"OFFSET(Relu!$A$1, (ROW()-2)*28+COLUMN()-COLUMN($B$2), 0)","v":0},{"$f":"OFFSET(Relu!$A$1, (ROW()-2)*28+COLUMN()-COLUMN($B$2), 0)","v":0},{"$f":"OFFSET(Relu!$A$1, (ROW()-2)*28+COLUMN()-COLUMN($B$2), 0)","v":0},{"$f":"OFFSET(Relu!$A$1, (ROW()-2)*28+COLUMN()-COLUMN($B$2), 0)","v":0},{"$f":"OFFSET(Relu!$A$1, (ROW()-2)*28+COLUMN()-COLUMN($B$2), 0)","v":0},{"$f":"OFFSET(Relu!$A$1, (ROW()-2)*28+COLUMN()-COLUMN($B$2), 0)","v":0},{"$f":"OFFSET(Relu!$A$1, (ROW()-2)*28+COLUMN()-COLUMN($B$2), 0)","v":78},{"$f":"OFFSET(Relu!$A$1, (ROW()-2)*28+COLUMN()-COLUMN($B$2), 0)","v":150},{"$f":"OFFSET(Relu!$A$1, (ROW()-2)*28+COLUMN()-COLUMN($B$2), 0)","v":0},{"$f":"OFFSET(Relu!$A$1, (ROW()-2)*28+COLUMN()-COLUMN($B$2), 0)","v":0},{"$f":"OFFSET(Relu!$A$1, (ROW()-2)*28+COLUMN()-COLUMN($B$2), 0)","v":0},{"$f":"OFFSET(Relu!$A$1, (ROW()-2)*28+COLUMN()-COLUMN($B$2), 0)","v":0},{"$f":"OFFSET(Relu!$A$1, (ROW()-2)*28+COLUMN()-COLUMN($B$2), 0)","v":0},{"$f":"OFFSET(Relu!$A$1, (ROW()-2)*28+COLUMN()-COLUMN($B$2), 0)","v":0},{"$f":"OFFSET(Relu!$A$1, (ROW()-2)*28+COLUMN()-COLUMN($B$2), 0)","v":0},{"$f":"OFFSET(Relu!$A$1, (ROW()-2)*28+COLUMN()-COLUMN($B$2), 0)","v":0},{"$f":"OFFSET(Relu!$A$1, (ROW()-2)*28+COLUMN()-COLUMN($B$2), 0)","v":0},{"$f":"OFFSET(Relu!$A$1, (ROW()-2)*28+COLUMN()-COLUMN($B$2), 0)","v":0},{"$f":"OFFSET(Relu!$A$1, (ROW()-2)*28+COLUMN()-COLUMN($B$2), 0)","v":0},{"$f":"OFFSET(Relu!$A$1, (ROW()-2)*28+COLUMN()-COLUMN($B$2), 0)","v":0},{"$f":"OFFSET(Relu!$A$1, (ROW()-2)*28+COLUMN()-COLUMN($B$2), 0)","v":0},{"$f":"OFFSET(Relu!$A$1, (ROW()-2)*28+COLUMN()-COLUMN($B$2), 0)","v":0},{"$f":"OFFSET(Relu!$A$1, (ROW()-2)*28+COLUMN()-COLUMN($B$2), 0)","v":0},0]
[0,{"$f":"OFFSET(Relu!$A$1, (ROW()-2)*28+COLUMN()-COLUMN($B$2), 0)","v":0},{"$f":"OFFSET(Relu!$A$1, (ROW()-2)*28+COLUMN()-COLUMN($B$2), 0)","v":0},{"$f":"OFFSET(Relu!$A$1, (ROW()-2)*28+COLUMN()-COLUMN($B$2), 0)","v":0},{"$f":"OFFSET(Relu!$A$1, (ROW()-2)*28+COLUMN()-COLUMN($B$2), 0)","v":0},{"$f":"OFFSET(Relu!$A$1, (ROW()-2)*28+COLUMN()-COLUMN($B$2), 0)","v":0},{"$f":"OFFSET(Relu!$A$1, (ROW()-2)*28+COLUMN()-COLUMN($B$2), 0)","v":0},{"$f":"OFFSET(Relu!$A$1, (ROW()-2)*28+COLUMN()-COLUMN($B$2), 0)","v":0},{"$f":"OFFSET(Relu!$A$1, (ROW()-2)*28+COLUMN()-COLUMN($B$2), 0)","v":0},{"$f":"OFFSET(Relu!$A$1, (ROW()-2)*28+COLUMN()-COLUMN($B$2), 0)","v":0},{"$f":"OFFSET(Relu!$A$1, (ROW()-2)*28+COLUMN()-COLUMN($B$2), 0)","v":0},{"$f":"OFFSET(Relu!$A$1, (ROW()-2)*28+COLUMN()-COLUMN($B$2), 0)","v":23},{"$f":"OFFSET(Relu!$A$1, (ROW()-2)*28+COLUMN()-COLUMN($B$2), 0)","v":136},{"$f":"OFFSET(Relu!$A$1, (ROW()-2)*28+COLUMN()-COLUMN($B$2), 0)","v":0},{"$f":"OFFSET(Relu!$A$1, (ROW()-2)*28+COLUMN()-COLUMN($B$2), 0)","v":0},{"$f":"OFFSET(Relu!$A$1, (ROW()-2)*28+COLUMN()-COLUMN($B$2), 0)","v":0},{"$f":"OFFSET(Relu!$A$1, (ROW()-2)*28+COLUMN()-COLUMN($B$2), 0)","v":0},{"$f":"OFFSET(Relu!$A$1, (ROW()-2)*28+COLUMN()-COLUMN($B$2), 0)","v":0},{"$f":"OFFSET(Relu!$A$1, (ROW()-2)*28+COLUMN()-COLUMN($B$2), 0)","v":0},{"$f":"OFFSET(Relu!$A$1, (ROW()-2)*28+COLUMN()-COLUMN($B$2), 0)","v":0},{"$f":"OFFSET(Relu!$A$1, (ROW()-2)*28+COLUMN()-COLUMN($B$2), 0)","v":0},{"$f":"OFFSET(Relu!$A$1, (ROW()-2)*28+COLUMN()-COLUMN($B$2), 0)","v":0},{"$f":"OFFSET(Relu!$A$1, (ROW()-2)*28+COLUMN()-COLUMN($B$2), 0)","v":0},{"$f":"OFFSET(Relu!$A$1, (ROW()-2)*28+COLUMN()-COLUMN($B$2), 0)","v":0},{"$f":"OFFSET(Relu!$A$1, (ROW()-2)*28+COLUMN()-COLUMN($B$2), 0)","v":0},{"$f":"OFFSET(Relu!$A$1, (ROW()-2)*28+COLUMN()-COLUMN($B$2), 0)","v":0},{"$f":"OFFSET(Relu!$A$1, (ROW()-2)*28+COLUMN()-COLUMN($B$2), 0)","v":0},{"$f":"OFFSET(Relu!$A$1, (ROW()-2)*28+COLUMN()-COLUMN($B$2), 0)","v":0},{"$f":"OFFSET(Relu!$A$1, (ROW()-2)*28+COLUMN()-COLUMN($B$2), 0)","v":0},0]
[0,{"$f":"OFFSET(Relu!$A$1, (ROW()-2)*28+COLUMN()-COLUMN($B$2), 0)","v":0},{"$f":"OFFSET(Relu!$A$1, (ROW()-2)*28+COLUMN()-COLUMN($B$2), 0)","v":0},{"$f":"OFFSET(Relu!$A$1, (ROW()-2)*28+COLUMN()-COLUMN($B$2), 0)","v":0},{"$f":"OFFSET(Relu!$A$1, (ROW()-2)*28+COLUMN()-COLUMN($B$2), 0)","v":0},{"$f":"OFFSET(Relu!$A$1, (ROW()-2)*28+COLUMN()-COLUMN($B$2), 0)","v":0},{"$f":"OFFSET(Relu!$A$1, (ROW()-2)*28+COLUMN()-COLUMN($B$2), 0)","v":0},{"$f":"OFFSET(Relu!$A$1, (ROW()-2)*28+COLUMN()-COLUMN($B$2), 0)","v":0},{"$f":"OFFSET(Relu!$A$1, (ROW()-2)*28+COLUMN()-COLUMN($B$2), 0)","v":0},{"$f":"OFFSET(Relu!$A$1, (ROW()-2)*28+COLUMN()-COLUMN($B$2), 0)","v":0},{"$f":"OFFSET(Relu!$A$1, (ROW()-2)*28+COLUMN()-COLUMN($B$2), 0)","v":0},{"$f":"OFFSET(Relu!$A$1, (ROW()-2)*28+COLUMN()-COLUMN($B$2), 0)","v":110},{"$f":"OFFSET(Relu!$A$1, (ROW()-2)*28+COLUMN()-COLUMN($B$2), 0)","v":91},{"$f":"OFFSET(Relu!$A$1, (ROW()-2)*28+COLUMN()-COLUMN($B$2), 0)","v":0},{"$f":"OFFSET(Relu!$A$1, (ROW()-2)*28+COLUMN()-COLUMN($B$2), 0)","v":0},{"$f":"OFFSET(Relu!$A$1, (ROW()-2)*28+COLUMN()-COLUMN($B$2), 0)","v":0},{"$f":"OFFSET(Relu!$A$1, (ROW()-2)*28+COLUMN()-COLUMN($B$2), 0)","v":0},{"$f":"OFFSET(Relu!$A$1, (ROW()-2)*28+COLUMN()-COLUMN($B$2), 0)","v":0},{"$f":"OFFSET(Relu!$A$1, (ROW()-2)*28+COLUMN()-COLUMN($B$2), 0)","v":0},{"$f":"OFFSET(Relu!$A$1, (ROW()-2)*28+COLUMN()-COLUMN($B$2), 0)","v":0},{"$f":"OFFSET(Relu!$A$1, (ROW()-2)*28+COLUMN()-COLUMN($B$2), 0)","v":0},{"$f":"OFFSET(Relu!$A$1, (ROW()-2)*28+COLUMN()-COLUMN($B$2), 0)","v":0},{"$f":"OFFSET(Relu!$A$1, (ROW()-2)*28+COLUMN()-COLUMN($B$2), 0)","v":0},{"$f":"OFFSET(Relu!$A$1, (ROW()-2)*28+COLUMN()-COLUMN($B$2), 0)","v":0},{"$f":"OFFSET(Relu!$A$1, (ROW()-2)*28+COLUMN()-COLUMN($B$2), 0)","v":0},{"$f":"OFFSET(Relu!$A$1, (ROW()-2)*28+COLUMN()-COLUMN($B$2), 0)","v":0},{"$f":"OFFSET(Relu!$A$1, (ROW()-2)*28+COLUMN()-COLUMN($B$2), 0)","v":0},{"$f":"OFFSET(Relu!$A$1, (ROW()-2)*28+COLUMN()-COLUMN($B$2), 0)","v":0},{"$f":"OFFSET(Relu!$A$1, (ROW()-2)*28+COLUMN()-COLUMN($B$2), 0)","v":0},0]
[0,{"$f":"OFFSET(Relu!$A$1, (ROW()-2)*28+COLUMN()-COLUMN($B$2), 0)","v":0},{"$f":"OFFSET(Relu!$A$1, (ROW()-2)*28+COLUMN()-COLUMN($B$2), 0)","v":0},{"$f":"OFFSET(Relu!$A$1, (ROW()-2)*28+COLUMN()-COLUMN($B$2), 0)","v":0},{"$f":"OFFSET(Relu!$A$1, (ROW()-2)*28+COLUMN()-COLUMN($B$2), 0)","v":0},{"$f":"OFFSET(Relu!$A$1, (ROW()-2)*28+COLUMN()-COLUMN($B$2), 0)","v":0},{"$f":"OFFSET(Relu!$A$1, (ROW()-2)*28+COLUMN()-COLUMN($B$2), 0)","v":0},{"$f":"OFFSET(Relu!$A$1, (ROW()-2)*28+COLUMN()-COLUMN($B$2), 0)","v":0},{"$f":"OFFSET(Relu!$A$1, (ROW()-2)*28+COLUMN()-COLUMN($B$2), 0)","v":0},{"$f":"OFFSET(Relu!$A$1, (ROW()-2)*28+COLUMN()-COLUMN($B$2), 0)","v":0},{"$f":"OFFSET(Relu!$A$1, (ROW()-2)*28+COLUMN()-COLUMN($B$2), 0)","v":20},{"$f":"OFFSET(Relu!$A$1, (ROW()-2)*28+COLUMN()-COLUMN($B$2), 0)","v":120},{"$f":"OFFSET(Relu!$A$1, (ROW()-2)*28+COLUMN()-COLUMN($B$2), 0)","v":38},{"$f":"OFFSET(Relu!$A$1, (ROW()-2)*28+COLUMN()-COLUMN($B$2), 0)","v":0},{"$f":"OFFSET(Relu!$A$1, (ROW()-2)*28+COLUMN()-COLUMN($B$2), 0)","v":0},{"$f":"OFFSET(Relu!$A$1, (ROW()-2)*28+COLUMN()-COLUMN($B$2), 0)","v":0},{"$f":"OFFSET(Relu!$A$1, (ROW()-2)*28+COLUMN()-COLUMN($B$2), 0)","v":0},{"$f":"OFFSET(Relu!$A$1, (ROW()-2)*28+COLUMN()-COLUMN($B$2), 0)","v":0},{"$f":"OFFSET(Relu!$A$1, (ROW()-2)*28+COLUMN()-COLUMN($B$2), 0)","v":0},{"$f":"OFFSET(Relu!$A$1, (ROW()-2)*28+COLUMN()-COLUMN($B$2), 0)","v":0},{"$f":"OFFSET(Relu!$A$1, (ROW()-2)*28+COLUMN()-COLUMN($B$2), 0)","v":0},{"$f":"OFFSET(Relu!$A$1, (ROW()-2)*28+COLUMN()-COLUMN($B$2), 0)","v":0},{"$f":"OFFSET(Relu!$A$1, (ROW()-2)*28+COLUMN()-COLUMN($B$2), 0)","v":0},{"$f":"OFFSET(Relu!$A$1, (ROW()-2)*28+COLUMN()-COLUMN($B$2), 0)","v":0},{"$f":"OFFSET(Relu!$A$1, (ROW()-2)*28+COLUMN()-COLUMN($B$2), 0)","v":0},{"$f":"OFFSET(Relu!$A$1, (ROW()-2)*28+COLUMN()-COLUMN($B$2), 0)","v":0},{"$f":"OFFSET(Relu!$A$1, (ROW()-2)*28+COLUMN()-COLUMN($B$2), 0)","v":0},{"$f":"OFFSET(Relu!$A$1, (ROW()-2)*28+COLUMN()-COLUMN($B$2), 0)","v":0},{"$f":"OFFSET(Relu!$A$1, (ROW()-2)*28+COLUMN()-COLUMN($B$2), 0)","v":0},0]
[0,{"$f":"OFFSET(Relu!$A$1, (ROW()-2)*28+COLUMN()-COLUMN($B$2), 0)","v":0},{"$f":"OFFSET(Relu!$A$1, (ROW()-2)*28+COLUMN()-COLUMN($B$2), 0)","v":0},{"$f":"OFFSET(Relu!$A$1, (ROW()-2)*28+COLUMN()-COLUMN($B$2), 0)","v":0},{"$f":"OFFSET(Relu!$A$1, (ROW()-2)*28+COLUMN()-COLUMN($B$2), 0)","v":0},{"$f":"OFFSET(Relu!$A$1, (ROW()-2)*28+COLUMN()-COLUMN($B$2), 0)","v":0},{"$f":"OFFSET(Relu!$A$1, (ROW()-2)*28+COLUMN()-COLUMN($B$2), 0)","v":0},{"$f":"OFFSET(Relu!$A$1, (ROW()-2)*28+COLUMN()-COLUMN($B$2), 0)","v":0},{"$f":"OFFSET(Relu!$A$1, (ROW()-2)*28+COLUMN()-COLUMN($B$2), 0)","v":0},{"$f":"OFFSET(Relu!$A$1, (ROW()-2)*28+COLUMN()-COLUMN($B$2), 0)","v":0},{"$f":"OFFSET(Relu!$A$1, (ROW()-2)*28+COLUMN()-COLUMN($B$2), 0)","v":29},{"$f":"OFFSET(Relu!$A$1, (ROW()-2)*28+COLUMN()-COLUMN($B$2), 0)","v":119},{"$f":"OFFSET(Relu!$A$1, (ROW()-2)*28+COLUMN()-COLUMN($B$2), 0)","v":63},{"$f":"OFFSET(Relu!$A$1, (ROW()-2)*28+COLUMN()-COLUMN($B$2), 0)","v":0},{"$f":"OFFSET(Relu!$A$1, (ROW()-2)*28+COLUMN()-COLUMN($B$2), 0)","v":0},{"$f":"OFFSET(Relu!$A$1, (ROW()-2)*28+COLUMN()-COLUMN($B$2), 0)","v":0},{"$f":"OFFSET(Relu!$A$1, (ROW()-2)*28+COLUMN()-COLUMN($B$2), 0)","v":0},{"$f":"OFFSET(Relu!$A$1, (ROW()-2)*28+COLUMN()-COLUMN($B$2), 0)","v":0},{"$f":"OFFSET(Relu!$A$1, (ROW()-2)*28+COLUMN()-COLUMN($B$2), 0)","v":0},{"$f":"OFFSET(Relu!$A$1, (ROW()-2)*28+COLUMN()-COLUMN($B$2), 0)","v":0},{"$f":"OFFSET(Relu!$A$1, (ROW()-2)*28+COLUMN()-COLUMN($B$2), 0)","v":0},{"$f":"OFFSET(Relu!$A$1, (ROW()-2)*28+COLUMN()-COLUMN($B$2), 0)","v":0},{"$f":"OFFSET(Relu!$A$1, (ROW()-2)*28+COLUMN()-COLUMN($B$2), 0)","v":0},{"$f":"OFFSET(Relu!$A$1, (ROW()-2)*28+COLUMN()-COLUMN($B$2), 0)","v":0},{"$f":"OFFSET(Relu!$A$1, (ROW()-2)*28+COLUMN()-COLUMN($B$2), 0)","v":0},{"$f":"OFFSET(Relu!$A$1, (ROW()-2)*28+COLUMN()-COLUMN($B$2), 0)","v":0},{"$f":"OFFSET(Relu!$A$1, (ROW()-2)*28+COLUMN()-COLUMN($B$2), 0)","v":0},{"$f":"OFFSET(Relu!$A$1, (ROW()-2)*28+COLUMN()-COLUMN($B$2), 0)","v":0},{"$f":"OFFSET(Relu!$A$1, (ROW()-2)*28+COLUMN()-COLUMN($B$2), 0)","v":0},0]
[0,{"$f":"OFFSET(Relu!$A$1, (ROW()-2)*28+COLUMN()-COLUMN($B$2), 0)","v":0},{"$f":"OFFSET(Relu!$A$1, (ROW()-2)*28+COLUMN()-COLUMN($B$2), 0)","v":0},{"$f":"OFFSET(Relu!$A$1, (ROW()-2)*28+COLUMN()-COLUMN($B$2), 0)","v":0},{"$f":"OFFSET(Relu!$A$1, (ROW()-2)*28+COLUMN()-COLUMN($B$2), 0)","v":0},{"$f":"OFFSET(Relu!$A$1, (ROW()-2)*28+COLUMN()-COLUMN($B$2), 0)","v":0},{"$f":"OFFSET(Relu!$A$1, (ROW()-2)*28+COLUMN()-COLUMN($B$2), 0)","v":0},{"$f":"OFFSET(Relu!$A$1, (ROW()-2)*28+COLUMN()-COLUMN($B$2), 0)","v":0},{"$f":"OFFSET(Relu!$A$1, (ROW()-2)*28+COLUMN()-COLUMN($B$2), 0)","v":0},{"$f":"OFFSET(Relu!$A$1, (ROW()-2)*28+COLUMN()-COLUMN($B$2), 0)","v":0},{"$f":"OFFSET(Relu!$A$1, (ROW()-2)*28+COLUMN()-COLUMN($B$2), 0)","v":0},{"$f":"OFFSET(Relu!$A$1, (ROW()-2)*28+COLUMN()-COLUMN($B$2), 0)","v":0},{"$f":"OFFSET(Relu!$A$1, (ROW()-2)*28+COLUMN()-COLUMN($B$2), 0)","v":0},{"$f":"OFFSET(Relu!$A$1, (ROW()-2)*28+COLUMN()-COLUMN($B$2), 0)","v":0},{"$f":"OFFSET(Relu!$A$1, (ROW()-2)*28+COLUMN()-COLUMN($B$2), 0)","v":59},{"$f":"OFFSET(Relu!$A$1, (ROW()-2)*28+COLUMN()-COLUMN($B$2), 0)","v":0},{"$f":"OFFSET(Relu!$A$1, (ROW()-2)*28+COLUMN()-COLUMN($B$2), 0)","v":0},{"$f":"OFFSET(Relu!$A$1, (ROW()-2)*28+COLUMN()-COLUMN($B$2), 0)","v":0},{"$f":"OFFSET(Relu!$A$1, (ROW()-2)*28+COLUMN()-COLUMN($B$2), 0)","v":0},{"$f":"OFFSET(Relu!$A$1, (ROW()-2)*28+COLUMN()-COLUMN($B$2), 0)","v":0},{"$f":"OFFSET(Relu!$A$1, (ROW()-2)*28+COLUMN()-COLUMN($B$2), 0)","v":0},{"$f":"OFFSET(Relu!$A$1, (ROW()-2)*28+COLUMN()-COLUMN($B$2), 0)","v":0},{"$f":"OFFSET(Relu!$A$1, (ROW()-2)*28+COLUMN()-COLUMN($B$2), 0)","v":0},{"$f":"OFFSET(Relu!$A$1, (ROW()-2)*28+COLUMN()-COLUMN($B$2), 0)","v":0},{"$f":"OFFSET(Relu!$A$1, (ROW()-2)*28+COLUMN()-COLUMN($B$2), 0)","v":0},{"$f":"OFFSET(Relu!$A$1, (ROW()-2)*28+COLUMN()-COLUMN($B$2), 0)","v":0},{"$f":"OFFSET(Relu!$A$1, (ROW()-2)*28+COLUMN()-COLUMN($B$2), 0)","v":0},{"$f":"OFFSET(Relu!$A$1, (ROW()-2)*28+COLUMN()-COLUMN($B$2), 0)","v":0},{"$f":"OFFSET(Relu!$A$1, (ROW()-2)*28+COLUMN()-COLUMN($B$2), 0)","v":0},0]
[0,{"$f":"OFFSET(Relu!$A$1, (ROW()-2)*28+COLUMN()-COLUMN($B$2), 0)","v":0},{"$f":"OFFSET(Relu!$A$1, (ROW()-2)*28+COLUMN()-COLUMN($B$2), 0)","v":0},{"$f":"OFFSET(Relu!$A$1, (ROW()-2)*28+COLUMN()-COLUMN($B$2), 0)","v":0},{"$f":"OFFSET(Relu!$A$1, (ROW()-2)*28+COLUMN()-COLUMN($B$2), 0)","v":0},{"$f":"OFFSET(Relu!$A$1, (ROW()-2)*28+COLUMN()-COLUMN($B$2), 0)","v":0},{"$f":"OFFSET(Relu!$A$1, (ROW()-2)*28+COLUMN()-COLUMN($B$2), 0)","v":0},{"$f":"OFFSET(Relu!$A$1, (ROW()-2)*28+COLUMN()-COLUMN($B$2), 0)","v":0},{"$f":"OFFSET(Relu!$A$1, (ROW()-2)*28+COLUMN()-COLUMN($B$2), 0)","v":0},{"$f":"OFFSET(Relu!$A$1, (ROW()-2)*28+COLUMN()-COLUMN($B$2), 0)","v":0},{"$f":"OFFSET(Relu!$A$1, (ROW()-2)*28+COLUMN()-COLUMN($B$2), 0)","v":0},{"$f":"OFFSET(Relu!$A$1, (ROW()-2)*28+COLUMN()-COLUMN($B$2), 0)","v":18},{"$f":"OFFSET(Relu!$A$1, (ROW()-2)*28+COLUMN()-COLUMN($B$2), 0)","v":74},{"$f":"OFFSET(Relu!$A$1, (ROW()-2)*28+COLUMN()-COLUMN($B$2), 0)","v":41},{"$f":"OFFSET(Relu!$A$1, (ROW()-2)*28+COLUMN()-COLUMN($B$2), 0)","v":0},{"$f":"OFFSET(Relu!$A$1, (ROW()-2)*28+COLUMN()-COLUMN($B$2), 0)","v":0},{"$f":"OFFSET(Relu!$A$1, (ROW()-2)*28+COLUMN()-COLUMN($B$2), 0)","v":0},{"$f":"OFFSET(Relu!$A$1, (ROW()-2)*28+COLUMN()-COLUMN($B$2), 0)","v":0},{"$f":"OFFSET(Relu!$A$1, (ROW()-2)*28+COLUMN()-COLUMN($B$2), 0)","v":0},{"$f":"OFFSET(Relu!$A$1, (ROW()-2)*28+COLUMN()-COLUMN($B$2), 0)","v":0},{"$f":"OFFSET(Relu!$A$1, (ROW()-2)*28+COLUMN()-COLUMN($B$2), 0)","v":0},{"$f":"OFFSET(Relu!$A$1, (ROW()-2)*28+COLUMN()-COLUMN($B$2), 0)","v":0},{"$f":"OFFSET(Relu!$A$1, (ROW()-2)*28+COLUMN()-COLUMN($B$2), 0)","v":0},{"$f":"OFFSET(Relu!$A$1, (ROW()-2)*28+COLUMN()-COLUMN($B$2), 0)","v":0},{"$f":"OFFSET(Relu!$A$1, (ROW()-2)*28+COLUMN()-COLUMN($B$2), 0)","v":0},{"$f":"OFFSET(Relu!$A$1, (ROW()-2)*28+COLUMN()-COLUMN($B$2), 0)","v":0},{"$f":"OFFSET(Relu!$A$1, (ROW()-2)*28+COLUMN()-COLUMN($B$2), 0)","v":0},{"$f":"OFFSET(Relu!$A$1, (ROW()-2)*28+COLUMN()-COLUMN($B$2), 0)","v":0},{"$f":"OFFSET(Relu!$A$1, (ROW()-2)*28+COLUMN()-COLUMN($B$2), 0)","v":0},0]
[0,0,0,0,0,0,0,0,0,0,0,0,0,0,0,0,0,0,0,0,0,0,0,0,0,0,0,0,0,0]

{"sheet":"X0の2進","index":8,"n_rows":30,"n_cols":30,"rows_kept":30,"cut":false,"hidden":false,"merged":[]}
[{"$f":"DEC2BIN(X0withPad!A1, 8)","v":"00000000"},{"$f":"DEC2BIN(X0withPad!B1, 8)","v":"00000000"},{"$f":"DEC2BIN(X0withPad!C1, 8)","v":"00000000"},{"$f":"DEC2BIN(X0withPad!D1, 8)","v":"00000000"},{"$f":"DEC2BIN(X0withPad!E1, 8)","v":"00000000"},{"$f":"DEC2BIN(X0withPad!F1, 8)","v":"00000000"},{"$f":"DEC2BIN(X0withPad!G1, 8)","v":"00000000"},{"$f":"DEC2BIN(X0withPad!H1, 8)","v":"00000000"},{"$f":"DEC2BIN(X0withPad!I1, 8)","v":"00000000"},{"$f":"DEC2BIN(X0withPad!J1, 8)","v":"00000000"},{"$f":"DEC2BIN(X0withPad!K1, 8)","v":"00000000"},{"$f":"DEC2BIN(X0withPad!L1, 8)","v":"00000000"},{"$f":"DEC2BIN(X0withPad!M1, 8)","v":"00000000"},{"$f":"DEC2BIN(X0withPad!N1, 8)","v":"00000000"},{"$f":"DEC2BIN(X0withPad!O1, 8)","v":"00000000"},{"$f":"DEC2BIN(X0withPad!P1, 8)","v":"00000000"},{"$f":"DEC2BIN(X0withPad!Q1, 8)","v":"00000000"},{"$f":"DEC2BIN(X0withPad!R1, 8)","v":"00000000"},{"$f":"DEC2BIN(X0withPad!S1, 8)","v":"00000000"},{"$f":"DEC2BIN(X0withPad!T1, 8)","v":"00000000"},{"$f":"DEC2BIN(X0withPad!U1, 8)","v":"00000000"},{"$f":"DEC2BIN(X0withPad!V1, 8)","v":"00000000"},{"$f":"DEC2BIN(X0withPad!W1, 8)","v":"00000000"},{"$f":"DEC2BIN(X0withPad!X1, 8)","v":"00000000"},{"$f":"DEC2BIN(X0withPad!Y1, 8)","v":"00000000"},{"$f":"DEC2BIN(X0withPad!Z1, 8)","v":"00000000"},{"$f":"DEC2BIN(X0withPad!AA1, 8)","v":"00000000"},{"$f":"DEC2BIN(X0withPad!AB1, 8)","v":"00000000"},{"$f":"DEC2BIN(X0withPad!AC1, 8)","v":"00000000"},{"$f":"DEC2BIN(X0withPad!AD1, 8)","v":"00000000"}]
[{"$f":"DEC2BIN(X0withPad!A2, 8)","v":"00000000"},{"$f":"DEC2BIN(X0withPad!B2, 8)","v":"00000000"},{"$f":"DEC2BIN(X0withPad!C2, 8)","v":"00000000"},{"$f":"DEC2BIN(X0withPad!D2, 8)","v":"00000000"},{"$f":"DEC2BIN(X0withPad!E2, 8)","v":"00000000"},{"$f":"DEC2BIN(X0withPad!F2, 8)","v":"00000000"},{"$f":"DEC2BIN(X0withPad!G2, 8)","v":"00000000"},{"$f":"DEC2BIN(X0withPad!H2, 8)","v":"00000000"},{"$f":"DEC2BIN(X0withPad!I2, 8)","v":"00000000"},{"$f":"DEC2BIN(X0withPad!J2, 8)","v":"00000000"},{"$f":"DEC2BIN(X0withPad!K2, 8)","v":"00000000"},{"$f":"DEC2BIN(X0withPad!L2, 8)","v":"00000000"},{"$f":"DEC2BIN(X0withPad!M2, 8)","v":"00000000"},{"$f":"DEC2BIN(X0withPad!N2, 8)","v":"00000000"},{"$f":"DEC2BIN(X0withPad!O2, 8)","v":"00000000"},{"$f":"DEC2BIN(X0withPad!P2, 8)","v":"00000000"},{"$f":"DEC2BIN(X0withPad!Q2, 8)","v":"00000000"},{"$f":"DEC2BIN(X0withPad!R2, 8)","v":"00000000"},{"$f":"DEC2BIN(X0withPad!S2, 8)","v":"00000000"},{"$f":"DEC2BIN(X0withPad!T2, 8)","v":"00000000"},{"$f":"DEC2BIN(X0withPad!U2, 8)","v":"00000000"},{"$f":"DEC2BIN(X0withPad!V2, 8)","v":"00000000"},{"$f":"DEC2BIN(X0withPad!W2, 8)","v":"00000000"},{"$f":"DEC2BIN(X0withPad!X2, 8)","v":"00000000"},{"$f":"DEC2BIN(X0withPad!Y2, 8)","v":"00000000"},{"$f":"DEC2BIN(X0withPad!Z2, 8)","v":"00000000"},{"$f":"DEC2BIN(X0withPad!AA2, 8)","v":"00000000"},{"$f":"DEC2BIN(X0withPad!AB2, 8)","v":"00000000"},{"$f":"DEC2BIN(X0withPad!AC2, 8)","v":"00000000"},{"$f":"DEC2BIN(X0withPad!AD2, 8)","v":"00000000"}]
[{"$f":"DEC2BIN(X0withPad!A3, 8)","v":"00000000"},{"$f":"DEC2BIN(X0withPad!B3, 8)","v":"00000000"},{"$f":"DEC2BIN(X0withPad!C3, 8)","v":"00000000"},{"$f":"DEC2BIN(X0withPad!D3, 8)","v":"00000000"},{"$f":"DEC2BIN(X0withPad!E3, 8)","v":"00000000"},{"$f":"DEC2BIN(X0withPad!F3, 8)","v":"00000000"},{"$f":"DEC2BIN(X0withPad!G3, 8)","v":"00000000"},{"$f":"DEC2BIN(X0withPad!H3, 8)","v":"00000000"},{"$f":"DEC2BIN(X0withPad!I3, 8)","v":"00000000"},{"$f":"DEC2BIN(X0withPad!J3, 8)","v":"00000000"},{"$f":"DEC2BIN(X0withPad!K3, 8)","v":"00000000"},{"$f":"DEC2BIN(X0withPad!L3, 8)","v":"00000000"},{"$f":"DEC2BIN(X0withPad!M3, 8)","v":"00000000"},{"$f":"DEC2BIN(X0withPad!N3, 8)","v":"00000000"},{"$f":"DEC2BIN(X0withPad!O3, 8)","v":"00000000"},{"$f":"DEC2BIN(X0withPad!P3, 8)","v":"00000000"},{"$f":"DEC2BIN(X0withPad!Q3, 8)","v":"00000000"},{"$f":"DEC2BIN(X0withPad!R3, 8)","v":"00000000"},{"$f":"DEC2BIN(X0withPad!S3, 8)","v":"00000000"},{"$f":"DEC2BIN(X0withPad!T3, 8)","v":"00000000"},{"$f":"DEC2BIN(X0withPad!U3, 8)","v":"00000000"},{"$f":"DEC2BIN(X0withPad!V3, 8)","v":"00000000"},{"$f":"DEC2BIN(X0withPad!W3, 8)","v":"00000000"},{"$f":"DEC2BIN(X0withPad!X3, 8)","v":"00000000"},{"$f":"DEC2BIN(X0withPad!Y3, 8)","v":"00000000"},{"$f":"DEC2BIN(X0withPad!Z3, 8)","v":"00000000"},{"$f":"DEC2BIN(X0withPad!AA3, 8)","v":"00000000"},{"$f":"DEC2BIN(X0withPad!AB3, 8)","v":"00000000"},{"$f":"DEC2BIN(X0withPad!AC3, 8)","v":"00000000"},{"$f":"DEC2BIN(X0withPad!AD3, 8)","v":"00000000"}]
[{"$f":"DEC2BIN(X0withPad!A4, 8)","v":"00000000"},{"$f":"DEC2BIN(X0withPad!B4, 8)","v":"00000000"},{"$f":"DEC2BIN(X0withPad!C4, 8)","v":"00000000"},{"$f":"DEC2BIN(X0withPad!D4, 8)","v":"00000000"},{"$f":"DEC2BIN(X0withPad!E4, 8)","v":"00000000"},{"$f":"DEC2BIN(X0withPad!F4, 8)","v":"00000000"},{"$f":"DEC2BIN(X0withPad!G4, 8)","v":"00000000"},{"$f":"DEC2BIN(X0withPad!H4, 8)","v":"00000000"},{"$f":"DEC2BIN(X0withPad!I4, 8)","v":"00000000"},{"$f":"DEC2BIN(X0withPad!J4, 8)","v":"00000000"},{"$f":"DEC2BIN(X0withPad!K4, 8)","v":"00000000"},{"$f":"DEC2BIN(X0withPad!L4, 8)","v":"00000000"},{"$f":"DEC2BIN(X0withPad!M4, 8)","v":"00000000"},{"$f":"DEC2BIN(X0withPad!N4, 8)","v":"00000000"},{"$f":"DEC2BIN(X0withPad!O4, 8)","v":"00000000"},{"$f":"DEC2BIN(X0withPad!P4, 8)","v":"00000000"},{"$f":"DEC2BIN(X0withPad!Q4, 8)","v":"00000000"},{"$f":"DEC2BIN(X0withPad!R4, 8)","v":"00000000"},{"$f":"DEC2BIN(X0withPad!S4, 8)","v":"00000000"},{"$f":"DEC2BIN(X0withPad!T4, 8)","v":"00000000"},{"$f":"DEC2BIN(X0withPad!U4, 8)","v":"00000000"},{"$f":"DEC2BIN(X0withPad!V4, 8)","v":"00000000"},{"$f":"DEC2BIN(X0withPad!W4, 8)","v":"00000000"},{"$f":"DEC2BIN(X0withPad!X4, 8)","v":"00000000"},{"$f":"DEC2BIN(X0withPad!Y4, 8)","v":"00000000"},{"$f":"DEC2BIN(X0withPad!Z4, 8)","v":"00000000"},{"$f":"DEC2BIN(X0withPad!AA4, 8)","v":"00000000"},{"$f":"DEC2BIN(X0withPad!AB4, 8)","v":"00000000"},{"$f":"DEC2BIN(X0withPad!AC4, 8)","v":"00000000"},{"$f":"DEC2BIN(X0withPad!AD4, 8)","v":"00000000"}]
[{"$f":"DEC2BIN(X0withPad!A5, 8)","v":"00000000"},{"$f":"DEC2BIN(X0withPad!B5, 8)","v":"00000000"},{"$f":"DEC2BIN(X0withPad!C5, 8)","v":"00000000"},{"$f":"DEC2BIN(X0withPad!D5, 8)","v":"00000000"},{"$f":"DEC2BIN(X0withPad!E5, 8)","v":"00000000"},{"$f":"DEC2BIN(X0withPad!F5, 8)","v":"00000000"},{"$f":"DEC2BIN(X0withPad!G5, 8)","v":"00000000"},{"$f":"DEC2BIN(X0withPad!H5, 8)","v":"00000000"},{"$f":"DEC2BIN(X0withPad!I5, 8)","v":"00000000"},{"$f":"DEC2BIN(X0withPad!J5, 8)","v":"00000000"},{"$f":"DEC2BIN(X0withPad!K5, 8)","v":"00000000"},{"$f":"DEC2BIN(X0withPad!L5, 8)","v":"00000000"},{"$f":"DEC2BIN(X0withPad!M5, 8)","v":"00000000"},{"$f":"DEC2BIN(X0withPad!N5, 8)","v":"00000000"},{"$f":"DEC2BIN(X0withPad!O5, 8)","v":"00000000"},{"$f":"DEC2BIN(X0withPad!P5, 8)","v":"00000000"},{"$f":"DEC2BIN(X0withPad!Q5, 8)","v":"00000000"},{"$f":"DEC2BIN(X0withPad!R5, 8)","v":"00000000"},{"$f":"DEC2BIN(X0withPad!S5, 8)","v":"00000000"},{"$f":"DEC2BIN(X0withPad!T5, 8)","v":"00000000"},{"$f":"DEC2BIN(X0withPad!U5, 8)","v":"00000000"},{"$f":"DEC2BIN(X0withPad!V5, 8)","v":"00000000"},{"$f":"DEC2BIN(X0withPad!W5, 8)","v":"00000000"},{"$f":"DEC2BIN(X0withPad!X5, 8)","v":"00000000"},{"$f":"DEC2BIN(X0withPad!Y5, 8)","v":"00000000"},{"$f":"DEC2BIN(X0withPad!Z5, 8)","v":"00000000"},{"$f":"DEC2BIN(X0withPad!AA5, 8)","v":"00000000"},{"$f":"DEC2BIN(X0withPad!AB5, 8)","v":"00000000"},{"$f":"DEC2BIN(X0withPad!AC5, 8)","v":"00000000"},{"$f":"DEC2BIN(X0withPad!AD5, 8)","v":"00000000"}]
[{"$f":"DEC2BIN(X0withPad!A6, 8)","v":"00000000"},{"$f":"DEC2BIN(X0withPad!B6, 8)","v":"00000000"},{"$f":"DEC2BIN(X0withPad!C6, 8)","v":"00000000"},{"$f":"DEC2BIN(X0withPad!D6, 8)","v":"00000000"},{"$f":"DEC2BIN(X0withPad!E6, 8)","v":"00000000"},{"$f":"DEC2BIN(X0withPad!F6, 8)","v":"00000000"},{"$f":"DEC2BIN(X0withPad!G6, 8)","v":"00000000"},{"$f":"DEC2BIN(X0withPad!H6, 8)","v":"00000000"},{"$f":"DEC2BIN(X0withPad!I6, 8)","v":"00000000"},{"$f":"DEC2BIN(X0withPad!J6, 8)","v":"00000000"},{"$f":"DEC2BIN(X0withPad!K6, 8)","v":"00000000"},{"$f":"DEC2BIN(X0withPad!L6, 8)","v":"00000000"},{"$f":"DEC2BIN(X0withPad!M6, 8)","v":"00000000"},{"$f":"DEC2BIN(X0withPad!N6, 8)","v":"00000000"},{"$f":"DEC2BIN(X0withPad!O6, 8)","v":"00000000"},{"$f":"DEC2BIN(X0withPad!P6, 8)","v":"00000000"},{"$f":"DEC2BIN(X0withPad!Q6, 8)","v":"00000000"},{"$f":"DEC2BIN(X0withPad!R6, 8)","v":"00000000"},{"$f":"DEC2BIN(X0withPad!S6, 8)","v":"00000000"},{"$f":"DEC2BIN(X0withPad!T6, 8)","v":"00000000"},{"$f":"DEC2BIN(X0withPad!U6, 8)","v":"00000000"},{"$f":"DEC2BIN(X0withPad!V6, 8)","v":"00000000"},{"$f":"DEC2BIN(X0withPad!W6, 8)","v":"00000000"},{"$f":"DEC2BIN(X0withPad!X6, 8)","v":"00000000"},{"$f":"DEC2BIN(X0withPad!Y6, 8)","v":"00000000"},{"$f":"DEC2BIN(X0withPad!Z6, 8)","v":"00000000"},{"$f":"DEC2BIN(X0withPad!AA6, 8)","v":"00000000"},{"$f":"DEC2BIN(X0withPad!AB6, 8)","v":"00000000"},{"$f":"DEC2BIN(X0withPad!AC6, 8)","v":"00000000"},{"$f":"DEC2BIN(X0withPad!AD6, 8)","v":"00000000"}]
[{"$f":"DEC2BIN(X0withPad!A7, 8)","v":"00000000"},{"$f":"DEC2BIN(X0withPad!B7, 8)","v":"00000000"},{"$f":"DEC2BIN(X0withPad!C7, 8)","v":"00000000"},{"$f":"DEC2BIN(X0withPad!D7, 8)","v":"00000000"},{"$f":"DEC2BIN(X0withPad!E7, 8)","v":"00000000"},{"$f":"DEC2BIN(X0withPad!F7, 8)","v":"00000000"},{"$f":"DEC2BIN(X0withPad!G7, 8)","v":"00000000"},{"$f":"DEC2BIN(X0withPad!H7, 8)","v":"00000000"},{"$f":"DEC2BIN(X0withPad!I7, 8)","v":"00000000"},{"$f":"DEC2BIN(X0withPad!J7, 8)","v":"00000000"},{"$f":"DEC2BIN(X0withPad!K7, 8)","v":"00000000"},{"$f":"DEC2BIN(X0withPad!L7, 8)","v":"00000000"},{"$f":"DEC2BIN(X0withPad!M7, 8)","v":"00000000"},{"$f":"DEC2BIN(X0withPad!N7, 8)","v":"00000000"},{"$f":"DEC2BIN(X0withPad!O7, 8)","v":"00000000"},{"$f":"DEC2BIN(X0withPad!P7, 8)","v":"00000000"},{"$f":"DEC2BIN(X0withPad!Q7, 8)","v":"00000000"},{"$f":"DEC2BIN(X0withPad!R7, 8)","v":"00000000"},{"$f":"DEC2BIN(X0withPad!S7, 8)","v":"00000000"},{"$f":"DEC2BIN(X0withPad!T7, 8)","v":"00000000"},{"$f":"DEC2BIN(X0withPad!U7, 8)","v":"00000000"},{"$f":"DEC2BIN(X0withPad!V7, 8)","v":"00000000"},{"$f":"DEC2BIN(X0withPad!W7, 8)","v":"00000000"},{"$f":"DEC2BIN(X0withPad!X7, 8)","v":"00000000"},{"$f":"DEC2BIN(X0withPad!Y7, 8)","v":"00000000"},{"$f":"DEC2BIN(X0withPad!Z7, 8)","v":"00000000"},{"$f":"DEC2BIN(X0withPad!AA7, 8)","v":"00000000"},{"$f":"DEC2BIN(X0withPad!AB7, 8)","v":"00000000"},{"$f":"DEC2BIN(X0withPad!AC7, 8)","v":"00000000"},{"$f":"DEC2BIN(X0withPad!AD7, 8)","v":"00000000"}]
[{"$f":"DEC2BIN(X0withPad!A8, 8)","v":"00000000"},{"$f":"DEC2BIN(X0withPad!B8, 8)","v":"00000000"},{"$f":"DEC2BIN(X0withPad!C8, 8)","v":"00000000"},{"$f":"DEC2BIN(X0withPad!D8, 8)","v":"00000000"},{"$f":"DEC2BIN(X0withPad!E8, 8)","v":"00000000"},{"$f":"DEC2BIN(X0withPad!F8, 8)","v":"00000000"},{"$f":"DEC2BIN(X0withPad!G8, 8)","v":"00000000"},{"$f":"DEC2BIN(X0withPad!H8, 8)","v":"00000000"},{"$f":"DEC2BIN(X0withPad!I8, 8)","v":"00000000"},{"$f":"DEC2BIN(X0withPad!J8, 8)","v":"00000000"},{"$f":"DEC2BIN(X0withPad!K8, 8)","v":"00000000"},{"$f":"DEC2BIN(X0withPad!L8, 8)","v":"00000000"},{"$f":"DEC2BIN(X0withPad!M8, 8)","v":"00000000"},{"$f":"DEC2BIN(X0withPad!N8, 8)","v":"00000000"},{"$f":"DEC2BIN(X0withPad!O8, 8)","v":"00000000"},{"$f":"DEC2BIN(X0withPad!P8, 8)","v":"00000000"},{"$f":"DEC2BIN(X0withPad!Q8, 8)","v":"00000000"},{"$f":"DEC2BIN(X0withPad!R8, 8)","v":"00000000"},{"$f":"DEC2BIN(X0withPad!S8, 8)","v":"00000000"},{"$f":"DEC2BIN(X0withPad!T8, 8)","v":"00000000"},{"$f":"DEC2BIN(X0withPad!U8, 8)","v":"00000000"},{"$f":"DEC2BIN(X0withPad!V8, 8)","v":"00000000"},{"$f":"DEC2BIN(X0withPad!W8, 8)","v":"00000000"},{"$f":"DEC2BIN(X0withPad!X8, 8)","v":"00000000"},{"$f":"DEC2BIN(X0withPad!Y8, 8)","v":"00000000"},{"$f":"DEC2BIN(X0withPad!Z8, 8)","v":"00000000"},{"$f":"DEC2BIN(X0withPad!AA8, 8)","v":"00000000"},{"$f":"DEC2BIN(X0withPad!AB8, 8)","v":"00000000"},{"$f":"DEC2BIN(X0withPad!AC8, 8)","v":"00000000"},{"$f":"DEC2BIN(X0withPad!AD8, 8)","v":"00000000"}]
[{"$f":"DEC2BIN(X0withPad!A9, 8)","v":"00000000"},{"$f":"DEC2BIN(X0withPad!B9, 8)","v":"00000000"},{"$f":"DEC2BIN(X0withPad!C9, 8)","v":"00000000"},{"$f":"DEC2BIN(X0withPad!D9, 8)","v":"00000000"},{"$f":"DEC2BIN(X0withPad!E9, 8)","v":"00000000"},{"$f":"DEC2BIN(X0withPad!F9, 8)","v":"00000000"},{"$f":"DEC2BIN(X0withPad!G9, 8)","v":"00000000"},{"$f":"DEC2BIN(X0withPad!H9, 8)","v":"01010100"},{"$f":"DEC2BIN(X0withPad!I9, 8)","v":"10111001"},{"$f":"DEC2BIN(X0withPad!J9, 8)","v":"10011111"},{"$f":"DEC2BIN(X0withPad!K9, 8)","v":"10010111"},{"$f":"DEC2BIN(X0withPad!L9, 8)","v":"00111100"},{"$f":"DEC2BIN(X0withPad!M9, 8)","v":"00100100"},{"$f":"DEC2BIN(X0withPad!N9, 8)","v":"00000000"},{"$f":"DEC2BIN(X0withPad!O9, 8)","v":"00000000"},{"$f":"DEC2BIN(X0withPad!P9, 8)","v":"00000000"},{"$f":"DEC2BIN(X0withPad!Q9, 8)","v":"00000000"},{"$f":"DEC2BIN(X0withPad!R9, 8)","v":"00000000"},{"$f":"DEC2BIN(X0withPad!S9, 8)","v":"00000000"},{"$f":"DEC2BIN(X0withPad!T9, 8)","v":"00000000"},{"$f":"DEC2BIN(X0withPad!U9, 8)","v":"00000000"},{"$f":"DEC2BIN(X0withPad!V9, 8)","v":"00000000"},{"$f":"DEC2BIN(X0withPad!W9, 8)","v":"00000000"},{"$f":"DEC2BIN(X0withPad!X9, 8)","v":"00000000"},{"$f":"DEC2BIN(X0withPad!Y9, 8)","v":"00000000"},{"$f":"DEC2BIN(X0withPad!Z9, 8)","v":"00000000"},{"$f":"DEC2BIN(X0withPad!AA9, 8)","v":"00000000"},{"$f":"DEC2BIN(X0withPad!AB9, 8)","v":"00000000"},{"$f":"DEC2BIN(X0withPad!AC9, 8)","v":"00000000"},{"$f":"DEC2BIN(X0withPad!AD9, 8)","v":"00000000"}]
[{"$f":"DEC2BIN(X0withPad!A10, 8)","v":"00000000"},{"$f":"DEC2BIN(X0withPad!B10, 8)","v":"00000000"},{"$f":"DEC2BIN(X0withPad!C10, 8)","v":"00000000"},{"$f":"DEC2BIN(X0withPad!D10, 8)","v":"00000000"},{"$f":"DEC2BIN(X0withPad!E10, 8)","v":"00000000"},{"$f":"DEC2BIN(X0withPad!F10, 8)","v":"00000000"},{"$f":"DEC2BIN(X0withPad!G10, 8)","v":"00000000"},{"$f":"DEC2BIN(X0withPad!H10, 8)","v":"11011110"},{"$f":"DEC2BIN(X0withPad!I10, 8)","v":"11111110"},{"$f":"DEC2BIN(X0withPad!J10, 8)","v":"11111110"},{"$f":"DEC2BIN(X0withPad!K10, 8)","v":"11111110"},{"$f":"DEC2BIN(X0withPad!L10, 8)","v":"11111110"},{"$f":"DEC2BIN(X0withPad!M10, 8)","v":"11110001"},{"$f":"DEC2BIN(X0withPad!N10, 8)","v":"11000110"},{"$f":"DEC2BIN(X0withPad!O10, 8)","v":"11000110"},{"$f":"DEC2BIN(X0withPad!P10, 8)","v":"11000110"},{"$f":"DEC2BIN(X0withPad!Q10, 8)","v":"11000110"},{"$f":"DEC2BIN(X0withPad!R10, 8)","v":"11000110"},{"$f":"DEC2BIN(X0withPad!S10, 8)","v":"11000110"},{"$f":"DEC2BIN(X0withPad!T10, 8)","v":"11000110"},{"$f":"DEC2BIN(X0withPad!U10, 8)","v":"11000110"},{"$f":"DEC2BIN(X0withPad!V10, 8)","v":"10101010"},{"$f":"DEC2BIN(X0withPad!W10, 8)","v":"00110100"},{"$f":"DEC2BIN(X0withPad!X10, 8)","v":"00000000"},{"$f":"DEC2BIN(X0withPad!Y10, 8)","v":"00000000"},{"$f":"DEC2BIN(X0withPad!Z10, 8)","v":"00000000"},{"$f":"DEC2BIN(X0withPad!AA10, 8)","v":"00000000"},{"$f":"DEC2BIN(X0withPad!AB10, 8)","v":"00000000"},{"$f":"DEC2BIN(X0withPad!AC10, 8)","v":"00000000"},{"$f":"DEC2BIN(X0withPad!AD10, 8)","v":"00000000"}]
[{"$f":"DEC2BIN(X0withPad!A11, 8)","v":"00000000"},{"$f":"DEC2BIN(X0withPad!B11, 8)","v":"00000000"},{"$f":"DEC2BIN(X0withPad!C11, 8)","v":"00000000"},{"$f":"DEC2BIN(X0withPad!D11, 8)","v":"00000000"},{"$f":"DEC2BIN(X0withPad!E11, 8)","v":"00000000"},{"$f":"DEC2BIN(X0withPad!F11, 8)","v":"00000000"},{"$f":"DEC2BIN(X0withPad!G11, 8)","v":"00000000"},{"$f":"DEC2BIN(X0withPad!H11, 8)","v":"01000011"},{"$f":"DEC2BIN(X0withPad!I11, 8)","v":"01110010"},{"$f":"DEC2BIN(X0withPad!J11, 8)","v":"01001000"},{"$f":"DEC2BIN(X0withPad!K11, 8)","v":"01110010"},{"$f":"DEC2BIN(X0withPad!L11, 8)","v":"10100011"},{"$f":"DEC2BIN(X0withPad!M11, 8)","v":"11100011"},{"$f":"DEC2BIN(X0withPad!N11, 8)","v":"11111110"},{"$f":"DEC2BIN(X0withPad!O11, 8)","v":"11100001"},{"$f":"DEC2BIN(X0withPad!P11, 8)","v":"11111110"},{"$f":"DEC2BIN(X0withPad!Q11, 8)","v":"11111110"},{"$f":"DEC2BIN(X0withPad!R11, 8)","v":"11111110"},{"$f":"DEC2BIN(X0withPad!S11, 8)","v":"11111010"},{"$f":"DEC2BIN(X0withPad!T11, 8)","v":"11100101"},{"$f":"DEC2BIN(X0withPad!U11, 8)","v":"11111110"},{"$f":"DEC2BIN(X0withPad!V11, 8)","v":"11111110"},{"$f":"DEC2BIN(X0withPad!W11, 8)","v":"10001100"},{"$f":"DEC2BIN(X0withPad!X11, 8)","v":"00000000"},{"$f":"DEC2BIN(X0withPad!Y11, 8)","v":"00000000"},{"$f":"DEC2BIN(X0withPad!Z11, 8)","v":"00000000"},{"$f":"DEC2BIN(X0withPad!AA11, 8)","v":"00000000"},{"$f":"DEC2BIN(X0withPad!AB11, 8)","v":"00000000"},{"$f":"DEC2BIN(X0withPad!AC11, 8)","v":"00000000"},{"$f":"DEC2BIN(X0withPad!AD11, 8)","v":"00000000"}]
[{"$f":"DEC2BIN(X0withPad!A12, 8)","v":"00000000"},{"$f":"DEC2BIN(X0withPad!B12, 8)","v":"00000000"},{"$f":"DEC2BIN(X0withPad!C12, 8)","v":"00000000"},{"$f":"DEC2BIN(X0withPad!D12, 8)","v":"00000000"},{"$f":"DEC2BIN(X0withPad!E12, 8)","v":"00000000"},{"$f":"DEC2BIN(X0withPad!F12, 8)","v":"00000000"},{"$f":"DEC2BIN(X0withPad!G12, 8)","v":"00000000"},{"$f":"DEC2BIN(X0withPad!H12, 8)","v":"00000000"},{"$f":"DEC2BIN(X0withPad!I12, 8)","v":"00000000"},{"$f":"DEC2BIN(X0withPad!J12, 8)","v":"00000000"},{"$f":"DEC2BIN(X0withPad!K12, 8)","v":"00000000"},{"$f":"DEC2BIN(X0withPad!L12, 8)","v":"00000000"},{"$f":"DEC2BIN(X0withPad!M12, 8)","v":"00010001"},{"$f":"DEC2BIN(X0withPad!N12, 8)","v":"01000010"},{"$f":"DEC2BIN(X0withPad!O12, 8)","v":"00001110"},{"$f":"DEC2BIN(X0withPad!P12, 8)","v":"01000011"},{"$f":"DEC2BIN(X0withPad!Q12, 8)","v":"01000011"},{"$f":"DEC2BIN(X0withPad!R12, 8)","v":"01000011"},{"$f":"DEC2BIN(X0withPad!S12, 8)","v":"00111011"},{"$f":"DEC2BIN(X0withPad!T12, 8)","v":"00010101"},{"$f":"DEC2BIN(X0withPad!U12, 8)","v":"11101100"},{"$f":"DEC2BIN(X0withPad!V12, 8)","v":"11111110"},{"$f":"DEC2BIN(X0withPad!W12, 8)","v":"01101010"},{"$f":"DEC2BIN(X0withPad!X12, 8)","v":"00000000"},{"$f":"DEC2BIN(X0withPad!Y12, 8)","v":"00000000"},{"$f":"DEC2BIN(X0withPad!Z12, 8)","v":"00000000"},{"$f":"DEC2BIN(X0withPad!AA12, 8)","v":"00000000"},{"$f":"DEC2BIN(X0withPad!AB12, 8)","v":"00000000"},{"$f":"DEC2BIN(X0withPad!AC12, 8)","v":"00000000"},{"$f":"DEC2BIN(X0withPad!AD12, 8)","v":"00000000"}]
[{"$f":"DEC2BIN(X0withPad!A13, 8)","v":"00000000"},{"$f":"DEC2BIN(X0withPad!B13, 8)","v":"00000000"},{"$f":"DEC2BIN(X0withPad!C13, 8)","v":"00000000"},{"$f":"DEC2BIN(X0withPad!D13, 8)","v":"00000000"},{"$f":"DEC2BIN(X0withPad!E13, 8)","v":"00000000"},{"$f":"DEC2BIN(X0withPad!F13, 8)","v":"00000000"},{"$f":"DEC2BIN(X0withPad!G13, 8)","v":"00000000"},{"$f":"DEC2BIN(X0withPad!H13, 8)","v":"00000000"},{"$f":"DEC2BIN(X0withPad!I13, 8)","v":"00000000"},{"$f":"DEC2BIN(X0withPad!J13, 8)","v":"00000000"},{"$f":"DEC2BIN(X0withPad!K13, 8)","v":"00000000"},{"$f":"DEC2BIN(X0withPad!L13, 8)","v":"00000000"},{"$f":"DEC2BIN(X0withPad!M13, 8)","v":"00000000"},{"$f":"DEC2BIN(X0withPad!N13, 8)","v":"00000000"},{"$f":"DEC2BIN(X0withPad!O13, 8)","v":"00000000"},{"$f":"DEC2BIN(X0withPad!P13, 8)","v":"00000000"},{"$f":"DEC2BIN(X0withPad!Q13, 8)","v":"00000000"},{"$f":"DEC2BIN(X0withPad!R13, 8)","v":"00000000"},{"$f":"DEC2BIN(X0withPad!S13, 8)","v":"00000000"},{"$f":"DEC2BIN(X0withPad!T13, 8)","v":"01010011"},{"$f":"DEC2BIN(X0withPad!U13, 8)","v":"11111101"},{"$f":"DEC2BIN(X0withPad!V13, 8)","v":"11010001"},{"$f":"DEC2BIN(X0withPad!W13, 8)","v":"00010010"},{"$f":"DEC2BIN(X0withPad!X13, 8)","v":"00000000"},{"$f":"DEC2BIN(X0withPad!Y13, 8)","v":"00000000"},{"$f":"DEC2BIN(X0withPad!Z13, 8)","v":"00000000"},{"$f":"DEC2BIN(X0withPad!AA13, 8)","v":"00000000"},{"$f":"DEC2BIN(X0withPad!AB13, 8)","v":"00000000"},{"$f":"DEC2BIN(X0withPad!AC13, 8)","v":"00000000"},{"$f":"DEC2BIN(X0withPad!AD13, 8)","v":"00000000"}]
[{"$f":"DEC2BIN(X0withPad!A14, 8)","v":"00000000"},{"$f":"DEC2BIN(X0withPad!B14, 8)","v":"00000000"},{"$f":"DEC2BIN(X0withPad!C14, 8)","v":"00000000"},{"$f":"DEC2BIN(X0withPad!D14, 8)","v":"00000000"},{"$f":"DEC2BIN(X0withPad!E14, 8)","v":"00000000"},{"$f":"DEC2BIN(X0withPad!F14, 8)","v":"00000000"},{"$f":"DEC2BIN(X0withPad!G14, 8)","v":"00000000"},{"$f":"DEC2BIN(X0withPad!H14, 8)","v":"00000000"},{"$f":"DEC2BIN(X0withPad!I14, 8)","v":"00000000"},{"$f":"DEC2BIN(X0withPad!J14, 8)","v":"00000000"},{"$f":"DEC2BIN(X0withPad!K14, 8)","v":"00000000"},{"$f":"DEC2BIN(X0withPad!L14, 8)","v":"00000000"},{"$f":"DEC2BIN(X0withPad!M14, 8)","v":"00000000"},{"$f":"DEC2BIN(X0withPad!N14, 8)","v":"00000000"},{"$f":"DEC2BIN(X0withPad!O14, 8)","v":"00000000"},{"$f":"DEC2BIN(X0withPad!P14, 8)","v":"00000000"},{"$f":"DEC2BIN(X0withPad!Q14, 8)","v":"00000000"},{"$f":"DEC2BIN(X0withPad!R14, 8)","v":"00000000"},{"$f":"DEC2BIN(X0withPad!S14, 8)","v":"00010110"},{"$f":"DEC2BIN(X0withPad!T14, 8)","v":"11101001"},{"$f":"DEC2BIN(X0withPad!U14, 8)","v":"11111111"},{"$f":"DEC2BIN(X0withPad!V14, 8)","v":"01010011"},{"$f":"DEC2BIN(X0withPad!W14, 8)","v":"00000000"},{"$f":"DEC2BIN(X0withPad!X14, 8)","v":"00000000"},{"$f":"DEC2BIN(X0withPad!Y14, 8)","v":"00000000"},{"$f":"DEC2BIN(X0withPad!Z14, 8)","v":"00000000"},{"$f":"DEC2BIN(X0withPad!AA14, 8)","v":"00000000"},{"$f":"DEC2BIN(X0withPad!AB14, 8)","v":"00000000"},{"$f":"DEC2BIN(X0withPad!AC14, 8)","v":"00000000"},{"$f":"DEC2BIN(X0withPad!AD14, 8)","v":"00000000"}]
[{"$f":"DEC2BIN(X0withPad!A15, 8)","v":"00000000"},{"$f":"DEC2BIN(X0withPad!B15, 8)","v":"00000000"},{"$f":"DEC2BIN(X0withPad!C15, 8)","v":"00000000"},{"$f":"DEC2BIN(X0withPad!D15, 8)","v":"00000000"},{"$f":"DEC2BIN(X0withPad!E15, 8)","v":"00000000"},{"$f":"DEC2BIN(X0withPad!F15, 8)","v":"00000000"},{"$f":"DEC2BIN(X0withPad!G15, 8)","v":"00000000"},{"$f":"DEC2BIN(X0withPad!H15, 8)","v":"00000000"},{"$f":"DEC2BIN(X0withPad!I15, 8)","v":"00000000"},{"$f":"DEC2BIN(X0withPad!J15, 8)","v":"00000000"},{"$f":"DEC2BIN(X0withPad!K15, 8)","v":"00000000"},{"$f":"DEC2BIN(X0withPad!L15, 8)","v":"00000000"},{"$f":"DEC2BIN(X0withPad!M15, 8)","v":"00000000"},{"$f":"DEC2BIN(X0withPad!N15, 8)","v":"00000000"},{"$f":"DEC2BIN(X0withPad!O15, 8)","v":"00000000"},{"$f":"DEC2BIN(X0withPad!P15, 8)","v":"00000000"},{"$f":"DEC2BIN(X0withPad!Q15, 8)","v":"00000000"},{"$f":"DEC2BIN(X0withPad!R15, 8)","v":"00000000"},{"$f":"DEC2BIN(X0withPad!S15, 8)","v":"10000001"},{"$f":"DEC2BIN(X0withPad!T15, 8)","v":"11111110"},{"$f":"DEC2BIN(X0withPad!U15, 8)","v":"11101110"},{"$f":"DEC2BIN(X0withPad!V15, 8)","v":"00101100"},{"$f":"DEC2BIN(X0withPad!W15, 8)","v":"00000000"},{"$f":"DEC2BIN(X0withPad!X15, 8)","v":"00000000"},{"$f":"DEC2BIN(X0withPad!Y15, 8)","v":"00000000"},{"$f":"DEC2BIN(X0withPad!Z15, 8)","v":"00000000"},{"$f":"DEC2BIN(X0withPad!AA15, 8)","v":"00000000"},{"$f":"DEC2BIN(X0withPad!AB15, 8)","v":"00000000"},{"$f":"DEC2BIN(X0withPad!AC15, 8)","v":"00000000"},{"$f":"DEC2BIN(X0withPad!AD15, 8)","v":"00000000"}]
[{"$f":"DEC2BIN(X0withPad!A16, 8)","v":"00000000"},{"$f":"DEC2BIN(X0withPad!B16, 8)","v":"00000000"},{"$f":"DEC2BIN(X0withPad!C16, 8)","v":"00000000"},{"$f":"DEC2BIN(X0withPad!D16, 8)","v":"00000000"},{"$f":"DEC2BIN(X0withPad!E16, 8)","v":"00000000"},{"$f":"DEC2BIN(X0withPad!F16, 8)","v":"00000000"},{"$f":"DEC2BIN(X0withPad!G16, 8)","v":"00000000"},{"$f":"DEC2BIN(X0withPad!H16, 8)","v":"00000000"},{"$f":"DEC2BIN(X0withPad!I16, 8)","v":"00000000"},{"$f":"DEC2BIN(X0withPad!J16, 8)","v":"00000000"},{"$f":"DEC2BIN(X0withPad!K16, 8)","v":"00000000"},{"$f":"DEC2BIN(X0withPad!L16, 8)","v":"00000000"},{"$f":"DEC2BIN(X0withPad!M16, 8)","v":"00000000"},{"$f":"DEC2BIN(X0withPad!N16, 8)","v":"00000000"},{"$f":"DEC2BIN(X0withPad!O16, 8)","v":"00000000"},{"$f":"DEC2BIN(X0withPad!P16, 8)","v":"00000000"},{"$f":"DEC2BIN(X0withPad!Q16, 8)","v":"00000000"},{"$f":"DEC2BIN(X0withPad!R16, 8)","v":"00111011"},{"$f":"DEC2BIN(X0withPad!S16, 8)","v":"11111001"},{"$f":"DEC2BIN(X0withPad!T16, 8)","v":"11111110"},{"$f":"DEC2BIN(X0withPad!U16, 8)","v":"00111110"},{"$f":"DEC2BIN(X0withPad!V16, 8)","v":"00000000"},{"$f":"DEC2BIN(X0withPad!W16, 8)","v":"00000000"},{"$f":"DEC2BIN(X0withPad!X16, 8)","v":"00000000"},{"$f":"DEC2BIN(X0withPad!Y16, 8)","v":"00000000"},{"$f":"DEC2BIN(X0withPad!Z16, 8)","v":"00000000"},{"$f":"DEC2BIN(X0withPad!AA16, 8)","v":"00000000"},{"$f":"DEC2BIN(X0withPad!AB16, 8)","v":"00000000"},{"$f":"DEC2BIN(X0withPad!AC16, 8)","v":"00000000"},{"$f":"DEC2BIN(X0withPad!AD16, 8)","v":"00000000"}]
[{"$f":"DEC2BIN(X0withPad!A17, 8)","v":"00000000"},{"$f":"DEC2BIN(X0withPad!B17, 8)","v":"00000000"},{"$f":"DEC2BIN(X0withPad!C17, 8)","v":"00000000"},{"$f":"DEC2BIN(X0withPad!D17, 8)","v":"00000000"},{"$f":"DEC2BIN(X0withPad!E17, 8)","v":"00000000"},{"$f":"DEC2BIN(X0withPad!F17, 8)","v":"00000000"},{"$f":"DEC2BIN(X0withPad!G17, 8)","v":"00000000"},{"$f":"DEC2BIN(X0withPad!H17, 8)","v":"00000000"},{"$f":"DEC2BIN(X0withPad!I17, 8)","v":"00000000"},{"$f":"DEC2BIN(X0withPad!J17, 8)","v":"00000000"},{"$f":"DEC2BIN(X0withPad!K17, 8)","v":"00000000"},{"$f":"DEC2BIN(X0withPad!L17, 8)","v":"00000000"},{"$f":"DEC2BIN(X0withPad!M17, 8)","v":"00000000"},{"$f":"DEC2BIN(X0withPad!N17, 8)","v":"00000000"},{"$f":"DEC2BIN(X0withPad!O17, 8)","v":"00000000"},{"$f":"DEC2BIN(X0withPad!P17, 8)","v":"00000000"},{"$f":"DEC2BIN(X0withPad!Q17, 8)","v":"00000000"},{"$f":"DEC2BIN(X0withPad!R17, 8)","v":"10000101"},{"$f":"DEC2BIN(X0withPad!S17, 8)","v":"11111110"},{"$f":"DEC2BIN(X0withPad!T17, 8)","v":"10111011"},{"$f":"DEC2BIN(X0withPad!U17, 8)","v":"00000101"},{"$f":"DEC2BIN(X0withPad!V17, 8)","v":"00000000"},{"$f":"DEC2BIN(X0withPad!W17, 8)","v":"00000000"},{"$f":"DEC2BIN(X0withPad!X17, 8)","v":"00000000"},{"$f":"DEC2BIN(X0withPad!Y17, 8)","v":"00000000"},{"$f":"DEC2BIN(X0withPad!Z17, 8)","v":"00000000"},{"$f":"DEC2BIN(X0withPad!AA17, 8)","v":"00000000"},{"$f":"DEC2BIN(X0withPad!AB17, 8)","v":"00000000"},{"$f":"DEC2BIN(X0withPad!AC17, 8)","v":"00000000"},{"$f":"DEC2BIN(X0withPad!AD17, 8)","v":"00000000"}]
[{"$f":"DEC2BIN(X0withPad!A18, 8)","v":"00000000"},{"$f":"DEC2BIN(X0withPad!B18, 8)","v":"00000000"},{"$f":"DEC2BIN(X0withPad!C18, 8)","v":"00000000"},{"$f":"DEC2BIN(X0withPad!D18, 8)","v":"00000000"},{"$f":"DEC2BIN(X0withPad!E18, 8)","v":"00000000"},{"$f":"DEC2BIN(X0withPad!F18, 8)","v":"00000000"},{"$f":"DEC2BIN(X0withPad!G18, 8)","v":"00000000"},{"$f":"DEC2BIN(X0withPad!H18, 8)","v":"00000000"},{"$f":"DEC2BIN(X0withPad!I18, 8)","v":"00000000"},{"$f":"DEC2BIN(X0withPad!J18, 8)","v":"00000000"},{"$f":"DEC2BIN(X0withPad!K18, 8)","v":"00000000"},{"$f":"DEC2BIN(X0withPad!L18, 8)","v":"00000000"},{"$f":"DEC2BIN(X0withPad!M18, 8)","v":"00000000"},{"$f":"DEC2BIN(X0withPad!N18, 8)","v":"00000000"},{"$f":"DEC2BIN(X0withPad!O18, 8)","v":"00000000"},{"$f":"DEC2BIN(X0withPad!P18, 8)","v":"00000000"},{"$f":"DEC2BIN(X0withPad!Q18, 8)","v":"00001001"},{"$f":"DEC2BIN(X0withPad!R18, 8)","v":"11001101"},{"$f":"DEC2BIN(X0withPad!S18, 8)","v":"11111000"},{"$f":"DEC2BIN(X0withPad!T18, 8)","v":"00111010"},{"$f":"DEC2BIN(X0withPad!U18, 8)","v":"00000000"},{"$f":"DEC2BIN(X0withPad!V18, 8)","v":"00000000"},{"$f":"DEC2BIN(X0withPad!W18, 8)","v":"00000000"},{"$f":"DEC2BIN(X0withPad!X18, 8)","v":"00000000"},{"$f":"DEC2BIN(X0withPad!Y18, 8)","v":"00000000"},{"$f":"DEC2BIN(X0withPad!Z18, 8)","v":"00000000"},{"$f":"DEC2BIN(X0withPad!AA18, 8)","v":"00000000"},{"$f":"DEC2BIN(X0withPad!AB18, 8)","v":"00000000"},{"$f":"DEC2BIN(X0withPad!AC18, 8)","v":"00000000"},{"$f":"DEC2BIN(X0withPad!AD18, 8)","v":"00000000"}]
[{"$f":"DEC2BIN(X0withPad!A19, 8)","v":"00000000"},{"$f":"DEC2BIN(X0withPad!B19, 8)","v":"00000000"},{"$f":"DEC2BIN(X0withPad!C19, 8)","v":"00000000"},{"$f":"DEC2BIN(X0withPad!D19, 8)","v":"00000000"},{"$f":"DEC2BIN(X0withPad!E19, 8)","v":"00000000"},{"$f":"DEC2BIN(X0withPad!F19, 8)","v":"00000000"},{"$f":"DEC2BIN(X0withPad!G19, 8)","v":"00000000"},{"$f":"DEC2BIN(X0withPad!H19, 8)","v":"00000000"},{"$f":"DEC2BIN(X0withPad!I19, 8)","v":"00000000"},{"$f":"DEC2BIN(X0withPad!J19, 8)","v":"00000000"},{"$f":"DEC2BIN(X0withPad!K19, 8)","v":"00000000"},{"$f":"DEC2BIN(X0withPad!L19, 8)","v":"00000000"},{"$f":"DEC2BIN(X0withPad!M19, 8)","v":"00000000"},{"$f":"DEC2BIN(X0withPad!N19, 8)","v":"00000000"},{"$f":"DEC2BIN(X0withPad!O19, 8)","v":"00000000"},{"$f":"DEC2BIN(X0withPad!P19, 8)","v":"00000000"},{"$f":"DEC2BIN(X0withPad!Q19, 8)","v":"01111110"},{"$f":"DEC2BIN(X0withPad!R19, 8)","v":"11111110"},{"$f":"DEC2BIN(X0withPad!S19, 8)","v":"10110110"},{"$f":"DEC2BIN(X0withPad!T19, 8)","v":"00000000"},{"$f":"DEC2BIN(X0withPad!U19, 8)","v":"00000000"},{"$f":"DEC2BIN(X0withPad!V19, 8)","v":"00000000"},{"$f":"DEC2BIN(X0withPad!W19, 8)","v":"00000000"},{"$f":"DEC2BIN(X0withPad!X19, 8)","v":"00000000"},{"$f":"DEC2BIN(X0withPad!Y19, 8)","v":"00000000"},{"$f":"DEC2BIN(X0withPad!Z19, 8)","v":"00000000"},{"$f":"DEC2BIN(X0withPad!AA19, 8)","v":"00000000"},{"$f":"DEC2BIN(X0withPad!AB19, 8)","v":"00000000"},{"$f":"DEC2BIN(X0withPad!AC19, 8)","v":"00000000"},{"$f":"DEC2BIN(X0withPad!AD19, 8)","v":"00000000"}]
[{"$f":"DEC2BIN(X0withPad!A20, 8)","v":"00000000"},{"$f":"DEC2BIN(X0withPad!B20, 8)","v":"00000000"},{"$f":"DEC2BIN(X0withPad!C20, 8)","v":"00000000"},{"$f":"DEC2BIN(X0withPad!D20, 8)","v":"00000000"},{"$f":"DEC2BIN(X0withPad!E20, 8)","v":"00000000"},{"$f":"DEC2BIN(X0withPad!F20, 8)","v":"00000000"},{"$f":"DEC2BIN(X0withPad!G20, 8)","v":"00000000"},{"$f":"DEC2BIN(X0withPad!H20, 8)","v":"00000000"},{"$f":"DEC2BIN(X0withPad!I20, 8)","v":"00000000"},{"$f":"DEC2BIN(X0withPad!J20, 8)","v":"00000000"},{"$f":"DEC2BIN(X0withPad!K20, 8)","v":"00000000"},{"$f":"DEC2BIN(X0withPad!L20, 8)","v":"00000000"},{"$f":"DEC2BIN(X0withPad!M20, 8)","v":"00000000"},{"$f":"DEC2BIN(X0withPad!N20, 8)","v":"00000000"},{"$f":"DEC2BIN(X0withPad!O20, 8)","v":"00000000"},{"$f":"DEC2BIN(X0withPad!P20, 8)","v":"01001011"},{"$f":"DEC2BIN(X0withPad!Q20, 8)","v":"11111011"},{"$f":"DEC2BIN(X0withPad!R20, 8)","v":"11110000"},{"$f":"DEC2BIN(X0withPad!S20, 8)","v":"00111001"},{"$f":"DEC2BIN(X0withPad!T20, 8)","v":"00000000"},{"$f":"DEC2BIN(X0withPad!U20, 8)","v":"00000000"},{"$f":"DEC2BIN(X0withPad!V20, 8)","v":"00000000"},{"$f":"DEC2BIN(X0withPad!W20, 8)","v":"00000000"},{"$f":"DEC2BIN(X0withPad!X20, 8)","v":"00000000"},{"$f":"DEC2BIN(X0withPad!Y20, 8)","v":"00000000"},{"$f":"DEC2BIN(X0withPad!Z20, 8)","v":"00000000"},{"$f":"DEC2BIN(X0withPad!AA20, 8)","v":"00000000"},{"$f":"DEC2BIN(X0withPad!AB20, 8)","v":"00000000"},{"$f":"DEC2BIN(X0withPad!AC20, 8)","v":"00000000"},{"$f":"DEC2BIN(X0withPad!AD20, 8)","v":"00000000"}]
[{"$f":"DEC2BIN(X0withPad!A21, 8)","v":"00000000"},{"$f":"DEC2BIN(X0withPad!B21, 8)","v":"00000000"},{"$f":"DEC2BIN(X0withPad!C21, 8)","v":"00000000"},{"$f":"DEC2BIN(X0withPad!D21, 8)","v":"00000000"},{"$f":"DEC2BIN(X0withPad!E21, 8)","v":"00000000"},{"$f":"DEC2BIN(X0withPad!F21, 8)","v":"00000000"},{"$f":"DEC2BIN(X0withPad!G21, 8)","v":"00000000"},{"$f":"DEC2BIN(X0withPad!H21, 8)","v":"00000000"},{"$f":"DEC2BIN(X0withPad!I21, 8)","v":"00000000"},{"$f":"DEC2BIN(X0withPad!J21, 8)","v":"00000000"},{"$f":"DEC2BIN(X0withPad!K21, 8)","v":"00000000"},{"$f":"DEC2BIN(X0withPad!L21, 8)","v":"00000000"},{"$f":"DEC2BIN(X0withPad!M21, 8)","v":"00000000"},{"$f":"DEC2BIN(X0withPad!N21, 8)","v":"00000000"},{"$f":"DEC2BIN(X0withPad!O21, 8)","v":"00010011"},{"$f":"DEC2BIN(X0withPad!P21, 8)","v":"11011101"},{"$f":"DEC2BIN(X0withPad!Q21, 8)","v":"11111110"},{"$f":"DEC2BIN(X0withPad!R21, 8)","v":"10100110"},{"$f":"DEC2BIN(X0withPad!S21, 8)","v":"00000000"},{"$f":"DEC2BIN(X0withPad!T21, 8)","v":"00000000"},{"$f":"DEC2BIN(X0withPad!U21, 8)","v":"00000000"},{"$f":"DEC2BIN(X0withPad!V21, 8)","v":"00000000"},{"$f":"DEC2BIN(X0withPad!W21, 8)","v":"00000000"},{"$f":"DEC2BIN(X0withPad!X21, 8)","v":"00000000"},{"$f":"DEC2BIN(X0withPad!Y21, 8)","v":"00000000"},{"$f":"DEC2BIN(X0withPad!Z21, 8)","v":"00000000"},{"$f":"DEC2BIN(X0withPad!AA21, 8)","v":"00000000"},{"$f":"DEC2BIN(X0withPad!AB21, 8)","v":"00000000"},{"$f":"DEC2BIN(X0withPad!AC21, 8)","v":"00000000"},{"$f":"DEC2BIN(X0withPad!AD21, 8)","v":"00000000"}]
[{"$f":"DEC2BIN(X0withPad!A22, 8)","v":"00000000"},{"$f":"DEC2BIN(X0withPad!B22, 8)","v":"00000000"},{"$f":"DEC2BIN(X0withPad!C22, 8)","v":"00000000"},{"$f":"DEC2BIN(X0withPad!D22, 8)","v":"00000000"},{"$f":"DEC2BIN(X0withPad!E22, 8)","v":"00000000"},{"$f":"DEC2BIN(X0withPad!F22, 8)","v":"00000000"},{"$f":"DEC2BIN(X0withPad!G22, 8)","v":"00000000"},{"$f":"DEC2BIN(X0withPad!H22, 8)","v":"00000000"},{"$f":"DEC2BIN(X0withPad!I22, 8)","v":"00000000"},{"$f":"DEC2BIN(X0withPad!J22, 8)","v":"00000000"},{"$f":"DEC2BIN(X0withPad!K22, 8)","v":"00000000"},{"$f":"DEC2BIN(X0withPad!L22, 8)","v":"00000000"},{"$f":"DEC2BIN(X0withPad!M22, 8)","v":"00000000"},{"$f":"DEC2BIN(X0withPad!N22, 8)","v":"00000011"},{"$f":"DEC2BIN(X0withPad!O22, 8)","v":"11001011"},{"$f":"DEC2BIN(X0withPad!P22, 8)","v":"11111110"},{"$f":"DEC2BIN(X0withPad!Q22, 8)","v":"11011011"},{"$f":"DEC2BIN(X0withPad!R22, 8)","v":"00100011"},{"$f":"DEC2BIN(X0withPad!S22, 8)","v":"00000000"},{"$f":"DEC2BIN(X0withPad!T22, 8)","v":"00000000"},{"$f":"DEC2BIN(X0withPad!U22, 8)","v":"00000000"},{"$f":"DEC2BIN(X0withPad!V22, 8)","v":"00000000"},{"$f":"DEC2BIN(X0withPad!W22, 8)","v":"00000000"},{"$f":"DEC2BIN(X0withPad!X22, 8)","v":"00000000"},{"$f":"DEC2BIN(X0withPad!Y22, 8)","v":"00000000"},{"$f":"DEC2BIN(X0withPad!Z22, 8)","v":"00000000"},{"$f":"DEC2BIN(X0withPad!AA22, 8)","v":"00000000"},{"$f":"DEC2BIN(X0withPad!AB22, 8)","v":"00000000"},{"$f":"DEC2BIN(X0withPad!AC22, 8)","v":"00000000"},{"$f":"DEC2BIN(X0withPad!AD22, 8)","v":"00000000"}]
[{"$f":"DEC2BIN(X0withPad!A23, 8)","v":"00000000"},{"$f":"DEC2BIN(X0withPad!B23, 8)","v":"00000000"},{"$f":"DEC2BIN(X0withPad!C23, 8)","v":"00000000"},{"$f":"DEC2BIN(X0withPad!D23, 8)","v":"00000000"},{"$f":"DEC2BIN(X0withPad!E23, 8)","v":"00000000"},{"$f":"DEC2BIN(X0withPad!F23, 8)","v":"00000000"},{"$f":"DEC2BIN(X0withPad!G23, 8)","v":"00000000"},{"$f":"DEC2BIN(X0withPad!H23, 8)","v":"00000000"},{"$f":"DEC2BIN(X0withPad!I23, 8)","v":"00000000"},{"$f":"DEC2BIN(X0withPad!J23, 8)","v":"00000000"},{"$f":"DEC2BIN(X0withPad!K23, 8)","v":"00000000"},{"$f":"DEC2BIN(X0withPad!L23, 8)","v":"00000000"},{"$f":"DEC2BIN(X0withPad!M23, 8)","v":"00000000"},{"$f":"DEC2BIN(X0withPad!N23, 8)","v":"00100110"},{"$f":"DEC2BIN(X0withPad!O23, 8)","v":"11111110"},{"$f":"DEC2BIN(X0withPad!P23, 8)","v":"11111110"},{"$f":"DEC2BIN(X0withPad!Q23, 8)","v":"01001101"},{"$f":"DEC2BIN(X0withPad!R23, 8)","v":"00000000"},{"$f":"DEC2BIN(X0withPad!S23, 8)","v":"00000000"},{"$f":"DEC2BIN(X0withPad!T23, 8)","v":"00000000"},{"$f":"DEC2BIN(X0withPad!U23, 8)","v":"00000000"},{"$f":"DEC2BIN(X0withPad!V23, 8)","v":"00000000"},{"$f":"DEC2BIN(X0withPad!W23, 8)","v":"00000000"},{"$f":"DEC2BIN(X0withPad!X23, 8)","v":"00000000"},{"$f":"DEC2BIN(X0withPad!Y23, 8)","v":"00000000"},{"$f":"DEC2BIN(X0withPad!Z23, 8)","v":"00000000"},{"$f":"DEC2BIN(X0withPad!AA23, 8)","v":"00000000"},{"$f":"DEC2BIN(X0withPad!AB23, 8)","v":"00000000"},{"$f":"DEC2BIN(X0withPad!AC23, 8)","v":"00000000"},{"$f":"DEC2BIN(X0withPad!AD23, 8)","v":"00000000"}]
[{"$f":"DEC2BIN(X0withPad!A24, 8)","v":"00000000"},{"$f":"DEC2BIN(X0withPad!B24, 8)","v":"00000000"},{"$f":"DEC2BIN(X0withPad!C24, 8)","v":"00000000"},{"$f":"DEC2BIN(X0withPad!D24, 8)","v":"00000000"},{"$f":"DEC2BIN(X0withPad!E24, 8)","v":"00000000"},{"$f":"DEC2BIN(X0withPad!F24, 8)","v":"00000000"},{"$f":"DEC2BIN(X0withPad!G24, 8)","v":"00000000"},{"$f":"DEC2BIN(X0withPad!H24, 8)","v":"00000000"},{"$f":"DEC2BIN(X0withPad!I24, 8)","v":"00000000"},{"$f":"DEC2BIN(X0withPad!J24, 8)","v":"00000000"},{"$f":"DEC2BIN(X0withPad!K24, 8)","v":"00000000"},{"$f":"DEC2BIN(X0withPad!L24, 8)","v":"00000000"},{"$f":"DEC2BIN(X0withPad!M24, 8)","v":"00011111"},{"$f":"DEC2BIN(X0withPad!N24, 8)","v":"11100000"},{"$f":"DEC2BIN(X0withPad!O24, 8)","v":"11111110"},{"$f":"DEC2BIN(X0withPad!P24, 8)","v":"01110011"},{"$f":"DEC2BIN(X0withPad!Q24, 8)","v":"00000001"},{"$f":"DEC2BIN(X0withPad!R24, 8)","v":"00000000"},{"$f":"DEC2BIN(X0withPad!S24, 8)","v":"00000000"},{"$f":"DEC2BIN(X0withPad!T24, 8)","v":"00000000"},{"$f":"DEC2BIN(X0withPad!U24, 8)","v":"00000000"},{"$f":"DEC2BIN(X0withPad!V24, 8)","v":"00000000"},{"$f":"DEC2BIN(X0withPad!W24, 8)","v":"00000000"},{"$f":"DEC2BIN(X0withPad!X24, 8)","v":"00000000"},{"$f":"DEC2BIN(X0withPad!Y24, 8)","v":"00000000"},{"$f":"DEC2BIN(X0withPad!Z24, 8)","v":"00000000"},{"$f":"DEC2BIN(X0withPad!AA24, 8)","v":"00000000"},{"$f":"DEC2BIN(X0withPad!AB24, 8)","v":"00000000"},{"$f":"DEC2BIN(X0withPad!AC24, 8)","v":"00000000"},{"$f":"DEC2BIN(X0withPad!AD24, 8)","v":"00000000"}]
[{"$f":"DEC2BIN(X0withPad!A25, 8)","v":"00000000"},{"$f":"DEC2BIN(X0withPad!B25, 8)","v":"00000000"},{"$f":"DEC2BIN(X0withPad!C25, 8)","v":"00000000"},{"$f":"DEC2BIN(X0withPad!D25, 8)","v":"00000000"},{"$f":"DEC2BIN(X0withPad!E25, 8)","v":"00000000"},{"$f":"DEC2BIN(X0withPad!F25, 8)","v":"00000000"},{"$f":"DEC2BIN(X0withPad!G25, 8)","v":"00000000"},{"$f":"DEC2BIN(X0withPad!H25, 8)","v":"00000000"},{"$f":"DEC2BIN(X0withPad!I25, 8)","v":"00000000"},{"$f":"DEC2BIN(X0withPad!J25, 8)","v":"00000000"},{"$f":"DEC2BIN(X0withPad!K25, 8)","v":"00000000"},{"$f":"DEC2BIN(X0withPad!L25, 8)","v":"00000000"},{"$f":"DEC2BIN(X0withPad!M25, 8)","v":"10000101"},{"$f":"DEC2BIN(X0withPad!N25, 8)","v":"11111110"},{"$f":"DEC2BIN(X0withPad!O25, 8)","v":"11111110"},{"$f":"DEC2BIN(X0withPad!P25, 8)","v":"00110100"},{"$f":"DEC2BIN(X0withPad!Q25, 8)","v":"00000000"},{"$f":"DEC2BIN(X0withPad!R25, 8)","v":"00000000"},{"$f":"DEC2BIN(X0withPad!S25, 8)","v":"00000000"},{"$f":"DEC2BIN(X0withPad!T25, 8)","v":"00000000"},{"$f":"DEC2BIN(X0withPad!U25, 8)","v":"00000000"},{"$f":"DEC2BIN(X0withPad!V25, 8)","v":"00000000"},{"$f":"DEC2BIN(X0withPad!W25, 8)","v":"00000000"},{"$f":"DEC2BIN(X0withPad!X25, 8)","v":"00000000"},{"$f":"DEC2BIN(X0withPad!Y25, 8)","v":"00000000"},{"$f":"DEC2BIN(X0withPad!Z25, 8)","v":"00000000"},{"$f":"DEC2BIN(X0withPad!AA25, 8)","v":"00000000"},{"$f":"DEC2BIN(X0withPad!AB25, 8)","v":"00000000"},{"$f":"DEC2BIN(X0withPad!AC25, 8)","v":"00000000"},{"$f":"DEC2BIN(X0withPad!AD25, 8)","v":"00000000"}]
[{"$f":"DEC2BIN(X0withPad!A26, 8)","v":"00000000"},{"$f":"DEC2BIN(X0withPad!B26, 8)","v":"00000000"},{"$f":"DEC2BIN(X0withPad!C26, 8)","v":"00000000"},{"$f":"DEC2BIN(X0withPad!D26, 8)","v":"00000000"},{"$f":"DEC2BIN(X0withPad!E26, 8)","v":"00000000"},{"$f":"DEC2BIN(X0withPad!F26, 8)","v":"00000000"},{"$f":"DEC2BIN(X0withPad!G26, 8)","v":"00000000"},{"$f":"DEC2BIN(X0withPad!H26, 8)","v":"00000000"},{"$f":"DEC2BIN(X0withPad!I26, 8)","v":"00000000"},{"$f":"DEC2BIN(X0withPad!J26, 8)","v":"00000000"},{"$f":"DEC2BIN(X0withPad!K26, 8)","v":"00000000"},{"$f":"DEC2BIN(X0withPad!L26, 8)","v":"00111101"},{"$f":"DEC2BIN(X0withPad!M26, 8)","v":"11110010"},{"$f":"DEC2BIN(X0withPad!N26, 8)","v":"11111110"},{"$f":"DEC2BIN(X0withPad!O26, 8)","v":"11111110"},{"$f":"DEC2BIN(X0withPad!P26, 8)","v":"00110100"},{"$f":"DEC2BIN(X0withPad!Q26, 8)","v":"00000000"},{"$f":"DEC2BIN(X0withPad!R26, 8)","v":"00000000"},{"$f":"DEC2BIN(X0withPad!S26, 8)","v":"00000000"},{"$f":"DEC2BIN(X0withPad!T26, 8)","v":"00000000"},{"$f":"DEC2BIN(X0withPad!U26, 8)","v":"00000000"},{"$f":"DEC2BIN(X0withPad!V26, 8)","v":"00000000"},{"$f":"DEC2BIN(X0withPad!W26, 8)","v":"00000000"},{"$f":"DEC2BIN(X0withPad!X26, 8)","v":"00000000"},{"$f":"DEC2BIN(X0withPad!Y26, 8)","v":"00000000"},{"$f":"DEC2BIN(X0withPad!Z26, 8)","v":"00000000"},{"$f":"DEC2BIN(X0withPad!AA26, 8)","v":"00000000"},{"$f":"DEC2BIN(X0withPad!AB26, 8)","v":"00000000"},{"$f":"DEC2BIN(X0withPad!AC26, 8)","v":"00000000"},{"$f":"DEC2BIN(X0withPad!AD26, 8)","v":"00000000"}]
[{"$f":"DEC2BIN(X0withPad!A27, 8)","v":"00000000"},{"$f":"DEC2BIN(X0withPad!B27, 8)","v":"00000000"},{"$f":"DEC2BIN(X0withPad!C27, 8)","v":"00000000"},{"$f":"DEC2BIN(X0withPad!D27, 8)","v":"00000000"},{"$f":"DEC2BIN(X0withPad!E27, 8)","v":"00000000"},{"$f":"DEC2BIN(X0withPad!F27, 8)","v":"00000000"},{"$f":"DEC2BIN(X0withPad!G27, 8)","v":"00000000"},{"$f":"DEC2BIN(X0withPad!H27, 8)","v":"00000000"},{"$f":"DEC2BIN(X0withPad!I27, 8)","v":"00000000"},{"$f":"DEC2BIN(X0withPad!J27, 8)","v":"00000000"},{"$f":"DEC2BIN(X0withPad!K27, 8)","v":"00000000"},{"$f":"DEC2BIN(X0withPad!L27, 8)","v":"01111001"},{"$f":"DEC2BIN(X0withPad!M27, 8)","v":"11111110"},{"$f":"DEC2BIN(X0withPad!N27, 8)","v":"11111110"},{"$f":"DEC2BIN(X0withPad!O27, 8)","v":"11011011"},{"$f":"DEC2BIN(X0withPad!P27, 8)","v":"00101000"},{"$f":"DEC2BIN(X0withPad!Q27, 8)","v":"00000000"},{"$f":"DEC2BIN(X0withPad!R27, 8)","v":"00000000"},{"$f":"DEC2BIN(X0withPad!S27, 8)","v":"00000000"},{"$f":"DEC2BIN(X0withPad!T27, 8)","v":"00000000"},{"$f":"DEC2BIN(X0withPad!U27, 8)","v":"00000000"},{"$f":"DEC2BIN(X0withPad!V27, 8)","v":"00000000"},{"$f":"DEC2BIN(X0withPad!W27, 8)","v":"00000000"},{"$f":"DEC2BIN(X0withPad!X27, 8)","v":"00000000"},{"$f":"DEC2BIN(X0withPad!Y27, 8)","v":"00000000"},{"$f":"DEC2BIN(X0withPad!Z27, 8)","v":"00000000"},{"$f":"DEC2BIN(X0withPad!AA27, 8)","v":"00000000"},{"$f":"DEC2BIN(X0withPad!AB27, 8)","v":"00000000"},{"$f":"DEC2BIN(X0withPad!AC27, 8)","v":"00000000"},{"$f":"DEC2BIN(X0withPad!AD27, 8)","v":"00000000"}]
[{"$f":"DEC2BIN(X0withPad!A28, 8)","v":"00000000"},{"$f":"DEC2BIN(X0withPad!B28, 8)","v":"00000000"},{"$f":"DEC2BIN(X0withPad!C28, 8)","v":"00000000"},{"$f":"DEC2BIN(X0withPad!D28, 8)","v":"00000000"},{"$f":"DEC2BIN(X0withPad!E28, 8)","v":"00000000"},{"$f":"DEC2BIN(X0withPad!F28, 8)","v":"00000000"},{"$f":"DEC2BIN(X0withPad!G28, 8)","v":"00000000"},{"$f":"DEC2BIN(X0withPad!H28, 8)","v":"00000000"},{"$f":"DEC2BIN(X0withPad!I28, 8)","v":"00000000"},{"$f":"DEC2BIN(X0withPad!J28, 8)","v":"00000000"},{"$f":"DEC2BIN(X0withPad!K28, 8)","v":"00000000"},{"$f":"DEC2BIN(X0withPad!L28, 8)","v":"01111001"},{"$f":"DEC2BIN(X0withPad!M28, 8)","v":"11111110"},{"$f":"DEC2BIN(X0withPad!N28, 8)","v":"11001111"},{"$f":"DEC2BIN(X0withPad!O28, 8)","v":"00010010"},{"$f":"DEC2BIN(X0withPad!P28, 8)","v":"00000000"},{"$f":"DEC2BIN(X0withPad!Q28, 8)","v":"00000000"},{"$f":"DEC2BIN(X0withPad!R28, 8)","v":"00000000"},{"$f":"DEC2BIN(X0withPad!S28, 8)","v":"00000000"},{"$f":"DEC2BIN(X0withPad!T28, 8)","v":"00000000"},{"$f":"DEC2BIN(X0withPad!U28, 8)","v":"00000000"},{"$f":"DEC2BIN(X0withPad!V28, 8)","v":"00000000"},{"$f":"DEC2BIN(X0withPad!W28, 8)","v":"00000000"},{"$f":"DEC2BIN(X0withPad!X28, 8)","v":"00000000"},{"$f":"DEC2BIN(X0withPad!Y28, 8)","v":"00000000"},{"$f":"DEC2BIN(X0withPad!Z28, 8)","v":"00000000"},{"$f":"DEC2BIN(X0withPad!AA28, 8)","v":"00000000"},{"$f":"DEC2BIN(X0withPad!AB28, 8)","v":"00000000"},{"$f":"DEC2BIN(X0withPad!AC28, 8)","v":"00000000"},{"$f":"DEC2BIN(X0withPad!AD28, 8)","v":"00000000"}]
[{"$f":"DEC2BIN(X0withPad!A29, 8)","v":"00000000"},{"$f":"DEC2BIN(X0withPad!B29, 8)","v":"00000000"},{"$f":"DEC2BIN(X0withPad!C29, 8)","v":"00000000"},{"$f":"DEC2BIN(X0withPad!D29, 8)","v":"00000000"},{"$f":"DEC2BIN(X0withPad!E29, 8)","v":"00000000"},{"$f":"DEC2BIN(X0withPad!F29, 8)","v":"00000000"},{"$f":"DEC2BIN(X0withPad!G29, 8)","v":"00000000"},{"$f":"DEC2BIN(X0withPad!H29, 8)","v":"00000000"},{"$f":"DEC2BIN(X0withPad!I29, 8)","v":"00000000"},{"$f":"DEC2BIN(X0withPad!J29, 8)","v":"00000000"},{"$f":"DEC2BIN(X0withPad!K29, 8)","v":"00000000"},{"$f":"DEC2BIN(X0withPad!L29, 8)","v":"00000000"},{"$f":"DEC2BIN(X0withPad!M29, 8)","v":"00000000"},{"$f":"DEC2BIN(X0withPad!N29, 8)","v":"00000000"},{"$f":"DEC2BIN(X0withPad!O29, 8)","v":"00000000"},{"$f":"DEC2BIN(X0withPad!P29, 8)","v":"00000000"},{"$f":"DEC2BIN(X0withPad!Q29, 8)","v":"00000000"},{"$f":"DEC2BIN(X0withPad!R29, 8)","v":"00000000"},{"$f":"DEC2BIN(X0withPad!S29, 8)","v":"00000000"},{"$f":"DEC2BIN(X0withPad!T29, 8)","v":"00000000"},{"$f":"DEC2BIN(X0withPad!U29, 8)","v":"00000000"},{"$f":"DEC2BIN(X0withPad!V29, 8)","v":"00000000"},{"$f":"DEC2BIN(X0withPad!W29, 8)","v":"00000000"},{"$f":"DEC2BIN(X0withPad!X29, 8)","v":"00000000"},{"$f":"DEC2BIN(X0withPad!Y29, 8)","v":"00000000"},{"$f":"DEC2BIN(X0withPad!Z29, 8)","v":"00000000"},{"$f":"DEC2BIN(X0withPad!AA29, 8)","v":"00000000"},{"$f":"DEC2BIN(X0withPad!AB29, 8)","v":"00000000"},{"$f":"DEC2BIN(X0withPad!AC29, 8)","v":"00000000"},{"$f":"DEC2BIN(X0withPad!AD29, 8)","v":"00000000"}]
[{"$f":"DEC2BIN(X0withPad!A30, 8)","v":"00000000"},{"$f":"DEC2BIN(X0withPad!B30, 8)","v":"00000000"},{"$f":"DEC2BIN(X0withPad!C30, 8)","v":"00000000"},{"$f":"DEC2BIN(X0withPad!D30, 8)","v":"00000000"},{"$f":"DEC2BIN(X0withPad!E30, 8)","v":"00000000"},{"$f":"DEC2BIN(X0withPad!F30, 8)","v":"00000000"},{"$f":"DEC2BIN(X0withPad!G30, 8)","v":"00000000"},{"$f":"DEC2BIN(X0withPad!H30, 8)","v":"00000000"},{"$f":"DEC2BIN(X0withPad!I30, 8)","v":"00000000"},{"$f":"DEC2BIN(X0withPad!J30, 8)","v":"00000000"},{"$f":"DEC2BIN(X0withPad!K30, 8)","v":"00000000"},{"$f":"DEC2BIN(X0withPad!L30, 8)","v":"00000000"},{"$f":"DEC2BIN(X0withPad!M30, 8)","v":"00000000"},{"$f":"DEC2BIN(X0withPad!N30, 8)","v":"00000000"},{"$f":"DEC2BIN(X0withPad!O30, 8)","v":"00000000"},{"$f":"DEC2BIN(X0withPad!P30, 8)","v":"00000000"},{"$f":"DEC2BIN(X0withPad!Q30, 8)","v":"00000000"},{"$f":"DEC2BIN(X0withPad!R30, 8)","v":"00000000"},{"$f":"DEC2BIN(X0withPad!S30, 8)","v":"00000000"},{"$f":"DEC2BIN(X0withPad!T30, 8)","v":"00000000"},{"$f":"DEC2BIN(X0withPad!U30, 8)","v":"00000000"},{"$f":"DEC2BIN(X0withPad!V30, 8)","v":"00000000"},{"$f":"DEC2BIN(X0withPad!W30, 8)","v":"00000000"},{"$f":"DEC2BIN(X0withPad!X30, 8)","v":"00000000"},{"$f":"DEC2BIN(X0withPad!Y30, 8)","v":"00000000"},{"$f":"DEC2BIN(X0withPad!Z30, 8)","v":"00000000"},{"$f":"DEC2BIN(X0withPad!AA30, 8)","v":"00000000"},{"$f":"DEC2BIN(X0withPad!AB30, 8)","v":"00000000"},{"$f":"DEC2BIN(X0withPad!AC30, 8)","v":"00000000"},{"$f":"DEC2BIN(X0withPad!AD30, 8)","v":"00000000"}]

{"sheet":"W1の2進","index":9,"n_rows":13,"n_cols":16,"rows_kept":13,"cut":false,"hidden":false,"merged":[]}
[{"$f":"DEC2BIN(W1_Bias!A1, 9)","v":"1111110110"},{"$f":"DEC2BIN(W1_Bias!B1, 9)","v":"1100101011"},{"$f":"DEC2BIN(W1_Bias!C1, 9)","v":"1101110100"},{"$f":"DEC2BIN(W1_Bias!D1, 9)","v":"000111000"},{"$f":"DEC2BIN(W1_Bias!E1, 9)","v":"000011110"},{"$f":"DEC2BIN(W1_Bias!F1, 9)","v":"001001110"},{"$f":"DEC2BIN(W1_Bias!G1, 9)","v":"1110010111"},{"$f":"DEC2BIN(W1_Bias!H1, 9)","v":"1101100010"},{"$f":"DEC2BIN(W1_Bias!I1, 9)","v":"1100000100"},{"$f":"DEC2BIN(W1_Bias!J1, 9)","v":"1111100010"},{"$f":"DEC2BIN(W1_Bias!K1, 9)","v":"1111111100"},{"$f":"DEC2BIN(W1_Bias!L1, 9)","v":"001110101"},{"$f":"DEC2BIN(W1_Bias!M1, 9)","v":"1110010001"},{"$f":"DEC2BIN(W1_Bias!N1, 9)","v":"001101000"},{"$f":"DEC2BIN(W1_Bias!O1, 9)","v":"000001001"},{"$f":"DEC2BIN(W1_Bias!P1, 9)","v":"001110100"}]
[{"$f":"DEC2BIN(W1_Bias!A2, 9)","v":"001110110"},{"$f":"DEC2BIN(W1_Bias!B2, 9)","v":"000001000"},{"$f":"DEC2BIN(W1_Bias!C2, 9)","v":"010101100"},{"$f":"DEC2BIN(W1_Bias!D2, 9)","v":"1101111010"},{"$f":"DEC2BIN(W1_Bias!E2, 9)","v":"001000011"},{"$f":"DEC2BIN(W1_Bias!F2, 9)","v":"1101001011"},{"$f":"DEC2BIN(W1_Bias!G2, 9)","v":"1111101111"},{"$f":"DEC2BIN(W1_Bias!H2, 9)","v":"011010000"},{"$f":"DEC2BIN(W1_Bias!I2, 9)","v":"001010000"},{"$f":"DEC2BIN(W1_Bias!J2, 9)","v":"000010111"},{"$f":"DEC2BIN(W1_Bias!K2, 9)","v":"1110010010"},{"$f":"DEC2BIN(W1_Bias!L2, 9)","v":"1101010110"},{"$f":"DEC2BIN(W1_Bias!M2, 9)","v":"1101100010"},{"$f":"DEC2BIN(W1_Bias!N2, 9)","v":"010001101"},{"$f":"DEC2BIN(W1_Bias!O2, 9)","v":"000110111"},{"$f":"DEC2BIN(W1_Bias!P2, 9)","v":"1111101111"}]
[{"$f":"DEC2BIN(W1_Bias!A3, 9)","v":"000000111"},{"$f":"DEC2BIN(W1_Bias!B3, 9)","v":"1110001100"},{"$f":"DEC2BIN(W1_Bias!C3, 9)","v":"1110000111"},{"$f":"DEC2BIN(W1_Bias!D3, 9)","v":"1101001111"},{"$f":"DEC2BIN(W1_Bias!E3, 9)","v":"1110010101"},{"$f":"DEC2BIN(W1_Bias!F3, 9)","v":"000110101"},{"$f":"DEC2BIN(W1_Bias!G3, 9)","v":"001101111"},{"$f":"DEC2BIN(W1_Bias!H3, 9)","v":"001010011"},{"$f":"DEC2BIN(W1_Bias!I3, 9)","v":"000101100"},{"$f":"DEC2BIN(W1_Bias!J3, 9)","v":"000111100"},{"$f":"DEC2BIN(W1_Bias!K3, 9)","v":"1111000010"},{"$f":"DEC2BIN(W1_Bias!L3, 9)","v":"1111111110"},{"$f":"DEC2BIN(W1_Bias!M3, 9)","v":"1110100010"},{"$f":"DEC2BIN(W1_Bias!N3, 9)","v":"010011010"},{"$f":"DEC2BIN(W1_Bias!O3, 9)","v":"1111010100"},{"$f":"DEC2BIN(W1_Bias!P3, 9)","v":"1110001000"}]
[{"$f":"DEC2BIN(W1_Bias!A4, 9)","v":"000011011"},{"$f":"DEC2BIN(W1_Bias!B4, 9)","v":"010001110"},{"$f":"DEC2BIN(W1_Bias!C4, 9)","v":"1101010111"},{"$f":"DEC2BIN(W1_Bias!D4, 9)","v":"000010001"},{"$f":"DEC2BIN(W1_Bias!E4, 9)","v":"1111010011"},{"$f":"DEC2BIN(W1_Bias!F4, 9)","v":"1100011000"},{"$f":"DEC2BIN(W1_Bias!G4, 9)","v":"1110011101"},{"$f":"DEC2BIN(W1_Bias!H4, 9)","v":"1111111111"},{"$f":"DEC2BIN(W1_Bias!I4, 9)","v":"001111101"},{"$f":"DEC2BIN(W1_Bias!J4, 9)","v":"001001000"},{"$f":"DEC2BIN(W1_Bias!K4, 9)","v":"1111101110"},{"$f":"DEC2BIN(W1_Bias!L4, 9)","v":"000110110"},{"$f":"DEC2BIN(W1_Bias!M4, 9)","v":"1101001010"},{"$f":"DEC2BIN(W1_Bias!N4, 9)","v":"1100100001"},{"$f":"DEC2BIN(W1_Bias!O4, 9)","v":"1100000001"},{"$f":"DEC2BIN(W1_Bias!P4, 9)","v":"000110001"}]
[{"$f":"DEC2BIN(W1_Bias!A5, 9)","v":"1101110001"},{"$f":"DEC2BIN(W1_Bias!B5, 9)","v":"010011110"},{"$f":"DEC2BIN(W1_Bias!C5, 9)","v":"000010101"},{"$f":"DEC2BIN(W1_Bias!D5, 9)","v":"000101110"},{"$f":"DEC2BIN(W1_Bias!E5, 9)","v":"1111000100"},{"$f":"DEC2BIN(W1_Bias!F5, 9)","v":"1110100101"},{"$f":"DEC2BIN(W1_Bias!G5, 9)","v":"1110000011"},{"$f":"DEC2BIN(W1_Bias!H5, 9)","v":"000000110"},{"$f":"DEC2BIN(W1_Bias!I5, 9)","v":"1101111111"},{"$f":"DEC2BIN(W1_Bias!J5, 9)","v":"010001001"},{"$f":"DEC2BIN(W1_Bias!K5, 9)","v":"001101000"},{"$f":"DEC2BIN(W1_Bias!L5, 9)","v":"010001101"},{"$f":"DEC2BIN(W1_Bias!M5, 9)","v":"001011110"},{"$f":"DEC2BIN(W1_Bias!N5, 9)","v":"1111100101"},{"$f":"DEC2BIN(W1_Bias!O5, 9)","v":"1110110110"},{"$f":"DEC2BIN(W1_Bias!P5, 9)","v":"1110110000"}]
[{"$f":"DEC2BIN(W1_Bias!A6, 9)","v":"000011110"},{"$f":"DEC2BIN(W1_Bias!B6, 9)","v":"1111001100"},{"$f":"DEC2BIN(W1_Bias!C6, 9)","v":"1111110000"},{"$f":"DEC2BIN(W1_Bias!D6, 9)","v":"011001110"},{"$f":"DEC2BIN(W1_Bias!E6, 9)","v":"000011011"},{"$f":"DEC2BIN(W1_Bias!F6, 9)","v":"001110110"},{"$f":"DEC2BIN(W1_Bias!G6, 9)","v":"000100111"},{"$f":"DEC2BIN(W1_Bias!H6, 9)","v":"010110101"},{"$f":"DEC2BIN(W1_Bias!I6, 9)","v":"1101100000"},{"$f":"DEC2BIN(W1_Bias!J6, 9)","v":"000101001"},{"$f":"DEC2BIN(W1_Bias!K6, 9)","v":"1101110011"},{"$f":"DEC2BIN(W1_Bias!L6, 9)","v":"010010001"},{"$f":"DEC2BIN(W1_Bias!M6, 9)","v":"000111110"},{"$f":"DEC2BIN(W1_Bias!N6, 9)","v":"001001010"},{"$f":"DEC2BIN(W1_Bias!O6, 9)","v":"000111111"},{"$f":"DEC2BIN(W1_Bias!P6, 9)","v":"000010001"}]
[{"$f":"DEC2BIN(W1_Bias!A7, 9)","v":"1100100101"},{"$f":"DEC2BIN(W1_Bias!B7, 9)","v":"001100011"},{"$f":"DEC2BIN(W1_Bias!C7, 9)","v":"1111011111"},{"$f":"DEC2BIN(W1_Bias!D7, 9)","v":"000100010"},{"$f":"DEC2BIN(W1_Bias!E7, 9)","v":"1101101001"},{"$f":"DEC2BIN(W1_Bias!F7, 9)","v":"1110011010"},{"$f":"DEC2BIN(W1_Bias!G7, 9)","v":"011001100"},{"$f":"DEC2BIN(W1_Bias!H7, 9)","v":"1100010010"},{"$f":"DEC2BIN(W1_Bias!I7, 9)","v":"000110101"},{"$f":"DEC2BIN(W1_Bias!J7, 9)","v":"001011011"},{"$f":"DEC2BIN(W1_Bias!K7, 9)","v":"010110101"},{"$f":"DEC2BIN(W1_Bias!L7, 9)","v":"000000010"},{"$f":"DEC2BIN(W1_Bias!M7, 9)","v":"1110100110"},{"$f":"DEC2BIN(W1_Bias!N7, 9)","v":"1110101101"},{"$f":"DEC2BIN(W1_Bias!O7, 9)","v":"1111101100"},{"$f":"DEC2BIN(W1_Bias!P7, 9)","v":"1100110101"}]
[{"$f":"DEC2BIN(W1_Bias!A8, 9)","v":"001100000"},{"$f":"DEC2BIN(W1_Bias!B8, 9)","v":"001101000"},{"$f":"DEC2BIN(W1_Bias!C8, 9)","v":"1111010110"},{"$f":"DEC2BIN(W1_Bias!D8, 9)","v":"011101011"},{"$f":"DEC2BIN(W1_Bias!E8, 9)","v":"011011000"},{"$f":"DEC2BIN(W1_Bias!F8, 9)","v":"000100000"},{"$f":"DEC2BIN(W1_Bias!G8, 9)","v":"000100011"},{"$f":"DEC2BIN(W1_Bias!H8, 9)","v":"001010101"},{"$f":"DEC2BIN(W1_Bias!I8, 9)","v":"010101011"},{"$f":"DEC2BIN(W1_Bias!J8, 9)","v":"1111001010"},{"$f":"DEC2BIN(W1_Bias!K8, 9)","v":"010111101"},{"$f":"DEC2BIN(W1_Bias!L8, 9)","v":"1100100110"},{"$f":"DEC2BIN(W1_Bias!M8, 9)","v":"001000101"},{"$f":"DEC2BIN(W1_Bias!N8, 9)","v":"1110001110"},{"$f":"DEC2BIN(W1_Bias!O8, 9)","v":"010110101"},{"$f":"DEC2BIN(W1_Bias!P8, 9)","v":"1110010011"}]
[{"$f":"DEC2BIN(W1_Bias!A9, 9)","v":"001111010"},{"$f":"DEC2BIN(W1_Bias!B9, 9)","v":"010000010"},{"$f":"DEC2BIN(W1_Bias!C9, 9)","v":"001111011"},{"$f":"DEC2BIN(W1_Bias!D9, 9)","v":"1101000001"},{"$f":"DEC2BIN(W1_Bias!E9, 9)","v":"001100011"},{"$f":"DEC2BIN(W1_Bias!F9, 9)","v":"001011111"},{"$f":"DEC2BIN(W1_Bias!G9, 9)","v":"1111101111"},{"$f":"DEC2BIN(W1_Bias!H9, 9)","v":"1111000110"},{"$f":"DEC2BIN(W1_Bias!I9, 9)","v":"010010000"},{"$f":"DEC2BIN(W1_Bias!J9, 9)","v":"1100000000"},{"$f":"DEC2BIN(W1_Bias!K9, 9)","v":"1111001100"},{"$f":"DEC2BIN(W1_Bias!L9, 9)","v":"000010100"},{"$f":"DEC2BIN(W1_Bias!M9, 9)","v":"000011100"},{"$f":"DEC2BIN(W1_Bias!N9, 9)","v":"001010111"},{"$f":"DEC2BIN(W1_Bias!O9, 9)","v":"010001101"},{"$f":"DEC2BIN(W1_Bias!P9, 9)","v":"1110110010"}]
[]
[]
[]
[{"$f":"DEC2BIN(W1_Bias!A13, 9)","v":"1111010100"},{"$f":"DEC2BIN(W1_Bias!B13, 9)","v":"1111111011"},{"$f":"DEC2BIN(W1_Bias!C13, 9)","v":"1111111011"},{"$f":"DEC2BIN(W1_Bias!D13, 9)","v":"1111011010"},{"$f":"DEC2BIN(W1_Bias!E13, 9)","v":"1111111101"},{"$f":"DEC2BIN(W1_Bias!F13, 9)","v":"1111111110"},{"$f":"DEC2BIN(W1_Bias!G13, 9)","v":"1111110100"},{"$f":"DEC2BIN(W1_Bias!H13, 9)","v":"1111101100"},{"$f":"DEC2BIN(W1_Bias!I13, 9)","v":"1111110001"},{"$f":"DEC2BIN(W1_Bias!J13, 9)","v":"1111111001"},{"$f":"DEC2BIN(W1_Bias!K13, 9)","v":"000000111"},{"$f":"DEC2BIN(W1_Bias!L13, 9)","v":"1111100001"},{"$f":"DEC2BIN(W1_Bias!M13, 9)","v":"000010011"},{"$f":"DEC2BIN(W1_Bias!N13, 9)","v":"1111101101"},{"$f":"DEC2BIN(W1_Bias!O13, 9)","v":"1111110011"},{"$f":"DEC2BIN(W1_Bias!P13, 9)","v":"000001000"}]