{"text_format":"1","workbook":"xlsx","n_sheets":4,"sheets":["Calculate","W5","W6","W6_bin"],"not_rendered":{"charts":0,"images":0,"macros":1,"external_links":0,"defined_names":0,"comments":0,"pivot_tables":0},"unopened":[],"bounds":{"document_bytes":16777216,"sheet_cells":100000,"rows_first":2000,"rows_last":500,"rows_between":2000,"halvings":0,"cell_chars":16384,"cell_head_chars":4096},"cells_cut":0,"cells_raw":0,"read":"whole","date_system":"1900"}

{"sheet":"Calculate","index":0,"n_rows":33,"n_cols":2049,"rows_kept":33,"cut":false,"hidden":false,"merged":[]}
["ディープ・ラーニング－ハードウエア化への道"]
["5層目と6層目(Dense)の演算シート　畳み込み4層目の結果がx_in"]
[]
["番号",1,2,3,4,5,6,7,8,9,10,11,12,13,14,15,16,17,18,19,20,21,22,23,24,25,26,27,28,29,30,31,32,33,34,35,36,37,38,39,40,41,42,43,44,45,46,47,48,49,50,51,52,53,54,55,56,57,58,59,60,61,62,63,64,65,66,67,68,69,70,71,72,73,74,75,76,77,78,79,80,81,82,83,84,85,86,87,88,89,90,91,92,93,94,95,96,97,98,99,100,101,102,103,104,105,106,107,108,109,110,111,112,113,114,115,116,117,118,119,120,121,122,123,124,125,126,127,128,129,130,131,132,133,134,135,136,137,138,139,140,141,142,143,144,145,146,147,148,149,150,151,152,153,154,155,156,157,158,159,160,161,162,163,164,165,166,167,168,169,170,171,172,173,174,175,176,177,178,179,180,181,182,183,184,185,186,187,188,189,190,191,192,193,194,195,196,197,198,199,200,201,202,203,204,205,206,207,208,209,210,211,212,213,214,215,216,217,218,219,220,221,222,223,224,225,226,227,228,229,230,231,232,233,234,235,236,237,238,239,240,241,242,243,244,245,246,247,248,249,250,251,252,253,254,255,256,257,258,259,260,261,262,263,264,265,266,267,268,269,270,271,272,273,274,275,276,277,278,279,280,281,282,283,284,285,286,287,288,289,290,291,292,293,294,295,296,297,298,299,300,301,302,303,304,305,306,307,308,309,310,311,312,313,314,315,316,317,318,319,320,321,322,323,324,325,326,327,328,329,330,331,332,333,334,335,336,337,338,339,340,341,342,343,344,345,346,347,348,349,350,351,352,353,354,355,356,357,358,359,360,361,362,363,364,365,366,367,368,369,370,371,372,373,374,375,376,377,378,379,380,381,382,383,384,385,386,387,388,389,390,391,392,393,394,395,396,397,398,399,400,401,402,403,404,405,406,407,408,409,410,411,412,413,414,415,416,417,418,419,420,421,422,423,424,425,426,427,428,429,430,431,432,433,434,435,436,437,438,439,440,441,442,443,444,445,446,447,448,449,450,451,452,453,454,455,456,457,458,459,460,461,462,463,464,465,466,467,468,469,470,471,472,473,474,475,476,477,478,479,480,481,482,483,484,485,486,487,488,489,490,491,492,493,494,495,496,497,498,499,500,501,502,503,504,505,506,507,508,509,510,511,512,513,514,515,516,517,518,519,520,521,522,523,524,525,526,527,528,529,530,531,532,533,534,535,536,537,538,539,540,541,542,543,544,545,546,547,548,549,550,551,552,553,554,555,556,557,558,559,560,561,562,563,564,565,566,567,568,569,570,571,572,573,574,575,576,577,578,579,580,581,582,583,584,585,586,587,588,589,590,591,592,593,594,595,596,597,598,599,600,601,602,603,604,605,606,607,608,609,610,611,612,613,614,615,616,617,618,619,620,621,622,623,624,625,626,627,628,629,630,631,632,633,634,635,636,637,638,639,640,641,642,643,644,645,646,647,648,649,650,651,652,653,654,655,656,657,658,659,660,661,662,663,664,665,666,667,668,669,670,671,672,673,674,675,676,677,678,679,680,681,682,683,684,685,686,687,688,689,690,691,692,693,694,695,696,697,698,699,700,701,702,703,704,705,706,707,708,709,710,711,712,713,714,715,716,717,718,719,720,721,722,723,724,725,726,727,728,729,730,731,732,733,734,735,736,737,738,739,740,741,742,743,744,745,746,747,748,749,750,751,752,753,754,755,756,757,758,759,760,761,762,763,764,765,766,767,768,769,770,771,772,773,774,775,776,777,778,779,780,781,782,783,784,785,786,787,788,789,790,791,792,793,794,795,796,797,798,799,800,801,802,803,804,805,806,807,808,809,810,811,812,813,814,815,816,817,818,819,820,821,822,823,824,825,826,827,828,829,830,831,832,833,834,835,836,837,838,839,840,841,842,843,844,845,846,847,848,849,850,851,852,853,854,855,856,857,858,859,860,861,862,863,864,865,866,867,868,869,870,871,872,873,874,875,876,877,878,879,880,881,882,883,884,885,886,887,888,889,890,891,892,893,894,895,896,897,898,899,900,901,902,903,904,905,906,907,908,909,910,911,912,913,914,915,916,917,918,919,920,921,922,923,924,925,926,927,928,929,930,931,932,933,934,935,936,937,938,939,940,941,942,943,944,945,946,947,948,949,950,951,952,953,954,955,956,957,958,959,960,961,962,963,964,965,966,967,968,969,970,971,972,973,974,975,976,977,978,979,980,981,982,983,984,985,986,987,988,989,990,991,992,993,994,995,996,997,998,999,1000,1001,1002,1003,1004,1005,1006,1007,1008,1009,1010,1011,1012,1013,1014,1015,1016,1017,1018,1019,1020,1021,1022,1023,1024,1025,1026,1027,1028,1029,1030,1031,1032,1033,1034,1035,1036,1037,1038,1039,1040,1041,1042,1043,1044,1045,1046,1047,1048,1049,1050,1051,1052,1053,1054,1055,1056,1057,1058,1059,1060,1061,1062,1063,1064,1065,1066,1067,1068,1069,1070,1071,1072,1073,1074,1075,1076,1077,1078,1079,1080,1081,1082,1083,1084,1085,1086,1087,1088,1089,1090,1091,1092,1093,1094,1095,1096,1097,1098,1099,1100,1101,1102,1103,1104,1105,1106,1107,1108,1109,1110,1111,1112,1113,1114,1115,1116,1117,1118,1119,1120,1121,1122,1123,1124,1125,1126,1127,1128,1129,1130,1131,1132,1133,1134,1135,1136,1137,1138,1139,1140,1141,1142,1143,1144,1145,1146,1147,1148,1149,1150,1151,1152,1153,1154,1155,1156,1157,1158,1159,1160,1161,1162,1163,1164,1165,1166,1167,1168,1169,1170,1171,1172,1173,1174,1175,1176,1177,1178,1179,1180,1181,1182,1183,1184,1185,1186,1187,1188,1189,1190,1191,1192,1193,1194,1195,1196,1197,1198,1199,1200,1201,1202,1203,1204,1205,1206,1207,1208,1209,1210,1211,1212,1213,1214,1215,1216,1217,1218,1219,1220,1221,1222,1223,1224,1225,1226,1227,1228,1229,1230,1231,1232,1233,1234,1235,1236,1237,1238,1239,1240,1241,1242,1243,1244,1245,1246,1247,1248,1249,1250,1251,1252,1253,1254,1255,1256,1257,1258,1259,1260,1261,1262,1263,1264,1265,1266,1267,1268,1269,1270,1271,1272,1273,1274,1275,1276,1277,1278,1279,1280,1281,1282,1283,1284,1285,1286,1287,1288,1289,1290,1291,1292,1293,1294,1295,1296,1297,1298,1299,1300,1301,1302,1303,1304,1305,1306,1307,1308,1309,1310,1311,1312,1313,1314,1315,1316,1317,1318,1319,1320,1321,1322,1323,1324,1325,1326,1327,1328,1329,1330,1331,1332,1333,1334,1335,1336,1337,1338,1339,1340,1341,1342,1343,1344,1345,1346,1347,1348,1349,1350,1351,1352,1353,1354,1355,1356,1357,1358,1359,1360,1361,1362,1363,1364,1365,1366,1367,1368,1369,1370,1371,1372,1373,1374,1375,1376,1377,1378,1379,1380,1381,1382,1383,1384,1385,1386,1387,1388,1389,1390,1391,1392,1393,1394,1395,1396,1397,1398,1399,1400,1401,1402,1403,1404,1405,1406,1407,1408,1409,1410,1411,1412,1413,1414,1415,1416,1417,1418,1419,1420,1421,1422,1423,1424,1425,1426,1427,1428,1429,1430,1431,1432,1433,1434,1435,1436,1437,1438,1439,1440,1441,1442,1443,1444,1445,1446,1447,1448,1449,1450,1451,1452,1453,1454,1455,1456,1457,1458,1459,1460,1461,1462,1463,1464,1465,1466,1467,1468,1469,1470,1471,1472,1473,1474,1475,1476,1477,1478,1479,1480,1481,1482,1483,1484,1485,1486,1487,1488,1489,1490,1491,1492,1493,1494,1495,1496,1497,1498,1499,1500,1501,1502,1503,1504,1505,1506,1507,1508,1509,1510,1511,1512,1513,1514,1515,1516,1517,1518,1519,1520,1521,1522,1523,1524,1525,1526,1527,1528,1529,1530,1531,1532,1533,1534,1535,1536,1537,1538,1539,1540,1541,1542,1543,1544,1545,1546,1547,1548,1549,1550,1551,1552,1553,1554,1555,1556,1557,1558,1559,1560,1561,1562,1563,1564,1565,1566,1567,1568,1569,1570,1571,1572,1573,1574,1575,1576,1577,1578,1579,1580,1581,1582,1583,1584,1585,1586,1587,1588,1589,1590,1591,1592,1593,1594,1595,1596,1597,1598,1599,1600,1601,1602,1603,1604,1605,1606,1607,1608,1609,1610,1611,1612,1613,1614,1615,1616,1617,1618,1619,1620,1621,1622,1623,1624,1625,1626,1627,1628,1629,1630,1631,1632,1633,1634,1635,1636,1637,1638,1639,1640,1641,1642,1643,1644,1645,1646,1647,1648,1649,1650,1651,1652,1653,1654,1655,1656,1657,1658,1659,1660,1661,1662,1663,1664,1665,1666,1667,1668,1669,1670,1671,1672,1673,1674,1675,1676,1677,1678,1679,1680,1681,1682,1683,1684,1685,1686,1687,1688,1689,1690,1691,1692,1693,1694,1695,1696,1697,1698,1699,1700,1701,1702,1703,1704,1705,1706,1707,1708,1709,1710,1711,1712,1713,1714,1715,1716,1717,1718,1719,1720,1721,1722,1723,1724,1725,1726,1727,1728,1729,1730,1731,1732,1733,1734,1735,1736,1737,1738,1739,1740,1741,1742,1743,1744,1745,1746,1747,1748,1749,1750,1751,1752,1753,1754,1755,1756,1757,1758,1759,1760,1761,1762,1763,1764,1765,1766,1767,1768,1769,1770,1771,1772,1773,1774,1775,1776,1777,1778,1779,1780,1781,1782,1783,1784,1785,1786,1787,1788,1789,1790,1791,1792,1793,1794,1795,1796,1797,1798,1799,1800,1801,1802,1803,1804,1805,1806,1807,1808,1809,1810,1811,1812,1813,1814,1815,1816,1817,1818,1819,1820,1821,1822,1823,1824,1825,1826,1827,1828,1829,1830,1831,1832,1833,1834,1835,1836,1837,1838,1839,1840,1841,1842,1843,1844,1845,1846,1847,1848,1849,1850,1851,1852,1853,1854,1855,1856,1857,1858,1859,1860,1861,1862,1863,1864,1865,1866,1867,1868,1869,1870,1871,1872,1873,1874,1875,1876,1877,1878,1879,1880,1881,1882,1883,1884,1885,1886,1887,1888,1889,1890,1891,1892,1893,1894,1895,1896,1897,1898,1899,1900,1901,1902,1903,1904,1905,1906,1907,1908,1909,1910,1911,1912,1913,1914,1915,1916,1917,1918,1919,1920,1921,1922,1923,1924,1925,1926,1927,1928,1929,1930,1931,1932,1933,1934,1935,1936,1937,1938,1939,1940,1941,1942,1943,1944,1945,1946,1947,1948,1949,1950,1951,1952,1953,1954,1955,1956,1957,1958,1959,1960,1961,1962,1963,1964,1965,1966,1967,1968,1969,1970,1971,1972,1973,1974,1975,1976,1977,1978,1979,1980,1981,1982,1983,1984,1985,1986,1987,1988,1989,1990,1991,1992,1993,1994,1995,1996,1997,1998,1999,2000,2001,2002,2003,2004,2005,2006,2007,2008,2009,2010,2011,2012,2013,2014,2015,2016,2017,2018,2019,2020,2021,2022,2023,2024,2025,2026,2027,2028,2029,2030,2031,2032,2033,2034,2035,2036,2037,2038,2039,2040,2041,2042,2043,2044,2045,2046,2047,2048]
[]
["x_in",0,0,0,0,0,0,0,0,11,17,0,0,0,0,0,0,0,0,0,0,0,0,0,0,0,0,0,0,0,0,0,0,0,0,0,0,15,0,0,0,0,0,0,0,1,0,2,0,0,0,0,0,0,0,12,0,0,1,0,0,0,0,0,0,0,0,0,0,0,0,0,0,0,0,0,1,0,0,0,0,0,0,0,0,0,0,0,0,12,0,0,0,4,0,0,0,0,0,0,0,0,28,0,0,10,0,0,0,0,0,1,0,0,2,0,0,0,0,0,0,17,0,0,0,0,0,0,0,0,0,0,0,0,0,0,0,0,0,0,0,0,0,0,0,0,0,0,0,0,0,0,7,0,0,0,0,0,0,0,0,0,0,0,0,0,0,0,0,0,0,0,0,0,0,0,0,0,0,0,0,0,0,0,0,0,11,0,0,0,0,0,0,0,0,0,0,0,0,0,0,0,0,0,0,0,0,0,0,0,0,0,0,0,0,0,0,0,0,0,0,0,0,0,0,0,0,0,0,0,0,0,0,0,0,0,0,0,0,0,0,0,0,0,0,0,0,0,0,0,0,0,0,0,0,0,0,0,0,0,0,0,0,0,0,0,0,0,0,0,0,0,0,0,0,3,0,0,0,0,0,0,0,0,0,0,0,0,0,0,0,0,0,0,0,0,0,0,0,0,0,0,0,0,0,0,0,0,0,0,0,0,0,0,0,0,0,0,0,0,0,0,0,0,0,0,0,0,0,0,0,0,0,0,0,0,0,0,0,0,0,0,0,0,0,0,0,0,0,0,0,0,0,0,0,0,0,0,0,0,0,0,0,0,0,0,0,0,0,0,0,0,0,0,0,0,0,0,0,8,0,0,0,0,0,0,0,0,0,0,0,0,0,0,0,0,0,0,0,0,0,0,0,0,0,0,0,0,0,0,0,0,0,0,0,0,0,0,0,0,1,0,0,0,0,0,0,0,0,0,0,0,0,0,0,0,0,0,0,0,0,0,0,0,0,0,0,0,0,0,0,0,0,0,0,0,0,0,0,0,0,0,0,0,0,0,0,0,0,0,0,0,0,0,0,0,0,0,0,0,0,0,0,0,0,0,0,0,0,0,0,0,0,0,0,0,0,0,0,0,0,0,0,0,0,0,0,0,0,0,0,0,0,0,0,0,0,0,0,0,0,0,0,0,1,0,0,0,0,0,28,0,0,0,0,0,0,0,0,0,0,0,0,0,0,0,0,0,0,9,0,0,0,0,0,20,0,0,0,0,0,0,0,0,0,0,0,0,0,0,11,0,0,0,26,0,0,9,0,0,0,0,0,0,0,0,0,0,1,0,0,0,0,0,0,7,0,0,0,0,0,1,0,2,0,0,0,0,0,0,0,0,0,0,0,0,0,0,25,0,0,0,0,0,0,0,0,0,0,0,0,0,0,0,0,0,0,0,0,0,0,0,0,0,0,0,0,0,0,0,0,0,0,0,0,0,0,0,0,0,0,7,0,1,0,0,0,0,0,0,0,0,22,12,0,0,0,16,0,0,2,0,0,31,0,0,0,0,31,23,0,0,0,0,0,0,0,2,0,0,0,0,31,0,0,0,0,0,0,0,27,0,0,0,0,0,0,0,0,0,0,0,16,0,0,0,0,0,31,0,0,12,25,0,0,0,0,0,0,0,31,26,0,0,0,0,0,22,0,0,0,0,0,0,0,31,0,0,0,25,0,31,0,9,0,0,3,0,0,0,5,0,0,0,0,0,0,0,0,0,0,3,0,0,0,0,0,0,0,0,0,12,0,0,0,0,0,0,0,0,0,0,0,0,0,0,0,0,0,0,0,0,0,0,0,0,0,0,0,0,0,0,0,0,0,0,0,0,0,0,0,0,0,0,0,0,0,0,0,0,0,0,0,0,0,0,0,0,0,0,0,31,0,0,0,0,0,0,0,0,0,0,0,0,0,0,0,0,0,0,0,0,0,0,0,28,0,0,0,0,0,0,0,0,0,0,0,0,0,0,0,4,0,0,0,0,0,0,2,0,0,0,0,0,0,0,0,12,0,0,0,0,0,0,0,0,0,0,0,0,0,0,0,0,0,0,0,0,0,0,0,0,0,0,0,0,0,0,0,0,0,0,0,0,0,0,0,0,0,0,0,0,0,0,0,0,0,0,0,0,0,0,0,0,0,0,0,0,0,0,0,0,0,0,0,0,26,0,0,0,0,0,0,0,0,0,0,0,0,0,0,0,0,0,0,0,0,0,0,0,0,0,0,0,0,0,0,0,0,0,0,0,0,0,0,0,0,0,0,9,0,0,0,0,0,0,0,0,0,0,0,0,0,0,0,0,0,0,0,0,0,0,0,0,0,0,0,0,0,0,0,0,0,0,0,0,0,0,0,0,0,0,0,0,0,0,0,16,0,0,0,31,0,0,0,0,0,0,0,5,0,0,0,0,0,23,31,0,0,0,0,0,0,0,0,0,0,0,0,0,0,0,0,0,0,0,0,0,0,0,0,0,0,0,0,0,0,31,0,0,0,0,11,0,0,0,0,0,0,0,0,0,0,0,0,0,0,0,0,0,0,0,0,0,0,0,0,0,11,0,0,0,0,0,0,0,0,0,0,0,0,31,23,17,0,0,0,0,31,0,25,0,0,12,0,0,0,0,0,0,13,0,31,0,0,8,0,15,0,10,0,3,0,0,0,21,0,0,0,31,0,0,0,0,0,31,0,31,0,0,21,0,0,17,0,31,0,17,0,5,0,0,31,31,0,0,0,0,0,0,0,0,31,31,0,0,0,0,0,1,0,26,0,0,0,24,0,0,0,0,0,0,1,0,0,0,0,1,0,0,0,11,0,0,0,0,0,0,10,0,0,31,0,31,31,0,0,11,6,12,0,0,0,0,0,0,0,0,0,0,0,0,0,0,0,0,31,0,0,0,0,21,0,0,0,0,0,0,0,0,0,0,0,0,0,0,0,18,0,0,0,0,0,0,0,0,0,31,0,0,0,0,0,12,0,0,0,0,0,0,0,31,0,0,0,9,0,5,0,0,0,0,0,0,0,0,23,0,0,0,31,0,0,0,0,0,23,0,0,0,0,8,0,0,0,0,0,0,0,0,0,0,0,0,0,0,0,0,0,0,0,0,17,0,0,0,0,0,0,0,0,0,6,0,0,5,0,1,0,0,0,0,0,0,0,0,0,0,0,0,0,0,0,0,0,0,0,0,0,8,0,8,0,0,0,0,0,0,0,0,0,0,0,0,0,0,0,0,0,0,0,0,0,0,0,5,0,0,0,0,0,0,0,0,0,11,0,0,0,15,0,0,0,0,0,17,0,0,0,0,0,0,0,0,0,0,0,0,2,0,0,0,0,0,0,0,0,0,0,0,0,0,0,0,0,0,0,0,0,0,0,0,0,0,0,0,0,0,0,0,0,0,0,0,0,0,0,0,0,0,5,0,0,0,0,0,0,0,0,0,0,0,0,0,0,0,0,0,0,0,0,0,0,0,0,0,0,0,0,0,0,0,0,0,0,0,0,0,0,0,0,0,0,0,0,0,0,0,0,0,0,0,0,0,0,0,0,0,0,0,0,0,0,9,0,0,0,0,0,0,0,0,0,0,0,0,0,0,0,0,0,0,0,0,0,0,0,0,0,0,0,0,0,0,0,0,0,0,0,31,0,0,0,0,0,0,0,0,0,0,0,0,0,0,0,0,0,0,20,0,0,0,0,0,0,0,0,0,0,0,0,0,0,0,0,0,0,0,0,0,0,0,0,0,0,0,0,0,0,0,0,0,0,0,0,0,0,0,5,0,0,0,0,0,0,0,0,0,0,0,0,0,0,0,0,0,0,0,0,0,0,0,0,0,0,0,0,0,0,0,0,0,31,0,0,0,0,0,0,0,0,0,0,0,0,0,0,0,0,0,0,0,0,0,0,0,0,0,0,0,0,0,0,0,0,0,0,1,0,0,0,0,0,0,0,0,0,0,0,0,31,0,0,0,0,0,0,0,0,0,0,0,0,0,0,0,0,0,0,0,0,0,0,0,0,0,0,0,0,0,0,0,0,0,0,0,0,0,0,0,0,0,0,0,0,0,0,0,0,0,0,0,0,0,0,0,0,0,0,0,0,0,0,0,0,0,0,0,0,0,0,0,0,0,0,0,0,0,0,0,31,0,0,0,0,0,0,0,0,0,0,0,0,0,0,0,0,0,0,0,0,0,0,0,0,0,0,0,0,0,0,0,0,0,0,0,0,0,0,0,0,0,0,0,0,0,0,0,0,0,0,0,0,0,0,0,0,0,0,0,0,0,0,0,0,0,0,0,0,2,0,0,0,0,0,0,0,0,0,0,0,0,0,0,0,0,0,0,0,0,0,0,0,0,0,0,0,0,0,0,0,0,0,0,0,0,4,0,0,0,0,0,0,0,0,0,0,0,0,0,0,0,0,0,0,0,0,0,0,0,0,0,0,0,0,0,0,0,0,0,0,0,0,0,0,0,0,0,0,0,0,0,0,0,0,0,0,0,0,0,0,0,0,0,0,0,0,0,0,0,0,0,0,0,0,0,0,0,0,0,0,0,0,0,0,0,0,0,0,0,0,0,0,0,0,0,0,0,0]
[]
["x_in * W5",{"$f":"MMULT(B6:BZU6,'W5'!A1:DX2048)","v":2176},-4672,-7232,-13552,3536,4896,2560,-160,-12432,-4112,6016,208,-14208,-19872,-14432,-6240,-8256,1696,-544,2736,2128,-14912,-2912,-4256,-4000,-6304,-15264,-8880,4608,-6928,-6384,-14448,10800,-8736,3248,-8128,-11968,5328,-1424,5472,-11424,24560,-11552,-432,-12672,7376,-5376,2128,5456,-13856,4160,-6192,-6976,-7744,1184,-14304,-3680,1200,-11488,-7840,5936,-13696,-8352,1760,7504,-11744,-12416,-10816,-11328,-4336,17376,-9984,7648,-15392,2480,-1360,11056,-10976,2416,-3504,-5888,-12000,-12256,-5696,-4736,16704,-656,-7616,-5568,-6080,2304,3104,-10688,-3488,14560,5056,-7424,7328,-5248,-5056,-15648,-4960,-7808,-6752,-11744,-13280,-6784,-1456,-13312,-400,-2000,96,-22704,-1920,7344,-560,-864,-4608,-2624,-10016,-10544,-2480,-13536,2208,-7968,-4272,-1504,-1984]
[]
["b5",1271,2506,2572,-2922,-3480,-2464,-2908,-2505,5834,4214,-6091,2640,8286,4922,-2275,7933,6330,-824,-3403,1429,2906,-552,2202,2293,-617,696,-2145,-2978,289,-3412,6863,4842,2980,2414,3370,-2008,2790,104,-1770,101,-1612,387,-2385,3152,-2119,-2470,2220,-1142,-1179,-1148,2278,9069,-2337,-1788,5883,-4968,-1678,-605,219,-978,2306,-706,-1729,-12,-2894,-3596,-1867,-1778,-2068,5989,-1577,-363,-570,-2474,3833,3723,3883,2558,4728,-3072,-344,-716,1039,-1766,2646,5952,-3095,2316,-2605,-2185,1947,-3306,5388,-1873,-4773,151,-1414,3042,5104,262,3161,139,-2129,-964,-3030,-352,-264,2562,4041,-607,4375,1987,4861,1929,-1590,-1074,-435,2677,2931,-1758,-3258,4968,3859,3510,5445,1897,-4619,5861]
["b5/8",{"$f":"+ROUNDDOWN(B10/8, 0)","v":158},{"$f":"+ROUNDDOWN(C10/8, 0)","v":313},321,-365,-435,-308,-363,-313,729,526,-761,330,1035,615,-284,991,791,-103,-425,178,363,-69,275,286,-77,87,-268,-372,36,-426,857,605,372,301,421,-251,348,13,-221,12,-201,48,-298,394,-264,-308,277,-142,-147,-143,284,1133,-292,-223,735,-621,-209,-75,27,-122,288,-88,-216,-1,-361,{"$f":"+ROUNDDOWN(BO10/8, 0)","v":-449},-233,-222,-258,748,-197,-45,-71,-309,479,465,485,319,591,-384,-43,-89,129,-220,330,744,-386,289,-325,-273,243,-413,673,-234,-596,18,-176,380,638,32,395,17,-266,-120,-378,-44,-33,320,505,-75,546,248,607,241,-198,-134,-54,334,366,-219,-407,621,482,438,680,237,-577,732]
[]
["plusBias5",{"$f":"B8+B11","v":2334},{"$f":"C8+C11","v":-4359},-6911,-13917,3101,4588,2197,-473,-11703,-3586,5255,538,-13173,-19257,-14716,-5249,-7465,1593,-969,2914,2491,-14981,-2637,-3970,-4077,-6217,-15532,-9252,4644,-7354,-5527,-13843,11172,-8435,3669,-8379,-11620,5341,-1645,5484,-11625,24608,-11850,-38,-12936,7068,-5099,1986,5309,-13999,4444,-5059,-7268,-7967,1919,-14925,-3889,1125,-11461,-7962,6224,-13784,-8568,1759,7143,{"$f":"BO8+BO11","v":-12193},-12649,-11038,-11586,-3588,17179,-10029,7577,-15701,2959,-895,11541,-10657,3007,-3888,-5931,-12089,-12127,-5916,-4406,17448,-1042,-7327,-5893,-6353,2547,2691,-10015,-3722,13964,5074,-7600,7708,-4610,-5024,-15253,-4943,-8074,-6872,-12122,-13324,-6817,-1136,-12807,-475,-1454,344,-22097,-1679,7146,-694,-918,-4274,-2258,-10235,-10951,-1859,-13054,2646,-7288,-4035,-2081,-1252]
[]
["Relu5",{"$f":"IF(B13:DY13 > 0, IF(B13:DY13 > 100000000, 100000000, B13:DY13), 0)","v":2334},{"$f":"IF(C13:DZ13 > 0, IF(C13:DZ13 > 100000000, 100000000, C13:DZ13), 0)","v":0},0,0,3101,4588,2197,0,0,0,5255,538,0,0,0,0,0,1593,0,2914,2491,0,0,0,0,0,0,0,4644,0,0,0,11172,0,3669,0,0,5341,0,5484,0,24608,0,0,0,7068,0,1986,5309,0,4444,0,0,0,1919,0,0,1125,0,0,6224,0,0,1759,7143,{"$f":"IF(BO13:GL13 > 0, IF(BO13:GL13 > 100000000, 100000000, BO13:GL13), 0)","v":0},0,0,0,0,17179,0,7577,0,2959,0,11541,0,3007,0,0,0,0,0,0,17448,0,0,0,0,2547,2691,0,0,13964,5074,0,7708,0,0,0,0,0,0,0,0,0,0,0,0,0,344,0,0,7146,0,0,0,0,0,0,0,0,2646,0,0,0,0]
[]
["truncate",{"$f":"IF(ROUNDDOWN(B15:DY15/2^8, 0) > 31, 31, ROUNDDOWN(B15:DY15/2^8, 0))","v":9},{"$f":"IF(ROUNDDOWN(C15:DZ15/2^8, 0) > 31, 31, ROUNDDOWN(C15:DZ15/2^8, 0))","v":0},0,0,12,17,8,0,0,0,20,2,0,0,0,0,0,6,0,11,9,0,0,0,0,0,0,0,18,0,0,0,31,0,14,0,0,20,0,21,0,31,0,0,0,27,0,7,20,0,17,0,0,0,7,0,0,4,0,0,24,0,0,6,27,{"$f":"IF(ROUNDDOWN(BO15:GL15/2^8, 0) > 31, 31, ROUNDDOWN(BO15:GL15/2^8, 0))","v":0},0,0,0,0,31,0,29,0,11,0,31,0,11,0,0,0,0,0,0,31,0,0,0,0,9,10,0,0,31,19,0,30,0,0,0,0,0,0,0,0,0,0,0,0,0,1,0,0,27,0,0,0,0,0,0,0,0,10,0,0,0,0]
[]
["Drop5",{"$f":"B17","v":9},{"$f":"C17","v":0},0,0,12,17,8,0,0,0,20,2,0,0,0,0,0,6,0,11,9,0,0,0,0,0,0,0,18,0,0,0,31,0,14,0,0,20,0,21,0,31,0,0,0,27,0,7,20,0,17,0,0,0,7,0,0,4,0,0,24,0,0,6,27,{"$f":"BO17","v":0},0,0,0,0,31,0,29,0,11,0,31,0,11,0,0,0,0,0,0,31,0,0,0,0,9,10,0,0,31,19,0,30,0,0,0,0,0,0,0,0,0,0,0,0,0,1,0,0,27,0,0,0,0,0,0,0,0,10,0,0,0,0]
[]
["Drop5*W6",{"$f":"MMULT(B19:DY19,'W6'!A1:J128)","v":17545},2772,-19999,-13088,3953,-24311,-28538,-16621,-4217,-15387]
[]
["b6",-6403,2970,5674,-2906,-8736,9569,-4876,-5684,11843,-7651]
["b6/8",{"$f":"ROUNDDOWN(B23/8, 0)","v":-800},{"$f":"ROUNDDOWN(C23/8, 0)","v":371},709,-363,-1092,1196,-609,-710,1480,-956,0,0,0,0,0,0,0,0,0,0,0,0,0,0,0,0,0,0,0,0,0,0,0,0,0,0,0,0,0,0,0,0,0]
[]
["plusBias6",{"$f":"B21+B24","v":16745},{"$f":"C21+C24","v":3143},-19290,-13451,2861,-23115,-29147,-17331,-2737,-16343]
["plusBias6/64",{"$f":"IF(B26 > 0, ROUNDDOWN(B26/2^6, 0), ROUNDUP(B26/2^6, 0))","v":261},{"$f":"IF(C26 > 0, ROUNDDOWN(C26/2^6, 0), ROUNDUP(C26/2^6, 0))","v":49},-302,-211,44,-362,-456,-271,-43,-256]
[]
["ranking",{"$f":" RANK(B26, $B$26:$AR$26)","v":1},{"$f":" RANK(C26, $B$26:$AR$26)","v":2},8,5,3,9,10,7,4,6]
["answer",{"$f":"MATCH(1, B29:AR29, 0)-1","v":0}]
[]
[]
[null,0,1,2,3,4,5,6]

{"sheet":"W5","index":1,"n_rows":2052,"n_cols":129,"rows_kept":562,"cut":true,"hidden":false,"merged":[],"bounds":{"rows_first":250,"rows_last":62,"rows_between":250,"halvings":3}}
[16,-16,-16,-16,-16,-16,16,-16,-16,-16,-16,-16,16,16,-16,16,-16,-16,-16,16,-16,16,16,-16,16,-16,16,16,16,16,16,-16,16,16,-16,16,16,-16,-16,-16,-16,-16,16,-16,-16,-16,16,-16,16,-16,16,-16,-16,16,16,16,-16,16,-16,16,-16,16,16,16,16,-16,16,16,-16,-16,-16,16,-16,-16,-16,-16,16,-16,-16,16,-16,16,16,-16,16,16,-16,-16,16,-16,16,16,-16,16,16,-16,16,16,16,-16,16,16,-16,-16,-16,-16,16,16,-16,16,16,16,-16,-16,-16,-16,-16,16,16,-16,-16,-16,16,-16,16,-16,-16,-16]
[16,16,-16,16,16,16,16,-16,16,-16,16,16,16,16,-16,16,-16,-16,-16,16,-16,16,16,-16,16,-16,16,-16,-16,16,16,16,-16,16,16,16,16,-16,-16,-16,-16,16,16,-16,16,-16,16,-16,16,-16,-16,16,16,-16,16,16,-16,16,16,-16,16,-16,-16,-16,-16,-16,-16,-16,-16,-16,-16,-16,-16,-16,16,-16,16,16,16,-16,-16,-16,-16,-16,16,16,16,16,-16,16,-16,-16,16,-16,16,-16,-16,-16,-16,16,16,-16,16,16,16,-16,-16,16,-16,16,16,16,-16,16,16,-16,16,16,-16,-16,16,-16,16,16,16,16,-16,16]
[16,-16,16,16,-16,16,-16,16,-16,-16,-16,-16,16,16,16,-16,16,16,-16,-16,-16,-16,-16,16,-16,-16,16,16,-16,-16,16,-16,-16,-16,16,-16,-16,-16,-16,-16,16,16,16,16,16,16,16,-16,16,16,-16,-16,-16,-16,16,-16,-16,-16,-16,16,16,-16,16,16,16,-16,-16,16,-16,16,16,16,-16,-16,-16,-16,-16,16,-16,-16,16,16,-16,16,-16,16,-16,16,-16,-16,16,-16,-16,-16,16,-16,16,16,-16,16,-16,16,16,16,16,16,16,16,16,16,-16,16,-16,-16,16,16,-16,16,-16,-16,16,-16,16,-16,-16,-16,-16,16]
[-16,-16,-16,-16,64,-16,16,-16,-16,16,-16,16,-16,16,-16,16,16,16,16,-16,16,16,16,16,-16,16,-16,-16,16,-16,16,-16,16,-16,-16,16,16,-16,-16,16,-16,-16,-16,-16,-16,16,-16,16,-16,-16,16,-16,16,-16,-16,-16,-16,-16,16,16,16,-16,16,16,16,-16,-16,-16,-16,16,16,16,16,16,-16,16,16,-16,16,16,-16,-16,16,16,16,-16,16,-16,-16,16,16,16,-16,-16,-16,-16,16,-16,-16,16,16,-16,-16,-16,-16,16,-16,16,-16,16,16,16,16,-16,-16,-16,16,-16,-16,-16,-16,-16,-16,-16,-16,-16,-16,-16]
[-16,16,16,-16,16,16,-16,16,16,-16,-16,16,-16,-16,-16,-16,-16,-16,-16,16,16,-16,-16,16,16,-16,-16,16,-16,-16,16,-16,16,-16,16,-16,16,16,16,-16,-16,-16,16,16,-16,-16,16,16,16,-16,16,16,-16,16,16,-16,16,-16,-16,-16,16,-16,-16,-16,-16,-16,-16,-16,-16,16,-16,-16,16,-16,-16,-16,-16,-16,16,-16,16,16,16,-16,-16,16,-16,16,16,16,-16,16,16,-16,16,16,16,-16,16,-16,16,-16,-16,-16,-16,16,16,-16,16,16,16,-16,-16,-16,-16,-16,16,16,-16,16,-16,-16,-16,16,16,16,-16,-16]
[16,16,-16,-16,-16,-16,-16,16,16,16,-16,-16,-16,16,-16,16,16,16,-16,-16,16,-16,16,-16,-16,16,-16,16,-16,-16,16,16,16,16,-16,16,-16,16,-16,16,16,64,16,16,-16,16,-16,-16,-16,-16,-16,-16,16,16,16,-16,-16,16,16,16,16,16,-16,-16,-16,16,-16,16,16,16,-16,16,16,16,-16,16,16,-16,-16,-16,-16,16,16,-16,16,16,16,16,16,-16,16,-16,-64,16,16,16,16,16,16,16,16,-16,-16,-16,16,-16,16,16,16,16,16,16,16,16,-16,16,16,16,16,-16,16,16,-16,-16,-16,16,16,16]
[64,-16,16,-16,16,-16,-16,16,-16,16,-16,-16,16,-16,-16,-16,-16,-16,-16,-16,-16,-16,64,16,16,16,-16,-16,-16,-16,16,-16,16,16,16,16,-16,16,-16,16,16,16,-16,-16,-16,-16,16,16,16,16,16,16,16,-16,16,16,-16,-16,16,16,-16,16,-16,16,-16,16,-16,-16,-16,16,16,-16,16,-16,-16,-16,16,16,16,-16,-16,-16,-16,-16,16,16,-16,16,16,-16,16,-16,16,16,-16,16,16,-16,-16,-16,-16,16,16,-16,-16,-16,16,16,16,16,16,16,-16,-16,16,-16,16,16,-16,16,16,16,-16,-16,16,16,-64,16]
[-16,16,-16,16,16,16,16,-16,-16,16,-16,-16,16,16,-16,16,-16,-16,16,16,16,-16,16,16,16,-16,16,-16,-16,16,16,16,16,-16,-16,-16,-16,-16,-16,16,-16,-16,-16,16,-16,16,16,-16,16,-16,-16,-16,16,-16,16,16,-16,16,16,-16,-16,-16,-16,16,16,16,-16,-16,16,-16,16,16,-16,-16,-16,16,16,-16,16,-16,-16,16,16,-16,16,-16,16,-16,16,16,16,-16,16,-16,16,16,-16,-16,-16,16,16,16,-16,-16,-16,-16,16,-16,16,16,-16,16,16,-16,-16,-16,16,16,-16,16,16,16,16,-16,-16,16,16,16]
[-16,-16,-16,-16,-16,16,16,16,-16,-16,16,-16,-16,-16,16,-16,16,-16,-16,-16,16,-16,-16,16,-16,-16,16,-16,16,-16,-16,-16,16,-16,16,-16,16,16,-16,16,-16,16,16,-16,16,16,-16,16,16,-16,16,-16,16,16,-16,-16,16,16,16,-16,-16,-16,-16,16,16,16,-16,16,-16,-16,16,16,16,-16,16,-16,16,-16,-16,16,-16,-16,-16,16,-16,16,16,16,-16,-16,16,-16,-16,16,16,-16,-16,-16,16,-16,-16,-16,16,16,16,16,16,-16,-16,-16,-16,-16,-16,-16,16,16,-16,-16,-16,-16,16,-16,-16,-16,-16,16,-16,-16]
[16,16,16,16,-16,-16,-16,-16,-16,16,16,16,16,16,-16,-16,-16,16,-16,16,16,-16,-16,-16,16,-16,-16,-16,-16,-16,16,16,-16,-16,-16,16,16,16,-16,-16,16,-16,-16,-16,16,16,16,-16,16,16,16,-16,16,-16,16,16,16,-16,16,16,-16,-16,-16,-16,16,-16,-16,16,-16,-16,16,-16,16,16,16,-16,16,16,-16,16,16,-16,16,-16,-16,-16,-16,16,-16,16,-16,-16,-16,16,16,-16,-16,16,16,16,16,16,-16,-16,-16,-16,-16,-16,-16,16,-16,-16,16,16,16,16,-16,-16,-16,-16,-16,-16,16,16,-16,16,-16,-16]
[-16,16,-16,16,16,-16,-16,16,16,-16,16,16,16,-16,-16,-16,-16,-16,-16,16,16,-16,16,-16,-16,-16,16,16,16,16,16,16,-16,16,16,16,-16,16,-16,-16,-16,16,-16,16,16,16,-16,16,16,16,-16,-16,16,16,-16,-16,-16,-16,16,-16,-16,16,-16,-16,-16,16,-16,16,16,-16,16,16,16,-16,-16,-16,16,-16,-16,-16,16,16,16,16,16,16,16,16,-16,-16,16,-16,16,-16,-16,16,-16,16,16,16,16,16,-16,-16,16,-16,16,-16,-16,-16,-16,16,-16,-16,16,-16,16,16,16,16,16,16,-16,16,-16,16,-16,-16]
[16,16,-16,16,16,-16,-16,-16,16,16,-16,16,16,-16,16,-16,16,16,16,16,16,-16,-16,16,-16,16,16,-16,-16,-16,-16,16,-16,-16,16,-16,-16,-16,-16,-16,-16,16,-16,16,-16,-16,-16,16,16,-16,-16,-16,16,-16,16,-16,16,-16,-16,-16,16,16,16,-16,16,-16,16,16,-16,-16,16,-16,16,-16,-16,16,16,-16,16,16,16,-16,-16,-16,16,16,16,-16,-16,16,16,16,-16,-16,-16,-16,-16,16,16,16,-16,16,-16,16,-16,16,-16,-16,16,-16,-16,-16,-16,16,16,16,16,16,16,-16,-16,16,-16,-16,16,16,16,16]
[16,-16,-16,16,16,-16,16,16,16,16,-16,16,16,16,-16,-16,-16,16,-16,16,16,-16,16,-16,16,-16,-16,16,-16,16,-16,16,16,16,16,-16,16,16,-16,16,-16,-16,16,16,16,16,-16,-16,-16,16,16,16,-16,16,-16,16,16,-16,-16,-16,-16,-16,-16,-16,16,-16,-16,-16,16,16,16,-16,16,-16,-16,16,-16,16,16,-16,-16,-16,16,-16,-16,16,16,-16,-16,16,16,16,16,-16,-16,16,-16,16,-16,16,-16,16,-16,16,-16,-16,16,-16,-16,16,16,-16,16,16,-16,16,-16,-16,16,16,16,16,-16,16,-16,16,-16,-16]
[-16,16,-16,16,16,-16,-16,16,-16,-16,16,16,16,-16,-16,-16,16,16,16,16,16,16,-16,-16,16,-16,-16,16,16,16,16,16,-16,16,16,-16,16,-16,16,-16,16,16,-16,16,-16,-16,16,16,-16,-16,16,-16,16,16,-16,16,16,16,16,16,-16,16,-16,16,-16,16,-16,16,-16,-16,-16,-16,-16,16,16,16,-16,16,-16,-16,-16,16,-16,-16,-16,16,-16,16,16,16,16,-16,16,-16,-16,16,16,16,16,64,16,16,-16,-16,-16,16,64,-16,16,16,-16,16,16,16,16,16,16,16,16,16,16,16,-16,16,-16,16,-16,-16]
[-16,16,16,-16,16,-16,-16,-16,-16,16,-16,16,16,-16,-16,16,16,16,-16,16,16,16,-16,-16,16,16,16,16,-16,16,16,-16,16,-16,16,16,-16,-16,-16,16,16,16,-16,-16,-16,-16,-16,-16,16,-16,16,-16,-16,-16,16,16,-16,16,16,-16,-16,-16,-16,-16,-16,-16,16,16,16,16,16,-16,16,16,-16,16,-16,-16,-16,-16,16,-16,-16,16,-16,-16,-16,16,-16,16,-16,16,-16,-16,16,16,16,-16,16,-16,-16,-16,16,16,16,-16,16,16,-16,-16,-16,16,-16,-16,-16,16,-16,16,-16,16,16,16,16,16,-16,16,16,-16]
[16,16,16,16,-16,16,16,-16,-16,16,16,16,-16,16,-16,16,16,16,-16,16,16,16,-16,16,16,-16,-16,-16,16,16,16,16,-16,-16,-16,-16,16,-16,16,-16,-16,16,16,-16,-16,-16,-16,16,16,-16,16,-16,16,16,-16,-16,-16,16,16,-16,16,-16,-16,-16,16,-16,-16,16,16,-16,-16,16,-16,-16,16,-16,16,-16,-16,-16,16,16,-16,16,16,-16,-16,16,16,16,16,16,16,-16,16,16,-16,-16,16,16,16,16,-16,16,-16,16,16,16,-16,-16,16,64,-16,-16,16,-16,16,-16,16,-16,16,-16,-16,16,-16,-16,16,-16]
[16,16,-16,16,-16,-16,-16,-16,-16,16,-16,16,16,16,-16,16,16,16,16,16,16,16,16,-16,-16,-16,-16,-16,16,-16,16,16,16,-16,-16,16,16,16,-16,-16,-16,-16,16,16,-16,16,16,16,16,-16,-16,-16,-16,16,16,-16,16,16,-16,-16,-16,16,-16,16,-16,16,-16,-16,16,16,16,-16,-16,16,-16,16,64,-16,16,-16,-16,16,-16,16,-16,16,16,-16,-16,-16,16,-16,-16,16,16,16,16,16,16,16,16,-16,16,16,-16,-16,16,16,16,-16,16,16,16,16,-16,-16,16,16,-16,16,-16,16,-16,-16,-16,-16,16,-16]
[-16,-16,-16,-16,16,-16,-16,-16,16,16,16,16,-16,16,-16,-16,16,-16,-16,-16,-16,16,16,-16,-16,16,-16,16,16,16,-16,-16,16,-16,16,-16,16,-16,-16,16,16,16,-16,16,-16,-16,16,16,16,-16,16,16,16,16,-16,16,-16,-16,16,16,16,16,-16,-16,16,-16,16,-16,-16,16,16,16,-16,-16,16,16,-16,16,16,16,-16,-16,-16,16,16,16,-16,16,16,16,16,-16,16,16,-16,16,16,16,16,16,16,-16,16,16,-16,16,16,-16,-16,16,16,-16,16,-16,-16,-16,16,-16,-16,-16,16,16,16,-16,16,-16,-16,16]
[-16,16,16,-16,-16,-16,-16,-16,-16,16,16,16,16,-16,-16,16,-16,-16,-16,16,-16,-16,16,16,16,16,-16,16,-16,-16,-16,-16,16,16,16,-16,-16,16,16,-16,-16,-16,16,-16,-16,-16,16,16,16,-16,-16,16,16,-16,16,16,-16,16,-16,16,16,-16,-16,16,-16,-16,-16,-16,-16,-16,16,-16,16,16,-16,-16,16,16,16,-16,16,16,-16,16,-16,16,16,16,16,16,16,-16,-16,-16,16,-16,-16,-16,16,-16,-16,16,-16,16,16,16,16,16,-16,16,16,-16,16,-16,16,-16,16,-16,16,-16,-16,-16,-16,-16,16,16,16,-16]
[-16,16,16,-16,16,16,16,16,-16,-16,16,-16,16,-16,16,-16,-16,16,-16,-16,16,16,16,16,16,-16,-16,16,16,-16,-16,-16,16,-16,16,16,-16,16,-16,16,-16,16,16,-16,16,16,-16,-16,-16,-16,16,-16,16,16,16,-16,16,16,-16,16,-16,16,-16,16,16,-16,16,16,-16,-16,-16,-16,16,-16,-16,-16,-16,16,-16,-16,-16,-16,16,16,-16,16,16,16,-16,16,16,-16,-16,-16,-16,16,16,-16,-16,16,-16,16,-16,-16,-16,-16,-16,-16,-16,-16,-16,-16,16,16,-16,-16,16,16,16,-16,-16,-16,-16,16,-16,16,-16,-16]
[-16,16,-16,16,-16,-16,16,-16,16,16,-16,16,-16,-16,16,16,-16,16,-16,16,-16,-16,16,16,16,16,-16,16,-16,-16,-16,16,-16,-16,-16,-16,-16,-16,-16,16,16,16,-16,-16,-16,16,-16,-16,-16,-16,16,16,16,16,16,-16,-16,-16,16,-16,-16,16,16,16,-16,16,-16,-16,-16,16,-16,16,16,-16,-16,16,16,16,16,16,16,-16,-16,-16,16,16,-16,16,-16,-16,-16,-16,-16,-16,-16,-16,16,16,16,-16,-16,16,-16,-16,16,16,16,16,-16,16,-16,16,-16,-16,16,16,16,16,16,-16,-16,16,-16,16,16,16,-16,-16]
[16,16,-16,-16,-16,16,16,-16,-16,16,16,16,16,-16,-16,16,16,16,-16,16,-16,16,16,16,-16,-16,-16,16,-16,-16,16,16,16,16,16,16,16,16,16,16,16,-16,-16,16,16,16,16,16,16,-16,16,-16,16,-16,-16,16,16,16,-16,-16,-16,-16,16,-16,16,-16,-16,16,16,16,-16,16,16,16,16,16,16,16,-16,-16,-16,-16,-16,16,-16,16,16,16,16,16,-16,-16,16,16,16,16,16,-16,-16,-16,16,-16,16,16,-16,16,16,16,16,-16,16,16,16,16,-16,-16,16,-16,16,-16,16,16,-16,-16,16,-16,-16,16]
[-16,-16,-16,16,-16,16,-16,-16,16,-16,-16,-16,16,16,-16,16,-16,16,-16,16,-16,-16,-16,64,-16,-16,16,-16,16,-16,-16,16,16,16,-16,16,16,16,-16,-16,-16,16,16,-16,-16,16,16,16,16,-16,16,16,-16,-16,-16,-16,-16,16,-16,16,16,-16,-16,16,16,-16,-16,-16,-16,-16,16,-16,64,-16,16,16,16,16,16,-16,16,-16,-16,-16,-16,16,-16,-16,-16,16,-16,-16,-16,16,16,-16,16,16,-16,-16,-16,-16,-16,16,-16,16,16,-16,-16,-16,16,-16,16,16,16,-16,16,16,16,-16,-16,16,16,-16,-16,16,-16,-16]
[16,-16,16,-16,16,16,-16,-16,16,16,16,16,-16,16,-16,16,-16,16,16,-16,16,16,16,16,-16,16,16,16,-16,-16,16,-16,16,-16,16,-16,-16,-16,16,-16,-16,-16,-16,-16,-16,16,-16,-16,-64,16,16,16,16,-16,16,-16,-16,-16,16,16,16,16,16,16,-16,-16,16,-16,-16,64,-16,16,-16,16,16,16,16,16,16,-16,-16,16,16,16,-16,16,16,16,16,-16,-16,16,16,-16,16,16,-16,16,16,-16,16,16,-16,-16,-16,-16,16,64,16,16,16,-16,16,16,-16,-16,16,-16,-16,-16,-16,16,-16,16,16,16,16,16]
[-16,16,-16,16,-16,-16,-16,-16,16,-16,-16,16,16,-16,16,16,16,-16,16,-16,16,16,-16,-16,16,-16,-16,16,-16,-16,-16,16,-16,16,16,-16,16,-16,-16,16,-16,-16,-16,16,-16,16,16,-16,-16,-16,-16,-16,16,16,16,-16,-16,-16,16,-16,-16,-16,-16,-16,-16,16,16,-16,-16,-16,16,-16,16,16,16,16,-16,-16,16,-16,-16,16,16,16,16,16,-16,-16,-16,-16,16,-16,16,16,16,-16,16,16,16,16,-16,-16,-16,-16,16,-16,16,-16,16,-16,-16,16,16,-16,-16,-16,16,16,16,-16,16,16,16,16,-16,16,-16,-16]
[16,16,-16,-16,-16,-16,-16,16,-16,-16,-16,16,16,16,-16,16,-16,-16,-16,-16,-16,16,16,-16,-16,-16,16,-16,-16,16,-16,16,-16,-16,16,-16,-16,-16,16,16,16,-16,16,16,-16,-16,16,16,-16,16,16,16,16,16,16,16,-16,-16,-16,-16,-16,-16,-16,-16,16,-16,-16,-16,-16,16,-16,-16,16,-16,16,16,-16,-16,16,16,16,16,16,16,16,-16,-16,-16,16,-16,16,-16,16,16,16,-16,16,16,16,16,16,16,16,-16,16,16,16,-16,-16,16,16,-16,16,16,-16,16,-16,-16,16,16,16,-16,16,16,16,-16,-16,16]
[16,-16,-16,-16,-16,-16,16,-16,-16,-16,16,16,-16,-16,-16,16,-16,16,16,-16,-16,-16,16,16,16,-16,-16,-16,16,16,16,16,16,-16,16,16,16,16,-16,16,-16,-16,-16,16,16,16,16,16,-16,16,-16,16,16,-16,16,-16,-16,-16,16,-16,-16,-16,-16,-16,-16,-16,-16,-16,16,16,16,16,-16,16,16,16,-16,16,-16,-16,16,-16,16,16,16,-16,-16,-16,16,-16,-16,16,-16,16,16,16,16,-16,16,16,16,16,-16,-16,-16,16,16,-16,16,16,-16,16,-16,16,16,16,16,16,16,16,-16,-16,16,-16,-16,-16,16,-16]
[16,-16,-16,-16,16,16,-16,-16,-16,16,16,16,-16,16,16,-16,16,-16,16,-16,16,-16,16,16,16,-16,16,16,16,-16,-16,-16,16,16,-16,-16,16,16,-16,16,16,-16,16,16,-16,-16,16,-16,16,-16,16,-16,16,-16,-16,-16,-16,-16,16,-16,16,-16,16,16,16,-16,-16,-16,-16,16,16,-16,16,-16,-16,16,16,-16,-16,-16,-16,16,16,-16,16,-16,-16,-16,16,16,16,16,-16,-16,16,16,16,-16,-16,16,16,16,-16,-16,16,-16,16,16,-16,16,-16,-16,16,-16,16,-16,16,-16,-16,16,16,16,-16,-16,-16,16,-16,-16]
[-16,-16,-16,16,-16,-16,16,16,16,-16,-16,16,-16,-16,-16,-16,16,-16,-16,-16,16,16,16,-16,16,16,-16,-16,-16,-16,-16,16,16,-16,16,-16,16,16,-16,-16,16,16,-16,16,-16,-16,64,-16,-16,16,16,-16,16,16,16,-16,16,-16,16,16,16,-16,16,-16,-16,16,16,16,-16,16,16,16,-16,16,-16,-16,-16,16,16,-16,-16,16,16,16,16,-16,16,-16,16,16,-16,16,-16,-16,-16,-16,-16,16,16,16,-16,16,16,16,16,-16,16,16,16,16,16,-16,-16,-16,-16,16,16,16,16,16,-16,16,-16,16,16,16,16,-16]
[16,-16,-16,16,16,16,16,-16,-16,16,16,16,-16,16,-16,16,16,16,16,-16,16,16,16,-16,16,-16,-16,-16,-16,16,16,-16,-16,-16,16,-16,-16,16,16,16,16,-16,16,16,-16,16,-16,16,-16,16,16,-16,-16,-16,16,-16,-16,-16,-16,-16,16,-16,-16,16,16,16,-16,16,16,-16,16,16,16,16,-16,16,-16,-16,-16,16,16,-16,-16,-16,16,-16,16,-16,16,16,16,-16,16,-16,16,-16,-16,-16,16,-16,16,16,-16,16,-16,-16,-16,16,-16,-16,16,16,16,16,16,-16,16,16,-16,-16,-16,-16,-16,-16,-16,-16,-16,16]
[-16,16,16,16,16,16,16,16,16,-16,-16,16,16,16,-16,16,-16,-16,16,16,16,-16,16,-16,16,-16,16,-16,16,-16,16,64,-16,16,-16,16,16,16,-16,16,-16,16,-16,16,16,-16,16,-16,16,16,-16,-16,16,16,-16,-16,-16,16,-16,-16,-16,-16,-16,16,16,16,16,-16,-16,-16,16,64,16,-16,-16,16,-16,-16,-16,16,16,16,-16,-16,-16,64,-16,16,-16,-64,16,16,16,-16,-16,-16,16,16,16,16,16,-16,16,-16,-16,-16,-16,-16,16,-16,-64,16,16,-16,16,16,16,-16,16,-16,16,16,16,-16,-16,16,16,16]
[-16,16,-16,16,-16,16,16,16,-16,-16,16,16,16,-16,16,-16,-16,16,16,-16,16,16,-16,-16,-16,-16,-16,16,-16,-16,16,16,-16,-16,-16,16,16,16,-16,16,-16,16,-16,16,16,16,-16,16,-16,16,16,-16,-16,16,-16,16,16,16,16,-16,-16,16,-16,16,-16,-16,-16,-16,-16,-16,16,16,-16,-16,-16,16,16,-16,-16,-16,16,16,16,16,-16,16,16,16,16,-16,16,-16,-16,-16,16,-16,16,16,-16,16,-16,-16,-16,-16,16,-16,-16,-16,-16,16,16,16,-16,16,-16,16,-16,16,-16,-16,-16,16,-16,-16,16,-16,16,16]
[16,-16,16,16,-16,-16,16,-16,-16,16,-16,-16,16,-16,-16,-16,16,16,16,16,-16,16,-16,16,16,-16,16,-16,-16,16,16,-16,-16,16,-16,16,16,16,16,-16,-16,16,-16,-16,-16,-16,16,16,16,16,16,-16,-16,-16,16,-16,-16,16,16,-16,-16,16,-16,16,16,16,-16,16,-16,16,-16,16,-16,-16,16,16,16,-16,-16,-16,-16,16,-16,-16,16,-16,-16,16,16,16,16,-16,16,16,16,16,16,16,16,16,-16,16,16,16,-16,-16,16,16,16,16,16,16,16,16,16,-16,-16,16,16,16,16,-16,16,16,-16,16,-16,16]
[-16,16,16,-16,-16,16,-16,16,16,16,16,-16,-16,-16,-16,-16,-16,16,16,16,16,16,16,16,-16,-16,16,16,16,16,16,16,16,-16,-16,16,16,16,16,-16,16,16,16,16,-16,-16,16,16,16,16,16,-16,16,-16,-16,-16,16,16,16,-16,-16,-16,-16,-16,-16,16,-16,16,16,-16,16,16,16,-16,16,-16,16,-16,16,16,-16,16,-16,-16,-16,16,16,16,16,16,16,-16,16,16,16,16,16,16,-16,16,-16,16,-16,16,-16,16,16,-16,16,16,16,16,16,-16,16,-16,16,-16,-16,-16,-16,-16,16,-16,16,-16,16,16]
[-16,16,-16,16,16,16,16,16,16,-16,-16,-16,16,-16,-16,16,-16,-16,-16,16,-16,16,16,16,16,16,-16,-16,-16,16,-16,16,16,-16,-16,-16,-16,16,-16,16,-16,16,16,16,-16,16,-16,16,16,-16,16,16,16,16,-16,16,-16,16,16,-16,16,-16,16,-16,16,16,-16,16,-16,-16,16,-16,16,-16,-16,-16,16,-16,16,-16,-16,-16,16,-16,16,16,16,-16,16,16,-16,-16,16,-16,16,-16,-16,16,16,-16,-16,-16,-16,16,64,16,-16,-16,16,-16,-16,-16,-16,-16,16,16,-16,-16,16,16,-16,16,-16,16,-16,16,-16,-16]
[-16,16,-16,-16,-16,-16,-16,16,16,-16,16,16,16,-16,-16,-16,-16,-16,16,16,16,16,-16,16,-16,16,-16,16,16,16,-16,-16,-16,16,16,-16,-16,16,-16,16,-16,16,-16,16,-16,16,16,-16,16,16,16,16,16,-16,-16,-16,-16,16,16,-16,16,-16,-16,-16,-16,16,16,-16,-16,16,16,-16,-16,-16,-16,16,16,16,16,-16,-16,-16,-16,-16,-16,16,16,16,-16,-16,-16,16,16,16,-16,-16,16,16,16,16,-16,16,-16,-16,16,-16,16,-16,-16,-16,-16,16,-16,16,16,16,16,16,-16,-16,-16,16,-16,16,16,-16,16,-16]
[-16,16,16,16,16,-16,-16,-16,-16,16,16,-16,16,16,16,16,16,-16,-16,-16,-16,16,-16,16,16,-16,16,-16,-16,-16,16,16,-16,16,16,16,16,-16,16,16,-16,-16,-16,-16,16,-16,16,-16,-16,-16,-16,16,16,16,16,-16,-16,-16,16,16,-16,-16,16,-16,-16,-16,-16,16,16,16,-16,-16,-16,-16,64,16,16,16,-16,-16,16,16,16,-16,16,-16,16,-16,-16,16,-16,16,64,16,16,16,16,-16,16,-16,16,-16,-16,16,16,16,-16,16,16,16,16,-16,16,16,-16,16,16,-16,16,16,-16,-16,16,16,-16,16,-16,-16]
[-16,16,16,16,-16,16,-16,-16,16,16,-16,-16,-16,16,-16,16,16,-16,-16,16,-16,16,-16,-16,-16,16,16,16,16,16,16,-16,-16,16,-16,16,-16,16,-16,16,16,-16,16,16,-16,-16,-16,16,-16,16,16,-16,16,16,-16,16,16,16,-16,-16,16,-16,16,-16,-16,16,-16,-16,-16,16,-16,-16,16,-16,-16,16,-16,16,-16,16,-16,16,-16,-16,16,16,16,-16,-16,-16,16,16,-16,16,16,-16,16,16,-16,16,16,16,-16,-16,-16,16,16,-16,-16,16,-16,16,16,16,-16,-16,-16,-16,-16,16,16,-16,-16,16,-16,16,16,-16]
[16,-16,-16,-16,-16,16,-16,-16,-16,16,16,16,16,16,16,16,16,-16,16,16,16,-16,-16,-16,-16,-16,-16,16,-16,-16,16,16,-16,-16,-16,16,-16,-16,16,16,-16,16,16,16,16,16,-16,-16,-16,16,16,16,16,16,-16,16,16,16,16,-16,-16,-16,16,16,-16,-16,-16,16,-16,16,-16,16,-16,16,16,16,-16,16,-16,16,-16,16,16,-16,16,16,16,-16,16,16,16,-16,-16,-16,16,-16,-16,16,16,-16,16,16,16,-16,16,16,-16,16,-16,16,16,16,16,16,16,-16,16,-16,-16,16,-16,-16,-16,-16,-16,-16,16,-16]
[-16,-16,-16,-16,-16,-16,-16,-16,-16,16,16,16,16,16,16,16,16,-16,16,-16,16,16,-16,16,-16,-16,16,16,16,-16,-16,-16,-16,-16,16,16,-16,-16,-16,16,16,16,-16,-16,16,16,16,-16,-16,16,-16,-16,-16,16,16,-16,-16,16,16,16,16,16,-16,-16,16,-16,-16,16,16,16,16,-16,16,16,-16,16,16,16,16,16,16,-16,-16,16,16,-16,-16,-16,-16,-16,16,-16,16,-16,-16,16,16,16,-16,16,16,-16,-16,-16,-16,-16,16,16,16,16,16,-16,16,-16,16,-16,-16,-16,-16,16,16,16,-16,16,16,-16,-16,16]
[16,-16,-16,-16,-16,16,-16,16,16,-16,-16,-16,-16,-16,-16,16,16,16,-16,16,16,-16,-16,16,-16,-16,-16,-16,16,-16,16,16,16,16,-16,16,16,16,-16,16,16,16,16,-16,-16,16,16,16,-16,16,-16,-16,16,16,16,-16,16,-16,-16,16,-16,-16,-16,-16,16,16,-16,-16,16,-16,-16,16,16,16,16,-16,16,16,-16,16,-16,-16,16,-16,16,-16,16,-16,16,-16,-16,16,-16,-16,16,16,-16,-16,-16,16,16,16,-16,-16,-16,-16,16,16,-16,-16,16,-16,-16,16,16,16,16,16,-16,-16,-16,-16,-16,16,16,-16,16,-16]
[16,16,16,16,-16,-16,-16,-16,16,16,16,16,16,-16,16,16,16,-16,16,16,-16,-16,-16,16,-16,16,16,16,16,16,-16,-16,16,-16,16,16,16,-16,-16,16,-16,16,-16,-16,-16,16,-16,16,16,-16,16,-16,-16,-16,-16,16,16,-16,-16,16,-16,-16,16,16,16,-16,-16,16,16,16,-16,16,-16,-16,-16,16,16,-16,16,-16,-16,16,-16,-16,-16,16,16,-16,16,-16,16,16,-16,-16,-16,16,16,16,-16,-16,-16,16,16,16,-16,16,16,-16,16,16,16,-16,16,16,-16,16,-16,16,16,16,-16,16,-16,16,16,-16,16,16]
[-16,16,-16,-16,-16,-16,-16,-16,-16,16,16,16,16,-16,-16,-16,-16,16,16,-16,-16,-16,-16,-16,-16,16,-16,16,-16,-16,16,16,16,16,-16,16,-16,-16,16,16,16,-16,-16,-16,-16,16,-16,16,-16,16,16,-16,16,16,16,-16,-16,16,-16,-16,-16,-16,-16,16,-16,-16,-16,16,-16,16,16,16,-16,16,16,16,16,16,16,16,-16,16,-16,16,16,16,16,16,16,-16,-16,16,16,-16,16,-16,-16,-16,16,16,16,16,-16,-16,16,16,16,-16,-16,16,16,16,-16,-16,16,16,16,-16,16,-16,-16,-16,-16,16,16,-16,-16,16]
[16,16,-16,-16,-16,-16,16,-16,16,-16,16,16,16,-16,-16,16,-16,-16,-16,16,-16,16,16,16,-16,-16,-16,16,16,-16,16,16,16,-16,16,16,-16,-16,-16,-16,-16,-16,16,16,16,-16,-16,-16,-16,-16,16,16,-16,16,16,-16,16,-16,16,-16,-16,-16,-16,16,-16,-16,16,16,-16,-16,-16,16,16,-16,-16,16,-16,-16,16,16,-16,-16,-16,-16,16,16,16,-16,16,-16,16,-16,16,-16,-16,16,-16,-16,16,16,-16,-16,-16,-16,16,16,16,16,-16,16,16,16,16,16,16,-16,16,-16,-16,-16,16,16,16,-16,16,16,-16,16]
[16,-16,-16,16,-16,-16,16,16,16,-16,16,16,-16,-16,-16,16,-16,-16,16,-16,16,16,16,16,16,-16,-16,-16,16,16,16,-16,-16,-16,-16,16,16,16,-16,-16,16,-16,-16,16,-16,16,-16,16,16,-16,-16,-16,-16,-16,-16,-16,16,16,-16,16,-16,16,16,16,-16,16,-16,16,-16,16,16,16,-16,16,-16,-16,16,16,-16,-16,16,16,-16,16,16,16,-16,16,16,16,16,-16,-16,16,16,16,16,16,16,-16,-16,16,-16,-16,16,-16,16,16,16,-16,-16,16,-16,-16,-16,16,16,16,-16,-16,16,16,-16,-16,16,-16,-16,16]
[16,-16,16,-16,-16,-16,-16,-16,16,-16,-16,16,-16,-16,-16,-16,16,-64,16,16,16,-16,-16,16,-16,16,16,-16,16,-16,16,-16,16,16,16,16,16,16,-16,16,-16,16,-16,-16,16,-16,16,16,-16,16,-16,-16,-16,16,16,-16,-16,-16,-16,16,16,16,-16,-16,-16,16,-16,16,16,-16,16,-16,16,-16,16,-16,64,16,16,-16,-16,16,-16,-16,-16,16,16,-16,16,16,16,16,16,-16,-16,-16,-16,16,-16,-16,-16,-16,16,-16,-16,-16,16,16,-16,16,16,16,16,-16,-16,-16,-16,16,16,-16,-16,16,-16,-16,-16,16,-16,16]
[16,16,-16,16,-16,16,-16,16,16,16,-16,16,16,-16,-16,16,-16,-16,-16,16,-16,-16,-16,-16,16,16,-16,-16,-16,16,-16,-16,16,16,-16,-16,16,16,16,-16,-16,16,-16,16,-16,-16,16,-16,16,-16,16,16,16,16,-16,16,-16,16,16,-16,-16,-16,-16,16,-16,16,-16,-16,16,-16,16,16,16,-16,-16,-16,16,16,16,-16,-16,-16,16,16,16,-16,-16,16,16,16,-16,-16,-16,-16,16,-16,16,-16,16,-16,-16,-16,-16,-16,16,-16,-16,-16,16,16,-16,16,-16,-16,16,16,16,16,16,16,-16,-16,-16,-16,16,-16,-16,-16]
[16,-16,16,16,-16,-16,16,16,-16,16,16,16,-16,-16,-16,-16,16,16,16,16,-16,-16,16,16,16,-16,16,-16,-16,16,16,16,16,16,16,16,16,16,-16,16,-16,-16,16,-16,-16,16,-16,16,-16,-16,16,-16,-16,16,16,-16,-16,16,-16,-16,16,-16,-16,-16,16,16,-16,16,-16,-16,16,-16,-16,16,-16,16,16,-16,16,-16,-16,16,-16,16,-16,-16,16,16,16,16,-16,16,-16,-16,16,-16,-16,-16,-16,16,-16,-16,-16,16,-16,16,-16,-16,-16,16,16,16,-16,16,16,-16,16,-16,-16,-16,16,-16,16,16,16,-16,-16,-16]
[16,16,16,-16,16,-16,-16,-16,16,16,-16,-16,-16,-16,-16,16,-16,-16,-16,16,16,16,16,-16,16,16,-16,16,16,-16,16,-16,16,16,16,16,16,16,16,16,16,16,16,-16,-16,-16,16,-16,-16,-16,16,16,-16,-16,16,-16,16,-16,16,16,16,-16,-16,-16,-16,16,-16,16,-16,16,16,-16,-16,16,16,16,16,16,-16,-16,-16,16,-16,-16,16,16,16,16,16,16,-16,16,-16,-16,-16,-16,16,-16,-16,-16,16,-16,16,-16,16,-16,16,16,16,16,16,16,16,-16,-16,-16,16,-16,16,-16,-16,16,-16,16,16,16,-16,16]
[-16,16,-16,16,-16,16,-16,-16,-16,-16,16,16,-16,16,-16,-16,16,16,16,-16,16,16,16,-16,-16,16,-16,-16,-16,16,16,16,-16,-16,16,16,16,-16,-16,-16,16,16,-16,16,-16,-16,16,-16,-16,16,-16,16,16,-16,16,16,16,16,16,16,16,-16,16,-16,-16,-16,-16,16,-16,16,16,16,-16,-16,16,16,16,-16,-16,-16,16,-16,-16,-16,16,-16,16,-16,16,16,16,-16,-16,16,-16,16,-16,16,-16,16,16,16,16,16,-16,16,16,16,-16,16,16,16,16,16,-16,16,16,-16,-16,16,-16,-16,-16,16,-16,16,-16,16]
[-16,16,16,-16,-16,16,16,16,16,16,-16,16,-16,16,16,-16,-16,16,-16,-16,-16,-16,-16,16,-16,16,16,-16,16,-16,16,-16,-16,16,16,-16,16,16,-16,16,-16,16,-16,-16,-16,16,16,16,-16,16,-16,-16,-16,16,-16,-16,-16,16,16,-16,-16,16,-16,-16,-16,16,16,-16,-16,16,-16,-16,16,-16,-16,16,-16,-16,16,16,16,-16,16,16,-16,-16,-16,-16,-16,-16,-16,16,-16,16,16,16,-16,-16,16,-16,-16,-16,16,16,16,16,16,16,16,16,16,-16,-16,16,16,-16,-16,-16,16,16,16,-16,16,16,-16,16,16,-16]
[16,-16,-16,-16,16,16,16,16,16,-16,-16,16,-16,16,16,16,16,-16,16,16,-16,-16,-16,16,-16,16,16,-16,16,-16,16,16,16,-16,-16,-16,-16,-16,16,-16,16,-16,16,-16,-16,-16,-16,-16,-16,16,-16,-16,-16,16,-16,16,16,16,-16,16,16,16,16,16,-16,16,16,-16,-16,-16,-16,16,-16,16,16,-16,16,16,-16,-16,-16,16,16,-16,-16,-16,-16,16,16,-16,16,16,16,-16,16,16,16,16,16,16,-16,-16,16,16,-16,16,16,-16,-16,-16,-16,16,-16,-16,16,16,16,16,-16,-16,16,16,16,-16,16,16,-16,-16]
[-16,16,-16,-16,16,-16,16,16,-16,16,-16,-16,16,16,16,16,-16,-16,16,16,-16,16,16,-16,16,16,16,16,-16,16,16,16,-16,16,16,16,-16,-16,-16,-16,-16,-16,-16,16,-16,-16,16,-16,16,-16,-16,16,-16,-16,16,-16,16,16,64,16,16,16,16,16,-16,16,-16,-16,-16,-16,16,-16,-16,-16,-16,-16,16,16,16,16,16,-16,-16,16,16,-16,-16,16,16,-16,16,16,16,-16,16,16,-16,16,16,16,16,-16,16,-16,-16,-16,-16,16,16,16,16,16,16,-16,-16,-16,16,-16,16,-16,16,16,16,16,16,-16,16,16]
[16,16,-16,16,16,-16,-16,16,16,16,-16,-16,-16,-16,16,-16,-16,-16,-16,16,-16,-16,16,-16,16,16,-16,-16,-16,16,16,-16,-16,-16,-16,16,16,-16,16,16,-16,16,16,16,16,-16,16,-16,-16,-16,16,16,16,16,16,-16,16,-16,16,-16,-16,-16,-16,-16,-16,16,16,-16,-16,16,-16,-16,16,16,-16,-16,-16,16,16,-16,-16,-16,16,-16,-16,-16,-16,16,-16,-16,-16,-16,16,16,16,16,16,16,-16,-16,-16,16,16,-16,-16,16,-16,16,64,16,16,-16,16,-16,-16,-16,-16,-16,-16,-16,-16,16,16,16,16,16,-16,16]
[-16,-16,16,16,-16,16,-16,16,16,16,-16,16,16,16,-16,-16,-16,-16,16,-16,-16,16,16,16,-16,16,-16,-16,-16,-16,-16,-16,-16,-16,16,16,16,16,16,-16,-16,-16,16,-16,16,-16,-16,-16,16,16,16,16,16,16,-16,-16,16,-16,-16,-16,-16,16,-16,-16,-16,16,16,16,-16,16,-16,-16,16,16,16,-16,-16,-16,-16,-16,16,-16,16,-16,-16,16,16,16,16,16,16,16,-16,16,-16,-16,16,16,-16,16,16,-16,16,16,-16,-16,16,16,16,16,16,16,16,16,-16,16,-16,-16,-16,-16,16,16,16,16,16,-16,-16,-16]
[16,16,16,16,-16,-16,16,-16,16,16,-16,16,16,-16,-16,16,-16,-16,16,-16,16,16,-16,16,-16,16,16,-16,-16,16,16,16,16,-16,16,-16,16,16,-16,-16,16,16,16,-16,16,16,-16,-16,16,-16,16,16,-16,-16,16,16,-16,-16,-16,16,-16,-16,-16,16,16,-16,16,16,-16,16,-16,16,-16,16,-16,16,16,16,16,16,16,16,-16,-16,16,-16,16,16,-16,16,16,-16,16,-16,-16,-16,16,-16,-16,-16,16,16,-16,-16,-16,-16,16,-16,16,-16,-16,16,-16,-16,-16,-16,16,16,16,16,16,-16,16,-16,16,16,-16,16]
[16,-16,16,-16,-16,-16,-16,-16,-16,16,16,16,-16,-16,-16,-16,-16,16,-16,16,-16,16,16,-16,-16,-16,-16,-16,16,-16,-16,16,-16,16,16,-16,-16,16,-16,16,16,-16,16,-16,16,16,-16,-16,16,16,-16,-16,-16,-16,-16,16,16,16,-16,16,16,-16,-16,16,-16,-16,-16,-16,16,16,16,16,-16,-16,-16,16,16,-16,-16,-16,-16,-16,-16,-16,-16,16,-16,16,-16,-16,-16,16,-16,-16,16,-16,16,-16,-16,16,16,16,16,-16,-16,-16,16,-16,-16,16,16,16,-16,16,16,16,-16,16,16,16,16,16,-16,-16,16,16,16,16]
[-16,-16,16,16,16,-16,-16,-16,-16,16,-16,16,16,16,16,-16,16,16,-16,-16,16,16,16,16,16,16,-16,-16,-16,-16,16,16,-16,16,-16,-16,16,16,16,16,16,-16,-16,16,-16,-16,-16,-16,-16,-16,-16,-16,16,-16,-16,-16,16,-16,16,-16,-16,16,16,16,-16,-16,-16,-16,16,16,-16,16,-16,-16,-16,16,16,-16,16,-16,-16,-16,16,-16,-16,-16,16,-16,16,16,16,-16,-16,-16,-16,-16,16,-16,16,16,16,16,16,16,-16,16,16,16,-16,16,16,-16,16,16,-16,-16,16,-16,16,-16,-16,16,-16,16,-16,-16,-16,16]
[16,-16,16,16,16,16,-16,16,-16,16,16,16,-16,16,16,-16,-16,16,-16,-16,16,16,16,16,16,-16,16,16,16,16,16,16,16,-16,-16,-16,16,16,16,16,-16,-16,-16,16,-16,16,16,16,16,-16,16,16,16,16,16,-16,-16,16,16,-16,-16,-16,-16,-16,16,16,16,16,-16,16,16,-16,16,-16,-16,16,16,16,16,16,-16,-16,16,16,16,16,-16,16,16,-16,16,16,16,-16,-16,-16,-16,-16,16,-16,-16,-16,16,16,16,16,16,16,16,16,16,16,-16,-16,-16,-16,16,-16,16,-16,-16,-16,16,-16,-16,16,16,16]
[16,16,-16,16,-16,16,-16,-16,16,16,-16,16,-16,16,-16,16,16,-16,-16,16,16,16,16,16,16,16,16,-16,16,-16,-16,16,16,16,-16,16,-16,-16,16,16,16,-16,-16,16,16,16,16,-16,16,16,16,16,16,-16,16,16,-16,16,16,-16,-16,-16,-16,-16,16,16,-16,16,16,-16,16,-16,-16,16,-16,16,16,16,16,16,16,-16,-16,-16,16,-16,16,16,16,-16,16,-16,-16,16,16,-16,-16,-16,16,16,16,16,-16,-16,-16,-16,-16,-16,-16,16,16,-16,16,16,16,16,-16,16,16,-16,16,-16,-16,-16,-16,-16,16,-16]
[16,-16,16,16,-16,16,-16,-16,16,16,-16,-16,-16,16,-16,-16,16,-16,-16,16,16,-16,-16,16,16,16,-16,-16,16,16,16,16,16,16,-16,16,-16,16,-16,-16,16,16,-16,16,-16,16,16,-16,16,-16,16,-16,-16,-16,16,-16,-16,-16,16,-16,16,-16,-16,-16,16,16,16,-16,16,-16,16,16,-16,-16,16,-16,16,16,16,16,-16,16,-16,-16,-16,16,-16,16,-16,16,16,16,16,-16,-16,-16,16,16,-16,16,-16,-16,-16,-16,-16,16,16,16,16,-16,-16,16,-16,-16,16,-16,16,-16,16,-16,16,16,16,-16,16,-16,16,-16]
[-16,16,-16,-16,-16,16,-16,16,-16,-16,-16,16,-16,-16,16,-16,16,16,16,16,16,-16,-16,16,-16,16,-16,16,16,16,-16,-16,16,16,16,-16,64,16,-16,-16,16,16,-16,16,16,16,16,16,16,-16,16,-16,16,16,16,16,-16,16,-16,-16,-16,16,-16,16,16,16,-16,-16,-16,16,16,16,16,-16,16,16,16,-16,16,16,-16,-16,16,16,-16,16,16,16,16,-16,-16,-16,-16,-16,16,-16,-16,16,-16,16,-16,16,16,-16,-16,16,16,-16,16,16,-16,-16,-16,-16,16,-16,16,-16,-16,-16,16,16,-16,-16,-16,-16,-16,16]
[-16,-16,16,16,-16,16,16,-16,16,-16,-16,-16,64,-16,16,-16,-16,-16,-16,16,-16,16,-16,64,-16,16,-16,16,16,-16,-64,-16,16,-16,16,16,16,16,-16,-16,-16,-16,16,-16,-16,-16,-16,16,16,16,-16,16,16,-16,16,-16,-16,-16,-16,-16,-16,-16,16,-16,16,-16,-16,16,16,-16,16,-16,16,-16,16,-16,-16,-16,-16,16,-16,-16,-16,-16,16,16,-16,16,16,-16,-16,-16,-16,-16,16,-16,16,-16,16,-16,-16,-16,16,-16,-16,-16,-16,16,-16,16,-16,-16,-16,16,-16,16,16,16,16,16,16,16,16,-16,16,16,-16,-16]
[-16,16,-16,16,-16,16,16,16,16,-16,-16,16,-16,-16,16,16,16,16,-16,-16,-16,16,16,-16,16,-16,-16,-16,16,16,16,-16,16,-16,16,16,-16,16,-16,-16,16,-16,16,16,-16,16,-16,-16,-16,-16,16,16,16,-16,-16,-16,16,16,16,-16,-16,16,16,-16,16,-16,-16,16,-16,-16,16,16,-16,-16,16,16,16,-16,16,16,-16,-16,16,-16,16,-16,16,16,16,16,16,-16,-16,16,16,16,-16,16,16,16,16,16,16,-16,-16,16,-16,-16,-16,-16,-16,-16,-16,16,16,-16,16,-16,16,-16,-16,16,16,16,-16,16,-16,-16]
[-16,16,16,-16,-16,16,-16,-16,-16,16,16,16,16,16,-16,-16,-16,16,-16,16,-16,-16,16,-16,16,-16,16,16,-16,-16,16,16,16,-16,-16,16,16,-16,16,-16,-16,16,-16,16,16,-16,16,16,-16,16,16,16,16,16,16,-16,-16,16,16,-16,-16,-16,16,16,16,16,-16,-16,16,16,-16,16,-16,16,-16,-16,16,-16,-16,-16,-16,16,16,-16,16,-16,-16,16,-16,-16,16,16,-16,-16,16,16,16,-16,-16,16,16,16,-16,16,-16,-16,16,16,16,64,16,16,16,-16,16,-64,16,-16,-16,16,16,16,16,-16,-16,16,-16,-16]
[16,-16,16,-16,16,16,16,-16,-16,16,-16,16,16,16,16,16,-16,-16,16,16,-16,16,-16,-16,16,-16,-16,-16,16,-16,-16,-16,16,16,16,-16,16,16,16,-16,16,-16,16,-16,16,-16,16,-16,-16,16,-16,16,-16,16,-16,-16,16,16,16,-16,16,16,16,-16,-16,-16,-16,-16,-16,16,-16,-16,16,-16,-16,16,16,16,-16,16,-16,16,-16,-16,-16,16,16,16,16,-16,-16,-16,-16,16,16,-16,-16,-16,-16,16,16,-16,16,-16,-16,-16,16,16,16,-16,16,16,-16,16,-16,16,-16,-16,16,-16,-16,16,-16,-16,-16,-16,-16,-16]
[16,16,-16,16,-16,-16,16,16,16,16,16,16,-16,16,-16,-16,-16,-16,-16,16,-16,-16,16,-16,16,-16,-16,-16,-16,16,16,16,-16,16,-16,-16,-16,16,16,-16,16,16,-16,16,16,16,16,-16,64,-16,-16,16,-16,16,16,-16,-16,16,16,16,-16,-16,16,-16,-16,16,16,16,-16,-16,16,16,-16,-16,-16,-16,16,-16,-16,-16,16,-16,-16,-16,16,-16,16,16,16,-16,-16,-16,-16,-16,16,-16,-16,16,-16,16,-16,-16,-16,-16,16,-16,-16,-16,16,16,-16,16,-16,-16,-16,-16,-16,16,16,16,16,16,-16,-16,16,16,64,16]
[-16,-16,16,-16,16,16,16,-16,16,16,16,16,-16,16,16,-16,-16,-16,16,-16,16,16,-16,16,-16,16,16,16,16,16,-16,16,-16,-16,16,16,-16,-16,16,16,16,-16,-16,16,-16,16,16,-16,-16,-16,-16,16,-16,16,16,-16,-16,16,16,-16,16,-16,16,16,16,-16,-16,16,16,16,-16,-16,-16,16,16,-16,16,16,-16,16,16,-16,-16,-16,-16,16,16,16,16,-16,-16,-16,-16,-16,-16,16,-16,-16,16,16,16,16,-16,-16,-16,-16,-16,16,-16,16,16,-16,-16,16,16,16,16,-16,16,16,-16,-16,16,-16,-16,-16,16,-16]
[-16,16,16,16,16,-16,-16,16,16,16,16,-16,16,-16,-16,16,-16,-16,16,16,-16,16,-16,16,16,16,-16,-16,-16,16,-16,-16,-16,16,16,-16,-16,16,16,-16,-16,16,-16,-16,16,-16,-16,-16,16,-16,16,16,-16,16,-16,16,16,16,16,-16,16,16,-16,16,16,16,-16,-16,-16,-16,-16,16,-16,16,-16,16,16,16,16,-16,16,16,16,16,-16,-16,16,16,-16,16,-16,-16,16,-16,16,16,16,16,-16,-16,-16,16,-16,16,16,16,16,16,16,-16,16,16,-16,-16,-16,-16,16,16,16,-16,-16,-16,16,16,16,16,-16,-16]
[-16,16,-16,16,16,16,16,-16,16,-16,16,16,16,-16,-16,16,16,-16,16,-16,16,16,-16,-16,16,-16,16,16,-16,-16,16,-16,-16,-16,16,-16,16,-16,-16,-16,16,-16,16,16,16,16,-16,-16,16,-16,16,-16,16,16,16,-16,16,16,-16,-16,-16,16,16,-16,-16,-16,16,-16,16,-16,16,-16,-16,-16,-16,16,16,-16,-16,-16,-16,-16,16,-16,-16,-16,-16,-16,16,-16,16,-16,-16,16,16,-16,16,16,16,16,-16,16,16,-16,-16,-16,-16,-16,-16,16,-16,16,16,16,16,-16,-16,16,16,16,16,-16,16,-16,16,16,16,16]
[-16,16,-16,-16,16,16,-16,16,16,-16,16,-16,16,-16,-16,16,-16,-16,-16,16,-16,16,-16,16,16,-16,-16,-16,-16,-16,16,-16,-16,16,16,16,-16,-16,-16,16,-16,16,-16,16,-16,-16,-16,16,16,-16,16,-16,16,16,-16,-16,16,16,16,-16,16,-16,16,-16,16,16,-16,16,16,-16,16,-16,-16,16,-16,16,16,-16,-16,-16,16,-16,16,-16,-16,-16,-16,16,-16,-16,-16,-16,-16,-16,-16,-16,16,16,-16,-16,-16,-16,-16,16,16,-16,-16,-16,16,16,-16,-16,-16,-16,16,16,-16,-16,16,16,-16,-16,-16,16,16,-16,-16,16]
[16,16,16,-16,-16,-16,-16,-16,16,16,-16,-16,16,-16,-16,-16,16,-16,-16,16,16,16,16,16,-16,16,-16,16,16,16,16,-16,-16,16,-16,16,-16,16,16,16,-16,16,-16,16,-16,-16,-16,16,16,-16,-16,-16,16,16,-16,-16,16,16,-16,16,-16,16,16,16,16,-16,-16,16,-16,16,-16,16,-16,-16,16,-16,16,-16,16,16,-16,-16,-16,-16,-16,-16,-16,16,-16,-16,16,16,16,-16,16,16,16,16,16,-16,16,16,16,-16,16,16,-16,16,16,16,-16,16,16,-16,16,-16,16,16,16,16,16,-16,-16,16,16,-16,16,16]
[16,-16,-16,16,-16,16,16,-16,16,16,16,16,-16,-16,16,-16,16,16,-16,-16,-16,16,-16,-16,16,16,-16,16,-16,16,16,16,-16,-16,-16,16,-16,-16,16,16,16,-16,16,-16,16,-16,16,-16,16,-16,16,16,-16,-16,16,-16,16,-16,-16,-16,-16,16,-16,16,-16,-16,16,-16,-16,-16,-16,16,16,16,-16,-16,16,-16,16,16,16,16,-16,-16,-16,-16,-16,-16,16,16,16,-16,16,16,-16,-16,-16,16,16,16,16,-16,16,16,-16,-16,-16,16,16,16,-16,16,-16,16,16,-16,-16,16,-16,-16,-16,-16,-16,-16,16,16,16,-16]
[16,-16,-16,-16,-16,16,-16,-16,16,-16,16,-16,16,-16,-16,-16,-16,-16,16,-16,-16,-16,-16,-16,16,-16,-16,-16,16,-16,-16,-16,16,16,16,16,16,-16,16,-16,16,16,-16,-16,-16,16,-16,-16,16,-16,-16,-16,-16,16,16,16,16,16,-16,-16,16,16,16,16,-16,16,-16,16,-16,16,16,-16,-16,-16,-16,16,16,16,-16,16,16,-16,-16,16,16,16,16,-16,-16,-16,16,16,16,-16,-16,-16,-16,16,-16,-16,16,-16,16,-16,-16,-16,16,-16,-16,16,16,16,16,16,16,-16,-16,-16,16,-16,16,16,16,16,16,-16,-16,16]
[-16,-16,16,-16,-16,16,16,16,16,16,16,16,16,-16,16,-16,16,-16,-16,-16,16,-16,16,16,16,16,16,-16,-16,16,16,16,16,-16,16,-16,16,-16,16,-16,-16,-16,16,16,-16,16,16,16,16,16,-16,16,-16,16,16,16,-16,-16,-16,16,-16,-16,16,16,16,16,16,-16,-16,16,16,16,-16,16,16,-16,-16,16,16,16,16,16,16,16,16,16,-16,-16,-16,-16,16,16,16,-16,16,16,16,-16,16,-16,16,-16,16,16,16,16,16,-16,16,-16,16,-16,-16,-16,16,16,16,16,-16,-16,-16,-16,16,16,-16,16,16,16]
[16,-16,16,16,-16,16,16,-16,-16,16,-16,16,-16,16,-16,-16,16,-16,-16,16,-16,16,16,-16,16,16,-16,-16,-16,16,-16,-16,16,-16,16,16,16,16,-16,16,-16,-16,16,-16,-16,-16,16,-16,-16,16,-16,16,-16,16,16,-16,16,16,-16,16,-16,-16,-16,16,16,-16,-16,-16,16,16,16,16,-16,16,-16,-16,-16,16,-16,-16,-16,16,16,-16,16,-16,-16,16,16,16,-16,-16,16,-16,16,-16,-16,-16,-16,16,16,-16,-16,-16,-16,-16,-16,-16,-16,16,16,-16,16,-16,16,-16,16,-16,-16,-16,16,16,16,-16,16,16,-16,-16]
[-16,-16,16,-16,16,16,16,16,16,16,-16,16,16,16,-16,16,-16,-16,-16,16,16,16,-16,16,16,16,-16,-16,-16,-16,-16,-16,-16,16,16,16,16,-16,16,-16,16,16,16,-16,16,16,-16,16,-16,16,-16,16,-16,16,16,16,-16,-16,16,-16,16,-16,16,-16,16,16,-16,-16,-16,-16,-16,16,-16,16,16,-16,-16,-16,-16,-16,-16,-16,-16,16,-16,-16,16,16,-16,-16,-16,16,16,16,-16,16,-16,-16,-16,16,16,-16,-16,16,-16,16,16,16,-16,16,16,16,-16,16,-16,-16,16,-16,16,16,16,16,-16,16,-16,-16,-16,16]
[-16,16,16,16,16,16,16,16,16,-16,16,16,-16,-16,-16,-16,-16,-16,16,-16,16,-16,16,-16,16,16,16,16,16,16,-16,16,16,-16,-16,-16,16,16,16,16,16,16,16,16,-16,-16,16,-16,-16,16,-16,-16,-16,-16,16,16,-16,16,16,16,-16,-16,-16,16,16,-16,-16,-16,-16,-16,-16,16,16,-16,16,-16,16,16,16,-16,16,-16,16,16,16,-16,-16,-16,-16,16,-16,16,-16,-16,-16,-16,-16,16,16,-16,-16,-16,-16,-16,16,-16,16,16,16,-16,-16,-16,-16,-16,16,-16,-16,-16,16,16,-16,16,-16,16,-16,16,16,-16]
[16,-16,16,16,16,-16,16,16,-16,16,16,-16,-16,-16,16,16,-16,-16,16,-16,-16,-16,16,16,16,-16,-16,16,-16,-16,16,16,-16,16,-16,16,-16,-16,16,16,-16,16,-16,-16,-16,16,16,16,16,16,16,16,-16,16,16,16,-16,-16,16,-16,16,-16,16,-16,-16,-16,-16,16,-16,-16,-16,-16,16,-16,-16,-16,16,16,16,-16,16,16,16,-16,16,16,16,-16,-16,16,16,16,16,16,-16,-16,16,16,-16,-16,-16,16,16,-16,16,-16,16,16,16,16,-16,16,-16,-16,16,-16,16,16,16,-16,16,16,-16,16,16,16,16,16]
[-16,16,-16,-16,16,-16,16,-16,16,-16,-16,16,16,16,16,-16,16,-16,-16,16,-16,16,-16,16,16,16,-16,-16,-16,-16,16,16,16,16,16,-16,16,16,-16,16,-16,-16,-16,-16,-16,-16,-16,16,16,-16,-16,16,-16,16,-16,-16,16,-16,-16,16,16,16,-16,-16,-16,-16,16,16,-16,16,-16,-16,-16,16,16,-16,16,-16,16,-16,16,-16,-16,-16,-16,16,-16,-16,-16,64,16,16,-16,-16,-16,-16,-16,16,16,-16,16,-16,16,16,-16,16,-16,-16,-16,-16,-16,-16,16,-16,-16,16,16,-16,16,16,16,-16,16,16,16,-16,-16,-16]
[16,16,-16,16,16,16,-16,-16,-16,16,-16,16,16,16,-16,16,-16,-16,-16,-16,16,-16,-16,16,-16,-16,-16,16,16,16,16,-16,-16,16,-16,16,16,-16,-16,16,-16,16,16,16,16,16,-16,16,16,-16,-16,16,16,-16,16,16,16,-16,16,-16,16,-16,-16,16,-16,16,-16,-16,16,-16,16,16,16,16,16,-16,16,16,-16,16,16,-16,-16,16,64,-16,16,-16,-16,-16,16,-16,16,-16,16,-16,16,16,-16,-16,-16,16,-16,-16,-16,-16,16,16,-16,16,16,-16,-16,16,-16,-64,16,16,16,-16,-16,16,-16,-16,-16,-16,16,16]
[-16,-16,16,16,-16,-16,16,-16,16,-16,-16,16,-16,16,-16,-16,16,-16,16,-16,16,16,-16,16,-16,-16,-16,16,-16,16,16,16,16,16,16,-16,16,-16,-16,-16,-16,-16,-16,-16,16,-16,16,-16,16,16,-16,-16,-16,-16,-16,-16,-16,-16,16,16,16,-16,-16,-16,-16,-16,-16,-16,-16,64,16,16,-16,16,16,16,-16,-16,16,16,-16,-16,16,16,16,-16,16,-16,16,16,16,16,-16,-16,16,16,16,16,16,16,16,-16,16,16,-16,16,-16,-16,-64,16,16,-16,16,16,16,-16,-16,16,16,16,16,16,-16,16,-16,-16,16,-16]
[16,-16,-16,-16,16,16,16,16,16,-16,16,16,16,16,-16,16,16,16,16,-16,16,-16,16,16,16,-16,-16,16,-16,16,16,16,16,16,16,-16,16,16,-16,16,16,16,16,16,16,16,16,16,16,-16,-16,-16,-16,16,-16,-16,-16,16,16,-16,16,-16,16,-16,16,16,-16,-16,-16,16,16,-16,16,-16,16,16,16,-16,16,16,-16,-16,16,16,-16,16,-16,-16,-16,16,16,-16,-16,-16,16,16,16,16,16,16,16,16,16,16,16,16,-16,-16,-16,16,-16,-16,16,16,16,16,16,-16,16,-16,16,16,-16,16,-16,-16,-16,-16]
[-16,-16,16,16,-16,16,16,16,-16,-16,16,-16,-16,16,16,16,16,-16,16,16,-16,16,-16,-16,-16,-16,-16,16,16,16,-16,16,16,16,16,-16,16,-16,16,-16,-16,-16,-16,16,-16,-16,16,16,-16,16,-16,16,-16,16,-16,16,-16,-16,-16,16,-16,-16,16,16,16,-16,16,-16,16,-16,-16,16,-16,16,-16,-16,16,16,-16,16,16,-16,-16,-16,-16,-16,-16,-16,-16,-16,-16,-16,16,-16,-16,-16,16,-16,-16,16,-16,16,16,16,-16,16,-16,16,-16,-16,16,16,-16,16,16,16,-16,16,16,16,-16,16,16,-16,16,-16,16,-16]
[16,16,16,-16,-16,-16,16,-16,16,16,-16,-16,16,-16,-16,16,-16,16,-16,16,-16,-16,16,16,16,16,-16,16,16,-16,16,-16,16,16,16,-16,16,16,16,-16,-16,16,-16,-16,16,-16,16,16,-16,-16,16,16,-16,16,16,-16,-16,-16,16,16,16,-16,16,-16,16,-16,-16,-16,-16,16,-16,-16,-16,16,16,-16,16,16,16,-16,16,-16,16,-16,16,16,-16,16,-16,-16,-16,-16,16,-16,-16,-16,-16,-16,-16,-16,-16,-16,-16,-16,16,-16,16,16,16,16,16,-16,16,-16,-16,-16,16,-16,16,16,-16,16,16,16,-16,16,16,-16]
[16,16,16,-16,16,16,-16,16,16,-16,-16,-16,-16,16,-16,-16,16,-16,16,16,-16,16,16,16,16,16,-16,16,16,16,16,-16,-16,16,16,16,-16,16,16,16,16,16,-16,16,-16,-16,16,16,-16,16,16,16,-16,16,16,16,-16,-16,16,16,16,16,-16,-16,-16,16,16,-16,-16,16,16,16,-16,16,-16,-16,16,16,16,-16,-16,-16,-16,16,16,-16,-16,16,16,-16,-16,16,16,-16,-16,-16,-16,-16,16,-16,-16,16,-16,16,16,-16,16,-16,16,16,-16,16,-16,-16,-16,16,16,16,16,-16,16,16,-16,16,16,16,-16,16]
[16,-16,16,16,16,16,16,16,16,16,-16,16,16,-16,16,16,16,-16,16,16,-16,16,16,-16,16,16,-16,-16,-16,16,-16,-16,16,-16,16,16,16,16,-16,16,-16,-16,-16,16,-16,-16,-16,16,16,-16,16,-16,-16,-16,-16,-16,-16,-16,-16,-16,-16,-16,-16,-16,-16,16,16,-16,-16,16,16,-16,16,-16,-16,16,16,-16,16,16,-16,-16,16,-16,-16,16,-16,-16,16,16,-16,16,-16,-16,16,-16,-16,16,16,-16,-16,-16,-16,16,16,-16,-16,-16,-16,16,-16,-16,-16,16,-16,-16,16,-16,-16,-16,16,-16,16,16,16,16,-16,-16]
[-16,16,-16,-16,-16,-16,-16,16,16,-16,16,-16,16,-16,-16,16,-16,-16,16,16,16,16,-16,16,16,16,-16,-16,16,16,-16,16,16,-16,16,-16,-16,16,16,16,16,-16,-16,16,-16,-16,16,16,16,16,16,16,16,16,-16,-16,-16,16,-16,-16,-16,16,-16,-16,-16,-16,-16,16,-16,16,-16,-16,16,-16,16,16,16,16,64,16,16,16,16,-16,16,16,16,16,16,16,-16,-16,16,-16,16,-16,-16,-16,16,-16,-16,-16,16,-16,16,-16,16,16,-16,-16,-16,16,16,16,-16,16,-16,16,-16,16,-16,16,16,16,16,-16,16,16]
[16,-16,16,16,-16,-16,-16,-16,16,16,-16,16,-16,16,-16,-16,16,-16,-16,-16,-16,-16,64,-16,-16,16,16,16,-16,16,16,-16,16,-16,16,-16,-16,16,16,16,16,16,-16,-16,-16,-16,16,-16,-16,-16,16,16,-16,-16,16,-16,-16,-16,16,16,16,-16,16,-16,-64,16,-16,-16,16,64,-16,-16,16,16,16,-16,16,-16,16,-16,-64,-16,16,-16,16,16,-16,16,16,-16,-16,16,-16,16,-16,16,16,-16,-16,16,16,-16,16,16,16,-16,16,16,16,16,16,-16,16,16,16,-16,16,-16,16,-16,16,16,-16,-16,16,16,16,-16]
[-16,16,16,-16,-16,-16,16,16,-16,-16,16,16,16,-16,16,16,-16,16,-16,-16,16,16,16,16,16,-16,16,-16,16,-16,16,16,-16,16,-16,-16,16,-16,-16,-16,16,-16,-16,16,16,-16,-16,16,-16,16,16,-16,16,16,16,-16,16,-16,16,16,-16,-16,16,16,16,16,16,-16,16,16,-16,-16,16,16,16,-16,16,16,-16,16,-16,-16,-16,16,16,-16,16,16,16,-16,-16,-16,-16,-16,16,-16,-16,16,16,-16,-16,-16,-16,-16,-16,16,16,16,16,-16,16,16,-16,16,16,16,16,16,16,-16,16,-16,16,-16,-16,16,16,16]
[16,16,16,16,16,-16,16,-16,-16,16,16,-16,-16,-16,-16,16,16,-16,16,16,16,-16,-16,16,16,-16,-16,-16,-16,-16,16,-16,-16,-16,16,-16,16,16,-16,16,-16,16,16,16,-16,16,16,-16,16,-16,-16,-16,-16,16,-16,16,16,16,16,16,-16,16,-16,-16,-16,-16,-16,-16,-16,16,16,-16,-16,-16,16,16,16,-16,16,-16,-16,16,-16,-16,16,16,16,-16,16,16,16,-16,16,-16,-16,16,-16,16,16,-16,16,-16,16,-16,-16,16,16,-16,16,-16,-16,-16,16,-16,-16,-16,16,16,16,-16,16,16,16,-16,-16,-16,16,16]
[-16,16,16,16,-16,-16,-16,-16,16,16,-16,-16,16,16,-16,-16,16,16,-16,-16,16,16,16,-16,16,-16,-16,-16,-16,-16,16,16,16,16,16,-16,16,16,-16,-16,-16,16,-16,16,-16,16,16,16,16,-16,-16,-16,-16,-16,-16,16,-16,16,-16,-16,16,-16,16,-16,-16,-16,16,-16,16,16,-16,16,-16,-16,16,-16,16,16,16,16,-16,-16,16,-16,-16,16,16,16,16,16,-16,16,-16,-16,-16,16,16,16,-16,16,16,-16,16,-16,16,16,16,16,-16,16,-16,-16,16,16,-16,16,-16,-16,16,16,16,16,16,-16,16,16,-16,-16]
[16,16,-16,16,-16,-16,-16,-16,16,-16,16,-16,-16,16,16,-16,-16,-16,16,-16,16,-16,16,-16,16,-16,16,16,16,16,16,16,16,-16,-16,-16,-16,-16,-16,-16,-16,16,-16,16,16,-16,-16,16,16,16,-16,-16,16,16,-16,16,16,16,-16,-16,-16,-16,16,16,16,16,16,-16,-16,16,16,-16,-16,-16,-16,16,16,-16,16,16,16,16,16,16,-16,16,-16,-16,16,16,16,16,-16,-16,16,-16,16,-16,-16,16,16,-16,16,16,-16,-16,16,-16,-16,-16,-16,16,-16,-16,16,16,16,16,-16,16,16,-16,16,-16,16,16,-16,16]
[-16,16,-16,-16,16,-16,-16,-16,16,16,16,-16,16,16,16,16,16,-16,16,16,16,-16,16,-16,16,16,-16,-16,-16,-16,16,-16,16,-16,16,-16,16,16,-16,16,-16,16,-16,-16,-16,16,-16,-16,-16,16,16,16,-16,16,16,16,-16,16,16,-16,16,-16,16,-16,16,-16,16,-16,16,16,16,-16,16,16,16,16,16,16,-16,-16,-16,-16,16,-16,16,16,16,-16,-16,-16,16,16,16,16,16,16,-16,-16,-16,-16,16,16,-16,-16,-16,-16,16,16,16,-16,16,16,16,16,16,-16,-16,-16,16,16,-16,16,16,16,-16,16,16,16]
[-16,-16,-16,-16,-16,16,16,-16,16,-16,16,16,-16,-16,16,16,16,-16,16,-16,16,-16,-16,16,16,16,-16,16,-16,16,-16,-16,16,16,-16,16,16,16,-16,16,16,-16,-16,-16,-16,16,16,16,16,16,-16,16,-16,-16,-16,16,16,-16,-16,-16,-16,-16,-16,16,16,16,16,-16,16,16,-16,16,-16,-16,16,-16,-16,-16,16,16,-16,-16,16,-16,-16,16,-16,-16,16,16,-16,-16,-16,-16,16,16,16,16,16,-16,-16,16,16,16,16,16,-16,-16,-16,16,-16,16,16,16,16,-16,-16,16,-16,16,16,-16,-16,16,-16,16,-16,16]
[-16,16,16,-16,16,-16,-16,-16,16,16,16,16,16,16,-16,16,16,-16,16,16,-16,16,16,16,-16,-16,16,-16,-16,16,-16,16,16,-16,16,16,-16,-16,16,16,-16,-16,16,16,-16,-16,-16,-16,16,16,16,-16,16,-16,16,16,16,-16,-16,16,16,-16,-16,16,16,16,16,-16,16,16,-16,16,16,-16,16,16,-16,-16,16,16,16,16,16,-16,-16,-16,-16,16,-16,16,16,16,-16,16,-16,16,16,16,-16,16,16,16,-16,16,-16,-16,-16,-16,-16,-16,16,16,16,16,-16,-16,16,-16,-16,-16,-16,-16,16,16,16,16,16,16]
[16,-16,16,16,16,-16,-16,-16,16,16,16,16,16,-16,16,16,-16,-16,16,-16,16,16,16,-16,16,16,16,-16,16,16,-16,-16,16,-16,16,16,-16,16,-16,-16,-16,-16,-16,16,-16,16,16,-16,-16,-16,16,-16,16,-16,16,16,-16,-16,-16,-16,16,-16,16,16,16,-16,-16,16,16,16,16,16,-16,16,16,-16,16,-16,16,-16,-16,16,-16,-16,16,16,-16,-16,16,-16,16,16,16,-16,-16,-16,16,16,16,16,-16,-16,-16,-16,-16,-16,16,-16,-16,-16,-16,-16,16,16,-16,-16,16,-16,-16,-16,16,-16,16,-16,-16,16,16,16]
[-16,-16,-16,-16,16,16,-16,-16,-16,-16,16,-16,16,16,-16,16,16,-16,16,16,-16,-16,-16,16,16,-16,-16,-16,16,16,-16,16,16,16,16,16,16,16,-16,16,-16,-16,-16,16,16,16,-16,16,16,-16,16,16,16,16,-16,16,-16,16,16,-16,-16,-16,16,16,16,16,16,-16,-16,-16,16,-16,16,16,16,16,16,-16,16,16,16,16,-16,-16,16,-16,-16,-16,-16,16,-16,16,-16,16,16,-16,-16,-16,16,-16,16,-16,-16,16,16,16,-16,16,-16,-16,16,-16,16,-16,16,-16,16,-16,-16,16,-16,-16,-16,-16,-16,-16,16,-16]
[-16,16,16,16,16,16,16,-16,-16,16,16,-16,16,16,-16,-16,16,-16,-16,16,16,16,16,16,16,16,-16,16,-16,16,16,-16,16,-16,-16,-16,16,16,16,16,-16,16,-16,-16,16,-16,16,16,16,-16,16,16,16,-16,16,-16,-16,-16,64,-16,-16,16,16,-16,-16,16,16,16,16,16,-16,-16,16,16,-16,-16,-16,16,16,16,-16,16,16,16,16,-16,-16,-16,16,16,-16,-16,16,16,-16,-16,-16,16,16,-16,64,16,-16,-16,16,-16,-16,16,16,16,16,16,16,-16,16,16,16,16,16,16,16,16,-16,64,-16,-16,16,16]
[16,16,-16,16,-16,-16,16,-16,-16,-16,16,16,-16,-16,-16,-16,-16,16,16,-16,16,16,16,-16,-16,16,16,16,-16,16,16,-16,-16,16,-16,-16,-16,16,-16,-16,-16,16,16,16,16,16,16,-16,16,-16,-16,-16,16,-16,16,-16,16,16,-16,-16,16,-16,-16,-16,-16,16,16,-16,-16,16,16,16,16,-16,-16,16,-16,16,-16,-16,-16,-16,16,-16,16,16,16,16,16,-16,16,16,16,16,16,-16,16,16,16,64,-16,-16,-16,16,-16,-16,16,-16,16,16,-16,16,-16,-16,-16,16,-16,-16,-16,-16,16,16,16,-16,-16,-16,-16,16]
[-16,16,-16,-16,-16,-16,16,16,-16,-16,16,16,-16,-16,16,-16,-16,16,16,-16,16,-16,16,-16,16,16,-16,16,-16,-16,-16,16,-16,-16,16,16,-16,-16,16,16,-16,-16,-16,-16,-16,16,-16,16,-16,16,16,-16,-16,16,16,-16,-16,16,16,-16,16,16,16,16,-16,16,16,-16,-16,-16,16,-16,-16,16,16,16,16,-16,16,-16,-16,16,16,16,16,-16,16,16,16,-16,-16,16,-16,16,16,-16,16,-16,-16,-16,-16,-16,-16,16,-16,16,-16,16,-16,-16,16,16,-16,16,16,-16,16,-16,-16,16,-16,16,-16,16,-16,16,-16,-16]
[-16,-16,-16,16,16,-16,-16,-16,-16,-16,16,16,-16,16,-16,-16,16,16,16,-16,16,-16,16,-16,16,-16,-16,16,16,16,16,16,16,16,-16,-16,16,-16,16,-16,-16,-16,-16,-16,-16,16,-16,-16,-16,-16,-16,16,-16,16,-16,16,-16,16,16,16,16,-16,-16,-16,-16,16,-16,-16,16,16,-16,16,16,16,-16,16,-16,-16,16,-16,-16,-16,16,-16,16,16,16,-16,16,-16,16,16,-16,16,16,16,16,16,16,16,-16,-16,-16,16,-16,-16,16,16,-16,16,16,16,16,16,-16,16,16,-16,16,-16,16,16,-16,-16,16,16,16,16]
[16,16,16,16,16,-16,-16,-16,16,16,-16,-16,16,16,16,16,16,-16,16,-16,-16,16,-16,-16,16,16,-16,16,-16,-16,-16,-16,-16,-16,-16,-16,16,16,-16,16,16,16,16,16,-16,-16,-16,-16,-16,-16,16,16,16,16,16,16,16,-16,-16,-16,-16,-16,-16,-16,16,16,-16,-16,16,-16,-16,16,16,-16,16,16,16,-16,16,-16,-16,16,-16,-16,16,16,-16,16,16,16,-16,16,-16,-16,-16,-16,16,16,-16,-16,-16,16,-16,-16,-16,-16,-16,16,16,16,-16,16,-16,16,16,-16,16,-16,16,-16,-16,16,16,-16,16,16,16,16]
[-16,16,-16,-16,-16,-16,-16,-16,16,-16,-16,16,16,-16,16,16,16,-16,16,-16,16,16,16,-16,-16,16,-16,-16,-16,-16,16,-16,16,64,16,16,-16,-16,-16,-16,-16,-16,-16,16,-16,16,-16,-16,-16,-16,16,16,-16,16,16,-16,-16,-16,-16,-16,-16,-16,-16,-16,-64,-16,16,16,-16,16,-16,-16,16,16,16,-16,-16,-16,16,16,-16,-16,16,16,-16,16,-16,16,-16,-16,-16,-16,-16,-16,-16,-16,-16,16,-16,16,16,-16,-16,16,-16,-16,16,-16,-16,16,16,16,16,16,-16,16,16,-16,16,16,-16,64,16,16,16,16,-16,16]
[16,-16,-16,16,16,-16,-16,16,-16,-16,16,-16,16,-16,-16,-16,16,16,16,-16,16,16,16,-16,16,-16,16,16,-16,16,-16,16,-16,-16,-16,16,16,-16,-16,16,-16,16,-16,16,16,-16,16,16,-16,-16,16,-16,64,-16,-16,-16,16,-16,16,-16,-16,-16,16,-16,-16,16,16,16,16,16,16,16,-16,-16,-16,16,-16,16,-16,16,-16,-16,-16,-16,16,-16,16,16,-16,16,16,16,-16,-16,-16,16,16,16,-16,16,-16,-16,-16,16,-16,-16,16,-16,16,16,-16,16,16,16,16,16,16,16,-16,16,-16,-16,-16,16,-16,-16,16,-16]
[16,-16,16,-16,16,-16,-16,-16,-16,16,16,-16,-16,16,-16,-16,-16,16,-16,16,-16,-16,16,16,16,-16,-16,16,16,-16,16,16,-16,-16,16,16,16,16,16,16,16,16,-16,-16,16,-16,16,16,-16,-16,16,16,16,-16,16,-16,16,16,16,16,16,16,-16,16,-16,16,16,-16,-16,16,-16,16,-16,16,-16,-16,16,16,16,-16,-16,-16,16,-16,16,-16,-16,16,16,-16,-16,-16,16,-16,16,-16,16,16,-16,-16,16,16,-16,-16,-16,-16,16,64,16,16,16,16,-16,-16,16,-64,-16,-16,-16,-16,-16,16,-16,16,16,16,-16,16]
[16,-16,-16,16,16,-16,-16,-16,16,-16,16,16,16,-16,-16,-16,16,16,16,-16,16,16,16,-16,16,16,16,-16,-16,16,-16,16,16,-16,16,-16,16,-16,-16,-16,-16,16,-16,-16,-16,-16,16,16,16,16,16,-16,-16,-16,16,-16,16,16,-16,16,16,16,-16,16,-16,-16,16,-16,-16,16,16,-16,16,-16,16,16,-16,-16,-16,16,-16,-16,16,16,-16,16,16,-16,16,16,16,16,16,-16,-16,-16,16,16,-16,64,-16,-16,-16,16,16,-16,-16,-16,-16,16,-16,-16,16,-16,16,16,-16,16,-16,-16,-16,16,-16,16,-16,-16,16,-16]
[16,16,16,-16,16,-16,16,-16,16,16,16,-16,16,16,-16,16,16,16,-16,-16,-16,16,16,-16,16,16,-16,-16,-16,-16,16,16,-16,-16,-16,-16,-16,16,16,-16,-16,16,16,-16,16,16,16,16,16,16,-16,-16,16,-16,-16,16,16,-16,-16,-16,16,-16,16,16,-16,16,16,-16,-16,16,16,16,-16,-16,-16,-16,16,-16,-16,-16,-16,16,16,-16,-16,-16,16,-16,-16,16,-16,-16,16,-16,-16,16,-16,-16,16,16,16,16,-16,16,-16,-16,-16,16,-16,16,16,-16,16,16,-16,16,16,-16,16,-16,16,16,16,-16,-16,-16,16,16]
[16,16,-16,16,16,16,-16,16,16,16,16,16,16,-16,-16,16,-16,16,16,16,16,16,16,-64,16,16,16,16,-16,-16,16,16,-16,16,-16,-16,-16,-16,-16,16,-16,16,-16,16,-16,16,-16,-16,16,-16,16,16,16,-16,-16,16,16,16,-16,-16,-16,16,16,-16,16,-16,-16,-16,-16,-16,16,16,16,-16,-16,16,16,-16,-16,-16,16,-16,16,16,-16,16,16,16,-16,-16,16,-16,-16,16,-16,-16,-16,16,16,16,-16,16,16,-16,-16,-16,16,-16,16,16,-16,16,-16,16,16,16,-16,16,-16,-16,16,-16,16,-16,-16,16,16,-16]
[16,16,16,16,16,16,-16,16,-16,-16,16,-16,16,-16,16,-16,16,-16,16,16,16,-16,-16,16,-16,-16,16,-16,16,-16,16,16,-16,16,-16,16,16,16,16,16,16,-16,16,16,-16,16,-16,16,-16,16,16,16,-16,16,16,16,-16,16,-16,-16,16,16,16,16,16,-16,16,16,16,16,16,-16,-16,16,16,16,-16,16,16,16,-16,-16,16,16,-16,-16,16,16,-16,-16,-16,-16,-16,-16,16,-16,-16,-16,16,16,16,-16,16,16,16,16,-16,16,16,-16,16,16,-16,-16,16,16,-16,16,-16,-16,-16,16,-16,16,16,-16,-16,-16]
[16,-64,64,16,-16,-16,-16,-16,16,64,-16,16,-16,-16,16,-16,16,-16,-16,16,-16,-16,16,16,16,16,16,16,-16,16,16,-16,16,16,16,-16,-16,16,16,16,16,16,16,-64,-16,-16,16,-16,-16,16,16,16,16,-16,-16,-16,-16,-16,-16,16,16,-16,16,16,-16,-16,-16,16,16,16,-16,16,16,16,-16,-16,16,16,16,-16,-16,-16,16,-16,16,-16,-16,16,64,16,-16,16,-16,16,16,-16,16,-16,-16,-16,16,-16,-16,-16,-16,-16,16,16,-16,64,16,-16,16,16,16,16,16,-16,-16,-16,-16,16,-16,-16,16,16,-16,-16]
[-16,16,-16,-16,16,-16,16,-16,-16,-16,16,16,-16,-16,16,-16,16,16,16,16,16,16,-16,16,-16,-16,-16,-16,-16,16,16,-16,-16,16,16,16,16,-16,-16,-16,-16,16,16,16,-16,16,-16,16,16,16,-16,-16,16,-16,-16,-16,-16,16,16,16,16,16,-16,16,-16,16,-16,-16,-16,16,16,-16,-16,-16,-16,16,16,-16,16,-16,-16,16,16,-16,-16,16,16,-16,-16,16,16,16,-16,-16,-16,-16,-16,-16,16,16,-16,16,16,16,16,16,16,-16,-16,-16,-16,16,-16,-16,16,16,-16,-16,16,16,-16,-16,-16,16,-16,-16,-16,-16]
[-16,-16,16,16,-16,16,-16,16,-16,16,-16,16,-16,16,16,-16,16,-16,-16,16,16,16,-16,-16,-16,-16,-16,-16,-16,16,16,-16,-16,-16,-16,16,16,16,-16,-16,-16,-16,-16,-16,-16,16,-16,-16,-16,-16,-16,-16,-16,16,-16,-16,16,16,16,-16,16,16,-16,-16,-16,16,-16,-16,-16,-16,16,16,-16,-16,16,-16,-16,16,-16,16,16,-16,16,16,-16,-16,-16,-16,-16,16,16,-16,16,-16,16,-16,-16,16,-16,16,16,16,-16,-16,-16,16,-16,-16,16,-16,-16,-16,-16,-16,16,16,16,16,16,16,16,16,16,-16,-16,16,16,16]
[16,-16,-16,16,16,16,16,-16,-16,16,16,-16,16,16,16,16,-16,-16,16,16,-16,-16,16,-16,-16,-16,16,-16,16,16,16,-16,16,16,-16,-16,16,-16,-16,16,-16,-16,-16,16,-16,16,16,16,16,-16,16,-16,-16,16,16,16,16,16,16,-16,-16,-16,-16,16,16,16,-16,-16,-16,-16,16,-16,16,-16,-16,-16,16,16,-16,-16,-16,-16,-16,16,16,-16,16,16,-16,-16,16,-16,-16,16,-16,-16,16,16,16,16,-16,-16,-16,16,-16,-16,64,-16,-16,-16,16,16,-16,-16,16,-16,-16,16,-16,16,-16,16,-16,16,-16,-16,16,16]
[16,16,-16,16,-16,-16,16,-16,-16,16,64,16,-16,-16,-16,16,16,-16,16,16,16,16,16,-16,16,-16,-16,16,-16,16,16,16,-16,-16,16,-16,16,-16,16,-16,-16,16,-16,-16,-16,16,-16,16,16,16,16,-16,16,16,16,16,16,16,-16,16,-16,-16,-16,16,16,16,-16,-16,-16,16,16,16,-16,16,-16,16,16,-16,-16,16,16,16,16,-16,-16,16,-16,16,16,-16,16,16,-16,16,16,-16,16,-16,-16,16,16,16,-16,-16,-16,16,16,16,-16,16,16,16,-16,-16,16,-16,-16,-16,16,-16,16,16,-16,-16,-16,-16,16,16]
[-16,-16,-16,-16,16,-16,16,16,16,-16,16,-16,16,16,16,-16,16,-16,-16,64,16,-16,-16,16,16,16,-16,-16,16,16,16,16,16,-16,16,16,-16,16,-16,16,-16,16,-16,16,-16,16,-16,-16,16,16,16,16,-16,16,-16,-16,16,16,-16,16,16,16,-16,16,16,16,-16,-16,-16,-16,16,-16,-16,16,16,16,16,-16,16,16,-16,16,16,16,-16,64,-16,-16,-16,16,-16,16,-16,-16,16,16,-16,16,16,16,-16,-16,16,16,16,16,-16,-16,-16,-16,-16,16,16,16,16,16,-16,16,16,16,16,-16,-16,16,-16,16,-16,-16]
[-16,16,16,-16,16,16,-16,-16,-16,16,-16,16,16,16,-16,16,-16,-16,16,16,16,16,-16,16,-16,-16,16,16,16,-16,16,16,16,-16,16,16,-16,16,-16,16,-16,-16,-16,-16,-16,16,-16,-16,16,-16,16,16,16,16,-16,16,-16,-16,-16,-16,-16,16,-16,-16,16,-16,-16,16,-16,-16,-16,16,-16,16,16,16,-16,-16,16,-16,16,16,16,-16,-16,-16,-16,-16,-16,-16,16,16,16,-16,-16,-16,-16,-16,-16,-16,16,-16,-16,-16,16,-16,16,16,-16,-16,16,-16,16,-16,-16,-16,16,-16,-16,16,-16,-16,-16,-16,16,16,-16,16]
[-16,-16,-16,-16,-16,16,16,16,16,-16,16,-16,16,-16,-16,-16,-16,-16,-16,16,16,16,-16,16,16,-16,-16,16,16,-16,-16,-16,-16,16,16,-16,16,16,-16,16,-16,16,-16,-16,-16,16,-16,-16,-16,-16,16,16,16,-16,-16,16,-16,16,16,-16,16,16,16,16,16,-16,-16,16,16,-16,16,-16,16,16,16,-16,-16,-16,16,16,16,-16,-16,-16,-16,16,16,-16,16,-16,-16,16,16,-16,16,-16,16,-16,16,-16,-16,-16,-16,-16,16,-16,-16,16,-16,-16,-16,-16,-16,16,16,16,16,-16,-16,16,-16,16,-16,-16,-16,16,-16,-16]
[16,-16,16,16,-16,-16,-16,16,-16,16,16,-16,-16,-16,-16,16,16,-16,16,16,16,16,16,-16,16,16,-16,-16,16,16,16,-16,16,16,16,-16,-16,16,-16,16,-16,16,-16,16,-16,-16,16,-16,16,16,-16,-16,-16,16,16,-16,-16,-16,16,16,-16,-16,16,16,-16,-16,-16,-16,16,16,16,-16,-16,-16,16,16,-16,16,16,16,-16,-16,16,16,16,-16,16,-16,-16,16,-16,16,16,-16,16,16,16,-16,16,16,16,16,-16,16,-16,16,-16,-16,-16,-16,16,-16,-16,16,-16,64,16,-16,16,16,-16,-16,16,-16,-16,16,-16,16]
[16,-16,16,16,-16,16,-16,-16,-16,16,16,16,16,16,-16,16,16,16,-16,-16,16,-16,-16,16,16,16,16,-16,16,-16,16,16,16,16,-16,-16,-16,-16,16,-16,16,16,-16,-16,-16,-16,-16,-16,16,16,-16,16,16,-16,-16,-16,16,-16,16,-16,16,-16,16,16,16,-16,-16,-16,-16,16,-16,-16,16,16,-16,16,-16,-16,-16,16,-16,-16,-16,-16,16,16,-16,16,-16,-16,-16,-16,-16,16,16,16,-16,-16,-16,-16,-16,16,16,16,-16,16,-16,-16,-16,16,-16,-16,-16,-16,-16,16,-16,16,16,-16,16,16,-16,16,-16,-16,16,-16]
[16,16,64,64,16,-16,-16,-16,16,16,-16,16,-16,16,16,-16,-16,16,-16,16,-16,-16,16,-16,16,16,16,16,-16,16,16,16,16,16,16,-16,-16,16,16,-16,-16,-16,-16,-16,-16,-16,16,-16,-16,-16,16,-16,16,16,16,16,16,-16,-16,-16,-16,16,-16,16,16,-16,16,16,-16,16,-16,16,-16,16,16,-16,-16,-16,-16,16,-16,16,16,-16,16,-16,16,-16,64,16,-16,16,16,16,16,16,16,-16,-16,16,-16,-16,-16,-16,-16,-16,16,16,16,16,16,-16,16,-16,-16,-16,16,-16,-16,16,16,16,16,-16,16,16,16,16]
[16,16,-16,16,16,16,-16,16,16,-16,16,16,-16,-16,-16,-16,-16,-16,-16,16,-16,-16,16,-16,16,16,16,16,16,-16,16,-16,16,16,16,-16,16,16,16,16,-16,16,16,16,16,16,16,16,16,-16,16,-16,16,16,16,16,16,16,16,-16,16,16,-16,16,16,16,16,-16,-16,-16,16,16,-16,-16,-16,-16,16,16,-16,-16,-16,-16,-16,16,-16,-16,16,16,16,16,-16,-16,-16,-16,16,-16,-16,16,-16,-16,-16,-16,16,16,16,-16,16,16,-16,-16,-16,16,-16,-16,16,16,16,16,16,-16,-16,16,16,-16,-16,-16,16,-16]
[16,16,16,-16,-16,16,-16,16,16,16,-16,16,16,16,16,16,16,16,-16,16,16,16,-16,-16,-16,-16,-16,-16,-16,16,-16,16,-16,-16,16,16,16,-16,-16,16,16,-16,16,-16,-16,-16,16,16,16,16,-16,16,16,-16,16,-16,-16,-16,16,-16,16,16,16,-16,-16,16,-16,16,16,16,16,16,16,16,-16,16,16,-16,16,-16,16,-16,16,-16,-16,16,-16,-16,16,16,16,16,-16,-16,16,16,-16,-16,16,-16,16,-16,-16,-16,16,16,16,-16,16,-16,16,16,16,-16,16,-16,16,16,16,-16,16,-16,16,-16,-16,16,16,-16]
[16,16,-16,-16,16,-16,16,16,16,16,16,16,-16,-16,-16,16,-16,16,16,16,-16,16,-16,16,16,16,-16,16,16,-16,16,-16,16,-16,16,16,-16,-16,-16,16,16,-16,16,16,16,16,-16,-16,16,-16,-16,-16,-16,16,16,16,-16,-16,-16,16,-16,-16,16,-16,-16,-16,-16,-16,-16,-16,-16,-16,16,16,-16,16,16,16,-16,16,16,16,16,-16,16,16,-16,16,-16,16,16,-16,-16,16,16,16,-16,16,16,-16,16,-16,-16,-16,16,16,16,16,-16,16,-16,16,16,16,16,-16,16,-16,16,-16,-16,-16,16,-16,16,-16,16,-16]
[-16,16,-16,16,-16,16,16,-16,16,16,-16,16,-16,-16,-16,16,16,16,-16,16,16,16,-16,-16,-16,-16,-16,-16,16,-16,-16,-16,-16,-16,16,16,16,-16,-16,16,16,16,-16,16,16,16,-16,-16,-16,16,-16,-16,16,-16,16,-16,16,16,-16,-16,-16,16,-16,-16,16,16,-16,16,16,16,16,16,16,-16,16,16,16,-16,16,-16,-16,16,16,16,16,16,-16,-16,-16,-16,16,16,-16,16,-16,16,-16,-16,16,-16,-16,16,16,-16,16,-16,-16,-16,-16,-16,-16,16,-16,16,-16,16,-16,-16,16,-16,-16,16,16,16,16,-16,-16,16]
[16,-16,-16,-16,-16,-16,-16,-16,16,16,-16,16,16,16,-16,16,-16,-16,-16,16,16,16,16,16,16,-16,16,-16,-16,-16,-16,-16,16,-16,16,-16,-16,16,-16,-16,-16,16,16,16,-16,16,-16,-16,16,16,-16,-16,16,16,16,-16,-16,16,16,-16,-16,-16,-16,-16,-16,16,16,16,-16,16,16,-16,-16,16,16,-16,16,-16,16,16,-16,-16,-16,16,16,16,-16,16,16,16,-16,-16,16,-16,-16,16,-16,16,-16,16,16,-16,16,16,16,16,-16,16,-16,-16,-16,-16,-16,16,16,-16,16,16,16,-16,16,16,16,16,16,-16,-16,-16]
[16,16,16,16,16,16,-16,16,16,-16,-16,-16,-16,-16,-16,16,-16,-16,-16,16,16,16,16,-16,16,-16,-16,-16,16,-16,16,16,-16,-16,-16,-16,-16,16,-16,-16,-16,16,16,16,-16,16,16,16,16,-16,-16,16,16,16,-16,-16,-16,16,16,-16,-16,16,-16,-16,-16,-16,-16,-16,16,-16,-16,-16,16,-16,-16,16,16,-16,-16,-16,16,-16,-16,16,-16,-16,16,16,16,-16,-16,-16,16,-16,16,-16,16,16,16,-16,-16,-16,-16,16,16,16,16,-16,16,-16,-16,-16,16,-16,16,-16,16,16,16,-16,16,16,16,16,-16,-16,16,16]
[16,16,16,16,-16,16,-16,16,-16,16,16,-16,16,-16,-16,16,16,-16,-16,16,-16,16,-16,16,-16,16,16,-16,16,16,16,16,16,16,-16,-16,16,-16,-16,-16,16,-16,16,16,-16,-16,-16,16,16,16,-16,16,-16,-16,16,-16,-16,16,16,16,16,16,-16,16,16,16,16,16,16,16,-16,16,-16,16,-16,-16,-16,16,16,-16,16,-16,-16,-16,16,-16,-16,16,-16,16,16,-16,16,-16,16,16,-16,16,16,16,16,-16,16,-16,16,16,16,-16,16,16,-16,16,-16,-16,-16,16,-16,16,16,16,-16,16,-16,16,-16,-16,-16,-16]
[-16,-16,-16,-16,16,16,-16,16,-16,16,-16,-16,-16,-16,16,16,-16,16,16,-16,16,16,-16,16,16,-16,16,16,-16,-16,-16,16,16,-16,16,16,16,16,16,-16,-16,-16,-16,16,16,16,16,-16,16,-16,-16,-16,16,-16,16,-16,16,-16,-16,-16,-16,-16,-16,-16,-16,-16,-16,-16,-16,-16,16,-16,16,16,16,16,16,16,-16,-16,-16,16,-16,16,16,16,-16,-16,-16,16,16,-16,-16,-16,16,16,16,16,16,-16,16,16,-16,-16,16,-16,-16,-16,-16,-16,16,-16,16,16,16,16,-16,-16,-16,-16,-16,16,16,16,-16,-16,16,-16]
[16,16,16,-16,16,16,-16,-16,-16,-16,16,16,16,16,16,16,-16,-16,16,-16,16,-16,16,16,16,-16,-16,16,-16,16,16,16,-16,16,16,16,-16,-16,-16,16,16,16,-16,-16,-16,-16,16,-16,-16,-16,16,16,16,16,-16,-16,-16,16,16,-16,-16,-16,-16,-16,16,16,-16,16,-16,-16,16,-16,16,-16,16,-16,-16,16,-16,16,16,-16,-16,-16,-16,-16,-16,-16,-16,16,16,16,16,16,16,-16,16,-16,-16,16,16,-16,-16,-16,-16,-16,-16,-16,16,-16,16,16,16,-16,-16,-16,16,-16,-16,16,16,-16,16,-16,-16,16,16,16]
[16,-16,16,16,-16,16,16,-16,16,16,-16,-16,16,-16,16,-16,-16,-16,-16,-16,-16,16,16,16,16,16,-16,-16,16,16,-16,-16,-16,-16,16,16,-16,-16,16,16,-16,-16,16,16,-16,16,16,16,-16,16,-16,16,-16,-16,16,16,-16,-16,16,16,-16,16,-16,16,16,16,16,-16,16,16,-16,16,-16,-16,16,-16,16,16,-16,-16,16,16,-16,16,-16,-16,-16,-16,-16,-16,16,-16,16,16,16,16,-16,-16,-16,-16,-16,-16,-16,-16,16,16,16,16,16,16,16,-16,16,16,-16,-16,-16,16,-16,-16,-16,16,16,16,-16,16,-16,-16]
[-16,16,16,16,16,-16,16,-16,-16,16,-16,-16,-16,16,-16,-16,-16,16,16,-16,16,16,-16,16,16,-16,-16,-16,16,16,16,-16,16,16,-16,16,16,-16,-16,-16,-16,16,-16,-16,-16,16,16,16,16,16,16,-16,-16,16,-16,16,-16,16,-16,-16,-16,-16,16,16,16,16,-16,16,-16,-16,16,16,16,16,16,-16,-16,-16,-16,-16,-16,-16,16,16,16,-16,16,-16,16,16,16,-16,16,16,-16,-16,-16,-16,-16,16,16,-16,16,16,16,-16,16,-16,16,16,-16,-16,16,-16,16,-16,16,16,-16,-16,16,16,-16,-16,-16,16,16,-16]
[16,16,16,16,-16,-16,16,16,-16,16,16,16,16,-16,16,16,-16,-16,-16,16,16,-16,-16,-16,-16,16,16,-16,-16,16,16,16,16,16,16,-16,-16,-16,16,-16,-16,16,-16,-16,-16,-16,16,-16,16,16,-16,16,-16,-16,16,-16,16,-16,-16,16,16,-16,16,-16,16,-16,-16,16,16,16,-16,16,16,16,16,16,16,16,-16,-16,-16,16,-16,-16,16,16,16,-16,-16,-16,16,-16,16,16,16,-16,16,-16,16,-16,-16,-16,16,-16,16,-16,16,-16,16,16,-16,-16,-16,16,16,-16,-16,-16,-16,-16,16,16,-16,16,16,16,16,-16]
[16,-16,16,16,16,16,16,16,16,16,-16,16,-16,-16,-16,16,-16,-16,-16,16,16,16,16,-16,16,16,16,-16,-16,16,16,-16,16,16,-16,-16,16,16,16,16,-16,64,16,-16,16,16,16,-16,-16,-16,16,-16,16,16,16,-16,-16,-16,16,16,16,-16,-16,-16,-16,16,-16,16,-16,16,-16,-16,16,-16,16,16,16,16,16,-16,-16,16,16,16,-16,64,16,16,16,-16,16,16,-16,16,-16,-16,-16,16,16,16,16,16,16,16,16,-16,16,16,16,16,16,16,16,-16,16,16,16,16,16,-16,16,16,16,-16,16,16,-16,-16]
[16,16,16,-16,-16,-16,-16,-16,-16,16,16,-16,-16,-16,-16,-16,-16,-16,16,-16,-16,-16,16,16,16,-16,-16,-16,16,-16,16,-16,-16,16,16,-16,16,-16,16,16,16,16,-16,-16,-16,16,16,16,-16,-16,16,16,16,-16,-16,-16,16,-16,-16,16,16,-16,-16,16,16,-16,-16,-16,16,16,16,-16,16,-16,16,-16,16,16,-16,-16,-16,16,-16,16,16,-16,-16,-16,16,-16,-16,-16,-16,-16,-16,-16,16,-16,-16,-16,-16,16,16,-16,-16,-16,16,16,16,16,16,-16,-16,-16,16,-16,16,16,-16,-16,-16,16,-16,-16,16,16,-16,-16]
[16,16,16,16,-16,16,16,-16,-16,16,-16,16,-16,16,16,-16,-16,-16,-16,16,16,16,-16,16,16,16,-16,-16,16,16,16,16,16,16,-16,16,16,16,-16,16,16,16,-16,16,16,16,16,16,-16,16,-16,16,-16,-16,16,16,16,-16,-16,-16,-16,16,-16,16,-16,64,16,16,16,-16,16,16,-16,-16,-16,-16,-16,16,-16,16,16,-16,16,-16,16,-16,16,-16,-16,16,-16,16,16,-16,-16,16,-16,16,-16,16,16,-16,-16,-16,16,-16,16,-16,16,-16,-16,16,-16,16,16,16,-16,16,-16,-16,16,16,-16,-16,-16,16,16,16]
[16,-16,-16,16,-16,-16,16,16,16,-16,-16,16,16,-16,-16,-16,-16,-16,-16,16,16,-16,-16,-16,-16,-16,-16,-16,-16,-16,16,16,16,-16,16,16,-16,16,-16,16,-16,16,16,16,-16,-16,-16,16,16,16,16,-16,16,16,-16,-16,16,16,16,-16,-16,-16,16,16,16,-16,-16,16,-16,-16,16,16,16,-16,16,16,16,-16,-16,16,16,-16,-16,-16,-16,16,-16,16,-16,16,-16,-16,16,16,-16,-16,-16,-16,16,16,16,16,-16,16,16,16,-16,-16,16,-16,-16,-16,-16,-16,16,16,-16,16,16,-16,16,-16,16,16,16,-16,-16,-16]
[64,-16,16,-16,-16,-16,-16,16,-16,-16,16,-16,16,16,16,16,16,16,-16,16,-16,-16,16,16,16,-16,16,-16,16,-16,-16,-16,-16,-16,-16,16,16,-16,16,16,-16,16,-16,16,-16,16,16,-16,-16,16,-16,16,16,-16,16,16,-16,-16,16,16,-16,-16,-16,16,16,16,-16,-16,16,-16,16,-16,-16,16,-16,-16,-16,16,16,16,16,-16,-16,-16,16,16,-16,-16,-16,16,-16,-16,16,16,16,-16,64,16,16,-16,16,-16,16,-16,16,16,16,-16,16,-16,16,16,-16,-16,-16,16,-16,-16,-16,16,-16,-16,-16,16,16,16,-16,16]
[-16,16,-16,-16,-16,-16,-16,-16,-16,-16,-16,16,16,16,-16,-16,16,16,16,16,-16,-16,-16,-16,-16,-16,-16,16,16,-16,16,16,-16,16,-16,16,-16,16,16,16,-16,16,-16,16,-16,16,16,16,16,-16,-16,-16,-16,16,-16,-16,16,16,16,-16,-16,16,16,-16,16,16,16,16,16,-16,16,16,16,-16,16,16,16,-16,-16,-16,-16,-16,-16,16,16,16,16,16,-16,16,16,16,16,-16,16,-16,16,-16,-16,-16,-16,-16,-16,-16,16,-16,16,-16,16,-16,-16,16,16,-16,16,-16,-16,-16,-16,-16,16,-16,-16,16,-16,-16,16,-16]
[16,16,-16,-16,-16,-16,-16,-16,-16,-16,16,16,16,16,-16,16,16,-16,16,16,16,16,-16,-16,16,-16,-16,-16,-16,-16,16,16,16,16,-16,-16,16,-16,-16,16,-16,-16,-16,16,-16,16,-16,-16,16,-16,-16,-16,16,-16,-16,16,-16,16,-16,-64,16,-16,-16,-16,16,-16,-16,-16,16,16,-16,16,16,-16,16,16,16,-16,-16,16,16,16,-16,-16,16,16,-16,-16,-16,16,16,-16,-16,16,16,-16,-16,16,16,64,16,16,-16,16,-16,-16,16,-16,-16,16,16,16,-16,16,-16,16,-16,-16,-16,-16,16,-16,16,-16,-16,-16,-16,16]
[16,16,-16,-16,16,-16,-16,16,-16,16,-16,16,16,16,-16,16,16,-16,-16,-16,16,-16,16,-16,16,16,-16,16,16,-16,-16,-16,-16,-16,-16,-16,16,-16,16,16,16,-16,16,-16,16,-16,-16,16,-16,-16,16,16,16,16,16,16,16,-16,16,-16,-16,16,-16,-16,16,-16,-16,16,-16,16,16,-16,-16,16,16,-16,-16,16,16,16,16,-16,-16,-16,-16,16,16,-16,-16,16,-16,16,16,-16,-16,16,16,16,16,16,16,16,-16,16,-16,16,-16,16,16,-16,16,16,16,16,-16,-16,16,16,16,-16,-16,-16,-16,16,16,16,16,16]
[-16,16,16,64,16,16,16,-16,16,-16,-16,-16,16,16,-16,16,16,-16,16,64,16,16,-16,-16,16,16,-16,16,-16,16,-16,-16,16,16,-16,-16,-16,-16,16,-16,16,-16,16,16,-16,16,16,-16,-16,16,16,16,16,16,-16,-16,-16,-16,16,16,-16,-16,-16,-16,16,16,16,-16,16,-16,-16,-16,-16,16,16,-16,16,16,-16,16,-16,16,-16,-16,16,16,-16,-16,-16,16,16,-16,16,-16,-16,16,16,16,16,-16,16,-16,-16,16,16,16,16,16,16,-16,16,16,-16,16,-16,-16,-16,16,16,16,16,-16,16,16,-16,16,16,16]
[16,16,16,-16,16,-16,-16,-16,16,16,16,16,16,-16,16,16,16,-16,-16,-16,16,16,-16,16,-16,-16,16,-16,16,-16,16,-16,-16,16,-16,-16,-16,-16,16,16,-16,16,16,-16,16,16,-16,16,16,16,-16,-16,-16,-16,-16,-16,-16,16,-16,16,-16,-16,16,-16,-16,-16,16,16,-16,-16,-16,-16,-16,16,16,16,16,-16,-16,16,-16,16,-16,16,-16,16,16,-16,16,-16,-16,-16,16,-16,-16,16,-16,16,16,16,-16,16,-16,-16,16,16,16,16,16,-16,-16,16,16,16,16,16,-16,16,-16,-16,-16,-16,16,-16,16,-16,16,16]
[-16,16,-16,16,-16,-16,-16,-16,-16,-16,16,-16,16,16,-16,16,16,16,16,16,-16,16,-16,16,-16,-16,16,-16,-16,16,16,-16,16,-16,-16,16,16,-16,16,16,-16,16,16,-16,-16,16,-16,16,16,16,16,-16,16,16,-16,-16,-16,16,16,-16,-16,16,-16,-16,16,-16,16,-16,16,-16,16,-16,16,-16,16,16,-16,-16,-16,-16,16,-16,-16,16,16,-16,16,-16,-16,16,16,16,16,-16,-16,-16,16,-16,16,-16,16,16,-16,16,-16,-16,16,-16,-16,-16,-16,16,-16,-16,16,-16,16,16,16,16,16,-16,16,16,-16,-16,16,-16]
[16,16,-16,16,16,-16,-16,16,-16,-16,-16,16,-16,16,16,-16,16,16,16,16,16,-16,-16,-16,-16,-16,-16,-16,-16,16,16,16,16,-16,-16,16,16,16,-16,16,16,-16,-16,16,16,16,16,-16,16,16,-16,-16,16,16,16,-16,16,-16,-16,16,-16,-16,-16,-16,-16,-16,-16,16,16,16,16,16,16,-16,-16,16,16,-16,16,16,-16,-16,16,16,-16,16,16,-16,-16,-16,16,-16,-16,-16,16,16,-16,-16,-16,16,-16,-16,-16,-16,16,16,16,-16,-16,-16,-16,-16,16,16,-16,-16,-16,-16,-16,16,-16,-16,-16,-16,-16,-16,16,-16]
[-16,-16,-16,-16,16,16,-16,16,16,-16,-16,16,-16,-16,16,-16,-16,-16,16,16,-16,-16,16,16,-16,16,16,-16,16,16,16,-16,16,-16,16,-16,16,16,-16,16,16,16,-16,-16,16,16,-16,16,16,-16,16,-16,16,16,16,-16,-16,16,-16,-16,16,16,16,16,-16,16,-16,16,-16,-16,-16,-16,16,-16,16,-16,16,-16,64,16,-16,-16,16,16,-16,-16,16,16,-16,16,-16,16,-16,-16,16,-16,-16,16,16,-16,-16,16,-16,-16,-16,16,-16,-16,-16,16,16,-16,-16,16,16,16,-16,16,-16,-16,-16,16,-16,16,-16,16,16,-16]
[16,-16,-16,-16,-16,-16,-16,-16,-16,16,16,-16,-16,-16,-16,16,-16,-16,16,-16,16,16,-16,16,16,16,-16,16,16,-16,16,16,-16,-16,16,16,-16,-16,16,16,16,-16,-16,16,-16,-16,-16,-16,-16,16,16,16,16,-16,-16,-16,-16,-16,16,-16,16,-16,-16,-16,-16,-16,-16,16,-16,16,-16,16,16,16,16,-16,16,-16,-16,-16,16,-16,16,16,16,-16,16,-16,16,16,16,-16,16,-16,16,-16,16,-16,16,16,16,16,16,16,-16,-16,16,16,-16,16,16,-16,16,16,16,-16,16,-16,-16,16,16,-16,-16,16,16,16,-16,16]
[16,-16,16,16,16,16,-16,-16,-16,16,16,-16,-16,16,-16,16,-16,-16,16,16,-16,-16,16,-16,16,-16,-16,16,16,-16,16,-16,-16,-16,16,16,-16,16,16,16,-16,-16,16,-16,-16,-16,-16,-16,-64,16,16,16,16,16,16,16,16,16,-16,16,16,-16,16,16,16,-16,-16,-16,16,16,-16,-16,-16,16,-16,-16,-16,16,-16,-16,16,16,16,-16,-16,16,16,16,16,-16,-16,16,16,-16,16,-16,16,-16,-16,-16,16,16,-16,-64,-16,-16,-16,16,16,16,16,16,-16,-16,16,-16,16,16,16,16,-16,16,16,16,16,16,-16,-16]
[16,16,-16,-16,-16,16,16,16,-16,16,-16,16,-16,-16,16,-16,-16,-16,-16,-16,16,-16,-16,16,16,-16,-16,16,16,-16,-16,16,-16,-16,16,16,16,-16,16,-16,-16,16,16,-16,16,-16,-16,16,16,16,16,-16,16,-16,-16,16,16,16,16,-16,-16,-16,16,-16,-16,16,-16,-16,16,16,-16,-16,-16,-16,64,-16,16,16,-16,16,16,-16,16,-16,16,-16,-16,16,16,16,-16,-16,16,-16,-16,-16,16,-16,16,16,-16,-16,-16,-16,-16,-16,16,-16,16,-16,-16,16,16,-16,16,-16,-16,16,16,-16,16,-16,-16,-16,16,-16,-16,-16]
[16,16,-16,-16,16,16,16,-16,16,-16,-16,16,-16,16,-16,-16,16,16,16,16,16,16,16,16,-16,16,-16,16,-16,16,16,16,16,-16,16,16,16,16,-16,16,16,16,-16,-16,-16,-16,16,16,-16,-16,16,16,-16,16,-16,16,16,-16,-16,16,-16,-16,16,16,16,-16,-16,16,-16,16,16,-16,-16,-16,16,16,16,16,-16,-16,-16,16,16,-16,-16,-16,16,-16,16,16,16,16,-16,16,-16,16,16,16,-16,16,16,16,16,-16,-16,-16,16,-16,16,16,16,16,16,-16,16,-16,16,16,16,16,16,-16,16,16,-16,16,16,16]
[16,-16,16,-16,16,-16,-16,16,-16,-16,-16,-16,16,16,-16,16,16,-16,16,-16,-16,16,-16,64,16,-16,16,16,16,16,16,-16,-16,-16,16,16,16,16,16,-16,-16,-16,-16,16,16,-16,-16,16,-16,16,16,16,-16,16,16,-16,-16,-16,-16,16,-16,-16,-16,-16,-16,-16,16,16,16,16,16,-16,-16,-16,16,-16,-16,16,16,16,16,-16,-16,-16,-16,-16,16,-16,-16,16,16,16,16,-16,-16,16,-16,16,16,-16,16,-16,16,16,16,16,-16,-16,16,-16,16,-16,16,-16,-16,-16,-16,-16,16,-16,-16,-16,16,16,-16,16,-16,16]
[16,-16,16,16,16,-16,-16,-16,16,16,16,16,16,-16,-16,-16,-16,-16,16,-16,16,-16,16,-16,-16,-16,-16,16,-16,16,16,-16,16,-16,16,16,-16,-16,16,16,-16,-16,-16,-16,16,16,16,-16,-16,16,16,16,-16,-16,16,-16,-16,-16,16,16,16,-16,-16,-16,-16,-16,-16,-16,-16,16,-16,-16,16,16,16,-16,-16,16,16,-16,-16,-16,16,-16,16,16,16,-16,16,-16,-16,16,-16,16,16,16,-16,16,16,16,-16,-16,16,-16,-16,-16,16,16,16,16,64,16,16,16,16,16,-16,-16,-16,16,-16,16,-16,16,16,16,16,16]
[16,16,16,16,16,16,16,-16,16,16,16,16,-16,-16,-16,-16,-16,-16,-16,-16,16,-16,16,-16,-16,16,-16,16,16,16,-16,-16,16,16,16,-16,16,-16,16,16,16,-16,-16,16,-16,16,-16,-16,16,16,-16,16,-16,-16,16,-16,-16,16,-16,-16,-16,16,16,-16,16,-16,16,-16,16,16,16,-16,16,16,16,-16,16,16,-16,-16,16,16,16,16,-16,16,16,-16,16,16,16,16,16,-16,-16,16,16,16,-16,16,16,-16,16,-16,-16,-16,-16,-16,16,16,16,16,-16,-16,16,16,-16,-16,-16,-16,16,16,16,-16,-16,-16,16,-16]
[16,16,16,16,16,16,16,16,16,-16,16,-16,16,-16,-16,-16,-16,-16,-16,16,16,-16,-16,16,16,16,16,-16,-16,16,16,16,16,16,-16,-16,16,-16,-16,-16,-16,16,-16,-16,16,16,16,16,-16,-16,16,-16,16,-16,16,-16,16,-16,16,16,-16,-16,-16,-16,16,-16,16,16,-16,16,16,-16,16,16,16,16,-16,-16,16,-16,-16,16,-16,16,-16,16,-16,16,-16,-16,-16,16,-16,16,16,-16,-16,-16,16,-16,16,16,-16,16,-16,-16,-16,16,16,-16,-16,16,-16,-16,-16,-16,16,-16,16,16,-16,-16,16,16,16,-16,-16,16]
[-16,16,-16,-16,-16,-16,-16,-16,-16,16,-16,-16,16,-16,-16,-16,16,-16,16,16,16,16,-16,-16,16,16,-16,16,16,16,-16,16,16,16,16,-16,16,16,-16,-16,-16,-16,-16,16,-16,-16,-16,-16,-16,-16,16,16,-16,16,16,-16,-16,-16,-16,16,16,-16,16,-16,-16,16,16,-16,-16,16,16,-16,-16,-16,-16,-16,16,-16,-16,-16,-16,16,-16,-16,16,-16,-16,-16,-16,-16,-16,-16,-16,16,16,-16,-16,-16,-16,16,16,16,-16,16,-16,-16,-16,16,-16,-16,-16,16,-16,16,16,16,16,-16,16,16,16,-16,16,16,-16,16,-16,16]
[16,16,-16,-16,16,16,-16,16,16,-16,16,16,16,16,16,-16,16,16,16,-16,16,-16,-16,16,-16,-16,16,-16,16,16,-16,16,16,-16,16,-16,-16,-16,-16,-16,16,-16,-16,16,16,-16,16,16,-16,-16,16,16,16,-16,16,-16,16,-16,16,64,-16,-16,16,16,-16,-16,16,16,-16,16,16,-16,16,-16,-16,16,-16,16,-16,16,-16,16,-16,-16,16,-16,-16,16,16,16,16,-16,-16,-16,16,-16,-16,-16,-16,16,16,16,-16,-16,-16,-16,16,16,-16,-16,16,16,16,16,16,-16,16,16,-16,16,16,-16,16,-16,16,16,-16,-16]
[-16,-16,-16,16,-16,-16,16,16,16,-16,16,16,16,-16,-16,-16,16,-16,16,16,16,16,16,16,16,16,-16,16,16,16,-16,16,16,16,16,-16,-16,16,-16,16,16,16,16,16,-16,-16,16,16,-16,-16,16,16,16,-16,-16,-16,16,-16,-16,16,16,-16,-16,-16,-16,16,-16,16,16,16,16,16,16,16,16,16,16,-16,-16,-16,-16,16,16,-16,16,16,-16,16,16,16,16,16,16,16,-16,-16,-16,16,16,64,-16,16,-16,16,-16,-16,16,16,-16,16,16,-16,16,16,16,16,16,16,-16,-16,16,-16,16,16,16,-16,16,-16]
[-16,-16,16,16,16,-16,16,16,16,-16,-16,16,16,16,-16,16,-16,16,16,-16,16,16,-16,16,16,-16,-16,-16,16,16,-16,16,-16,16,16,-16,-16,16,16,16,-16,16,-16,-16,-16,16,16,16,16,-16,16,-16,16,-16,16,16,-16,16,16,-16,16,-16,16,16,-16,-16,16,-16,16,16,16,16,16,-16,-16,16,-16,16,16,16,-16,-16,16,-16,16,16,-16,-16,-16,16,16,16,-16,-16,16,-16,16,16,-16,16,-16,16,16,-16,16,-16,16,16,16,16,-16,16,16,16,16,-16,16,16,-16,16,-16,16,-16,16,-16,16,-16,-16]
[16,16,16,16,16,16,16,-16,16,16,-16,-16,16,-16,-16,16,-16,-16,-16,16,-16,16,-16,-16,16,-16,-16,-16,-16,16,16,16,-16,16,-16,-16,16,16,16,-16,-16,-16,-16,16,16,16,16,16,16,16,-16,16,16,16,16,-16,16,16,16,16,16,-16,-16,16,16,16,-16,-16,16,-16,-16,16,-16,16,16,-16,-16,16,16,16,16,-16,-16,16,16,16,16,-16,-16,-16,-16,-16,16,16,-16,-16,16,16,16,-16,-16,-16,-16,-16,16,16,-16,16,16,-16,-64,16,16,-16,16,-16,16,-16,16,-16,16,-16,64,16,-16,16,-16,16]
[16,-16,16,-16,16,-16,-16,16,-16,16,16,16,16,16,-16,16,-16,-16,16,16,16,-16,16,-16,-16,16,-16,16,-16,16,16,-16,16,16,16,16,16,16,16,-16,-16,-16,-16,16,-16,16,-16,-16,-16,-16,-16,16,-16,-16,16,-16,-16,-16,-16,-16,-16,-16,-16,-16,-16,16,16,16,-16,16,-16,-16,-16,16,16,16,16,-16,16,16,-16,-16,16,-16,-16,16,16,16,-16,-64,-16,16,-16,16,-16,-16,-16,16,16,16,-16,16,-16,-16,-16,16,16,16,-16,16,16,16,16,16,16,16,16,-16,-16,-16,-16,16,-16,16,16,16,16,16]
[16,16,16,16,16,-16,-16,-16,-16,16,16,16,-16,16,16,-16,16,16,-16,16,-16,-16,16,-16,-16,-16,16,-16,-16,-16,16,16,-16,-16,16,16,-16,16,-16,-16,16,16,16,-16,16,-16,-16,16,-16,-16,16,-16,-16,-16,16,-16,-16,-16,-16,-16,-16,-16,-16,16,-16,-16,16,-16,-16,16,-16,-16,-16,16,-16,16,-16,16,16,-16,-16,-16,-16,16,-16,16,16,16,16,-16,16,-16,-16,-16,16,16,16,-16,16,-16,-16,-16,16,16,-16,-16,16,16,16,16,16,16,-16,16,16,16,-16,-16,-16,16,16,16,-16,-16,16,-16,-16,16]
[16,-16,16,-16,16,16,16,16,16,16,16,-16,-16,16,16,-16,16,-16,-16,16,16,-16,-16,16,-16,-16,-16,16,16,16,16,-16,-16,16,-16,16,16,16,16,-16,-16,16,16,16,16,-16,16,16,16,16,-16,-16,16,-16,16,-16,16,16,16,-16,-16,-16,-16,16,16,16,16,-16,16,16,16,16,-16,16,16,-16,-16,-16,-16,16,16,16,-16,16,-16,16,16,16,-16,16,16,-16,-16,-16,16,-16,-16,16,-16,16,16,-16,16,-16,-16,-16,16,16,16,-16,16,16,16,-16,-16,16,16,16,16,-16,16,16,16,16,16,-16,16,16]
[-16,16,-16,16,-16,-16,-16,16,16,-16,-16,-16,16,-16,-16,16,-16,-16,-16,16,-16,-16,-16,16,16,16,-16,16,-16,16,-16,16,16,-16,16,-16,-16,16,16,-16,-16,16,-16,16,-16,-16,16,16,16,-16,-16,-16,16,-16,-16,-16,16,16,16,-16,16,-16,16,-16,-16,16,-16,16,-16,-16,16,-16,16,-16,-16,-16,16,-16,-16,16,16,-16,16,-16,-16,-16,-16,-16,16,16,-16,-16,16,16,16,-16,-16,-16,16,-16,-16,-16,16,16,16,16,-16,-16,16,-16,-16,16,-16,16,16,16,16,-16,16,-16,-16,-16,16,16,16,16,-16,-64]
[-16,-16,16,-16,-16,-16,-16,16,16,-16,16,-16,16,-16,-16,-16,16,16,-16,16,16,16,-16,-16,-16,-16,-16,16,16,-16,-16,-16,-16,-16,16,-16,16,-16,16,16,-16,16,-16,16,16,16,16,-16,-16,16,-16,16,16,16,16,16,-16,16,16,-16,16,16,-16,16,-16,16,-16,-16,-16,16,-16,-16,-16,-16,16,-16,16,16,16,-16,16,-16,-16,16,16,16,16,16,-16,16,-16,-16,16,-16,-16,-16,16,16,16,-16,-16,16,-16,16,16,-16,-16,16,16,16,16,16,-16,16,16,16,16,-16,16,-16,-16,16,-16,-16,-16,16,-16,16]
[-16,16,16,16,-16,16,16,16,-16,16,-16,16,64,64,-16,16,64,-16,-16,16,16,-16,-16,16,16,-16,-16,-16,-16,-16,16,16,-16,-16,16,-16,16,-16,16,16,-16,-16,-16,-16,-16,-16,16,16,-64,-16,-16,16,16,16,16,16,-16,-16,-16,16,16,-16,-16,-16,-16,-16,16,-16,16,16,-16,-16,-16,64,64,16,-16,-16,-16,-16,16,-16,16,-16,16,16,16,16,-16,16,-16,-16,16,-16,-16,16,16,-16,-16,16,16,16,16,-16,-16,16,-16,16,-16,16,16,16,16,16,-16,-16,-16,-16,16,16,-16,-64,16,16,-16,16,16,16]
[16,-16,16,16,-16,16,16,-16,-16,16,-16,-16,-16,16,16,16,-16,-16,16,-16,-16,16,16,-16,16,16,16,-16,16,-16,16,16,-16,16,16,16,16,-16,16,16,16,16,16,16,-16,16,16,16,-16,-16,16,16,16,16,-16,-16,-16,16,-16,-16,-16,-16,-16,-16,16,-16,-16,16,16,-16,-16,-16,16,16,-16,-16,16,-16,-16,-16,-16,-16,-16,-16,16,16,-16,-16,16,16,16,16,16,16,16,-16,16,-16,16,16,16,-16,16,16,16,-16,16,-16,16,16,16,16,-16,-16,16,-16,16,-16,16,16,-16,-16,16,16,-16,16,16,16]
[-16,-16,16,-16,-16,16,16,16,-16,-16,16,16,-16,16,-16,16,-16,-16,16,16,16,-16,16,-16,16,-16,16,-16,-16,16,16,16,-16,16,16,-16,-16,16,-16,16,-16,-16,-16,16,-16,-16,-16,16,16,16,16,16,16,-16,-16,-16,-16,16,16,16,-16,16,-16,16,16,-16,16,16,16,16,16,-16,-16,-16,-16,16,16,-16,-16,16,16,16,16,-16,-16,-16,16,16,16,16,16,16,16,16,-16,16,16,-16,16,16,16,16,16,-16,-16,-16,16,16,-16,16,16,-16,16,16,-16,16,16,-16,-16,-16,16,-16,-16,16,-16,-16,-16,-16]
[-16,16,-16,-16,16,-16,16,-16,-16,-16,-16,-16,16,-16,-16,-16,-16,-16,16,16,16,-16,-16,-16,-16,-16,-16,16,-16,16,-16,16,16,-16,16,16,16,-16,-16,-16,-16,16,16,-16,16,-16,16,-16,-16,16,16,-16,-16,16,-16,16,-16,16,16,-16,-16,-16,16,-16,-16,16,-16,16,16,-16,-16,16,-16,16,16,-16,16,16,16,-16,-16,16,-16,16,16,16,16,16,16,16,16,16,16,16,-16,-16,-16,-16,-16,-16,16,16,16,16,16,16,-16,-16,-16,-16,-16,16,16,16,16,16,16,-16,-16,-16,-16,16,16,16,-16,16,16,16]
[16,-16,16,-16,16,-16,-16,-16,16,-16,16,16,16,16,16,16,16,16,16,16,-16,16,16,16,-16,-16,16,16,-16,-16,16,-16,-16,16,16,-16,16,16,-16,-16,16,16,16,-16,-16,16,16,16,16,-16,16,16,16,16,-16,-16,-16,-16,-16,-16,-16,-16,-16,16,-16,-16,-16,-16,16,16,16,16,16,-16,16,-16,16,-16,-16,16,16,16,-16,16,-16,-16,-16,16,-16,16,-16,16,16,16,-16,16,-16,-16,-16,16,-16,16,16,16,-16,-16,16,-16,-16,16,16,16,-16,-16,16,-16,-16,16,-16,-16,-16,16,16,16,16,16,16,-16]
[-16,-16,16,16,16,16,16,-16,16,-16,-16,16,16,-16,-16,16,16,16,-16,-16,16,-16,-16,16,-16,-16,16,16,16,16,16,-16,-16,16,-16,-16,16,16,16,-16,16,-16,16,-16,16,-16,16,16,-16,16,-16,16,-16,-16,16,-16,16,16,-16,16,-16,-16,16,16,16,-16,-16,-16,16,16,16,-16,-16,-16,16,-16,16,16,-16,16,-16,16,-16,-16,-16,-16,16,-16,-16,16,-16,16,16,-16,-16,16,16,-16,16,-16,16,-16,-16,16,16,-16,16,16,16,16,-16,-16,-16,16,-16,-16,16,-16,16,-16,16,16,-16,-16,-16,16,-16,16]
[-16,16,-16,-16,-16,-16,-16,-16,-16,-16,16,16,16,16,16,-16,16,-16,-16,-16,16,-16,16,16,-16,-16,16,16,-16,-16,16,16,16,16,-16,-16,-16,16,16,-16,-16,-16,-16,-16,-16,-16,16,-16,-16,-16,16,16,-16,16,16,16,-16,-16,-16,16,-16,16,-16,16,16,-16,16,16,16,16,-16,-16,16,16,16,16,-16,16,16,-16,-16,-16,16,-16,16,16,-16,-16,-16,-16,16,16,16,-16,-16,16,16,-16,16,16,16,16,16,-16,-16,16,-16,16,16,-16,16,16,16,16,-16,16,16,-16,16,-16,-16,16,-16,16,-16,16,16,16]
[16,-16,16,-16,16,-16,-16,-16,16,16,16,-16,-16,16,16,-16,-16,16,16,16,16,16,16,16,-16,16,-16,-16,-16,16,-16,16,16,-16,16,16,-16,16,16,-16,16,-16,16,16,16,-16,16,16,16,-16,16,-16,16,16,-16,-16,16,16,16,16,16,-16,16,-16,16,-16,-16,16,-16,-16,-16,16,16,-16,-16,16,16,16,16,16,-16,-16,-16,16,-16,16,-16,16,16,-16,16,16,-16,-16,-16,16,16,16,16,-16,-16,16,16,-16,16,16,16,-16,16,16,16,-16,-16,-16,16,16,-16,16,16,-16,-16,16,16,-16,16,16,16,16]
[16,-16,16,16,16,-16,16,-16,16,-16,16,16,-16,-16,-16,-16,16,16,16,-16,-16,16,-16,-16,-16,16,-16,-16,-16,16,-16,-16,-16,16,-16,16,-16,-16,-16,-16,16,16,-16,-16,-16,16,16,16,16,16,-16,16,16,16,-16,-16,-16,16,-16,16,-16,16,16,16,-16,-16,16,-16,-16,16,16,-16,16,-16,16,16,16,-16,16,-16,16,-16,16,16,-16,-16,16,16,-16,-16,16,16,16,-16,16,16,16,-16,-16,16,16,16,-16,-16,16,-16,-16,16,16,-16,16,16,-16,-16,-16,16,16,16,-16,-16,-16,-16,-16,-16,16,-16,16,16]
[16,16,16,16,-16,-16,16,-16,-16,16,-16,-16,16,-16,16,-16,-16,-16,16,16,16,-16,16,-16,16,-16,-16,-16,-16,16,-16,-16,16,16,-16,-16,16,-16,-16,-16,-16,16,16,-16,-16,-16,16,16,16,16,16,16,16,-16,16,-16,16,-16,-16,16,16,-16,-16,-16,16,16,16,-16,16,16,16,-16,16,-16,16,16,-16,16,-16,16,-16,-16,16,-16,16,-16,16,-16,16,-16,16,16,16,16,-16,16,16,-16,-16,-16,16,-16,-16,-16,-16,-16,16,16,16,16,16,16,16,-16,-16,-16,-16,16,16,-16,16,-16,16,-16,16,16,-16,-16]
[16,16,-16,16,-16,-16,-16,-16,-16,16,16,-16,16,-16,-16,16,-16,-16,16,16,-16,16,-16,16,-16,-16,-16,-16,16,16,-16,-16,16,16,-16,-16,-16,-16,-16,-16,-16,16,16,-16,-16,16,16,16,16,-16,16,-16,-16,16,-16,16,-16,16,16,16,-16,-16,-16,-16,16,16,-16,-16,-16,-16,16,16,16,16,-16,-16,-16,-16,-16,16,16,-16,-16,-16,16,-16,-16,16,-16,16,-16,-16,-16,-16,16,16,16,-16,-16,16,-16,-16,-16,-16,-16,16,16,-16,-16,-16,16,16,-16,-16,64,-16,-16,16,16,-16,16,-16,-16,-16,-16,-16,16,-16]
[-16,-16,16,-16,16,16,16,16,-16,16,-16,16,16,16,16,-16,16,-16,-16,-16,16,-16,16,16,-16,16,16,-16,-16,-16,-16,16,16,-16,16,-16,16,-16,-16,16,-16,-16,-16,-16,-16,-16,-16,16,-16,16,-16,-16,-16,-16,-16,-16,-16,-16,-16,16,16,16,16,-16,-16,16,-16,16,-16,16,16,-16,16,16,16,16,16,-16,16,16,-16,-16,16,-16,-16,16,-16,-16,-16,-16,16,16,-16,16,16,-16,16,-16,-16,16,-16,16,-16,16,-16,16,-16,16,-16,16,16,16,-16,-16,16,16,-16,-16,-16,-16,-16,16,-16,-16,-16,-16,16,-16]
[16,16,-16,-16,16,-16,-16,-16,-16,16,-16,-16,-16,-16,-16,16,16,16,16,16,16,16,-16,-16,16,-16,-16,16,16,-16,16,-16,-16,16,16,-16,16,16,16,-16,-16,16,16,-16,-16,-16,16,-16,-16,-16,-16,16,-16,16,16,16,16,-16,-16,16,-16,16,16,16,-16,16,-16,16,-16,16,-16,-16,-16,16,16,16,16,16,-16,-16,-16,-16,16,-16,16,-16,16,16,-16,-16,16,16,16,-16,-16,16,16,-16,-16,16,16,16,-16,-64,-16,-16,16,16,16,16,-16,16,16,16,-16,-16,16,16,16,16,-16,16,-16,-16,16,16,-16,16]
[-16,16,-16,16,-16,-16,16,-16,-16,16,16,-16,-16,-16,16,-16,16,16,16,-16,16,-16,-16,-16,-16,-16,-16,16,16,16,16,16,16,-16,-16,-16,-16,-64,-16,16,-16,-16,-16,16,-16,16,16,-16,16,-16,16,16,-16,16,-16,-16,16,-16,-16,-16,-16,-16,-16,-16,-16,-16,16,16,16,16,16,-16,16,16,-16,16,-16,-16,-16,-16,-16,-16,16,-16,16,-16,-16,-16,16,16,16,-16,-16,-16,16,-16,16,16,16,16,16,16,-16,16,-16,-16,16,16,-16,16,16,16,16,16,16,16,16,16,-16,16,16,-16,-16,-16,-16,-16,16,-16]
[16,16,16,16,-16,-16,-16,-16,16,-16,-16,-16,-16,16,-16,16,16,-16,16,-16,-16,16,-16,16,-16,16,16,-16,-16,16,-16,16,16,16,16,16,-16,16,16,-16,-16,16,16,16,-16,16,-16,-16,16,16,-16,16,-16,-16,-16,16,16,-16,-16,-16,-16,-16,-16,16,16,-16,16,16,16,16,16,16,-16,16,16,16,16,-16,16,-16,-16,16,16,16,-16,-16,16,16,-16,16,16,-16,16,16,16,-16,-16,16,16,-16,16,16,-16,-16,-16,16,16,16,16,16,16,-16,-16,16,16,-16,-16,-16,16,16,-16,16,16,16,-16,16,-16,16]
[-16,-16,-16,-16,-16,-16,-16,-16,16,-16,16,16,16,16,-16,16,-16,-16,16,16,-16,16,-16,16,16,-16,16,16,16,16,-16,-16,16,16,-16,-16,-16,16,-16,16,-16,-16,16,16,16,-16,16,16,16,-16,-16,-16,-16,-16,16,-16,-16,-16,16,-16,-16,16,-16,-16,16,-16,16,16,-16,16,-16,16,-16,-16,-16,-16,-16,-16,16,16,16,16,16,16,16,16,16,16,16,16,16,-16,16,16,16,-16,-16,-16,-16,16,16,16,-16,-16,-16,-16,16,16,16,-16,16,-16,-16,-16,16,16,-16,-16,-16,-16,-16,16,16,-16,-16,-16,-16,-16]
[-16,-16,16,-16,-16,16,16,16,-16,16,-16,16,16,16,-16,-16,-16,-16,-16,16,-16,-16,-16,-16,-16,-16,-16,16,16,16,-16,16,16,16,-16,-16,-16,-16,-16,16,16,-16,-16,-16,16,16,16,16,16,16,-16,16,16,16,16,-16,-16,16,16,-16,16,-16,16,-16,16,16,-16,-16,-16,16,16,-16,16,-16,16,16,-16,-16,-16,16,-16,16,-16,-16,16,16,16,-16,-16,16,16,16,-16,-16,-16,16,16,16,-16,-16,16,-16,-16,-16,16,16,-16,-16,16,-16,-16,16,16,-16,-16,-16,-16,16,-16,-16,-16,16,16,-16,16,16,16,16]
[16,16,-16,16,16,-16,-16,16,16,-16,-16,-16,16,16,-16,16,-16,-16,-16,16,-16,-16,16,-16,16,16,16,-16,-16,16,16,16,16,16,-16,16,16,16,-16,16,-16,16,-16,16,16,-16,16,16,-16,-16,16,16,16,-16,16,-16,16,-16,16,16,-16,16,-16,-16,-16,-16,16,-16,-16,16,-16,16,16,-16,16,-16,16,16,16,-16,-16,-16,16,-16,-16,-16,-16,-16,-16,-16,-16,-16,16,16,-16,16,-16,16,16,16,-16,16,16,16,-16,16,16,-16,16,-16,16,-16,16,-16,16,-16,16,-16,16,-16,-16,-16,16,16,16,-16,-16,-16]
[-16,-16,16,16,-16,-16,-16,16,16,-16,-16,16,16,16,-16,-16,-16,-16,-16,-16,-16,16,-16,16,-16,16,-16,16,16,16,-16,-16,16,-16,16,16,-16,16,-16,-16,-16,-16,16,-16,16,-16,16,-16,-16,-16,16,-16,-16,16,-16,-16,-16,16,-16,16,-16,-16,-16,-16,-16,-16,-16,16,-16,16,-16,-16,16,-16,16,-16,-16,16,-16,16,16,-16,-16,16,-16,-16,16,-16,16,-16,-16,16,16,-16,16,16,16,-16,-16,16,16,-16,-16,16,16,-16,-16,16,16,-16,16,-64,16,-16,16,-16,-16,-16,16,16,16,-16,16,-16,16,-16,-16,16]
[16,-16,-16,-16,16,16,-16,16,-16,16,16,-16,-16,16,16,16,16,-16,16,-16,-16,-16,-16,-16,16,-16,-16,16,-16,-16,-16,16,16,-16,-16,-16,16,-16,-16,16,-16,16,-16,16,-16,-16,-16,-16,-16,16,-16,16,16,16,-16,-16,-16,-16,-16,16,16,-16,-16,-16,-16,-16,-16,-16,-16,16,-16,16,16,16,-16,16,-16,16,16,16,-16,-16,-16,-16,16,16,-16,-16,-16,-16,16,16,16,-16,16,-16,-16,16,16,-16,-16,-16,16,-16,-16,-16,-16,-16,-16,16,-16,16,-16,16,-16,-16,16,-16,16,16,16,16,16,-16,16,16,16,-16]
[-16,-16,-16,-16,-16,16,-16,-16,-16,16,16,16,-16,-16,-16,-16,16,16,-16,-16,16,16,-16,-16,-16,16,16,-16,16,-16,16,-16,16,-16,16,16,16,-16,-16,16,16,16,16,-16,-16,16,-16,16,-16,16,-16,-16,16,-16,-16,-16,-16,16,16,-16,-16,-16,-16,16,16,16,-16,-16,-16,-16,16,16,16,16,-16,16,16,-16,16,-16,-16,16,16,16,16,16,-16,16,-16,-16,16,16,16,16,16,-16,16,16,-16,-16,16,16,16,16,-16,16,16,-16,-16,16,-16,-16,-16,-16,16,-16,-16,-16,16,-16,-16,16,-16,16,16,-16,-16,16]
[-16,16,16,16,16,16,16,-16,-16,16,-16,-16,16,16,-16,-16,-16,16,16,16,16,-16,-16,16,16,16,-16,-16,16,-16,16,16,16,16,-16,16,16,-16,-16,16,-16,-16,16,-16,-16,-16,16,16,16,16,16,-16,-16,-16,-16,-16,-16,16,-16,-64,16,-16,-16,16,16,-16,16,-16,-16,-16,16,16,16,-16,16,16,16,-16,-16,-16,-16,-16,-16,-16,16,16,16,16,16,16,16,16,16,16,16,-16,-16,-16,16,16,16,-16,-16,16,-16,-16,16,-16,-16,-16,16,-16,16,16,-16,-16,16,16,-16,16,16,16,-16,-16,16,-16,-16,16]
[16,-16,-16,16,-16,-16,-16,16,16,-16,16,16,16,16,-16,-16,-16,16,-16,-16,16,-16,16,16,-16,16,-16,16,-16,16,-16,-16,16,-16,-16,16,16,16,16,-16,16,16,16,-16,16,-16,-16,16,16,-16,16,16,16,16,16,-16,16,-16,16,-16,-16,-16,16,-16,-16,16,-16,16,16,16,16,16,16,16,16,16,16,16,-16,16,16,-16,-16,16,-16,-16,16,16,16,16,16,16,16,-16,16,16,-16,-16,16,-16,16,16,16,16,16,16,-16,16,-16,16,16,-16,16,16,-16,-16,-16,-16,-16,-16,16,-16,16,16,16,-16,16,-16]
[-16,16,-16,-16,-16,16,-16,-16,-16,-16,16,-16,-16,-16,-16,16,16,-16,16,-16,16,16,16,16,-16,16,-16,-16,-16,-16,-16,-16,16,-16,-16,-16,-16,-16,-16,16,-16,-16,-16,-16,16,-16,16,-16,16,-16,-16,16,-16,16,16,16,-16,-16,-16,16,16,16,16,16,-16,16,16,-16,-16,16,16,16,16,-16,-16,16,16,16,16,-16,-16,-16,16,16,16,16,16,-16,-16,16,-16,16,-16,16,16,-16,-16,-16,16,16,-16,16,16,-16,16,16,16,-16,-16,16,16,16,16,16,-16,-16,16,-16,16,-16,-16,16,16,-16,16,16,-16,-16]
[16,-16,16,-16,-16,16,-16,-16,16,-16,-16,-16,16,16,-16,-16,16,-16,-16,16,16,16,-16,-16,-16,16,-16,-16,16,16,16,16,16,16,16,-16,-16,16,-16,16,16,16,-16,16,-16,16,16,-16,16,16,-16,16,16,-16,16,16,16,-16,16,-16,16,16,-16,-16,-16,16,-16,16,-16,-16,16,16,16,16,16,16,16,16,16,16,-16,-16,-16,16,16,16,-16,-16,-16,-16,16,-16,16,-16,16,16,16,16,-16,16,-16,16,-16,-16,-16,16,16,-16,16,-16,-16,16,-16,-16,16,-16,16,16,16,-16,16,16,16,-16,16,-16,16,16]
[16,-16,-16,16,16,16,16,16,16,-16,-16,16,-16,-16,16,16,16,16,-16,16,16,-16,16,16,-16,16,-16,-16,16,16,-16,16,-16,-16,16,-16,16,16,-16,16,16,-16,-16,16,-16,-16,16,-16,-16,-16,16,-16,16,16,-16,16,-16,-16,16,-16,-16,16,-16,-16,16,16,-16,16,16,16,16,16,-16,-16,-16,16,-16,-16,16,16,-16,16,16,-16,16,16,-16,16,-16,16,16,16,16,16,-16,-16,-16,16,16,64,16,16,16,16,16,16,16,-16,-16,-16,-16,16,16,16,16,16,16,-16,16,-16,-16,16,16,-16,16,16,-16,-16]
[16,16,16,16,-16,16,-16,16,-16,16,-16,-16,16,16,-16,-16,16,-16,-16,-16,-16,16,-16,16,16,-16,16,16,16,16,-16,16,16,16,16,-16,16,16,-16,-16,-16,-16,16,16,-16,16,16,-16,-16,-16,16,-16,64,16,-16,-16,16,-16,16,16,-16,-16,-16,16,16,-16,16,16,-16,-16,16,16,16,-16,16,-16,16,-16,-16,-16,16,-16,16,-16,-16,-16,-16,16,16,-16,-16,-16,-16,16,-16,16,-16,16,16,16,16,-16,-16,-16,-16,16,16,-16,-16,-16,16,-16,16,-16,-16,-16,-16,-16,16,16,16,16,-16,-16,16,16,-16,-16]
[16,-16,-16,-16,16,-16,16,-16,-16,-16,-16,-16,16,-16,-16,-16,16,-16,-16,-16,16,-16,-16,16,16,-16,-16,16,16,16,-16,16,-16,-16,-16,-16,-16,16,-16,-16,16,16,16,-16,-16,16,-16,-16,16,-16,16,-16,16,-16,-16,-16,16,16,-16,16,16,-16,16,-16,-16,-16,-16,16,-16,16,-16,-16,-16,-16,16,16,16,-16,16,-16,-16,-16,16,16,-16,-16,16,-16,-16,-16,16,16,16,-16,-16,-16,16,-16,16,-16,16,-16,16,-16,-16,16,-16,16,-16,16,-16,-16,-16,-16,-16,-16,16,16,-16,16,16,-16,16,16,16,16,16,-16]
[16,16,-16,-16,-16,16,-16,-16,16,16,16,16,-16,16,-16,16,-16,16,16,-16,-16,-16,-16,16,16,-16,-16,16,-16,-16,-16,16,-16,16,16,-16,16,-16,16,-16,-16,16,16,-16,-16,16,16,-16,16,-16,16,16,16,16,16,-16,-16,16,16,16,16,-16,-16,-16,16,16,-16,-16,16,16,16,-16,16,16,16,-16,-16,16,16,-16,-16,16,16,-16,16,-16,-16,16,-16,-16,16,16,16,-16,16,-16,16,16,-16,-16,16,16,-16,-16,-16,16,16,16,-16,16,16,16,16,-16,-16,-16,16,16,16,-16,-16,-16,16,-16,-16,-16,-16,16]
[16,-16,-16,-16,16,-16,-16,16,-16,-16,16,-16,-16,16,-16,-16,16,16,16,-16,16,16,-16,16,-16,-16,16,-16,16,16,16,16,16,-16,16,-16,-16,-16,-16,16,16,-16,-16,16,16,-16,-16,-16,-16,16,16,16,16,-16,-16,16,16,16,16,-16,-16,16,-16,-16,-16,16,-16,16,16,-16,-16,-16,-16,16,16,16,-16,-16,-16,-16,-16,16,-16,16,16,-16,16,-16,-16,16,-16,-16,-16,16,-16,-16,16,16,-16,16,16,16,-16,-16,-16,-16,-16,16,-16,-16,16,16,-16,16,-16,-16,16,16,-16,-16,-16,16,-16,-16,-16,-16,-16,16]
[-16,16,16,16,-16,16,-16,-16,16,-16,-16,16,16,16,16,16,16,-16,-16,-16,16,-16,-16,-16,-16,-16,-16,-16,-16,-16,16,-16,16,16,16,-16,16,16,-16,16,-16,16,-16,16,-16,16,16,16,-16,16,-16,-16,-16,16,-16,16,-16,16,16,-16,-16,-16,16,-16,-16,16,16,16,-16,16,-16,16,16,-16,16,16,-16,16,-16,16,16,16,16,16,-16,-16,16,-16,16,16,16,-16,-16,16,16,-16,16,16,16,-16,16,16,-16,16,16,16,-16,16,16,-16,-16,-16,16,16,16,-16,-16,16,-16,16,16,-16,16,-16,-16,-16,16,16]
[16,16,16,-16,16,-16,-16,16,16,-16,16,-16,16,16,16,-16,16,-16,-16,-16,16,16,-16,16,-16,16,-16,-16,-16,-16,-16,16,-16,16,16,16,-16,-16,16,-16,16,-16,-16,16,-16,16,-16,16,16,16,-16,16,-16,-16,-16,16,-16,-16,16,-16,-16,-16,-16,-16,-16,16,-16,-16,-16,-16,-16,-16,-16,16,16,16,16,16,16,16,16,-16,-16,16,16,16,-16,-16,-16,-16,16,-16,-16,-16,-16,-16,16,16,-16,-16,-16,-16,-16,-16,16,16,-16,16,-16,-16,16,-16,16,-16,-16,16,16,16,-16,-16,-16,-16,16,-16,-16,16,16,16]
[16,-16,16,-16,16,16,-16,16,-16,16,16,16,-16,-16,-16,16,16,-16,16,16,-16,-16,16,16,16,-16,-16,16,-16,16,16,-16,-16,16,16,16,16,-16,16,-16,16,-16,-16,16,-16,16,-16,16,16,-16,16,16,16,16,16,16,-16,16,-16,16,16,16,-16,-16,16,16,-16,-16,-16,16,16,-16,-16,-16,-16,16,16,16,16,-16,16,16,16,-16,16,-16,-16,16,-16,16,-16,-16,-16,-16,16,16,16,16,-16,-16,16,16,-16,-16,-16,16,16,16,16,-16,16,16,-16,-16,16,-16,16,-16,16,-16,-16,-16,16,16,16,-16,-16,-16]
[-16,-16,-16,16,16,-16,-16,16,-16,16,16,16,-16,16,16,-16,16,-16,16,-16,-16,-16,-16,-16,-16,-16,-16,16,-16,16,-16,16,16,16,16,-16,16,-16,16,-16,-16,16,16,-16,16,16,16,-16,-16,-16,-16,-16,16,-16,16,-16,-16,16,-16,16,-16,16,16,-16,16,-16,-16,-16,16,-16,16,-16,16,-16,-16,16,16,16,-16,-16,-16,-16,-16,-16,16,16,16,16,-16,16,16,16,-16,-16,16,16,16,-16,-16,16,16,16,16,-16,-16,-16,16,16,16,16,16,16,-16,16,-16,-16,-16,-16,-16,-16,-16,16,16,16,-16,64,16,-16]
[16,-16,-16,16,-16,16,16,-16,16,16,-16,16,16,-16,16,16,16,-16,-16,16,-16,16,-16,16,-16,-16,16,16,-16,16,16,16,-16,-16,-16,-16,-16,16,16,16,16,-16,16,-16,-16,16,-16,16,16,16,-16,-16,-16,16,-16,16,-16,16,16,16,-16,-16,-16,16,-16,16,-16,16,-16,-16,16,-16,-16,16,-16,-16,-16,-16,-16,-16,16,16,-16,-16,-16,-16,-16,16,-16,-16,-16,-16,-16,-16,16,-16,16,16,-16,16,-16,16,-16,16,-16,-16,16,-16,16,16,-16,-16,-16,-16,16,16,-16,-16,16,-16,16,-16,-16,16,16,16,-16,16]
[-16,-16,16,-16,16,-16,16,16,-16,16,-16,-16,-16,16,-16,16,-16,16,16,16,-16,-16,16,-16,-16,16,-16,16,-16,-16,-16,16,-16,16,-16,16,16,16,-16,16,16,16,-16,16,-16,16,-16,-16,-16,16,-16,-16,-16,-16,-16,-16,16,16,-16,16,-16,-16,-16,16,-16,16,-16,16,16,16,-16,16,-16,16,-16,16,16,16,-16,-16,-16,16,-16,16,16,-16,-16,16,-16,16,-16,-16,-16,-16,16,-16,16,-16,16,16,16,16,-16,-16,16,-16,-16,-16,-16,-16,-16,-16,16,16,-16,-16,16,16,-16,-16,16,16,16,-16,-16,-16,-16,-16]
[16,16,-16,-16,16,-16,16,16,-16,16,-16,16,16,16,16,-16,-16,16,16,16,-16,16,16,16,-16,-16,-16,-16,-16,-16,-16,-16,16,16,-16,16,16,16,-16,16,-16,16,-16,16,-16,-16,-16,16,16,-16,16,16,16,-16,16,16,-16,-16,16,-16,16,16,-16,16,-16,16,-16,-16,-16,16,-16,16,-16,16,16,-16,16,16,16,-16,16,16,16,-16,-16,-16,16,-16,16,-16,16,16,-16,16,16,16,16,16,-16,-16,-16,-16,16,-16,-16,16,16,16,16,16,16,-16,-16,-16,16,-16,16,-16,-16,16,-16,16,16,-16,16,16,16,-16]
[-16,-16,16,-16,-16,-16,-16,-16,-16,16,-16,16,16,-16,-16,16,16,16,-16,16,16,16,16,16,-16,16,-16,16,-16,16,-16,16,-16,16,16,16,16,-16,16,16,-16,-16,16,16,16,-16,16,-16,16,-16,16,-16,-16,-16,16,-16,-16,-16,16,-16,16,-16,16,16,-16,16,-16,-16,16,16,16,16,-16,16,16,-16,16,16,-16,-16,-16,-16,-16,16,-16,16,-16,-16,16,-16,-16,16,16,16,-16,16,16,16,16,16,-16,16,-16,16,16,-16,-16,16,-16,16,16,-16,16,-16,-16,-16,-16,16,16,16,-16,-16,-16,-16,16,16,16,16]
[-16,16,-16,16,16,16,16,-16,16,16,16,16,16,-16,-16,16,16,16,16,-16,16,-16,16,16,16,-16,-16,-16,-16,16,16,-16,-16,-16,16,-16,16,16,16,16,-16,-16,-16,-16,-16,16,16,-16,16,16,-16,16,-16,-16,16,-16,-16,16,-16,16,16,-16,16,16,16,16,16,-16,16,-16,16,16,-16,-16,16,16,16,16,16,-16,16,16,16,-16,16,16,-16,16,16,-16,16,16,16,-16,16,16,16,-16,-16,-16,16,16,-16,-16,-16,16,16,16,16,16,-16,16,16,-16,16,16,16,-16,16,16,-16,-16,16,16,16,16,16,16]
[16,-16,-16,16,-16,-16,16,-16,-16,-16,16,-16,-16,16,-16,-16,16,-16,-16,-16,16,-16,-16,-16,-16,16,16,16,-16,16,-16,16,16,16,16,-16,-16,16,16,-16,-16,16,-16,16,-16,16,-16,16,16,16,-16,16,16,-16,16,-16,-16,16,-16,-16,-16,16,-16,16,16,-16,16,-16,-16,16,-16,16,16,16,16,16,16,-16,16,-16,16,-16,-16,-16,-16,-16,16,16,16,16,-16,-16,16,16,16,-16,16,-16,-16,16,16,16,-16,-16,-16,16,-16,-16,-16,16,-16,16,16,-16,16,-16,-16,-16,-16,-16,16,16,-16,-16,16,16,16,16]
[16,-16,16,-16,16,16,16,-16,-16,-16,-16,-16,16,16,-16,16,-16,-16,-16,16,16,16,16,16,16,16,-16,16,16,16,-16,-16,16,16,-16,16,-16,16,16,-16,16,16,-16,-16,-16,16,16,16,-16,-16,16,16,16,-16,-16,-16,-16,-16,-16,-16,-16,16,-16,-16,16,-16,16,-16,-16,16,16,16,-16,16,16,-16,16,16,16,-16,16,-16,-16,16,-16,-16,16,-16,16,-16,16,16,16,16,-16,-16,-16,16,-16,-16,16,-16,16,-16,-16,16,16,-16,-16,-16,16,16,-16,-16,16,-16,-16,-16,16,-16,16,-16,16,-16,16,16,16,-16]
[-16,-16,16,16,-16,-16,-16,16,-16,-16,-16,-16,16,-16,-16,16,-16,16,-16,-16,-16,-16,-16,-16,-16,16,16,-16,16,-16,-16,-16,-16,16,16,-16,-16,16,16,16,-16,-16,-16,-16,-16,16,16,16,16,-16,16,-16,-16,-16,16,-16,16,-16,-16,-16,-16,16,16,-16,16,16,16,-16,16,-16,-16,-16,16,16,16,-16,16,-16,-16,16,16,-16,16,-16,16,-16,16,-16,16,-16,-16,-16,16,16,-16,-16,-16,16,-16,16,16,-16,-16,-16,16,16,-16,16,-16,-16,16,16,-16,-16,16,16,-16,-16,-16,16,-16,-16,-16,16,16,-16,16,-16]
[16,16,16,16,16,-16,16,16,-16,16,-16,-16,-16,-16,-16,-16,-16,-16,16,-16,16,-16,-16,-16,16,-16,16,16,-16,-16,16,16,16,16,-16,16,-16,-16,16,-16,-16,16,-16,-16,-16,16,16,16,-16,16,16,16,16,16,16,16,-16,-16,16,-16,-16,-16,-16,-16,-16,-16,-16,-16,16,-16,-16,-16,-16,-16,16,16,16,16,-16,-16,16,-16,16,-16,16,-16,16,16,-16,-16,-16,-16,16,-16,-16,-16,16,-16,16,-16,16,-16,-16,16,16,-16,16,16,16,16,-16,16,16,-16,16,-16,-16,-16,16,-16,-16,16,-16,16,-16,16,16,-16]
[-16,16,16,16,-16,-16,16,-16,16,-16,-16,16,-16,-16,16,-16,16,16,16,-16,16,-16,-16,16,16,16,-16,-16,-16,-16,-16,16,16,16,16,-16,16,16,-16,16,16,-16,-16,-16,16,-16,16,16,16,16,-16,16,-16,16,16,-16,-16,-16,-16,-16,-16,-16,-16,-16,-16,-16,-16,16,-16,-16,-16,-16,-16,16,16,16,-16,16,-16,16,16,-16,-16,16,-16,-16,-16,16,-16,16,-16,-16,-16,-16,16,-16,-16,-16,16,16,16,16,16,16,16,16,-16,16,16,-16,-16,16,16,16,16,16,16,-16,16,-16,16,16,16,16,-16,-16,-16,-16]
[16,16,16,16,16,-16,-16,-16,-16,16,-16,-16,-16,16,16,16,16,-16,16,-16,-16,-16,-16,-16,-16,-16,16,-16,-16,16,16,16,16,-16,-16,-16,16,16,16,16,16,-16,16,16,-16,16,16,16,16,16,-16,16,16,-16,16,-16,16,-16,-16,16,16,-16,-16,16,-16,16,-16,-16,-16,16,16,-16,16,16,16,-16,-16,16,-16,-16,-16,-16,-16,-16,64,-16,-16,-16,-16,-16,-16,-16,-16,-16,16,-16,16,-16,-16,16,-16,16,-16,16,16,16,16,16,16,16,16,16,16,-16,16,-16,16,16,16,-16,-16,16,16,-16,16,-16,16,16]
[-64,-16,-16,16,-16,16,16,16,16,-16,16,16,-16,16,16,-16,16,16,16,-16,16,16,16,16,-16,-16,16,16,16,16,-16,16,16,-16,16,-16,16,-16,-16,-16,16,-16,-16,16,16,16,16,-16,16,-16,16,-16,-16,-16,-16,16,-16,16,-16,-16,-16,16,-16,-16,-16,-16,-16,16,-16,16,16,16,16,-16,16,16,16,-64,16,16,-16,-16,16,-16,16,-16,16,16,16,16,16,-16,-16,16,16,16,-16,16,-16,64,16,16,16,16,16,16,-16,-16,-64,-16,-16,16,16,16,16,16,-16,-16,-16,-16,16,16,-16,16,-16,16,-16,-16]
[-16,-16,-16,-16,16,16,16,16,-16,-16,16,16,16,16,-16,-16,-16,-16,16,16,16,-16,16,-16,16,-16,-16,16,16,16,16,16,-16,-16,-16,-16,-16,16,-16,-16,-16,-16,-16,16,16,16,16,16,16,-16,-16,-16,16,16,16,-16,-16,16,16,-16,16,-16,-16,16,16,-16,16,-16,-16,-16,16,-16,16,-16,-16,16,-16,-16,-16,-16,16,-16,-16,16,-16,16,-16,-16,16,16,-16,16,-16,16,16,16,16,16,-16,-16,-16,-16,16,16,-16,16,-16,-16,-16,16,-16,-16,-16,16,16,16,16,16,-16,16,-16,-16,-16,16,-16,-16,16,-16]
[16,16,-16,16,16,-16,-16,-16,16,16,16,16,-16,16,16,16,-16,-16,16,16,-16,-16,16,16,-16,-16,16,16,-16,-16,-16,16,16,-16,-16,-16,-16,16,16,16,-16,-16,16,16,16,-16,-16,16,-16,-16,16,-16,-16,16,16,-16,-16,16,-16,16,16,16,16,16,16,-16,-16,-16,16,16,-16,-16,16,16,-16,-16,16,-16,-16,16,-16,16,-16,-16,-16,16,16,16,-16,16,16,-16,-16,-16,16,16,16,16,16,16,16,-16,16,-16,16,-16,16,-16,-16,16,16,-16,-16,-16,16,-16,-16,-16,-16,-16,16,16,-16,-16,-16,16,16,16]
[16,16,16,16,-16,-16,-16,-16,16,-16,-16,16,16,16,16,16,-16,16,-16,16,16,16,16,16,16,16,16,-16,-16,-16,16,-16,16,-16,-16,-16,-16,16,-16,-16,-16,16,-16,-16,-16,-16,16,-16,16,-16,16,16,16,-16,16,-16,16,-16,-16,16,-16,-16,-16,-16,-16,16,-16,-16,-16,-16,-16,-16,16,-16,16,-16,16,16,-16,-16,-16,16,-16,-16,16,-16,-16,16,16,-16,-16,-16,16,-16,-16,-16,16,16,16,16,16,16,16,-16,-16,-16,16,16,16,16,16,16,16,16,-16,-16,16,16,16,-16,16,16,16,-16,-16,16,-16,16]
[-16,16,16,16,-64,16,16,16,-16,16,16,-16,-16,-16,-16,-16,16,-16,-16,16,-16,-16,-16,16,16,16,16,16,-16,-16,16,-16,-16,16,16,16,16,16,16,16,-16,16,16,-16,16,-16,16,-16,16,-16,16,16,16,-16,16,-16,-16,16,-16,16,16,16,16,16,-16,16,-16,16,16,16,-16,16,-16,16,-16,-16,16,16,-16,-16,16,16,16,-16,16,-16,-16,16,16,-16,16,-16,-16,16,16,-16,16,16,16,-16,-16,-16,16,16,16,-16,16,16,16,16,-16,-16,16,-16,16,16,16,16,-16,-16,16,-16,-16,16,-16,16,-16,16]
[-16,16,-16,16,16,-16,-16,64,16,-16,-64,16,16,-16,16,16,16,-16,-16,16,-16,-16,-16,-16,16,-16,-16,-16,-16,16,-16,16,16,-16,16,-16,-16,16,-16,-16,-16,16,16,16,16,-64,16,-16,16,-16,-16,16,16,-16,-16,16,-16,16,16,-16,16,-16,-16,-16,16,16,16,-16,16,16,-16,-16,-16,-16,16,-16,-16,16,64,16,16,16,-16,-16,16,-16,16,16,-16,64,-16,-16,16,16,-16,16,-16,-16,16,16,-16,16,-16,16,16,16,-16,-16,16,-16,-16,16,16,-16,16,16,-16,16,64,-16,-16,-16,16,16,16,-16,-16,-16]
[-16,-16,-16,-16,16,-16,16,-16,-16,16,-16,16,-16,16,16,16,16,-16,-16,16,16,16,16,16,-16,-16,-16,16,-16,-16,16,-16,-16,16,16,-16,-16,-16,16,-16,16,-16,-16,-16,16,-16,-16,16,-16,-16,-16,16,-16,16,16,-16,-16,-16,16,16,-16,-16,16,16,-16,-16,-16,16,-16,16,16,16,16,-16,-16,16,16,-16,16,-16,-16,16,-16,16,16,-16,16,16,16,-16,-16,-16,-16,-16,16,-16,16,16,16,16,16,-16,16,16,16,-16,16,16,16,16,16,-16,16,16,-16,16,16,-16,-16,16,-16,-16,-16,-16,16,16,-16,16]
[-16,-16,16,-16,-16,16,-16,-16,16,16,-16,16,16,-16,-16,-16,16,-16,16,16,-16,-16,16,-16,16,16,16,-16,-16,-16,-16,16,16,16,16,-16,16,16,16,16,-16,16,-16,-16,-16,-16,-16,16,16,16,16,16,16,-16,-16,-16,-16,16,-16,16,-16,-16,-16,-16,-16,16,-16,-16,16,16,16,-16,-16,16,-16,-16,16,16,16,-16,-16,-16,16,16,16,16,-16,16,16,-16,16,-16,16,-16,-16,-16,16,-16,-16,-16,-16,-16,16,16,16,16,16,16,16,64,-16,16,16,-16,16,16,16,-16,16,-16,-16,16,-16,-16,16,16,-16,-16]
[16,16,-16,-16,-16,-16,-16,16,-16,-16,16,16,16,16,16,-16,-16,16,-16,-16,16,-16,16,-16,16,-16,-16,-16,16,16,16,16,16,16,16,16,-16,-16,-16,-16,16,-16,16,-16,16,16,-16,16,-16,16,-16,16,16,-16,16,-16,16,16,16,16,16,16,-16,16,-16,-16,-16,-16,16,16,16,-16,-16,16,-16,16,16,16,16,16,-16,16,16,16,-16,16,16,16,16,16,16,-16,-16,-16,16,16,16,-16,-16,16,16,16,-16,-16,-16,16,-16,-16,16,-16,16,-16,16,16,-16,-16,-16,-16,-16,16,16,-16,-16,16,16,-16,-16,-16]
[16,16,-16,-16,-16,16,-16,16,16,16,-16,16,16,16,-16,16,16,16,16,-16,16,-16,-16,16,-16,16,-16,-16,-16,-16,-16,16,16,-16,-16,16,16,16,-16,16,16,16,-16,16,-16,-16,-16,16,-16,-16,-16,-16,16,-16,-16,16,-16,16,-16,16,16,-16,-16,-16,-16,16,16,-16,16,16,-16,-16,16,16,16,16,-16,-16,16,16,16,-16,16,-16,16,16,-16,16,16,16,16,16,16,-16,16,16,16,16,16,16,-16,16,-16,16,16,16,-16,-16,-16,-16,16,-16,16,16,16,16,-16,16,16,-16,-16,-16,16,16,16,16,16,16]
[-16,-16,-16,-16,-16,16,16,-16,16,16,-16,-16,-16,16,-16,-16,16,-16,16,16,-16,16,-16,16,16,-16,-16,-16,-16,-16,-16,-16,16,16,16,-16,16,16,-16,16,-16,-16,16,-16,16,-16,16,16,-16,-16,16,16,-16,-16,-16,16,-16,-16,-16,16,-16,16,-16,16,-16,-16,-16,-16,-16,-16,16,-16,16,-16,16,-16,-16,16,16,16,-16,16,16,-16,16,16,-16,16,-16,16,-16,-16,-16,-16,-16,-16,-16,-16,16,-16,-16,16,-16,16,-16,16,-16,-16,16,-16,16,-16,16,-16,16,-16,16,-16,16,-16,16,16,16,-16,-16,64,-16,16]
[16,16,-16,16,-16,-16,-16,-16,-16,16,16,-16,16,16,-16,16,16,16,16,-16,-16,-16,-16,-16,16,-16,-16,-16,16,-16,-16,-16,-16,-16,-16,-16,-16,-16,-16,-16,16,16,16,-16,16,16,16,16,16,-16,16,-16,16,16,16,-16,16,16,16,16,16,-16,-16,16,-16,16,-16,16,16,-16,16,-16,16,-16,-16,16,-16,-16,-16,16,16,-16,16,-16,-16,16,16,16,16,16,-16,-16,-16,16,-16,-16,16,16,16,16,-16,16,-16,-16,16,-16,16,-16,16,-16,-16,16,-16,16,16,-16,16,16,16,16,-16,16,-16,16,16,-16,16,16]
[16,16,16,16,16,-16,-16,-16,-16,16,-16,-16,16,16,16,16,-16,-16,-16,-16,-16,-16,16,16,16,-16,16,-16,16,-16,16,-16,16,16,16,-16,16,-16,-16,-16,-16,16,16,16,16,16,16,16,16,-16,-16,16,-16,-16,16,16,16,-16,16,-16,-16,-16,16,16,16,16,-16,-16,-16,-16,16,-16,16,16,16,-16,-16,16,16,-16,16,16,16,16,16,-16,16,-16,-16,-16,-16,16,16,16,-16,16,16,-16,-16,-16,16,-16,16,-16,-16,-16,-16,16,16,16,16,16,16,-16,16,-64,16,16,-16,-16,16,-16,16,16,-16,16,16,16]
[-16,-16,-16,-16,16,-16,16,16,-16,16,16,16,-16,16,16,-16,16,16,-16,16,16,-16,16,16,-16,16,16,-16,-16,-16,16,16,16,-16,16,16,16,-16,-16,16,-16,-16,16,-16,16,16,16,16,-16,-16,-16,-16,-16,-16,-16,-16,-16,16,-16,-16,-16,16,16,-16,-16,16,-16,16,-16,16,-16,16,-16,16,16,16,-16,-16,16,16,-16,-16,16,-16,-16,16,-16,16,-16,16,16,-16,16,16,-16,16,16,16,16,16,16,16,16,16,-16,-16,16,-16,-16,-16,-16,16,-16,-16,16,16,-16,16,-16,16,16,-16,16,-16,16,16,16,16]
[-16,-16,16,-16,-16,16,16,-16,-16,16,16,16,-16,-16,-16,16,16,16,16,-16,-16,16,16,16,16,-16,-16,-16,-16,-16,16,-16,16,16,16,16,16,16,16,16,16,16,16,16,16,16,-16,-16,-16,16,16,-16,16,16,16,-16,16,-16,16,-16,-16,-16,16,16,16,16,16,-16,16,16,-16,-16,16,16,16,-16,-16,-16,-16,-16,16,16,-16,-16,-16,-16,16,-16,16,16,16,-16,16,-16,16,-16,-16,-16,16,-16,16,16,-16,16,-16,-16,-16,-16,16,16,16,-16,-16,-16,16,16,-16,-16,-16,-16,16,-16,16,16,-16,16,16,16]
[16,16,16,16,-16,16,16,-16,-16,16,-16,16,16,16,-16,-16,16,16,-16,16,16,-16,16,-16,-16,-16,16,-16,16,-16,-16,16,16,-16,16,16,16,16,-16,16,-16,16,-16,16,-16,-16,16,-16,-16,-16,16,-16,-16,16,16,16,-16,-16,-16,16,16,16,16,-16,-16,16,16,16,16,16,-16,-16,16,16,16,-16,-16,16,16,16,-16,16,16,16,-16,-16,-16,-16,16,16,-16,16,-16,-16,16,16,-16,-16,-16,-16,16,16,16,-16,16,16,16,16,-16,16,16,-16,-16,16,-16,16,-16,-16,16,-16,16,-16,16,16,16,16,16,-16]
[-16,16,-16,-16,16,16,-16,16,16,-16,-16,-16,16,-64,-16,16,16,-16,-16,16,-16,-16,-16,16,16,16,-16,16,16,16,-16,16,-16,16,-16,16,-16,16,-16,16,16,16,16,64,-16,16,16,-16,16,-16,16,16,-16,16,16,-16,-16,16,16,16,-16,16,16,-16,16,16,-16,-16,-16,-16,16,-16,-16,-16,-16,16,16,16,16,-16,16,16,16,-16,16,-16,-16,-16,-16,64,-16,-16,16,-16,-16,16,-16,-16,16,-16,-16,16,-16,16,64,16,-16,-16,16,-16,-16,16,-16,-16,16,16,16,-16,16,16,-16,-16,16,16,16,-16,-16,-64]
[-16,16,16,16,16,-16,16,16,16,16,16,16,16,16,-16,16,16,-16,-16,-16,16,16,16,-16,16,16,16,-16,16,-16,16,16,16,-16,16,16,16,-16,16,16,-16,-16,-16,16,-16,-16,-16,-16,-16,-16,16,-16,16,-16,-16,16,16,-16,-16,-16,16,-16,-16,-16,16,16,-16,-16,16,-16,-16,16,-16,-16,-16,16,-16,16,-16,-16,16,16,16,-16,-16,16,-16,16,16,-16,16,16,16,16,16,-16,16,16,16,-16,16,-16,16,-16,16,-16,-16,16,-16,16,16,16,16,16,16,16,-16,16,16,-16,16,-16,16,16,-16,-16,16,16]
[16,16,16,-16,-16,16,16,-16,-16,16,-16,16,16,16,-16,16,16,-16,-16,-16,16,-16,-16,-16,-16,-16,16,-16,-16,-16,16,16,-16,16,-16,-16,-16,-16,-16,-16,-16,-16,16,16,-16,16,-16,16,-16,16,-16,16,-16,-16,-16,-16,-16,16,-16,16,-16,-16,16,16,-16,-16,-16,-16,16,-16,16,-16,16,-16,16,16,16,-16,16,-16,16,-16,-16,16,16,16,16,16,16,-16,16,-16,-16,16,16,-16,16,16,-16,16,-16,16,-16,-16,-16,16,16,-16,-16,-16,16,16,-16,16,16,-16,-16,-16,-16,-16,16,16,-16,-16,16,-16,-16,16]
[16,-16,16,-16,16,16,-16,16,-16,16,16,16,-16,16,-16,-16,-16,-16,16,-16,-16,-16,16,16,-16,16,16,16,16,-16,16,-16,-16,-16,16,-16,-16,-16,16,16,-16,16,-16,-16,-16,16,-16,16,-16,-16,-16,-16,-16,16,16,-16,-16,-16,16,-16,16,16,16,-16,-16,16,16,-16,-16,16,-16,-16,16,-16,-16,16,-16,-16,16,16,-16,16,16,-16,16,16,16,-16,-16,-16,16,16,-16,-16,16,-16,16,16,-16,16,16,-16,16,-16,-16,16,16,16,-16,16,16,16,-16,16,16,16,16,16,-16,-16,-16,16,-16,-16,-16,-16,16,16]
[-16,-16,-16,16,16,-16,-16,-16,-16,16,-16,-16,16,16,16,-16,16,16,16,16,16,-16,16,-16,-16,-16,-16,16,16,-16,16,-16,-16,16,16,16,16,-16,-16,16,-16,-16,-16,-16,16,-16,-16,-16,-16,16,16,-16,16,-16,16,-16,16,16,16,16,-16,16,-16,-16,-16,16,-16,-16,-16,16,-16,-16,16,16,16,16,-16,-16,-16,16,-16,-16,16,-16,16,-16,16,-16,-16,-16,-16,16,-16,-16,-16,-16,16,16,16,16,16,-16,-16,16,-16,-16,16,16,-16,16,16,16,16,16,16,16,16,-16,16,16,-16,16,16,16,-16,16,16,16]
[16,-16,16,16,-16,16,16,-16,-16,16,16,-16,16,-16,-16,16,16,16,-16,16,16,-16,16,-16,16,16,-16,-16,16,16,-16,16,16,16,-16,-16,16,16,16,-16,-16,16,-16,16,-16,16,-16,16,16,16,-16,16,-16,-16,16,16,16,16,-16,-16,16,16,16,-16,16,16,-16,16,16,16,-16,-16,16,16,-16,-16,16,16,16,16,16,16,16,-16,16,-16,16,16,-16,16,-16,16,16,-16,16,-16,16,16,-16,16,16,-16,16,16,16,-16,16,16,16,16,-16,16,16,-16,16,-16,16,16,16,16,16,16,16,16,16,-16,16,16]
[16,-16,16,-16,16,-16,-16,-16,16,-16,-16,16,16,-16,16,16,16,-16,16,-16,-16,16,16,16,-16,16,16,16,-16,-16,16,-16,16,-16,16,-16,16,16,-16,16,16,16,16,-16,16,16,16,-16,-16,-16,16,16,16,-16,16,-16,-16,-16,-16,16,-16,-16,16,-16,-16,-16,-16,-16,-16,16,-16,-16,16,16,-16,-16,16,16,16,16,-16,-16,-16,-16,-16,16,-16,-16,16,-16,-16,16,16,16,-16,16,-16,16,16,16,-16,-16,-16,16,16,16,-16,16,16,16,16,-16,16,16,-16,16,16,-16,-16,-16,-16,16,-16,-16,16,16,-16,16]
[16,16,16,16,16,16,-16,16,-16,64,-16,-16,-16,16,-16,16,-16,-16,16,16,-16,-16,16,-16,16,-16,16,16,-16,16,-16,-16,16,-16,-16,16,16,-16,-16,16,-16,-16,16,16,-16,16,16,-16,-16,-16,-16,-16,16,16,-16,16,16,-16,16,-16,-16,16,-16,16,-16,-16,-16,-16,-16,-16,16,-16,16,16,16,-16,-16,16,-16,-16,-16,-16,-16,-16,16,-16,16,-16,-16,-16,-16,-16,-16,-16,16,16,16,16,16,16,-16,-16,16,-16,-16,-16,16,16,16,-16,16,16,16,-16,16,-16,16,16,16,16,16,16,16,-16,-16,16,16,16]
[16,-16,16,16,16,-16,16,-16,-16,16,16,-16,-16,-16,-16,16,-16,16,-16,16,-16,-16,16,-16,16,16,-16,16,-16,16,-16,-16,-16,16,-16,-16,16,16,16,16,-16,-16,-16,-16,16,-16,16,-16,-16,-16,16,16,16,-16,16,-16,16,-16,16,16,16,-16,-16,16,16,16,-16,-16,-16,-16,-16,16,-16,16,16,-16,-16,16,-16,-16,-16,-16,-16,-16,16,-16,-16,16,16,-16,-16,16,-16,-16,16,16,16,-16,16,-16,-16,16,16,16,16,-16,16,16,16,16,16,-16,-16,16,16,-16,16,-16,-16,16,-16,-16,-16,-16,16,16,-16,-16]
[16,16,-16,16,-16,-16,16,16,-16,-16,16,16,16,-16,-16,16,16,16,-16,-16,-16,16,-16,16,-16,-16,-16,-16,16,16,-16,-16,-16,-16,16,-16,-16,-16,16,16,-16,-16,-16,-16,-16,-16,-16,16,16,-16,-16,-16,16,-16,-16,-16,-16,16,-16,-16,16,-16,16,16,-16,16,-16,16,16,16,16,-16,-16,-16,-16,-16,16,16,-16,16,16,-16,-16,-16,-16,16,-16,16,16,16,16,-16,16,-16,16,-16,16,16,-16,16,-16,-16,-16,-16,16,16,16,16,-16,16,16,-16,-16,16,16,-16,-16,-16,16,-16,-16,-16,-16,16,-16,-16,-16,16]
[-16,-16,16,16,16,16,-16,16,16,16,16,16,-16,16,-16,16,-16,-16,16,-16,16,16,16,-16,16,16,-16,-16,16,-16,-16,-16,-16,-16,-16,16,16,16,-16,16,-16,-16,16,16,16,16,-16,16,-16,-16,16,16,16,16,16,-16,-16,-16,16,-16,16,-16,16,16,-16,16,-16,16,16,16,-16,16,-16,16,16,16,16,-16,-16,-16,-16,-16,-16,-16,-16,-16,-16,-16,16,16,16,16,16,-16,16,-16,-16,16,16,-16,-16,16,-16,16,16,-16,-16,16,16,16,-16,16,16,16,-16,-16,16,16,16,-16,16,-16,-16,-16,-16,16,16,-16]
[64,-16,16,16,16,-16,-16,-16,-16,16,16,-16,-16,16,16,16,-16,-16,16,16,16,-16,16,-16,-16,-16,16,-16,16,-16,16,16,-16,16,-16,-16,-16,-16,16,16,16,16,-16,16,16,16,16,-16,-16,-16,-16,16,16,16,16,-16,16,-16,-16,-16,-16,-16,-16,-16,-16,-16,16,-16,-16,16,16,16,16,-16,-16,16,16,16,-16,16,-16,-16,16,16,-16,16,16,16,-16,-16,16,16,16,-16,-16,-16,64,16,16,16,-16,-16,-16,16,16,-16,16,-16,16,16,16,64,16,-16,16,-16,16,-16,16,-16,-16,16,16,16,-16,16,16,16]
[16,-16,-16,16,-16,16,16,-16,-16,16,-16,16,-16,16,-16,16,16,16,-16,-16,16,16,16,-16,16,16,16,-16,16,16,-16,16,16,16,-16,-16,-16,16,16,-16,16,-16,16,-16,-16,-16,-16,-16,16,16,16,-16,16,-16,-16,16,16,-16,-16,-16,-16,-16,16,16,16,-16,-16,16,16,16,16,16,-16,16,16,16,16,-16,16,-16,-16,-16,16,-16,16,-16,16,16,-16,16,16,-16,-16,-16,16,-16,16,-16,16,-16,-16,-16,-16,-16,-16,-16,16,16,16,-16,-16,-16,16,-16,16,-16,-16,16,-16,16,-16,-16,-16,-16,-16,16,-16,-16]
[16,-16,16,16,16,16,-16,-16,16,16,16,16,16,-16,-16,-16,-16,-16,-16,-16,-16,16,16,16,-16,16,-16,16,-16,16,-16,-16,16,16,-16,-16,-16,16,-16,-16,-16,-16,-16,-16,-16,16,16,-16,-16,-16,16,16,-16,-16,-16,-16,16,16,-16,-16,16,-16,16,-16,16,16,16,16,-16,-16,16,16,16,16,16,-16,16,-16,-16,-16,-16,16,16,16,-16,-16,-16,16,16,16,16,-16,-16,16,16,-16,-16,-16,-16,16,16,16,16,16,-16,16,16,16,-16,16,16,-16,-16,-16,16,-16,-16,16,16,16,16,16,-16,-16,-16,16,-16,16]
[-16,-16,-64,16,-16,16,-16,16,-16,-64,-16,-16,16,-16,-16,16,16,-16,16,16,16,16,-64,16,-64,16,-16,-16,-16,16,16,-16,16,-16,-16,-16,16,16,-16,-16,16,16,-16,16,-16,16,-16,16,16,-16,16,-16,-16,-16,-16,16,-16,-16,16,-16,16,-16,-16,16,-16,-16,-16,-16,-16,-16,16,-16,16,-16,16,16,16,-16,-16,-16,16,-16,16,-16,-16,16,16,-16,-16,-16,64,16,16,16,-16,-16,-16,-16,16,16,16,-16,-16,16,-16,16,-16,-16,-16,-16,-16,16,16,16,16,-16,16,16,-16,-16,16,16,-16,16,-64,-16,64,-16]
[16,16,-16,-16,-16,-16,16,16,-16,16,-16,-16,-16,-16,-16,16,16,-16,-16,-16,16,-16,16,-16,16,16,-16,-16,16,-16,-16,16,16,-16,-16,-16,16,-16,-16,-16,-16,16,-16,16,-16,16,-16,16,16,16,-16,-16,-16,16,-16,-16,16,16,16,-16,-16,-16,16,16,16,-16,16,-16,16,-16,-16,-16,-16,16,-16,16,16,-16,-16,-16,16,-16,-16,-16,-16,-16,16,16,-16,16,-16,16,-16,16,16,16,-16,-16,16,-16,-16,-16,-16,-16,16,-16,16,16,16,16,16,-16,16,16,16,16,16,-16,-16,16,-16,16,16,-16,16,16,-16,16]
[16,16,-16,16,16,-16,16,16,-16,64,16,-16,-16,16,-16,16,-16,-16,16,-16,-16,-16,-16,-16,16,-16,-16,16,16,-16,16,-16,-16,64,16,16,16,-16,-16,-16,16,16,-16,16,-16,16,16,16,16,16,-16,-16,-16,-16,16,-16,16,16,16,-16,-16,16,-16,16,-16,-16,16,16,-16,-16,16,-16,-16,-16,16,-16,-16,16,-16,-16,-16,-16,16,-16,16,-16,16,16,-16,16,16,-16,-16,-16,16,16,-16,16,-16,-16,16,-16,-16,16,-16,-16,64,-16,16,-16,16,16,-16,-16,16,-16,-16,-16,16,-16,-16,-16,16,-16,-16,-16,-16,16]
[16,-16,-16,-16,16,-16,16,-16,-16,-16,64,16,-16,16,-16,-16,-16,16,16,-16,16,16,-16,-16,-16,-16,16,16,-16,-16,-16,16,-16,-16,16,16,16,-16,-16,-16,16,16,-16,-16,-16,16,-16,16,-16,-16,16,-16,16,-16,-16,-16,16,16,16,-16,-16,-16,-16,-16,-16,16,16,-16,-16,16,16,16,-16,-16,16,16,16,16,-16,16,16,-16,16,16,-16,16,-16,16,-16,-16,16,16,-16,-16,16,-16,16,16,-16,16,16,16,-16,-16,-16,16,16,-16,-16,-16,16,16,16,-16,16,16,16,-16,-16,-16,-16,16,-16,-16,-16,-16,16,16]
[16,-16,-16,-16,16,16,-16,16,16,16,-16,16,-16,-16,-16,16,-16,-16,-16,-16,16,-16,-16,-16,16,-16,-16,-16,16,-16,-16,16,-16,16,-16,16,-16,16,16,16,16,-16,-16,16,-16,16,16,-16,16,-16,-16,-16,16,16,16,-16,16,-16,16,-16,-16,-16,16,-16,16,16,-16,-16,-16,-16,16,16,-16,-16,16,16,-16,16,-16,-16,16,-16,-16,-16,-16,16,16,-16,-16,16,-16,-16,-16,-16,-16,16,16,16,-16,16,-16,-16,-16,-16,16,16,-16,-16,16,-16,16,16,-16,-16,16,-16,-16,-16,16,16,-16,-16,-16,16,16,16,16,16]
[16,16,16,-16,16,-16,-16,-16,-16,16,-16,-16,16,16,-16,16,16,16,16,16,16,16,-16,-16,16,-16,-16,16,16,-16,-16,-16,-16,16,-16,-16,16,-16,16,-16,-16,16,-16,-16,-16,16,-16,16,-16,-16,16,16,16,16,-16,-16,-16,16,-16,16,-16,16,-16,16,16,-16,-16,-16,-16,-16,-16,16,16,16,-16,16,-16,16,16,-16,16,-16,-16,-16,-16,-16,-16,16,-16,-16,-16,-16,16,-16,-16,16,16,-16,-16,16,-16,16,16,-16,-16,16,16,-16,16,16,16,16,16,-16,-16,-16,-16,16,-16,-16,16,16,-16,-16,16,-16,-16,16]
[16,-16,16,16,-16,16,-16,16,16,16,16,-16,16,-16,16,-16,-16,16,16,16,-16,16,16,16,-16,-16,16,16,16,-16,-16,-16,16,-16,16,16,-16,16,16,16,-16,-16,-16,-64,-16,16,-16,-16,-16,-16,16,16,16,16,16,-16,-16,-16,16,-16,-16,-16,16,16,16,-16,-16,-16,16,16,-16,-16,-16,-16,16,-16,-16,16,16,16,16,16,-16,-16,-16,-16,-16,16,-16,-16,-16,-16,16,-16,-16,-16,16,16,-16,-16,-16,16,16,-16,16,-16,-16,16,16,16,16,-16,-16,-16,16,-16,16,-16,16,-16,-16,16,-16,-16,16,-16,-16,-16]
[16,-16,16,-16,16,16,-16,16,-16,16,-16,16,-16,-16,-16,-16,-16,-16,16,-16,16,-16,16,-16,-16,16,-16,-16,-16,-16,-16,-16,16,16,16,-16,16,16,-16,-16,-16,-16,16,16,-16,16,-16,16,-16,-16,16,-16,16,-16,16,-16,-16,16,-16,16,-16,16,16,16,-16,16,-16,16,16,16,-16,-16,16,-16,-16,16,16,-16,16,-16,-16,-16,16,-16,16,16,-16,-16,16,16,-16,16,-16,-16,-16,-16,16,16,-16,-16,16,16,-16,16,-16,16,16,-16,-16,-16,16,16,-16,16,16,16,16,-16,-16,16,16,16,-16,-16,16,16,16,16]
[-16,-16,-16,16,-16,-16,-16,-16,16,16,-16,16,-16,16,16,-16,-16,-16,16,-16,16,16,-16,-16,16,16,-16,16,-16,16,-16,-16,16,16,16,16,16,16,16,-16,-16,-16,-16,-16,-16,16,16,16,16,-16,-16,-16,16,-16,-16,16,-16,-16,-16,16,-16,-16,16,-16,-16,-16,-16,-16,-16,-16,-16,-16,-16,16,-16,-16,16,-16,-16,-16,-16,-16,-16,-16,16,-16,16,-16,16,16,-16,-16,-16,-16,-16,16,16,-16,-16,-16,16,16,16,-16,-16,-16,16,16,-16,-16,-16,-16,-16,16,-16,16,16,-16,-16,16,16,16,-16,-16,-16,-16,16,-16]
[16,-16,16,16,-16,-16,-16,-16,-16,-16,-16,16,-16,16,-16,16,-16,-16,-16,-16,16,-16,-16,-16,-16,-16,16,-16,16,-16,16,16,16,-16,16,-16,-16,-16,-16,16,-16,16,-16,-16,-16,16,-16,16,-16,-16,16,16,16,-16,16,-16,-16,16,-16,16,-16,-16,-16,16,-16,16,-16,16,16,16,16,16,16,16,-16,-16,16,16,16,-16,-16,16,-16,-16,-16,16,16,16,16,-16,16,-16,16,16,16,-16,16,-16,-16,16,16,-16,-16,-16,-16,-16,-16,16,-16,16,16,-16,16,-16,16,-16,-16,16,-16,16,-16,16,-16,-16,16,16,-16,16]
[16,16,16,16,-16,-16,-16,16,-16,16,16,16,-16,-16,-16,16,16,-16,16,16,16,16,16,-16,-16,-16,16,16,-16,16,16,-16,16,16,16,-16,16,16,16,16,-16,-16,16,16,-16,16,-16,16,-16,-16,-16,16,16,16,16,16,-16,16,16,-16,16,-16,-16,-16,16,-16,-16,-16,16,-16,16,-16,-16,16,-16,16,16,16,16,16,16,16,16,-16,16,-16,-16,16,16,16,16,16,-16,16,-16,-16,-16,-16,-16,-16,16,-16,-16,16,16,16,64,16,16,16,16,16,-16,16,-16,-16,-16,-16,-16,16,16,-16,-16,-16,16,-16,16,-16]
[16,-16,-16,-16,-16,16,-16,16,-16,-16,16,-16,-16,-16,16,-16,16,16,-16,-16,16,-16,-16,16,-16,-16,16,-16,-16,16,-16,-16,-16,-16,-16,-16,16,16,-16,16,16,-16,16,-16,16,-16,16,-16,16,-16,-16,-16,16,-16,16,-16,16,16,16,16,16,-16,-16,-16,16,-16,16,16,-16,16,-16,16,-16,16,16,-16,16,-16,16,16,16,-16,-16,16,16,-16,16,16,-16,16,-16,16,-16,-16,16,16,-16,-16,-16,16,-16,16,-16,16,16,16,-16,-16,16,-16,-16,-16,-16,16,-16,-16,-16,-16,16,16,-16,16,16,-16,16,-16,-16,-16]
[16,16,16,-16,16,16,16,16,16,-16,-16,16,-16,16,-16,-16,-16,16,16,-16,-16,16,-16,16,16,-16,16,-16,16,-16,-16,-16,16,-16,16,-16,16,16,16,16,16,16,16,16,-16,-16,16,16,-16,16,16,16,-16,16,-16,-16,16,-16,-16,-16,16,16,16,-16,-16,-16,-16,-16,16,-16,-16,-16,16,-16,16,-16,16,16,16,16,-16,16,-16,-16,16,-16,-16,-16,-16,16,16,-16,16,-16,-16,16,-16,-16,-16,-16,16,-16,-16,16,16,16,-16,16,-16,16,-16,-16,16,-16,16,16,16,-16,-16,-16,-16,-16,16,16,-16,16,16,16]
[-16,-16,-16,-16,-16,-16,16,-16,-16,-16,-16,-16,16,-16,-16,-16,-16,-16,-16,16,16,-16,-16,16,-16,-16,16,-16,16,-16,16,16,16,-16,16,16,16,16,-16,16,-16,16,-16,16,-16,16,16,16,16,16,-16,-16,-16,16,-16,-16,-16,16,16,-16,-16,16,-16,16,-16,16,-16,-16,16,-16,16,16,16,-16,16,16,16,16,16,16,16,-16,-16,16,-16,16,16,-16,16,16,16,16,16,16,16,-16,16,-16,16,-16,-16,16,16,-16,16,-16,-16,-16,16,-16,-16,-16,16,16,64,16,16,-16,-16,16,16,-16,16,-16,-16,-16,16,-16]
[16,16,-16,16,-16,16,-16,16,-16,-16,16,-16,16,16,-16,16,16,16,-16,16,-16,-16,-16,16,-16,-16,-16,-16,16,16,-16,16,16,-16,-16,-16,16,16,-16,16,-16,16,-16,16,-16,-16,-16,16,16,16,-16,-16,16,16,-16,-16,16,16,16,-16,-16,16,-16,16,16,-16,16,16,-16,-16,16,-16,-16,-16,16,-16,16,16,-16,-16,16,-16,-16,-16,16,16,16,-16,-16,-16,16,16,16,-16,-16,16,16,-16,16,16,-16,-16,-16,-16,-16,16,-16,-16,16,-16,-16,-16,16,-16,16,16,-16,16,16,-16,-16,-16,16,-16,-16,16,-16,16]
[16,-16,16,-16,16,-16,-16,-16,16,16,-16,-16,16,-16,-16,16,16,-16,16,16,16,-16,16,-16,-16,-16,16,16,-16,16,16,-16,64,16,16,16,-16,-16,-16,16,-16,16,-16,-16,-16,16,16,16,-16,-16,-16,16,-16,-16,16,-16,-16,-16,-16,16,16,-16,-16,-16,-16,16,-16,-16,-16,16,16,-16,16,16,16,16,-16,16,-16,16,-16,-16,16,-16,-16,16,-16,-16,16,-16,16,16,16,-16,16,16,-16,16,16,16,-16,-16,-16,16,-16,16,16,16,16,16,64,16,16,16,-16,16,16,-16,16,-16,-16,-16,-16,16,16,16,16,16]
[16,-16,16,-16,-16,-16,16,16,-16,16,-16,16,-16,-16,16,-16,16,-16,-16,-16,-16,-16,16,-16,-16,16,16,16,-16,-16,-16,-16,16,16,-16,16,16,16,16,-16,-16,16,-16,16,16,16,-16,-16,-16,-16,-16,-16,-16,-16,16,-16,16,-16,-16,-16,16,16,16,-16,-16,-16,-16,-16,-16,16,-16,-16,-16,16,-16,16,16,16,16,16,-16,-16,16,-16,-16,16,-16,-16,16,16,-16,16,16,-16,-16,16,-16,16,16,-16,-16,-16,-16,-16,16,16,-16,-16,-16,16,16,-16,-16,-16,16,16,-16,16,-16,-16,-16,-16,-16,16,16,-16,-16,-16]
[16,16,-16,16,-16,-16,-16,16,16,-16,-16,-16,16,-16,-16,16,16,-16,16,16,-16,16,-16,-16,-16,-16,-16,-16,-16,16,-16,16,-16,-16,-16,-16,16,16,16,-16,16,-16,-16,16,-16,-16,-16,16,16,-16,-16,-16,16,-16,-16,16,16,16,-16,-16,-16,16,-16,-16,-16,-16,16,16,-16,-16,-16,16,-16,-16,16,-16,16,-16,16,-16,16,-16,-16,-16,16,-16,-16,16,16,16,-16,-16,64,-16,-16,-16,-16,16,16,-16,16,-16,-16,16,16,16,-16,16,16,16,-16,16,16,16,16,-16,-16,-16,16,-16,-16,-16,16,-16,-16,-16,-16,-16]
[-16,-16,-16,-16,-16,16,-16,16,16,16,16,16,16,16,-16,16,16,-16,16,-16,16,16,16,-16,16,16,-16,-16,16,16,16,-16,16,-16,16,-16,16,16,16,-16,16,16,16,-16,16,-16,16,-16,16,-16,-16,-16,-16,16,-16,-16,-16,16,16,16,16,-16,16,-16,-16,16,16,-16,16,16,-16,-16,16,16,16,-16,16,16,16,16,16,16,-16,16,-16,16,16,16,16,16,16,16,16,16,-16,-16,-16,-16,16,-16,16,16,-16,16,16,16,-16,16,-16,-16,16,-16,16,16,16,-16,-16,-16,-16,-16,-16,-16,-16,16,16,-16,16,16]
[-16,-16,-16,16,16,-16,16,16,16,-16,16,-16,-16,-16,16,16,-16,16,16,16,16,-16,16,16,16,16,-16,16,16,16,-16,16,16,16,-16,-16,16,16,-16,16,16,16,16,16,16,16,-16,-16,16,16,16,-16,-16,16,16,-16,-16,-16,16,-16,-16,-16,16,-16,-16,-16,16,16,-16,16,16,16,16,-16,-16,-16,16,-16,-16,-16,-16,16,16,-16,-16,-16,16,16,16,16,-16,16,-16,-16,-16,-16,-16,16,-16,16,16,16,16,16,-16,16,-16,-16,16,16,-16,-16,-16,16,16,16,16,-16,-16,-16,16,16,16,-16,16,-16,16,-16]
[-16,16,-16,16,-16,-16,-16,-16,-16,16,16,-16,-16,16,-16,-16,16,16,16,-16,16,-16,-16,-16,-16,-16,-16,-16,-16,16,16,16,16,16,-16,-16,-16,16,-16,16,-16,16,-16,16,16,16,16,16,-16,-16,-16,-16,-16,16,-16,-16,-16,16,-16,-16,16,-16,-16,-16,-16,-16,-16,16,16,-16,16,16,16,-16,16,16,16,-16,16,-16,16,16,-16,-16,16,16,16,16,-16,-16,16,-16,16,-16,16,-16,16,16,-16,16,-16,16,16,-16,16,-16,16,-16,-16,-16,-16,16,16,-16,16,16,-16,-16,16,-16,16,16,-16,16,-16,-16,-16,-16]
[-16,-16,16,-16,-16,16,-16,16,-16,-16,16,16,-16,16,16,16,-16,-16,-16,16,16,-16,16,-16,-16,16,16,-16,16,-16,-16,16,-16,16,-16,16,16,16,16,-16,16,-16,-16,-16,-16,16,-16,-16,16,-16,16,-16,16,-16,-16,-16,-16,16,16,-16,16,16,16,16,-16,16,16,-16,-16,-16,16,-16,16,-16,-16,16,16,16,16,16,-16,-16,-16,16,-16,-16,-16,16,-16,-16,16,-16,-16,16,16,-16,16,-16,-16,-16,16,16,-16,-16,-16,-16,16,-16,16,-16,-16,-16,-16,-16,16,16,16,-16,16,-16,16,-16,-16,-16,-16,-16,-16,16]
[-16,16,16,16,-16,16,-16,-16,16,16,16,16,-16,16,-16,-16,-16,16,16,16,-16,-16,-16,64,16,-16,16,16,16,16,-16,16,16,16,16,-16,-16,-16,16,16,16,-16,16,-16,-16,-16,-16,16,-16,-16,-16,-16,16,-16,16,-16,-16,-16,16,16,-16,-16,16,-16,-16,-16,-16,-16,-16,16,16,16,16,16,-16,-16,16,16,-16,-16,16,-16,16,-16,-16,-16,-16,16,16,16,-16,16,-16,-16,16,-16,-16,-16,-16,16,-16,16,16,-16,-16,16,16,16,-16,16,16,-16,-16,-16,-16,-16,-16,-16,-16,-16,16,16,-16,-16,-16,16,-16,-16]
[-16,16,16,16,16,-16,-16,16,-16,16,16,-16,16,-16,-16,-16,-16,16,-16,-16,-16,16,16,-16,-16,-16,16,16,16,-16,16,-16,16,-16,-16,16,-16,-16,-16,-16,16,16,-16,16,-16,16,16,16,16,-16,16,16,-16,16,-16,-16,-16,-16,-16,16,-16,16,-16,-16,-16,-16,16,-16,-16,16,-16,16,-16,-16,16,16,-16,16,-16,-16,-16,16,-16,-16,16,16,16,-16,-16,-16,-16,16,-16,-16,-16,16,-16,-16,-16,-16,-16,-16,16,16,16,-16,16,16,16,16,16,16,16,-16,-16,-16,16,-16,16,16,-16,-16,16,16,-16,16,16,16]
[-16,16,16,16,-16,16,16,16,16,-16,-16,16,16,-16,-16,-16,16,-16,16,-16,-16,16,-16,16,16,16,-16,-16,-16,16,-16,16,16,-16,16,-16,16,16,-16,-16,16,16,-16,16,-16,-16,16,16,16,-16,16,16,-16,16,16,-16,-16,16,16,-16,16,-16,-16,-16,16,16,-16,16,-16,16,-16,-16,16,-16,-16,-16,16,-16,64,-16,16,16,-16,-16,-16,-16,16,16,16,64,16,-16,16,16,-16,-16,-16,-16,-16,-16,16,16,-16,-16,16,16,-16,-16,16,-16,-16,16,-16,-16,16,16,-16,-16,16,-16,-16,-16,16,16,16,16,-16,-16]
[-16,-16,16,-16,-16,-16,-16,16,16,16,-16,-16,-16,16,-16,-16,16,16,16,16,-16,16,16,-16,16,-16,-16,16,16,-16,16,16,16,16,16,16,16,16,-16,-16,-16,16,-16,-16,16,-16,16,16,-16,-16,16,16,-16,-16,-16,16,-16,-16,-16,-16,16,16,16,16,-16,-16,-16,16,-16,16,-16,-16,-16,16,16,-16,16,16,16,-16,-16,-16,16,-16,16,16,-16,16,16,-16,-16,-16,-16,16,-16,-16,-16,-16,16,-16,-16,-16,-16,16,16,-16,16,16,16,16,16,-16,16,-16,-16,-16,16,16,16,16,16,16,16,-16,16,64,-16,-16]
[-16,-16,-16,16,-16,16,16,-16,16,16,-16,-16,16,-16,16,16,-16,-16,16,-16,16,16,-16,-16,-16,16,16,-16,16,-16,-16,16,16,-16,-16,-16,16,16,-16,-16,16,16,-16,-16,-16,16,-16,-16,16,-16,-16,-16,-16,16,-16,16,-16,-16,-16,-16,16,16,16,16,16,-16,16,16,16,-16,16,16,16,16,16,-16,16,-16,16,16,16,-16,16,-16,-16,16,-16,16,-16,-16,16,16,16,16,-16,-16,-16,16,16,-16,-16,16,-16,16,16,16,-16,-16,-16,-16,-16,-16,-16,-16,16,-16,-16,16,16,16,16,16,16,-16,16,-16,-16,-16]
[-16,16,-16,16,-16,-16,16,16,-16,-16,-16,16,-16,-16,-16,16,16,16,16,16,16,16,-16,16,-16,-16,-16,-16,16,16,16,16,16,-16,-16,-16,16,-16,-16,-16,-16,16,-16,-16,-16,-16,-16,16,16,-16,16,-16,-16,-16,-16,-16,-16,-16,16,16,-16,16,16,16,-16,-16,-16,-16,-16,-16,16,-16,16,-16,16,16,16,-16,-16,16,16,16,-16,-16,16,16,16,-16,-16,-16,16,16,16,-16,-16,-16,-16,-16,-16,16,-16,16,16,16,-16,16,-16,-16,-16,-16,16,-16,16,-16,-16,16,-16,16,-16,16,16,16,-16,16,-16,-16,16,16]
[-16,-16,16,16,-16,16,-16,16,-16,16,-16,-16,-16,16,16,16,16,16,-16,-16,-16,16,-16,16,-16,-16,16,16,16,16,-16,-16,-16,16,16,16,16,16,-16,16,-16,-16,-16,16,16,-16,-16,16,-16,-16,-16,16,16,16,16,16,16,16,16,-16,-16,16,16,-16,16,16,-16,16,16,16,16,-16,-16,-16,16,16,-16,-16,16,-16,-16,16,-16,16,16,16,-16,16,-16,-16,-16,-16,16,16,-16,16,16,16,16,-16,16,-16,16,16,-16,-16,16,-16,16,16,-16,-16,16,16,-16,16,16,-16,-16,-16,-16,16,16,-16,-16,16,16,16]
[-16,-16,-16,16,-16,-16,16,-16,16,16,-16,16,16,-16,16,16,-16,16,16,-16,16,-16,-16,-16,-16,16,-16,-16,-16,-16,-16,16,16,16,-16,-16,-16,-16,-16,-16,-16,-16,-16,16,16,16,16,-16,-16,16,16,-16,16,-16,-16,16,16,16,-16,-16,16,-16,-16,16,16,-16,16,-16,-16,-16,16,16,16,16,-16,16,-16,-16,-16,16,-16,-16,16,16,-16,16,16,16,16,16,16,-16,16,-16,16,16,16,16,16,16,16,16,-16,16,16,-16,16,-16,-16,16,-16,16,16,16,-16,-16,16,16,16,16,16,16,-16,-16,16,-16,16,16]
[16,16,-16,-16,-16,16,16,16,-16,16,16,16,-16,-16,-16,16,16,-16,16,16,16,16,-16,-16,16,16,16,-16,-16,16,16,-16,-16,-16,16,-16,-16,16,16,-16,16,-16,16,16,16,16,16,16,-16,-16,-16,-16,-16,-16,16,-16,16,16,-16,16,16,16,16,-16,-16,-16,16,-16,-16,16,16,16,-16,-16,-16,-16,-16,-16,16,-16,-16,16,-16,-16,-16,-16,16,16,16,-16,16,16,16,16,16,16,16,-16,16,16,16,-16,16,16,-16,16,-16,16,-16,16,-16,-16,-16,-16,-16,16,-16,-16,-16,-16,16,-16,16,-16,16,-16,-16,-16]
[-16,16,-16,-16,-16,16,16,-16,16,16,-16,16,16,-16,16,16,16,-16,16,16,-16,16,16,16,16,16,-16,16,16,-16,-16,16,-16,16,16,16,16,-16,16,-16,-16,16,16,-16,-16,16,16,16,-16,-16,-16,16,-16,16,16,-16,16,-16,16,16,-16,-16,16,-16,-16,16,-16,-16,-16,16,-16,-16,16,-16,16,-16,-16,-16,16,-16,16,-16,16,16,16,16,16,16,16,-16,-16,16,16,-16,-16,16,16,-16,16,-16,16,16,-16,16,-16,16,16,16,16,16,16,-16,16,16,16,16,16,16,-16,16,16,-16,16,-16,-16,16,-16,16]
[-16,-16,16,16,-16,16,-16,16,16,-16,16,16,16,-16,-16,-16,-16,16,16,16,-16,-16,16,16,16,-16,-16,16,16,-16,-16,16,16,-16,16,-16,-16,16,-16,16,16,16,16,-16,16,-16,16,-16,16,16,-16,16,16,-16,-16,16,16,-16,16,16,16,16,-16,16,16,16,16,-16,-16,-16,16,-16,16,-16,-16,-16,16,-16,16,-16,-16,16,16,16,16,-16,16,16,16,-16,-16,-16,16,-16,16,16,16,16,16,16,-16,-16,-16,16,-16,-16,16,16,16,16,16,-16,16,16,-16,-16,16,-16,-16,-16,16,16,16,-16,16,-16,-16,-16]
[16,-16,-16,-16,-16,-16,16,-16,-16,16,-16,-16,-16,-16,16,16,-16,16,-16,-16,-16,16,-16,-16,16,16,16,16,-16,16,-16,16,-16,-16,-16,-16,-16,16,-16,16,-16,16,-16,16,16,-16,16,16,16,-16,16,16,16,-16,16,16,16,-16,16,-16,16,-16,-16,-16,-16,-16,16,-16,-16,16,16,16,16,16,-16,-16,-16,-16,16,-16,16,16,-16,16,-16,16,16,16,-16,16,-16,-16,-16,16,16,-16,-16,-16,16,-16,16,16,-16,16,-16,16,16,16,16,16,16,-16,-16,-16,-16,-16,-16,-16,-16,-16,16,16,16,-16,-16,16,-16,-16]
[-16,-16,16,-16,-16,-16,16,-16,16,-16,16,16,16,16,16,-16,-16,16,-16,16,16,-16,-16,-16,16,-16,-16,16,16,-16,-16,16,16,-16,16,-16,16,-16,-16,16,-16,16,-16,-16,-16,16,-16,16,16,-16,16,16,-16,16,-16,16,16,-16,16,-16,16,-16,-16,16,-16,16,16,16,-16,16,16,-16,-16,-16,16,16,-16,16,-16,16,16,16,16,-16,-16,16,-16,-16,16,16,16,16,16,16,16,-16,-16,-16,-16,-16,16,16,-16,16,-16,16,16,-16,-16,-16,-16,16,-16,16,16,16,16,-16,-16,-16,16,-16,16,-16,-16,-16,-16,16]
[16,16,16,-16,-16,-16,16,-16,16,-16,-16,16,16,16,16,-16,16,-16,-16,-16,16,-16,-16,-16,16,-16,-16,16,-16,-16,16,16,-16,-16,16,16,16,-16,16,-16,-16,16,16,-16,16,16,16,-16,-16,-16,-16,-16,16,16,16,-16,16,16,-16,16,-16,16,-16,16,-16,16,16,16,-16,16,16,16,16,-16,16,16,16,-16,16,16,-16,-16,16,16,-16,-16,-16,-16,-16,16,-16,-16,16,16,16,16,16,-16,-16,-16,16,16,-16,-16,16,-16,-16,16,16,-16,-16,16,-16,-16,-16,-16,-16,-16,-16,-16,-16,-16,-16,-16,16,16,16,16]
[16,16,16,16,-16,-16,-16,-16,-16,16,16,16,-16,-16,16,16,-16,-16,-16,16,-16,-16,16,-16,16,16,-16,16,-16,-16,16,16,-16,16,-16,16,-16,16,16,-16,16,16,-16,-16,-16,16,16,-16,16,16,-16,-16,-16,-16,-16,-16,-16,16,16,-16,16,-16,-16,-16,-16,-16,-16,16,-16,-16,16,16,-16,-16,16,16,16,16,16,-16,16,16,-16,16,16,16,-16,16,-16,-16,16,16,-16,16,-16,-16,16,-16,16,16,16,16,16,-16,-16,-16,16,16,16,-16,16,16,16,16,16,-16,-16,-16,-16,-16,-16,16,16,-16,16,16,-16,-16]
[-16,16,16,16,16,-16,-16,-16,16,-16,16,16,16,-16,16,-16,-16,16,16,16,-16,16,-16,-16,-16,16,-16,-16,-16,16,-16,-16,-16,16,-16,-16,-16,16,16,-16,-16,-16,-16,16,16,16,16,-16,16,16,-16,-16,-16,16,16,-16,-16,-16,16,-16,-16,-16,-16,-16,-16,16,-16,16,-16,16,16,16,-16,16,-16,-16,-16,16,-16,16,16,-16,16,-16,16,-16,16,16,16,-16,-16,16,-16,16,-16,16,16,-16,16,-16,-16,16,16,16,16,-16,16,-16,16,-16,-16,-16,16,-16,16,-16,-16,16,-16,-16,16,-16,16,-16,-16,16,16,16]
[-16,16,-16,16,16,-16,16,16,-16,16,16,16,16,16,16,16,-16,-16,-16,-16,-16,16,16,16,-16,16,16,16,16,16,16,16,16,-16,-16,-16,16,16,16,-16,16,-16,16,-16,16,16,16,-16,16,-16,16,-16,-16,16,-16,-16,16,-16,16,16,16,16,16,16,-16,-16,16,-16,16,-16,16,16,-16,16,-16,16,16,16,-16,16,-16,-16,-16,-16,-16,-16,16,16,16,16,-16,-16,16,16,16,-16,16,-16,-16,16,-16,16,16,-16,16,-16,16,16,16,16,-16,16,16,-16,16,16,16,16,16,-16,16,-16,16,16,16,16,-16,-16]
[16,-16,-16,-16,16,-16,-16,16,16,-16,16,-16,-16,16,-16,16,16,-16,-16,16,16,-16,16,16,16,-16,-16,16,-16,-16,-16,-16,-16,16,16,16,-16,16,16,-16,-16,-16,-16,-16,16,16,16,16,-16,-16,-16,16,-16,-16,16,-16,-16,16,16,16,-16,16,16,16,-16,16,-16,-16,-16,16,-16,-16,-16,16,16,-16,-16,16,-16,16,16,-16,-16,-16,16,16,16,-16,-16,-16,16,-16,16,16,16,-16,-16,16,16,16,-16,-16,16,-16,-16,16,-16,16,16,16,16,16,-16,-16,-16,-16,-16,-16,-16,16,-16,-16,16,-16,16,16,-16,16]
[-16,16,-16,16,-16,-16,-16,16,-16,16,16,-16,-16,16,16,16,16,-16,-16,-16,-16,-16,-16,-16,-16,16,16,16,16,16,16,-16,16,-16,16,16,16,16,16,-16,16,16,-16,16,-16,16,16,16,16,-16,-16,-16,16,-16,-16,16,-16,16,16,-16,-16,-16,-16,16,16,16,-16,16,-16,16,16,16,16,16,16,16,-16,-16,-16,-16,-16,-16,-16,-16,16,-16,16,16,-16,-16,16,-16,-16,-16,16,-16,-16,16,16,-16,-16,16,16,-16,-16,16,-16,-16,16,16,-16,16,16,16,-16,-16,16,16,-16,16,-16,16,-16,-16,16,16,16,16]
[16,-16,16,16,-16,-16,16,-16,16,16,16,16,16,16,-16,16,-16,-16,-16,-16,16,-16,-16,-16,16,16,16,-16,-16,16,-16,16,-16,16,-16,16,-16,16,-16,-16,-16,16,-16,-16,-16,16,16,16,16,-16,-16,-16,-16,-16,-16,16,16,16,16,16,16,16,-16,16,-16,16,-16,-16,16,-16,-16,16,-16,-16,-16,16,16,-16,-16,-16,16,16,-16,16,-16,16,-16,16,16,-16,16,-16,16,16,16,-16,16,16,16,-16,-16,16,-16,16,-16,-16,16,-16,-16,-16,-16,16,16,-16,16,16,16,16,16,-16,-16,16,16,-16,-16,-16,-16,-16]
[16,16,-16,-16,16,-16,-16,-16,16,16,-16,-16,16,-16,-16,16,16,-16,16,-16,16,-16,16,16,-16,-16,-16,-16,-16,16,16,-16,16,16,16,-16,16,16,16,16,16,-16,-16,16,16,16,16,-16,-16,-16,-16,-16,-16,-16,16,-16,-16,-16,-16,16,-16,16,-16,-16,-16,-16,16,-16,-16,16,-16,-16,16,16,-16,16,-16,16,-16,-16,16,16,16,16,16,16,-16,-16,-16,-16,16,-16,-16,-16,-16,-16,-16,16,16,-16,16,-16,16,-16,16,16,16,16,16,-16,16,-16,-16,16,16,16,16,-16,-16,-16,-16,16,-16,-16,16,-16,16,16]
[16,-16,16,16,16,16,-16,-16,-16,16,16,-16,16,-16,-16,16,-16,16,16,16,16,16,16,-16,-16,16,-16,-16,16,-16,16,16,16,16,-16,-16,16,16,-16,16,16,16,16,16,16,16,16,-16,-16,16,16,16,16,-16,-16,-16,16,16,-16,-16,-16,-16,-16,-16,16,-16,16,-16,16,-16,16,64,-16,-16,16,-16,16,-16,-16,16,16,16,16,16,-16,16,-16,16,-16,-16,16,-16,16,-16,16,16,16,16,-16,16,16,16,-16,-16,-16,16,16,-16,16,-16,16,16,16,16,16,-16,-16,16,16,16,16,-16,-16,16,16,-16,-16,16]
[16,-16,16,-16,-16,-16,16,16,16,-16,16,16,-16,-16,16,-16,-16,-16,16,-16,-16,16,-16,-16,-16,16,-16,16,-16,-16,16,16,-16,-16,16,-16,-16,16,16,-16,-16,16,-16,16,-16,16,16,16,16,-16,16,16,16,16,16,-16,-16,-16,16,16,16,-16,-16,-16,16,16,16,-16,-16,16,16,16,-16,-16,-16,-16,16,16,-16,-16,16,-16,-16,-16,16,-16,16,-16,-16,-16,-16,16,16,-16,-16,16,16,-16,-16,-16,-16,16,-16,-16,16,16,16,16,16,16,16,-16,-16,-16,16,-16,16,-16,16,-16,-16,-16,16,-16,16,16,-16,16]
[16,-16,16,-16,16,16,16,-16,-16,16,16,-16,16,-16,-16,-16,-16,-16,-16,-16,-16,-16,16,-16,-16,16,-16,16,16,-16,16,-16,16,16,16,-16,16,-64,16,-16,-16,-16,16,-16,-16,-16,16,16,-16,-16,16,16,16,-16,16,-16,-16,16,-16,16,16,-16,16,16,16,16,-16,-16,-16,16,-16,16,-16,16,-16,-16,-16,16,16,16,16,-16,16,-16,16,-16,16,-16,16,16,-16,-16,16,-16,16,16,16,16,-16,-16,16,-16,-16,-16,-16,-16,-16,64,16,16,16,-16,16,16,16,-16,16,16,-16,-16,16,-16,-16,-16,-16,-16,16,16]
[-16,16,-16,16,16,-16,16,-16,-16,16,-16,-16,16,16,16,16,-16,-16,16,16,-16,-16,-16,-16,-16,16,-16,-16,16,16,16,-16,-16,16,16,16,-16,-16,16,16,-16,-16,16,16,16,-16,16,16,16,16,-16,16,-16,16,16,-16,-16,16,16,16,16,-16,16,-16,-16,16,-16,-16,-16,-16,16,-16,16,-16,-16,16,-16,16,-16,16,-16,-16,16,-16,16,16,16,16,-16,-16,-16,-16,16,16,-16,-16,16,-16,-16,16,16,-16,-16,-16,16,-16,-16,-16,16,-16,16,16,-16,16,-16,-16,16,-16,16,-16,-16,-16,16,16,-16,16,16,16]
[-16,16,16,-16,16,-16,16,-16,16,-16,16,16,-16,-16,-16,-16,-16,-16,16,-16,-16,16,16,16,-16,-16,-16,16,-16,16,16,16,16,16,-16,-16,16,-16,16,-16,-16,-16,16,16,16,16,-16,16,-16,16,-16,-16,16,-16,16,-16,16,16,16,16,-16,16,16,16,16,16,16,16,16,-16,16,-16,-16,16,16,-16,16,16,-16,-16,-16,-16,-16,-16,16,16,16,16,16,-16,-16,-16,16,-16,-16,-16,-16,-16,-16,16,-16,-16,16,16,16,-16,-16,-16,-16,-16,16,16,16,16,16,-16,16,16,16,-16,-16,-16,16,16,16,16,16,16]
[16,16,-16,-16,-16,16,-16,16,16,-16,16,-16,-16,-16,-16,-16,16,16,16,16,16,16,-16,16,16,-16,16,16,-16,-16,-16,-16,16,16,16,-16,16,16,16,16,16,-16,-16,-16,-16,16,16,16,-16,16,16,16,-16,16,16,-16,16,-16,16,16,16,16,16,-16,-16,16,16,-16,16,16,-16,16,16,16,16,-16,16,16,-16,16,16,16,-16,-16,16,-16,16,-16,-16,-16,-16,16,16,16,16,16,16,-16,16,-16,-16,-16,-16,-16,16,-16,-16,16,16,16,16,16,-16,-16,-16,16,-16,-16,-16,-16,-16,16,16,16,16,-16,16,16]
[-16,-16,16,16,-16,-16,-16,16,16,16,-16,-16,-16,16,16,16,16,-16,16,-16,-16,-16,16,16,16,16,16,16,-16,16,16,16,16,16,16,16,16,16,-16,-16,16,-16,-16,16,16,16,-16,16,16,16,-16,16,-16,16,-16,-16,16,-16,16,-16,16,16,16,64,-16,-16,16,-16,16,16,16,16,16,-16,-16,-16,16,16,16,-16,16,16,16,16,-16,16,-16,16,16,16,16,16,-16,-16,-16,-16,-16,16,16,16,-16,-16,-16,-16,16,16,16,-16,-16,16,16,16,16,16,16,16,16,-16,-16,-16,-16,16,16,-16,-16,-16,16,-16]
[16,16,-16,16,16,16,16,16,-16,-16,16,16,16,-16,16,-16,-16,-16,-16,16,16,-16,-16,-16,-16,-16,-16,-16,16,16,16,-16,-16,-16,16,16,16,-16,16,-16,-16,-16,-16,-16,-16,16,16,16,-16,16,16,16,16,-16,16,16,16,16,16,-16,16,16,16,16,16,-16,-16,-16,16,16,16,16,-16,-16,16,16,16,16,-16,16,-16,16,-16,16,16,-16,16,-16,16,-16,-16,-16,16,16,-16,16,-16,-16,16,16,16,-16,16,16,-16,-16,-16,-16,-16,16,16,16,16,-16,16,-16,-16,-16,16,-16,-16,-16,16,16,-16,16,-16,-16]
[-16,16,16,-16,-16,-16,16,16,-16,16,16,-16,-16,-16,-16,16,-16,-16,-16,16,-16,-16,-16,16,16,16,16,-16,16,-16,16,-16,-16,16,-16,-16,16,16,16,-16,-16,-16,16,16,-16,-16,16,16,16,-16,-16,16,16,16,16,-16,-16,16,16,-16,-16,-16,-16,16,16,-16,-16,16,16,-16,-16,-16,-16,16,16,-16,-16,16,-16,-16,16,-16,-16,-16,16,-16,16,16,-16,16,-16,-16,16,16,16,16,16,-16,16,-16,-16,16,-16,-16,16,-16,16,16,16,16,-16,16,16,-16,-16,-16,-16,-16,-16,-16,-16,-16,16,16,-16,16,16,-16]
[-16,16,16,-16,16,-16,-16,16,16,16,-16,16,16,16,-16,16,16,16,16,16,16,16,16,-64,-16,-16,16,16,-64,16,-16,16,16,-16,16,16,16,-16,-16,16,-16,16,-16,-16,16,-16,-16,-16,16,-16,16,16,-16,16,16,-16,16,-16,-16,-16,-16,-16,-16,-16,-16,16,16,-16,16,16,-16,-16,-16,-16,-16,16,16,16,16,-16,-16,-16,16,16,-16,16,-16,-16,16,16,-16,16,-16,-16,-16,16,-16,16,16,16,-16,-16,-16,-16,16,16,-16,-16,16,16,16,-16,-16,16,-16,16,16,-16,16,-16,-16,16,-16,16,16,-16,-16,-64]
[-16,-16,-16,16,-16,-16,-16,16,-16,-16,64,16,-16,-16,16,-16,16,16,64,-16,16,16,-16,-16,16,-16,-16,16,-16,16,-16,16,-16,-16,16,16,-16,-16,16,-16,-16,16,-16,16,-16,16,-16,-16,-16,16,16,-16,-16,-16,-16,16,-16,16,-16,-16,-16,-16,-16,16,16,16,-16,-16,16,-16,16,16,-16,-16,-16,16,-16,-16,-16,-16,16,16,-16,-16,-16,-16,16,-16,16,16,16,16,-64,-16,64,-16,16,16,-16,16,16,-16,16,-16,-16,-16,-16,16,-16,16,16,16,-16,16,-16,-16,-16,-16,-16,16,16,-16,16,16,-64,-16,16,-16]
[16,16,-16,-16,-16,-16,-16,-16,16,16,-16,-16,-16,-16,16,16,16,-16,-16,16,-16,16,16,-16,16,16,16,16,16,-16,-16,16,-16,16,16,-16,16,-16,16,-16,-16,16,-16,-16,-16,16,16,-16,-16,-16,-16,-16,-16,16,16,16,-16,-16,-16,-16,-16,16,16,16,16,-16,-16,-16,16,-16,16,16,-16,16,-16,-16,16,-16,-16,-16,-16,16,16,16,-16,-16,16,16,16,-16,16,-16,-16,16,16,16,16,16,-16,-16,16,16,-16,16,-16,-16,-16,16,16,16,16,16,16,16,16,16,16,16,16,16,-16,-16,-16,-16,-16,16,16,-16]
[16,16,16,-16,-16,-16,-16,-16,16,16,16,16,-16,16,-16,-16,-16,-16,-16,-16,16,-16,16,-16,-16,-16,-16,-16,16,-16,16,-16,16,16,16,16,-16,16,16,16,16,16,-16,-16,16,16,16,-16,-16,16,16,16,16,-16,16,16,16,16,-16,-16,16,16,16,-16,-16,16,-16,-16,-16,16,-16,-16,16,16,16,-16,16,16,16,-16,16,16,-16,-16,16,16,16,16,-16,-16,-16,16,-16,-16,16,-16,16,16,-16,16,-16,-16,-16,-16,-16,-16,16,-16,16,16,16,-16,-16,16,-16,-16,16,16,-16,-16,16,16,-16,-16,-16,16,-16,16]
[-16,64,16,16,16,-16,16,16,16,16,-16,-16,16,16,-16,16,16,16,16,16,-16,16,-16,16,16,16,16,16,-16,16,-16,16,-16,-16,-16,-16,16,16,16,16,16,16,-16,16,-16,-16,16,-16,-16,16,-16,16,16,16,16,16,-16,16,16,16,-16,16,16,-16,-16,-16,16,-16,-16,-16,-64,16,-16,16,-16,-16,-16,16,16,16,16,16,16,-16,16,-16,-16,16,-16,-16,16,-16,16,16,-16,-16,-16,16,16,-16,-16,16,16,16,-16,-16,16,16,16,-16,-16,-16,16,16,-16,16,-16,16,16,16,-16,16,16,64,16,16,16,16]
[16,-16,-16,-16,16,-16,16,16,16,-16,16,16,-64,-16,-16,-16,-16,16,16,16,16,16,16,16,-16,-16,-16,16,16,-16,-16,-16,16,-16,-16,16,16,16,16,16,16,64,-16,16,16,16,16,16,16,-16,-16,-64,-16,16,16,16,-16,16,-16,-16,-16,-16,16,16,16,-16,-16,16,16,-16,64,16,-16,16,-16,16,16,16,16,16,-16,-16,16,16,-16,-16,16,-16,16,16,-16,-16,-16,-16,16,-16,16,16,-16,16,-16,16,16,-16,-16,-16,-16,16,-16,16,-16,16,-64,16,16,16,-16,-16,-16,16,16,16,-16,16,-16,-16,16,16]
[-16,-16,-16,16,16,-16,16,16,-64,-16,16,64,-16,-16,-16,-16,16,-16,16,-16,64,-16,16,-16,-16,-16,-16,16,-16,16,16,16,16,-16,16,-16,16,16,-16,16,16,64,-16,16,-16,16,-16,-16,16,16,-16,-16,16,-16,-16,-16,16,16,-16,-16,16,16,-16,16,16,-16,-16,16,16,16,64,-16,16,-16,-16,64,16,-16,-16,-16,16,-16,-16,-16,-16,64,16,-16,16,16,16,-16,16,-16,16,16,16,16,-16,16,-16,-16,16,-16,-64,16,-16,-16,-16,-16,16,16,16,16,-16,-16,-16,-16,-16,-16,-16,16,-16,16,-16,-16,16,-16]
[-16,-16,-16,-16,-16,16,16,-16,16,16,16,16,16,-16,16,16,16,-16,-16,-16,-16,16,-16,16,-16,16,16,-16,16,-16,-16,16,-16,-16,16,16,16,16,-16,16,-16,-16,16,-16,-16,16,16,-16,-16,-16,-16,-16,16,-16,-16,-16,-16,-16,-16,-16,16,16,-16,16,16,-16,-16,16,16,-16,16,16,16,-16,16,16,-16,-16,16,16,16,16,-16,-16,16,16,16,-16,16,-16,16,-16,-16,16,16,16,16,-16,-16,16,16,-16,16,16,-16,-16,16,16,-16,16,16,-16,16,16,-16,-16,-16,-16,16,-16,16,-16,16,-16,-16,16,16,16]
[-16,16,-16,16,16,-16,16,16,16,-16,-16,-16,16,16,-16,16,-16,-16,16,-16,16,-16,-16,-16,-16,16,-16,-64,16,16,16,-16,16,-16,-16,-16,-16,16,-16,16,16,16,-16,16,16,-16,-16,16,16,16,-16,16,-16,16,-16,-16,16,16,16,-16,-16,-16,-16,-16,16,16,-16,16,-16,-16,16,-16,16,-16,-16,16,16,-16,16,-16,16,16,-16,-16,-16,16,16,-16,-16,-16,16,-16,16,16,-16,16,-16,16,16,16,-64,16,-16,64,16,16,-16,-16,16,-16,-16,16,16,16,16,16,-16,-16,16,-16,-16,-16,16,16,-16,-16,-16,-16]
[-16,16,-16,-16,16,-16,-16,16,16,-16,-16,16,16,16,-16,16,16,64,-16,-16,16,-16,-16,16,-16,16,-16,16,-16,-16,16,16,16,16,16,16,16,16,16,16,-16,-16,-16,16,-16,-16,-16,16,-16,-16,16,16,-16,16,-16,16,16,-16,-16,-16,-16,-16,-16,-16,-16,-16,16,-16,-16,64,-16,-16,-16,16,16,16,-16,16,-16,-16,-16,-16,-16,-16,-16,16,16,-16,-16,16,16,16,16,-16,16,16,16,16,16,16,16,-16,-16,-16,-16,16,-16,16,-16,-16,16,-16,64,16,-16,16,-16,16,16,-16,-16,16,-16,16,16,16,16,16]
[16,-16,16,-16,-16,16,-16,-16,16,16,16,-16,16,16,16,-16,16,-16,16,-16,-16,16,-16,-16,16,-16,16,-16,16,-16,-16,16,16,16,-16,16,16,16,16,16,16,16,-16,-16,-16,-16,16,-16,-16,16,-16,-16,-16,-16,16,-16,16,16,-16,-16,16,-16,16,-16,-16,-16,16,-16,-16,-16,-16,16,16,-16,-16,16,16,16,16,16,-16,-16,-16,-16,-16,16,-16,-16,16,-16,16,-16,16,-16,16,-16,-16,16,-16,-16,-16,16,16,16,-16,16,-16,16,-16,16,16,16,16,16,-16,16,16,16,16,16,-16,16,16,16,-16,-16,-16,-16]
[-16,16,-16,16,16,16,-16,-16,16,16,16,-16,-16,-16,-16,16,-16,16,16,-16,-16,16,-16,-16,16,16,16,16,-16,16,-16,16,-16,-16,-16,16,-16,-16,-16,-16,-16,16,-16,16,-16,-16,16,16,16,16,16,16,16,16,16,16,16,16,16,-16,-16,-16,-16,16,16,16,16,-16,16,-16,-16,16,-16,-16,-16,-16,-16,-16,-16,16,16,-16,16,-16,-16,-16,16,16,-16,16,-16,16,16,-16,-16,-16,16,16,16,-16,-16,-16,-16,16,16,-16,16,-16,-16,-16,-16,16,-16,-16,16,16,16,-16,16,-16,-16,16,16,16,16,16,16,-16]
[16,16,-16,-16,16,-16,16,-16,-16,16,-16,16,16,16,-16,16,-16,16,16,16,16,16,-16,16,-16,-16,16,16,-16,-16,16,16,16,16,16,-16,-16,16,16,-16,-16,-16,16,16,-16,16,16,-16,-16,16,16,-16,-16,16,-16,-16,16,16,-16,16,-16,16,-16,-16,-16,16,16,-16,16,16,16,-16,-16,-16,16,16,-16,-16,-16,-16,-16,16,16,16,16,16,16,16,16,16,16,-16,-16,16,16,16,-16,16,-16,-16,16,16,-16,16,-16,-16,16,-16,-16,16,16,16,-16,16,-16,16,16,-16,16,-16,-16,16,16,-16,16,-16,16,16]
[-16,-16,-16,-16,-16,16,16,16,16,-16,16,16,-16,16,-16,-16,16,16,-16,16,16,16,-16,16,-16,-16,-16,-16,16,-16,-16,16,16,-16,-16,16,16,-16,-16,-16,-16,16,16,16,-16,16,-16,-16,16,16,16,-16,-16,-16,-16,16,-16,16,16,-16,16,-16,-16,-16,16,16,16,-16,16,16,16,-16,-16,-16,-16,-16,16,-16,16,-16,-16,-16,-16,-16,-16,16,16,-16,16,16,-16,-16,-16,16,16,-16,-16,-16,16,-16,-16,16,16,-16,16,16,-16,-16,-16,-16,-16,-16,16,16,16,16,16,-16,16,16,16,-16,-16,16,16,-16,-16,-16]
[-16,16,-16,16,16,-16,-16,-16,-16,-16,16,-16,16,16,16,-16,-16,16,16,16,-16,-16,-16,16,16,-16,-16,16,-16,16,-16,-16,-16,-16,16,16,-16,-16,16,-16,-16,-16,16,16,-16,-16,16,-16,-16,-16,16,16,16,16,-16,16,16,-16,16,16,16,16,-16,-16,16,-16,-16,-16,16,16,16,16,-16,-16,16,16,-16,-16,-16,-16,16,-16,16,-16,-16,-16,16,-16,16,16,-16,-16,16,16,16,16,16,16,-16,-16,16,16,-16,-16,16,16,-16,16,16,16,16,16,-16,16,-16,-16,-16,-16,-16,16,-16,-16,16,64,-64,16,16,16]
[16,16,-16,16,-16,16,16,16,-16,-16,16,16,-16,-16,-16,-16,-16,16,16,-16,-16,16,-16,-16,-16,16,16,-16,16,16,-16,16,16,-16,16,-16,16,16,-16,-16,-16,-16,16,-16,16,16,-16,-16,-16,16,-16,16,-16,-16,-16,16,16,-16,16,-16,16,16,-16,16,-16,-16,-16,16,-16,-16,-16,16,16,-16,-16,16,-16,-16,-16,16,-16,-16,16,-16,-16,-16,16,16,16,16,-16,16,-16,-16,-16,16,16,-16,16,16,-16,-16,16,-16,-16,-16,-16,-16,16,-16,16,16,16,16,16,16,-16,16,-16,-16,16,-16,-16,16,16,16,-16,-16]
[-16,16,-16,16,16,-16,-16,-16,-16,-16,16,-16,16,16,16,16,16,16,-16,16,16,-16,-16,16,-16,16,16,-16,-16,16,-16,-16,-16,16,-16,-16,16,16,-16,-16,-16,-16,-16,16,-16,-16,-16,16,-16,-16,-16,-16,16,-16,-16,-16,-16,-16,16,16,-16,-16,16,16,16,16,-16,16,-16,-16,-16,16,16,-16,-16,-16,-16,-16,16,-16,16,-16,16,16,-16,-16,-16,-16,-16,16,16,16,16,16,-16,-16,-16,16,16,-16,-16,-16,-16,16,16,16,-16,-16,-16,-16,-16,16,-16,16,-16,16,-16,-16,16,-16,16,-16,16,16,16,-16,-16,16]
[-16,16,-16,16,-16,16,16,-16,-16,16,16,16,16,16,-16,16,16,-16,16,-16,16,16,-16,-16,16,-16,16,-16,16,16,-16,16,16,-16,-16,16,16,16,-16,16,16,16,-16,16,-16,-16,16,-16,16,16,-16,16,16,16,-16,-16,-16,16,16,-16,16,16,16,16,16,16,16,-16,16,-16,-16,-16,-16,16,16,-16,16,16,16,-16,16,-16,-16,16,16,-16,16,16,16,-16,-16,16,16,-16,-16,16,-16,-16,-16,-16,16,16,16,16,16,-16,-16,-16,16,-16,-16,16,-16,16,-16,16,16,-16,16,16,16,-16,16,16,-16,-16,16,-16]
[-16,16,16,16,16,-16,-16,-16,16,16,16,-16,16,16,-16,16,16,16,16,-64,-16,16,-16,-16,-16,16,-16,-16,16,-16,16,16,16,16,16,16,16,-16,16,-16,-16,16,-16,-16,16,-16,16,-16,16,16,16,16,16,-16,16,-16,16,-16,-16,16,-16,16,-16,-16,-16,-16,-16,16,16,16,-16,16,16,16,16,16,-16,-16,-16,-16,-16,-16,-16,16,-16,16,-16,16,16,-16,16,-16,16,-16,-16,-16,16,16,-16,16,-16,16,-16,16,16,16,16,-16,16,16,-16,16,16,16,16,16,16,-16,-16,16,-16,-16,-16,-16,16,-16,16,16]
[-16,-16,16,16,-16,16,-16,16,-16,-16,16,-16,16,-16,16,-16,-16,16,-16,16,-16,16,-16,16,-16,16,-16,16,16,-16,-16,-16,16,16,16,-16,-16,16,-16,-16,16,16,-16,-16,-16,-16,-16,-16,-16,16,16,-16,-16,16,-16,-16,-16,16,-16,-16,16,16,-16,-16,-16,-16,-16,-16,-16,-16,16,16,16,-16,-16,16,-16,16,16,16,16,-16,16,16,16,-16,-16,16,-16,16,-16,-16,-16,-16,-16,16,-16,-16,16,16,16,16,16,16,16,-16,-16,16,16,16,-16,-16,-16,-16,16,-16,-16,16,16,16,-16,16,-16,16,16,16,-16,-16]
[-16,16,-16,-16,-16,-16,-16,16,16,-64,-16,16,16,-16,16,-16,16,-16,16,16,16,16,-16,-16,16,16,-16,-16,16,16,-16,16,16,16,-16,16,-16,16,-16,16,-16,16,-16,16,16,-16,16,16,16,-16,16,-16,-16,-16,-16,-16,-16,16,16,-16,-16,16,16,-16,16,16,-16,-16,-16,-16,-16,16,16,-16,-16,-16,16,16,16,-16,-16,-16,16,-16,-16,-16,16,-16,-16,16,16,16,16,-16,-16,16,-16,16,16,-16,-16,-16,-16,16,16,16,-16,-16,16,-16,-16,16,-16,16,16,16,-16,-16,16,-16,16,-16,16,16,16,-16,16,-16]
[16,16,-16,-16,16,16,-16,16,-16,-16,16,-16,16,16,-16,16,16,-16,16,16,16,16,-16,16,-16,-16,-16,-16,16,16,16,-16,16,-16,-16,16,16,-16,-16,16,-16,-16,16,16,16,16,-16,16,16,-16,-16,-16,16,16,-16,-16,-16,-16,-16,16,16,16,16,-16,-16,-16,-16,16,-16,16,16,-16,64,-16,16,16,-16,-64,-16,-16,16,-16,16,-16,16,16,-16,-16,-16,-16,16,16,16,-16,16,16,-16,-16,16,16,16,-16,16,-16,-16,16,-16,-16,-16,-16,-16,-16,-16,16,-16,16,-16,-16,16,16,16,-16,-16,16,16,16,-16,16]
[-16,-16,-16,-16,-16,16,16,-16,-16,-16,-16,-16,16,-16,-16,16,-16,-16,-16,16,16,-16,-16,16,-16,16,-16,-64,16,-16,-16,16,16,-16,16,-16,-16,16,-16,-16,-16,16,-16,-16,-16,16,-16,16,16,-16,16,-16,-16,16,-16,-16,-16,16,-16,-16,-16,-16,-16,64,16,16,-16,-16,-16,-16,16,-16,16,-16,16,-16,16,-16,16,16,-16,16,16,16,-16,16,-16,16,16,-16,16,-16,-16,-16,16,16,-16,-16,-16,16,-16,16,-16,16,16,-16,-16,-16,-16,-16,-64,-16,-16,-16,16,-16,-16,16,16,-16,16,16,-16,-16,16,-16,-16,-16]
[16,16,16,16,-16,-16,16,-16,16,-16,16,16,16,16,16,-16,-16,16,16,-16,16,-16,16,16,16,16,-16,16,-16,-16,16,-16,16,-16,-16,16,-16,-16,16,-16,16,16,-16,16,-16,-16,16,-16,-16,16,-16,-16,16,16,16,-16,16,-16,16,16,16,-16,-16,16,-16,-16,-16,16,-16,-16,-16,16,16,-16,16,16,-16,16,16,-16,-16,16,16,-16,16,16,-16,16,16,16,16,-16,-16,-16,16,-16,-16,16,-16,-16,-16,-16,16,16,16,-16,-16,-16,16,16,16,-16,-16,16,-16,16,-16,-16,-16,-16,16,-16,-16,16,-16,16,16,-16]
[-16,16,16,-16,-16,-16,16,16,-16,-16,16,16,16,16,16,-16,-16,-16,16,-16,-16,16,16,-16,-16,-16,16,16,16,-16,-16,16,-16,-16,16,16,16,-16,16,-16,-16,-16,16,-16,-16,-16,-16,16,-16,-16,16,16,-16,-16,-16,16,16,-16,-16,16,16,-16,-16,16,16,-16,-16,-16,-16,-16,16,-16,-16,16,-16,-16,16,16,-16,16,16,16,-16,-16,-16,16,16,16,16,-16,16,-16,-16,-16,-16,-16,16,16,-16,16,16,16,-16,-16,16,16,-16,16,16,16,16,16,-16,-16,16,16,-16,16,-16,16,16,-16,-16,16,16,-16,-16,-16]
[-16,16,-16,-16,-16,-16,-16,-16,-16,16,16,16,-16,-16,-16,-16,-16,-16,16,-16,16,-16,-16,-16,-64,-16,-16,-16,16,16,16,16,-16,-16,-16,16,16,-16,-16,16,16,-16,-16,16,-16,16,-16,-16,-16,-16,16,-16,-16,16,16,-16,16,16,-16,16,-16,-16,16,16,16,-16,-16,-16,-16,16,16,16,-16,16,-16,16,16,-16,-16,16,16,-16,16,-16,-16,16,16,16,-16,16,16,-16,16,-16,64,-16,16,-16,-16,16,-16,-16,-16,16,-16,-16,-64,16,-16,-16,-16,-16,16,16,16,-16,16,-16,-16,-16,-16,-16,-16,16,-64,16,16,16]
[16,-16,16,-16,-16,-16,16,-16,-16,-16,-16,16,16,-16,-16,16,-16,-16,16,-16,16,16,16,16,16,16,16,16,16,-16,16,16,-16,-16,-16,16,-16,16,16,16,16,16,-16,-16,16,16,16,-16,-16,-16,16,16,-16,-16,16,16,-16,-16,-16,16,-16,-16,16,16,16,-16,-16,16,16,16,-16,16,-16,-16,-16,-16,-16,16,16,16,-16,-16,-16,-16,16,-16,-16,16,16,16,-16,-16,16,-16,16,16,16,-16,16,16,16,-16,-16,16,16,16,16,16,-16,16,-16,16,-16,16,-16,-16,16,16,16,-16,-16,16,16,16,16,16,16,-16]
[16,-16,-16,-16,-16,16,16,-16,-16,16,16,-16,16,-16,16,16,-16,-16,-64,16,16,-16,-16,16,16,-16,-16,16,-16,-64,16,-16,16,16,-16,16,16,16,16,16,-16,-16,-16,-16,16,16,-16,16,-16,-16,16,16,-16,-16,16,16,-16,16,-16,16,-16,16,-16,16,16,-16,-16,16,16,16,16,16,16,16,16,-16,16,16,16,-16,-16,16,-16,16,-16,16,16,-16,-16,-16,-16,-16,16,-16,16,16,16,-16,-16,-16,-16,-16,-16,-16,16,-16,-16,16,-16,-16,-16,-16,16,16,16,-16,16,16,-16,-16,-16,16,16,-16,16,16,-16,16]
[-16,16,-16,-16,16,16,-16,16,64,-16,-16,16,16,-16,16,16,64,16,16,16,-16,16,-16,-16,16,-16,-16,-16,-16,16,-16,-16,-16,-16,16,-16,-16,64,-16,-16,16,16,16,16,16,-16,-16,-16,16,-16,16,16,-16,16,-16,-16,16,16,16,-16,-16,-16,-16,-16,-16,-16,16,-16,-16,16,-16,-16,-16,16,-16,-16,-16,16,64,-16,-16,16,16,-16,-16,-16,16,-16,-16,64,16,-16,16,-16,-16,-16,-16,-16,64,-16,-16,16,-16,16,16,16,-16,-16,16,-16,-16,-16,-16,16,-16,64,-16,-16,16,16,-16,-16,16,16,16,-16,-64,-16]
[-16,-16,-16,-16,-16,-16,16,16,64,-64,16,-16,-16,-16,-16,16,16,-16,16,16,16,-16,16,-64,16,16,-16,16,-16,16,-64,16,-16,-16,-16,-16,-16,16,-16,-16,16,16,16,64,16,16,16,-16,16,-16,-16,16,-16,16,16,16,-16,16,16,-16,-16,-16,16,-64,-16,-16,-16,16,-16,16,-16,16,-16,-16,-64,16,16,16,64,16,-16,16,-16,16,-16,-16,-16,-16,-16,16,-16,16,16,-16,-16,-16,-16,64,64,-16,-64,16,16,16,16,16,-16,-64,16,-16,-16,16,-16,16,16,64,-16,16,64,16,-16,-16,16,16,16,-16,16,-64]
[-16,-16,-16,16,-16,-16,-16,-16,-16,-16,16,-16,16,-16,16,-16,-16,-16,-16,-16,16,-16,-16,-16,-16,-16,16,-16,16,-16,-16,16,-16,-16,-16,16,16,-16,16,16,-16,16,-16,-16,-16,16,16,16,16,-16,16,-16,-16,-16,-16,16,16,-16,16,16,16,-16,-16,-16,-16,16,-16,16,-16,-16,16,-16,16,-16,-16,16,-16,16,16,-16,16,-16,-16,-16,-16,16,16,16,-16,-16,16,16,-16,16,-16,-16,-16,-16,-16,16,16,16,16,-16,16,-16,16,-16,16,16,-16,-16,16,-16,-16,-16,-16,-16,-16,16,-16,16,-16,16,-16,16,16,-16]
[-16,16,16,-16,16,16,-16,-16,-16,16,16,16,16,16,-16,16,-16,16,-16,-16,-16,-16,-16,16,16,16,-16,-16,16,-16,16,16,16,16,-16,16,-16,-16,16,-16,16,-16,-16,-16,-16,-16,-16,-16,16,-16,16,-16,16,16,16,-16,16,-16,-16,-16,-16,-16,-16,16,16,16,-16,-16,-16,-16,16,-16,16,-16,-16,16,-16,-16,-16,-16,16,-16,16,-16,16,-16,16,16,-16,-16,-16,-16,16,-16,-16,-16,16,-16,-16,-16,16,16,-16,16,16,-16,-16,-16,16,-16,-16,-16,16,-16,-16,-16,-16,-16,-16,-16,-16,-16,16,16,16,-16,-16,16]
[-16,-64,-16,-16,16,-16,-16,16,-64,-16,64,16,-64,-16,-16,-16,16,-16,16,-16,16,16,16,16,-16,-16,-16,16,-16,16,-16,-16,16,-16,16,16,-16,-16,-16,16,-16,16,-16,16,-16,16,-16,-16,-16,-16,16,-16,-16,16,16,16,16,16,-16,16,16,16,-16,-16,16,-16,-16,-16,16,16,16,16,16,-16,-16,16,-16,-64,16,16,-64,-16,-16,-16,-16,16,16,-16,16,16,16,16,-64,-16,16,-16,16,16,-16,16,16,-16,-16,-16,-16,16,-16,16,-16,16,16,-16,-16,16,16,16,16,-16,-16,-16,-16,16,-16,-16,-16,-16,16,-16]
[-16,16,-16,-16,16,-16,16,-16,16,16,-16,-16,-16,-16,-16,16,16,-16,16,-16,16,16,-16,16,-16,16,16,16,16,-16,16,-16,-16,16,-16,-16,16,-16,-16,-16,16,16,16,-16,16,16,-16,16,-16,16,-16,-16,16,16,16,-16,16,16,-16,16,16,-16,16,-16,16,16,16,16,16,16,16,16,16,16,16,-16,16,-16,16,16,16,16,-16,16,-16,16,-16,-16,-16,-16,16,-16,16,-16,-16,16,-16,-16,16,16,16,16,16,16,16,16,16,-16,-16,16,16,-16,-16,-16,16,16,16,16,16,16,16,16,-16,16,16,-16,-16,16]
[-16,16,16,16,16,-16,16,16,-16,16,64,16,-16,-16,-16,16,-16,16,16,-16,-16,-16,-16,-16,16,-16,16,16,16,16,-16,16,-16,-16,16,16,-16,-16,16,-16,16,-16,-16,-16,16,16,-16,16,16,-16,-16,-16,-16,-16,-16,-16,16,64,-16,-16,16,16,-16,16,16,-16,-16,-16,-16,16,-16,64,-16,16,-16,16,-16,16,-16,16,64,-16,-16,-16,-16,-16,-16,16,16,16,16,16,-16,16,64,-16,16,-16,-16,16,16,16,16,-16,-16,-16,-16,16,-16,16,-16,16,-16,-16,64,-16,16,16,-16,-16,-16,-16,16,-16,-16,-16,-16,16]
[-16,16,-16,-16,-16,16,-16,-16,16,16,16,16,16,-16,-16,16,-16,16,-16,-16,16,16,-16,16,16,16,-16,-16,-16,16,-16,-16,-16,-16,16,-16,-16,-16,-16,16,-16,16,16,16,-16,16,-16,-16,16,-16,-16,-16,16,-16,-16,-16,-16,16,-16,-16,-16,16,-16,16,16,16,-16,16,16,-16,16,-16,16,-16,16,-16,16,-16,16,16,-16,16,16,16,-16,-16,-16,-16,-16,16,-16,-16,-16,16,-16,-16,16,-16,-16,-16,16,16,16,-16,16,-16,16,16,-16,16,-16,-16,16,16,-16,-16,16,-16,16,-16,-16,16,16,16,-16,16,16,16]
[-16,16,-16,-16,16,-16,-16,-16,-16,-16,-16,16,64,16,16,16,16,16,-16,16,16,-16,-16,-16,-16,-16,16,-16,-16,16,16,16,-16,-16,-16,-16,16,-16,16,16,-16,-16,-16,16,-16,-16,-16,16,-16,-16,16,64,-16,-16,-16,16,-16,-16,-16,16,16,16,-16,-16,-16,-16,-16,-16,16,16,-16,-16,-64,-16,16,16,-16,16,16,16,16,16,-16,16,-16,16,-16,-16,-16,64,16,16,64,-16,-16,16,16,16,64,16,16,-16,-16,16,16,16,-16,16,16,-64,16,-16,16,64,-16,16,16,16,16,-16,-16,-16,16,16,16,16,-16,16]
[16,16,16,-16,-16,16,-16,-16,-16,16,-16,-16,16,-16,-16,-16,-16,-16,-16,-16,-16,-16,-16,-16,16,16,-16,16,-16,16,-16,-16,-16,-16,-16,-16,16,16,16,-16,-16,16,-16,-16,16,-16,16,-16,-16,-16,16,16,16,16,16,16,-16,-16,16,16,-16,16,16,16,16,-16,16,16,-16,-16,16,-16,16,16,-16,-16,-16,64,16,16,16,-16,-16,16,16,-16,16,16,16,16,-64,-16,-16,16,16,16,16,16,-16,-64,-16,-16,-16,-16,-16,-16,16,64,16,64,16,16,-16,-16,-16,-16,16,16,16,-16,-16,-16,16,16,-16,16,16,16]
[-16,-16,16,-16,-16,-16,-16,-16,16,-16,16,-16,16,-16,16,-16,16,16,-16,-16,16,-16,-16,16,16,-16,16,-16,16,16,-16,-16,16,16,16,-16,-16,-16,16,16,-16,16,16,16,16,16,16,16,-16,-16,16,16,-16,16,16,-16,-16,-16,16,16,16,16,-16,-16,16,-16,16,-16,16,16,16,16,16,-16,16,-16,16,-16,16,-16,-16,-16,16,-16,16,16,-16,-16,16,-16,-16,16,16,-16,-16,16,-16,-16,16,16,16,-16,-16,16,-16,-16,-16,16,-16,16,16,16,-16,16,-16,-16,16,16,-16,-16,16,16,16,-16,-16,16,16,-16]
[-16,16,16,-16,16,-16,16,-16,-16,-16,-16,16,-16,-16,16,-16,-16,-16,-16,16,16,-16,16,16,-16,-16,16,16,-16,-16,16,16,16,16,-16,-16,16,-16,-16,16,-16,-16,-16,16,-16,16,-16,-16,16,-16,16,16,-16,-16,16,-16,-16,-16,-16,16,-16,16,-16,16,16,-16,16,16,-16,16,16,-16,16,-16,16,16,-16,16,16,16,16,-16,-16,-16,16,16,-16,16,-16,-16,16,16,-16,-16,16,-16,-16,16,16,-16,16,-16,-16,-16,16,16,16,-16,16,16,-16,16,16,-16,-16,-16,-16,-16,-16,-16,16,-16,-16,-16,-16,-16,16,-16]
[-16,-16,16,-16,16,-16,-16,16,16,16,-16,-16,-16,16,-16,16,-16,16,16,-16,16,-16,16,16,-16,16,16,16,16,-16,16,16,16,16,16,16,-16,16,-16,16,-16,16,-16,16,-16,16,-16,16,16,-16,-16,16,-16,-16,-16,-16,16,16,16,-16,16,16,16,-16,16,16,-16,-16,-16,16,-16,-16,-16,-16,16,-16,16,16,-16,-16,16,-16,16,-16,-16,16,-16,16,16,16,16,-16,16,-16,16,16,16,16,16,16,16,16,16,16,16,-16,-16,-16,16,16,-16,-16,16,16,16,16,16,16,16,-16,-16,16,16,16,-16,-16,16,16]
[16,-16,16,16,-16,-16,-16,-16,-16,16,-16,-16,-16,16,-16,16,16,-16,16,-16,16,-16,-16,16,-16,16,-16,-16,-16,-16,16,-16,16,-16,-16,16,16,16,16,16,-16,16,-16,-16,-16,16,-16,-16,-16,16,16,16,-16,16,-16,-16,-16,-16,-16,16,16,-16,-16,16,16,-16,-16,-16,16,-16,16,-16,16,-16,16,-16,16,-16,16,-16,-16,-16,-16,-16,16,16,16,-16,-16,-16,-16,-16,16,-16,16,-16,16,16,-16,16,16,16,-16,-16,-16,-16,16,-16,16,-16,16,16,-16,16,16,-16,16,16,16,-16,-16,16,-16,-16,16,-16,-16,16]
[16,-16,-16,16,16,-16,16,-16,16,16,-16,16,-16,16,-16,16,16,-16,-16,-16,16,-16,16,-16,-16,16,-16,16,16,16,-16,16,-16,-16,16,-16,16,16,-16,16,-16,-16,16,-16,-16,16,-16,-16,-16,16,16,-16,-16,16,-16,-16,16,16,16,16,16,16,16,-16,-16,16,-16,16,16,-16,16,-16,-16,-16,16,16,16,-16,-16,16,-16,16,-16,16,-16,16,16,16,16,-16,16,-16,-16,-16,-16,-16,-16,16,-16,16,-16,16,-16,-16,16,-16,16,16,-16,16,-16,-16,16,-16,16,-16,-16,16,16,16,16,16,-16,-16,16,16,16,-16]
[-16,16,-16,16,-16,-16,16,16,16,-16,-16,16,16,16,-16,16,16,-16,16,16,16,16,16,16,-16,16,-16,-16,-16,16,-16,-16,16,-16,16,-16,16,-16,16,-16,-16,-16,16,16,-16,-16,16,16,16,-16,16,16,16,-16,-16,-16,-16,-16,-16,-16,16,16,16,-16,-16,16,16,-16,-16,16,16,-16,16,-16,16,-16,-16,-16,16,16,-16,-16,-16,16,-16,-16,-16,-16,-16,16,16,16,-16,-16,16,16,-16,16,16,16,16,-16,-16,16,16,16,16,-16,16,-16,-16,16,16,16,16,16,16,16,-16,-16,16,16,-16,16,16,16,-16,-16]
[-16,-16,-16,16,16,-16,16,-16,16,-16,16,16,16,16,-16,-16,-16,-16,-16,16,-16,16,16,16,-16,-16,-16,16,-16,16,-16,16,-16,16,-16,16,16,-16,16,16,-16,16,-16,16,16,16,16,-16,16,-16,16,-16,-16,16,-16,-16,16,-16,16,16,-16,-16,16,16,-16,16,-16,16,-16,-16,16,-16,-16,-16,16,16,-16,-16,-16,-16,-16,16,-16,16,16,16,-16,-16,16,-16,16,-16,16,-16,-16,16,-16,-16,16,16,-16,-16,-16,-16,16,16,16,-16,16,-16,16,16,16,16,-16,16,-16,-16,-16,-16,16,16,-16,-16,16,16,16,-16]
[16,16,-16,16,-16,-16,-16,-16,-16,16,16,-16,-16,-16,16,16,-16,16,16,-16,16,-16,16,-16,-16,16,-16,-16,16,-16,64,16,-64,-16,-16,-16,16,-16,-16,16,-16,16,16,-16,-16,16,-16,-16,16,16,-16,16,-16,-16,-16,16,-16,16,16,-16,-16,-16,-16,16,16,16,-16,16,-16,-16,16,64,-16,16,16,16,-16,-16,-16,-16,64,-16,-16,16,16,16,16,16,-16,-64,16,16,-16,-16,-16,-16,-16,16,-16,16,16,16,16,16,-16,-16,-16,-16,-16,-16,-16,16,-16,-16,-16,-16,16,16,-16,-16,-64,16,-16,-16,16,-16,-16,16]
[-16,16,-64,16,16,-16,16,-16,-16,-16,-16,16,16,-16,-16,16,16,16,-16,-16,16,16,-16,-16,-16,-16,-16,16,-16,-16,16,16,-16,-16,16,-16,64,-16,-16,-16,-16,-16,-16,16,-16,16,-16,16,16,16,16,16,16,16,-16,16,-16,-16,16,16,16,-16,16,-16,-16,-16,16,16,16,16,-16,-16,-16,-16,16,16,-16,-16,-16,-16,16,-16,16,-16,-16,16,-16,16,-16,16,16,-16,16,16,-16,16,-16,16,16,64,16,16,16,-16,-16,16,-64,16,-16,-16,16,16,16,16,-16,16,-16,16,16,-16,-16,16,-16,16,16,-16,-16,16]
[-16,-16,16,16,16,-16,-16,16,16,16,16,16,-16,16,16,-16,-16,16,-16,-16,-16,-16,16,-16,16,16,-16,64,-16,16,-16,16,-16,16,16,16,16,-16,16,16,16,16,-16,16,-16,-16,16,-16,-16,16,16,-16,16,-16,16,-16,16,-16,-64,-16,16,16,-16,16,16,-16,-16,16,-16,16,-16,16,16,16,-16,16,-16,16,-16,16,-16,-16,-16,16,-16,16,16,16,16,64,-16,16,-16,16,16,16,16,-16,16,16,16,16,16,-16,-16,-16,-16,16,-16,16,16,-16,16,16,-16,16,16,-16,-16,-16,16,16,16,16,16,-16,16,-16]
[-16,-16,-64,-16,16,16,16,-16,-64,-16,16,16,-16,16,16,16,16,16,16,-16,16,-16,-16,16,-64,-16,16,-16,16,-16,16,16,16,-16,-16,16,16,16,-16,16,16,16,-16,-16,16,16,-16,16,16,-16,16,16,-16,-16,-16,16,-16,-16,-16,16,16,-16,-16,16,16,-16,-16,16,-16,16,16,16,16,-16,16,16,-16,-16,-16,16,16,16,16,-16,-16,64,-16,-16,-16,-16,64,-16,16,-16,16,16,-16,16,-16,16,16,16,16,16,-16,16,-16,-16,-16,-16,-16,16,16,-16,16,-16,-16,16,16,-16,-16,-16,-64,-16,-16,-16,-16,16]
[-16,-16,16,16,-16,16,-16,-16,-16,16,16,16,-16,-16,-16,-16,-16,16,-16,16,-16,-16,-64,-16,16,-16,-16,16,16,-16,16,-16,-16,-16,-16,-16,-16,-16,64,-16,-16,-64,-16,16,-16,16,16,-16,16,16,16,-16,-16,-16,16,-16,-16,16,-16,16,-16,-16,-16,16,64,-16,-16,16,-16,-16,16,16,-16,16,-16,-16,-16,16,-64,16,64,-16,-16,16,16,-16,-16,16,16,16,-16,16,16,-16,16,-16,16,-16,-16,-64,-16,16,16,-16,-64,-16,-16,-16,16,-16,-16,16,-16,-16,-16,-16,16,-16,16,-16,-16,-16,64,16,-16,16,16,-16]
[-16,16,16,-16,16,-16,-16,16,-16,16,-16,-16,16,-16,-16,16,-16,-16,16,16,16,16,-16,16,-16,-16,16,-16,-16,-16,16,16,-16,-16,16,-16,16,-16,16,16,-16,16,16,16,16,-16,16,-16,-16,16,-16,-16,16,16,-16,16,-16,16,16,-16,-16,-16,-16,-16,16,-16,16,-16,-16,16,16,16,16,16,-16,16,16,-16,16,-16,16,-16,16,-16,16,-16,16,-16,16,16,-16,-16,-16,16,-16,-16,-16,16,16,16,-16,16,16,-16,16,16,16,16,-16,16,16,-16,16,-16,16,-16,-16,16,16,-16,-16,16,16,-16,-16,-16,-16,16]
[16,16,-16,16,-16,-16,16,-16,-16,16,16,16,16,-16,-16,16,-16,-16,16,-16,16,-16,16,-16,16,-16,16,-16,-16,-16,16,16,-16,16,16,-16,16,-16,-16,-16,-16,-16,-16,-16,-16,-16,-16,16,16,-16,16,16,16,-16,-16,16,16,16,16,-16,16,-16,-16,-16,16,16,-16,-16,-16,16,-16,16,-16,16,-16,-16,-16,16,-16,16,16,16,16,16,-16,16,-16,16,16,16,16,-16,-16,16,16,-16,-16,16,-16,16,16,16,-16,16,-16,16,16,-16,-16,-16,16,16,16,-16,16,-16,16,16,-16,16,16,16,16,-16,16,-16,-16,16]
[16,16,16,16,16,-16,-16,16,-16,-16,-16,16,-16,-16,16,-16,-16,-16,-16,-16,-16,16,-16,16,16,-16,-16,-16,-16,16,-16,-16,-16,16,16,-16,-16,16,-16,-16,16,16,-16,16,16,-16,16,-16,16,16,16,16,-16,-16,-16,-16,16,-16,-16,16,-16,-16,-16,16,16,-16,-16,-16,-16,-16,16,16,-16,16,-16,-16,-16,16,-16,16,-16,16,16,-16,-16,16,-16,16,16,-16,16,16,16,16,-16,16,16,16,-16,-16,16,16,-16,-16,-16,16,16,16,16,16,16,16,16,-16,16,-16,16,16,16,-16,16,16,16,16,-16,-16,-16,16]
[-16,-16,-16,-16,-16,16,-16,-16,-16,-16,16,16,16,16,16,16,16,16,-16,-16,-16,16,-16,-16,-16,-16,16,-16,16,-16,16,16,-16,16,-16,-16,16,-16,16,16,16,-16,-16,-16,-16,-16,-16,-16,-16,16,16,16,-16,16,-16,16,-16,-16,-16,16,-16,16,16,-16,-16,-16,16,-16,16,16,-16,-16,-16,16,16,-16,-16,-16,-16,16,16,-16,16,16,16,-16,16,-16,-16,16,16,16,-16,-16,-16,-16,16,-16,16,16,64,-16,16,-16,-16,16,-16,16,-16,16,16,-16,16,16,-16,-64,-16,-16,16,16,16,-16,-16,16,-16,-16,-16,16]
[-16,16,16,16,-16,-16,16,16,16,16,-16,-16,-16,-16,-16,16,16,-16,16,16,-16,16,-16,16,-16,-16,-16,16,-16,-16,-16,-16,-16,-16,16,-16,-16,16,16,-16,16,-16,-16,-16,-16,-16,-16,16,16,-16,16,-16,-16,-16,16,-16,-16,-16,16,16,-16,16,-16,16,-16,16,-16,-16,-16,16,16,-16,-16,-16,-16,16,16,16,16,16,-16,-16,16,-16,-16,-16,16,16,16,-16,-16,16,16,16,16,-16,16,16,-16,-16,16,-16,-16,-16,-16,16,-16,16,16,16,16,16,16,-16,-16,-16,-16,16,16,-16,-16,16,16,16,16,-16,-16,-16]
[-16,-16,-16,-16,-16,16,-16,-16,-16,16,-16,16,-16,16,16,16,16,-16,-16,16,-16,-16,16,16,-16,-16,-16,16,-16,-16,16,-16,16,-16,16,16,-16,-16,-16,16,16,16,16,-16,-16,16,16,16,-16,-16,16,-16,-16,-16,-16,-16,16,16,-16,-16,16,16,-16,16,16,16,16,16,-16,-16,-16,-16,16,16,16,16,-16,16,16,-16,16,-16,16,16,-16,-16,16,-16,16,-16,16,16,16,16,16,16,16,16,16,16,16,16,16,16,16,16,16,16,-16,16,-16,-16,-16,16,-16,-16,-16,-16,16,16,-16,16,-16,16,-16,16,-16,16]
[-16,-16,16,16,16,-16,-16,-16,16,-16,-16,-16,16,16,16,-16,16,-16,16,-16,-16,-16,-16,-16,16,-16,-16,16,-16,16,-16,-16,16,16,16,16,-16,-16,16,16,-16,16,16,16,-16,-16,16,-16,16,-16,-16,16,16,16,16,-16,-16,-16,16,16,-16,16,-16,-16,-16,16,-16,16,16,16,-16,-16,16,16,16,16,-16,16,16,-16,-16,16,16,-16,16,-16,16,-16,16,16,16,16,16,16,-16,16,-16,16,16,-16,-16,16,16,16,-16,16,-16,16,16,16,16,-16,16,16,-16,-16,16,-16,16,-16,16,16,16,16,16,16,-16,-16]
[-16,16,-16,-16,16,-16,16,-16,-16,16,-16,-16,16,16,-16,-16,-16,16,16,-16,-16,-16,16,-16,16,16,16,16,16,-16,-16,-16,-16,16,16,-16,-16,16,-16,16,16,16,-16,16,16,16,-16,16,16,-16,-16,16,16,-16,-16,16,16,16,16,-16,16,16,16,16,-16,16,16,-16,16,-16,-16,16,-16,16,16,-16,16,16,-16,-16,16,-16,-16,-16,16,-16,-16,16,-16,-16,16,16,-16,16,-16,-16,-16,-16,-16,16,16,16,16,-16,16,-16,-16,16,16,-16,-16,16,-16,-16,-16,-16,-16,-16,-16,16,16,16,16,-16,-16,16,16,-16]
[16,-16,16,-16,-16,-16,16,-16,16,16,-16,16,16,16,16,-16,-16,-16,16,16,-16,-16,-16,16,16,16,-16,16,-16,16,16,-16,16,-16,16,-16,-16,-16,16,-16,-16,-16,-16,16,16,16,16,16,-16,-16,16,-16,-16,-16,16,-16,-16,-16,-16,16,-16,-16,16,-16,-16,-16,-16,16,-16,16,16,-16,-16,16,-16,-16,16,16,-16,-16,-16,-16,16,-16,-16,-16,16,-16,16,16,-16,-16,-16,16,-16,16,-16,-16,-16,16,16,-16,16,-16,-16,-16,16,16,16,-16,-16,-16,-16,-16,16,16,-16,16,-16,-16,16,16,16,-16,-16,16,-16,-16]
[16,16,-16,16,-16,-16,16,16,-16,16,16,-16,-16,-16,16,16,-16,16,16,16,-16,64,16,16,16,-16,16,16,-16,16,-16,-16,-16,-16,-16,16,16,16,16,16,-16,16,-16,16,-16,-16,16,-16,-16,-16,16,-16,16,16,-16,-16,16,64,16,-16,-16,16,-16,16,-16,16,-16,16,16,-16,16,16,-16,16,-16,-16,16,16,-16,16,16,16,16,-16,-16,-16,16,64,-16,-16,16,-16,16,16,16,16,-16,16,-16,16,-16,16,16,-16,16,16,16,-16,16,-16,-16,16,-16,-16,16,-16,16,16,16,-16,16,16,-16,16,16,-16,16,-16]
[16,16,-16,16,16,16,-16,16,-16,-16,16,-16,-16,16,-16,-16,16,-16,-16,-16,-16,16,16,16,16,16,-16,-16,16,16,-16,16,-16,-16,-16,-16,16,16,-16,16,-16,16,-16,16,-16,-16,-16,-16,16,16,16,-16,16,16,-16,-16,-16,16,16,16,-16,-16,-16,-16,-16,16,16,16,-16,16,16,-16,16,16,-16,16,16,-16,16,16,-16,-16,16,-16,-16,-16,16,16,16,16,-16,-16,16,-16,-16,16,16,-16,-16,-16,16,16,16,-16,16,16,16,16,-16,16,-16,-16,-16,-16,-16,-16,16,-16,16,-16,16,16,16,16,16,16,16,16]
[16,-16,16,-16,-16,-16,16,-16,16,16,-16,16,-16,-16,16,-16,-16,-16,16,-16,-16,-16,64,-16,16,16,16,16,16,-16,16,-16,16,-16,16,-16,-16,16,16,-16,16,16,16,-16,-16,16,16,-16,-16,16,-16,16,16,16,16,16,-16,-16,-16,-16,-16,-16,16,-16,-16,-16,-16,-16,-16,16,-16,-16,-16,16,-16,16,16,16,16,16,16,16,-16,16,-16,16,-16,-16,16,-16,-16,16,-16,-16,-16,-16,-16,16,-16,-16,16,-16,16,-16,-16,-16,-16,16,16,16,16,-16,-16,-16,16,16,16,16,-16,16,16,16,-16,16,16,16,16,16]
[16,-16,-16,16,-16,-16,-16,-16,-16,16,-16,16,-16,-16,16,16,-16,-16,-16,16,16,-16,-16,-16,-16,-16,-16,-16,16,16,-16,-16,-16,16,-16,-16,16,16,16,-16,16,16,-16,16,-16,16,-16,-16,-16,16,-16,-16,16,-16,16,16,-16,-16,-16,-16,-16,16,-16,-16,-16,-16,16,16,-16,16,16,-16,-16,16,16,16,16,-16,16,-16,-16,-16,16,16,-16,16,-16,16,-16,16,-16,16,16,16,-16,16,-16,16,-16,16,-16,-16,16,-16,16,16,16,16,-16,-16,16,-16,16,16,16,16,-16,-16,16,16,-16,-16,16,-16,-16,16,-16,-16]
[16,-16,16,-16,16,-16,-16,16,-16,-16,-16,16,16,16,-16,-16,16,16,16,16,16,-16,16,16,-16,-16,-16,-16,-16,16,16,-16,16,-16,16,-16,16,16,16,16,16,16,-16,-16,-16,16,-16,16,-16,-16,16,16,-16,16,-16,16,-16,-16,-16,-16,16,-16,16,-16,-16,16,-16,-16,16,16,-16,-16,-16,-16,16,-16,-16,16,16,16,16,-16,-16,-16,-16,16,-16,-16,-16,-16,16,16,-16,16,16,16,-16,16,16,-16,16,-16,-16,16,-16,-16,-16,64,-16,16,16,16,-16,16,-16,16,-16,16,-16,16,-16,-16,-16,-16,-16,16,-16,16]
[16,16,16,-16,16,-16,-16,-16,-16,16,16,-16,16,16,-16,16,-16,-16,-16,16,-16,-16,-16,-16,-16,-16,16,-16,-16,-16,16,-16,16,16,16,16,-16,-16,16,16,16,-16,-16,16,-16,16,-16,-16,16,-16,16,16,16,16,16,-16,-16,-16,-16,16,-16,-16,-16,16,16,16,16,-16,-16,16,-16,-16,16,16,-16,16,16,16,-16,16,16,-16,-16,-16,16,16,16,-16,-16,16,-16,16,-16,-16,-16,-16,16,16,16,-16,-16,16,-16,16,-16,-16,-16,16,16,-16,-16,16,16,16,-16,16,16,16,16,16,-16,-16,16,-16,16,16,16,-16]
[16,16,-16,-16,16,16,-16,-16,-16,16,16,-16,-16,16,16,16,-16,16,-16,16,-16,16,16,-16,-16,-16,-16,16,-16,16,64,-16,-16,16,-16,-16,-16,-16,16,-16,16,-16,-16,-16,-16,-16,16,-16,-16,16,-16,16,-16,16,16,-16,-16,-16,-16,16,16,16,-16,-16,-16,-16,-16,16,16,16,-16,-16,16,16,16,-16,-16,16,-16,-16,16,16,16,-16,16,-16,-16,-16,16,-16,-16,16,16,-16,-16,-16,16,-16,-16,-16,16,16,-16,16,-16,-16,16,16,16,-16,16,16,16,16,-16,-16,-16,16,-16,-16,16,-16,16,-16,-16,16,16,16]
[16,16,16,16,-16,-16,16,16,-16,16,-16,16,16,16,-16,16,-16,-16,16,16,-16,-16,-16,-16,-16,16,-16,-16,16,16,16,16,16,16,-16,16,-16,-16,-16,16,-16,-16,-16,16,-16,-16,16,-16,-16,-16,-16,16,16,-16,16,-16,-16,-16,16,16,-16,16,-16,-16,16,16,-16,-16,16,-16,16,16,-16,16,-16,16,16,16,16,-16,16,-16,-16,-16,-16,-16,-16,-16,-16,-16,16,-16,16,-16,-16,16,16,-16,16,16,-16,-16,-16,-16,-16,-16,16,-16,16,-16,16,16,16,-16,-16,-16,16,16,16,16,16,-16,16,16,-16,16,16,16]
[16,64,-16,16,-16,-16,16,64,-16,-16,16,-16,-16,-16,-16,-16,16,16,16,-16,-16,16,-16,64,64,-16,-16,64,16,16,-16,-16,-16,16,-16,16,16,64,16,-16,16,64,16,-16,-16,16,16,-16,16,-16,-16,-16,16,16,16,-16,-16,64,-16,16,16,16,16,-64,-16,16,16,-16,16,-16,16,16,-16,-16,-16,-16,-16,-16,16,-16,16,16,64,-16,-16,-16,64,16,-16,-16,-16,-16,-16,16,-16,16,-16,16,16,-16,-16,16,16,-16,64,16,16,16,16,-16,-16,-16,-16,-16,64,-16,-16,16,16,-16,-16,64,-16,64,64,16,-16,-16]
[-64,-16,16,16,-16,-16,16,-16,-16,16,16,16,16,-16,-16,-16,-16,16,-16,-16,-16,16,-16,16,16,16,16,16,16,16,-16,-16,-16,16,-16,16,-16,-16,16,16,16,-16,-16,-16,-16,-16,-16,-16,-16,-16,16,16,-16,-16,-16,-16,-16,16,-16,-16,-16,16,16,16,64,-16,-16,-16,16,-16,-16,16,-16,16,-16,-16,-16,64,-16,16,16,-16,-16,-16,16,-16,16,64,16,16,-16,16,16,-16,16,-16,64,16,-16,-16,16,-16,-16,16,-16,-16,-16,16,16,16,-16,-16,-16,-16,16,-16,16,16,-16,-16,16,-16,16,-16,-16,-16,-16,-16]
[-16,-16,-16,-16,-16,16,-16,16,-16,-16,-16,-16,-16,16,-16,-16,16,-16,16,-16,16,16,16,16,-16,-16,-16,-16,-16,16,-16,-16,16,-16,16,-16,16,-16,-16,-16,16,-16,16,16,-16,-16,16,16,16,16,16,-16,-16,-16,-16,-16,-16,-16,-16,16,-16,-16,-16,16,-16,-16,-16,16,-16,-16,16,-16,16,-16,16,-16,16,16,-16,16,-16,16,16,-16,-16,-16,-16,-16,-16,-16,-16,16,-16,16,-16,16,-16,16,16,16,-16,16,-16,16,16,16,-16,-16,-16,-16,16,-16,16,-16,16,16,16,16,-16,16,-16,16,-16,-16,-16,-16,16,-16]
[16,-16,16,16,16,16,-16,-16,16,-16,16,16,-16,16,16,-16,16,-16,-16,-16,-16,-16,16,-16,16,16,-16,16,16,16,16,-16,16,-16,16,16,-16,16,-16,-16,-16,16,-16,16,16,16,16,16,-16,16,-16,16,16,16,-16,16,16,16,-16,16,-16,-16,-16,16,-16,-16,-16,16,16,16,16,-16,16,16,-16,16,16,16,16,-16,16,16,-16,-16,-16,-16,16,-16,16,16,-16,16,-16,16,-16,-16,-16,-16,16,-16,16,-16,-16,-16,16,16,-16,16,-16,16,16,16,16,-16,16,-16,-16,-16,-16,16,16,-16,-16,16,16,-16,-16,-16]
[-16,-16,16,16,-16,16,-16,-16,16,16,16,16,16,-16,16,16,-16,16,16,-16,16,16,-16,16,16,16,-16,16,-16,-16,16,64,-16,-16,16,-16,16,-16,-16,16,-16,-16,-16,16,16,16,-16,-16,16,-16,16,-16,-16,16,-16,16,-16,16,16,-16,-16,16,-16,16,16,-16,16,-16,-16,16,64,16,16,16,16,16,16,-16,16,16,16,16,-16,-16,16,16,-16,16,16,-16,16,-16,-16,16,64,-16,16,-16,-16,16,16,-16,16,-16,16,16,-16,-16,-16,16,16,16,16,-16,16,16,16,-16,16,-16,-16,16,16,-16,-16,-16,16,16]
[-16,16,-16,-16,-16,16,16,16,16,-16,16,-16,16,-16,-16,16,-16,16,16,16,16,-16,-16,16,-16,16,-16,-16,-16,-16,16,16,16,-16,-16,-16,16,16,-16,-16,-16,16,-16,16,-16,-16,16,16,16,-16,-16,16,-16,16,16,-16,-16,-16,16,-16,16,-16,16,16,-16,16,-16,-16,-16,16,16,16,-16,16,16,-16,16,-16,-16,16,-16,16,-16,-16,16,16,-16,-16,-16,-16,16,-16,16,16,-16,-16,16,-16,16,16,-16,-16,16,-16,-16,16,64,16,16,16,-16,16,16,-16,-16,-16,16,16,-16,-16,16,16,16,16,-16,-16,-16,16]
[16,-16,16,-16,-16,16,-16,-16,-16,16,-16,-16,16,16,-16,16,-16,-16,-16,16,-16,16,-16,-16,16,16,-16,-64,-16,-16,-16,-16,-16,-16,-16,16,-16,-16,16,-16,-16,16,-16,16,16,-16,16,16,16,-16,-16,16,16,-16,16,-16,16,16,-16,16,-16,16,-16,16,16,16,-16,-16,16,-16,16,-16,16,-16,16,-16,16,16,16,16,16,-16,-16,-16,16,-16,-16,-16,-16,-16,-16,16,16,-16,16,-16,16,16,-16,-16,16,-16,16,16,-16,-16,-16,16,16,-16,-16,16,16,-16,16,16,16,-16,16,-16,16,-16,16,-16,-16,16,-16,-16]
[-16,16,16,16,16,-16,-16,16,16,-16,-16,16,16,-16,-16,16,16,-16,16,16,-16,-16,16,-16,16,-16,16,16,-64,-16,-16,-16,16,16,16,16,-16,-16,-16,16,-16,16,16,-16,16,-16,-16,-16,16,-16,16,16,-16,-16,16,-16,-16,-16,-16,-16,-16,16,16,-16,-16,-16,16,-16,16,16,-16,-16,16,16,16,16,16,16,16,-16,-16,-16,16,16,-16,16,-16,16,16,-16,-16,-16,16,16,-16,16,-16,16,16,-16,16,-16,-16,16,16,16,16,16,16,-16,16,-16,-16,16,-16,16,-16,-16,16,16,-16,16,-16,16,-16,16,-16,-16]
[16,16,-16,16,16,-16,16,16,-16,-16,-16,16,-16,-16,-16,-16,16,-16,16,16,16,-16,16,16,-16,-16,-16,-16,16,16,16,-16,16,16,16,16,-16,-16,-16,16,16,16,16,-16,16,16,-16,16,-16,16,16,-16,16,-16,-16,16,-16,16,16,16,-16,-16,16,16,-16,-16,-16,16,-16,-16,-16,-16,-16,-16,16,-16,-16,-16,16,-16,-16,-16,-16,16,16,-16,-16,-16,-16,-16,16,-16,-16,-16,16,-16,16,16,16,-16,16,16,-16,-16,-16,16,16,-16,16,16,-16,-16,16,-16,16,16,-16,-16,-16,-16,16,16,16,16,16,16,-16,16]
[16,16,-16,-16,-16,16,16,-16,16,16,-16,-16,-16,16,-16,16,16,-16,-16,-16,16,-16,-16,-16,16,16,16,-16,16,-16,-16,16,-16,-16,16,-16,16,16,16,-16,-16,-16,-16,-16,-16,16,-16,16,16,-16,16,-16,-16,-16,-16,16,-16,-16,16,-16,-16,16,-16,-16,16,-16,16,16,16,-16,-16,16,-16,16,-16,-16,16,16,16,16,16,-16,16,-16,-16,16,-16,16,16,16,16,16,16,16,-16,-16,16,16,-16,-16,16,-16,16,-16,16,-16,16,-16,-16,16,16,16,16,16,16,16,-16,-16,16,-16,-16,16,16,-16,16,16,16,16]
[16,16,-16,16,16,-16,16,16,16,-16,-16,16,16,16,16,16,16,16,16,16,16,16,16,-16,-16,-16,-16,16,16,16,16,-16,16,-16,16,-16,-16,16,-16,16,16,16,16,16,16,16,16,-16,16,16,16,16,-16,16,16,-16,16,16,16,-16,16,-16,16,-16,-16,16,16,-16,16,-16,16,-16,16,16,16,16,16,-16,16,16,16,-16,16,-16,-16,64,16,-16,16,16,16,16,16,-16,16,16,-16,-16,16,16,16,-16,-16,16,16,-16,-16,16,16,-16,16,16,16,16,16,16,16,-16,-16,-16,-16,16,-16,16,-16,16,16,-16]
[-16,16,-16,-16,16,16,16,16,-16,16,-16,16,-16,-16,-16,16,-16,-16,16,-16,-16,-16,-16,-16,16,16,-16,-16,16,16,16,16,16,16,-16,16,-16,16,-16,16,-16,-16,-16,16,-16,16,-16,-16,16,-16,-16,-16,16,-16,-16,-16,-16,-16,16,-16,-16,16,-16,16,16,16,-16,-16,16,-16,-16,16,-16,-16,-16,-16,-16,-16,-16,-16,-16,16,-16,-16,-16,-16,-16,16,-16,-16,16,-16,-16,16,-16,16,16,16,-16,-16,-16,16,16,-16,-16,16,-16,-16,-16,-16,-16,-16,-16,-16,-16,-16,16,-16,16,16,16,-16,16,-16,-16,-16,-16,16]
[16,-16,16,16,16,16,16,-16,16,-16,16,16,-64,-16,16,-64,-16,16,16,-16,16,-16,16,-16,16,-16,-16,16,-16,16,-16,-16,16,-16,-16,-16,-16,16,-16,16,16,64,16,16,16,16,16,16,16,-16,16,-64,-16,16,16,-16,16,16,16,-16,-16,-16,16,-16,16,16,-16,-16,16,-16,64,16,-16,-16,-16,16,16,-16,-16,16,-64,16,16,16,16,16,16,16,16,16,-16,-16,-16,-16,16,16,16,16,-16,16,-64,-16,-16,-16,-16,-16,16,16,-16,16,-16,16,-16,-16,16,-64,-16,16,-16,-16,16,-16,-16,16,16,16,16,-16]
[-16,16,-16,-16,-16,16,16,-16,-16,-16,-16,16,-16,16,16,16,-16,16,-16,16,16,-16,-16,-16,16,16,-16,-16,-16,16,16,16,-16,-16,-16,16,16,-16,16,16,16,-16,16,16,16,-16,-16,-16,-16,-16,16,-16,-16,-16,16,16,16,-16,16,-16,-16,-16,16,-16,16,-16,16,16,-16,-16,16,-16,16,-16,-16,16,-16,-16,16,16,-16,-16,-16,-16,-16,16,-16,16,16,16,16,-16,-16,16,-16,16,16,16,16,-16,16,-16,16,-16,-16,-16,16,-16,16,-16,-16,16,16,-16,-16,16,-16,-16,16,-16,16,16,16,16,16,16,16,-16]
[-16,16,16,16,16,-16,-16,16,-16,-16,-16,-16,16,16,-16,16,16,16,-16,-16,-16,16,-64,16,-16,-16,-16,-16,-16,16,16,16,-16,-16,16,16,-16,-16,-16,-16,-16,-64,-16,-16,-16,-64,-16,-16,-16,-16,-16,16,16,-16,16,16,16,-16,-16,16,-16,-16,-16,-16,-16,-16,-16,16,16,-16,-16,-16,-16,16,16,16,-64,16,-16,-16,16,16,16,-16,16,-16,-16,-16,-16,-16,16,16,16,16,-16,16,-16,16,16,-16,16,-16,-16,16,-16,-16,16,-16,16,-16,16,16,16,16,-16,16,-16,16,-16,-16,16,-16,16,16,16,16,-16,64]
[-16,16,-16,16,-16,-16,16,16,16,16,-16,-16,16,-16,-16,16,16,-16,16,16,16,-16,16,16,16,16,-16,-16,-16,16,16,-16,16,-16,-16,16,-16,16,-16,16,-16,16,16,16,-16,16,16,-16,16,-16,-16,16,-16,16,16,-16,16,-16,16,-16,-16,16,16,-16,-16,-16,-16,16,-16,16,16,-16,16,-16,16,16,16,-16,16,-16,16,16,-16,16,16,16,16,-16,-16,-16,16,16,16,-16,16,-16,-16,-16,16,-16,-16,16,-16,16,16,16,-16,-16,16,-16,-16,16,16,16,16,16,-16,16,16,-16,-16,16,16,16,16,-16,16,16]
[16,-16,16,16,16,16,-16,-16,-16,16,-16,-16,16,-16,16,16,16,16,16,16,-16,16,-16,-16,-16,-16,16,16,16,-16,-16,-16,16,-16,16,-16,-16,-16,-16,16,-16,-16,-16,-16,16,16,16,-16,16,-16,-16,16,16,-16,-16,16,16,16,-16,-16,-16,16,16,-16,-16,-16,16,16,16,16,-16,-16,16,16,16,16,-16,-16,-16,-16,-16,16,-16,16,16,-16,-16,-16,-16,-16,16,16,16,-16,16,-16,16,-16,-16,-16,16,-16,16,-16,16,-16,16,16,-16,16,-16,16,-16,16,-16,-16,-16,-16,16,-16,16,-16,16,-16,16,16,-16,-16]
[-16,-16,16,-16,16,16,-16,16,16,-16,-16,16,16,16,16,-16,-16,-16,-16,16,16,-16,16,-16,16,-16,-16,16,-16,16,-16,-16,16,16,-16,-16,16,-16,-16,16,-16,16,-16,16,-16,-16,-16,-16,-16,-16,16,16,-16,-16,-16,-16,-16,-16,-16,16,-16,-16,-16,-16,-16,-16,16,-16,-16,16,16,-16,-16,-16,-16,-16,-16,16,-16,-16,-16,-16,-16,-16,-16,-16,16,-16,16,16,16,16,-16,-16,16,16,-16,16,16,16,16,16,16,16,16,16,-16,16,16,16,16,16,16,16,-16,16,-16,-16,-16,-16,16,-16,-16,-16,16,16,16,16]
[-16,16,-16,16,16,16,16,-16,-16,16,-16,16,16,-16,-16,-16,16,16,-16,-16,16,16,-16,-16,-16,16,16,-16,-16,-16,-16,16,-16,-16,-16,-16,-16,-16,-16,16,16,-16,-16,16,-16,-16,-16,-16,-16,16,16,16,16,-16,-16,-16,16,-16,-16,16,16,-16,-16,-16,-16,-16,16,-16,-16,16,-16,16,-16,-16,16,16,-16,-16,-16,-16,16,-16,16,-16,-16,16,-16,16,-16,-16,16,-16,-16,-16,16,-16,16,-16,16,16,16,-16,16,16,16,-16,-16,-16,-16,-16,-16,-16,16,-16,-16,-16,16,-16,-16,16,-16,-16,16,16,16,-16,-16,16]
[16,16,-16,-16,16,16,16,-16,-16,64,64,16,-16,-64,-16,16,-16,16,16,16,16,-16,16,-16,-16,16,16,16,-16,16,-16,16,-16,-16,-16,-16,-16,-16,-16,16,16,16,16,16,16,16,-16,16,16,-16,16,-16,16,-16,16,-16,-16,16,16,-16,-16,-16,16,16,16,-16,-16,-16,-16,-16,64,16,16,-16,-16,16,16,-16,-16,-16,-16,-16,-16,-16,-16,16,16,16,-16,16,16,-16,-16,-16,64,16,16,-16,-16,16,-16,-16,-16,16,-16,-16,-16,-16,-16,16,-16,16,-16,-16,16,-16,16,16,-16,-16,16,-16,16,16,-16,-16,16,16]
[-16,-16,-16,16,-16,16,16,-16,-16,16,16,-16,-16,16,16,-16,-16,-16,-16,-16,-16,16,-16,-16,16,16,-16,16,16,16,-16,16,-16,16,-16,16,16,16,16,16,-16,16,-16,16,-16,16,16,-16,16,-16,-16,16,-16,-16,-16,16,-16,-16,16,16,16,16,16,16,16,-16,-16,16,-16,-16,-16,-16,-16,16,16,16,-16,-16,16,16,-16,-16,-16,16,16,16,16,-16,16,16,16,16,16,16,-16,16,-16,-16,16,16,-16,-16,-16,-16,-16,-16,-16,-16,-16,-16,-16,16,-16,16,-16,-16,-16,16,16,16,-16,16,16,-16,-16,-16,16,-16]
[-16,-16,-16,16,16,-16,16,-16,-16,16,16,16,-16,-16,-16,16,-16,-16,-16,-16,16,16,16,-16,-16,-16,-16,-16,-16,16,-16,16,-16,16,16,-16,16,16,16,-16,-16,16,-16,16,-16,16,-16,-16,16,16,16,-16,-16,16,16,-16,16,-16,16,-16,-16,16,-16,16,16,16,-16,-16,16,16,-16,16,16,-16,-16,16,16,-16,16,16,-16,16,16,16,-16,-16,-16,16,-16,-16,16,-16,16,-16,-16,-16,16,-16,-16,16,-16,-16,-16,-16,16,16,64,-16,16,16,-16,-16,-16,16,16,-16,-16,16,16,-16,-16,16,-16,16,16,-16,-16,-16]
[-16,16,-16,-16,-16,16,-16,64,-16,-16,64,-16,-16,-16,16,-16,-16,16,16,-16,16,-16,-16,64,16,-16,-16,16,16,16,-64,-16,-16,-16,-16,-16,-16,16,16,-16,16,16,-16,16,-16,-16,16,16,16,-16,16,-16,-16,-16,-16,16,-16,16,16,-16,-16,-16,-16,-16,16,16,16,16,16,-16,-16,16,16,-16,-16,-16,-16,-16,16,16,-16,-16,16,-16,-16,-16,16,16,-16,16,-16,-16,-16,-16,-16,-16,-16,16,16,-16,-16,16,16,-16,16,-16,-16,-16,16,-16,-16,-16,-16,16,64,16,-16,-16,16,-16,-16,16,-16,16,-16,-16,16,-16]
[16,16,-16,-16,16,-16,-16,-16,-16,16,16,16,16,16,16,16,16,-16,16,-16,16,16,-16,16,-16,-16,16,-16,-16,16,16,16,-16,-16,16,-16,-16,-16,-16,16,16,-64,16,-16,-16,-16,-16,16,-16,-16,-16,16,16,-16,-16,16,-16,-16,-16,16,-16,16,-16,-16,-16,-16,-16,-16,16,-16,16,-16,-16,16,16,16,-64,-16,-16,-16,16,-16,16,-16,16,16,-16,16,-16,-16,16,16,16,16,16,16,16,-16,16,16,64,16,-16,-16,-16,16,-16,-16,-16,-16,16,16,16,16,-16,-16,16,-16,16,-16,16,-16,16,16,16,16,16,16]
[16,16,16,-16,-16,-16,16,-16,16,64,64,16,-64,-16,-16,16,-64,16,-16,16,64,-16,16,-64,-16,-16,16,-16,16,-16,16,16,-16,64,-16,16,-16,-16,-64,-16,-16,16,-16,16,16,16,16,-16,16,-16,-16,-16,16,-16,16,-16,16,16,16,-16,-16,-16,-16,16,16,16,-16,16,-16,-16,16,64,-16,-16,-16,64,64,-16,-16,16,16,-16,-16,-16,-16,16,-16,16,-16,-16,16,-16,-16,16,16,-16,16,64,-16,16,-64,-16,16,-16,-16,-16,16,-64,-16,-16,-64,16,-64,-16,16,-16,-16,16,16,-16,16,16,-16,-16,64,-16,-16,-16]
[16,64,16,16,-16,-16,16,-16,-16,16,16,-16,-16,16,16,64,16,16,-16,16,16,-16,-16,-16,-16,-16,-16,-64,-16,-16,64,16,-64,16,-64,-16,-16,-16,-16,-16,16,-16,16,16,16,16,16,-16,16,-16,-16,-16,16,16,16,16,-16,16,16,16,-16,-16,16,16,16,16,16,-16,-16,-16,16,16,-16,-16,-16,16,-16,-16,-64,-16,64,16,16,-16,16,16,-16,16,-64,-16,16,16,16,-16,16,16,16,16,-16,16,64,-16,16,16,-16,-16,16,-16,16,-64,-16,16,16,-16,16,-16,-16,16,16,-16,-16,-16,16,-16,16,16,-16,16]
[16,16,-16,-16,-16,16,-16,16,16,16,16,16,16,16,16,-16,16,16,-16,16,16,-16,16,-16,16,-16,-16,16,-16,16,-16,-16,16,-16,16,-16,16,16,16,16,16,16,-16,16,-16,16,16,-16,16,-16,-16,16,-16,-16,16,16,-16,16,16,16,-16,16,16,16,-16,16,16,16,16,16,16,-16,16,-16,-16,-16,16,-16,16,-16,16,16,16,-16,16,-16,16,-16,16,16,16,-16,16,16,16,-16,-16,16,16,16,16,16,-16,-16,-16,16,16,16,16,-16,16,-16,16,-16,16,16,16,-16,16,-16,16,-16,16,-16,16,16,16,16]
[16,16,16,-16,-16,16,-16,16,16,16,-16,16,16,-16,-16,16,16,-16,-16,16,-16,16,-16,16,16,-16,-16,16,-16,-16,-16,16,16,-16,-16,16,16,16,-16,16,-16,-16,16,16,-16,-16,-16,-16,-16,-16,-16,16,16,16,-16,-16,-16,16,16,16,16,16,-16,-16,-16,-16,16,16,16,16,16,16,-16,16,16,-16,-16,16,16,16,-16,16,-16,16,16,-16,16,-16,16,16,-16,-16,-16,16,-16,16,-16,-16,-16,-16,16,-16,-16,-16,16,16,16,-16,16,-16,-16,16,16,16,16,16,16,-16,-16,16,-16,16,16,-16,16,-16,-16,16]
[16,16,16,-16,16,-16,16,16,-16,-16,-16,-16,16,-16,-16,16,-16,-16,-16,16,-16,-16,-16,-16,64,-16,16,-16,-16,-16,16,-64,-64,16,-64,16,-16,-16,16,-16,16,-16,-16,16,16,-16,64,-16,-16,-16,-16,16,-16,-16,64,-16,-16,16,-16,-16,-16,16,16,16,16,16,-16,16,-16,-64,-16,-16,-16,-16,-16,-64,-16,64,-16,-16,16,-16,-16,-16,16,-16,16,-16,-16,-16,-64,16,64,-16,16,16,-16,-16,-16,-64,-16,-16,16,-16,16,-16,16,16,64,16,-16,64,-16,-16,-16,-16,16,-16,16,-16,-16,-16,64,16,-64,16,-16,16]
[-16,-16,16,-16,-16,16,16,-16,16,-16,-16,-16,16,-16,-16,16,-16,-16,-16,16,-16,-16,16,16,-16,16,-16,-16,16,-16,-16,16,16,16,16,-16,-16,16,-16,16,-16,16,-16,-16,-16,16,16,16,16,-16,-16,-16,16,16,-16,16,16,-16,-16,16,16,16,-16,16,16,-16,16,-16,-16,-16,16,-16,16,-16,-16,16,16,-16,16,-16,-16,-16,-16,16,16,16,-16,-16,16,-16,-16,16,-16,16,-16,-16,-16,-16,-16,16,-16,16,16,-16,16,-16,-16,-16,16,-16,-16,16,16,-16,16,16,-16,-16,16,16,16,16,-16,-16,16,16,-16,16]
[16,-16,-16,16,16,16,16,16,-16,16,16,-16,-16,-16,16,-16,-64,16,16,-16,16,-16,16,-16,-16,-16,-16,-16,16,16,-16,16,16,16,-16,-16,-16,-16,-16,16,16,16,16,-16,16,16,16,-16,16,16,-16,-64,16,16,-16,-16,-16,16,-16,-16,-16,-16,-16,16,16,16,-16,-16,-16,-16,64,16,-16,-16,-16,16,16,-16,16,-16,-16,16,-16,16,-16,16,-16,-16,-16,-16,-16,-16,-16,16,16,16,16,16,-16,-16,-64,16,-16,-16,16,-16,16,-16,-16,-16,-16,16,-64,-16,16,16,16,16,16,-16,16,16,-16,-16,-16,-16,16,-16]
[16,-16,-16,16,-16,16,-16,-16,16,16,-16,16,16,16,16,-16,16,-16,16,-16,16,16,-16,-16,16,-16,16,-16,16,-16,16,16,16,16,-16,-16,16,16,16,16,-16,-16,-16,-16,16,16,16,16,16,16,-16,16,-16,16,-16,-16,16,-16,-16,16,16,16,-16,-16,16,16,-16,-16,-16,16,-16,16,16,-16,-16,16,16,16,-16,16,16,16,16,-16,-16,-16,16,-16,-16,16,-16,16,16,-16,-16,-16,16,-16,-16,-16,-16,-16,16,-16,-16,-16,16,-16,16,-16,-16,-16,-16,16,16,16,16,-16,16,-16,-16,16,16,-16,-16,-16,16,-16]
[16,16,-16,-16,-16,16,16,-16,-64,16,16,16,-16,16,-16,16,-16,16,-16,-16,16,-16,-16,-16,-16,-16,16,-16,16,-16,16,16,-64,-16,-16,16,-16,-16,-16,-16,-16,16,16,-16,16,16,-16,16,16,16,16,-16,-16,16,-16,-16,-16,16,-16,-16,-16,16,-16,16,16,16,16,-16,-16,-16,16,16,-16,-16,16,16,16,-16,-64,-16,16,-16,-16,-16,16,-16,-16,16,-16,-16,16,-16,-16,-16,16,16,16,16,-16,16,16,16,16,16,-16,-16,-16,16,-64,-16,-16,-16,16,-16,16,-16,-16,-16,-16,-16,-16,-16,-16,-16,-16,-16,-16,-16]
[16,-16,16,-16,-16,-16,16,16,-16,16,-16,16,16,16,-16,16,16,16,16,16,-16,16,16,-16,16,-16,-16,-16,-16,16,16,16,16,16,-16,16,16,16,-16,-16,-16,-16,16,16,-16,-16,-16,16,16,16,16,16,-16,-16,-16,16,16,16,-16,-16,-16,-16,-16,-16,16,-16,16,-16,-16,16,-16,-16,16,16,-16,-16,-16,16,16,-16,-16,-16,16,-16,-16,-16,16,-16,-16,16,-16,16,16,16,-16,16,-16,-16,-16,16,-16,-16,-16,-16,-16,-16,-16,-16,16,16,16,16,16,16,16,-16,-16,16,16,-16,16,16,-16,16,16,16,16,-16]
[16,64,16,-16,-16,-16,-16,-16,16,-16,-16,-16,64,16,-16,64,16,-16,-16,16,16,-16,16,-16,16,-16,-16,-16,-16,-16,16,-16,-16,16,-16,-16,16,-16,16,-16,16,-16,-16,16,-16,16,16,16,16,-16,-16,64,-16,-16,64,-16,16,-16,16,-16,-16,16,-16,-16,16,-16,-16,-16,-16,-16,-16,-64,-16,-16,16,-16,-16,16,-16,-16,16,16,-16,-16,16,-16,-16,-64,-16,-16,16,-16,16,-16,16,16,16,-16,16,-16,16,-16,-16,-16,16,-16,16,16,16,-16,16,16,16,-16,-16,-16,16,-16,16,-16,-16,-16,16,16,-16,16,-16,64]
[16,16,16,16,-16,-16,-16,16,64,-16,-16,16,16,-16,16,16,-16,-16,-16,16,16,-16,16,-64,16,-16,-16,16,-16,16,-16,16,16,-16,-16,-16,-16,16,-16,16,16,16,-16,16,-16,16,16,-16,16,-16,-16,-16,-16,-16,16,-16,16,16,-16,-16,-16,-16,-16,-16,16,16,-16,16,-16,16,-16,16,-16,-16,-16,16,16,16,16,16,16,-16,-16,-16,-16,-16,16,-16,-16,-16,16,16,-16,16,16,-16,-16,16,16,16,-16,-16,16,16,16,-16,-16,-16,16,16,-16,-16,-16,16,16,16,16,-16,16,-16,-16,-16,16,16,16,-16,16,-16]
[64,64,16,-16,-16,-16,16,16,-16,-16,16,-64,16,16,16,16,-16,-16,-16,16,16,-16,-16,-16,16,-16,-16,-16,16,-16,64,-16,-16,64,-64,16,-16,-16,16,-16,-16,-16,-16,-16,-16,16,16,-16,-16,-16,-16,64,16,-16,64,16,16,16,16,-16,-16,-16,-16,16,16,-16,-16,-16,-16,-16,-16,-16,-16,-16,16,-16,-64,16,-16,-16,16,-16,16,-16,16,-64,-16,-16,-64,-16,-16,-16,16,-16,16,-16,-16,-16,16,-16,16,-16,-16,-16,-16,-16,64,16,64,-16,16,16,16,-16,16,-16,16,16,16,16,-16,-16,16,16,-16,16,-16,16]
[16,-16,-16,16,16,16,16,16,-16,-16,-16,16,-16,16,-16,16,16,-16,-16,-16,-16,16,16,-16,-16,16,-16,16,16,-16,-16,-16,-16,16,-16,16,16,-16,-16,16,-16,16,-16,16,-16,16,-16,16,16,16,16,-16,-16,-16,16,-16,-16,-16,16,16,16,-16,-16,-16,-16,-16,-16,-16,16,-16,-16,16,16,-16,-16,16,-16,16,-16,-16,16,16,16,16,16,16,16,-16,-16,-16,-16,16,-16,16,-16,16,-16,-16,-16,16,16,-16,16,-16,-16,16,-16,16,16,-16,-16,-16,16,16,-16,16,-16,16,-16,16,16,16,16,-16,16,-16,-16,-16]
[-16,16,16,16,-16,16,-16,-16,16,-16,-16,-16,64,16,16,-16,-16,-16,16,-16,-16,16,-64,-16,16,16,-16,-16,-16,16,16,16,16,16,-16,-16,-16,-16,16,-16,-16,-16,-16,16,-16,-64,16,-16,16,16,16,16,16,16,16,16,-16,-16,-16,-16,-16,-16,-16,16,16,-16,-16,16,-16,-64,-16,16,16,-16,-16,-16,-16,16,-16,16,16,-16,16,16,16,-64,-16,-16,16,16,-16,-16,16,16,16,16,-16,-16,16,-16,16,16,-16,16,16,-16,-16,-16,64,-16,-64,-16,16,-16,16,16,-16,-16,16,16,16,-16,16,16,16,-16,-16,-16]
[16,-16,16,-16,-16,16,16,16,-16,-16,16,-16,16,16,16,-16,-16,-16,-16,16,-16,-16,16,16,16,16,16,-16,16,16,-16,-16,-16,-16,16,-16,-16,-16,16,-16,16,-16,16,-16,16,16,-16,-16,16,16,-16,16,-16,16,-16,16,-16,16,16,16,16,-16,16,-16,-16,16,-16,16,16,16,-16,-16,16,-16,16,16,16,-16,-16,16,16,-16,16,16,16,-16,16,-16,-16,-16,-16,-16,16,-16,16,-16,16,16,16,16,16,16,16,16,16,-16,16,-16,16,-16,-16,16,16,16,16,16,16,-16,16,16,16,-16,-16,16,-16,16,16,16]
[16,-16,-16,-16,16,-16,-16,-16,-16,16,16,-16,16,16,16,16,-16,16,-16,-16,16,-16,-16,16,-16,-16,-16,-16,-16,-16,16,16,-16,-16,-16,-16,-16,16,-16,-16,-16,16,-16,-16,16,16,16,16,16,-16,-16,-16,16,16,16,16,-16,16,-16,-16,-16,16,-16,-16,16,-16,-16,16,16,-16,16,-16,-16,16,16,-16,16,-16,-16,16,16,-16,16,16,-16,-16,-16,-16,16,-16,16,16,-16,16,-16,-16,-16,-16,-16,-16,-16,-16,16,16,-16,16,-16,16,16,-16,16,16,16,-16,16,16,16,16,16,16,-16,-16,-16,16,-16,16,16,-16]
[-16,-16,16,-16,-16,-16,-16,-16,16,16,16,16,-64,-16,-16,-64,-16,16,-16,16,-64,-16,16,16,64,16,-16,16,-16,-16,-16,-16,16,16,16,-16,-16,16,16,16,-16,16,-16,-16,16,16,16,-16,-16,-16,16,-16,-16,-16,16,16,-16,16,16,16,16,16,-16,16,16,-16,-16,-16,-16,16,-16,16,16,16,-16,-16,16,64,16,16,-16,-16,-16,-16,16,-16,-16,16,64,16,-16,16,-64,-16,-16,-16,16,16,-64,-16,-16,-16,16,-16,-16,-16,16,64,-16,64,16,-16,-64,-16,16,-16,16,-16,-16,-16,-16,16,-16,-16,16,-16,-16,-16]
[16,-16,16,-64,-16,16,-16,-16,-16,16,-16,-16,-64,-16,-16,-16,-16,-16,-64,16,-64,-16,16,16,64,16,-16,-16,-16,-64,-16,-16,-16,16,-16,-16,-16,16,16,-16,-16,16,-16,-64,16,-16,-16,-16,16,-16,16,16,-16,-16,-16,-16,16,16,-16,-16,16,-16,-16,16,16,-16,16,-16,-16,-16,-64,-16,-16,16,-16,-64,16,64,-16,-16,16,16,-16,-16,16,-16,-16,-16,16,-16,-64,-16,-16,-16,-16,-16,-16,16,-16,-64,-16,16,-16,-16,-16,-16,16,16,-16,16,16,-16,-64,-64,16,-16,16,-16,-16,-16,-64,16,16,-16,16,-16,-64,16]
[-16,16,-16,-16,16,16,-16,-16,-16,-64,16,16,16,16,-16,16,16,16,16,16,16,-16,-16,16,-16,-16,16,-16,-16,16,16,16,-16,16,16,-16,16,-16,16,-16,16,-16,-16,16,-16,-16,-16,16,-16,-16,-16,16,-16,16,-16,-16,16,-16,16,16,-16,-16,16,-16,16,16,-16,-16,-16,16,-16,16,-64,16,16,16,-16,-16,-16,-16,64,16,-16,16,16,-16,-16,-16,-16,16,16,-16,16,-16,-16,-16,-16,16,16,16,16,-16,16,16,16,-16,-16,16,-16,-16,16,16,16,64,-16,16,-16,16,16,16,-16,-16,-16,16,-16,16,16,16]
[-16,16,-16,16,16,-16,16,64,64,-16,16,16,16,-64,-16,16,16,-16,-16,16,16,-16,16,-16,-16,16,-16,-16,16,16,-16,-16,-64,-16,-16,-16,-16,-16,16,16,-16,64,-16,16,-16,16,-16,16,64,16,-16,-16,-16,-16,-16,-16,16,64,64,-16,-16,-16,-16,-16,-16,16,-16,-16,-16,-16,-16,16,-16,-16,-64,-16,64,16,64,-16,-16,-16,-16,-16,-16,16,16,-16,-16,16,16,16,64,-16,-16,-16,16,16,64,-16,-16,16,-16,16,16,16,-16,16,16,16,-16,16,-16,16,64,64,-16,-16,16,-16,-16,-16,16,16,-16,-16,64,-64]
[-16,16,16,-16,-16,16,-16,-16,16,16,16,-16,16,16,-16,16,16,-16,-16,16,16,-16,-16,-16,-16,16,-16,-16,16,-16,16,16,-16,-16,16,-16,16,16,16,-16,-16,16,16,16,-16,-16,-16,16,16,-16,-16,16,16,-16,-16,16,16,-16,16,16,16,-16,-16,-16,16,-16,-16,-16,-16,-16,-16,-16,-16,16,-16,16,16,16,-16,-16,16,-16,-16,-16,16,16,-64,-16,-16,-16,16,-16,16,-16,-16,16,-16,-16,16,-16,16,-16,-16,16,16,16,16,-16,16,16,16,-16,16,-16,-16,16,-16,-16,16,16,-16,-16,16,16,16,-16,-16,-16]
[16,16,16,-16,16,16,16,16,-16,-16,16,-16,-16,16,16,16,16,16,16,-16,-16,16,-16,-16,-16,-16,16,16,-16,-16,-16,16,-16,16,16,16,-16,16,16,-16,-16,16,-16,-16,-16,-16,-16,-16,16,16,16,16,16,-16,16,16,-16,16,-16,16,16,-16,16,16,16,-16,-16,-16,16,-16,16,-16,-16,-16,16,-16,16,16,16,-16,16,16,16,16,16,-16,16,16,16,16,-16,-16,16,-16,-16,-16,-16,-16,-16,16,-16,-16,-16,16,16,-16,16,-16,16,-16,16,-16,16,16,-16,-16,-16,-16,16,-16,-16,-16,16,-16,16,-16,-16,-16]
[-64,-16,16,-16,16,16,-16,16,-16,-16,16,16,16,16,-16,-16,-16,16,-16,16,16,-16,-64,16,16,-16,-16,16,-16,16,-16,16,-16,-16,-16,-16,16,-16,-16,-16,-16,-16,16,16,-16,16,16,-16,16,-16,16,-16,-16,-16,-16,-16,-16,16,16,-16,-64,-16,-16,16,64,-16,-16,16,-16,-16,16,16,-16,16,16,16,-16,-16,-64,16,16,-16,16,-16,-16,-16,-16,16,16,64,16,-16,16,-16,16,16,16,-16,-16,16,16,-16,16,16,16,-16,-16,-16,16,-16,-16,16,16,16,64,16,-16,-16,16,-16,16,-64,64,16,-64,-16,16,-16]
[16,16,-16,-16,-16,16,-16,-16,-16,16,-16,-16,-16,16,16,16,-16,16,-16,16,16,16,-16,-16,-16,-16,-16,-64,-16,-16,16,16,-16,-16,-16,16,-16,-16,16,-16,16,16,16,-16,16,-16,16,16,16,-16,16,16,-16,-16,16,-16,16,16,16,16,-16,16,16,16,16,-16,-16,16,-16,-16,16,16,-16,-16,16,-16,16,16,-16,-16,64,16,-16,16,-16,16,-16,-16,-64,-16,-16,-16,16,-16,16,16,16,-16,16,-16,16,-16,-16,16,-16,16,16,16,16,-16,-16,16,-16,-16,-16,-16,-16,-16,16,-16,-16,16,16,-16,-16,-16,-16,16]
[16,16,-16,-16,16,-16,16,-16,-16,16,-16,16,-16,16,-16,16,16,-16,16,-16,16,16,16,-16,-16,-16,16,16,-16,-16,16,16,16,16,16,-16,16,-16,-16,16,-16,-16,16,-16,16,16,-16,-16,-16,-16,16,-16,-16,16,16,16,16,-16,-16,16,-16,-16,16,-16,-16,16,16,-16,-16,16,16,-16,-16,16,16,16,16,-16,16,-16,-16,-16,16,-16,-16,16,16,-16,16,16,16,16,16,16,-16,16,16,16,16,16,16,-16,-16,-16,-16,-16,-16,16,-16,16,64,16,16,16,-16,-16,16,16,16,16,16,16,-16,16,16,16,-16,16]
[-16,16,-16,-16,16,-16,16,-16,-16,16,-16,16,16,16,-16,16,16,16,16,-16,16,16,-16,-16,-16,16,16,16,-16,-16,-16,16,16,-16,-16,16,16,-16,-16,-16,-16,-16,-16,16,-16,-16,-16,-16,16,-16,16,16,-16,-16,-16,16,-16,-16,16,16,16,-16,16,-16,-16,-16,-16,-16,16,16,-16,-16,-16,-16,16,16,-16,-64,-16,-16,16,-16,16,-16,16,16,-16,16,-16,16,64,16,-16,-16,-16,16,-16,16,16,16,16,-16,16,16,-16,16,-16,-16,-16,-16,16,-16,16,16,16,16,16,-16,16,-16,-16,-16,-16,16,16,-16,-16,16]
[-16,-16,16,16,16,-16,-16,16,16,16,-16,-16,16,-16,16,-16,-16,16,-16,-16,16,-16,16,-16,-16,16,16,-16,16,-16,-16,16,-16,-16,-16,16,-16,-16,-16,16,-16,16,16,-16,-16,-16,-16,16,16,-16,16,16,16,16,-16,16,16,16,-16,16,16,16,16,16,16,16,-16,-16,16,-16,16,16,-16,-16,-16,-16,16,16,16,-16,-16,-16,16,16,16,-16,-16,16,16,16,-16,16,-16,16,16,-16,16,16,-16,-16,-16,-16,16,-16,16,-16,16,-16,16,16,-16,-16,-16,-16,16,16,16,16,-16,-16,16,-16,16,16,16,16,16,-16]
[-16,16,-16,16,-16,-16,-16,16,16,-16,16,16,-16,-16,16,-16,16,-16,16,-16,16,-16,-16,-16,16,-16,-16,16,16,-16,-16,16,16,-16,-16,16,-16,16,-16,-16,16,16,16,-16,16,-16,-16,-16,16,16,16,16,16,-16,16,16,16,16,16,-16,-16,-16,-16,16,-16,-16,16,16,-16,16,-16,16,16,16,16,16,16,-16,-16,16,-16,16,-16,16,-16,-16,16,16,-16,-16,16,-16,16,16,16,16,-16,-16,16,-16,-16,-16,-16,16,-16,-16,-16,-16,16,16,16,-16,16,16,-16,16,-16,-16,16,-16,16,-16,16,16,16,16,-16,16]
[16,-16,-16,-16,16,-16,-16,16,16,16,-16,16,16,-16,-16,16,16,-16,16,-16,16,16,16,-16,-16,-16,-16,-16,-16,16,16,-16,16,-16,-16,-16,-16,-16,-16,16,16,-16,-16,16,-16,16,-16,-16,-16,-16,16,-16,-16,16,16,-16,-16,-16,-16,-16,-16,-16,16,-16,-16,-16,-16,-16,16,16,-16,16,-16,-16,-16,16,-16,-16,16,-16,-16,16,-16,16,-16,16,16,16,-16,-16,16,16,-16,-16,16,16,-16,16,16,16,-16,16,16,-16,-16,-16,16,16,-16,16,16,16,16,16,-16,16,-16,-16,-16,-16,-16,16,-64,16,16,16,16,16]
[-16,-64,16,-16,16,64,-16,-16,16,64,16,16,-16,-16,16,-16,-16,16,-16,-16,-64,16,16,16,16,16,-16,64,-16,-64,-16,16,-16,-16,16,16,16,16,16,-16,-16,-16,-16,-16,16,-16,-16,-16,-64,-16,16,-16,-16,-16,16,-16,16,-16,-16,16,16,16,-16,16,-16,-16,16,-16,16,64,-64,16,16,16,-16,-16,16,16,16,16,16,16,-16,16,16,16,-16,16,16,16,-16,-16,-16,16,16,-16,64,16,-16,-16,16,-16,-16,-16,-16,16,-16,64,-16,16,16,-16,-16,-16,16,-16,16,-16,16,16,16,-16,-16,-16,16,-16,-16,-16]
[-16,16,16,-16,-16,16,-16,16,16,16,16,16,-16,-16,-16,16,-16,-16,16,16,-16,16,16,-16,16,16,-16,16,-16,16,-16,-16,16,-16,-16,16,-16,16,-16,-16,16,16,16,16,16,16,16,16,16,-16,16,16,-16,-16,16,-16,16,16,-16,16,-16,-16,-16,-16,16,16,-16,-16,16,-16,16,-16,16,-16,-16,-16,16,16,16,16,-16,-16,16,16,16,-16,-16,-16,16,16,-16,-16,16,-16,-16,-16,16,16,-16,-16,16,16,-16,-16,-16,-16,-16,-16,16,16,16,-16,-16,16,16,-16,-16,16,16,16,16,16,16,-16,16,-16,-16,-16]
[16,-16,16,16,-16,-16,-16,-16,-16,64,16,16,-16,16,16,-16,-16,16,-16,16,-64,-16,-16,16,16,-16,16,16,-16,-16,16,-16,-16,-16,-16,-16,-16,-16,64,-16,-16,-64,-16,16,-16,-16,16,-16,16,-16,16,16,-16,-16,16,-16,-16,16,-16,-16,-16,16,-16,16,64,-16,-16,-16,16,-16,-16,16,-16,16,16,-16,-16,16,-64,16,16,-16,-16,16,16,-64,-16,16,-16,16,-16,16,-16,16,16,16,16,16,-16,-64,16,-16,16,-16,-16,-16,-16,16,16,16,-16,-16,-16,-16,-16,-16,16,16,16,-16,-16,-16,64,16,-16,16,-16,-16]
[16,-16,-16,16,-16,-16,16,16,-16,-16,16,16,-16,16,16,16,-16,-16,-16,-16,-16,16,16,16,-16,-16,16,16,16,-16,-16,-16,16,-16,-16,16,16,-16,16,-16,16,16,-16,16,-16,-16,16,-16,-16,16,16,-16,-16,16,16,-16,16,-16,-16,-16,16,16,-16,-16,-16,-16,16,16,-16,16,-16,-16,16,-16,16,16,-16,-16,-16,-16,16,-16,-16,-16,-16,-16,-16,-16,16,16,16,16,16,16,-16,16,16,16,16,16,16,16,16,16,-16,16,16,-16,16,-16,16,-16,-16,-16,16,16,16,-16,-16,-16,16,-16,16,-16,-16,-16,16,-16]
[-16,16,-16,64,-16,16,16,16,-16,-16,64,16,-16,16,-16,-16,16,64,16,-16,-16,-16,-64,64,16,-16,-16,64,-16,16,-16,16,-64,-16,16,16,-16,-16,16,-16,16,-16,-16,-16,-16,-64,16,-16,-16,16,16,-16,16,16,-64,16,-16,64,-16,16,16,16,16,16,16,-16,16,16,-16,16,-16,16,-16,16,-16,16,-64,16,-64,16,16,-16,-16,-16,-16,-64,16,64,16,16,-16,16,-16,-16,16,-16,16,16,-16,-16,16,16,16,16,16,-16,-16,16,16,16,-16,-16,-16,-16,16,-16,16,-16,16,16,-16,-16,-16,16,-64,-16,-16,-16]
[16,-16,-16,16,-16,16,-16,16,16,16,16,16,-16,16,16,16,16,16,16,-16,-16,-16,16,16,16,-16,-16,-16,-16,16,16,-16,-16,16,-16,-16,-16,16,16,-16,16,16,16,-16,-16,16,-16,-16,16,-16,16,16,16,16,16,-16,16,-16,-16,16,-16,16,-16,16,16,-16,-16,-16,-16,-16,-16,-16,16,16,-16,-16,-16,16,-16,-16,16,-16,16,-16,16,-16,16,16,16,16,-16,-16,16,16,-16,-16,16,-16,-16,-16,-16,-16,16,16,-16,-16,16,16,-16,16,16,-16,16,16,-16,-16,-16,-16,-16,16,16,16,16,16,-16,16,-16,-16]
[16,-16,16,16,16,-16,-16,16,16,-16,16,16,16,16,16,-16,-16,-16,16,-16,16,16,16,-16,-16,16,16,16,-16,16,-16,-16,16,-16,16,16,-16,16,16,16,-16,16,-16,16,-16,16,16,-16,-16,16,16,16,-16,16,16,-16,-16,-16,16,-16,-16,16,16,-16,16,16,-16,-16,-16,-16,16,-16,16,-16,16,16,16,16,16,-16,-16,-16,16,-16,16,16,16,-16,16,-16,-16,16,16,-16,16,-16,16,16,16,16,16,-16,16,-16,16,16,-16,16,-16,64,16,16,16,16,-16,-16,16,16,16,16,-16,16,16,16,16,16,64,-16]
[-16,-16,16,16,16,16,16,-16,16,16,-64,16,16,16,-16,16,16,-16,16,-16,16,16,-16,16,16,16,-16,-16,16,16,16,16,16,16,16,-16,-16,-16,-16,-16,16,16,16,16,-16,-16,16,-16,16,-16,-16,16,-16,16,-16,16,16,-16,16,-16,-16,16,-16,-16,-16,16,16,16,16,16,-16,-16,16,16,16,-16,16,-16,16,-16,-16,-16,16,-16,-16,-16,16,16,-16,16,16,16,16,-16,-16,16,-16,-16,16,16,16,-16,16,-16,16,-16,16,-16,16,-16,16,-16,64,16,-16,16,-16,16,16,-16,16,16,16,16,-16,16,-16,16]
[16,-16,16,16,-16,16,-16,16,-16,16,-16,16,-16,-16,-16,-16,-16,16,16,16,-16,16,16,16,16,-16,-16,-16,16,-16,-16,16,-16,-16,-16,-16,-16,16,16,16,-16,-16,-16,16,-16,-16,-16,16,-16,-16,16,-16,16,16,16,16,16,-16,-16,16,-16,16,-16,16,-16,-16,-16,16,16,16,-16,16,16,-16,16,-16,-16,16,16,16,-16,-16,16,16,16,-16,-16,16,-16,16,-16,-16,16,16,16,16,-16,-16,-16,16,16,16,16,16,-16,16,16,-16,-16,-16,16,16,-16,-16,16,16,16,-16,-16,16,16,-16,16,16,16,-16,16,16]
[-16,16,16,-16,16,-16,16,-16,-16,-16,-16,16,16,16,-16,16,16,-16,16,-16,-16,-16,16,-16,16,-16,-16,16,16,16,-16,-16,16,-16,16,-16,16,16,-16,-16,-16,-16,16,16,16,16,16,16,16,16,-16,-16,-16,16,-16,-16,16,-16,-16,16,16,16,-16,16,16,-16,-16,16,-16,16,-16,-16,-16,-16,-16,16,16,-16,16,16,-16,16,-16,16,16,-16,16,16,-16,-16,-16,-16,16,16,16,-16,-16,16,16,-16,-16,-16,-16,-16,-16,-16,16,16,16,-16,16,-16,-16,-16,-16,-16,16,16,16,-16,-16,-16,16,-16,-16,-16,-16,-16]
[-16,-16,16,-16,16,16,-16,16,-16,-16,16,16,16,16,16,-16,-16,16,16,16,-16,-16,-16,16,16,-16,16,16,-16,-16,-16,-16,-16,-16,16,-16,-16,-16,16,-16,16,-16,16,16,16,-16,-16,-16,16,16,-16,16,16,-16,16,-16,16,16,-16,-16,-16,16,16,16,16,-16,16,16,-16,64,-16,16,-16,16,-16,-16,-16,16,-16,-16,16,-16,-16,16,-16,-16,16,16,64,16,-64,64,16,-16,16,16,16,-16,16,-16,16,-16,16,16,-16,-16,-16,64,-16,16,16,-16,16,16,16,-16,-16,-16,-16,-16,-16,-16,64,16,-16,-16,-16,-16]
[-16,-16,-16,-16,-16,16,-16,16,-16,16,-16,16,-16,-16,-16,-16,-16,16,16,16,16,-16,-16,-16,-16,16,-16,16,-16,16,-16,-16,-16,16,16,16,16,16,-16,16,16,-16,16,-16,16,16,-16,16,16,16,16,16,16,16,-16,-16,16,16,-16,16,16,16,16,16,-16,-16,16,16,-16,-16,16,-16,-16,-16,16,16,-16,16,-16,16,-16,-16,-16,16,-16,16,16,-16,16,16,-16,-16,16,-16,-16,16,16,16,-16,16,-16,16,16,16,-16,16,16,16,16,-16,16,-16,16,-16,-16,-16,-16,-16,16,-16,-16,16,16,-16,-16,-16,16,16]
[16,-16,-16,-16,16,-16,16,-16,16,-16,16,16,16,16,-16,-16,-16,-16,-16,-16,16,-16,16,-16,16,16,-16,16,16,-16,16,16,16,16,-16,-16,-16,16,16,-16,-16,16,-16,-16,-16,16,16,16,-16,-16,-16,16,16,-16,16,16,-16,-16,16,16,-16,16,16,-16,16,-16,16,16,-16,16,16,16,16,-16,-16,-16,16,16,16,16,16,-16,-16,-16,16,-16,16,-16,16,-16,-16,-16,16,16,16,-16,16,16,16,-16,-16,16,-16,-16,-16,-16,-16,16,16,16,16,-16,16,16,-16,16,16,-16,-16,16,16,16,-16,-16,-16,16,16,16]
[16,-16,16,16,16,-16,16,-16,16,16,-16,16,-16,-16,-16,-16,-16,-16,16,16,16,-16,16,16,16,-16,-16,16,16,-16,-16,16,64,16,16,16,-16,-16,-16,16,16,-16,-16,-16,16,16,-16,-16,-16,-16,64,16,16,16,16,-16,16,-16,-16,16,16,16,16,16,-16,-16,-16,16,-16,16,16,16,-16,16,16,16,16,16,16,-16,-16,-16,16,-16,16,16,-16,-16,64,16,16,-16,-16,16,-16,16,16,-16,-16,16,-16,-16,16,-16,-16,16,-16,16,-16,64,16,16,16,16,-16,-16,16,16,-16,-16,-16,16,-16,16,-16,16,16,-16]
[-16,-16,16,16,16,16,16,-16,16,-16,16,16,16,16,-16,-16,-16,-16,-16,16,-16,-16,-16,16,16,16,-16,-16,-16,16,-16,16,16,16,16,16,-16,-16,-16,16,16,16,-16,16,-16,-16,16,-16,16,-16,16,-16,-16,-16,-16,-16,-16,-16,-16,16,16,16,16,-16,16,16,16,-16,-16,-16,16,-16,16,-16,-16,-16,-16,-16,-16,16,-16,-16,16,-16,16,-64,16,-16,16,16,16,-16,-16,16,-16,-16,-16,16,-16,16,-16,16,-16,16,16,16,-16,-16,16,-16,-16,-16,16,-16,16,16,-16,16,16,-16,16,-16,16,16,-16,-16,16,-16]
[-16,-16,16,-16,-16,-16,16,-16,-16,16,16,16,-16,16,16,-16,16,16,-16,16,-64,-16,-16,16,16,-16,16,16,-16,-16,-16,-16,-16,-16,16,16,-16,16,16,16,-16,-16,-16,-16,16,-64,-16,-16,-16,-16,16,16,-16,-16,-16,-16,16,16,-16,-16,-16,-16,-16,16,16,-16,-16,-16,16,16,-64,16,-16,16,-16,-16,-16,64,-16,16,16,16,16,-16,16,-64,-16,16,16,16,-16,16,-16,16,16,-16,64,-16,-16,-16,16,-16,16,-16,-16,16,-16,16,-16,16,16,-16,-16,-16,16,-16,-16,-16,-16,16,-16,-64,16,16,16,-16,-16,-16]
[16,16,16,-16,16,-16,-16,16,16,-16,16,-16,16,-16,-16,16,16,-16,-16,16,16,16,-16,16,-16,-16,-16,-16,-16,-16,-16,-16,-16,-16,-16,-16,16,-16,16,-16,16,16,-16,16,-16,-16,-16,-16,-16,16,-16,16,-16,16,-16,16,-16,16,16,-16,16,-16,-16,16,16,16,16,-16,-16,-16,16,-16,-16,-16,16,16,16,16,16,-16,16,-16,-16,-16,-16,-16,-16,-16,-16,16,16,-16,16,-16,-16,-16,16,-16,16,-16,-16,16,-16,16,-16,-16,-16,-16,-16,16,16,-16,16,-16,-16,16,-16,16,16,-16,-16,-16,-16,-16,-16,16,-16,16]
[16,-16,16,-16,16,-16,-16,16,-16,-16,16,16,16,-16,16,-16,16,-16,16,-16,16,-16,16,16,-16,-16,-16,16,16,16,-16,-16,16,-16,16,-16,16,-16,16,16,-16,-16,16,-16,-16,16,-16,16,-16,-16,16,-16,-16,-16,16,-16,-16,-16,16,-16,16,-16,-16,-16,-16,-16,-16,-16,-16,16,16,-16,16,16,-16,16,16,-16,16,16,-16,16,16,-16,-16,-16,16,-16,-16,16,16,16,-16,16,16,-16,16,-16,16,16,16,16,16,-16,-16,16,16,16,16,16,16,16,-16,16,-16,16,16,16,16,16,-16,16,-16,16,-16,16,16,-16]
[16,-16,16,-16,16,-16,-16,-16,-16,-16,-16,-16,-16,-16,-16,-16,-16,-16,16,-16,16,-16,16,-16,-16,-16,16,-16,16,16,-16,-16,16,16,-16,-16,-16,-16,-16,16,16,16,-16,16,-16,16,16,16,-16,16,-16,-16,-16,-16,-16,-16,-16,16,-16,-16,-16,-16,-16,-16,16,16,-16,16,16,16,16,16,16,-16,-16,16,-16,-16,-16,16,-16,-16,16,16,16,16,16,16,16,-16,-16,16,-16,-16,16,-16,16,-16,-16,16,-16,16,16,-16,-16,-16,16,-16,-16,16,64,16,-16,-16,16,-16,-16,-16,-16,-16,16,16,-16,-16,-16,16,16,16]
[-16,16,16,16,16,-16,-16,16,16,-16,16,-16,16,-16,-16,16,-16,-16,16,16,-16,-16,16,-16,16,16,-16,-16,16,16,16,-16,-16,16,-16,16,16,16,-16,16,16,16,-16,16,-16,16,16,-16,16,-16,-16,16,16,-16,16,16,-16,16,16,-16,-16,16,-16,-16,-16,16,-16,-16,-16,-16,16,-16,-16,16,16,-16,16,16,16,16,-16,16,16,16,-16,16,16,-16,-16,16,16,-16,16,-16,-16,-16,-16,16,16,-16,16,-16,16,-16,16,-16,-16,-16,16,-16,-16,-16,-16,16,16,16,16,-16,16,16,-16,16,-16,16,-16,-16,16,16]
[16,16,-16,-16,16,-16,-16,-16,-16,-16,-16,16,16,-16,-16,16,16,-16,-16,-16,-16,-16,16,-16,-16,16,16,-16,16,16,16,-16,-16,-16,-16,-16,16,-16,16,-16,16,16,-16,16,-16,16,16,16,-16,16,16,-16,-16,-16,16,16,-16,-16,16,-16,-16,16,-16,-16,-16,16,-16,-16,-16,16,16,-16,-16,16,-16,16,16,16,16,-16,16,16,16,-16,-16,-16,-16,16,-16,16,-16,-16,16,-16,16,-16,16,16,-16,16,-16,-16,-16,16,-16,16,16,16,16,-16,16,16,-16,-16,16,-16,-16,-16,-16,16,-16,-16,-16,-16,16,16,-16,16]
[16,-16,16,-16,64,-16,-16,16,-16,-16,16,16,-16,-16,-16,-16,-16,-16,64,16,-16,-16,16,-16,-16,-16,-16,16,16,16,-16,-16,16,16,16,-16,16,-16,-16,16,-16,16,-16,16,16,16,16,-16,16,16,16,-16,-16,-16,16,-16,-16,-16,-16,16,-16,-16,-16,-16,-16,-16,16,16,16,16,-16,-16,16,-16,-16,-16,-16,-16,16,16,-16,-16,16,16,-16,-16,16,16,16,-16,-16,16,16,16,16,16,-16,-16,16,16,16,-16,-16,-16,-16,-16,16,16,16,64,16,16,-16,16,-16,16,16,16,-16,16,16,16,-16,16,16,16,16,16]
[16,16,-16,-16,16,-16,-16,16,-16,-16,-16,-16,16,-16,-16,-16,16,16,16,-16,16,16,16,16,-16,-16,16,-16,16,16,-16,-16,-16,16,16,16,16,-16,16,16,16,-16,16,-16,16,16,16,-16,-16,16,16,16,16,16,-16,-16,-16,-16,16,-16,-16,-16,-16,-16,-16,16,-16,16,-16,16,16,-16,16,-16,16,-16,-16,-16,16,-16,-16,-16,16,-16,-16,16,16,-16,-16,-16,-16,16,16,16,-16,-16,-16,16,16,16,16,-16,-16,-16,-16,-16,-16,-16,-16,-16,16,16,-16,16,-16,16,16,-16,16,-16,-16,16,-16,16,-16,-16,-16,-16]
[-16,-16,16,-16,16,-64,-16,-16,16,-16,16,16,16,64,16,16,16,16,16,-16,16,16,16,16,64,-16,16,16,-16,-16,16,16,16,-16,16,-16,16,16,16,16,16,-16,-16,16,16,16,16,-16,-16,-16,16,16,16,16,16,16,16,-16,16,16,16,16,-16,16,16,16,-16,-16,-16,16,16,-16,16,16,64,16,16,16,-16,-16,16,16,16,16,16,16,-16,-16,16,-16,16,16,16,-16,-16,16,16,16,16,-16,64,-16,-16,16,16,-16,-16,-16,16,-16,16,16,16,16,16,16,-16,16,-16,-16,16,-16,16,16,-16,16,16,16]
[-16,-16,16,-16,-16,16,-16,-16,-16,16,16,16,-16,16,16,16,16,16,-16,-16,-16,-16,-16,16,16,-16,16,-16,-16,-16,16,-16,-16,-16,-16,-16,-16,-16,-16,16,-16,-16,16,16,16,-16,-16,-16,16,-16,16,-16,16,-16,16,-16,-16,16,16,-16,16,-16,16,16,64,16,16,16,16,-16,16,-16,-16,-16,16,-16,16,16,-64,16,16,-16,-16,-16,16,-16,16,16,16,16,16,-16,-16,-16,16,-16,-16,16,-16,16,16,-16,-16,-16,16,-16,-16,16,-16,16,-16,16,16,-16,-16,-16,-16,-16,16,16,16,-16,16,-16,-16,-16,-16,-16]
[16,-16,-16,16,-16,-16,16,16,-16,16,16,-16,16,16,-16,-16,-16,16,-16,-16,16,-16,-16,16,16,-16,16,-16,16,-16,-16,16,-16,-16,-16,16,16,-16,-16,-16,-16,16,16,16,-16,16,16,16,16,-16,-16,-16,-16,-16,-16,-16,16,-16,16,16,-16,-16,-16,-16,16,16,16,16,16,-16,16,16,-16,16,-16,-16,16,-16,-16,-16,-16,-16,-16,16,16,-16,16,-16,-16,16,16,16,-16,-16,16,-16,-16,16,-16,16,-16,16,-16,16,-16,16,-16,16,16,-16,16,16,16,-16,16,-16,-16,-16,16,-16,-16,-16,16,-16,-16,-16,-16,-16]
[16,16,16,-16,-16,-16,16,16,-16,-16,-16,16,16,16,-16,16,16,16,-16,-16,-16,-16,16,-16,16,-16,-16,-16,16,16,-16,16,16,-16,16,-16,-16,16,-16,-16,-16,16,16,16,16,-16,16,16,16,-16,-16,-16,-16,-16,-16,16,16,16,16,16,-16,-16,16,16,-16,-16,-16,-16,-16,-16,-16,16,-16,-16,16,-16,-16,-16,16,-16,16,-16,16,16,-16,-16,-16,-16,-16,16,16,-16,16,-16,16,16,-16,16,-16,-16,-16,-16,16,16,-16,-16,-16,-16,-16,16,16,16,-16,-16,16,-16,-16,16,-16,-16,16,16,-16,-16,16,-16,-16,16]
[-16,16,-16,16,-16,16,16,16,-16,16,16,16,16,16,16,16,16,16,16,16,16,16,-16,-16,-16,16,-16,-16,-16,16,16,16,-16,-16,-16,-16,16,16,-16,16,16,-16,16,16,16,16,-16,-16,16,16,-16,16,-16,-16,-16,16,16,16,16,-16,-16,16,-16,16,16,16,16,-16,-16,16,16,-16,-16,-16,16,16,16,-16,16,16,16,-16,-16,-16,-16,16,-16,16,-16,-16,16,16,16,-16,-16,-16,-16,16,16,-16,16,-16,16,16,-16,16,-16,-16,16,-16,16,-16,16,16,-16,16,-16,16,16,-16,-16,-16,-16,16,16,-16,16,16]
[-16,16,16,-16,-16,-16,-16,-16,-16,-16,-16,16,-16,16,16,16,-16,16,-16,16,-16,16,16,-16,-16,16,16,-16,-16,16,-16,-16,16,-16,16,16,16,16,16,-16,-16,-16,-16,-16,-16,-16,-16,16,-16,16,-16,-16,16,16,-16,-16,16,-16,-16,16,-16,16,-16,-16,-16,-16,16,-16,-16,16,-16,-16,-16,-16,-16,16,16,-16,-16,-16,16,-16,16,16,-16,16,16,16,-16,-16,-16,16,16,16,16,16,16,16,16,-16,16,16,-16,-16,-16,16,16,-16,16,16,16,-16,-16,16,16,-16,-16,-16,16,16,-16,16,16,16,16,16,-16,16]
[16,-16,-16,16,-16,-16,16,-16,-16,16,16,16,-16,-16,16,-16,16,-16,16,16,16,-16,16,-16,-16,-16,-16,16,-16,16,-16,-16,16,-16,16,16,16,16,16,16,16,-16,-16,-16,-16,16,-16,16,-16,-16,-16,-16,-16,-16,16,-16,16,16,-16,-16,-16,16,16,-16,16,-16,-16,16,-16,16,-16,-16,16,-16,16,16,16,-16,16,16,-16,16,16,-16,-16,-16,16,16,16,16,16,16,16,-16,-16,16,-16,16,16,-16,16,-16,-16,16,-16,16,16,16,-16,16,-16,-16,16,16,16,16,-16,-16,16,16,-16,16,16,16,-16,16,16,-16]
[-16,-16,-16,16,16,-16,16,16,-16,-16,-16,16,16,16,16,-16,-16,-16,64,16,16,-16,16,16,16,-16,-16,16,-16,16,-16,16,16,16,-16,-16,-16,-16,-16,16,-16,16,16,-16,-16,16,16,-16,-16,-16,-16,-16,-16,16,16,-16,16,-16,16,16,16,-16,-16,-16,-16,-16,16,-16,-16,-16,16,16,16,-16,16,-16,16,-16,-16,16,16,-16,16,-16,16,16,16,16,-16,16,16,16,-16,-16,16,16,16,16,-16,16,-16,16,-16,-16,16,-16,16,16,16,-16,16,16,16,-16,-16,16,16,-16,-16,16,16,16,16,16,-16,16,16,-16]
[16,-16,-16,16,-16,16,-16,16,-16,-16,-16,16,-16,-16,-16,16,16,16,-16,-16,-16,16,-16,16,-16,16,16,-16,16,-16,16,16,-16,16,-16,-16,-16,-16,-16,16,-16,-16,-16,-16,-16,-16,-16,16,16,-16,16,-16,16,16,-16,-16,-16,-16,-16,-16,-16,-16,16,16,16,-16,16,16,-16,-16,-16,16,-16,-16,-16,16,16,-16,16,-16,-16,16,-16,16,-16,-16,-16,16,16,16,16,-16,-64,-16,-16,16,16,16,-16,-16,-16,-16,-16,-16,-16,16,16,-16,-16,-16,16,16,-16,-16,-16,-16,16,-16,16,-16,-16,-16,-16,16,-16,-64,-16,16]
[-16,16,16,-16,-16,16,16,16,16,16,-16,16,16,-16,16,16,16,-16,16,16,-16,-16,-16,-16,16,-16,16,-16,16,-16,16,-16,16,-16,16,-16,-16,-16,-16,16,-16,-16,-16,16,16,16,-16,-16,-16,16,16,-16,-16,-16,-16,-16,16,16,16,-16,-16,-16,-16,16,-16,-16,-16,16,16,-16,-16,-16,-16,-16,16,16,-16,16,-16,-16,16,-16,16,-16,-16,-16,-16,16,16,-16,16,16,16,-16,16,-16,-16,16,16,-16,16,16,-16,-16,16,-16,16,16,-16,16,16,16,16,16,-16,-16,-16,16,-16,-16,16,16,16,-16,16,-16,16,16]
[16,16,-16,-16,16,-16,-16,-16,-16,16,-16,16,-16,16,-16,-16,-16,-16,-16,-16,-16,16,-16,-16,16,16,-16,-16,-16,-16,-16,16,16,-16,-16,-16,-16,-16,-16,16,16,-16,16,16,-16,16,16,16,-16,16,-16,-16,16,-16,16,16,-16,16,-16,-16,-16,-16,16,16,16,-16,16,-16,-16,16,16,-16,-16,-16,16,16,16,16,16,16,16,16,-16,-16,-16,-16,16,-16,-16,16,-16,-16,-16,-16,-16,16,-16,16,-16,16,16,-16,-16,16,16,-16,16,-16,16,16,-16,-16,-16,16,16,16,16,-16,-16,-16,16,16,-16,-16,16,16,-16,16]
[-16,-16,16,-16,-16,16,16,-16,-16,16,-16,-16,-16,16,16,16,-16,-16,-16,16,-16,-16,-16,16,16,-16,16,16,16,-16,-16,-16,-16,16,-16,16,-16,16,-16,-16,-16,-16,-16,-16,-16,-16,-16,16,-16,-16,-16,16,16,-16,-16,-16,16,-16,-16,16,-16,-16,16,16,-16,-16,16,-16,16,-16,16,16,-16,-16,-16,-16,16,-16,16,-16,-16,-16,16,-16,-16,-16,-16,-16,16,-16,-16,-16,16,16,16,16,16,-16,-16,-16,16,-16,-16,16,-16,-16,16,-16,16,-16,16,-16,16,-16,16,-16,16,16,-16,-16,16,-16,16,-16,16,-16,-16,-16]
[-16,-16,-16,-16,16,-16,-16,-16,-16,-16,16,16,16,16,16,-16,16,-16,16,-16,16,-16,-16,-16,16,16,-16,16,-16,16,-16,-16,16,-16,16,-16,-16,-16,-16,-16,-16,-16,-16,16,-16,-16,-16,-16,-16,-16,16,16,-16,16,16,-16,-16,-16,-16,16,-16,-16,16,-16,-16,16,16,-16,-16,64,-16,-16,-16,-16,-16,16,-16,-16,16,-16,-16,16,16,-16,-16,-16,16,-16,16,16,16,16,16,-16,16,16,-16,16,16,16,16,16,16,16,-16,16,-16,16,-16,16,64,-16,16,16,-16,16,-16,-16,-16,-16,16,-16,-16,64,16,16,16,-16]
[-16,16,-16,16,-16,-16,16,16,-16,16,-16,16,-16,16,16,-16,16,16,-16,-16,-16,16,16,16,-16,-16,-16,-16,-16,16,16,-16,16,-16,-16,16,16,-16,16,16,16,-16,16,16,16,-16,16,-16,-16,-16,16,-16,-16,-16,16,-16,-16,-16,-16,-16,-16,16,-16,-16,16,16,-16,16,16,-16,16,16,-16,16,16,-16,16,-16,16,16,-16,16,-16,16,-16,-16,-16,-16,16,-16,-16,-16,-16,-16,-16,-16,16,-16,16,16,16,-16,16,-16,-16,-16,16,-16,-16,16,-16,16,-16,16,16,16,-16,-16,16,16,-16,-16,16,16,-16,16,16,-16]
[-16,16,-16,-16,-16,16,-16,-16,-16,16,-16,-16,16,-16,-16,16,16,16,16,-16,16,16,-16,16,-16,-16,-16,-16,16,-16,16,-16,16,-16,16,-16,-16,16,-16,16,-16,-16,16,-16,-16,-16,-16,16,-16,-16,-16,16,-16,16,-16,-16,-16,-16,-16,16,16,-16,-16,16,16,-16,16,16,16,16,-16,16,16,-16,16,16,16,-16,16,16,16,16,16,-16,-16,16,-16,-16,-16,-16,64,-16,16,-16,-16,16,16,16,16,16,16,-16,-16,-16,-16,16,-16,-16,-16,-16,16,-16,16,16,-16,16,16,-16,16,-16,-16,16,-16,16,16,-16,-16,16]
[-16,-16,16,-16,-16,-16,16,-16,-16,-16,-16,-16,-16,16,-16,16,-16,16,16,-16,-16,-16,-16,16,16,-16,-16,-16,16,-16,-16,16,16,16,-16,-16,-16,16,-16,16,-16,16,-16,-16,-16,-16,16,-16,16,-16,16,16,16,-16,16,16,16,-16,16,-16,-16,-16,-16,-16,16,16,16,16,-16,-16,16,16,-16,-16,-16,-16,16,16,-16,-16,16,-16,-16,-16,16,-16,-16,-16,-16,-16,-16,-16,16,16,16,16,-16,16,-16,-16,16,-16,-16,16,16,-16,-16,-16,16,16,16,16,16,-16,16,-16,16,16,-16,-16,-16,-16,16,-16,-16,16,-16,-16]
[16,-16,16,-16,16,16,16,16,-16,16,16,16,16,-16,-16,16,16,-16,16,-16,16,16,16,16,-16,16,16,16,-16,-16,-16,-16,16,16,16,16,-16,-16,-16,16,-16,-16,-16,-16,16,16,-16,-16,-16,-16,16,-16,-16,-16,16,-16,-16,-16,16,-16,16,-16,16,-16,16,16,16,16,16,16,16,16,16,16,16,16,16,16,-16,-16,-16,-16,-16,16,-16,-16,-16,16,16,-16,16,16,-16,16,-16,-16,16,16,16,-16,-16,-16,-16,-16,-16,-16,-16,16,-16,16,-16,16,-16,-16,16,-16,-16,16,16,16,16,16,-16,-16,-16,-16,16,16]
[-16,-16,16,-16,16,16,-16,-16,16,-16,16,-16,-16,-16,16,16,-16,16,-16,-16,16,16,-16,-16,-16,-16,16,-16,16,16,-16,-16,-16,-16,16,16,-16,16,16,-16,16,16,-16,16,-16,16,-16,16,16,16,-16,-16,-16,-16,16,16,16,16,16,-16,-16,16,-16,-16,16,16,16,16,-16,-16,-16,16,16,16,16,-16,16,-16,-16,-16,16,16,16,-16,16,-16,-16,16,16,16,-16,-16,-16,16,-16,16,-16,-16,16,16,-16,-16,-16,-16,16,16,16,-16,-16,16,-16,-16,-16,16,16,16,16,-16,16,-16,16,-16,16,-16,-16,16,16,-16]
[-16,-16,-16,16,16,16,16,-16,16,16,-16,-16,-16,-16,-16,16,-16,-16,16,-16,-16,-16,16,-16,16,-16,-16,-16,-16,-16,-16,16,16,-16,-16,16,16,16,16,16,-16,-16,-16,16,-16,16,-16,-16,16,-16,16,-16,-16,-16,16,-16,-16,16,16,-16,-16,16,16,-16,16,16,16,-16,-16,16,16,16,16,-16,-16,-16,16,16,16,-16,-16,-16,-16,-16,16,-16,-16,16,16,-16,-16,-16,-16,16,-16,16,-16,-16,16,16,16,-16,16,-16,16,16,16,16,-16,-16,-16,16,16,-16,16,16,16,16,16,16,-16,-16,16,16,16,-16,16,-16]
[-16,16,-16,16,-16,16,-16,64,-16,-64,16,-16,-16,-64,-16,-16,-16,64,-16,-16,-16,16,-16,16,16,-16,16,16,-16,-16,-64,-16,16,-16,16,16,16,16,16,-16,16,16,16,-16,-16,16,-16,-16,-16,16,16,-16,-16,-16,-16,16,16,64,16,16,-16,-16,-16,16,-16,-16,16,16,-16,-16,-16,16,-16,-16,-16,-16,16,16,16,16,-16,16,16,-16,-16,-16,16,64,16,-16,16,16,-16,16,16,16,-16,16,16,-16,-16,16,-16,-16,16,-16,-16,16,16,-16,-16,-16,-16,16,64,16,16,-16,16,-16,-16,16,-16,16,16,16,-16,-64]
[-16,-16,-16,-16,-16,-16,16,-16,16,16,-16,16,16,-16,16,-16,16,16,-16,-16,16,-16,16,16,-16,16,-16,16,-16,-16,-16,16,-16,-16,16,-16,-16,16,-16,-16,-16,16,-16,16,-16,-16,-16,16,16,16,16,-16,-16,-16,-16,-16,-16,16,16,-16,16,16,-16,16,16,64,16,-16,-16,16,16,16,16,-16,-16,16,16,-16,16,-16,16,-16,-16,-16,16,16,-16,16,16,16,16,16,-16,16,-16,-16,-16,-16,16,16,-16,16,-16,16,16,16,16,-16,-16,-16,-16,-16,16,-16,16,16,-16,16,16,-16,-16,-16,16,-16,-16,-16,-16,-16]
[16,16,16,16,-16,16,16,-16,16,64,16,-16,-64,-16,16,16,-16,16,-16,-16,16,-16,16,-16,16,-16,-16,-16,-16,-16,16,16,-16,-16,-16,16,16,16,-16,16,-16,16,16,16,-16,16,-16,-16,64,-16,16,-16,16,-16,16,16,-16,64,16,-16,16,-16,-16,16,16,16,-16,-16,-16,-16,16,16,-16,-16,-16,-16,16,16,16,-16,16,16,-16,-16,-16,16,-16,16,16,-16,16,-16,-16,16,16,-16,16,16,-16,-16,-16,-16,16,-16,16,-16,-16,16,16,-16,-16,16,-16,-64,16,-16,16,16,-16,16,-16,16,-16,-16,-16,-16,-16,-16]
[16,16,-16,16,16,-16,-16,-16,-16,16,16,16,-16,-16,16,-16,16,16,16,-16,16,-16,-16,-16,-16,-16,-16,16,16,16,16,-16,16,-16,-16,-16,-16,-16,16,16,16,16,-16,16,-16,16,-16,-16,16,-16,-16,-16,16,-16,16,-16,16,16,-16,16,-16,16,-16,16,16,16,16,16,16,-16,16,-16,16,-16,16,16,-16,-16,-16,16,16,16,16,-16,-16,16,16,-16,-16,-16,-16,16,-16,-16,16,16,16,16,-16,16,-16,-16,-16,-16,-16,-16,-16,-16,-16,16,-16,16,16,16,16,-16,16,16,-16,16,-16,16,-16,-16,-16,-16,16,16]
[-16,16,16,-16,16,16,16,-16,16,16,-16,-16,16,16,16,16,16,16,16,16,16,16,16,16,16,-16,16,16,16,16,16,-16,16,16,-16,-16,16,-16,16,16,16,16,16,16,16,16,16,-16,16,-16,-16,-16,16,-16,16,16,-16,16,16,-16,16,16,16,16,16,16,-16,16,16,16,16,-16,-16,16,-16,-16,16,-16,16,-16,16,16,16,16,-16,-16,16,-16,-16,16,16,-16,-16,16,16,-16,16,16,-16,-16,16,16,16,-16,-16,16,-16,-16,16,16,16,16,16,16,-16,16,16,16,16,16,-16,-16,-16,-16,16,-16,16,16]
[16,-16,16,16,16,16,16,-16,16,-16,-16,16,-16,-16,16,-16,16,-16,-16,16,16,-16,16,-16,-16,-16,-16,-16,16,-16,16,16,16,-16,-16,-16,16,-16,16,-16,-16,-16,-16,16,-16,16,16,-16,-16,16,16,16,-16,16,-16,16,-16,16,-16,-16,-16,16,-16,-16,-16,-16,-16,-16,-16,-16,16,16,16,16,16,-16,16,-16,16,-16,16,-16,16,16,-16,-16,-16,-16,16,-16,16,-16,16,16,16,16,-16,-16,16,16,-16,16,-16,16,16,-16,16,-16,16,-16,-16,16,-16,16,-16,-16,16,16,16,-16,16,16,16,-16,16,16,16,-16]
[16,16,-16,16,-16,16,-16,16,16,-16,16,16,16,16,16,-16,-16,64,16,-16,-16,16,16,-16,16,16,-16,16,16,-16,-16,64,-16,16,-16,-16,16,16,-16,-16,-16,16,-16,16,16,16,16,-16,-16,16,16,-64,16,16,-16,16,16,16,16,16,16,16,-16,-16,-64,16,-16,16,16,16,16,-16,16,16,-16,16,-16,-16,16,-16,16,16,16,-16,16,-16,16,16,-16,-16,16,-16,-16,-16,-16,16,-16,16,-16,16,-16,16,16,-16,16,-16,16,-16,16,-16,-16,-16,16,16,16,-16,-16,-16,16,-16,16,16,-16,16,16,16,16,-16]
[16,-16,16,-16,-16,16,-16,16,-16,-16,-16,-16,16,16,16,16,16,-16,-16,-16,-16,-16,-16,16,16,16,-16,-16,16,-16,-16,16,-16,-16,-16,-16,-16,16,16,-16,-16,16,-16,-16,-16,-16,-16,16,16,-16,-16,-16,16,-16,16,-16,16,16,16,-16,-16,-16,-16,16,-16,16,16,-16,-16,-16,16,-16,16,-16,16,16,16,-16,16,-16,16,16,-16,-16,16,-16,16,-16,-16,-16,16,-16,16,16,-16,-16,-16,-16,16,-16,-16,16,16,16,-16,-16,16,-16,-16,-16,-16,-16,-16,-16,16,16,-16,16,-16,-16,-16,16,16,-16,16,-16,-16,16]
[-16,16,-16,16,-16,-16,-16,16,-16,16,16,-16,-64,-16,-16,-16,-16,16,-16,-16,16,16,16,-16,16,16,-16,16,-16,-16,-16,16,-16,16,-16,16,-16,16,16,-16,-16,16,16,-16,-16,16,16,16,16,-16,-16,-16,-16,16,16,-16,16,16,-16,16,-16,-16,-16,16,16,-16,-16,16,-16,-16,16,64,16,-16,-16,-16,16,16,-16,16,-16,16,16,16,16,16,-16,16,-16,-16,-16,-16,-16,-16,16,-16,-16,16,-16,-16,-64,16,-16,-16,16,-16,16,-16,16,-16,-16,16,-16,-16,16,-16,16,16,-16,16,-16,-16,-16,16,-16,-16,-16,-16]
[-16,16,-16,16,16,-16,16,16,16,16,-16,16,16,16,-16,16,-16,-16,16,-16,-16,16,16,-16,16,-16,-16,-16,16,16,16,16,16,-16,16,-16,16,16,-16,16,-16,-16,16,16,16,-16,-16,-16,16,-16,16,16,-16,16,16,16,16,16,-16,16,-16,16,16,16,16,-16,16,16,16,-16,-16,-16,-16,16,16,16,16,-16,16,16,16,16,-16,-16,-16,-16,16,-16,-16,-16,-16,-16,16,-16,-16,16,-16,16,16,-16,16,16,16,16,-16,-16,16,-16,16,-16,-16,16,-16,-16,16,-16,-16,16,-16,-16,-16,-16,16,16,-16,16,16,16]
[-16,16,-16,16,-16,16,-16,-16,-16,16,16,16,-16,-16,16,16,-16,16,-16,-16,16,-16,-16,16,-16,-16,16,-16,-16,-16,16,16,-16,-16,16,-16,-16,-16,-16,-16,-16,-16,-16,-16,-16,16,-16,-16,16,16,-16,-16,16,-16,-16,-16,-16,64,-16,-16,-16,16,-16,16,16,16,-16,-16,16,-16,-16,16,-16,16,-16,16,-16,-16,-16,-16,16,16,-16,-16,-16,16,-16,16,-16,-16,16,-16,-16,16,16,-16,-16,16,-16,16,16,-16,16,16,16,-16,-16,-16,-16,-16,-16,16,16,-16,16,-16,16,16,-16,16,-16,16,-16,16,-16,-16,-16,16]
[-16,-16,16,16,16,16,-16,-16,16,-16,-16,16,16,16,-16,-16,-16,-16,-16,16,-16,-16,16,-16,16,16,-16,16,-16,16,16,16,16,-16,-16,16,16,-16,-16,16,-16,-16,-16,-16,-16,-64,-16,-16,16,-16,-16,16,16,16,-16,16,-16,-16,16,16,-16,-16,16,-16,16,16,-16,-16,-16,16,-16,16,16,16,-16,-16,-16,-16,-16,-16,-16,-16,16,16,16,-16,-16,-16,16,16,16,-16,-16,-16,16,-16,16,16,-16,16,16,-16,16,16,16,16,-16,-16,16,16,-16,-16,16,-16,16,16,-16,16,16,-16,16,-16,16,-16,-16,-16,-16,-16]
[-16,16,16,-16,16,-16,-16,-16,-16,-16,16,16,16,-16,-16,-16,16,-16,16,16,16,16,16,16,-16,-16,-16,16,-16,16,16,-16,-16,-16,-16,16,16,16,-16,16,16,16,16,16,16,-16,16,16,16,-16,-16,16,-16,-16,-16,-16,16,-16,16,16,-16,16,-16,16,16,16,-16,-16,16,16,16,-16,16,16,16,16,16,16,-16,16,-16,16,-16,-16,16,16,-16,16,-16,-16,16,-16,-16,16,16,16,16,-16,16,16,16,16,-16,16,-16,16,-16,-16,-16,16,16,16,16,16,16,16,-16,-16,-16,16,16,-16,16,-16,16,-16,16,-16]
[16,-16,16,-16,16,16,-16,-16,-16,16,16,16,-16,-16,16,-16,16,-16,16,-16,16,16,16,-16,-16,-16,-16,-16,16,16,16,16,16,16,16,-16,16,-16,-16,16,-16,-16,-16,16,-16,-16,16,-16,-16,16,-16,16,-16,16,16,16,-16,-16,16,16,-16,-16,-16,-16,-16,-16,16,-16,-16,16,16,-16,16,-16,-16,-16,-16,-16,-16,-16,-16,-16,16,-16,-16,16,16,16,16,-16,16,16,-16,-16,16,-16,-16,-16,-16,16,-16,-16,-16,16,16,16,16,16,16,16,16,16,16,16,-16,-16,-16,-16,-16,-16,-16,-16,16,16,16,16,16,-16]
[-16,16,-16,-16,-16,16,-16,16,-16,16,-16,64,16,16,-16,16,16,16,16,-16,64,16,-16,16,-16,-16,-16,-16,16,-16,16,16,-16,16,16,16,16,-16,-16,-16,-16,-16,-16,16,-16,16,-16,-16,16,-16,-16,-16,-16,-16,-16,16,-16,16,-16,16,16,-16,-16,16,-16,16,16,16,-16,16,16,16,-64,-16,16,16,-16,-64,16,-16,16,16,-16,-16,-16,16,-16,16,-16,16,16,-16,-16,-16,-16,-16,-16,16,16,64,16,16,-16,16,16,16,-16,-16,-16,-16,-16,-16,16,16,-16,16,-16,16,16,-16,-16,16,-16,-16,16,-16,-16,16]
[16,-16,16,-16,16,16,16,16,-16,16,16,16,-16,16,-16,-16,16,-16,-16,-16,16,16,16,-16,-16,16,16,-16,16,16,16,-16,16,16,16,-16,16,-16,16,16,-16,-16,-16,16,-16,16,16,-16,-16,-16,16,-16,16,16,-16,-16,-16,16,-16,16,-16,-16,-16,-16,16,16,16,16,-16,16,-16,-16,-16,16,-16,-16,-16,-16,-16,-16,16,16,16,-16,16,16,16,-16,-16,16,16,-16,-16,-16,16,16,-16,-16,-16,16,16,-16,-16,16,-16,-16,-16,16,-16,16,-16,16,16,16,-16,16,16,-16,-16,16,16,-16,-16,16,-16,16,16,16]
[-16,-16,16,-16,-16,16,16,-16,-16,16,-64,-16,16,-16,-16,-16,16,-16,-16,-16,-16,-16,-16,16,16,16,16,-16,16,-16,-16,-16,16,16,16,16,16,16,-16,16,16,16,16,-16,-16,-64,-16,16,16,16,16,16,-16,-16,-16,16,-16,-16,-16,16,-16,16,16,16,16,-16,-16,-16,-16,16,-16,-16,16,-16,16,-16,16,16,16,16,-16,-16,-16,-16,-16,16,-16,-16,16,-16,16,-16,-16,-16,-16,-16,-16,-16,16,-16,16,16,16,-16,-16,-16,16,-16,16,-16,16,-16,16,-16,64,16,16,16,16,-16,-16,16,-16,-16,16,-16,-16,-16]
[-16,-16,-16,-16,16,16,-16,16,-16,-16,16,16,-16,-16,-16,-16,16,-16,-16,16,-16,16,-16,-16,16,-16,-16,16,-16,16,-16,16,-16,-16,16,16,-16,-16,16,-16,-16,-16,16,-16,-16,-16,-16,16,-16,16,-16,-16,-16,-16,16,16,16,16,-16,-16,-16,16,-16,-16,16,16,16,-16,-16,16,-16,-16,-16,16,-16,-16,-16,16,-16,-16,-16,-16,16,16,16,-16,-16,16,16,16,16,16,-16,-16,64,-16,-16,16,16,16,16,16,-16,16,16,-16,-16,16,-16,16,16,-16,16,16,-16,-16,-16,-16,-16,-16,-16,-64,16,16,-16,-16,16,16]
[-16,-16,16,16,16,16,-16,-16,16,-16,-16,16,-16,-16,-16,-16,16,16,16,-16,16,-16,-16,16,16,16,16,16,-16,16,-16,16,-16,16,16,-16,-16,-16,16,-16,-16,-16,16,16,-16,-16,16,-16,16,-16,16,-16,-16,-16,-16,-16,16,16,16,16,16,16,16,-16,-16,-16,-16,-16,-16,-16,16,16,-16,-16,-16,-16,-16,-16,16,16,16,-16,16,-16,-16,16,16,16,-16,16,16,-16,16,-16,-16,16,16,16,16,16,16,-16,-16,16,16,-16,-16,16,16,-16,-16,-16,-16,-16,16,-16,-16,-16,16,-16,16,-16,16,16,-16,-16,-16,16]
[-16,-16,-16,16,16,-16,-16,16,-16,16,-16,-16,16,-16,-16,-16,-16,16,16,16,16,16,-16,-16,-16,16,16,-16,16,-16,16,16,-16,16,16,16,16,16,16,-16,-16,16,16,16,16,-16,16,-16,-16,-16,-16,-16,-16,-16,-16,-16,16,-16,16,16,16,16,-16,-16,16,-16,16,-16,16,16,16,-16,16,-16,16,-16,-16,-16,-16,-16,-16,16,16,16,-16,-16,-16,-16,16,-16,-16,-16,16,16,16,16,-16,16,16,-16,-16,-16,16,16,16,-16,-16,16,16,16,16,16,16,-16,16,-16,-16,16,16,-16,16,-16,-16,-16,-16,-16,16,16]
[16,-16,-16,16,-16,16,-16,-16,-16,16,-16,16,16,16,-16,16,16,16,16,16,16,16,-16,-16,-16,-16,-16,16,-16,-16,16,16,-16,-16,-16,-16,-16,-16,16,-16,-16,-16,-16,16,16,-16,-16,16,16,-16,-16,-16,16,-16,-16,-16,-16,16,-16,-16,16,16,-16,-16,16,-16,-16,-16,-16,16,16,16,-16,-16,16,16,-16,-16,-16,16,16,-16,16,-16,16,16,-16,16,-16,16,16,16,16,-16,-16,-16,-16,16,16,16,16,-16,-16,16,-16,-16,-16,-16,-16,-16,16,-16,16,64,16,-16,16,-16,16,-16,-16,-16,16,16,-16,16,16,16]
[-16,-16,-16,-16,16,-16,-16,-16,-16,16,-16,16,16,-16,16,16,16,-16,16,16,-16,-16,-16,-16,-16,-16,16,-16,-16,16,-16,-16,16,-16,16,-16,-16,-16,16,16,-16,16,-16,16,-16,-16,16,-16,16,-16,16,-16,-16,-16,-16,16,16,-16,16,16,-16,-16,-16,-16,16,-16,16,16,16,-16,-16,16,-16,16,16,-16,-16,16,16,-16,16,16,16,16,-16,-16,-16,-16,-16,-16,16,16,-16,-16,16,-16,16,16,-16,16,16,16,16,16,-16,-16,-16,-16,16,-16,16,16,16,16,16,-16,-16,-16,-16,16,16,-16,16,16,16,16,16,16]
[16,-16,16,16,-16,-16,16,-16,16,-16,16,16,16,16,16,-16,-16,-16,16,-16,16,16,-16,-16,16,16,16,16,-16,-16,-16,16,-16,-16,-16,-16,-16,-16,-16,-16,16,-16,-16,16,-16,16,16,-16,16,-16,-16,-16,-16,16,-16,-16,-16,-16,16,-16,-16,-16,-16,16,16,-16,-16,-16,-16,16,16,-16,16,-16,-16,16,-16,-16,-16,-16,-16,-16,16,16,16,-16,16,-16,16,16,16,-16,16,16,-16,16,-16,-16,16,16,16,-16,16,-16,16,-16,-16,-16,16,-16,16,-16,16,16,16,-16,-16,-16,16,16,16,-16,16,-16,-16,16,16,-16]
[16,16,16,16,16,16,16,16,16,16,-16,-16,-16,-16,16,16,16,16,-16,-16,16,-16,-16,16,16,-16,-16,16,-16,-16,16,16,16,16,16,-16,16,-16,16,-16,16,16,-16,16,-16,-16,16,-16,16,-16,16,16,-16,16,-16,16,16,-16,-16,-16,-16,16,-16,16,16,-16,-16,16,16,16,-16,-16,16,16,-16,-16,-16,16,-16,16,-16,-16,16,16,-16,-16,16,16,16,16,-16,16,16,-16,-16,16,16,-16,16,-16,16,16,-16,16,-16,-16,-16,-16,16,-16,-16,16,16,-16,-16,16,16,-16,16,16,16,-16,16,16,16,-16,16,-16]
[16,-16,-16,16,-16,16,16,-16,16,16,16,16,16,-16,-16,16,16,-16,-16,-16,16,16,16,-16,-16,-16,-16,16,-16,-16,-16,16,16,-16,16,-16,-16,-16,-16,-16,-16,16,-16,16,16,16,16,16,-16,-16,16,-16,16,-16,16,-16,-16,16,-16,-16,16,16,16,-16,16,-16,16,16,-16,-16,16,16,64,-16,-16,16,16,-16,-16,16,-16,16,16,-16,-16,16,16,-16,16,16,16,16,-16,-16,16,-16,-16,16,-16,16,-16,16,-16,-16,16,16,16,-16,-16,-16,-16,16,16,-16,16,16,-16,16,-16,16,16,16,-16,-16,-16,16,16,-16]
[16,-16,16,-16,16,16,-16,16,16,16,16,16,16,16,16,16,-16,-16,16,-16,16,-16,-16,16,16,-16,16,-16,-16,16,16,16,16,-16,16,16,-16,-16,16,16,16,-16,-16,16,-16,-16,16,16,16,16,16,16,-16,-16,-16,16,-16,-16,16,-16,16,16,16,-16,16,16,-16,16,16,16,16,-16,16,-16,-16,16,16,-16,-16,16,16,16,-16,-16,-16,-16,16,-16,-16,-16,16,-16,16,16,16,-16,16,-16,-16,16,-16,-16,16,-16,-16,16,16,16,16,16,16,-16,-16,16,16,16,16,16,16,-16,16,16,16,-16,16,-16,16,-16]
[16,16,16,-16,-16,-16,-16,16,16,16,16,-16,-16,16,-16,16,-16,16,16,16,-16,-16,-16,16,-16,-16,16,-16,16,-16,-16,16,-16,16,16,-16,16,-16,16,16,-16,-16,16,-16,-16,-16,16,16,-16,16,16,16,16,16,-16,-16,16,-16,16,16,16,16,16,16,-16,-16,-16,-16,16,-16,-16,16,16,-16,16,16,-16,16,-16,-16,-16,16,16,16,-16,-16,16,-16,16,-16,16,-16,-16,16,-16,-16,-16,16,-16,16,16,-16,16,16,-16,-16,16,-16,16,16,16,16,16,-16,16,-16,16,16,-16,-16,16,-16,-16,-16,16,-16,-16,-16]
[-16,-16,16,64,16,-16,-16,-16,16,16,-16,16,64,64,16,-16,-16,-16,16,-16,-16,-16,-16,16,16,16,-16,16,-16,16,-16,16,64,16,16,-16,16,-16,-16,-16,16,-16,-16,16,-16,-64,64,-16,-16,16,-16,-16,16,16,-64,-16,-16,-16,-16,64,-16,-16,-16,16,16,-16,-16,16,-16,-16,16,-16,64,-16,16,-16,-16,-64,-64,-16,-16,16,16,16,-16,-16,-16,-16,16,-16,16,-16,-16,16,-16,16,16,-16,-64,16,16,16,16,16,16,-16,-16,-16,16,-16,-16,-16,64,-16,16,-16,-16,-16,16,16,16,-16,16,-16,-16,64,-16,-16]
[16,16,16,-16,16,-16,-16,-16,16,-16,-16,-16,-16,16,16,-16,-16,16,-16,-16,16,16,16,-16,16,-16,16,16,-16,-16,-16,16,16,-16,-16,16,16,16,16,-16,-16,-16,16,-16,16,-16,-16,-16,16,16,-16,16,16,-16,-16,16,-16,-16,16,16,16,16,16,-16,-16,-16,-16,-16,-16,16,16,-16,-16,16,-16,16,-16,16,-16,16,16,16,16,-16,16,-16,16,-16,-16,-16,16,-16,16,16,-16,16,-16,16,16,-16,-16,16,16,-16,16,-16,-16,-16,-16,16,-16,-16,-16,-16,-16,16,16,-16,16,-16,-16,-16,16,16,16,16,16,16]
[16,-16,16,16,-16,-16,16,-16,16,-16,-16,16,-16,16,16,-16,-16,-16,-16,16,-16,-16,-16,16,16,-16,16,-16,-16,16,16,-16,16,16,16,-16,16,16,-16,-16,-16,16,-16,16,-16,16,16,-16,-16,-16,-16,16,-16,-16,16,-16,-16,-16,16,-16,-16,-16,-16,-16,-16,-16,-16,16,16,16,16,16,16,-16,16,-16,-16,16,-16,-16,-16,16,16,16,16,16,-16,-16,16,-16,16,-16,-16,-16,16,-16,-16,16,-16,16,16,-16,16,16,16,-16,16,16,16,16,16,16,16,16,-16,16,-16,-16,-16,-16,16,-16,16,16,-16,16,16,-16]
[-16,16,16,-16,16,16,16,16,-16,-16,16,16,16,16,-16,16,16,-16,-16,-16,16,-16,-16,16,-16,16,16,-16,-16,-16,16,16,16,16,-16,-16,-16,16,-16,-16,16,-16,16,-16,-16,16,-16,-16,16,16,-16,16,-16,16,-16,16,16,-16,16,16,-16,-16,16,-16,-16,16,-16,-16,16,16,16,-16,16,-16,-16,16,-16,16,-16,-16,-16,16,-16,-16,-16,16,16,-16,-16,16,16,16,-16,16,-16,-16,16,16,-16,-16,-16,-16,16,-16,16,16,16,16,16,16,16,16,-16,16,16,16,16,16,-16,16,16,-16,16,16,-16,16,16,-16]
[-16,16,16,-16,-16,-16,-16,-16,16,-16,16,16,-16,-16,-16,16,-16,-16,16,-16,-16,16,16,-16,-16,16,-16,16,-16,-16,-16,16,-16,-16,-16,-16,-16,-16,16,-16,-16,16,-16,16,16,16,16,-16,16,-16,16,16,16,16,16,-16,16,-16,16,-16,16,-16,16,16,-16,16,16,16,-16,-16,-16,16,16,-16,-16,16,16,16,-16,-16,16,-16,-16,16,-16,16,16,16,16,16,-16,-16,16,-16,-16,16,-16,16,16,16,-16,-16,-16,16,16,-16,16,-16,16,-16,-16,-16,16,16,16,-16,16,16,16,-16,16,-16,16,-16,-16,-16,16,16]
[16,16,-16,-16,-16,-16,16,16,-16,16,16,16,-16,16,16,64,-16,16,-16,-16,16,-16,16,-16,-16,16,-16,-16,-16,-16,16,16,-16,16,16,-16,16,-16,-16,-16,-16,16,-16,-16,-16,16,-16,-16,16,16,-16,16,-16,-16,16,-16,-16,16,-16,-16,16,-16,-16,16,-16,-16,-16,16,16,16,16,16,16,16,-16,16,16,-16,16,-16,16,16,-16,-16,-16,16,16,16,-16,-16,16,-16,-16,-16,16,-16,16,16,16,16,-16,16,-16,-16,16,-16,-16,-16,16,16,-16,16,16,16,16,16,-16,16,-16,-16,-16,16,-16,-16,16,-16,-16,16]
[-16,16,16,16,16,-16,16,16,16,-16,16,16,16,-16,-16,-16,16,-16,16,-16,16,16,-16,16,16,16,-16,-16,-16,16,16,16,16,-16,16,16,16,16,16,-16,16,16,-16,16,16,16,16,-16,16,16,-16,16,16,16,-16,-16,16,16,16,-16,-16,16,-16,-16,-16,16,16,16,16,16,-16,16,-16,-16,-16,16,16,16,16,-16,-16,16,-16,-16,16,16,-16,16,16,16,-16,-16,-16,-16,-16,-16,-16,16,16,16,16,-16,-16,16,-16,16,-16,-16,-16,16,16,-16,-16,16,-16,16,-16,-16,16,-16,16,16,16,16,-16,-16,16,-16]
[-16,-16,-16,-16,16,-16,-16,-16,-16,16,-16,16,-16,-16,-16,-16,16,16,16,-16,16,16,16,-16,-16,-16,-16,16,16,-16,-16,16,-16,-16,16,-16,-16,16,-16,16,-16,16,16,16,-16,-16,-16,16,-16,16,16,-16,-16,-16,16,16,16,16,-16,16,16,16,-16,-16,-16,-16,-16,16,16,16,16,16,16,-16,16,16,16,-16,-16,-16,-16,-16,-16,-16,-16,16,16,16,-16,16,16,-16,-16,-16,-16,-16,-16,16,16,16,-16,-16,-16,16,-16,16,-16,-16,-16,16,16,16,-16,16,16,16,-16,16,-16,-16,-16,16,-16,16,-16,16,16,-16]
[-16,16,-16,-16,-16,16,16,16,-16,16,16,-16,16,-16,-16,-16,16,16,16,-16,-16,-16,-16,16,-16,16,-16,-16,-16,16,16,-16,16,16,-16,-16,16,16,-16,16,-16,-16,16,16,-16,-16,-16,-16,-16,16,-16,-16,16,-16,-16,16,16,-16,-16,16,16,-16,16,-16,-16,-16,16,16,16,-16,-16,16,16,-16,-16,-16,16,-16,16,-16,-16,16,16,16,-16,-16,16,16,16,-16,-16,16,16,-16,16,16,-16,-16,16,-16,16,16,-16,16,16,16,16,16,16,-16,16,-16,-16,-16,-16,-16,-16,-16,-16,-16,16,16,16,-16,-16,-16,-16,16]
[-16,-16,16,16,16,16,-16,16,-16,-16,16,16,16,-16,-16,-16,-16,16,-16,-16,-16,-16,-16,-16,16,-16,-16,16,-16,16,-16,16,-16,-16,-16,-16,-16,-16,16,-16,-16,-16,16,16,-16,16,16,-16,-16,16,-16,-16,16,-16,-16,-16,16,16,16,16,-16,-16,16,16,16,16,-16,16,16,-16,-16,16,-16,16,-16,-16,-16,-16,-16,-16,16,16,16,16,16,-16,16,16,-16,-16,16,16,-16,-16,16,-16,-16,16,16,-16,-16,16,-16,16,-16,-16,-16,16,16,-16,16,16,-16,16,-16,-16,-16,16,-16,-16,16,-16,16,16,-16,-16,16,-16]
[16,-16,-16,16,-16,16,16,-16,16,-16,-16,16,16,16,-16,-16,-16,-16,-16,-16,16,-16,-16,16,16,16,-16,16,16,-16,-16,16,16,-16,-16,-16,16,-16,-16,-16,16,16,16,-16,-16,-16,16,16,16,-16,-16,-16,-16,16,-16,16,16,16,-16,16,16,-16,16,16,16,16,-16,16,16,-16,16,16,16,-16,16,16,-16,-16,-16,-16,-16,16,16,16,16,-16,16,16,16,-16,16,-16,16,16,-16,16,-16,-16,-16,16,-16,16,16,16,16,-16,16,-16,16,-16,-16,-16,16,-16,16,-16,-16,-16,-16,-16,16,-16,-16,-16,-16,16,-16,-16]
[16,16,-16,-16,16,16,-16,-16,-16,16,16,16,16,16,16,-16,-16,-16,16,-16,16,-16,16,-16,-16,-16,-16,16,16,-16,-16,-16,16,16,16,-16,-16,-16,16,16,-16,-16,16,16,16,16,16,-16,16,-16,16,16,16,-16,16,-16,16,-16,16,-16,16,-16,16,-16,-16,-16,16,16,-16,16,16,16,-16,-16,-16,16,-16,-16,-16,-16,-16,-16,16,16,16,16,16,-16,16,-16,-16,16,16,-16,16,16,16,16,-16,16,16,-16,16,-16,-16,16,-16,-16,-16,16,16,16,-16,16,16,16,-16,-16,-16,-16,-16,16,16,16,16,16,16,16]
[16,16,-16,-16,16,16,-16,16,64,16,-16,16,16,16,16,16,16,16,16,16,-16,16,-16,16,16,16,-16,-16,-16,-16,-16,-16,-16,-16,16,16,-16,-16,16,16,-16,16,-16,16,-16,-16,16,-16,-16,-16,16,-16,-16,-16,16,-16,-16,-16,16,16,16,-16,-16,16,16,-16,16,-16,-16,-16,-16,16,-16,16,-16,-16,-16,16,16,-16,16,-16,-16,16,16,-16,-16,-16,16,16,-16,-16,16,16,-16,16,-16,16,16,-16,-16,16,-16,-16,16,-16,-16,16,16,-16,-16,-16,-16,16,16,64,16,-16,16,-16,16,-16,16,16,16,16,16,-16]
[64,16,16,16,-16,16,16,-16,-16,16,-16,-16,16,-16,16,16,-16,16,-16,-16,-16,-16,16,-16,16,16,16,-16,-16,16,16,-16,16,16,16,16,-16,16,16,16,16,16,-16,-16,-16,16,16,-16,16,16,-16,16,16,-16,16,-16,16,-16,16,-16,16,-16,-16,16,-16,-16,-16,16,16,16,-16,16,16,-16,16,-16,16,-16,-16,-16,-16,-16,16,-16,16,16,16,16,-16,-16,-16,-16,-16,-16,-16,16,-16,16,-16,-16,16,16,16,-16,-16,16,64,16,-16,16,16,-16,-16,-16,16,-16,-16,-16,16,-16,16,16,-16,-16,16,16,16,16]
[16,-16,-16,16,16,16,-16,16,16,16,16,-16,16,-16,-16,-16,-16,-16,16,-16,-16,16,-16,16,16,-16,16,-16,-16,16,16,16,-16,-16,16,16,16,-16,16,-16,16,16,-16,-16,-16,16,16,16,-16,-16,-16,16,-16,-16,16,-16,16,-16,16,-16,-16,-16,-16,-16,-16,16,16,-16,-16,16,-16,16,16,16,-16,-16,-16,-16,16,16,-16,16,-16,-16,16,-16,-16,-16,16,-16,-16,-16,16,16,-16,-16,-16,-16,-16,-16,16,16,-16,-16,16,16,16,16,-16,-16,-16,-16,-16,16,-16,-16,16,16,16,16,-16,-16,16,16,16,-16,16,16]
[-16,-16,16,16,-16,-16,-16,-16,16,-16,16,16,16,-16,16,-16,16,16,-16,-16,-16,16,-16,-16,16,-16,16,-16,-16,16,16,16,16,-16,16,16,16,-16,16,16,16,-16,-16,-16,-16,-16,-16,-16,-16,-16,-16,-16,16,-16,16,16,16,16,16,-16,-16,-16,16,16,16,16,16,-16,-16,-16,-16,-16,-16,16,-16,-16,-16,16,-16,-16,16,-16,-16,-16,16,-16,16,-16,-16,-16,16,16,-16,16,16,-16,16,-16,16,-16,-16,-16,16,16,-16,-16,16,16,16,16,16,-16,16,16,-16,16,16,-16,-16,-16,16,16,16,16,-16,-16,-16,-16]
[16,16,16,-16,-16,-16,16,-16,16,-16,-16,16,-16,-16,-16,16,-16,16,16,16,-16,-16,16,16,16,16,-16,-16,16,-16,16,-16,16,16,16,16,16,16,-16,16,-16,16,16,-16,16,16,-16,16,-16,16,16,16,16,16,-16,-16,-16,-16,-16,16,-16,-16,16,16,-16,-16,-16,16,-16,16,16,-16,16,16,-16,16,-16,16,16,-16,16,16,16,16,-16,-16,-16,-16,16,-16,-16,-16,-16,-16,-16,16,-16,16,-16,-16,16,-16,-16,-16,-16,16,-16,-16,-16,16,-16,16,-16,-16,16,16,16,-16,-16,-16,-16,-16,16,16,16,-16,16,16]
[16,-16,16,16,16,16,16,16,-16,-16,16,-16,-16,-16,16,16,16,16,-16,-16,16,16,-16,-16,16,16,16,-16,-16,16,-16,16,-16,16,-16,-16,-16,16,-16,-16,-16,-16,16,-16,-16,-16,16,16,-16,-16,-16,16,-16,16,16,-16,16,-16,-16,-16,-16,-16,-16,16,-16,-16,-16,-16,-16,16,16,16,-16,16,-16,-16,-16,16,-16,-16,16,16,-16,-16,16,16,16,16,16,-16,16,-16,-16,-16,-16,-16,-16,16,-16,16,-16,16,-16,-16,16,16,-16,16,-16,16,16,16,16,16,16,16,-16,-16,16,-16,16,-16,-16,16,16,16,-16,16]
[-16,-16,16,-16,-16,-16,16,16,-16,-16,16,16,-16,16,-16,-16,-16,16,-16,16,16,16,16,16,-16,16,-16,16,-16,-16,16,-16,16,-16,-16,16,-16,-16,-16,16,-16,-16,-16,16,-16,16,-16,16,16,16,16,16,-16,-16,-16,16,16,-16,-16,16,16,16,16,-16,-16,-16,-16,-16,16,-16,-16,16,-16,-16,-16,-16,16,16,16,-16,-16,-16,-16,-16,16,16,-16,-16,-16,-16,-16,16,-16,16,-16,16,-16,-16,-16,-16,16,-16,16,-16,16,-16,-16,-16,-16,16,16,-16,16,-16,-16,16,-16,16,-16,-16,-16,16,16,-16,16,16,-16,-16]
[-16,16,16,64,16,-16,-16,-16,16,-16,16,16,-16,16,-16,-16,16,16,-16,-16,-16,-16,-16,16,16,16,-16,16,-16,16,-16,16,-16,-16,-16,-16,16,-16,-16,-16,-16,-16,-16,-16,-16,-16,16,16,-16,-16,-16,-16,-16,16,-16,-16,-16,-16,16,16,-16,16,-16,-16,16,-16,16,16,-16,-16,-16,16,16,16,-16,-16,-16,-16,-16,16,16,-16,16,-16,-16,-16,16,16,16,16,16,-16,-16,16,16,16,-16,-16,-16,16,16,-16,-16,16,-16,16,16,16,16,-16,16,-16,16,-16,16,-16,-16,16,-16,16,16,-16,16,16,-16,16,-16,-16]
[-16,16,-16,-16,-16,-16,-16,-16,-16,16,-16,-16,-16,16,-16,16,-16,16,-16,16,-16,16,16,16,16,-16,-16,-16,-16,-16,-16,16,16,16,-16,-16,-16,-16,16,16,16,16,16,16,-16,16,16,-16,16,16,16,-16,16,-16,16,-16,16,-16,16,-16,-16,16,-16,-16,-16,-16,16,-16,-16,-16,16,16,-16,16,16,16,16,16,-16,16,-16,-16,16,16,-16,-16,-16,-16,16,-16,-16,-16,16,-16,-16,-16,16,-16,16,-16,16,-16,-16,16,-16,-16,-16,-16,16,-16,-16,-16,16,-16,-16,-16,-16,-16,-16,-16,16,16,-16,-16,16,16,-16,-16]
[16,-16,-16,16,16,16,16,-16,-16,-16,-16,16,16,-16,-16,-16,16,16,16,-16,16,16,-16,16,16,16,16,16,-16,16,16,16,16,-16,16,16,16,-16,16,-16,-16,16,16,16,-16,16,-16,-16,-16,-16,16,-16,16,16,-16,16,-16,-16,16,-16,16,-16,16,16,-16,16,16,16,16,16,-16,16,16,16,-16,-16,16,-16,16,16,-16,16,-16,-16,16,-16,16,-16,16,-16,16,16,16,16,-16,16,-16,16,16,16,16,-16,16,16,-16,-16,-16,16,-16,16,16,16,-16,16,16,16,-16,-16,-16,16,-16,-16,-16,16,16,-16,16,-16]
[16,-16,-16,16,-16,16,-16,-16,16,16,16,16,-16,16,-16,16,-16,-16,16,-16,16,-16,-16,16,-16,16,16,16,-16,16,-16,16,16,-16,16,16,16,16,-16,-16,-16,-16,16,16,-16,-16,16,-16,-16,-16,-16,-16,-16,-16,-16,16,16,16,16,-16,16,16,16,16,16,-16,16,16,-16,-16,-16,-16,-16,16,-16,16,16,-16,16,-16,16,-16,16,-16,16,-16,-16,-16,-16,16,-16,-16,16,16,16,-16,-16,-16,-16,-16,-16,16,-16,16,16,16,16,-16,16,16,16,16,16,16,16,16,16,-16,-16,-16,16,16,-16,16,16,-16,16,-16]
[-16,16,16,16,16,16,16,16,-16,16,-16,16,16,16,16,16,16,16,16,-16,16,-16,16,-16,16,16,16,-16,-16,16,-16,16,16,16,16,16,16,16,-16,16,16,16,16,16,16,16,-16,16,-16,16,16,16,-16,16,-16,16,-16,16,-16,16,-16,-16,-16,16,16,16,-16,16,16,16,16,-16,16,16,-16,16,16,-16,16,16,16,-16,16,-16,16,16,16,-16,-16,-16,16,16,-16,-16,16,16,16,16,16,16,-16,-16,16,16,-16,16,16,-16,-16,16,16,-16,-16,16,-16,16,-16,-16,-16,16,-16,16,16,16,-16,16,-16,16]
[-16,16,-16,-16,-16,16,-16,-16,-16,-16,-16,16,16,16,16,16,16,16,-16,-16,16,16,-16,16,-16,16,16,16,16,-16,16,-16,-16,16,-16,16,16,16,-16,-16,16,-16,16,16,-16,16,-16,-16,-16,16,-16,16,-16,16,16,-16,-16,-16,16,-16,-16,16,-16,16,16,-16,-16,16,-16,16,-16,16,16,-16,16,16,16,-16,16,-16,-16,-16,-16,16,-16,-16,16,-16,-16,16,-16,-16,-16,16,16,-16,16,16,16,16,-16,-16,-16,16,-16,-16,16,-16,-16,-16,16,16,-16,16,16,16,16,16,-16,16,-16,16,-16,16,16,-16,16,16]
[16,16,16,-16,-16,-16,-16,16,-16,-16,16,-16,16,-16,-16,-16,16,-16,-16,-16,16,-16,-16,16,16,-16,-16,16,-16,-16,16,-16,-16,-16,-16,-16,-16,16,-16,16,16,-16,-16,16,-16,-16,-16,-16,16,-16,-16,-16,-16,-16,16,16,-16,16,16,-16,16,16,16,16,16,16,16,-16,-16,-16,16,-16,16,-16,16,16,-16,-16,-16,16,-16,-16,16,16,16,-16,16,16,-16,16,-16,-16,-16,16,-16,16,16,16,16,16,16,-16,-16,16,-16,16,16,-16,16,16,16,-16,16,16,16,16,16,-16,16,-16,-16,-16,16,16,-16,-16,16,-16]
[-16,-16,16,-16,-16,-16,16,16,-16,16,16,16,-16,16,-16,16,-16,16,-16,16,-16,16,-16,-16,-16,-16,16,-16,-16,16,-16,-16,-16,-16,-16,-16,16,16,16,16,16,16,-16,-16,-16,16,16,16,16,16,16,16,16,16,16,-16,-16,16,16,16,16,-16,16,-16,16,16,16,16,16,-16,-16,16,-16,16,16,-16,16,16,-16,-16,-16,16,16,16,-16,-16,-16,-16,16,16,-16,-16,-16,16,-16,-16,16,-16,16,-16,-16,16,-16,16,16,16,-16,-16,-16,-16,16,16,-16,-16,16,16,16,16,16,16,16,16,16,-16,-16,16,16,16]
[-16,-16,16,-16,16,16,16,-16,16,16,16,16,-16,16,-16,-16,16,16,16,16,-16,16,-16,-16,16,-16,16,16,-16,16,-16,-16,-16,-16,16,16,-16,-16,16,16,-16,-16,16,16,-16,-16,-16,-16,16,-16,-16,16,16,-16,-16,-16,16,16,-16,-16,-16,16,-16,64,16,16,-16,16,16,16,-16,16,-16,16,-16,-16,-16,16,16,16,16,-16,-16,-16,-16,-16,16,16,-16,-16,-16,64,16,16,64,16,-16,16,16,-16,16,-16,16,16,-16,16,-16,16,16,16,-16,-16,16,-16,-64,-16,16,16,-16,16,16,-16,16,16,-16,-16,-64,-16]
[16,-16,-16,-16,16,16,-16,-16,16,-16,16,-16,16,-16,16,16,-16,-16,16,-16,-16,-16,16,-16,16,16,-16,16,-16,-16,-16,-16,16,16,16,16,-16,16,16,16,-16,16,16,16,-16,16,16,-16,-16,16,16,16,16,16,16,-16,16,-16,-16,16,-16,16,-16,-16,16,-16,-16,-16,16,16,16,-16,16,16,16,16,16,16,16,16,-16,-16,-16,-16,-16,-16,16,16,16,16,-16,64,16,16,16,-16,-16,16,-16,-16,-16,16,-16,-16,-16,16,-16,16,16,16,16,-16,-16,16,-16,16,-16,-16,16,16,16,16,-16,-16,16,16,16,-16]
[16,16,16,-16,16,-16,16,-16,-16,16,-16,16,-16,16,-16,-16,16,16,16,16,-16,16,16,16,16,16,-16,16,-16,-16,16,16,16,-16,16,-16,16,-16,16,-16,-16,-16,16,-16,16,-16,16,-16,-16,16,-16,16,-16,16,16,-16,-16,-16,16,16,-16,-16,-16,-16,16,16,16,16,16,16,-16,16,-16,16,16,16,-16,16,-16,-16,16,16,16,-16,-16,-16,-16,-16,16,16,16,-16,-16,16,16,-16,16,16,-16,-16,16,-16,-16,-16,-16,16,16,16,-16,16,16,16,16,16,-16,-16,16,16,-16,-16,-16,16,-16,-16,16,64,-16,16]
[16,64,16,-16,-16,16,16,-16,-16,-16,16,-16,16,-16,-16,16,-16,16,16,16,16,16,16,-16,-16,-16,-16,-16,-16,-16,16,-16,16,16,-16,-16,16,-16,-16,16,16,16,16,-16,16,16,16,-16,16,16,16,-16,-16,-16,16,-16,-16,-16,-16,16,-16,16,16,16,-16,-16,16,16,16,-16,16,16,-16,16,16,16,-16,16,-16,16,-16,-16,16,16,16,16,16,-16,-16,-16,-16,16,16,-16,16,-16,16,16,-16,-16,-16,16,-16,-16,-16,16,-16,-16,-16,-16,-16,64,-16,16,-16,16,16,-16,16,16,-16,16,16,16,-16,16,16,16]
[-16,16,-16,16,-16,-16,16,-16,-16,-16,16,-16,-16,-16,-16,16,16,-16,-16,16,-16,-16,-16,16,-16,16,16,-16,-16,16,-16,16,-16,-16,16,-16,-16,-16,-16,-16,16,16,-16,-16,-16,-16,-16,16,16,16,-16,-16,-16,-16,-16,16,16,16,-16,-16,-16,16,16,16,64,-16,-16,16,16,-16,-16,16,16,16,-16,16,16,16,-16,16,-16,-16,16,-16,-16,-16,16,16,-16,-16,16,-16,16,-16,16,16,-16,-16,-16,-16,-16,16,16,-16,16,16,-16,-16,-16,-16,-16,-16,-16,16,16,16,16,16,-16,-16,-16,-16,16,-16,-16,-16,-16,16]
[-16,16,-16,-16,-16,-16,16,-16,16,-16,-16,-16,16,16,16,-16,-16,-16,-16,-16,16,-16,-16,16,16,-16,16,-16,16,-16,16,16,16,16,-16,-16,16,-16,-16,-16,16,-16,-16,16,16,-16,16,-16,16,16,-16,-16,16,-16,16,-16,-16,16,16,-16,-16,16,-16,16,-16,16,-16,16,16,16,16,-16,-16,16,-16,16,16,-16,16,-16,16,16,16,-16,-16,-16,-16,-16,-16,16,-16,-16,-16,-16,16,16,-16,16,-16,16,16,16,16,-16,-16,16,16,16,16,16,-16,-16,-16,16,16,-16,-16,16,16,16,-16,16,-16,-16,-16,16,-16,-16]
[16,-16,16,-16,-16,-16,-16,-16,16,16,16,16,-16,16,-16,-16,-16,-16,16,16,16,-16,16,-16,16,16,16,-16,-16,-16,-16,16,16,16,16,16,16,-16,-16,-16,16,-16,16,16,-16,16,16,-16,16,-16,16,16,-16,16,16,-16,-16,-16,16,-16,16,16,16,16,-16,16,-16,-16,-16,16,16,-16,-16,-16,16,16,16,16,-16,16,-16,-16,16,16,16,-16,-16,-16,16,-16,16,-16,16,16,16,-16,16,16,16,16,16,-16,-16,-16,16,-16,16,16,16,16,16,16,16,16,-16,16,-16,-16,-16,-16,16,16,16,16,-16,16,16,-16]
[-16,16,16,-16,-16,-16,16,16,16,16,-16,16,16,16,16,16,16,16,-16,-16,16,-16,-16,16,-16,16,-16,-16,-16,-16,16,-16,-16,-16,16,-16,16,16,-16,-16,-16,-16,-16,16,-16,-16,16,-16,16,-16,-16,16,16,16,16,-16,-16,16,16,16,-16,16,16,-16,16,-16,-16,16,16,-16,-16,16,16,16,-16,-16,-16,-16,-16,-16,16,-16,-16,16,16,16,16,16,16,16,-16,-16,16,16,16,16,16,16,16,16,16,-16,-16,16,16,-16,-16,-16,16,-16,16,16,16,-16,-16,-16,16,16,-16,-16,-16,16,16,-16,-16,16,-16,-16]
[-16,16,-16,-16,-16,-16,-16,16,-16,16,16,-16,16,16,-16,16,-16,16,16,-16,16,-16,-16,16,-16,16,-16,16,16,-16,-16,-16,-16,16,16,-16,16,-16,16,16,-16,16,-16,-16,-16,16,-16,16,16,-16,16,-16,-16,16,16,16,-16,16,-16,16,16,-16,16,16,-16,-16,16,16,16,-16,16,16,16,16,16,16,16,-16,16,16,16,-16,-16,16,16,16,16,-16,-16,-16,16,-16,-16,16,16,16,-16,-16,16,-16,-16,-16,-16,-16,-16,16,-16,-16,-16,-16,16,-16,16,-16,-16,16,16,16,-16,-16,-64,16,16,64,-16,16,16,16]
[-16,16,16,-16,-16,-16,16,16,16,-16,16,16,16,16,16,16,16,16,16,16,16,16,-16,-16,16,-16,-16,-16,-16,16,-16,16,-16,-16,-16,-16,-16,-16,16,-16,-16,-16,16,16,-16,-16,16,-16,-16,-16,-16,16,16,-16,-16,-16,-16,16,-16,-16,16,16,-16,-16,64,16,-16,16,16,-16,-16,16,-64,16,16,16,-16,16,-16,-16,16,-16,16,16,-16,-16,-16,-16,16,16,-16,64,16,16,16,-16,16,16,16,16,16,-16,-16,-16,16,16,-16,16,16,-16,16,16,16,16,16,16,-16,16,-16,-16,-16,-64,16,16,-64,-16,-16,-16]
[-16,16,16,-16,16,-16,-16,-16,-16,16,16,-16,-16,-16,16,-16,-16,16,16,16,-16,16,-16,-16,16,16,-16,16,-16,-16,16,-16,16,-16,16,16,16,16,16,-16,16,-16,-16,-16,-16,-16,-16,-16,-16,-16,16,16,-16,16,64,-16,16,-16,16,16,16,-16,16,16,16,-16,-16,-16,-16,16,16,16,-16,16,16,-16,-16,16,-16,16,-16,16,-16,16,16,16,16,-16,16,16,-16,-16,-16,16,16,16,16,-16,-16,-16,16,-16,16,-16,16,-16,16,16,-16,64,16,-16,16,16,-16,-16,16,-16,-16,-16,-16,-16,16,16,-16,64,16,16]
[16,16,16,16,-16,16,16,-16,16,-16,-16,16,16,16,16,-16,-16,-16,-16,-16,16,16,16,16,-16,-16,-16,-16,-16,16,16,16,16,-16,16,16,16,16,-16,16,16,16,-16,16,-16,16,-16,16,16,16,-16,-16,-16,-16,-16,16,-16,-16,-16,-16,-16,-16,-16,-16,-16,-16,-16,-16,16,16,16,16,16,-16,16,16,-16,-16,-16,16,16,16,16,-16,-16,-16,-16,16,-16,16,16,-16,16,16,16,-16,16,-16,-16,-16,-16,16,16,-16,16,16,16,16,-16,-16,16,16,16,-16,-16,-16,-16,16,16,-16,16,-16,-16,16,-16,16,16,16]
[-16,-16,-16,16,16,-16,-16,-16,-16,-16,16,-16,16,-16,-16,-16,-16,-16,16,-16,16,-16,16,-16,-16,-16,-16,16,-16,16,16,-16,-16,-16,16,16,-16,-16,16,-16,-16,16,16,16,-16,16,16,-16,-16,-16,16,-16,16,-16,16,-16,-16,-16,16,16,16,16,16,-16,-16,-16,16,-16,-16,16,16,-16,16,-16,16,16,-16,-16,-16,16,-16,-16,16,-16,16,16,16,-16,-16,16,16,16,-16,-16,16,-16,16,16,16,-16,-16,-16,-16,-16,16,-16,-16,-16,16,16,16,16,-16,16,-16,16,16,-16,-16,16,-16,-16,-16,16,-16,64,16,-16]
[16,-16,16,-16,16,-16,-16,16,-16,16,16,16,-16,16,16,16,16,16,16,16,16,-16,16,-16,16,-16,-16,16,-16,16,16,-16,16,-16,-16,16,16,-16,16,-16,16,16,16,16,-16,16,16,-16,-16,-16,-16,16,-16,16,16,-16,-16,-16,-16,16,-16,16,16,-16,16,-16,-16,16,16,-16,16,-16,16,16,16,16,-16,16,16,-16,-16,-16,-16,-16,16,-16,16,-16,-16,-16,-16,16,16,-16,16,16,-16,-16,-16,16,16,-16,-16,-16,-16,-16,-16,64,-16,16,16,16,-16,16,-16,16,-16,-16,-16,16,-16,-16,16,16,-16,16,16,-16]
[-16,-16,16,16,16,-16,16,-16,16,16,16,16,16,16,-16,-16,-16,16,-16,-16,16,-16,-16,16,16,16,-16,16,16,-16,16,16,16,-16,16,-16,-16,16,-16,-16,16,-16,-16,-16,16,-16,-16,16,16,-16,-16,-16,-16,-16,-16,-16,-16,-16,16,16,-16,-16,-16,-16,-16,-16,-16,-16,16,16,-16,16,-16,-16,16,16,16,-16,16,16,16,16,-16,16,-16,-16,16,16,16,16,16,-16,-16,-16,16,16,16,-16,-16,16,16,16,-16,16,-16,16,-16,16,-16,-16,-16,-16,16,-16,-16,-16,-16,16,-16,-16,16,16,-16,-16,16,16,-16,16]
[16,-16,16,16,16,16,-16,-16,16,16,-16,-16,-16,16,16,16,-16,-16,-16,16,-16,-16,16,-16,16,16,-16,-64,16,16,16,16,16,16,16,16,16,16,-16,16,-16,16,16,-16,-16,-16,64,16,-16,-16,-16,16,-16,16,16,-16,-16,-16,-16,16,16,16,-16,16,-16,-16,-16,-16,-16,16,16,-16,16,-16,16,16,16,-16,16,-16,-16,-16,16,-16,16,16,16,-64,16,-16,16,16,16,-16,-16,16,-16,16,16,16,-16,16,-16,-16,16,-16,16,16,16,16,16,16,16,16,16,-16,-16,-16,16,-16,16,16,16,-16,16,16,16,16]
[-16,-16,16,16,16,16,-16,-16,16,-16,-16,16,-16,16,16,16,-16,-16,-16,-16,-16,16,-16,-16,-16,-16,-16,16,-16,16,-16,-16,-16,-16,-16,-16,16,16,-16,-16,16,-16,16,-16,16,-16,16,-16,16,16,16,16,-16,-16,16,-16,16,16,16,16,16,-16,-16,-16,16,16,-16,16,-16,16,16,16,-16,-16,16,-16,16,-16,16,16,16,16,-16,-16,16,-16,-16,16,-16,16,-16,-16,-16,16,16,16,16,16,16,16,-16,-16,-16,16,-16,16,-16,16,-16,-16,-16,16,16,-16,16,16,-16,-16,16,-16,-16,-16,16,16,-16,16,-16,-16]
[-16,16,-16,16,-16,16,16,16,-16,16,16,16,16,-16,16,16,16,16,-16,-16,16,16,16,16,16,16,16,16,-16,16,-16,16,16,16,-16,-16,-16,-16,16,16,16,16,-16,-16,-16,-16,-16,-16,16,-16,-16,-16,16,16,-16,16,-16,16,-16,-16,-16,-16,16,-16,16,16,-16,16,-16,16,-16,16,-16,16,16,16,16,-16,16,16,16,16,-16,-16,16,16,16,16,-16,-16,-16,16,-16,16,16,16,-16,-16,-16,-16,-16,-16,-16,16,16,16,16,-16,16,-16,-16,-16,16,-16,16,16,16,-16,16,16,16,16,-16,16,-16,-16,-16,-16]
[-16,16,-16,16,-16,16,16,-16,-16,-16,-16,16,16,16,-16,16,-16,-16,16,-16,16,-16,-16,16,-16,16,-16,-16,-16,-16,16,16,-16,16,16,-16,-16,-16,16,-16,16,-16,-16,-16,-16,16,-16,-16,-16,16,16,16,-16,-16,-16,-16,16,-16,-16,-16,-16,-16,-16,16,-16,16,16,-16,-16,16,-16,-16,-16,16,16,16,16,-16,16,-16,-16,-16,-16,-16,16,16,-16,-16,-16,16,16,-16,16,16,-16,-16,16,16,16,16,16,16,-16,16,-16,-16,16,-16,-16,-16,16,-16,16,16,-16,-16,-16,-16,-16,-16,-16,16,-16,16,-16,-16,-16,16]
[16,-16,-16,16,16,-16,-16,-16,-16,16,16,16,16,16,16,16,-16,-16,-16,-16,16,16,16,-16,-16,16,-16,16,-16,-16,16,16,16,16,16,16,16,-16,16,-16,-16,-16,16,-16,-16,-16,-16,-16,-16,16,16,16,-16,16,-16,16,16,16,-16,16,16,-16,-16,16,-16,16,-16,-16,-16,16,-16,16,16,-16,16,16,16,16,-16,16,-16,-16,16,-16,-16,16,16,16,16,16,16,-16,-16,16,16,16,-16,-16,-16,-16,16,16,16,16,-16,-16,16,16,-16,-16,16,16,16,-16,-16,-16,16,16,16,-16,16,16,-16,-16,-16,16,16,16]
[-16,16,16,16,16,16,-16,16,16,-16,16,16,-16,16,16,-16,-16,16,16,16,-16,-16,-16,-16,16,16,16,-16,-16,16,-16,16,16,-16,16,-16,-16,16,16,16,16,16,16,16,16,-16,-16,-16,16,16,16,16,16,-16,-16,16,-16,16,16,-16,16,16,16,-16,16,-16,16,-16,-16,-16,16,-16,16,-16,16,16,16,16,-16,16,16,-16,-16,-16,16,16,16,16,16,16,16,16,16,-16,16,16,-16,16,16,16,16,16,-16,16,16,16,-16,16,-16,16,16,16,-16,16,16,16,16,-16,-16,-16,-16,-16,16,16,-16,16,-16,-16]
[16,16,-16,-16,16,-16,-16,16,-16,-16,16,-16,-16,-16,-16,-16,-16,-16,16,16,-16,-16,16,-16,-16,16,16,16,16,16,16,-16,-16,16,-16,-16,-16,16,16,16,-16,16,-16,-16,-16,-16,16,-16,-16,-16,16,-16,16,-16,16,-16,-16,-16,-16,16,-16,-16,-16,16,-16,16,-16,16,16,16,16,-16,-16,-16,16,16,-16,-16,-16,-16,-16,-16,-16,16,16,-16,16,-16,-16,-16,-16,-16,-16,16,-16,16,-16,16,-16,-16,-16,16,-16,-16,16,-16,16,16,16,16,16,16,16,-16,-16,16,16,-16,-16,16,-16,16,-16,-16,16,16,16,-16]
[-16,16,16,16,16,16,-16,-16,16,16,-16,16,16,16,-16,16,16,-16,16,16,-16,-16,-16,16,16,16,-16,16,16,16,-16,64,-16,16,-16,16,-16,16,16,-16,-16,-16,16,16,-16,-16,16,-16,16,16,-16,16,16,16,-16,16,-16,16,-16,-16,16,-16,16,16,16,16,-16,-16,16,-16,-16,-16,16,-16,-16,-16,-16,16,-16,-16,16,-16,16,-16,16,-16,-16,16,16,16,16,-16,-16,16,16,-16,-16,-16,-16,-16,-16,-16,16,-16,-16,-16,16,16,16,-16,-16,-16,16,-16,-16,-16,-16,-16,-16,16,16,-16,16,-16,16,16,16,-16]
[-16,16,16,16,16,-16,-16,-16,-16,16,16,16,-16,16,-16,-16,16,16,16,16,16,16,16,16,-16,16,-16,-16,-16,-16,16,16,16,-16,16,16,-16,16,16,-16,-16,-16,-16,16,-16,16,-16,-16,16,16,16,16,-16,-16,16,-16,-16,-16,16,-16,16,16,-16,16,16,-16,-16,-16,16,16,-16,-16,-16,-16,16,16,-16,16,16,-16,-16,16,-16,-16,16,-16,16,16,16,16,16,-16,16,16,16,16,-16,-16,-16,16,64,-16,16,-16,-16,16,-16,16,-16,16,16,16,-16,16,16,-16,16,-16,16,-16,16,16,16,-16,16,16,16,-16]
[16,16,16,16,16,-16,-16,-16,-16,-16,-16,-16,16,16,-16,-16,16,-16,-16,-16,16,-16,16,16,16,16,-16,16,16,16,-16,-16,16,16,16,-16,16,-16,16,-16,-16,16,-16,-16,-16,-16,16,16,16,16,16,16,-16,-16,16,16,-16,-16,16,16,-16,-16,-16,16,-16,16,-16,-16,-16,16,16,-16,16,16,-16,-16,-16,16,16,16,-16,-16,16,-16,16,16,16,-16,-16,16,-16,-16,16,16,-16,16,16,-16,16,-16,16,-16,-16,-16,16,-16,16,16,16,16,16,-16,16,16,-16,-16,16,16,16,-16,16,16,-16,-16,16,16,16,16]
[16,16,-16,-16,16,16,-16,-16,-16,-16,16,-16,16,-16,16,16,-16,-16,16,16,16,16,-16,-16,-16,-16,-16,16,-16,-16,-16,16,-16,16,-16,-16,-16,-16,-16,-16,16,16,-16,16,16,16,16,-16,16,-16,16,16,-16,-16,16,16,-16,-16,16,-16,16,16,-16,16,16,16,16,-16,-16,16,16,16,16,16,-16,16,16,16,16,16,16,16,16,-16,16,16,-16,-16,-16,-16,-16,-16,-16,-16,-16,16,-16,16,16,-16,16,16,-16,-16,-16,16,16,-16,-16,16,-16,16,-16,-16,16,64,16,-16,-16,16,-16,16,-16,-16,-16,-16,16,-16]
[16,16,16,16,16,-16,-16,-16,16,-16,-16,16,-16,-16,-16,16,-16,-16,16,16,-16,16,16,16,16,-16,-16,-16,16,16,16,16,-16,-16,-16,16,-16,-16,16,16,16,16,16,16,-16,16,16,-16,16,16,16,16,16,-16,64,-16,-16,16,-16,16,-16,-16,-16,16,16,-16,-16,-16,16,16,-16,16,16,16,-16,-16,16,16,16,16,-16,-16,-16,-16,16,-16,16,-16,-16,16,-16,16,16,16,-16,-16,-16,-16,16,-16,16,16,-16,-16,16,16,16,-16,16,16,-16,-16,-16,16,16,16,16,-16,16,16,-16,-16,16,-16,-16,-16,16,-16]
[16,-16,-16,16,16,16,16,-16,-16,-16,-16,16,16,16,-16,-16,-16,16,16,-16,16,16,16,-16,16,16,-16,16,-16,16,-16,16,16,-16,-16,-16,-16,-64,-16,16,-16,16,16,16,-16,16,16,-16,16,16,16,16,16,16,16,16,16,-16,16,16,16,16,16,16,-16,16,16,-16,-16,-16,16,16,64,-16,16,-16,-16,-16,-16,-16,-16,-16,16,-16,16,16,16,-16,16,-16,16,16,16,16,-16,16,16,-16,-16,16,-16,-16,-16,-16,16,-16,16,-16,16,-16,-16,-16,16,16,16,-16,16,-16,-16,-16,16,-16,-16,-16,-16,16,16,-16]
[16,-16,16,16,-16,16,-16,-16,16,-16,-16,16,16,16,-16,-16,16,16,-16,-16,-16,16,16,-16,16,16,16,16,16,-16,-16,-16,16,16,16,-16,-16,-16,-16,16,-16,-16,-16,16,-16,16,16,16,-16,-16,16,16,16,-16,16,-16,-16,-16,16,-16,-16,16,-16,16,-16,-16,16,-16,-16,16,16,16,16,-16,-16,-16,16,16,16,-16,-16,-16,-16,16,-16,-16,-16,16,16,16,-16,-16,-16,-16,16,-16,16,-16,-16,-16,-16,-16,-16,-16,-16,-16,16,16,-16,16,16,-16,-16,-16,16,-16,-16,16,-16,16,-16,16,-16,-16,16,-16,-16,-16]
[16,-16,16,-16,16,16,16,16,16,-16,-16,-16,-16,16,16,16,16,-16,-16,-16,-16,-16,16,16,16,-16,-16,-16,16,16,16,16,16,-16,16,16,-16,16,16,-16,16,-16,16,-16,-16,16,-16,-16,-16,16,16,-16,-16,-16,-16,16,16,-16,16,16,16,-16,16,16,-16,16,-16,16,-16,16,16,16,16,16,-16,-16,16,16,-16,16,-16,16,-16,-16,16,16,16,-16,-16,16,16,16,16,-16,-16,-16,-16,16,16,-16,-16,-16,16,-16,16,-16,-16,-16,-16,-16,-16,16,16,-16,-16,-16,16,16,-16,-16,16,-16,16,16,16,-16,16,16]
[-16,-16,-16,16,-16,16,16,16,-16,16,16,16,16,-16,16,-16,-16,-16,-16,16,-16,-16,-16,16,16,-16,-16,16,-16,16,16,16,16,16,16,-16,-16,-16,-16,-16,16,16,-16,16,16,16,-16,-16,16,16,16,-16,-16,16,-16,-16,-16,16,-16,-16,-16,-16,-16,-16,16,-16,-16,-16,-16,16,16,16,-16,16,-16,16,-16,-16,16,16,-16,16,16,16,-16,16,-16,-16,16,-16,16,16,16,16,-16,-16,64,-16,16,16,16,16,-16,16,-16,16,-16,-16,-16,16,-16,16,-16,16,16,16,16,-16,16,-16,-16,16,16,-16,-16,-16,16,-16]
[-16,-16,-16,-16,16,-16,16,-16,-16,-16,16,-16,-16,16,-16,-16,16,-16,-16,-16,16,-16,-16,16,-16,16,-16,-16,-16,16,16,16,16,-16,-16,-16,16,-16,16,-16,16,-16,16,-16,16,16,16,16,16,-16,-16,-16,-16,16,16,-16,-16,-16,-16,-16,-16,16,16,16,16,-16,-16,16,-16,-16,-16,16,-16,16,16,16,-16,16,16,-16,-16,-16,16,-16,-16,-16,16,16,16,16,16,-16,16,-16,16,-16,16,16,16,16,16,-16,16,-16,-16,-16,-16,16,-16,-16,16,16,16,16,-16,16,16,16,16,-16,16,-16,16,16,16,16,16,-16]
[-16,16,16,-16,16,16,16,16,16,-16,16,16,-16,-16,16,-16,16,-16,16,-16,16,-16,-16,-16,16,-16,-16,16,-16,16,-16,16,-16,-16,-16,16,-16,16,-16,-16,-16,16,-16,16,-16,16,16,-16,64,-16,-16,-16,-16,-16,16,16,-16,16,16,16,16,16,16,-16,-16,-16,-16,-16,-16,16,-16,16,16,16,-16,-16,16,-16,16,-16,16,16,-16,16,-16,16,16,16,-16,16,16,16,16,-16,-16,16,16,16,-16,16,-16,-16,-16,-16,16,16,16,-16,16,-16,-16,-16,-16,16,-16,16,-16,16,16,-16,-16,16,16,-16,-16,-16,16,-16]
[-16,16,16,16,-16,16,16,-16,16,16,16,16,16,-16,-16,16,-16,-16,-16,16,-16,-16,-16,-16,16,-16,-16,-16,-16,16,16,-16,-16,-16,16,-16,16,16,16,-16,-16,-16,-16,-16,-16,-16,-16,16,16,16,16,16,16,16,-16,-16,-16,16,16,-16,-16,-16,16,16,16,-16,16,-16,-16,-16,-16,16,-16,16,-16,-16,16,16,-16,16,16,16,-16,16,16,-16,-16,16,16,-16,-16,16,-16,16,16,16,-16,16,-16,-16,-16,16,16,16,-16,-16,16,16,-16,16,16,16,-16,-16,-16,-16,-16,-16,16,-16,-16,-16,16,16,16,-16,-16,16]
[16,-16,16,16,-16,16,-16,16,16,16,16,-16,-16,16,16,16,16,16,16,-16,16,16,-16,-16,16,16,16,16,16,-16,16,16,16,-16,-16,-16,-16,-16,-16,16,-16,-16,-16,16,16,-16,-16,-16,16,-16,16,-16,16,16,16,-16,-16,16,16,16,16,16,-16,-16,16,-16,-16,16,16,16,16,-16,-16,-16,16,-16,-16,16,-16,16,16,-16,-16,16,16,16,16,-16,-16,-16,-16,16,-16,16,-16,16,-16,16,-16,16,-16,-16,16,-16,-16,16,16,16,-16,16,-16,-16,16,16,16,-16,-16,-16,-16,16,-16,16,16,-16,16,16,-16,16]
[-16,16,16,16,16,16,16,-16,-16,16,16,16,-16,-16,16,-16,16,16,16,16,-16,16,-16,-16,16,-16,-16,-16,16,16,-16,16,-16,-16,-16,-16,-16,-16,16,-16,-16,-16,-16,16,-16,16,-16,16,-16,16,-16,-16,16,-16,-16,-16,-16,64,16,-16,16,-16,16,-16,16,16,-16,-16,-16,16,16,16,-16,-16,-16,-16,-16,16,-16,16,-16,16,-16,-16,16,-16,16,16,16,-16,16,16,16,16,16,16,16,16,16,-16,-16,-16,16,16,16,16,16,16,-16,16,-16,16,16,16,16,16,16,-16,-16,16,-16,-16,16,16,-16,-64,-16,-16]
[-16,-16,16,64,-16,16,-16,16,16,-16,-16,16,16,16,16,-16,16,-16,-16,-16,-16,16,-16,16,16,-16,16,16,-16,16,16,16,16,16,16,-16,-16,-16,-16,-16,16,-16,16,16,16,-16,16,16,16,16,-16,-16,16,16,-16,16,16,-16,16,16,-16,16,-16,16,16,16,16,16,-16,16,16,-16,16,-16,16,-16,-16,-16,-16,-16,-16,-16,16,-16,-16,-16,-16,16,16,16,16,-16,16,-16,-16,16,-16,-16,-16,16,16,16,-16,-16,16,-16,16,-16,16,-16,-16,-16,16,-16,16,-16,16,16,16,-16,16,16,16,-16,16,16,-16,-16]
[-16,-16,-16,-16,-16,16,-16,-16,16,-16,16,-16,-16,-16,-16,-16,-16,-16,16,16,-16,-16,-16,-16,-16,-16,-16,-16,16,-16,-16,-16,-16,16,16,-16,16,-16,-16,-16,16,16,16,-16,16,-16,-16,-16,16,-16,-16,-16,-16,-16,-16,16,16,-16,16,-16,16,-16,16,-16,16,-16,-16,16,16,16,-16,16,16,16,-16,16,16,16,-16,-16,-16,16,-16,-16,16,16,16,16,-16,-16,-16,-16,-16,-16,-16,-16,-16,-16,16,-16,-16,16,-16,16,-16,16,-16,-16,-16,-16,16,-16,16,16,16,16,16,-16,16,16,16,16,-16,16,-16,16,16,16]
[16,-16,-16,16,16,-16,-16,16,16,16,16,16,-16,-16,-16,-16,-16,-16,16,-16,16,-16,16,-16,16,16,-16,16,16,16,-16,-16,16,16,16,-16,16,-16,16,16,16,-16,-16,-16,16,16,16,16,-16,16,16,-16,16,16,16,-16,-16,16,16,-16,-16,-16,-16,16,16,-16,-16,-16,-16,16,-16,-16,16,16,16,16,16,-16,-16,-16,16,16,16,-16,16,16,-16,-16,-16,-16,-16,-16,-16,-16,16,-16,16,-16,-16,16,-16,-16,-16,-16,-16,-16,-16,16,16,16,16,16,-16,16,16,-16,-16,16,-16,16,-16,16,-16,-16,-16,16,16,-16]
[-16,16,16,16,-16,-16,16,-16,-16,16,16,-16,-16,16,16,-16,-16,-16,-16,-16,-16,-16,-16,16,16,16,-16,-16,-16,16,16,-16,16,-16,-16,-16,-16,-16,-16,-16,-16,-16,-16,-16,-16,-64,-16,-16,16,16,16,16,-16,-16,-16,-16,-16,-16,-16,16,-16,16,16,16,16,-16,16,16,-16,-16,-16,-16,-16,16,16,16,-16,16,-16,-16,16,-16,16,-16,16,-16,-16,16,16,-16,16,-16,-16,-16,16,-16,16,-16,-16,16,16,16,16,16,-16,-16,16,16,16,16,16,-16,-16,-16,16,16,-16,16,16,-16,16,-16,16,-16,-16,16,-16,16]
[-16,-16,-16,-16,-16,-16,-16,-16,16,-16,-16,16,-16,-16,16,16,-16,-16,-16,-16,16,-16,-16,16,16,16,16,-16,-16,-16,16,16,-16,-16,16,16,-16,16,16,-16,-16,-16,-16,16,-16,-16,-16,-16,-16,16,-16,-16,-16,-16,-16,-16,-16,16,16,-16,16,-16,16,16,16,16,-16,-16,16,-16,-16,-16,-16,16,-16,16,-16,-16,16,16,-16,16,16,-16,-16,16,-16,16,16,64,16,16,-16,16,-16,16,16,16,16,-16,-16,-16,16,-16,-16,-16,16,16,-16,16,16,-16,-16,-16,16,16,16,-16,16,-16,16,16,-16,-16,16,-16,-16,16]
[16,16,-16,16,-16,16,-16,-16,-16,16,16,-16,16,-16,16,-16,-16,-16,-16,-16,16,16,-16,-16,16,16,16,16,-16,16,-16,16,16,-16,16,16,16,-16,16,16,-16,-16,-16,-16,16,-16,16,16,-16,-16,16,-16,16,16,-16,-16,16,16,-16,-16,16,-16,-16,16,-16,-16,16,-16,-16,16,-16,-16,-16,-16,16,-16,16,16,-16,-16,16,-16,16,-16,-16,16,-16,16,16,16,-16,16,-16,-16,-16,-16,-16,16,-16,16,16,-16,-16,-16,-16,-16,16,-16,16,16,16,-16,16,16,-16,-16,16,16,-16,16,16,-16,16,16,-16,-16,-16,16]
[16,16,-16,-16,16,-16,-16,16,-16,-16,16,-16,16,16,-16,16,16,16,16,16,16,16,16,-16,-16,-16,-16,-16,16,-16,16,-16,16,16,-16,-16,16,-16,-16,-16,-16,-16,-16,16,-16,16,16,-16,-16,16,-16,-16,16,-16,16,-16,16,-16,-16,16,-16,16,-16,-16,-16,-16,-16,16,-16,16,16,-16,16,-16,16,16,-16,-16,16,-16,-16,-16,16,-16,-16,16,64,-16,-16,16,16,-16,16,-16,16,-16,16,16,16,16,-16,-16,-16,-16,-16,16,-16,16,-16,16,16,16,16,64,-16,16,-16,16,-16,-16,-16,16,-16,-16,-16,16,16,-16]
[-16,16,-16,-16,-16,-16,16,-16,-16,-16,16,-16,-16,-16,16,-16,16,-16,-16,16,16,-16,-16,16,16,16,-16,16,-16,16,-16,16,16,-16,-16,16,16,16,16,-16,16,-16,-16,-16,-16,-16,-16,16,16,16,16,16,-16,16,-16,-16,-16,16,16,-16,16,-16,16,16,16,16,-16,-16,-16,16,-16,16,16,16,-16,-16,-16,16,-16,16,-16,-16,-16,-16,16,-16,16,16,16,16,16,-16,-16,-16,-16,-16,16,-16,-16,-16,16,-16,-16,16,16,-16,16,16,16,16,16,-16,16,16,16,-16,16,-16,16,-16,-16,-16,16,-16,16,-16,-16,-16]
[16,-16,16,16,16,-16,16,16,-16,16,-16,16,16,16,-16,-16,16,16,-16,16,16,-16,16,-16,16,-16,-16,16,16,16,-16,16,-16,-16,16,16,16,-16,16,16,-16,-16,16,16,-16,-16,16,16,-16,-16,-16,16,-16,16,16,16,16,-16,-16,16,16,16,16,16,-16,-16,16,-16,16,16,16,-16,16,16,16,16,16,-16,-16,-16,16,-16,16,16,16,16,16,16,-16,16,16,-16,-16,-16,16,-16,-16,-16,16,16,-16,-16,-16,-16,-16,-16,-16,-16,-16,-16,16,16,-16,16,16,16,16,-16,-16,16,-16,-16,-16,-16,-16,-16,-16,-16]
[16,16,-16,16,16,-16,16,-16,16,-16,16,-16,-16,16,-16,16,-16,16,16,16,16,-16,-16,-16,-16,-16,-16,16,-16,16,16,16,-16,16,16,16,-16,16,-16,-16,-16,-16,16,-16,16,16,16,-16,-16,16,-16,-16,-16,16,-16,16,16,-16,16,-16,-16,-16,-16,-16,16,-16,-16,16,16,-16,-16,16,16,16,16,-16,-16,16,-16,-16,16,16,-16,-16,16,16,-16,16,-16,16,16,-16,16,16,16,16,-16,16,16,16,16,16,16,16,16,-16,16,-16,16,-16,16,-16,-16,-16,-16,16,-16,-16,-16,16,-16,-16,-16,-16,16,16,-16,-16]
[16,16,-16,-16,16,16,-16,16,-16,16,16,-16,16,16,-16,-16,16,-16,-16,16,16,-16,16,16,16,16,-16,16,16,-16,16,-16,-16,16,16,16,16,-16,16,-16,16,-16,-16,-16,16,-16,16,-16,-16,-16,-16,16,16,-16,16,16,-16,-16,-16,-16,-16,16,16,-16,-16,-16,16,16,16,16,16,-16,-16,-16,16,16,16,-16,16,16,-16,16,-16,-16,-16,-16,16,-16,-16,16,16,-16,16,16,16,-16,16,16,16,-16,-16,-16,-16,16,-16,-16,16,16,16,-16,16,16,-16,16,-16,-16,16,16,-16,-16,-16,16,-16,16,16,16,-16,-16]
[16,16,-16,16,16,-16,-16,16,-16,-16,16,-16,-16,-16,16,-16,-16,-16,16,-16,16,16,16,-16,-16,-16,-16,16,-16,16,-16,-16,-16,-16,-16,-16,-16,-16,-16,-16,16,16,-16,16,-16,-16,-16,-16,-16,-16,16,16,-16,-16,16,16,-16,-16,16,16,-16,-16,-16,-16,-16,16,-16,-16,-16,16,-16,16,16,16,-16,16,16,-16,16,-16,16,-16,16,16,16,-16,16,-16,-16,-16,16,16,-16,-16,16,-16,-16,16,-16,16,-16,-16,-16,16,-16,-16,-16,16,16,16,16,16,-16,16,-16,16,-16,-16,-16,-16,-16,16,-16,16,-16,64,16,16]
[-16,16,16,-64,-16,-16,-16,-16,16,16,-16,16,-16,-16,-16,-16,16,16,-16,-16,-16,-16,16,-16,16,16,16,16,-16,-16,-16,-16,16,16,16,16,-16,16,16,-16,16,16,-16,-16,-16,-64,-16,16,16,-16,16,64,-16,16,16,16,-16,16,16,16,16,-16,-16,16,-16,16,16,16,-16,64,-64,16,-16,16,-16,-64,16,64,16,-16,-16,-16,-16,-16,-16,-16,16,16,-16,-16,-16,16,-16,16,-16,-16,-16,16,16,-64,-16,-16,16,16,-16,-16,16,16,16,16,16,-64,16,-16,-16,-16,16,-16,16,-16,-16,16,-16,-16,16,-16,-16,-16]
[-16,-16,-16,16,16,16,-16,-16,16,-16,-16,-16,64,16,-16,-16,16,-16,-16,-16,16,-16,16,64,16,16,-16,-16,-16,16,-16,16,16,-16,-16,16,16,-16,-16,16,-16,-16,-16,16,-16,-16,64,-16,-16,16,-16,-16,16,16,-16,-16,-16,-16,-16,64,-16,16,-16,-16,16,-16,-16,16,-16,-16,16,-16,16,-16,16,-16,-16,-16,-16,-16,-16,-16,16,-16,-16,-16,-16,-16,16,-16,-16,16,-16,-16,-16,-16,-16,-16,-16,16,-16,-16,-16,16,16,-16,16,-16,16,-16,-16,-16,16,-16,-16,-16,-16,16,16,-16,16,16,16,-16,16,16,-16,16]
[]
[]
[]
[null,null,null,null,null,null,null,null,null,null,null,null,null,null,null,null,null,null,null,null,null,null,null,null,null,null,null,null,null,null,null,null,null,null,null,null,null,null,null,null,null,null,null,null,null,null,null,null,null,null,null,null,null,null,null,null,null,null,null,null,null,null,null,null,null,null,null,null,null,null,null,null,null,null,null,null,null,null,null,null,null,null,null,null,null,null,null,null,null,null,null,null,null,null,null,null,null,null,null,null,null,null,null,null,null,null,null,null,null,null,null,null,null,null,null,null,null,null,null,null,null,null,null,null,null,null,null,null," "]

{"sheet":"W6","index":2,"n_rows":132,"n_cols":44,"rows_kept":132,"cut":false,"hidden":false,"merged":[]}
[-12,49,-65,-24,40,40,36,-59,-2,-96]
[-77,32,32,42,-109,33,50,-38,-107,-60]
[-89,-82,-71,11,-74,28,-88,37,34,24]
[-57,-25,-40,16,-20,-31,44,-10,-62,62]
[-78,-44,18,-58,47,-31,-85,9,-33,3]
[28,1,-30,-60,-56,-65,-24,15,-23,22]
[21,19,-39,-18,-39,-20,-32,6,-17,9]
[7,-52,-27,60,40,-80,67,-65,-17,-48]
[-55,-78,-19,62,-11,-46,-113,-65,50,70]
[-78,43,-1,-65,-46,43,-92,54,43,-42]
[19,29,-56,-50,31,0,40,53,-87,-84]
[-44,23,29,-121,30,-48,-140,49,3,13]
[1,-44,48,40,-80,50,-54,-84,-97,58]
[-24,-49,57,-58,-84,54,9,-5,-73,79]
[-51,-13,-41,35,-10,-14,19,-13,-43,11]
[-1,41,49,47,-72,50,-104,-40,-88,-66]
[-23,-10,97,41,-16,13,-34,-7,-39,-33]
[-52,16,17,-84,-5,-44,41,28,-53,-49]
[-29,-32,-1,-12,36,-82,18,-56,-72,-33]
[46,-74,-60,30,-61,25,-60,-61,-23,-47]
[32,56,46,-31,44,-40,-111,-45,-79,-36]
[-66,-9,31,-1,-40,4,49,-58,-71,-32]
[-74,-1,-92,-44,50,-49,-66,-48,48,-45]
[54,-39,3,-44,-96,-27,61,29,19,44]
[-93,-57,-87,40,-98,32,36,44,33,39]
[-32,-25,-11,5,-72,-29,-22,-54,40,43]
[23,-51,-29,-31,28,7,8,21,28,3]
[-90,-76,-75,-90,19,-58,48,42,13,-65]
[25,11,-59,-44,-6,-50,-31,-28,-21,-74]
[-54,-18,-27,36,54,-47,8,-6,-50,58]
[-13,59,49,9,5,58,-96,-63,-45,-52]
[-36,51,47,-32,-11,-42,-45,0,-82,66]
[32,-79,-54,-68,13,-74,-123,-71,35,43]
[-20,5,-58,-55,-45,19,2,-27,31,-30]
[38,-33,47,-110,45,-62,-126,41,53,35]
[3,-28,3,-3,-15,34,-39,2,-40,-37]
[-28,3,52,-55,-56,36,-9,-52,-59,-53]
[47,-35,-8,11,-76,-54,17,-26,43,-20]
[-56,-64,-46,19,-24,27,31,43,29,-100]
[34,9,-17,2,61,-26,-27,3,45,1]
[17,24,-52,28,26,-35,28,-27,-1,26]
[38,21,-101,33,22,-64,13,-76,16,1]
[7,-26,14,-10,25,-17,-25,-56,-7,7]
[-45,16,24,58,30,-15,-66,-90,-78,50]
[-22,-24,-18,-33,17,45,35,-21,40,20]
[45,54,-29,-7,58,-104,-66,-59,-47,-78]
[-71,-46,-63,44,13,48,45,-33,32,72]
[75,10,25,-39,-30,-72,-56,-9,-51,-21]
[45,47,6,62,-75,-19,-69,-54,-17,54]
[-27,21,0,50,-10,-5,-63,-36,-18,-36]
[7,-45,-56,-99,-10,-45,-27,15,21,-46]
[-124,-84,40,41,-77,51,-77,-1,30,-27]
[-13,-26,-73,-55,-83,41,31,-1,-61,22]
[-30,-29,5,25,6,46,33,1,-53,41]
[-89,-30,-48,30,35,42,-46,18,38,-89]
[-11,36,2,-30,-10,-51,0,1,-20,41]
[-21,32,-6,-45,-35,9,11,50,-16,-18]
[48,40,-6,35,-31,-8,57,22,-95,-65]
[-38,-6,-29,41,-10,21,-1,-30,-11,-6]
[-39,-30,8,-71,22,17,49,6,11,19]
[46,-55,-57,-52,-65,-65,-41,-61,29,-84]
[-50,-28,8,17,-51,13,2,-3,-15,-41]
[-48,-4,-8,-2,44,8,-41,-53,43,-2]
[31,19,-32,-70,-59,0,-62,36,16,-20]
[52,35,-76,31,-45,30,-108,58,-22,39]
[-41,-9,-63,34,-13,-20,20,-36,4,-17]
[20,-26,34,-25,9,30,-53,-42,21,29]
[16,-2,-43,12,-7,-6,12,49,-23,-23]
[17,-55,15,-42,-14,-32,-47,13,34,-8]
[-58,0,39,-109,45,-24,-86,39,39,-50]
[56,34,-36,-56,44,-91,-87,-59,-58,53]
[-52,44,13,-113,0,-29,33,40,-29,-52]
[44,0,-63,-38,21,-48,-6,-58,11,44]
[-31,-28,4,-19,-71,44,4,45,21,20]
[72,-67,17,-25,-68,20,-93,-96,-44,-57]
[-7,46,53,-68,39,-75,-53,-39,-110,-41]
[46,13,-74,12,-2,-74,-130,-82,30,-105]
[-78,-90,-88,24,-66,17,3,28,29,-57]
[65,-92,14,39,20,-53,-40,-61,63,-39]
[15,24,-5,-22,-38,-62,-1,61,-7,-1]
[-3,23,17,12,-44,28,27,26,-61,-83]
[-49,48,-32,-3,35,9,45,0,34,16]
[-58,-37,-14,-103,32,-37,-4,-69,-58,31]
[-4,43,16,20,8,42,0,16,36,32]
[-58,-10,-53,-2,-85,60,0,23,11,-46]
[40,35,23,-23,22,-39,-101,-77,8,-117]
[19,-40,-48,34,28,-20,31,-95,-38,-11]
[-56,43,0,-36,-87,-26,70,60,9,-66]
[-1,-81,-37,-92,15,-52,-47,46,54,69]
[-41,-54,46,47,-24,-15,-70,55,-41,45]
[13,33,31,-36,35,-34,-69,-46,-91,17]
[34,-16,-5,0,70,-51,-45,35,3,-48]
[-86,-83,48,51,-52,61,-84,-79,-117,10]
[-3,-7,-27,-16,40,-33,-48,-59,-5,-27]
[11,8,-71,-81,19,4,-76,42,-73,-51]
[-16,-15,49,-21,15,39,56,-47,-1,6]
[-31,19,-56,-38,-16,34,-17,52,-18,-51]
[-41,51,37,27,42,-41,14,-19,20,-61]
[-101,-66,62,64,-7,-6,-19,-81,-37,-62]
[-33,55,52,-63,51,-48,-4,-36,-52,69]
[-81,15,47,-50,1,49,-96,35,-97,17]
[-25,-10,24,-25,-33,-46,29,-37,-20,27]
[27,-13,-33,13,-33,-6,32,-8,-4,10]
[-55,5,44,0,-42,-45,-80,6,-75,11]
[-45,-26,-8,55,-35,-64,69,-94,-87,40]
[-24,-32,21,1,-23,-61,-16,-28,-57,-56]
[-21,4,-46,-66,-22,7,36,-57,37,-21]
[-113,-60,-7,-64,17,26,10,48,37,-72]
[-93,-39,-44,57,-74,50,55,-9,-4,40]
[-24,-61,-94,-66,23,-23,-96,26,34,-60]
[20,-4,38,-100,35,30,-95,41,52,-119]
[-23,28,-3,26,40,17,-69,-58,-120,-89]
[-42,-25,72,-55,-51,27,-67,-62,-77,77]
[-63,12,80,13,72,-25,-58,-16,-31,2]
[51,44,-101,11,14,-37,40,26,34,22]
[10,-76,32,32,13,-86,-44,-113,10,-31]
[-68,6,0,-18,5,29,-28,32,32,-48]
[16,35,-32,-13,-54,-52,-27,-31,-20,-39]
[16,5,46,61,-51,39,9,-50,20,22]
[-20,-31,3,0,25,36,-3,1,-7,10]
[-64,-11,-77,-28,-6,-45,-38,-55,13,93]
[17,42,-19,-87,32,-93,29,-106,51,-56]
[-97,-43,-5,56,-58,54,-79,31,-23,60]
[-46,-18,38,35,24,27,48,-11,-72,-30]
[-60,-12,26,-8,-102,-60,34,-49,58,-27]
[-6,-79,-33,-59,5,50,24,-42,-2,27]
[-7,-13,-18,59,76,-44,-53,-68,-17,-59]
[-64,40,54,-12,-67,52,-26,-16,-63,-59]
[]
[]
[]
[null,null,null,null,null,null,null,null,null,null,null,null,null,null,null,null,null,null,null,null,null,null,null,null,null,null,null,null,null,null,null,null,null,null,null,null,null,null,null,null,null,null,null," "]

{"sheet":"W6_bin","index":3,"n_rows":128,"n_cols":43,"rows_kept":128,"cut":false,"hidden":false,"merged":[]}
[{"$f":"DEC2BIN('W6'!A1, 9)","v":"1111110100"},{"$f":"DEC2BIN('W6'!B1, 9)","v":"000110001"},{"$f":"DEC2BIN('W6'!C1, 9)","v":"1110111111"},{"$f":"DEC2BIN('W6'!D1, 9)","v":"1111101000"},{"$f":"DEC2BIN('W6'!E1, 9)","v":"000101000"},{"$f":"DEC2BIN('W6'!F1, 9)","v":"000101000"},{"$f":"DEC2BIN('W6'!G1, 9)","v":"000100100"},{"$f":"DEC2BIN('W6'!H1, 9)","v":"1111000101"},{"$f":"DEC2BIN('W6'!I1, 9)","v":"1111111110"},{"$f":"DEC2BIN('W6'!J1, 9)","v":"1110100000"},{"$f":"DEC2BIN('W6'!K1, 9)","v":"000000000"},{"$f":"DEC2BIN('W6'!L1, 9)","v":"000000000"},{"$f":"DEC2BIN('W6'!M1, 9)","v":"000000000"},{"$f":"DEC2BIN('W6'!N1, 9)","v":"000000000"},{"$f":"DEC2BIN('W6'!O1, 9)","v":"000000000"},{"$f":"DEC2BIN('W6'!P1, 9)","v":"000000000"},{"$f":"DEC2BIN('W6'!Q1, 9)","v":"000000000"},{"$f":"DEC2BIN('W6'!R1, 9)","v":"000000000"},{"$f":"DEC2BIN('W6'!S1, 9)","v":"000000000"},{"$f":"DEC2BIN('W6'!T1, 9)","v":"000000000"},{"$f":"DEC2BIN('W6'!U1, 9)","v":"000000000"},{"$f":"DEC2BIN('W6'!V1, 9)","v":"000000000"},{"$f":"DEC2BIN('W6'!W1, 9)","v":"000000000"},{"$f":"DEC2BIN('W6'!X1, 9)","v":"000000000"},{"$f":"DEC2BIN('W6'!Y1, 9)","v":"000000000"},{"$f":"DEC2BIN('W6'!Z1, 9)","v":"000000000"},{"$f":"DEC2BIN('W6'!AA1, 9)","v":"000000000"},{"$f":"DEC2BIN('W6'!AB1, 9)","v":"000000000"},{"$f":"DEC2BIN('W6'!AC1, 9)","v":"000000000"},{"$f":"DEC2BIN('W6'!AD1, 9)","v":"000000000"},{"$f":"DEC2BIN('W6'!AE1, 9)","v":"000000000"},{"$f":"DEC2BIN('W6'!AF1, 9)","v":"000000000"},{"$f":"DEC2BIN('W6'!AG1, 9)","v":"000000000"},{"$f":"DEC2BIN('W6'!AH1, 9)","v":"000000000"},{"$f":"DEC2BIN('W6'!AI1, 9)","v":"000000000"},{"$f":"DEC2BIN('W6'!AJ1, 9)","v":"000000000"},{"$f":"DEC2BIN('W6'!AK1, 9)","v":"000000000"},{"$f":"DEC2BIN('W6'!AL1, 9)","v":"000000000"},{"$f":"DEC2BIN('W6'!AM1, 9)","v":"000000000"},{"$f":"DEC2BIN('W6'!AN1, 9)","v":"000000000"},{"$f":"DEC2BIN('W6'!AO1, 9)","v":"000000000"},{"$f":"DEC2BIN('W6'!AP1, 9)","v":"000000000"},{"$f":"DEC2BIN('W6'!AQ1, 9)","v":"000000000"}]
[{"$f":"DEC2BIN('W6'!A2, 9)","v":"1110110011"},{"$f":"DEC2BIN('W6'!B2, 9)","v":"000100000"},{"$f":"DEC2BIN('W6'!C2, 9)","v":"000100000"},{"$f":"DEC2BIN('W6'!D2, 9)","v":"000101010"},{"$f":"DEC2BIN('W6'!E2, 9)","v":"1110010011"},{"$f":"DEC2BIN('W6'!F2, 9)","v":"000100001"},{"$f":"DEC2BIN('W6'!G2, 9)","v":"000110010"},{"$f":"DEC2BIN('W6'!H2, 9)","v":"1111011010"},{"$f":"DEC2BIN('W6'!I2, 9)","v":"1110010101"},{"$f":"DEC2BIN('W6'!J2, 9)","v":"1111000100"},{"$f":"DEC2BIN('W6'!K2, 9)","v":"000000000"},{"$f":"DEC2BIN('W6'!L2, 9)","v":"000000000"},{"$f":"DEC2BIN('W6'!M2, 9)","v":"000000000"},{"$f":"DEC2BIN('W6'!N2, 9)","v":"000000000"},{"$f":"DEC2BIN('W6'!O2, 9)","v":"000000000"},{"$f":"DEC2BIN('W6'!P2, 9)","v":"000000000"},{"$f":"DEC2BIN('W6'!Q2, 9)","v":"000000000"},{"$f":"DEC2BIN('W6'!R2, 9)","v":"000000000"},{"$f":"DEC2BIN('W6'!S2, 9)","v":"000000000"},{"$f":"DEC2BIN('W6'!T2, 9)","v":"000000000"},{"$f":"DEC2BIN('W6'!U2, 9)","v":"000000000"},{"$f":"DEC2BIN('W6'!V2, 9)","v":"000000000"},{"$f":"DEC2BIN('W6'!W2, 9)","v":"000000000"},{"$f":"DEC2BIN('W6'!X2, 9)","v":"000000000"},{"$f":"DEC2BIN('W6'!Y2, 9)","v":"000000000"},{"$f":"DEC2BIN('W6'!Z2, 9)","v":"000000000"},{"$f":"DEC2BIN('W6'!AA2, 9)","v":"000000000"},{"$f":"DEC2BIN('W6'!AB2, 9)","v":"000000000"},{"$f":"DEC2BIN('W6'!AC2, 9)","v":"000000000"},{"$f":"DEC2BIN('W6'!AD2, 9)","v":"000000000"},{"$f":"DEC2BIN('W6'!AE2, 9)","v":"000000000"},{"$f":"DEC2BIN('W6'!AF2, 9)","v":"000000000"},{"$f":"DEC2BIN('W6'!AG2, 9)","v":"000000000"},{"$f":"DEC2BIN('W6'!AH2, 9)","v":"000000000"},{"$f":"DEC2BIN('W6'!AI2, 9)","v":"000000000"},{"$f":"DEC2BIN('W6'!AJ2, 9)","v":"000000000"},{"$f":"DEC2BIN('W6'!AK2, 9)","v":"000000000"},{"$f":"DEC2BIN('W6'!AL2, 9)","v":"000000000"},{"$f":"DEC2BIN('W6'!AM2, 9)","v":"000000000"},{"$f":"DEC2BIN('W6'!AN2, 9)","v":"000000000"},{"$f":"DEC2BIN('W6'!AO2, 9)","v":"000000000"},{"$f":"DEC2BIN('W6'!AP2, 9)","v":"000000000"},{"$f":"DEC2BIN('W6'!AQ2, 9)","v":"000000000"}]
[{"$f":"DEC2BIN('W6'!A3, 9)","v":"1110100111"},{"$f":"DEC2BIN('W6'!B3, 9)","v":"1110101110"},{"$f":"DEC2BIN('W6'!C3, 9)","v":"1110111001"},{"$f":"DEC2BIN('W6'!D3, 9)","v":"000001011"},{"$f":"DEC2BIN('W6'!E3, 9)","v":"1110110110"},{"$f":"DEC2BIN('W6'!F3, 9)","v":"000011100"},{"$f":"DEC2BIN('W6'!G3, 9)","v":"1110101000"},{"$f":"DEC2BIN('W6'!H3, 9)","v":"000100101"},{"$f":"DEC2BIN('W6'!I3, 9)","v":"000100010"},{"$f":"DEC2BIN('W6'!J3, 9)","v":"000011000"},{"$f":"DEC2BIN('W6'!K3, 9)","v":"000000000"},{"$f":"DEC2BIN('W6'!L3, 9)","v":"000000000"},{"$f":"DEC2BIN('W6'!M3, 9)","v":"000000000"},{"$f":"DEC2BIN('W6'!N3, 9)","v":"000000000"},{"$f":"DEC2BIN('W6'!O3, 9)","v":"000000000"},{"$f":"DEC2BIN('W6'!P3, 9)","v":"000000000"},{"$f":"DEC2BIN('W6'!Q3, 9)","v":"000000000"},{"$f":"DEC2BIN('W6'!R3, 9)","v":"000000000"},{"$f":"DEC2BIN('W6'!S3, 9)","v":"000000000"},{"$f":"DEC2BIN('W6'!T3, 9)","v":"000000000"},{"$f":"DEC2BIN('W6'!U3, 9)","v":"000000000"},{"$f":"DEC2BIN('W6'!V3, 9)","v":"000000000"},{"$f":"DEC2BIN('W6'!W3, 9)","v":"000000000"},{"$f":"DEC2BIN('W6'!X3, 9)","v":"000000000"},{"$f":"DEC2BIN('W6'!Y3, 9)","v":"000000000"},{"$f":"DEC2BIN('W6'!Z3, 9)","v":"000000000"},{"$f":"DEC2BIN('W6'!AA3, 9)","v":"000000000"},{"$f":"DEC2BIN('W6'!AB3, 9)","v":"000000000"},{"$f":"DEC2BIN('W6'!AC3, 9)","v":"000000000"},{"$f":"DEC2BIN('W6'!AD3, 9)","v":"000000000"},{"$f":"DEC2BIN('W6'!AE3, 9)","v":"000000000"},{"$f":"DEC2BIN('W6'!AF3, 9)","v":"000000000"},{"$f":"DEC2BIN('W6'!AG3, 9)","v":"000000000"},{"$f":"DEC2BIN('W6'!AH3, 9)","v":"000000000"},{"$f":"DEC2BIN('W6'!AI3, 9)","v":"000000000"},{"$f":"DEC2BIN('W6'!AJ3, 9)","v":"000000000"},{"$f":"DEC2BIN('W6'!AK3, 9)","v":"000000000"},{"$f":"DEC2BIN('W6'!AL3, 9)","v":"000000000"},{"$f":"DEC2BIN('W6'!AM3, 9)","v":"000000000"},{"$f":"DEC2BIN('W6'!AN3, 9)","v":"000000000"},{"$f":"DEC2BIN('W6'!AO3, 9)","v":"000000000"},{"$f":"DEC2BIN('W6'!AP3, 9)","v":"000000000"},{"$f":"DEC2BIN('W6'!AQ3, 9)","v":"000000000"}]
[{"$f":"DEC2BIN('W6'!A4, 9)","v":"1111000111"},{"$f":"DEC2BIN('W6'!B4, 9)","v":"1111100111"},{"$f":"DEC2BIN('W6'!C4, 9)","v":"1111011000"},{"$f":"DEC2BIN('W6'!D4, 9)","v":"000010000"},{"$f":"DEC2BIN('W6'!E4, 9)","v":"1111101100"},{"$f":"DEC2BIN('W6'!F4, 9)","v":"1111100001"},{"$f":"DEC2BIN('W6'!G4, 9)","v":"000101100"},{"$f":"DEC2BIN('W6'!H4, 9)","v":"1111110110"},{"$f":"DEC2BIN('W6'!I4, 9)","v":"1111000010"},{"$f":"DEC2BIN('W6'!J4, 9)","v":"000111110"},{"$f":"DEC2BIN('W6'!K4, 9)","v":"000000000"},{"$f":"DEC2BIN('W6'!L4, 9)","v":"000000000"},{"$f":"DEC2BIN('W6'!M4, 9)","v":"000000000"},{"$f":"DEC2BIN('W6'!N4, 9)","v":"000000000"},{"$f":"DEC2BIN('W6'!O4, 9)","v":"000000000"},{"$f":"DEC2BIN('W6'!P4, 9)","v":"000000000"},{"$f":"DEC2BIN('W6'!Q4, 9)","v":"000000000"},{"$f":"DEC2BIN('W6'!R4, 9)","v":"000000000"},{"$f":"DEC2BIN('W6'!S4, 9)","v":"000000000"},{"$f":"DEC2BIN('W6'!T4, 9)","v":"000000000"},{"$f":"DEC2BIN('W6'!U4, 9)","v":"000000000"},{"$f":"DEC2BIN('W6'!V4, 9)","v":"000000000"},{"$f":"DEC2BIN('W6'!W4, 9)","v":"000000000"},{"$f":"DEC2BIN('W6'!X4, 9)","v":"000000000"},{"$f":"DEC2BIN('W6'!Y4, 9)","v":"000000000"},{"$f":"DEC2BIN('W6'!Z4, 9)","v":"000000000"},{"$f":"DEC2BIN('W6'!AA4, 9)","v":"000000000"},{"$f":"DEC2BIN('W6'!AB4, 9)","v":"000000000"},{"$f":"DEC2BIN('W6'!AC4, 9)","v":"000000000"},{"$f":"DEC2BIN('W6'!AD4, 9)","v":"000000000"},{"$f":"DEC2BIN('W6'!AE4, 9)","v":"000000000"},{"$f":"DEC2BIN('W6'!AF4, 9)","v":"000000000"},{"$f":"DEC2BIN('W6'!AG4, 9)","v":"000000000"},{"$f":"DEC2BIN('W6'!AH4, 9)","v":"000000000"},{"$f":"DEC2BIN('W6'!AI4, 9)","v":"000000000"},{"$f":"DEC2BIN('W6'!AJ4, 9)","v":"000000000"},{"$f":"DEC2BIN('W6'!AK4, 9)","v":"000000000"},{"$f":"DEC2BIN('W6'!AL4, 9)","v":"000000000"},{"$f":"DEC2BIN('W6'!AM4, 9)","v":"000000000"},{"$f":"DEC2BIN('W6'!AN4, 9)","v":"000000000"},{"$f":"DEC2BIN('W6'!AO4, 9)","v":"000000000"},{"$f":"DEC2BIN('W6'!AP4, 9)","v":"000000000"},{"$f":"DEC2BIN('W6'!AQ4, 9)","v":"000000000"}]
[{"$f":"DEC2BIN('W6'!A5, 9)","v":"1110110010"},{"$f":"DEC2BIN('W6'!B5, 9)","v":"1111010100"},{"$f":"DEC2BIN('W6'!C5, 9)","v":"000010010"},{"$f":"DEC2BIN('W6'!D5, 9)","v":"1111000110"},{"$f":"DEC2BIN('W6'!E5, 9)","v":"000101111"},{"$f":"DEC2BIN('W6'!F5, 9)","v":"1111100001"},{"$f":"DEC2BIN('W6'!G5, 9)","v":"1110101011"},{"$f":"DEC2BIN('W6'!H5, 9)","v":"000001001"},{"$f":"DEC2BIN('W6'!I5, 9)","v":"1111011111"},{"$f":"DEC2BIN('W6'!J5, 9)","v":"000000011"},{"$f":"DEC2BIN('W6'!K5, 9)","v":"000000000"},{"$f":"DEC2BIN('W6'!L5, 9)","v":"000000000"},{"$f":"DEC2BIN('W6'!M5, 9)","v":"000000000"},{"$f":"DEC2BIN('W6'!N5, 9)","v":"000000000"},{"$f":"DEC2BIN('W6'!O5, 9)","v":"000000000"},{"$f":"DEC2BIN('W6'!P5, 9)","v":"000000000"},{"$f":"DEC2BIN('W6'!Q5, 9)","v":"000000000"},{"$f":"DEC2BIN('W6'!R5, 9)","v":"000000000"},{"$f":"DEC2BIN('W6'!S5, 9)","v":"000000000"},{"$f":"DEC2BIN('W6'!T5, 9)","v":"000000000"},{"$f":"DEC2BIN('W6'!U5, 9)","v":"000000000"},{"$f":"DEC2BIN('W6'!V5, 9)","v":"000000000"},{"$f":"DEC2BIN('W6'!W5, 9)","v":"000000000"},{"$f":"DEC2BIN('W6'!X5, 9)","v":"000000000"},{"$f":"DEC2BIN('W6'!Y5, 9)","v":"000000000"},{"$f":"DEC2BIN('W6'!Z5, 9)","v":"000000000"},{"$f":"DEC2BIN('W6'!AA5, 9)","v":"000000000"},{"$f":"DEC2BIN('W6'!AB5, 9)","v":"000000000"},{"$f":"DEC2BIN('W6'!AC5, 9)","v":"000000000"},{"$f":"DEC2BIN('W6'!AD5, 9)","v":"000000000"},{"$f":"DEC2BIN('W6'!AE5, 9)","v":"000000000"},{"$f":"DEC2BIN('W6'!AF5, 9)","v":"000000000"},{"$f":"DEC2BIN('W6'!AG5, 9)","v":"000000000"},{"$f":"DEC2BIN('W6'!AH5, 9)","v":"000000000"},{"$f":"DEC2BIN('W6'!AI5, 9)","v":"000000000"},{"$f":"DEC2BIN('W6'!AJ5, 9)","v":"000000000"},{"$f":"DEC2BIN('W6'!AK5, 9)","v":"000000000"},{"$f":"DEC2BIN('W6'!AL5, 9)","v":"000000000"},{"$f":"DEC2BIN('W6'!AM5, 9)","v":"000000000"},{"$f":"DEC2BIN('W6'!AN5, 9)","v":"000000000"},{"$f":"DEC2BIN('W6'!AO5, 9)","v":"000000000"},{"$f":"DEC2BIN('W6'!AP5, 9)","v":"000000000"},{"$f":"DEC2BIN('W6'!AQ5, 9)","v":"000000000"}]
[{"$f":"DEC2BIN('W6'!A6, 9)","v":"000011100"},{"$f":"DEC2BIN('W6'!B6, 9)","v":"000000001"},{"$f":"DEC2BIN('W6'!C6, 9)","v":"1111100010"},{"$f":"DEC2BIN('W6'!D6, 9)","v":"1111000100"},{"$f":"DEC2BIN('W6'!E6, 9)","v":"1111001000"},{"$f":"DEC2BIN('W6'!F6, 9)","v":"1110111111"},{"$f":"DEC2BIN('W6'!G6, 9)","v":"1111101000"},{"$f":"DEC2BIN('W6'!H6, 9)","v":"000001111"},{"$f":"DEC2BIN('W6'!I6, 9)","v":"1111101001"},{"$f":"DEC2BIN('W6'!J6, 9)","v":"000010110"},{"$f":"DEC2BIN('W6'!K6, 9)","v":"000000000"},{"$f":"DEC2BIN('W6'!L6, 9)","v":"000000000"},{"$f":"DEC2BIN('W6'!M6, 9)","v":"000000000"},{"$f":"DEC2BIN('W6'!N6, 9)","v":"000000000"},{"$f":"DEC2BIN('W6'!O6, 9)","v":"000000000"},{"$f":"DEC2BIN('W6'!P6, 9)","v":"000000000"},{"$f":"DEC2BIN('W6'!Q6, 9)","v":"000000000"},{"$f":"DEC2BIN('W6'!R6, 9)","v":"000000000"},{"$f":"DEC2BIN('W6'!S6, 9)","v":"000000000"},{"$f":"DEC2BIN('W6'!T6, 9)","v":"000000000"},{"$f":"DEC2BIN('W6'!U6, 9)","v":"000000000"},{"$f":"DEC2BIN('W6'!V6, 9)","v":"000000000"},{"$f":"DEC2BIN('W6'!W6, 9)","v":"000000000"},{"$f":"DEC2BIN('W6'!X6, 9)","v":"000000000"},{"$f":"DEC2BIN('W6'!Y6, 9)","v":"000000000"},{"$f":"DEC2BIN('W6'!Z6, 9)","v":"000000000"},{"$f":"DEC2BIN('W6'!AA6, 9)","v":"000000000"},{"$f":"DEC2BIN('W6'!AB6, 9)","v":"000000000"},{"$f":"DEC2BIN('W6'!AC6, 9)","v":"000000000"},{"$f":"DEC2BIN('W6'!AD6, 9)","v":"000000000"},{"$f":"DEC2BIN('W6'!AE6, 9)","v":"000000000"},{"$f":"DEC2BIN('W6'!AF6, 9)","v":"000000000"},{"$f":"DEC2BIN('W6'!AG6, 9)","v":"000000000"},{"$f":"DEC2BIN('W6'!AH6, 9)","v":"000000000"},{"$f":"DEC2BIN('W6'!AI6, 9)","v":"000000000"},{"$f":"DEC2BIN('W6'!AJ6, 9)","v":"000000000"},{"$f":"DEC2BIN('W6'!AK6, 9)","v":"000000000"},{"$f":"DEC2BIN('W6'!AL6, 9)","v":"000000000"},{"$f":"DEC2BIN('W6'!AM6, 9)","v":"000000000"},{"$f":"DEC2BIN('W6'!AN6, 9)","v":"000000000"},{"$f":"DEC2BIN('W6'!AO6, 9)","v":"000000000"},{"$f":"DEC2BIN('W6'!AP6, 9)","v":"000000000"},{"$f":"DEC2BIN('W6'!AQ6, 9)","v":"000000000"}]
[{"$f":"DEC2BIN('W6'!A7, 9)","v":"000010101"},{"$f":"DEC2BIN('W6'!B7, 9)","v":"000010011"},{"$f":"DEC2BIN('W6'!C7, 9)","v":"1111011001"},{"$f":"DEC2BIN('W6'!D7, 9)","v":"1111101110"},{"$f":"DEC2BIN('W6'!E7, 9)","v":"1111011001"},{"$f":"DEC2BIN('W6'!F7, 9)","v":"1111101100"},{"$f":"DEC2BIN('W6'!G7, 9)","v":"1111100000"},{"$f":"DEC2BIN('W6'!H7, 9)","v":"000000110"},{"$f":"DEC2BIN('W6'!I7, 9)","v":"1111101111"},{"$f":"DEC2BIN('W6'!J7, 9)","v":"000001001"},{"$f":"DEC2BIN('W6'!K7, 9)","v":"000000000"},{"$f":"DEC2BIN('W6'!L7, 9)","v":"000000000"},{"$f":"DEC2BIN('W6'!M7, 9)","v":"000000000"},{"$f":"DEC2BIN('W6'!N7, 9)","v":"000000000"},{"$f":"DEC2BIN('W6'!O7, 9)","v":"000000000"},{"$f":"DEC2BIN('W6'!P7, 9)","v":"000000000"},{"$f":"DEC2BIN('W6'!Q7, 9)","v":"000000000"},{"$f":"DEC2BIN('W6'!R7, 9)","v":"000000000"},{"$f":"DEC2BIN('W6'!S7, 9)","v":"000000000"},{"$f":"DEC2BIN('W6'!T7, 9)","v":"000000000"},{"$f":"DEC2BIN('W6'!U7, 9)","v":"000000000"},{"$f":"DEC2BIN('W6'!V7, 9)","v":"000000000"},{"$f":"DEC2BIN('W6'!W7, 9)","v":"000000000"},{"$f":"DEC2BIN('W6'!X7, 9)","v":"000000000"},{"$f":"DEC2BIN('W6'!Y7, 9)","v":"000000000"},{"$f":"DEC2BIN('W6'!Z7, 9)","v":"000000000"},{"$f":"DEC2BIN('W6'!AA7, 9)","v":"000000000"},{"$f":"DEC2BIN('W6'!AB7, 9)","v":"000000000"},{"$f":"DEC2BIN('W6'!AC7, 9)","v":"000000000"},{"$f":"DEC2BIN('W6'!AD7, 9)","v":"000000000"},{"$f":"DEC2BIN('W6'!AE7, 9)","v":"000000000"},{"$f":"DEC2BIN('W6'!AF7, 9)","v":"000000000"},{"$f":"DEC2BIN('W6'!AG7, 9)","v":"000000000"},{"$f":"DEC2BIN('W6'!AH7, 9)","v":"000000000"},{"$f":"DEC2BIN('W6'!AI7, 9)","v":"000000000"},{"$f":"DEC2BIN('W6'!AJ7, 9)","v":"000000000"},{"$f":"DEC2BIN('W6'!AK7, 9)","v":"000000000"},{"$f":"DEC2BIN('W6'!AL7, 9)","v":"000000000"},{"$f":"DEC2BIN('W6'!AM7, 9)","v":"000000000"},{"$f":"DEC2BIN('W6'!AN7, 9)","v":"000000000"},{"$f":"DEC2BIN('W6'!AO7, 9)","v":"000000000"},{"$f":"DEC2BIN('W6'!AP7, 9)","v":"000000000"},{"$f":"DEC2BIN('W6'!AQ7, 9)","v":"000000000"}]
[{"$f":"DEC2BIN('W6'!A8, 9)","v":"000000111"},{"$f":"DEC2BIN('W6'!B8, 9)","v":"1111001100"},{"$f":"DEC2BIN('W6'!C8, 9)","v":"1111100101"},{"$f":"DEC2BIN('W6'!D8, 9)","v":"000111100"},{"$f":"DEC2BIN('W6'!E8, 9)","v":"000101000"},{"$f":"DEC2BIN('W6'!F8, 9)","v":"1110110000"},{"$f":"DEC2BIN('W6'!G8, 9)","v":"001000011"},{"$f":"DEC2BIN('W6'!H8, 9)","v":"1110111111"},{"$f":"DEC2BIN('W6'!I8, 9)","v":"1111101111"},{"$f":"DEC2BIN('W6'!J8, 9)","v":"1111010000"},{"$f":"DEC2BIN('W6'!K8, 9)","v":"000000000"},{"$f":"DEC2BIN('W6'!L8, 9)","v":"000000000"},{"$f":"DEC2BIN('W6'!M8, 9)","v":"000000000"},{"$f":"DEC2BIN('W6'!N8, 9)","v":"000000000"},{"$f":"DEC2BIN('W6'!O8, 9)","v":"000000000"},{"$f":"DEC2BIN('W6'!P8, 9)","v":"000000000"},{"$f":"DEC2BIN('W6'!Q8, 9)","v":"000000000"},{"$f":"DEC2BIN('W6'!R8, 9)","v":"000000000"},{"$f":"DEC2BIN('W6'!S8, 9)","v":"000000000"},{"$f":"DEC2BIN('W6'!T8, 9)","v":"000000000"},{"$f":"DEC2BIN('W6'!U8, 9)","v":"000000000"},{"$f":"DEC2BIN('W6'!V8, 9)","v":"000000000"},{"$f":"DEC2BIN('W6'!W8, 9)","v":"000000000"},{"$f":"DEC2BIN('W6'!X8, 9)","v":"000000000"},{"$f":"DEC2BIN('W6'!Y8, 9)","v":"000000000"},{"$f":"DEC2BIN('W6'!Z8, 9)","v":"000000000"},{"$f":"DEC2BIN('W6'!AA8, 9)","v":"000000000"},{"$f":"DEC2BIN('W6'!AB8, 9)","v":"000000000"},{"$f":"DEC2BIN('W6'!AC8, 9)","v":"000000000"},{"$f":"DEC2BIN('W6'!AD8, 9)","v":"000000000"},{"$f":"DEC2BIN('W6'!AE8, 9)","v":"000000000"},{"$f":"DEC2BIN('W6'!AF8, 9)","v":"000000000"},{"$f":"DEC2BIN('W6'!AG8, 9)","v":"000000000"},{"$f":"DEC2BIN('W6'!AH8, 9)","v":"000000000"},{"$f":"DEC2BIN('W6'!AI8, 9)","v":"000000000"},{"$f":"DEC2BIN('W6'!AJ8, 9)","v":"000000000"},{"$f":"DEC2BIN('W6'!AK8, 9)","v":"000000000"},{"$f":"DEC2BIN('W6'!AL8, 9)","v":"000000000"},{"$f":"DEC2BIN('W6'!AM8, 9)","v":"000000000"},{"$f":"DEC2BIN('W6'!AN8, 9)","v":"000000000"},{"$f":"DEC2BIN('W6'!AO8, 9)","v":"000000000"},{"$f":"DEC2BIN('W6'!AP8, 9)","v":"000000000"},{"$f":"DEC2BIN('W6'!AQ8, 9)","v":"000000000"}]
[{"$f":"DEC2BIN('W6'!A9, 9)","v":"1111001001"},{"$f":"DEC2BIN('W6'!B9, 9)","v":"1110110010"},{"$f":"DEC2BIN('W6'!C9, 9)","v":"1111101101"},{"$f":"DEC2BIN('W6'!D9, 9)","v":"000111110"},{"$f":"DEC2BIN('W6'!E9, 9)","v":"1111110101"},{"$f":"DEC2BIN('W6'!F9, 9)","v":"1111010010"},{"$f":"DEC2BIN('W6'!G9, 9)","v":"1110001111"},{"$f":"DEC2BIN('W6'!H9, 9)","v":"1110111111"},{"$f":"DEC2BIN('W6'!I9, 9)","v":"000110010"},{"$f":"DEC2BIN('W6'!J9, 9)","v":"001000110"},{"$f":"DEC2BIN('W6'!K9, 9)","v":"000000000"},{"$f":"DEC2BIN('W6'!L9, 9)","v":"000000000"},{"$f":"DEC2BIN('W6'!M9, 9)","v":"000000000"},{"$f":"DEC2BIN('W6'!N9, 9)","v":"000000000"},{"$f":"DEC2BIN('W6'!O9, 9)","v":"000000000"},{"$f":"DEC2BIN('W6'!P9, 9)","v":"000000000"},{"$f":"DEC2BIN('W6'!Q9, 9)","v":"000000000"},{"$f":"DEC2BIN('W6'!R9, 9)","v":"000000000"},{"$f":"DEC2BIN('W6'!S9, 9)","v":"000000000"},{"$f":"DEC2BIN('W6'!T9, 9)","v":"000000000"},{"$f":"DEC2BIN('W6'!U9, 9)","v":"000000000"},{"$f":"DEC2BIN('W6'!V9, 9)","v":"000000000"},{"$f":"DEC2BIN('W6'!W9, 9)","v":"000000000"},{"$f":"DEC2BIN('W6'!X9, 9)","v":"000000000"},{"$f":"DEC2BIN('W6'!Y9, 9)","v":"000000000"},{"$f":"DEC2BIN('W6'!Z9, 9)","v":"000000000"},{"$f":"DEC2BIN('W6'!AA9, 9)","v":"000000000"},{"$f":"DEC2BIN('W6'!AB9, 9)","v":"000000000"},{"$f":"DEC2BIN('W6'!AC9, 9)","v":"000000000"},{"$f":"DEC2BIN('W6'!AD9, 9)","v":"000000000"},{"$f":"DEC2BIN('W6'!AE9, 9)","v":"000000000"},{"$f":"DEC2BIN('W6'!AF9, 9)","v":"000000000"},{"$f":"DEC2BIN('W6'!AG9, 9)","v":"000000000"},{"$f":"DEC2BIN('W6'!AH9, 9)","v":"000000000"},{"$f":"DEC2BIN('W6'!AI9, 9)","v":"000000000"},{"$f":"DEC2BIN('W6'!AJ9, 9)","v":"000000000"},{"$f":"DEC2BIN('W6'!AK9, 9)","v":"000000000"},{"$f":"DEC2BIN('W6'!AL9, 9)","v":"000000000"},{"$f":"DEC2BIN('W6'!AM9, 9)","v":"000000000"},{"$f":"DEC2BIN('W6'!AN9, 9)","v":"000000000"},{"$f":"DEC2BIN('W6'!AO9, 9)","v":"000000000"},{"$f":"DEC2BIN('W6'!AP9, 9)","v":"000000000"},{"$f":"DEC2BIN('W6'!AQ9, 9)","v":"000000000"}]
[{"$f":"DEC2BIN('W6'!A10, 9)","v":"1110110010"},{"$f":"DEC2BIN('W6'!B10, 9)","v":"000101011"},{"$f":"DEC2BIN('W6'!C10, 9)","v":"1111111111"},{"$f":"DEC2BIN('W6'!D10, 9)","v":"1110111111"},{"$f":"DEC2BIN('W6'!E10, 9)","v":"1111010010"},{"$f":"DEC2BIN('W6'!F10, 9)","v":"000101011"},{"$f":"DEC2BIN('W6'!G10, 9)","v":"1110100100"},{"$f":"DEC2BIN('W6'!H10, 9)","v":"000110110"},{"$f":"DEC2BIN('W6'!I10, 9)","v":"000101011"},{"$f":"DEC2BIN('W6'!J10, 9)","v":"1111010110"},{"$f":"DEC2BIN('W6'!K10, 9)","v":"000000000"},{"$f":"DEC2BIN('W6'!L10, 9)","v":"000000000"},{"$f":"DEC2BIN('W6'!M10, 9)","v":"000000000"},{"$f":"DEC2BIN('W6'!N10, 9)","v":"000000000"},{"$f":"DEC2BIN('W6'!O10, 9)","v":"000000000"},{"$f":"DEC2BIN('W6'!P10, 9)","v":"000000000"},{"$f":"DEC2BIN('W6'!Q10, 9)","v":"000000000"},{"$f":"DEC2BIN('W6'!R10, 9)","v":"000000000"},{"$f":"DEC2BIN('W6'!S10, 9)","v":"000000000"},{"$f":"DEC2BIN('W6'!T10, 9)","v":"000000000"},{"$f":"DEC2BIN('W6'!U10, 9)","v":"000000000"},{"$f":"DEC2BIN('W6'!V10, 9)","v":"000000000"},{"$f":"DEC2BIN('W6'!W10, 9)","v":"000000000"},{"$f":"DEC2BIN('W6'!X10, 9)","v":"000000000"},{"$f":"DEC2BIN('W6'!Y10, 9)","v":"000000000"},{"$f":"DEC2BIN('W6'!Z10, 9)","v":"000000000"},{"$f":"DEC2BIN('W6'!AA10, 9)","v":"000000000"},{"$f":"DEC2BIN('W6'!AB10, 9)","v":"000000000"},{"$f":"DEC2BIN('W6'!AC10, 9)","v":"000000000"},{"$f":"DEC2BIN('W6'!AD10, 9)","v":"000000000"},{"$f":"DEC2BIN('W6'!AE10, 9)","v":"000000000"},{"$f":"DEC2BIN('W6'!AF10, 9)","v":"000000000"},{"$f":"DEC2BIN('W6'!AG10, 9)","v":"000000000"},{"$f":"DEC2BIN('W6'!AH10, 9)","v":"000000000"},{"$f":"DEC2BIN('W6'!AI10, 9)","v":"000000000"},{"$f":"DEC2BIN('W6'!AJ10, 9)","v":"000000000"},{"$f":"DEC2BIN('W6'!AK10, 9)","v":"000000000"},{"$f":"DEC2BIN('W6'!AL10, 9)","v":"000000000"},{"$f":"DEC2BIN('W6'!AM10, 9)","v":"000000000"},{"$f":"DEC2BIN('W6'!AN10, 9)","v":"000000000"},{"$f":"DEC2BIN('W6'!AO10, 9)","v":"000000000"},{"$f":"DEC2BIN('W6'!AP10, 9)","v":"000000000"},{"$f":"DEC2BIN('W6'!AQ10, 9)","v":"000000000"}]
[{"$f":"DEC2BIN('W6'!A11, 9)","v":"000010011"},{"$f":"DEC2BIN('W6'!B11, 9)","v":"000011101"},{"$f":"DEC2BIN('W6'!C11, 9)","v":"1111001000"},{"$f":"DEC2BIN('W6'!D11, 9)","v":"1111001110"},{"$f":"DEC2BIN('W6'!E11, 9)","v":"000011111"},{"$f":"DEC2BIN('W6'!F11, 9)","v":"000000000"},{"$f":"DEC2BIN('W6'!G11, 9)","v":"000101000"},{"$f":"DEC2BIN('W6'!H11, 9)","v":"000110101"},{"$f":"DEC2BIN('W6'!I11, 9)","v":"1110101001"},{"$f":"DEC2BIN('W6'!J11, 9)","v":"1110101100"},{"$f":"DEC2BIN('W6'!K11, 9)","v":"000000000"},{"$f":"DEC2BIN('W6'!L11, 9)","v":"000000000"},{"$f":"DEC2BIN('W6'!M11, 9)","v":"000000000"},{"$f":"DEC2BIN('W6'!N11, 9)","v":"000000000"},{"$f":"DEC2BIN('W6'!O11, 9)","v":"000000000"},{"$f":"DEC2BIN('W6'!P11, 9)","v":"000000000"},{"$f":"DEC2BIN('W6'!Q11, 9)","v":"000000000"},{"$f":"DEC2BIN('W6'!R11, 9)","v":"000000000"},{"$f":"DEC2BIN('W6'!S11, 9)","v":"000000000"},{"$f":"DEC2BIN('W6'!T11, 9)","v":"000000000"},{"$f":"DEC2BIN('W6'!U11, 9)","v":"000000000"},{"$f":"DEC2BIN('W6'!V11, 9)","v":"000000000"},{"$f":"DEC2BIN('W6'!W11, 9)","v":"000000000"},{"$f":"DEC2BIN('W6'!X11, 9)","v":"000000000"},{"$f":"DEC2BIN('W6'!Y11, 9)","v":"000000000"},{"$f":"DEC2BIN('W6'!Z11, 9)","v":"000000000"},{"$f":"DEC2BIN('W6'!AA11, 9)","v":"000000000"},{"$f":"DEC2BIN('W6'!AB11, 9)","v":"000000000"},{"$f":"DEC2BIN('W6'!AC11, 9)","v":"000000000"},{"$f":"DEC2BIN('W6'!AD11, 9)","v":"000000000"},{"$f":"DEC2BIN('W6'!AE11, 9)","v":"000000000"},{"$f":"DEC2BIN('W6'!AF11, 9)","v":"000000000"},{"$f":"DEC2BIN('W6'!AG11, 9)","v":"000000000"},{"$f":"DEC2BIN('W6'!AH11, 9)","v":"000000000"},{"$f":"DEC2BIN('W6'!AI11, 9)","v":"000000000"},{"$f":"DEC2BIN('W6'!AJ11, 9)","v":"000000000"},{"$f":"DEC2BIN('W6'!AK11, 9)","v":"000000000"},{"$f":"DEC2BIN('W6'!AL11, 9)","v":"000000000"},{"$f":"DEC2BIN('W6'!AM11, 9)","v":"000000000"},{"$f":"DEC2BIN('W6'!AN11, 9)","v":"000000000"},{"$f":"DEC2BIN('W6'!AO11, 9)","v":"000000000"},{"$f":"DEC2BIN('W6'!AP11, 9)","v":"000000000"},{"$f":"DEC2BIN('W6'!AQ11, 9)","v":"000000000"}]
[{"$f":"DEC2BIN('W6'!A12, 9)","v":"1111010100"},{"$f":"DEC2BIN('W6'!B12, 9)","v":"000010111"},{"$f":"DEC2BIN('W6'!C12, 9)","v":"000011101"},{"$f":"DEC2BIN('W6'!D12, 9)","v":"1110000111"},{"$f":"DEC2BIN('W6'!E12, 9)","v":"000011110"},{"$f":"DEC2BIN('W6'!F12, 9)","v":"1111010000"},{"$f":"DEC2BIN('W6'!G12, 9)","v":"1101110100"},{"$f":"DEC2BIN('W6'!H12, 9)","v":"000110001"},{"$f":"DEC2BIN('W6'!I12, 9)","v":"000000011"},{"$f":"DEC2BIN('W6'!J12, 9)","v":"000001101"},{"$f":"DEC2BIN('W6'!K12, 9)","v":"000000000"},{"$f":"DEC2BIN('W6'!L12, 9)","v":"000000000"},{"$f":"DEC2BIN('W6'!M12, 9)","v":"000000000"},{"$f":"DEC2BIN('W6'!N12, 9)","v":"000000000"},{"$f":"DEC2BIN('W6'!O12, 9)","v":"000000000"},{"$f":"DEC2BIN('W6'!P12, 9)","v":"000000000"},{"$f":"DEC2BIN('W6'!Q12, 9)","v":"000000000"},{"$f":"DEC2BIN('W6'!R12, 9)","v":"000000000"},{"$f":"DEC2BIN('W6'!S12, 9)","v":"000000000"},{"$f":"DEC2BIN('W6'!T12, 9)","v":"000000000"},{"$f":"DEC2BIN('W6'!U12, 9)","v":"000000000"},{"$f":"DEC2BIN('W6'!V12, 9)","v":"000000000"},{"$f":"DEC2BIN('W6'!W12, 9)","v":"000000000"},{"$f":"DEC2BIN('W6'!X12, 9)","v":"000000000"},{"$f":"DEC2BIN('W6'!Y12, 9)","v":"000000000"},{"$f":"DEC2BIN('W6'!Z12, 9)","v":"000000000"},{"$f":"DEC2BIN('W6'!AA12, 9)","v":"000000000"},{"$f":"DEC2BIN('W6'!AB12, 9)","v":"000000000"},{"$f":"DEC2BIN('W6'!AC12, 9)","v":"000000000"},{"$f":"DEC2BIN('W6'!AD12, 9)","v":"000000000"},{"$f":"DEC2BIN('W6'!AE12, 9)","v":"000000000"},{"$f":"DEC2BIN('W6'!AF12, 9)","v":"000000000"},{"$f":"DEC2BIN('W6'!AG12, 9)","v":"000000000"},{"$f":"DEC2BIN('W6'!AH12, 9)","v":"000000000"},{"$f":"DEC2BIN('W6'!AI12, 9)","v":"000000000"},{"$f":"DEC2BIN('W6'!AJ12, 9)","v":"000000000"},{"$f":"DEC2BIN('W6'!AK12, 9)","v":"000000000"},{"$f":"DEC2BIN('W6'!AL12, 9)","v":"000000000"},{"$f":"DEC2BIN('W6'!AM12, 9)","v":"000000000"},{"$f":"DEC2BIN('W6'!AN12, 9)","v":"000000000"},{"$f":"DEC2BIN('W6'!AO12, 9)","v":"000000000"},{"$f":"DEC2BIN('W6'!AP12, 9)","v":"000000000"},{"$f":"DEC2BIN('W6'!AQ12, 9)","v":"000000000"}]
[{"$f":"DEC2BIN('W6'!A13, 9)","v":"000000001"},{"$f":"DEC2BIN('W6'!B13, 9)","v":"1111010100"},{"$f":"DEC2BIN('W6'!C13, 9)","v":"000110000"},{"$f":"DEC2BIN('W6'!D13, 9)","v":"000101000"},{"$f":"DEC2BIN('W6'!E13, 9)","v":"1110110000"},{"$f":"DEC2BIN('W6'!F13, 9)","v":"000110010"},{"$f":"DEC2BIN('W6'!G13, 9)","v":"1111001010"},{"$f":"DEC2BIN('W6'!H13, 9)","v":"1110101100"},{"$f":"DEC2BIN('W6'!I13, 9)","v":"1110011111"},{"$f":"DEC2BIN('W6'!J13, 9)","v":"000111010"},{"$f":"DEC2BIN('W6'!K13, 9)","v":"000000000"},{"$f":"DEC2BIN('W6'!L13, 9)","v":"000000000"},{"$f":"DEC2BIN('W6'!M13, 9)","v":"000000000"},{"$f":"DEC2BIN('W6'!N13, 9)","v":"000000000"},{"$f":"DEC2BIN('W6'!O13, 9)","v":"000000000"},{"$f":"DEC2BIN('W6'!P13, 9)","v":"000000000"},{"$f":"DEC2BIN('W6'!Q13, 9)","v":"000000000"},{"$f":"DEC2BIN('W6'!R13, 9)","v":"000000000"},{"$f":"DEC2BIN('W6'!S13, 9)","v":"000000000"},{"$f":"DEC2BIN('W6'!T13, 9)","v":"000000000"},{"$f":"DEC2BIN('W6'!U13, 9)","v":"000000000"},{"$f":"DEC2BIN('W6'!V13, 9)","v":"000000000"},{"$f":"DEC2BIN('W6'!W13, 9)","v":"000000000"},{"$f":"DEC2BIN('W6'!X13, 9)","v":"000000000"},{"$f":"DEC2BIN('W6'!Y13, 9)","v":"000000000"},{"$f":"DEC2BIN('W6'!Z13, 9)","v":"000000000"},{"$f":"DEC2BIN('W6'!AA13, 9)","v":"000000000"},{"$f":"DEC2BIN('W6'!AB13, 9)","v":"000000000"},{"$f":"DEC2BIN('W6'!AC13, 9)","v":"000000000"},{"$f":"DEC2BIN('W6'!AD13, 9)","v":"000000000"},{"$f":"DEC2BIN('W6'!AE13, 9)","v":"000000000"},{"$f":"DEC2BIN('W6'!AF13, 9)","v":"000000000"},{"$f":"DEC2BIN('W6'!AG13, 9)","v":"000000000"},{"$f":"DEC2BIN('W6'!AH13, 9)","v":"000000000"},{"$f":"DEC2BIN('W6'!AI13, 9)","v":"000000000"},{"$f":"DEC2BIN('W6'!AJ13, 9)","v":"000000000"},{"$f":"DEC2BIN('W6'!AK13, 9)","v":"000000000"},{"$f":"DEC2BIN('W6'!AL13, 9)","v":"000000000"},{"$f":"DEC2BIN('W6'!AM13, 9)","v":"000000000"},{"$f":"DEC2BIN('W6'!AN13, 9)","v":"000000000"},{"$f":"DEC2BIN('W6'!AO13, 9)","v":"000000000"},{"$f":"DEC2BIN('W6'!AP13, 9)","v":"000000000"},{"$f":"DEC2BIN('W6'!AQ13, 9)","v":"000000000"}]
[{"$f":"DEC2BIN('W6'!A14, 9)","v":"1111101000"},{"$f":"DEC2BIN('W6'!B14, 9)","v":"1111001111"},{"$f":"DEC2BIN('W6'!C14, 9)","v":"000111001"},{"$f":"DEC2BIN('W6'!D14, 9)","v":"1111000110"},{"$f":"DEC2BIN('W6'!E14, 9)","v":"1110101100"},{"$f":"DEC2BIN('W6'!F14, 9)","v":"000110110"},{"$f":"DEC2BIN('W6'!G14, 9)","v":"000001001"},{"$f":"DEC2BIN('W6'!H14, 9)","v":"1111111011"},{"$f":"DEC2BIN('W6'!I14, 9)","v":"1110110111"},{"$f":"DEC2BIN('W6'!J14, 9)","v":"001001111"},{"$f":"DEC2BIN('W6'!K14, 9)","v":"000000000"},{"$f":"DEC2BIN('W6'!L14, 9)","v":"000000000"},{"$f":"DEC2BIN('W6'!M14, 9)","v":"000000000"},{"$f":"DEC2BIN('W6'!N14, 9)","v":"000000000"},{"$f":"DEC2BIN('W6'!O14, 9)","v":"000000000"},{"$f":"DEC2BIN('W6'!P14, 9)","v":"000000000"},{"$f":"DEC2BIN('W6'!Q14, 9)","v":"000000000"},{"$f":"DEC2BIN('W6'!R14, 9)","v":"000000000"},{"$f":"DEC2BIN('W6'!S14, 9)","v":"000000000"},{"$f":"DEC2BIN('W6'!T14, 9)","v":"000000000"},{"$f":"DEC2BIN('W6'!U14, 9)","v":"000000000"},{"$f":"DEC2BIN('W6'!V14, 9)","v":"000000000"},{"$f":"DEC2BIN('W6'!W14, 9)","v":"000000000"},{"$f":"DEC2BIN('W6'!X14, 9)","v":"000000000"},{"$f":"DEC2BIN('W6'!Y14, 9)","v":"000000000"},{"$f":"DEC2BIN('W6'!Z14, 9)","v":"000000000"},{"$f":"DEC2BIN('W6'!AA14, 9)","v":"000000000"},{"$f":"DEC2BIN('W6'!AB14, 9)","v":"000000000"},{"$f":"DEC2BIN('W6'!AC14, 9)","v":"000000000"},{"$f":"DEC2BIN('W6'!AD14, 9)","v":"000000000"},{"$f":"DEC2BIN('W6'!AE14, 9)","v":"000000000"},{"$f":"DEC2BIN('W6'!AF14, 9)","v":"000000000"},{"$f":"DEC2BIN('W6'!AG14, 9)","v":"000000000"},{"$f":"DEC2BIN('W6'!AH14, 9)","v":"000000000"},{"$f":"DEC2BIN('W6'!AI14, 9)","v":"000000000"},{"$f":"DEC2BIN('W6'!AJ14, 9)","v":"000000000"},{"$f":"DEC2BIN('W6'!AK14, 9)","v":"000000000"},{"$f":"DEC2BIN('W6'!AL14, 9)","v":"000000000"},{"$f":"DEC2BIN('W6'!AM14, 9)","v":"000000000"},{"$f":"DEC2BIN('W6'!AN14, 9)","v":"000000000"},{"$f":"DEC2BIN('W6'!AO14, 9)","v":"000000000"},{"$f":"DEC2BIN('W6'!AP14, 9)","v":"000000000"},{"$f":"DEC2BIN('W6'!AQ14, 9)","v":"000000000"}]
[{"$f":"DEC2BIN('W6'!A15, 9)","v":"1111001101"},{"$f":"DEC2BIN('W6'!B15, 9)","v":"1111110011"},{"$f":"DEC2BIN('W6'!C15, 9)","v":"1111010111"},{"$f":"DEC2BIN('W6'!D15, 9)","v":"000100011"},{"$f":"DEC2BIN('W6'!E15, 9)","v":"1111110110"},{"$f":"DEC2BIN('W6'!F15, 9)","v":"1111110010"},{"$f":"DEC2BIN('W6'!G15, 9)","v":"000010011"},{"$f":"DEC2BIN('W6'!H15, 9)","v":"1111110011"},{"$f":"DEC2BIN('W6'!I15, 9)","v":"1111010101"},{"$f":"DEC2BIN('W6'!J15, 9)","v":"000001011"},{"$f":"DEC2BIN('W6'!K15, 9)","v":"000000000"},{"$f":"DEC2BIN('W6'!L15, 9)","v":"000000000"},{"$f":"DEC2BIN('W6'!M15, 9)","v":"000000000"},{"$f":"DEC2BIN('W6'!N15, 9)","v":"000000000"},{"$f":"DEC2BIN('W6'!O15, 9)","v":"000000000"},{"$f":"DEC2BIN('W6'!P15, 9)","v":"000000000"},{"$f":"DEC2BIN('W6'!Q15, 9)","v":"000000000"},{"$f":"DEC2BIN('W6'!R15, 9)","v":"000000000"},{"$f":"DEC2BIN('W6'!S15, 9)","v":"000000000"},{"$f":"DEC2BIN('W6'!T15, 9)","v":"000000000"},{"$f":"DEC2BIN('W6'!U15, 9)","v":"000000000"},{"$f":"DEC2BIN('W6'!V15, 9)","v":"000000000"},{"$f":"DEC2BIN('W6'!W15, 9)","v":"000000000"},{"$f":"DEC2BIN('W6'!X15, 9)","v":"000000000"},{"$f":"DEC2BIN('W6'!Y15, 9)","v":"000000000"},{"$f":"DEC2BIN('W6'!Z15, 9)","v":"000000000"},{"$f":"DEC2BIN('W6'!AA15, 9)","v":"000000000"},{"$f":"DEC2BIN('W6'!AB15, 9)","v":"000000000"},{"$f":"DEC2BIN('W6'!AC15, 9)","v":"000000000"},{"$f":"DEC2BIN('W6'!AD15, 9)","v":"000000000"},{"$f":"DEC2BIN('W6'!AE15, 9)","v":"000000000"},{"$f":"DEC2BIN('W6'!AF15, 9)","v":"000000000"},{"$f":"DEC2BIN('W6'!AG15, 9)","v":"000000000"},{"$f":"DEC2BIN('W6'!AH15, 9)","v":"000000000"},{"$f":"DEC2BIN('W6'!AI15, 9)","v":"000000000"},{"$f":"DEC2BIN('W6'!AJ15, 9)","v":"000000000"},{"$f":"DEC2BIN('W6'!AK15, 9)","v":"000000000"},{"$f":"DEC2BIN('W6'!AL15, 9)","v":"000000000"},{"$f":"DEC2BIN('W6'!AM15, 9)","v":"000000000"},{"$f":"DEC2BIN('W6'!AN15, 9)","v":"000000000"},{"$f":"DEC2BIN('W6'!AO15, 9)","v":"000000000"},{"$f":"DEC2BIN('W6'!AP15, 9)","v":"000000000"},{"$f":"DEC2BIN('W6'!AQ15, 9)","v":"000000000"}]
[{"$f":"DEC2BIN('W6'!A16, 9)","v":"1111111111"},{"$f":"DEC2BIN('W6'!B16, 9)","v":"000101001"},{"$f":"DEC2BIN('W6'!C16, 9)","v":"000110001"},{"$f":"DEC2BIN('W6'!D16, 9)","v":"000101111"},{"$f":"DEC2BIN('W6'!E16, 9)","v":"1110111000"},{"$f":"DEC2BIN('W6'!F16, 9)","v":"000110010"},{"$f":"DEC2BIN('W6'!G16, 9)","v":"1110011000"},{"$f":"DEC2BIN('W6'!H16, 9)","v":"1111011000"},{"$f":"DEC2BIN('W6'!I16, 9)","v":"1110101000"},{"$f":"DEC2BIN('W6'!J16, 9)","v":"1110111110"},{"$f":"DEC2BIN('W6'!K16, 9)","v":"000000000"},{"$f":"DEC2BIN('W6'!L16, 9)","v":"000000000"},{"$f":"DEC2BIN('W6'!M16, 9)","v":"000000000"},{"$f":"DEC2BIN('W6'!N16, 9)","v":"000000000"},{"$f":"DEC2BIN('W6'!O16, 9)","v":"000000000"},{"$f":"DEC2BIN('W6'!P16, 9)","v":"000000000"},{"$f":"DEC2BIN('W6'!Q16, 9)","v":"000000000"},{"$f":"DEC2BIN('W6'!R16, 9)","v":"000000000"},{"$f":"DEC2BIN('W6'!S16, 9)","v":"000000000"},{"$f":"DEC2BIN('W6'!T16, 9)","v":"000000000"},{"$f":"DEC2BIN('W6'!U16, 9)","v":"000000000"},{"$f":"DEC2BIN('W6'!V16, 9)","v":"000000000"},{"$f":"DEC2BIN('W6'!W16, 9)","v":"000000000"},{"$f":"DEC2BIN('W6'!X16, 9)","v":"000000000"},{"$f":"DEC2BIN('W6'!Y16, 9)","v":"000000000"},{"$f":"DEC2BIN('W6'!Z16, 9)","v":"000000000"},{"$f":"DEC2BIN('W6'!AA16, 9)","v":"000000000"},{"$f":"DEC2BIN('W6'!AB16, 9)","v":"000000000"},{"$f":"DEC2BIN('W6'!AC16, 9)","v":"000000000"},{"$f":"DEC2BIN('W6'!AD16, 9)","v":"000000000"},{"$f":"DEC2BIN('W6'!AE16, 9)","v":"000000000"},{"$f":"DEC2BIN('W6'!AF16, 9)","v":"000000000"},{"$f":"DEC2BIN('W6'!AG16, 9)","v":"000000000"},{"$f":"DEC2BIN('W6'!AH16, 9)","v":"000000000"},{"$f":"DEC2BIN('W6'!AI16, 9)","v":"000000000"},{"$f":"DEC2BIN('W6'!AJ16, 9)","v":"000000000"},{"$f":"DEC2BIN('W6'!AK16, 9)","v":"000000000"},{"$f":"DEC2BIN('W6'!AL16, 9)","v":"000000000"},{"$f":"DEC2BIN('W6'!AM16, 9)","v":"000000000"},{"$f":"DEC2BIN('W6'!AN16, 9)","v":"000000000"},{"$f":"DEC2BIN('W6'!AO16, 9)","v":"000000000"},{"$f":"DEC2BIN('W6'!AP16, 9)","v":"000000000"},{"$f":"DEC2BIN('W6'!AQ16, 9)","v":"000000000"}]
[{"$f":"DEC2BIN('W6'!A17, 9)","v":"1111101001"},{"$f":"DEC2BIN('W6'!B17, 9)","v":"1111110110"},{"$f":"DEC2BIN('W6'!C17, 9)","v":"001100001"},{"$f":"DEC2BIN('W6'!D17, 9)","v":"000101001"},{"$f":"DEC2BIN('W6'!E17, 9)","v":"1111110000"},{"$f":"DEC2BIN('W6'!F17, 9)","v":"000001101"},{"$f":"DEC2BIN('W6'!G17, 9)","v":"1111011110"},{"$f":"DEC2BIN('W6'!H17, 9)","v":"1111111001"},{"$f":"DEC2BIN('W6'!I17, 9)","v":"1111011001"},{"$f":"DEC2BIN('W6'!J17, 9)","v":"1111011111"},{"$f":"DEC2BIN('W6'!K17, 9)","v":"000000000"},{"$f":"DEC2BIN('W6'!L17, 9)","v":"000000000"},{"$f":"DEC2BIN('W6'!M17, 9)","v":"000000000"},{"$f":"DEC2BIN('W6'!N17, 9)","v":"000000000"},{"$f":"DEC2BIN('W6'!O17, 9)","v":"000000000"},{"$f":"DEC2BIN('W6'!P17, 9)","v":"000000000"},{"$f":"DEC2BIN('W6'!Q17, 9)","v":"000000000"},{"$f":"DEC2BIN('W6'!R17, 9)","v":"000000000"},{"$f":"DEC2BIN('W6'!S17, 9)","v":"000000000"},{"$f":"DEC2BIN('W6'!T17, 9)","v":"000000000"},{"$f":"DEC2BIN('W6'!U17, 9)","v":"000000000"},{"$f":"DEC2BIN('W6'!V17, 9)","v":"000000000"},{"$f":"DEC2BIN('W6'!W17, 9)","v":"000000000"},{"$f":"DEC2BIN('W6'!X17, 9)","v":"000000000"},{"$f":"DEC2BIN('W6'!Y17, 9)","v":"000000000"},{"$f":"DEC2BIN('W6'!Z17, 9)","v":"000000000"},{"$f":"DEC2BIN('W6'!AA17, 9)","v":"000000000"},{"$f":"DEC2BIN('W6'!AB17, 9)","v":"000000000"},{"$f":"DEC2BIN('W6'!AC17, 9)","v":"000000000"},{"$f":"DEC2BIN('W6'!AD17, 9)","v":"000000000"},{"$f":"DEC2BIN('W6'!AE17, 9)","v":"000000000"},{"$f":"DEC2BIN('W6'!AF17, 9)","v":"000000000"},{"$f":"DEC2BIN('W6'!AG17, 9)","v":"000000000"},{"$f":"DEC2BIN('W6'!AH17, 9)","v":"000000000"},{"$f":"DEC2BIN('W6'!AI17, 9)","v":"000000000"},{"$f":"DEC2BIN('W6'!AJ17, 9)","v":"000000000"},{"$f":"DEC2BIN('W6'!AK17, 9)","v":"000000000"},{"$f":"DEC2BIN('W6'!AL17, 9)","v":"000000000"},{"$f":"DEC2BIN('W6'!AM17, 9)","v":"000000000"},{"$f":"DEC2BIN('W6'!AN17, 9)","v":"000000000"},{"$f":"DEC2BIN('W6'!AO17, 9)","v":"000000000"},{"$f":"DEC2BIN('W6'!AP17, 9)","v":"000000000"},{"$f":"DEC2BIN('W6'!AQ17, 9)","v":"000000000"}]
[{"$f":"DEC2BIN('W6'!A18, 9)","v":"1111001100"},{"$f":"DEC2BIN('W6'!B18, 9)","v":"000010000"},{"$f":"DEC2BIN('W6'!C18, 9)","v":"000010001"},{"$f":"DEC2BIN('W6'!D18, 9)","v":"1110101100"},{"$f":"DEC2BIN('W6'!E18, 9)","v":"1111111011"},{"$f":"DEC2BIN('W6'!F18, 9)","v":"1111010100"},{"$f":"DEC2BIN('W6'!G18, 9)","v":"000101001"},{"$f":"DEC2BIN('W6'!H18, 9)","v":"000011100"},{"$f":"DEC2BIN('W6'!I18, 9)","v":"1111001011"},{"$f":"DEC2BIN('W6'!J18, 9)","v":"1111001111"},{"$f":"DEC2BIN('W6'!K18, 9)","v":"000000000"},{"$f":"DEC2BIN('W6'!L18, 9)","v":"000000000"},{"$f":"DEC2BIN('W6'!M18, 9)","v":"000000000"},{"$f":"DEC2BIN('W6'!N18, 9)","v":"000000000"},{"$f":"DEC2BIN('W6'!O18, 9)","v":"000000000"},{"$f":"DEC2BIN('W6'!P18, 9)","v":"000000000"},{"$f":"DEC2BIN('W6'!Q18, 9)","v":"000000000"},{"$f":"DEC2BIN('W6'!R18, 9)","v":"000000000"},{"$f":"DEC2BIN('W6'!S18, 9)","v":"000000000"},{"$f":"DEC2BIN('W6'!T18, 9)","v":"000000000"},{"$f":"DEC2BIN('W6'!U18, 9)","v":"000000000"},{"$f":"DEC2BIN('W6'!V18, 9)","v":"000000000"},{"$f":"DEC2BIN('W6'!W18, 9)","v":"000000000"},{"$f":"DEC2BIN('W6'!X18, 9)","v":"000000000"},{"$f":"DEC2BIN('W6'!Y18, 9)","v":"000000000"},{"$f":"DEC2BIN('W6'!Z18, 9)","v":"000000000"},{"$f":"DEC2BIN('W6'!AA18, 9)","v":"000000000"},{"$f":"DEC2BIN('W6'!AB18, 9)","v":"000000000"},{"$f":"DEC2BIN('W6'!AC18, 9)","v":"000000000"},{"$f":"DEC2BIN('W6'!AD18, 9)","v":"000000000"},{"$f":"DEC2BIN('W6'!AE18, 9)","v":"000000000"},{"$f":"DEC2BIN('W6'!AF18, 9)","v":"000000000"},{"$f":"DEC2BIN('W6'!AG18, 9)","v":"000000000"},{"$f":"DEC2BIN('W6'!AH18, 9)","v":"000000000"},{"$f":"DEC2BIN('W6'!AI18, 9)","v":"000000000"},{"$f":"DEC2BIN('W6'!AJ18, 9)","v":"000000000"},{"$f":"DEC2BIN('W6'!AK18, 9)","v":"000000000"},{"$f":"DEC2BIN('W6'!AL18, 9)","v":"000000000"},{"$f":"DEC2BIN('W6'!AM18, 9)","v":"000000000"},{"$f":"DEC2BIN('W6'!AN18, 9)","v":"000000000"},{"$f":"DEC2BIN('W6'!AO18, 9)","v":"000000000"},{"$f":"DEC2BIN('W6'!AP18, 9)","v":"000000000"},{"$f":"DEC2BIN('W6'!AQ18, 9)","v":"000000000"}]
[{"$f":"DEC2BIN('W6'!A19, 9)","v":"1111100011"},{"$f":"DEC2BIN('W6'!B19, 9)","v":"1111100000"},{"$f":"DEC2BIN('W6'!C19, 9)","v":"1111111111"},{"$f":"DEC2BIN('W6'!D19, 9)","v":"1111110100"},{"$f":"DEC2BIN('W6'!E19, 9)","v":"000100100"},{"$f":"DEC2BIN('W6'!F19, 9)","v":"1110101110"},{"$f":"DEC2BIN('W6'!G19, 9)","v":"000010010"},{"$f":"DEC2BIN('W6'!H19, 9)","v":"1111001000"},{"$f":"DEC2BIN('W6'!I19, 9)","v":"1110111000"},{"$f":"DEC2BIN('W6'!J19, 9)","v":"1111011111"},{"$f":"DEC2BIN('W6'!K19, 9)","v":"000000000"},{"$f":"DEC2BIN('W6'!L19, 9)","v":"000000000"},{"$f":"DEC2BIN('W6'!M19, 9)","v":"000000000"},{"$f":"DEC2BIN('W6'!N19, 9)","v":"000000000"},{"$f":"DEC2BIN('W6'!O19, 9)","v":"000000000"},{"$f":"DEC2BIN('W6'!P19, 9)","v":"000000000"},{"$f":"DEC2BIN('W6'!Q19, 9)","v":"000000000"},{"$f":"DEC2BIN('W6'!R19, 9)","v":"000000000"},{"$f":"DEC2BIN('W6'!S19, 9)","v":"000000000"},{"$f":"DEC2BIN('W6'!T19, 9)","v":"000000000"},{"$f":"DEC2BIN('W6'!U19, 9)","v":"000000000"},{"$f":"DEC2BIN('W6'!V19, 9)","v":"000000000"},{"$f":"DEC2BIN('W6'!W19, 9)","v":"000000000"},{"$f":"DEC2BIN('W6'!X19, 9)","v":"000000000"},{"$f":"DEC2BIN('W6'!Y19, 9)","v":"000000000"},{"$f":"DEC2BIN('W6'!Z19, 9)","v":"000000000"},{"$f":"DEC2BIN('W6'!AA19, 9)","v":"000000000"},{"$f":"DEC2BIN('W6'!AB19, 9)","v":"000000000"},{"$f":"DEC2BIN('W6'!AC19, 9)","v":"000000000"},{"$f":"DEC2BIN('W6'!AD19, 9)","v":"000000000"},{"$f":"DEC2BIN('W6'!AE19, 9)","v":"000000000"},{"$f":"DEC2BIN('W6'!AF19, 9)","v":"000000000"},{"$f":"DEC2BIN('W6'!AG19, 9)","v":"000000000"},{"$f":"DEC2BIN('W6'!AH19, 9)","v":"000000000"},{"$f":"DEC2BIN('W6'!AI19, 9)","v":"000000000"},{"$f":"DEC2BIN('W6'!AJ19, 9)","v":"000000000"},{"$f":"DEC2BIN('W6'!AK19, 9)","v":"000000000"},{"$f":"DEC2BIN('W6'!AL19, 9)","v":"000000000"},{"$f":"DEC2BIN('W6'!AM19, 9)","v":"000000000"},{"$f":"DEC2BIN('W6'!AN19, 9)","v":"000000000"},{"$f":"DEC2BIN('W6'!AO19, 9)","v":"000000000"},{"$f":"DEC2BIN('W6'!AP19, 9)","v":"000000000"},{"$f":"DEC2BIN('W6'!AQ19, 9)","v":"000000000"}]
[{"$f":"DEC2BIN('W6'!A20, 9)","v":"000101110"},{"$f":"DEC2BIN('W6'!B20, 9)","v":"1110110110"},{"$f":"DEC2BIN('W6'!C20, 9)","v":"1111000100"},{"$f":"DEC2BIN('W6'!D20, 9)","v":"000011110"},{"$f":"DEC2BIN('W6'!E20, 9)","v":"1111000011"},{"$f":"DEC2BIN('W6'!F20, 9)","v":"000011001"},{"$f":"DEC2BIN('W6'!G20, 9)","v":"1111000100"},{"$f":"DEC2BIN('W6'!H20, 9)","v":"1111000011"},{"$f":"DEC2BIN('W6'!I20, 9)","v":"1111101001"},{"$f":"DEC2BIN('W6'!J20, 9)","v":"1111010001"},{"$f":"DEC2BIN('W6'!K20, 9)","v":"000000000"},{"$f":"DEC2BIN('W6'!L20, 9)","v":"000000000"},{"$f":"DEC2BIN('W6'!M20, 9)","v":"000000000"},{"$f":"DEC2BIN('W6'!N20, 9)","v":"000000000"},{"$f":"DEC2BIN('W6'!O20, 9)","v":"000000000"},{"$f":"DEC2BIN('W6'!P20, 9)","v":"000000000"},{"$f":"DEC2BIN('W6'!Q20, 9)","v":"000000000"},{"$f":"DEC2BIN('W6'!R20, 9)","v":"000000000"},{"$f":"DEC2BIN('W6'!S20, 9)","v":"000000000"},{"$f":"DEC2BIN('W6'!T20, 9)","v":"000000000"},{"$f":"DEC2BIN('W6'!U20, 9)","v":"000000000"},{"$f":"DEC2BIN('W6'!V20, 9)","v":"000000000"},{"$f":"DEC2BIN('W6'!W20, 9)","v":"000000000"},{"$f":"DEC2BIN('W6'!X20, 9)","v":"000000000"},{"$f":"DEC2BIN('W6'!Y20, 9)","v":"000000000"},{"$f":"DEC2BIN('W6'!Z20, 9)","v":"000000000"},{"$f":"DEC2BIN('W6'!AA20, 9)","v":"000000000"},{"$f":"DEC2BIN('W6'!AB20, 9)","v":"000000000"},{"$f":"DEC2BIN('W6'!AC20, 9)","v":"000000000"},{"$f":"DEC2BIN('W6'!AD20, 9)","v":"000000000"},{"$f":"DEC2BIN('W6'!AE20, 9)","v":"000000000"},{"$f":"DEC2BIN('W6'!AF20, 9)","v":"000000000"},{"$f":"DEC2BIN('W6'!AG20, 9)","v":"000000000"},{"$f":"DEC2BIN('W6'!AH20, 9)","v":"000000000"},{"$f":"DEC2BIN('W6'!AI20, 9)","v":"000000000"},{"$f":"DEC2BIN('W6'!AJ20, 9)","v":"000000000"},{"$f":"DEC2BIN('W6'!AK20, 9)","v":"000000000"},{"$f":"DEC2BIN('W6'!AL20, 9)","v":"000000000"},{"$f":"DEC2BIN('W6'!AM20, 9)","v":"000000000"},{"$f":"DEC2BIN('W6'!AN20, 9)","v":"000000000"},{"$f":"DEC2BIN('W6'!AO20, 9)","v":"000000000"},{"$f":"DEC2BIN('W6'!AP20, 9)","v":"000000000"},{"$f":"DEC2BIN('W6'!AQ20, 9)","v":"000000000"}]
[{"$f":"DEC2BIN('W6'!A21, 9)","v":"000100000"},{"$f":"DEC2BIN('W6'!B21, 9)","v":"000111000"},{"$f":"DEC2BIN('W6'!C21, 9)","v":"000101110"},{"$f":"DEC2BIN('W6'!D21, 9)","v":"1111100001"},{"$f":"DEC2BIN('W6'!E21, 9)","v":"000101100"},{"$f":"DEC2BIN('W6'!F21, 9)","v":"1111011000"},{"$f":"DEC2BIN('W6'!G21, 9)","v":"1110010001"},{"$f":"DEC2BIN('W6'!H21, 9)","v":"1111010011"},{"$f":"DEC2BIN('W6'!I21, 9)","v":"1110110001"},{"$f":"DEC2BIN('W6'!J21, 9)","v":"1111011100"},{"$f":"DEC2BIN('W6'!K21, 9)","v":"000000000"},{"$f":"DEC2BIN('W6'!L21, 9)","v":"000000000"},{"$f":"DEC2BIN('W6'!M21, 9)","v":"000000000"},{"$f":"DEC2BIN('W6'!N21, 9)","v":"000000000"},{"$f":"DEC2BIN('W6'!O21, 9)","v":"000000000"},{"$f":"DEC2BIN('W6'!P21, 9)","v":"000000000"},{"$f":"DEC2BIN('W6'!Q21, 9)","v":"000000000"},{"$f":"DEC2BIN('W6'!R21, 9)","v":"000000000"},{"$f":"DEC2BIN('W6'!S21, 9)","v":"000000000"},{"$f":"DEC2BIN('W6'!T21, 9)","v":"000000000"},{"$f":"DEC2BIN('W6'!U21, 9)","v":"000000000"},{"$f":"DEC2BIN('W6'!V21, 9)","v":"000000000"},{"$f":"DEC2BIN('W6'!W21, 9)","v":"000000000"},{"$f":"DEC2BIN('W6'!X21, 9)","v":"000000000"},{"$f":"DEC2BIN('W6'!Y21, 9)","v":"000000000"},{"$f":"DEC2BIN('W6'!Z21, 9)","v":"000000000"},{"$f":"DEC2BIN('W6'!AA21, 9)","v":"000000000"},{"$f":"DEC2BIN('W6'!AB21, 9)","v":"000000000"},{"$f":"DEC2BIN('W6'!AC21, 9)","v":"000000000"},{"$f":"DEC2BIN('W6'!AD21, 9)","v":"000000000"},{"$f":"DEC2BIN('W6'!AE21, 9)","v":"000000000"},{"$f":"DEC2BIN('W6'!AF21, 9)","v":"000000000"},{"$f":"DEC2BIN('W6'!AG21, 9)","v":"000000000"},{"$f":"DEC2BIN('W6'!AH21, 9)","v":"000000000"},{"$f":"DEC2BIN('W6'!AI21, 9)","v":"000000000"},{"$f":"DEC2BIN('W6'!AJ21, 9)","v":"000000000"},{"$f":"DEC2BIN('W6'!AK21, 9)","v":"000000000"},{"$f":"DEC2BIN('W6'!AL21, 9)","v":"000000000"},{"$f":"DEC2BIN('W6'!AM21, 9)","v":"000000000"},{"$f":"DEC2BIN('W6'!AN21, 9)","v":"000000000"},{"$f":"DEC2BIN('W6'!AO21, 9)","v":"000000000"},{"$f":"DEC2BIN('W6'!AP21, 9)","v":"000000000"},{"$f":"DEC2BIN('W6'!AQ21, 9)","v":"000000000"}]
[{"$f":"DEC2BIN('W6'!A22, 9)","v":"1110111110"},{"$f":"DEC2BIN('W6'!B22, 9)","v":"1111110111"},{"$f":"DEC2BIN('W6'!C22, 9)","v":"000011111"},{"$f":"DEC2BIN('W6'!D22, 9)","v":"1111111111"},{"$f":"DEC2BIN('W6'!E22, 9)","v":"1111011000"},{"$f":"DEC2BIN('W6'!F22, 9)","v":"000000100"},{"$f":"DEC2BIN('W6'!G22, 9)","v":"000110001"},{"$f":"DEC2BIN('W6'!H22, 9)","v":"1111000110"},{"$f":"DEC2BIN('W6'!I22, 9)","v":"1110111001"},{"$f":"DEC2BIN('W6'!J22, 9)","v":"1111100000"},{"$f":"DEC2BIN('W6'!K22, 9)","v":"000000000"},{"$f":"DEC2BIN('W6'!L22, 9)","v":"000000000"},{"$f":"DEC2BIN('W6'!M22, 9)","v":"000000000"},{"$f":"DEC2BIN('W6'!N22, 9)","v":"000000000"},{"$f":"DEC2BIN('W6'!O22, 9)","v":"000000000"},{"$f":"DEC2BIN('W6'!P22, 9)","v":"000000000"},{"$f":"DEC2BIN('W6'!Q22, 9)","v":"000000000"},{"$f":"DEC2BIN('W6'!R22, 9)","v":"000000000"},{"$f":"DEC2BIN('W6'!S22, 9)","v":"000000000"},{"$f":"DEC2BIN('W6'!T22, 9)","v":"000000000"},{"$f":"DEC2BIN('W6'!U22, 9)","v":"000000000"},{"$f":"DEC2BIN('W6'!V22, 9)","v":"000000000"},{"$f":"DEC2BIN('W6'!W22, 9)","v":"000000000"},{"$f":"DEC2BIN('W6'!X22, 9)","v":"000000000"},{"$f":"DEC2BIN('W6'!Y22, 9)","v":"000000000"},{"$f":"DEC2BIN('W6'!Z22, 9)","v":"000000000"},{"$f":"DEC2BIN('W6'!AA22, 9)","v":"000000000"},{"$f":"DEC2BIN('W6'!AB22, 9)","v":"000000000"},{"$f":"DEC2BIN('W6'!AC22, 9)","v":"000000000"},{"$f":"DEC2BIN('W6'!AD22, 9)","v":"000000000"},{"$f":"DEC2BIN('W6'!AE22, 9)","v":"000000000"},{"$f":"DEC2BIN('W6'!AF22, 9)","v":"000000000"},{"$f":"DEC2BIN('W6'!AG22, 9)","v":"000000000"},{"$f":"DEC2BIN('W6'!AH22, 9)","v":"000000000"},{"$f":"DEC2BIN('W6'!AI22, 9)","v":"000000000"},{"$f":"DEC2BIN('W6'!AJ22, 9)","v":"000000000"},{"$f":"DEC2BIN('W6'!AK22, 9)","v":"000000000"},{"$f":"DEC2BIN('W6'!AL22, 9)","v":"000000000"},{"$f":"DEC2BIN('W6'!AM22, 9)","v":"000000000"},{"$f":"DEC2BIN('W6'!AN22, 9)","v":"000000000"},{"$f":"DEC2BIN('W6'!AO22, 9)","v":"000000000"},{"$f":"DEC2BIN('W6'!AP22, 9)","v":"000000000"},{"$f":"DEC2BIN('W6'!AQ22, 9)","v":"000000000"}]
[{"$f":"DEC2BIN('W6'!A23, 9)","v":"1110110110"},{"$f":"DEC2BIN('W6'!B23, 9)","v":"1111111111"},{"$f":"DEC2BIN('W6'!C23, 9)","v":"1110100100"},{"$f":"DEC2BIN('W6'!D23, 9)","v":"1111010100"},{"$f":"DEC2BIN('W6'!E23, 9)","v":"000110010"},{"$f":"DEC2BIN('W6'!F23, 9)","v":"1111001111"},{"$f":"DEC2BIN('W6'!G23, 9)","v":"1110111110"},{"$f":"DEC2BIN('W6'!H23, 9)","v":"1111010000"},{"$f":"DEC2BIN('W6'!I23, 9)","v":"000110000"},{"$f":"DEC2BIN('W6'!J23, 9)","v":"1111010011"},{"$f":"DEC2BIN('W6'!K23, 9)","v":"000000000"},{"$f":"DEC2BIN('W6'!L23, 9)","v":"000000000"},{"$f":"DEC2BIN('W6'!M23, 9)","v":"000000000"},{"$f":"DEC2BIN('W6'!N23, 9)","v":"000000000"},{"$f":"DEC2BIN('W6'!O23, 9)","v":"000000000"},{"$f":"DEC2BIN('W6'!P23, 9)","v":"000000000"},{"$f":"DEC2BIN('W6'!Q23, 9)","v":"000000000"},{"$f":"DEC2BIN('W6'!R23, 9)","v":"000000000"},{"$f":"DEC2BIN('W6'!S23, 9)","v":"000000000"},{"$f":"DEC2BIN('W6'!T23, 9)","v":"000000000"},{"$f":"DEC2BIN('W6'!U23, 9)","v":"000000000"},{"$f":"DEC2BIN('W6'!V23, 9)","v":"000000000"},{"$f":"DEC2BIN('W6'!W23, 9)","v":"000000000"},{"$f":"DEC2BIN('W6'!X23, 9)","v":"000000000"},{"$f":"DEC2BIN('W6'!Y23, 9)","v":"000000000"},{"$f":"DEC2BIN('W6'!Z23, 9)","v":"000000000"},{"$f":"DEC2BIN('W6'!AA23, 9)","v":"000000000"},{"$f":"DEC2BIN('W6'!AB23, 9)","v":"000000000"},{"$f":"DEC2BIN('W6'!AC23, 9)","v":"000000000"},{"$f":"DEC2BIN('W6'!AD23, 9)","v":"000000000"},{"$f":"DEC2BIN('W6'!AE23, 9)","v":"000000000"},{"$f":"DEC2BIN('W6'!AF23, 9)","v":"000000000"},{"$f":"DEC2BIN('W6'!AG23, 9)","v":"000000000"},{"$f":"DEC2BIN('W6'!AH23, 9)","v":"000000000"},{"$f":"DEC2BIN('W6'!AI23, 9)","v":"000000000"},{"$f":"DEC2BIN('W6'!AJ23, 9)","v":"000000000"},{"$f":"DEC2BIN('W6'!AK23, 9)","v":"000000000"},{"$f":"DEC2BIN('W6'!AL23, 9)","v":"000000000"},{"$f":"DEC2BIN('W6'!AM23, 9)","v":"000000000"},{"$f":"DEC2BIN('W6'!AN23, 9)","v":"000000000"},{"$f":"DEC2BIN('W6'!AO23, 9)","v":"000000000"},{"$f":"DEC2BIN('W6'!AP23, 9)","v":"000000000"},{"$f":"DEC2BIN('W6'!AQ23, 9)","v":"000000000"}]
[{"$f":"DEC2BIN('W6'!A24, 9)","v":"000110110"},{"$f":"DEC2BIN('W6'!B24, 9)","v":"1111011001"},{"$f":"DEC2BIN('W6'!C24, 9)","v":"000000011"},{"$f":"DEC2BIN('W6'!D24, 9)","v":"1111010100"},{"$f":"DEC2BIN('W6'!E24, 9)","v":"1110100000"},{"$f":"DEC2BIN('W6'!F24, 9)","v":"1111100101"},{"$f":"DEC2BIN('W6'!G24, 9)","v":"000111101"},{"$f":"DEC2BIN('W6'!H24, 9)","v":"000011101"},{"$f":"DEC2BIN('W6'!I24, 9)","v":"000010011"},{"$f":"DEC2BIN('W6'!J24, 9)","v":"000101100"},{"$f":"DEC2BIN('W6'!K24, 9)","v":"000000000"},{"$f":"DEC2BIN('W6'!L24, 9)","v":"000000000"},{"$f":"DEC2BIN('W6'!M24, 9)","v":"000000000"},{"$f":"DEC2BIN('W6'!N24, 9)","v":"000000000"},{"$f":"DEC2BIN('W6'!O24, 9)","v":"000000000"},{"$f":"DEC2BIN('W6'!P24, 9)","v":"000000000"},{"$f":"DEC2BIN('W6'!Q24, 9)","v":"000000000"},{"$f":"DEC2BIN('W6'!R24, 9)","v":"000000000"},{"$f":"DEC2BIN('W6'!S24, 9)","v":"000000000"},{"$f":"DEC2BIN('W6'!T24, 9)","v":"000000000"},{"$f":"DEC2BIN('W6'!U24, 9)","v":"000000000"},{"$f":"DEC2BIN('W6'!V24, 9)","v":"000000000"},{"$f":"DEC2BIN('W6'!W24, 9)","v":"000000000"},{"$f":"DEC2BIN('W6'!X24, 9)","v":"000000000"},{"$f":"DEC2BIN('W6'!Y24, 9)","v":"000000000"},{"$f":"DEC2BIN('W6'!Z24, 9)","v":"000000000"},{"$f":"DEC2BIN('W6'!AA24, 9)","v":"000000000"},{"$f":"DEC2BIN('W6'!AB24, 9)","v":"000000000"},{"$f":"DEC2BIN('W6'!AC24, 9)","v":"000000000"},{"$f":"DEC2BIN('W6'!AD24, 9)","v":"000000000"},{"$f":"DEC2BIN('W6'!AE24, 9)","v":"000000000"},{"$f":"DEC2BIN('W6'!AF24, 9)","v":"000000000"},{"$f":"DEC2BIN('W6'!AG24, 9)","v":"000000000"},{"$f":"DEC2BIN('W6'!AH24, 9)","v":"000000000"},{"$f":"DEC2BIN('W6'!AI24, 9)","v":"000000000"},{"$f":"DEC2BIN('W6'!AJ24, 9)","v":"000000000"},{"$f":"DEC2BIN('W6'!AK24, 9)","v":"000000000"},{"$f":"DEC2BIN('W6'!AL24, 9)","v":"000000000"},{"$f":"DEC2BIN('W6'!AM24, 9)","v":"000000000"},{"$f":"DEC2BIN('W6'!AN24, 9)","v":"000000000"},{"$f":"DEC2BIN('W6'!AO24, 9)","v":"000000000"},{"$f":"DEC2BIN('W6'!AP24, 9)","v":"000000000"},{"$f":"DEC2BIN('W6'!AQ24, 9)","v":"000000000"}]
[{"$f":"DEC2BIN('W6'!A25, 9)","v":"1110100011"},{"$f":"DEC2BIN('W6'!B25, 9)","v":"1111000111"},{"$f":"DEC2BIN('W6'!C25, 9)","v":"1110101001"},{"$f":"DEC2BIN('W6'!D25, 9)","v":"000101000"},{"$f":"DEC2BIN('W6'!E25, 9)","v":"1110011110"},{"$f":"DEC2BIN('W6'!F25, 9)","v":"000100000"},{"$f":"DEC2BIN('W6'!G25, 9)","v":"000100100"},{"$f":"DEC2BIN('W6'!H25, 9)","v":"000101100"},{"$f":"DEC2BIN('W6'!I25, 9)","v":"000100001"},{"$f":"DEC2BIN('W6'!J25, 9)","v":"000100111"},{"$f":"DEC2BIN('W6'!K25, 9)","v":"000000000"},{"$f":"DEC2BIN('W6'!L25, 9)","v":"000000000"},{"$f":"DEC2BIN('W6'!M25, 9)","v":"000000000"},{"$f":"DEC2BIN('W6'!N25, 9)","v":"000000000"},{"$f":"DEC2BIN('W6'!O25, 9)","v":"000000000"},{"$f":"DEC2BIN('W6'!P25, 9)","v":"000000000"},{"$f":"DEC2BIN('W6'!Q25, 9)","v":"000000000"},{"$f":"DEC2BIN('W6'!R25, 9)","v":"000000000"},{"$f":"DEC2BIN('W6'!S25, 9)","v":"000000000"},{"$f":"DEC2BIN('W6'!T25, 9)","v":"000000000"},{"$f":"DEC2BIN('W6'!U25, 9)","v":"000000000"},{"$f":"DEC2BIN('W6'!V25, 9)","v":"000000000"},{"$f":"DEC2BIN('W6'!W25, 9)","v":"000000000"},{"$f":"DEC2BIN('W6'!X25, 9)","v":"000000000"},{"$f":"DEC2BIN('W6'!Y25, 9)","v":"000000000"},{"$f":"DEC2BIN('W6'!Z25, 9)","v":"000000000"},{"$f":"DEC2BIN('W6'!AA25, 9)","v":"000000000"},{"$f":"DEC2BIN('W6'!AB25, 9)","v":"000000000"},{"$f":"DEC2BIN('W6'!AC25, 9)","v":"000000000"},{"$f":"DEC2BIN('W6'!AD25, 9)","v":"000000000"},{"$f":"DEC2BIN('W6'!AE25, 9)","v":"000000000"},{"$f":"DEC2BIN('W6'!AF25, 9)","v":"000000000"},{"$f":"DEC2BIN('W6'!AG25, 9)","v":"000000000"},{"$f":"DEC2BIN('W6'!AH25, 9)","v":"000000000"},{"$f":"DEC2BIN('W6'!AI25, 9)","v":"000000000"},{"$f":"DEC2BIN('W6'!AJ25, 9)","v":"000000000"},{"$f":"DEC2BIN('W6'!AK25, 9)","v":"000000000"},{"$f":"DEC2BIN('W6'!AL25, 9)","v":"000000000"},{"$f":"DEC2BIN('W6'!AM25, 9)","v":"000000000"},{"$f":"DEC2BIN('W6'!AN25, 9)","v":"000000000"},{"$f":"DEC2BIN('W6'!AO25, 9)","v":"000000000"},{"$f":"DEC2BIN('W6'!AP25, 9)","v":"000000000"},{"$f":"DEC2BIN('W6'!AQ25, 9)","v":"000000000"}]
[{"$f":"DEC2BIN('W6'!A26, 9)","v":"1111100000"},{"$f":"DEC2BIN('W6'!B26, 9)","v":"1111100111"},{"$f":"DEC2BIN('W6'!C26, 9)","v":"1111110101"},{"$f":"DEC2BIN('W6'!D26, 9)","v":"000000101"},{"$f":"DEC2BIN('W6'!E26, 9)","v":"1110111000"},{"$f":"DEC2BIN('W6'!F26, 9)","v":"1111100011"},{"$f":"DEC2BIN('W6'!G26, 9)","v":"1111101010"},{"$f":"DEC2BIN('W6'!H26, 9)","v":"1111001010"},{"$f":"DEC2BIN('W6'!I26, 9)","v":"000101000"},{"$f":"DEC2BIN('W6'!J26, 9)","v":"000101011"},{"$f":"DEC2BIN('W6'!K26, 9)","v":"000000000"},{"$f":"DEC2BIN('W6'!L26, 9)","v":"000000000"},{"$f":"DEC2BIN('W6'!M26, 9)","v":"000000000"},{"$f":"DEC2BIN('W6'!N26, 9)","v":"000000000"},{"$f":"DEC2BIN('W6'!O26, 9)","v":"000000000"},{"$f":"DEC2BIN('W6'!P26, 9)","v":"000000000"},{"$f":"DEC2BIN('W6'!Q26, 9)","v":"000000000"},{"$f":"DEC2BIN('W6'!R26, 9)","v":"000000000"},{"$f":"DEC2BIN('W6'!S26, 9)","v":"000000000"},{"$f":"DEC2BIN('W6'!T26, 9)","v":"000000000"},{"$f":"DEC2BIN('W6'!U26, 9)","v":"000000000"},{"$f":"DEC2BIN('W6'!V26, 9)","v":"000000000"},{"$f":"DEC2BIN('W6'!W26, 9)","v":"000000000"},{"$f":"DEC2BIN('W6'!X26, 9)","v":"000000000"},{"$f":"DEC2BIN('W6'!Y26, 9)","v":"000000000"},{"$f":"DEC2BIN('W6'!Z26, 9)","v":"000000000"},{"$f":"DEC2BIN('W6'!AA26, 9)","v":"000000000"},{"$f":"DEC2BIN('W6'!AB26, 9)","v":"000000000"},{"$f":"DEC2BIN('W6'!AC26, 9)","v":"000000000"},{"$f":"DEC2BIN('W6'!AD26, 9)","v":"000000000"},{"$f":"DEC2BIN('W6'!AE26, 9)","v":"000000000"},{"$f":"DEC2BIN('W6'!AF26, 9)","v":"000000000"},{"$f":"DEC2BIN('W6'!AG26, 9)","v":"000000000"},{"$f":"DEC2BIN('W6'!AH26, 9)","v":"000000000"},{"$f":"DEC2BIN('W6'!AI26, 9)","v":"000000000"},{"$f":"DEC2BIN('W6'!AJ26, 9)","v":"000000000"},{"$f":"DEC2BIN('W6'!AK26, 9)","v":"000000000"},{"$f":"DEC2BIN('W6'!AL26, 9)","v":"000000000"},{"$f":"DEC2BIN('W6'!AM26, 9)","v":"000000000"},{"$f":"DEC2BIN('W6'!AN26, 9)","v":"000000000"},{"$f":"DEC2BIN('W6'!AO26, 9)","v":"000000000"},{"$f":"DEC2BIN('W6'!AP26, 9)","v":"000000000"},{"$f":"DEC2BIN('W6'!AQ26, 9)","v":"000000000"}]
[{"$f":"DEC2BIN('W6'!A27, 9)","v":"000010111"},{"$f":"DEC2BIN('W6'!B27, 9)","v":"1111001101"},{"$f":"DEC2BIN('W6'!C27, 9)","v":"1111100011"},{"$f":"DEC2BIN('W6'!D27, 9)","v":"1111100001"},{"$f":"DEC2BIN('W6'!E27, 9)","v":"000011100"},{"$f":"DEC2BIN('W6'!F27, 9)","v":"000000111"},{"$f":"DEC2BIN('W6'!G27, 9)","v":"000001000"},{"$f":"DEC2BIN('W6'!H27, 9)","v":"000010101"},{"$f":"DEC2BIN('W6'!I27, 9)","v":"000011100"},{"$f":"DEC2BIN('W6'!J27, 9)","v":"000000011"},{"$f":"DEC2BIN('W6'!K27, 9)","v":"000000000"},{"$f":"DEC2BIN('W6'!L27, 9)","v":"000000000"},{"$f":"DEC2BIN('W6'!M27, 9)","v":"000000000"},{"$f":"DEC2BIN('W6'!N27, 9)","v":"000000000"},{"$f":"DEC2BIN('W6'!O27, 9)","v":"000000000"},{"$f":"DEC2BIN('W6'!P27, 9)","v":"000000000"},{"$f":"DEC2BIN('W6'!Q27, 9)","v":"000000000"},{"$f":"DEC2BIN('W6'!R27, 9)","v":"000000000"},{"$f":"DEC2BIN('W6'!S27, 9)","v":"000000000"},{"$f":"DEC2BIN('W6'!T27, 9)","v":"000000000"},{"$f":"DEC2BIN('W6'!U27, 9)","v":"000000000"},{"$f":"DEC2BIN('W6'!V27, 9)","v":"000000000"},{"$f":"DEC2BIN('W6'!W27, 9)","v":"000000000"},{"$f":"DEC2BIN('W6'!X27, 9)","v":"000000000"},{"$f":"DEC2BIN('W6'!Y27, 9)","v":"000000000"},{"$f":"DEC2BIN('W6'!Z27, 9)","v":"000000000"},{"$f":"DEC2BIN('W6'!AA27, 9)","v":"000000000"},{"$f":"DEC2BIN('W6'!AB27, 9)","v":"000000000"},{"$f":"DEC2BIN('W6'!AC27, 9)","v":"000000000"},{"$f":"DEC2BIN('W6'!AD27, 9)","v":"000000000"},{"$f":"DEC2BIN('W6'!AE27, 9)","v":"000000000"},{"$f":"DEC2BIN('W6'!AF27, 9)","v":"000000000"},{"$f":"DEC2BIN('W6'!AG27, 9)","v":"000000000"},{"$f":"DEC2BIN('W6'!AH27, 9)","v":"000000000"},{"$f":"DEC2BIN('W6'!AI27, 9)","v":"000000000"},{"$f":"DEC2BIN('W6'!AJ27, 9)","v":"000000000"},{"$f":"DEC2BIN('W6'!AK27, 9)","v":"000000000"},{"$f":"DEC2BIN('W6'!AL27, 9)","v":"000000000"},{"$f":"DEC2BIN('W6'!AM27, 9)","v":"000000000"},{"$f":"DEC2BIN('W6'!AN27, 9)","v":"000000000"},{"$f":"DEC2BIN('W6'!AO27, 9)","v":"000000000"},{"$f":"DEC2BIN('W6'!AP27, 9)","v":"000000000"},{"$f":"DEC2BIN('W6'!AQ27, 9)","v":"000000000"}]
[{"$f":"DEC2BIN('W6'!A28, 9)","v":"1110100110"},{"$f":"DEC2BIN('W6'!B28, 9)","v":"1110110100"},{"$f":"DEC2BIN('W6'!C28, 9)","v":"1110110101"},{"$f":"DEC2BIN('W6'!D28, 9)","v":"1110100110"},{"$f":"DEC2BIN('W6'!E28, 9)","v":"000010011"},{"$f":"DEC2BIN('W6'!F28, 9)","v":"1111000110"},{"$f":"DEC2BIN('W6'!G28, 9)","v":"000110000"},{"$f":"DEC2BIN('W6'!H28, 9)","v":"000101010"},{"$f":"DEC2BIN('W6'!I28, 9)","v":"000001101"},{"$f":"DEC2BIN('W6'!J28, 9)","v":"1110111111"},{"$f":"DEC2BIN('W6'!K28, 9)","v":"000000000"},{"$f":"DEC2BIN('W6'!L28, 9)","v":"000000000"},{"$f":"DEC2BIN('W6'!M28, 9)","v":"000000000"},{"$f":"DEC2BIN('W6'!N28, 9)","v":"000000000"},{"$f":"DEC2BIN('W6'!O28, 9)","v":"000000000"},{"$f":"DEC2BIN('W6'!P28, 9)","v":"000000000"},{"$f":"DEC2BIN('W6'!Q28, 9)","v":"000000000"},{"$f":"DEC2BIN('W6'!R28, 9)","v":"000000000"},{"$f":"DEC2BIN('W6'!S28, 9)","v":"000000000"},{"$f":"DEC2BIN('W6'!T28, 9)","v":"000000000"},{"$f":"DEC2BIN('W6'!U28, 9)","v":"000000000"},{"$f":"DEC2BIN('W6'!V28, 9)","v":"000000000"},{"$f":"DEC2BIN('W6'!W28, 9)","v":"000000000"},{"$f":"DEC2BIN('W6'!X28, 9)","v":"000000000"},{"$f":"DEC2BIN('W6'!Y28, 9)","v":"000000000"},{"$f":"DEC2BIN('W6'!Z28, 9)","v":"000000000"},{"$f":"DEC2BIN('W6'!AA28, 9)","v":"000000000"},{"$f":"DEC2BIN('W6'!AB28, 9)","v":"000000000"},{"$f":"DEC2BIN('W6'!AC28, 9)","v":"000000000"},{"$f":"DEC2BIN('W6'!AD28, 9)","v":"000000000"},{"$f":"DEC2BIN('W6'!AE28, 9)","v":"000000000"},{"$f":"DEC2BIN('W6'!AF28, 9)","v":"000000000"},{"$f":"DEC2BIN('W6'!AG28, 9)","v":"000000000"},{"$f":"DEC2BIN('W6'!AH28, 9)","v":"000000000"},{"$f":"DEC2BIN('W6'!AI28, 9)","v":"000000000"},{"$f":"DEC2BIN('W6'!AJ28, 9)","v":"000000000"},{"$f":"DEC2BIN('W6'!AK28, 9)","v":"000000000"},{"$f":"DEC2BIN('W6'!AL28, 9)","v":"000000000"},{"$f":"DEC2BIN('W6'!AM28, 9)","v":"000000000"},{"$f":"DEC2BIN('W6'!AN28, 9)","v":"000000000"},{"$f":"DEC2BIN('W6'!AO28, 9)","v":"000000000"},{"$f":"DEC2BIN('W6'!AP28, 9)","v":"000000000"},{"$f":"DEC2BIN('W6'!AQ28, 9)","v":"000000000"}]
[{"$f":"DEC2BIN('W6'!A29, 9)","v":"000011001"},{"$f":"DEC2BIN('W6'!B29, 9)","v":"000001011"},{"$f":"DEC2BIN('W6'!C29, 9)","v":"1111000101"},{"$f":"DEC2BIN('W6'!D29, 9)","v":"1111010100"},{"$f":"DEC2BIN('W6'!E29, 9)","v":"1111111010"},{"$f":"DEC2BIN('W6'!F29, 9)","v":"1111001110"},{"$f":"DEC2BIN('W6'!G29, 9)","v":"1111100001"},{"$f":"DEC2BIN('W6'!H29, 9)","v":"1111100100"},{"$f":"DEC2BIN('W6'!I29, 9)","v":"1111101011"},{"$f":"DEC2BIN('W6'!J29, 9)","v":"1110110110"},{"$f":"DEC2BIN('W6'!K29, 9)","v":"000000000"},{"$f":"DEC2BIN('W6'!L29, 9)","v":"000000000"},{"$f":"DEC2BIN('W6'!M29, 9)","v":"000000000"},{"$f":"DEC2BIN('W6'!N29, 9)","v":"000000000"},{"$f":"DEC2BIN('W6'!O29, 9)","v":"000000000"},{"$f":"DEC2BIN('W6'!P29, 9)","v":"000000000"},{"$f":"DEC2BIN('W6'!Q29, 9)","v":"000000000"},{"$f":"DEC2BIN('W6'!R29, 9)","v":"000000000"},{"$f":"DEC2BIN('W6'!S29, 9)","v":"000000000"},{"$f":"DEC2BIN('W6'!T29, 9)","v":"000000000"},{"$f":"DEC2BIN('W6'!U29, 9)","v":"000000000"},{"$f":"DEC2BIN('W6'!V29, 9)","v":"000000000"},{"$f":"DEC2BIN('W6'!W29, 9)","v":"000000000"},{"$f":"DEC2BIN('W6'!X29, 9)","v":"000000000"},{"$f":"DEC2BIN('W6'!Y29, 9)","v":"000000000"},{"$f":"DEC2BIN('W6'!Z29, 9)","v":"000000000"},{"$f":"DEC2BIN('W6'!AA29, 9)","v":"000000000"},{"$f":"DEC2BIN('W6'!AB29, 9)","v":"000000000"},{"$f":"DEC2BIN('W6'!AC29, 9)","v":"000000000"},{"$f":"DEC2BIN('W6'!AD29, 9)","v":"000000000"},{"$f":"DEC2BIN('W6'!AE29, 9)","v":"000000000"},{"$f":"DEC2BIN('W6'!AF29, 9)","v":"000000000"},{"$f":"DEC2BIN('W6'!AG29, 9)","v":"000000000"},{"$f":"DEC2BIN('W6'!AH29, 9)","v":"000000000"},{"$f":"DEC2BIN('W6'!AI29, 9)","v":"000000000"},{"$f":"DEC2BIN('W6'!AJ29, 9)","v":"000000000"},{"$f":"DEC2BIN('W6'!AK29, 9)","v":"000000000"},{"$f":"DEC2BIN('W6'!AL29, 9)","v":"000000000"},{"$f":"DEC2BIN('W6'!AM29, 9)","v":"000000000"},{"$f":"DEC2BIN('W6'!AN29, 9)","v":"000000000"},{"$f":"DEC2BIN('W6'!AO29, 9)","v":"000000000"},{"$f":"DEC2BIN('W6'!AP29, 9)","v":"000000000"},{"$f":"DEC2BIN('W6'!AQ29, 9)","v":"000000000"}]
[{"$f":"DEC2BIN('W6'!A30, 9)","v":"1111001010"},{"$f":"DEC2BIN('W6'!B30, 9)","v":"1111101110"},{"$f":"DEC2BIN('W6'!C30, 9)","v":"1111100101"},{"$f":"DEC2BIN('W6'!D30, 9)","v":"000100100"},{"$f":"DEC2BIN('W6'!E30, 9)","v":"000110110"},{"$f":"DEC2BIN('W6'!F30, 9)","v":"1111010001"},{"$f":"DEC2BIN('W6'!G30, 9)","v":"000001000"},{"$f":"DEC2BIN('W6'!H30, 9)","v":"1111111010"},{"$f":"DEC2BIN('W6'!I30, 9)","v":"1111001110"},{"$f":"DEC2BIN('W6'!J30, 9)","v":"000111010"},{"$f":"DEC2BIN('W6'!K30, 9)","v":"000000000"},{"$f":"DEC2BIN('W6'!L30, 9)","v":"000000000"},{"$f":"DEC2BIN('W6'!M30, 9)","v":"000000000"},{"$f":"DEC2BIN('W6'!N30, 9)","v":"000000000"},{"$f":"DEC2BIN('W6'!O30, 9)","v":"000000000"},{"$f":"DEC2BIN('W6'!P30, 9)","v":"000000000"},{"$f":"DEC2BIN('W6'!Q30, 9)","v":"000000000"},{"$f":"DEC2BIN('W6'!R30, 9)","v":"000000000"},{"$f":"DEC2BIN('W6'!S30, 9)","v":"000000000"},{"$f":"DEC2BIN('W6'!T30, 9)","v":"000000000"},{"$f":"DEC2BIN('W6'!U30, 9)","v":"000000000"},{"$f":"DEC2BIN('W6'!V30, 9)","v":"000000000"},{"$f":"DEC2BIN('W6'!W30, 9)","v":"000000000"},{"$f":"DEC2BIN('W6'!X30, 9)","v":"000000000"},{"$f":"DEC2BIN('W6'!Y30, 9)","v":"000000000"},{"$f":"DEC2BIN('W6'!Z30, 9)","v":"000000000"},{"$f":"DEC2BIN('W6'!AA30, 9)","v":"000000000"},{"$f":"DEC2BIN('W6'!AB30, 9)","v":"000000000"},{"$f":"DEC2BIN('W6'!AC30, 9)","v":"000000000"},{"$f":"DEC2BIN('W6'!AD30, 9)","v":"000000000"},{"$f":"DEC2BIN('W6'!AE30, 9)","v":"000000000"},{"$f":"DEC2BIN('W6'!AF30, 9)","v":"000000000"},{"$f":"DEC2BIN('W6'!AG30, 9)","v":"000000000"},{"$f":"DEC2BIN('W6'!AH30, 9)","v":"000000000"},{"$f":"DEC2BIN('W6'!AI30, 9)","v":"000000000"},{"$f":"DEC2BIN('W6'!AJ30, 9)","v":"000000000"},{"$f":"DEC2BIN('W6'!AK30, 9)","v":"000000000"},{"$f":"DEC2BIN('W6'!AL30, 9)","v":"000000000"},{"$f":"DEC2BIN('W6'!AM30, 9)","v":"000000000"},{"$f":"DEC2BIN('W6'!AN30, 9)","v":"000000000"},{"$f":"DEC2BIN('W6'!AO30, 9)","v":"000000000"},{"$f":"DEC2BIN('W6'!AP30, 9)","v":"000000000"},{"$f":"DEC2BIN('W6'!AQ30, 9)","v":"000000000"}]
[{"$f":"DEC2BIN('W6'!A31, 9)","v":"1111110011"},{"$f":"DEC2BIN('W6'!B31, 9)","v":"000111011"},{"$f":"DEC2BIN('W6'!C31, 9)","v":"000110001"},{"$f":"DEC2BIN('W6'!D31, 9)","v":"000001001"},{"$f":"DEC2BIN('W6'!E31, 9)","v":"000000101"},{"$f":"DEC2BIN('W6'!F31, 9)","v":"000111010"},{"$f":"DEC2BIN('W6'!G31, 9)","v":"1110100000"},{"$f":"DEC2BIN('W6'!H31, 9)","v":"1111000001"},{"$f":"DEC2BIN('W6'!I31, 9)","v":"1111010011"},{"$f":"DEC2BIN('W6'!J31, 9)","v":"1111001100"},{"$f":"DEC2BIN('W6'!K31, 9)","v":"000000000"},{"$f":"DEC2BIN('W6'!L31, 9)","v":"000000000"},{"$f":"DEC2BIN('W6'!M31, 9)","v":"000000000"},{"$f":"DEC2BIN('W6'!N31, 9)","v":"000000000"},{"$f":"DEC2BIN('W6'!O31, 9)","v":"000000000"},{"$f":"DEC2BIN('W6'!P31, 9)","v":"000000000"},{"$f":"DEC2BIN('W6'!Q31, 9)","v":"000000000"},{"$f":"DEC2BIN('W6'!R31, 9)","v":"000000000"},{"$f":"DEC2BIN('W6'!S31, 9)","v":"000000000"},{"$f":"DEC2BIN('W6'!T31, 9)","v":"000000000"},{"$f":"DEC2BIN('W6'!U31, 9)","v":"000000000"},{"$f":"DEC2BIN('W6'!V31, 9)","v":"000000000"},{"$f":"DEC2BIN('W6'!W31, 9)","v":"000000000"},{"$f":"DEC2BIN('W6'!X31, 9)","v":"000000000"},{"$f":"DEC2BIN('W6'!Y31, 9)","v":"000000000"},{"$f":"DEC2BIN('W6'!Z31, 9)","v":"000000000"},{"$f":"DEC2BIN('W6'!AA31, 9)","v":"000000000"},{"$f":"DEC2BIN('W6'!AB31, 9)","v":"000000000"},{"$f":"DEC2BIN('W6'!AC31, 9)","v":"000000000"},{"$f":"DEC2BIN('W6'!AD31, 9)","v":"000000000"},{"$f":"DEC2BIN('W6'!AE31, 9)","v":"000000000"},{"$f":"DEC2BIN('W6'!AF31, 9)","v":"000000000"},{"$f":"DEC2BIN('W6'!AG31, 9)","v":"000000000"},{"$f":"DEC2BIN('W6'!AH31, 9)","v":"000000000"},{"$f":"DEC2BIN('W6'!AI31, 9)","v":"000000000"},{"$f":"DEC2BIN('W6'!AJ31, 9)","v":"000000000"},{"$f":"DEC2BIN('W6'!AK31, 9)","v":"000000000"},{"$f":"DEC2BIN('W6'!AL31, 9)","v":"000000000"},{"$f":"DEC2BIN('W6'!AM31, 9)","v":"000000000"},{"$f":"DEC2BIN('W6'!AN31, 9)","v":"000000000"},{"$f":"DEC2BIN('W6'!AO31, 9)","v":"000000000"},{"$f":"DEC2BIN('W6'!AP31, 9)","v":"000000000"},{"$f":"DEC2BIN('W6'!AQ31, 9)","v":"000000000"}]
[{"$f":"DEC2BIN('W6'!A32, 9)","v":"1111011100"},{"$f":"DEC2BIN('W6'!B32, 9)","v":"000110011"},{"$f":"DEC2BIN('W6'!C32, 9)","v":"000101111"},{"$f":"DEC2BIN('W6'!D32, 9)","v":"1111100000"},{"$f":"DEC2BIN('W6'!E32, 9)","v":"1111110101"},{"$f":"DEC2BIN('W6'!F32, 9)","v":"1111010110"},{"$f":"DEC2BIN('W6'!G32, 9)","v":"1111010011"},{"$f":"DEC2BIN('W6'!H32, 9)","v":"000000000"},{"$f":"DEC2BIN('W6'!I32, 9)","v":"1110101110"},{"$f":"DEC2BIN('W6'!J32, 9)","v":"001000010"},{"$f":"DEC2BIN('W6'!K32, 9)","v":"000000000"},{"$f":"DEC2BIN('W6'!L32, 9)","v":"000000000"},{"$f":"DEC2BIN('W6'!M32, 9)","v":"000000000"},{"$f":"DEC2BIN('W6'!N32, 9)","v":"000000000"},{"$f":"DEC2BIN('W6'!O32, 9)","v":"000000000"},{"$f":"DEC2BIN('W6'!P32, 9)","v":"000000000"},{"$f":"DEC2BIN('W6'!Q32, 9)","v":"000000000"},{"$f":"DEC2BIN('W6'!R32, 9)","v":"000000000"},{"$f":"DEC2BIN('W6'!S32, 9)","v":"000000000"},{"$f":"DEC2BIN('W6'!T32, 9)","v":"000000000"},{"$f":"DEC2BIN('W6'!U32, 9)","v":"000000000"},{"$f":"DEC2BIN('W6'!V32, 9)","v":"000000000"},{"$f":"DEC2BIN('W6'!W32, 9)","v":"000000000"},{"$f":"DEC2BIN('W6'!X32, 9)","v":"000000000"},{"$f":"DEC2BIN('W6'!Y32, 9)","v":"000000000"},{"$f":"DEC2BIN('W6'!Z32, 9)","v":"000000000"},{"$f":"DEC2BIN('W6'!AA32, 9)","v":"000000000"},{"$f":"DEC2BIN('W6'!AB32, 9)","v":"000000000"},{"$f":"DEC2BIN('W6'!AC32, 9)","v":"000000000"},{"$f":"DEC2BIN('W6'!AD32, 9)","v":"000000000"},{"$f":"DEC2BIN('W6'!AE32, 9)","v":"000000000"},{"$f":"DEC2BIN('W6'!AF32, 9)","v":"000000000"},{"$f":"DEC2BIN('W6'!AG32, 9)","v":"000000000"},{"$f":"DEC2BIN('W6'!AH32, 9)","v":"000000000"},{"$f":"DEC2BIN('W6'!AI32, 9)","v":"000000000"},{"$f":"DEC2BIN('W6'!AJ32, 9)","v":"000000000"},{"$f":"DEC2BIN('W6'!AK32, 9)","v":"000000000"},{"$f":"DEC2BIN('W6'!AL32, 9)","v":"000000000"},{"$f":"DEC2BIN('W6'!AM32, 9)","v":"000000000"},{"$f":"DEC2BIN('W6'!AN32, 9)","v":"000000000"},{"$f":"DEC2BIN('W6'!AO32, 9)","v":"000000000"},{"$f":"DEC2BIN('W6'!AP32, 9)","v":"000000000"},{"$f":"DEC2BIN('W6'!AQ32, 9)","v":"000000000"}]
[{"$f":"DEC2BIN('W6'!A33, 9)","v":"000100000"},{"$f":"DEC2BIN('W6'!B33, 9)","v":"1110110001"},{"$f":"DEC2BIN('W6'!C33, 9)","v":"1111001010"},{"$f":"DEC2BIN('W6'!D33, 9)","v":"1110111100"},{"$f":"DEC2BIN('W6'!E33, 9)","v":"000001101"},{"$f":"DEC2BIN('W6'!F33, 9)","v":"1110110110"},{"$f":"DEC2BIN('W6'!G33, 9)","v":"1110000101"},{"$f":"DEC2BIN('W6'!H33, 9)","v":"1110111001"},{"$f":"DEC2BIN('W6'!I33, 9)","v":"000100011"},{"$f":"DEC2BIN('W6'!J33, 9)","v":"000101011"},{"$f":"DEC2BIN('W6'!K33, 9)","v":"000000000"},{"$f":"DEC2BIN('W6'!L33, 9)","v":"000000000"},{"$f":"DEC2BIN('W6'!M33, 9)","v":"000000000"},{"$f":"DEC2BIN('W6'!N33, 9)","v":"000000000"},{"$f":"DEC2BIN('W6'!O33, 9)","v":"000000000"},{"$f":"DEC2BIN('W6'!P33, 9)","v":"000000000"},{"$f":"DEC2BIN('W6'!Q33, 9)","v":"000000000"},{"$f":"DEC2BIN('W6'!R33, 9)","v":"000000000"},{"$f":"DEC2BIN('W6'!S33, 9)","v":"000000000"},{"$f":"DEC2BIN('W6'!T33, 9)","v":"000000000"},{"$f":"DEC2BIN('W6'!U33, 9)","v":"000000000"},{"$f":"DEC2BIN('W6'!V33, 9)","v":"000000000"},{"$f":"DEC2BIN('W6'!W33, 9)","v":"000000000"},{"$f":"DEC2BIN('W6'!X33, 9)","v":"000000000"},{"$f":"DEC2BIN('W6'!Y33, 9)","v":"000000000"},{"$f":"DEC2BIN('W6'!Z33, 9)","v":"000000000"},{"$f":"DEC2BIN('W6'!AA33, 9)","v":"000000000"},{"$f":"DEC2BIN('W6'!AB33, 9)","v":"000000000"},{"$f":"DEC2BIN('W6'!AC33, 9)","v":"000000000"},{"$f":"DEC2BIN('W6'!AD33, 9)","v":"000000000"},{"$f":"DEC2BIN('W6'!AE33, 9)","v":"000000000"},{"$f":"DEC2BIN('W6'!AF33, 9)","v":"000000000"},{"$f":"DEC2BIN('W6'!AG33, 9)","v":"000000000"},{"$f":"DEC2BIN('W6'!AH33, 9)","v":"000000000"},{"$f":"DEC2BIN('W6'!AI33, 9)","v":"000000000"},{"$f":"DEC2BIN('W6'!AJ33, 9)","v":"000000000"},{"$f":"DEC2BIN('W6'!AK33, 9)","v":"000000000"},{"$f":"DEC2BIN('W6'!AL33, 9)","v":"000000000"},{"$f":"DEC2BIN('W6'!AM33, 9)","v":"000000000"},{"$f":"DEC2BIN('W6'!AN33, 9)","v":"000000000"},{"$f":"DEC2BIN('W6'!AO33, 9)","v":"000000000"},{"$f":"DEC2BIN('W6'!AP33, 9)","v":"000000000"},{"$f":"DEC2BIN('W6'!AQ33, 9)","v":"000000000"}]
[{"$f":"DEC2BIN('W6'!A34, 9)","v":"1111101100"},{"$f":"DEC2BIN('W6'!B34, 9)","v":"000000101"},{"$f":"DEC2BIN('W6'!C34, 9)","v":"1111000110"},{"$f":"DEC2BIN('W6'!D34, 9)","v":"1111001001"},{"$f":"DEC2BIN('W6'!E34, 9)","v":"1111010011"},{"$f":"DEC2BIN('W6'!F34, 9)","v":"000010011"},{"$f":"DEC2BIN('W6'!G34, 9)","v":"000000010"},{"$f":"DEC2BIN('W6'!H34, 9)","v":"1111100101"},{"$f":"DEC2BIN('W6'!I34, 9)","v":"000011111"},{"$f":"DEC2BIN('W6'!J34, 9)","v":"1111100010"},{"$f":"DEC2BIN('W6'!K34, 9)","v":"000000000"},{"$f":"DEC2BIN('W6'!L34, 9)","v":"000000000"},{"$f":"DEC2BIN('W6'!M34, 9)","v":"000000000"},{"$f":"DEC2BIN('W6'!N34, 9)","v":"000000000"},{"$f":"DEC2BIN('W6'!O34, 9)","v":"000000000"},{"$f":"DEC2BIN('W6'!P34, 9)","v":"000000000"},{"$f":"DEC2BIN('W6'!Q34, 9)","v":"000000000"},{"$f":"DEC2BIN('W6'!R34, 9)","v":"000000000"},{"$f":"DEC2BIN('W6'!S34, 9)","v":"000000000"},{"$f":"DEC2BIN('W6'!T34, 9)","v":"000000000"},{"$f":"DEC2BIN('W6'!U34, 9)","v":"000000000"},{"$f":"DEC2BIN('W6'!V34, 9)","v":"000000000"},{"$f":"DEC2BIN('W6'!W34, 9)","v":"000000000"},{"$f":"DEC2BIN('W6'!X34, 9)","v":"000000000"},{"$f":"DEC2BIN('W6'!Y34, 9)","v":"000000000"},{"$f":"DEC2BIN('W6'!Z34, 9)","v":"000000000"},{"$f":"DEC2BIN('W6'!AA34, 9)","v":"000000000"},{"$f":"DEC2BIN('W6'!AB34, 9)","v":"000000000"},{"$f":"DEC2BIN('W6'!AC34, 9)","v":"000000000"},{"$f":"DEC2BIN('W6'!AD34, 9)","v":"000000000"},{"$f":"DEC2BIN('W6'!AE34, 9)","v":"000000000"},{"$f":"DEC2BIN('W6'!AF34, 9)","v":"000000000"},{"$f":"DEC2BIN('W6'!AG34, 9)","v":"000000000"},{"$f":"DEC2BIN('W6'!AH34, 9)","v":"000000000"},{"$f":"DEC2BIN('W6'!AI34, 9)","v":"000000000"},{"$f":"DEC2BIN('W6'!AJ34, 9)","v":"000000000"},{"$f":"DEC2BIN('W6'!AK34, 9)","v":"000000000"},{"$f":"DEC2BIN('W6'!AL34, 9)","v":"000000000"},{"$f":"DEC2BIN('W6'!AM34, 9)","v":"000000000"},{"$f":"DEC2BIN('W6'!AN34, 9)","v":"000000000"},{"$f":"DEC2BIN('W6'!AO34, 9)","v":"000000000"},{"$f":"DEC2BIN('W6'!AP34, 9)","v":"000000000"},{"$f":"DEC2BIN('W6'!AQ34, 9)","v":"000000000"}]
[{"$f":"DEC2BIN('W6'!A35, 9)","v":"000100110"},{"$f":"DEC2BIN('W6'!B35, 9)","v":"1111011111"},{"$f":"DEC2BIN('W6'!C35, 9)","v":"000101111"},{"$f":"DEC2BIN('W6'!D35, 9)","v":"1110010010"},{"$f":"DEC2BIN('W6'!E35, 9)","v":"000101101"},{"$f":"DEC2BIN('W6'!F35, 9)","v":"1111000010"},{"$f":"DEC2BIN('W6'!G35, 9)","v":"1110000010"},{"$f":"DEC2BIN('W6'!H35, 9)","v":"000101001"},{"$f":"DEC2BIN('W6'!I35, 9)","v":"000110101"},{"$f":"DEC2BIN('W6'!J35, 9)","v":"000100011"},{"$f":"DEC2BIN('W6'!K35, 9)","v":"000000000"},{"$f":"DEC2BIN('W6'!L35, 9)","v":"000000000"},{"$f":"DEC2BIN('W6'!M35, 9)","v":"000000000"},{"$f":"DEC2BIN('W6'!N35, 9)","v":"000000000"},{"$f":"DEC2BIN('W6'!O35, 9)","v":"000000000"},{"$f":"DEC2BIN('W6'!P35, 9)","v":"000000000"},{"$f":"DEC2BIN('W6'!Q35, 9)","v":"000000000"},{"$f":"DEC2BIN('W6'!R35, 9)","v":"000000000"},{"$f":"DEC2BIN('W6'!S35, 9)","v":"000000000"},{"$f":"DEC2BIN('W6'!T35, 9)","v":"000000000"},{"$f":"DEC2BIN('W6'!U35, 9)","v":"000000000"},{"$f":"DEC2BIN('W6'!V35, 9)","v":"000000000"},{"$f":"DEC2BIN('W6'!W35, 9)","v":"000000000"},{"$f":"DEC2BIN('W6'!X35, 9)","v":"000000000"},{"$f":"DEC2BIN('W6'!Y35, 9)","v":"000000000"},{"$f":"DEC2BIN('W6'!Z35, 9)","v":"000000000"},{"$f":"DEC2BIN('W6'!AA35, 9)","v":"000000000"},{"$f":"DEC2BIN('W6'!AB35, 9)","v":"000000000"},{"$f":"DEC2BIN('W6'!AC35, 9)","v":"000000000"},{"$f":"DEC2BIN('W6'!AD35, 9)","v":"000000000"},{"$f":"DEC2BIN('W6'!AE35, 9)","v":"000000000"},{"$f":"DEC2BIN('W6'!AF35, 9)","v":"000000000"},{"$f":"DEC2BIN('W6'!AG35, 9)","v":"000000000"},{"$f":"DEC2BIN('W6'!AH35, 9)","v":"000000000"},{"$f":"DEC2BIN('W6'!AI35, 9)","v":"000000000"},{"$f":"DEC2BIN('W6'!AJ35, 9)","v":"000000000"},{"$f":"DEC2BIN('W6'!AK35, 9)","v":"000000000"},{"$f":"DEC2BIN('W6'!AL35, 9)","v":"000000000"},{"$f":"DEC2BIN('W6'!AM35, 9)","v":"000000000"},{"$f":"DEC2BIN('W6'!AN35, 9)","v":"000000000"},{"$f":"DEC2BIN('W6'!AO35, 9)","v":"000000000"},{"$f":"DEC2BIN('W6'!AP35, 9)","v":"000000000"},{"$f":"DEC2BIN('W6'!AQ35, 9)","v":"000000000"}]
[{"$f":"DEC2BIN('W6'!A36, 9)","v":"000000011"},{"$f":"DEC2BIN('W6'!B36, 9)","v":"1111100100"},{"$f":"DEC2BIN('W6'!C36, 9)","v":"000000011"},{"$f":"DEC2BIN('W6'!D36, 9)","v":"1111111101"},{"$f":"DEC2BIN('W6'!E36, 9)","v":"1111110001"},{"$f":"DEC2BIN('W6'!F36, 9)","v":"000100010"},{"$f":"DEC2BIN('W6'!G36, 9)","v":"1111011001"},{"$f":"DEC2BIN('W6'!H36, 9)","v":"000000010"},{"$f":"DEC2BIN('W6'!I36, 9)","v":"1111011000"},{"$f":"DEC2BIN('W6'!J36, 9)","v":"1111011011"},{"$f":"DEC2BIN('W6'!K36, 9)","v":"000000000"},{"$f":"DEC2BIN('W6'!L36, 9)","v":"000000000"},{"$f":"DEC2BIN('W6'!M36, 9)","v":"000000000"},{"$f":"DEC2BIN('W6'!N36, 9)","v":"000000000"},{"$f":"DEC2BIN('W6'!O36, 9)","v":"000000000"},{"$f":"DEC2BIN('W6'!P36, 9)","v":"000000000"},{"$f":"DEC2BIN('W6'!Q36, 9)","v":"000000000"},{"$f":"DEC2BIN('W6'!R36, 9)","v":"000000000"},{"$f":"DEC2BIN('W6'!S36, 9)","v":"000000000"},{"$f":"DEC2BIN('W6'!T36, 9)","v":"000000000"},{"$f":"DEC2BIN('W6'!U36, 9)","v":"000000000"},{"$f":"DEC2BIN('W6'!V36, 9)","v":"000000000"},{"$f":"DEC2BIN('W6'!W36, 9)","v":"000000000"},{"$f":"DEC2BIN('W6'!X36, 9)","v":"000000000"},{"$f":"DEC2BIN('W6'!Y36, 9)","v":"000000000"},{"$f":"DEC2BIN('W6'!Z36, 9)","v":"000000000"},{"$f":"DEC2BIN('W6'!AA36, 9)","v":"000000000"},{"$f":"DEC2BIN('W6'!AB36, 9)","v":"000000000"},{"$f":"DEC2BIN('W6'!AC36, 9)","v":"000000000"},{"$f":"DEC2BIN('W6'!AD36, 9)","v":"000000000"},{"$f":"DEC2BIN('W6'!AE36, 9)","v":"000000000"},{"$f":"DEC2BIN('W6'!AF36, 9)","v":"000000000"},{"$f":"DEC2BIN('W6'!AG36, 9)","v":"000000000"},{"$f":"DEC2BIN('W6'!AH36, 9)","v":"000000000"},{"$f":"DEC2BIN('W6'!AI36, 9)","v":"000000000"},{"$f":"DEC2BIN('W6'!AJ36, 9)","v":"000000000"},{"$f":"DEC2BIN('W6'!AK36, 9)","v":"000000000"},{"$f":"DEC2BIN('W6'!AL36, 9)","v":"000000000"},{"$f":"DEC2BIN('W6'!AM36, 9)","v":"000000000"},{"$f":"DEC2BIN('W6'!AN36, 9)","v":"000000000"},{"$f":"DEC2BIN('W6'!AO36, 9)","v":"000000000"},{"$f":"DEC2BIN('W6'!AP36, 9)","v":"000000000"},{"$f":"DEC2BIN('W6'!AQ36, 9)","v":"000000000"}]
[{"$f":"DEC2BIN('W6'!A37, 9)","v":"1111100100"},{"$f":"DEC2BIN('W6'!B37, 9)","v":"000000011"},{"$f":"DEC2BIN('W6'!C37, 9)","v":"000110100"},{"$f":"DEC2BIN('W6'!D37, 9)","v":"1111001001"},{"$f":"DEC2BIN('W6'!E37, 9)","v":"1111001000"},{"$f":"DEC2BIN('W6'!F37, 9)","v":"000100100"},{"$f":"DEC2BIN('W6'!G37, 9)","v":"1111110111"},{"$f":"DEC2BIN('W6'!H37, 9)","v":"1111001100"},{"$f":"DEC2BIN('W6'!I37, 9)","v":"1111000101"},{"$f":"DEC2BIN('W6'!J37, 9)","v":"1111001011"},{"$f":"DEC2BIN('W6'!K37, 9)","v":"000000000"},{"$f":"DEC2BIN('W6'!L37, 9)","v":"000000000"},{"$f":"DEC2BIN('W6'!M37, 9)","v":"000000000"},{"$f":"DEC2BIN('W6'!N37, 9)","v":"000000000"},{"$f":"DEC2BIN('W6'!O37, 9)","v":"000000000"},{"$f":"DEC2BIN('W6'!P37, 9)","v":"000000000"},{"$f":"DEC2BIN('W6'!Q37, 9)","v":"000000000"},{"$f":"DEC2BIN('W6'!R37, 9)","v":"000000000"},{"$f":"DEC2BIN('W6'!S37, 9)","v":"000000000"},{"$f":"DEC2BIN('W6'!T37, 9)","v":"000000000"},{"$f":"DEC2BIN('W6'!U37, 9)","v":"000000000"},{"$f":"DEC2BIN('W6'!V37, 9)","v":"000000000"},{"$f":"DEC2BIN('W6'!W37, 9)","v":"000000000"},{"$f":"DEC2BIN('W6'!X37, 9)","v":"000000000"},{"$f":"DEC2BIN('W6'!Y37, 9)","v":"000000000"},{"$f":"DEC2BIN('W6'!Z37, 9)","v":"000000000"},{"$f":"DEC2BIN('W6'!AA37, 9)","v":"000000000"},{"$f":"DEC2BIN('W6'!AB37, 9)","v":"000000000"},{"$f":"DEC2BIN('W6'!AC37, 9)","v":"000000000"},{"$f":"DEC2BIN('W6'!AD37, 9)","v":"000000000"},{"$f":"DEC2BIN('W6'!AE37, 9)","v":"000000000"},{"$f":"DEC2BIN('W6'!AF37, 9)","v":"000000000"},{"$f":"DEC2BIN('W6'!AG37, 9)","v":"000000000"},{"$f":"DEC2BIN('W6'!AH37, 9)","v":"000000000"},{"$f":"DEC2BIN('W6'!AI37, 9)","v":"000000000"},{"$f":"DEC2BIN('W6'!AJ37, 9)","v":"000000000"},{"$f":"DEC2BIN('W6'!AK37, 9)","v":"000000000"},{"$f":"DEC2BIN('W6'!AL37, 9)","v":"000000000"},{"$f":"DEC2BIN('W6'!AM37, 9)","v":"000000000"},{"$f":"DEC2BIN('W6'!AN37, 9)","v":"000000000"},{"$f":"DEC2BIN('W6'!AO37, 9)","v":"000000000"},{"$f":"DEC2BIN('W6'!AP37, 9)","v":"000000000"},{"$f":"DEC2BIN('W6'!AQ37, 9)","v":"000000000"}]
[{"$f":"DEC2BIN('W6'!A38, 9)","v":"000101111"},{"$f":"DEC2BIN('W6'!B38, 9)","v":"1111011101"},{"$f":"DEC2BIN('W6'!C38, 9)","v":"1111111000"},{"$f":"DEC2BIN('W6'!D38, 9)","v":"000001011"},{"$f":"DEC2BIN('W6'!E38, 9)","v":"1110110100"},{"$f":"DEC2BIN('W6'!F38, 9)","v":"1111001010"},{"$f":"DEC2BIN('W6'!G38, 9)","v":"000010001"},{"$f":"DEC2BIN('W6'!H38, 9)","v":"1111100110"},{"$f":"DEC2BIN('W6'!I38, 9)","v":"000101011"},{"$f":"DEC2BIN('W6'!J38, 9)","v":"1111101100"},{"$f":"DEC2BIN('W6'!K38, 9)","v":"000000000"},{"$f":"DEC2BIN('W6'!L38, 9)","v":"000000000"},{"$f":"DEC2BIN('W6'!M38, 9)","v":"000000000"},{"$f":"DEC2BIN('W6'!N38, 9)","v":"000000000"},{"$f":"DEC2BIN('W6'!O38, 9)","v":"000000000"},{"$f":"DEC2BIN('W6'!P38, 9)","v":"000000000"},{"$f":"DEC2BIN('W6'!Q38, 9)","v":"000000000"},{"$f":"DEC2BIN('W6'!R38, 9)","v":"000000000"},{"$f":"DEC2BIN('W6'!S38, 9)","v":"000000000"},{"$f":"DEC2BIN('W6'!T38, 9)","v":"000000000"},{"$f":"DEC2BIN('W6'!U38, 9)","v":"000000000"},{"$f":"DEC2BIN('W6'!V38, 9)","v":"000000000"},{"$f":"DEC2BIN('W6'!W38, 9)","v":"000000000"},{"$f":"DEC2BIN('W6'!X38, 9)","v":"000000000"},{"$f":"DEC2BIN('W6'!Y38, 9)","v":"000000000"},{"$f":"DEC2BIN('W6'!Z38, 9)","v":"000000000"},{"$f":"DEC2BIN('W6'!AA38, 9)","v":"000000000"},{"$f":"DEC2BIN('W6'!AB38, 9)","v":"000000000"},{"$f":"DEC2BIN('W6'!AC38, 9)","v":"000000000"},{"$f":"DEC2BIN('W6'!AD38, 9)","v":"000000000"},{"$f":"DEC2BIN('W6'!AE38, 9)","v":"000000000"},{"$f":"DEC2BIN('W6'!AF38, 9)","v":"000000000"},{"$f":"DEC2BIN('W6'!AG38, 9)","v":"000000000"},{"$f":"DEC2BIN('W6'!AH38, 9)","v":"000000000"},{"$f":"DEC2BIN('W6'!AI38, 9)","v":"000000000"},{"$f":"DEC2BIN('W6'!AJ38, 9)","v":"000000000"},{"$f":"DEC2BIN('W6'!AK38, 9)","v":"000000000"},{"$f":"DEC2BIN('W6'!AL38, 9)","v":"000000000"},{"$f":"DEC2BIN('W6'!AM38, 9)","v":"000000000"},{"$f":"DEC2BIN('W6'!AN38, 9)","v":"000000000"},{"$f":"DEC2BIN('W6'!AO38, 9)","v":"000000000"},{"$f":"DEC2BIN('W6'!AP38, 9)","v":"000000000"},{"$f":"DEC2BIN('W6'!AQ38, 9)","v":"000000000"}]
[{"$f":"DEC2BIN('W6'!A39, 9)","v":"1111001000"},{"$f":"DEC2BIN('W6'!B39, 9)","v":"1111000000"},{"$f":"DEC2BIN('W6'!C39, 9)","v":"1111010010"},{"$f":"DEC2BIN('W6'!D39, 9)","v":"000010011"},{"$f":"DEC2BIN('W6'!E39, 9)","v":"1111101000"},{"$f":"DEC2BIN('W6'!F39, 9)","v":"000011011"},{"$f":"DEC2BIN('W6'!G39, 9)","v":"000011111"},{"$f":"DEC2BIN('W6'!H39, 9)","v":"000101011"},{"$f":"DEC2BIN('W6'!I39, 9)","v":"000011101"},{"$f":"DEC2BIN('W6'!J39, 9)","v":"1110011100"},{"$f":"DEC2BIN('W6'!K39, 9)","v":"000000000"},{"$f":"DEC2BIN('W6'!L39, 9)","v":"000000000"},{"$f":"DEC2BIN('W6'!M39, 9)","v":"000000000"},{"$f":"DEC2BIN('W6'!N39, 9)","v":"000000000"},{"$f":"DEC2BIN('W6'!O39, 9)","v":"000000000"},{"$f":"DEC2BIN('W6'!P39, 9)","v":"000000000"},{"$f":"DEC2BIN('W6'!Q39, 9)","v":"000000000"},{"$f":"DEC2BIN('W6'!R39, 9)","v":"000000000"},{"$f":"DEC2BIN('W6'!S39, 9)","v":"000000000"},{"$f":"DEC2BIN('W6'!T39, 9)","v":"000000000"},{"$f":"DEC2BIN('W6'!U39, 9)","v":"000000000"},{"$f":"DEC2BIN('W6'!V39, 9)","v":"000000000"},{"$f":"DEC2BIN('W6'!W39, 9)","v":"000000000"},{"$f":"DEC2BIN('W6'!X39, 9)","v":"000000000"},{"$f":"DEC2BIN('W6'!Y39, 9)","v":"000000000"},{"$f":"DEC2BIN('W6'!Z39, 9)","v":"000000000"},{"$f":"DEC2BIN('W6'!AA39, 9)","v":"000000000"},{"$f":"DEC2BIN('W6'!AB39, 9)","v":"000000000"},{"$f":"DEC2BIN('W6'!AC39, 9)","v":"000000000"},{"$f":"DEC2BIN('W6'!AD39, 9)","v":"000000000"},{"$f":"DEC2BIN('W6'!AE39, 9)","v":"000000000"},{"$f":"DEC2BIN('W6'!AF39, 9)","v":"000000000"},{"$f":"DEC2BIN('W6'!AG39, 9)","v":"000000000"},{"$f":"DEC2BIN('W6'!AH39, 9)","v":"000000000"},{"$f":"DEC2BIN('W6'!AI39, 9)","v":"000000000"},{"$f":"DEC2BIN('W6'!AJ39, 9)","v":"000000000"},{"$f":"DEC2BIN('W6'!AK39, 9)","v":"000000000"},{"$f":"DEC2BIN('W6'!AL39, 9)","v":"000000000"},{"$f":"DEC2BIN('W6'!AM39, 9)","v":"000000000"},{"$f":"DEC2BIN('W6'!AN39, 9)","v":"000000000"},{"$f":"DEC2BIN('W6'!AO39, 9)","v":"000000000"},{"$f":"DEC2BIN('W6'!AP39, 9)","v":"000000000"},{"$f":"DEC2BIN('W6'!AQ39, 9)","v":"000000000"}]
[{"$f":"DEC2BIN('W6'!A40, 9)","v":"000100010"},{"$f":"DEC2BIN('W6'!B40, 9)","v":"000001001"},{"$f":"DEC2BIN('W6'!C40, 9)","v":"1111101111"},{"$f":"DEC2BIN('W6'!D40, 9)","v":"000000010"},{"$f":"DEC2BIN('W6'!E40, 9)","v":"000111101"},{"$f":"DEC2BIN('W6'!F40, 9)","v":"1111100110"},{"$f":"DEC2BIN('W6'!G40, 9)","v":"1111100101"},{"$f":"DEC2BIN('W6'!H40, 9)","v":"000000011"},{"$f":"DEC2BIN('W6'!I40, 9)","v":"000101101"},{"$f":"DEC2BIN('W6'!J40, 9)","v":"000000001"},{"$f":"DEC2BIN('W6'!K40, 9)","v":"000000000"},{"$f":"DEC2BIN('W6'!L40, 9)","v":"000000000"},{"$f":"DEC2BIN('W6'!M40, 9)","v":"000000000"},{"$f":"DEC2BIN('W6'!N40, 9)","v":"000000000"},{"$f":"DEC2BIN('W6'!O40, 9)","v":"000000000"},{"$f":"DEC2BIN('W6'!P40, 9)","v":"000000000"},{"$f":"DEC2BIN('W6'!Q40, 9)","v":"000000000"},{"$f":"DEC2BIN('W6'!R40, 9)","v":"000000000"},{"$f":"DEC2BIN('W6'!S40, 9)","v":"000000000"},{"$f":"DEC2BIN('W6'!T40, 9)","v":"000000000"},{"$f":"DEC2BIN('W6'!U40, 9)","v":"000000000"},{"$f":"DEC2BIN('W6'!V40, 9)","v":"000000000"},{"$f":"DEC2BIN('W6'!W40, 9)","v":"000000000"},{"$f":"DEC2BIN('W6'!X40, 9)","v":"000000000"},{"$f":"DEC2BIN('W6'!Y40, 9)","v":"000000000"},{"$f":"DEC2BIN('W6'!Z40, 9)","v":"000000000"},{"$f":"DEC2BIN('W6'!AA40, 9)","v":"000000000"},{"$f":"DEC2BIN('W6'!AB40, 9)","v":"000000000"},{"$f":"DEC2BIN('W6'!AC40, 9)","v":"000000000"},{"$f":"DEC2BIN('W6'!AD40, 9)","v":"000000000"},{"$f":"DEC2BIN('W6'!AE40, 9)","v":"000000000"},{"$f":"DEC2BIN('W6'!AF40, 9)","v":"000000000"},{"$f":"DEC2BIN('W6'!AG40, 9)","v":"000000000"},{"$f":"DEC2BIN('W6'!AH40, 9)","v":"000000000"},{"$f":"DEC2BIN('W6'!AI40, 9)","v":"000000000"},{"$f":"DEC2BIN('W6'!AJ40, 9)","v":"000000000"},{"$f":"DEC2BIN('W6'!AK40, 9)","v":"000000000"},{"$f":"DEC2BIN('W6'!AL40, 9)","v":"000000000"},{"$f":"DEC2BIN('W6'!AM40, 9)","v":"000000000"},{"$f":"DEC2BIN('W6'!AN40, 9)","v":"000000000"},{"$f":"DEC2BIN('W6'!AO40, 9)","v":"000000000"},{"$f":"DEC2BIN('W6'!AP40, 9)","v":"000000000"},{"$f":"DEC2BIN('W6'!AQ40, 9)","v":"000000000"}]
[{"$f":"DEC2BIN('W6'!A41, 9)","v":"000010001"},{"$f":"DEC2BIN('W6'!B41, 9)","v":"000011000"},{"$f":"DEC2BIN('W6'!C41, 9)","v":"1111001100"},{"$f":"DEC2BIN('W6'!D41, 9)","v":"000011100"},{"$f":"DEC2BIN('W6'!E41, 9)","v":"000011010"},{"$f":"DEC2BIN('W6'!F41, 9)","v":"1111011101"},{"$f":"DEC2BIN('W6'!G41, 9)","v":"000011100"},{"$f":"DEC2BIN('W6'!H41, 9)","v":"1111100101"},{"$f":"DEC2BIN('W6'!I41, 9)","v":"1111111111"},{"$f":"DEC2BIN('W6'!J41, 9)","v":"000011010"},{"$f":"DEC2BIN('W6'!K41, 9)","v":"000000000"},{"$f":"DEC2BIN('W6'!L41, 9)","v":"000000000"},{"$f":"DEC2BIN('W6'!M41, 9)","v":"000000000"},{"$f":"DEC2BIN('W6'!N41, 9)","v":"000000000"},{"$f":"DEC2BIN('W6'!O41, 9)","v":"000000000"},{"$f":"DEC2BIN('W6'!P41, 9)","v":"000000000"},{"$f":"DEC2BIN('W6'!Q41, 9)","v":"000000000"},{"$f":"DEC2BIN('W6'!R41, 9)","v":"000000000"},{"$f":"DEC2BIN('W6'!S41, 9)","v":"000000000"},{"$f":"DEC2BIN('W6'!T41, 9)","v":"000000000"},{"$f":"DEC2BIN('W6'!U41, 9)","v":"000000000"},{"$f":"DEC2BIN('W6'!V41, 9)","v":"000000000"},{"$f":"DEC2BIN('W6'!W41, 9)","v":"000000000"},{"$f":"DEC2BIN('W6'!X41, 9)","v":"000000000"},{"$f":"DEC2BIN('W6'!Y41, 9)","v":"000000000"},{"$f":"DEC2BIN('W6'!Z41, 9)","v":"000000000"},{"$f":"DEC2BIN('W6'!AA41, 9)","v":"000000000"},{"$f":"DEC2BIN('W6'!AB41, 9)","v":"000000000"},{"$f":"DEC2BIN('W6'!AC41, 9)","v":"000000000"},{"$f":"DEC2BIN('W6'!AD41, 9)","v":"000000000"},{"$f":"DEC2BIN('W6'!AE41, 9)","v":"000000000"},{"$f":"DEC2BIN('W6'!AF41, 9)","v":"000000000"},{"$f":"DEC2BIN('W6'!AG41, 9)","v":"000000000"},{"$f":"DEC2BIN('W6'!AH41, 9)","v":"000000000"},{"$f":"DEC2BIN('W6'!AI41, 9)","v":"000000000"},{"$f":"DEC2BIN('W6'!AJ41, 9)","v":"000000000"},{"$f":"DEC2BIN('W6'!AK41, 9)","v":"000000000"},{"$f":"DEC2BIN('W6'!AL41, 9)","v":"000000000"},{"$f":"DEC2BIN('W6'!AM41, 9)","v":"000000000"},{"$f":"DEC2BIN('W6'!AN41, 9)","v":"000000000"},{"$f":"DEC2BIN('W6'!AO41, 9)","v":"000000000"},{"$f":"DEC2BIN('W6'!AP41, 9)","v":"000000000"},{"$f":"DEC2BIN('W6'!AQ41, 9)","v":"000000000"}]
[{"$f":"DEC2BIN('W6'!A42, 9)","v":"000100110"},{"$f":"DEC2BIN('W6'!B42, 9)","v":"000010101"},{"$f":"DEC2BIN('W6'!C42, 9)","v":"1110011011"},{"$f":"DEC2BIN('W6'!D42, 9)","v":"000100001"},{"$f":"DEC2BIN('W6'!E42, 9)","v":"000010110"},{"$f":"DEC2BIN('W6'!F42, 9)","v":"1111000000"},{"$f":"DEC2BIN('W6'!G42, 9)","v":"000001101"},{"$f":"DEC2BIN('W6'!H42, 9)","v":"1110110100"},{"$f":"DEC2BIN('W6'!I42, 9)","v":"000010000"},{"$f":"DEC2BIN('W6'!J42, 9)","v":"000000001"},{"$f":"DEC2BIN('W6'!K42, 9)","v":"000000000"},{"$f":"DEC2BIN('W6'!L42, 9)","v":"000000000"},{"$f":"DEC2BIN('W6'!M42, 9)","v":"000000000"},{"$f":"DEC2BIN('W6'!N42, 9)","v":"000000000"},{"$f":"DEC2BIN('W6'!O42, 9)","v":"000000000"},{"$f":"DEC2BIN('W6'!P42, 9)","v":"000000000"},{"$f":"DEC2BIN('W6'!Q42, 9)","v":"000000000"},{"$f":"DEC2BIN('W6'!R42, 9)","v":"000000000"},{"$f":"DEC2BIN('W6'!S42, 9)","v":"000000000"},{"$f":"DEC2BIN('W6'!T42, 9)","v":"000000000"},{"$f":"DEC2BIN('W6'!U42, 9)","v":"000000000"},{"$f":"DEC2BIN('W6'!V42, 9)","v":"000000000"},{"$f":"DEC2BIN('W6'!W42, 9)","v":"000000000"},{"$f":"DEC2BIN('W6'!X42, 9)","v":"000000000"},{"$f":"DEC2BIN('W6'!Y42, 9)","v":"000000000"},{"$f":"DEC2BIN('W6'!Z42, 9)","v":"000000000"},{"$f":"DEC2BIN('W6'!AA42, 9)","v":"000000000"},{"$f":"DEC2BIN('W6'!AB42, 9)","v":"000000000"},{"$f":"DEC2BIN('W6'!AC42, 9)","v":"000000000"},{"$f":"DEC2BIN('W6'!AD42, 9)","v":"000000000"},{"$f":"DEC2BIN('W6'!AE42, 9)","v":"000000000"},{"$f":"DEC2BIN('W6'!AF42, 9)","v":"000000000"},{"$f":"DEC2BIN('W6'!AG42, 9)","v":"000000000"},{"$f":"DEC2BIN('W6'!AH42, 9)","v":"000000000"},{"$f":"DEC2BIN('W6'!AI42, 9)","v":"000000000"},{"$f":"DEC2BIN('W6'!AJ42, 9)","v":"000000000"},{"$f":"DEC2BIN('W6'!AK42, 9)","v":"000000000"},{"$f":"DEC2BIN('W6'!AL42, 9)","v":"000000000"},{"$f":"DEC2BIN('W6'!AM42, 9)","v":"000000000"},{"$f":"DEC2BIN('W6'!AN42, 9)","v":"000000000"},{"$f":"DEC2BIN('W6'!AO42, 9)","v":"000000000"},{"$f":"DEC2BIN('W6'!AP42, 9)","v":"000000000"},{"$f":"DEC2BIN('W6'!AQ42, 9)","v":"000000000"}]
[{"$f":"DEC2BIN('W6'!A43, 9)","v":"000000111"},{"$f":"DEC2BIN('W6'!B43, 9)","v":"1111100110"},{"$f":"DEC2BIN('W6'!C43, 9)","v":"000001110"},{"$f":"DEC2BIN('W6'!D43, 9)","v":"1111110110"},{"$f":"DEC2BIN('W6'!E43, 9)","v":"000011001"},{"$f":"DEC2BIN('W6'!F43, 9)","v":"1111101111"},{"$f":"DEC2BIN('W6'!G43, 9)","v":"1111100111"},{"$f":"DEC2BIN('W6'!H43, 9)","v":"1111001000"},{"$f":"DEC2BIN('W6'!I43, 9)","v":"1111111001"},{"$f":"DEC2BIN('W6'!J43, 9)","v":"000000111"},{"$f":"DEC2BIN('W6'!K43, 9)","v":"000000000"},{"$f":"DEC2BIN('W6'!L43, 9)","v":"000000000"},{"$f":"DEC2BIN('W6'!M43, 9)","v":"000000000"},{"$f":"DEC2BIN('W6'!N43, 9)","v":"000000000"},{"$f":"DEC2BIN('W6'!O43, 9)","v":"000000000"},{"$f":"DEC2BIN('W6'!P43, 9)","v":"000000000"},{"$f":"DEC2BIN('W6'!Q43, 9)","v":"000000000"},{"$f":"DEC2BIN('W6'!R43, 9)","v":"000000000"},{"$f":"DEC2BIN('W6'!S43, 9)","v":"000000000"},{"$f":"DEC2BIN('W6'!T43, 9)","v":"000000000"},{"$f":"DEC2BIN('W6'!U43, 9)","v":"000000000"},{"$f":"DEC2BIN('W6'!V43, 9)","v":"000000000"},{"$f":"DEC2BIN('W6'!W43, 9)","v":"000000000"},{"$f":"DEC2BIN('W6'!X43, 9)","v":"000000000"},{"$f":"DEC2BIN('W6'!Y43, 9)","v":"000000000"},{"$f":"DEC2BIN('W6'!Z43, 9)","v":"000000000"},{"$f":"DEC2BIN('W6'!AA43, 9)","v":"000000000"},{"$f":"DEC2BIN('W6'!AB43, 9)","v":"000000000"},{"$f":"DEC2BIN('W6'!AC43, 9)","v":"000000000"},{"$f":"DEC2BIN('W6'!AD43, 9)","v":"000000000"},{"$f":"DEC2BIN('W6'!AE43, 9)","v":"000000000"},{"$f":"DEC2BIN('W6'!AF43, 9)","v":"000000000"},{"$f":"DEC2BIN('W6'!AG43, 9)","v":"000000000"},{"$f":"DEC2BIN('W6'!AH43, 9)","v":"000000000"},{"$f":"DEC2BIN('W6'!AI43, 9)","v":"000000000"},{"$f":"DEC2BIN('W6'!AJ43, 9)","v":"000000000"},{"$f":"DEC2BIN('W6'!AK43, 9)","v":"000000000"},{"$f":"DEC2BIN('W6'!AL43, 9)","v":"000000000"},{"$f":"DEC2BIN('W6'!AM43, 9)","v":"000000000"},{"$f":"DEC2BIN('W6'!AN43, 9)","v":"000000000"},{"$f":"DEC2BIN('W6'!AO43, 9)","v":"000000000"},{"$f":"DEC2BIN('W6'!AP43, 9)","v":"000000000"},{"$f":"DEC2BIN('W6'!AQ43, 9)","v":"000000000"}]
[{"$f":"DEC2BIN('W6'!A44, 9)","v":"1111010011"},{"$f":"DEC2BIN('W6'!B44, 9)","v":"000010000"},{"$f":"DEC2BIN('W6'!C44, 9)","v":"000011000"},{"$f":"DEC2BIN('W6'!D44, 9)","v":"000111010"},{"$f":"DEC2BIN('W6'!E44, 9)","v":"000011110"},{"$f":"DEC2BIN('W6'!F44, 9)","v":"1111110001"},{"$f":"DEC2BIN('W6'!G44, 9)","v":"1110111110"},{"$f":"DEC2BIN('W6'!H44, 9)","v":"1110100110"},{"$f":"DEC2BIN('W6'!I44, 9)","v":"1110110010"},{"$f":"DEC2BIN('W6'!J44, 9)","v":"000110010"},{"$f":"DEC2BIN('W6'!K44, 9)","v":"000000000"},{"$f":"DEC2BIN('W6'!L44, 9)","v":"000000000"},{"$f":"DEC2BIN('W6'!M44, 9)","v":"000000000"},{"$f":"DEC2BIN('W6'!N44, 9)","v":"000000000"},{"$f":"DEC2BIN('W6'!O44, 9)","v":"000000000"},{"$f":"DEC2BIN('W6'!P44, 9)","v":"000000000"},{"$f":"DEC2BIN('W6'!Q44, 9)","v":"000000000"},{"$f":"DEC2BIN('W6'!R44, 9)","v":"000000000"},{"$f":"DEC2BIN('W6'!S44, 9)","v":"000000000"},{"$f":"DEC2BIN('W6'!T44, 9)","v":"000000000"},{"$f":"DEC2BIN('W6'!U44, 9)","v":"000000000"},{"$f":"DEC2BIN('W6'!V44, 9)","v":"000000000"},{"$f":"DEC2BIN('W6'!W44, 9)","v":"000000000"},{"$f":"DEC2BIN('W6'!X44, 9)","v":"000000000"},{"$f":"DEC2BIN('W6'!Y44, 9)","v":"000000000"},{"$f":"DEC2BIN('W6'!Z44, 9)","v":"000000000"},{"$f":"DEC2BIN('W6'!AA44, 9)","v":"000000000"},{"$f":"DEC2BIN('W6'!AB44, 9)","v":"000000000"},{"$f":"DEC2BIN('W6'!AC44, 9)","v":"000000000"},{"$f":"DEC2BIN('W6'!AD44, 9)","v":"000000000"},{"$f":"DEC2BIN('W6'!AE44, 9)","v":"000000000"},{"$f":"DEC2BIN('W6'!AF44, 9)","v":"000000000"},{"$f":"DEC2BIN('W6'!AG44, 9)","v":"000000000"},{"$f":"DEC2BIN('W6'!AH44, 9)","v":"000000000"},{"$f":"DEC2BIN('W6'!AI44, 9)","v":"000000000"},{"$f":"DEC2BIN('W6'!AJ44, 9)","v":"000000000"},{"$f":"DEC2BIN('W6'!AK44, 9)","v":"000000000"},{"$f":"DEC2BIN('W6'!AL44, 9)","v":"000000000"},{"$f":"DEC2BIN('W6'!AM44, 9)","v":"000000000"},{"$f":"DEC2BIN('W6'!AN44, 9)","v":"000000000"},{"$f":"DEC2BIN('W6'!AO44, 9)","v":"000000000"},{"$f":"DEC2BIN('W6'!AP44, 9)","v":"000000000"},{"$f":"DEC2BIN('W6'!AQ44, 9)","v":"000000000"}]
[{"$f":"DEC2BIN('W6'!A45, 9)","v":"1111101010"},{"$f":"DEC2BIN('W6'!B45, 9)","v":"1111101000"},{"$f":"DEC2BIN('W6'!C45, 9)","v":"1111101110"},{"$f":"DEC2BIN('W6'!D45, 9)","v":"1111011111"},{"$f":"DEC2BIN('W6'!E45, 9)","v":"000010001"},{"$f":"DEC2BIN('W6'!F45, 9)","v":"000101101"},{"$f":"DEC2BIN('W6'!G45, 9)","v":"000100011"},{"$f":"DEC2BIN('W6'!H45, 9)","v":"1111101011"},{"$f":"DEC2BIN('W6'!I45, 9)","v":"000101000"},{"$f":"DEC2BIN('W6'!J45, 9)","v":"000010100"},{"$f":"DEC2BIN('W6'!K45, 9)","v":"000000000"},{"$f":"DEC2BIN('W6'!L45, 9)","v":"000000000"},{"$f":"DEC2BIN('W6'!M45, 9)","v":"000000000"},{"$f":"DEC2BIN('W6'!N45, 9)","v":"000000000"},{"$f":"DEC2BIN('W6'!O45, 9)","v":"000000000"},{"$f":"DEC2BIN('W6'!P45, 9)","v":"000000000"},{"$f":"DEC2BIN('W6'!Q45, 9)","v":"000000000"},{"$f":"DEC2BIN('W6'!R45, 9)","v":"000000000"},{"$f":"DEC2BIN('W6'!S45, 9)","v":"000000000"},{"$f":"DEC2BIN('W6'!T45, 9)","v":"000000000"},{"$f":"DEC2BIN('W6'!U45, 9)","v":"000000000"},{"$f":"DEC2BIN('W6'!V45, 9)","v":"000000000"},{"$f":"DEC2BIN('W6'!W45, 9)","v":"000000000"},{"$f":"DEC2BIN('W6'!X45, 9)","v":"000000000"},{"$f":"DEC2BIN('W6'!Y45, 9)","v":"000000000"},{"$f":"DEC2BIN('W6'!Z45, 9)","v":"000000000"},{"$f":"DEC2BIN('W6'!AA45, 9)","v":"000000000"},{"$f":"DEC2BIN('W6'!AB45, 9)","v":"000000000"},{"$f":"DEC2BIN('W6'!AC45, 9)","v":"000000000"},{"$f":"DEC2BIN('W6'!AD45, 9)","v":"000000000"},{"$f":"DEC2BIN('W6'!AE45, 9)","v":"000000000"},{"$f":"DEC2BIN('W6'!AF45, 9)","v":"000000000"},{"$f":"DEC2BIN('W6'!AG45, 9)","v":"000000000"},{"$f":"DEC2BIN('W6'!AH45, 9)","v":"000000000"},{"$f":"DEC2BIN('W6'!AI45, 9)","v":"000000000"},{"$f":"DEC2BIN('W6'!AJ45, 9)","v":"000000000"},{"$f":"DEC2BIN('W6'!AK45, 9)","v":"000000000"},{"$f":"DEC2BIN('W6'!AL45, 9)","v":"000000000"},{"$f":"DEC2BIN('W6'!AM45, 9)","v":"000000000"},{"$f":"DEC2BIN('W6'!AN45, 9)","v":"000000000"},{"$f":"DEC2BIN('W6'!AO45, 9)","v":"000000000"},{"$f":"DEC2BIN('W6'!AP45, 9)","v":"000000000"},{"$f":"DEC2BIN('W6'!AQ45, 9)","v":"000000000"}]
[{"$f":"DEC2BIN('W6'!A46, 9)","v":"000101101"},{"$f":"DEC2BIN('W6'!B46, 9)","v":"000110110"},{"$f":"DEC2BIN('W6'!C46, 9)","v":"1111100011"},{"$f":"DEC2BIN('W6'!D46, 9)","v":"1111111001"},{"$f":"DEC2BIN('W6'!E46, 9)","v":"000111010"},{"$f":"DEC2BIN('W6'!F46, 9)","v":"1110011000"},{"$f":"DEC2BIN('W6'!G46, 9)","v":"1110111110"},{"$f":"DEC2BIN('W6'!H46, 9)","v":"1111000101"},{"$f":"DEC2BIN('W6'!I46, 9)","v":"1111010001"},{"$f":"DEC2BIN('W6'!J46, 9)","v":"1110110010"},{"$f":"DEC2BIN('W6'!K46, 9)","v":"000000000"},{"$f":"DEC2BIN('W6'!L46, 9)","v":"000000000"},{"$f":"DEC2BIN('W6'!M46, 9)","v":"000000000"},{"$f":"DEC2BIN('W6'!N46, 9)","v":"000000000"},{"$f":"DEC2BIN('W6'!O46, 9)","v":"000000000"},{"$f":"DEC2BIN('W6'!P46, 9)","v":"000000000"},{"$f":"DEC2BIN('W6'!Q46, 9)","v":"000000000"},{"$f":"DEC2BIN('W6'!R46, 9)","v":"000000000"},{"$f":"DEC2BIN('W6'!S46, 9)","v":"000000000"},{"$f":"DEC2BIN('W6'!T46, 9)","v":"000000000"},{"$f":"DEC2BIN('W6'!U46, 9)","v":"000000000"},{"$f":"DEC2BIN('W6'!V46, 9)","v":"000000000"},{"$f":"DEC2BIN('W6'!W46, 9)","v":"000000000"},{"$f":"DEC2BIN('W6'!X46, 9)","v":"000000000"},{"$f":"DEC2BIN('W6'!Y46, 9)","v":"000000000"},{"$f":"DEC2BIN('W6'!Z46, 9)","v":"000000000"},{"$f":"DEC2BIN('W6'!AA46, 9)","v":"000000000"},{"$f":"DEC2BIN('W6'!AB46, 9)","v":"000000000"},{"$f":"DEC2BIN('W6'!AC46, 9)","v":"000000000"},{"$f":"DEC2BIN('W6'!AD46, 9)","v":"000000000"},{"$f":"DEC2BIN('W6'!AE46, 9)","v":"000000000"},{"$f":"DEC2BIN('W6'!AF46, 9)","v":"000000000"},{"$f":"DEC2BIN('W6'!AG46, 9)","v":"000000000"},{"$f":"DEC2BIN('W6'!AH46, 9)","v":"000000000"},{"$f":"DEC2BIN('W6'!AI46, 9)","v":"000000000"},{"$f":"DEC2BIN('W6'!AJ46, 9)","v":"000000000"},{"$f":"DEC2BIN('W6'!AK46, 9)","v":"000000000"},{"$f":"DEC2BIN('W6'!AL46, 9)","v":"000000000"},{"$f":"DEC2BIN('W6'!AM46, 9)","v":"000000000"},{"$f":"DEC2BIN('W6'!AN46, 9)","v":"000000000"},{"$f":"DEC2BIN('W6'!AO46, 9)","v":"000000000"},{"$f":"DEC2BIN('W6'!AP46, 9)","v":"000000000"},{"$f":"DEC2BIN('W6'!AQ46, 9)","v":"000000000"}]
[{"$f":"DEC2BIN('W6'!A47, 9)","v":"1110111001"},{"$f":"DEC2BIN('W6'!B47, 9)","v":"1111010010"},{"$f":"DEC2BIN('W6'!C47, 9)","v":"1111000001"},{"$f":"DEC2BIN('W6'!D47, 9)","v":"000101100"},{"$f":"DEC2BIN('W6'!E47, 9)","v":"000001101"},{"$f":"DEC2BIN('W6'!F47, 9)","v":"000110000"},{"$f":"DEC2BIN('W6'!G47, 9)","v":"000101101"},{"$f":"DEC2BIN('W6'!H47, 9)","v":"1111011111"},{"$f":"DEC2BIN('W6'!I47, 9)","v":"000100000"},{"$f":"DEC2BIN('W6'!J47, 9)","v":"001001000"},{"$f":"DEC2BIN('W6'!K47, 9)","v":"000000000"},{"$f":"DEC2BIN('W6'!L47, 9)","v":"000000000"},{"$f":"DEC2BIN('W6'!M47, 9)","v":"000000000"},{"$f":"DEC2BIN('W6'!N47, 9)","v":"000000000"},{"$f":"DEC2BIN('W6'!O47, 9)","v":"000000000"},{"$f":"DEC2BIN('W6'!P47, 9)","v":"000000000"},{"$f":"DEC2BIN('W6'!Q47, 9)","v":"000000000"},{"$f":"DEC2BIN('W6'!R47, 9)","v":"000000000"},{"$f":"DEC2BIN('W6'!S47, 9)","v":"000000000"},{"$f":"DEC2BIN('W6'!T47, 9)","v":"000000000"},{"$f":"DEC2BIN('W6'!U47, 9)","v":"000000000"},{"$f":"DEC2BIN('W6'!V47, 9)","v":"000000000"},{"$f":"DEC2BIN('W6'!W47, 9)","v":"000000000"},{"$f":"DEC2BIN('W6'!X47, 9)","v":"000000000"},{"$f":"DEC2BIN('W6'!Y47, 9)","v":"000000000"},{"$f":"DEC2BIN('W6'!Z47, 9)","v":"000000000"},{"$f":"DEC2BIN('W6'!AA47, 9)","v":"000000000"},{"$f":"DEC2BIN('W6'!AB47, 9)","v":"000000000"},{"$f":"DEC2BIN('W6'!AC47, 9)","v":"000000000"},{"$f":"DEC2BIN('W6'!AD47, 9)","v":"000000000"},{"$f":"DEC2BIN('W6'!AE47, 9)","v":"000000000"},{"$f":"DEC2BIN('W6'!AF47, 9)","v":"000000000"},{"$f":"DEC2BIN('W6'!AG47, 9)","v":"000000000"},{"$f":"DEC2BIN('W6'!AH47, 9)","v":"000000000"},{"$f":"DEC2BIN('W6'!AI47, 9)","v":"000000000"},{"$f":"DEC2BIN('W6'!AJ47, 9)","v":"000000000"},{"$f":"DEC2BIN('W6'!AK47, 9)","v":"000000000"},{"$f":"DEC2BIN('W6'!AL47, 9)","v":"000000000"},{"$f":"DEC2BIN('W6'!AM47, 9)","v":"000000000"},{"$f":"DEC2BIN('W6'!AN47, 9)","v":"000000000"},{"$f":"DEC2BIN('W6'!AO47, 9)","v":"000000000"},{"$f":"DEC2BIN('W6'!AP47, 9)","v":"000000000"},{"$f":"DEC2BIN('W6'!AQ47, 9)","v":"000000000"}]
[{"$f":"DEC2BIN('W6'!A48, 9)","v":"001001011"},{"$f":"DEC2BIN('W6'!B48, 9)","v":"000001010"},{"$f":"DEC2BIN('W6'!C48, 9)","v":"000011001"},{"$f":"DEC2BIN('W6'!D48, 9)","v":"1111011001"},{"$f":"DEC2BIN('W6'!E48, 9)","v":"1111100010"},{"$f":"DEC2BIN('W6'!F48, 9)","v":"1110111000"},{"$f":"DEC2BIN('W6'!G48, 9)","v":"1111001000"},{"$f":"DEC2BIN('W6'!H48, 9)","v":"1111110111"},{"$f":"DEC2BIN('W6'!I48, 9)","v":"1111001101"},{"$f":"DEC2BIN('W6'!J48, 9)","v":"1111101011"},{"$f":"DEC2BIN('W6'!K48, 9)","v":"000000000"},{"$f":"DEC2BIN('W6'!L48, 9)","v":"000000000"},{"$f":"DEC2BIN('W6'!M48, 9)","v":"000000000"},{"$f":"DEC2BIN('W6'!N48, 9)","v":"000000000"},{"$f":"DEC2BIN('W6'!O48, 9)","v":"000000000"},{"$f":"DEC2BIN('W6'!P48, 9)","v":"000000000"},{"$f":"DEC2BIN('W6'!Q48, 9)","v":"000000000"},{"$f":"DEC2BIN('W6'!R48, 9)","v":"000000000"},{"$f":"DEC2BIN('W6'!S48, 9)","v":"000000000"},{"$f":"DEC2BIN('W6'!T48, 9)","v":"000000000"},{"$f":"DEC2BIN('W6'!U48, 9)","v":"000000000"},{"$f":"DEC2BIN('W6'!V48, 9)","v":"000000000"},{"$f":"DEC2BIN('W6'!W48, 9)","v":"000000000"},{"$f":"DEC2BIN('W6'!X48, 9)","v":"000000000"},{"$f":"DEC2BIN('W6'!Y48, 9)","v":"000000000"},{"$f":"DEC2BIN('W6'!Z48, 9)","v":"000000000"},{"$f":"DEC2BIN('W6'!AA48, 9)","v":"000000000"},{"$f":"DEC2BIN('W6'!AB48, 9)","v":"000000000"},{"$f":"DEC2BIN('W6'!AC48, 9)","v":"000000000"},{"$f":"DEC2BIN('W6'!AD48, 9)","v":"000000000"},{"$f":"DEC2BIN('W6'!AE48, 9)","v":"000000000"},{"$f":"DEC2BIN('W6'!AF48, 9)","v":"000000000"},{"$f":"DEC2BIN('W6'!AG48, 9)","v":"000000000"},{"$f":"DEC2BIN('W6'!AH48, 9)","v":"000000000"},{"$f":"DEC2BIN('W6'!AI48, 9)","v":"000000000"},{"$f":"DEC2BIN('W6'!AJ48, 9)","v":"000000000"},{"$f":"DEC2BIN('W6'!AK48, 9)","v":"000000000"},{"$f":"DEC2BIN('W6'!AL48, 9)","v":"000000000"},{"$f":"DEC2BIN('W6'!AM48, 9)","v":"000000000"},{"$f":"DEC2BIN('W6'!AN48, 9)","v":"000000000"},{"$f":"DEC2BIN('W6'!AO48, 9)","v":"000000000"},{"$f":"DEC2BIN('W6'!AP48, 9)","v":"000000000"},{"$f":"DEC2BIN('W6'!AQ48, 9)","v":"000000000"}]
[{"$f":"DEC2BIN('W6'!A49, 9)","v":"000101101"},{"$f":"DEC2BIN('W6'!B49, 9)","v":"000101111"},{"$f":"DEC2BIN('W6'!C49, 9)","v":"000000110"},{"$f":"DEC2BIN('W6'!D49, 9)","v":"000111110"},{"$f":"DEC2BIN('W6'!E49, 9)","v":"1110110101"},{"$f":"DEC2BIN('W6'!F49, 9)","v":"1111101101"},{"$f":"DEC2BIN('W6'!G49, 9)","v":"1110111011"},{"$f":"DEC2BIN('W6'!H49, 9)","v":"1111001010"},{"$f":"DEC2BIN('W6'!I49, 9)","v":"1111101111"},{"$f":"DEC2BIN('W6'!J49, 9)","v":"000110110"},{"$f":"DEC2BIN('W6'!K49, 9)","v":"000000000"},{"$f":"DEC2BIN('W6'!L49, 9)","v":"000000000"},{"$f":"DEC2BIN('W6'!M49, 9)","v":"000000000"},{"$f":"DEC2BIN('W6'!N49, 9)","v":"000000000"},{"$f":"DEC2BIN('W6'!O49, 9)","v":"000000000"},{"$f":"DEC2BIN('W6'!P49, 9)","v":"000000000"},{"$f":"DEC2BIN('W6'!Q49, 9)","v":"000000000"},{"$f":"DEC2BIN('W6'!R49, 9)","v":"000000000"},{"$f":"DEC2BIN('W6'!S49, 9)","v":"000000000"},{"$f":"DEC2BIN('W6'!T49, 9)","v":"000000000"},{"$f":"DEC2BIN('W6'!U49, 9)","v":"000000000"},{"$f":"DEC2BIN('W6'!V49, 9)","v":"000000000"},{"$f":"DEC2BIN('W6'!W49, 9)","v":"000000000"},{"$f":"DEC2BIN('W6'!X49, 9)","v":"000000000"},{"$f":"DEC2BIN('W6'!Y49, 9)","v":"000000000"},{"$f":"DEC2BIN('W6'!Z49, 9)","v":"000000000"},{"$f":"DEC2BIN('W6'!AA49, 9)","v":"000000000"},{"$f":"DEC2BIN('W6'!AB49, 9)","v":"000000000"},{"$f":"DEC2BIN('W6'!AC49, 9)","v":"000000000"},{"$f":"DEC2BIN('W6'!AD49, 9)","v":"000000000"},{"$f":"DEC2BIN('W6'!AE49, 9)","v":"000000000"},{"$f":"DEC2BIN('W6'!AF49, 9)","v":"000000000"},{"$f":"DEC2BIN('W6'!AG49, 9)","v":"000000000"},{"$f":"DEC2BIN('W6'!AH49, 9)","v":"000000000"},{"$f":"DEC2BIN('W6'!AI49, 9)","v":"000000000"},{"$f":"DEC2BIN('W6'!AJ49, 9)","v":"000000000"},{"$f":"DEC2BIN('W6'!AK49, 9)","v":"000000000"},{"$f":"DEC2BIN('W6'!AL49, 9)","v":"000000000"},{"$f":"DEC2BIN('W6'!AM49, 9)","v":"000000000"},{"$f":"DEC2BIN('W6'!AN49, 9)","v":"000000000"},{"$f":"DEC2BIN('W6'!AO49, 9)","v":"000000000"},{"$f":"DEC2BIN('W6'!AP49, 9)","v":"000000000"},{"$f":"DEC2BIN('W6'!AQ49, 9)","v":"000000000"}]
[{"$f":"DEC2BIN('W6'!A50, 9)","v":"1111100101"},{"$f":"DEC2BIN('W6'!B50, 9)","v":"000010101"},{"$f":"DEC2BIN('W6'!C50, 9)","v":"000000000"},{"$f":"DEC2BIN('W6'!D50, 9)","v":"000110010"},{"$f":"DEC2BIN('W6'!E50, 9)","v":"1111110110"},{"$f":"DEC2BIN('W6'!F50, 9)","v":"1111111011"},{"$f":"DEC2BIN('W6'!G50, 9)","v":"1111000001"},{"$f":"DEC2BIN('W6'!H50, 9)","v":"1111011100"},{"$f":"DEC2BIN('W6'!I50, 9)","v":"1111101110"},{"$f":"DEC2BIN('W6'!J50, 9)","v":"1111011100"},{"$f":"DEC2BIN('W6'!K50, 9)","v":"000000000"},{"$f":"DEC2BIN('W6'!L50, 9)","v":"000000000"},{"$f":"DEC2BIN('W6'!M50, 9)","v":"000000000"},{"$f":"DEC2BIN('W6'!N50, 9)","v":"000000000"},{"$f":"DEC2BIN('W6'!O50, 9)","v":"000000000"},{"$f":"DEC2BIN('W6'!P50, 9)","v":"000000000"},{"$f":"DEC2BIN('W6'!Q50, 9)","v":"000000000"},{"$f":"DEC2BIN('W6'!R50, 9)","v":"000000000"},{"$f":"DEC2BIN('W6'!S50, 9)","v":"000000000"},{"$f":"DEC2BIN('W6'!T50, 9)","v":"000000000"},{"$f":"DEC2BIN('W6'!U50, 9)","v":"000000000"},{"$f":"DEC2BIN('W6'!V50, 9)","v":"000000000"},{"$f":"DEC2BIN('W6'!W50, 9)","v":"000000000"},{"$f":"DEC2BIN('W6'!X50, 9)","v":"000000000"},{"$f":"DEC2BIN('W6'!Y50, 9)","v":"000000000"},{"$f":"DEC2BIN('W6'!Z50, 9)","v":"000000000"},{"$f":"DEC2BIN('W6'!AA50, 9)","v":"000000000"},{"$f":"DEC2BIN('W6'!AB50, 9)","v":"000000000"},{"$f":"DEC2BIN('W6'!AC50, 9)","v":"000000000"},{"$f":"DEC2BIN('W6'!AD50, 9)","v":"000000000"},{"$f":"DEC2BIN('W6'!AE50, 9)","v":"000000000"},{"$f":"DEC2BIN('W6'!AF50, 9)","v":"000000000"},{"$f":"DEC2BIN('W6'!AG50, 9)","v":"000000000"},{"$f":"DEC2BIN('W6'!AH50, 9)","v":"000000000"},{"$f":"DEC2BIN('W6'!AI50, 9)","v":"000000000"},{"$f":"DEC2BIN('W6'!AJ50, 9)","v":"000000000"},{"$f":"DEC2BIN('W6'!AK50, 9)","v":"000000000"},{"$f":"DEC2BIN('W6'!AL50, 9)","v":"000000000"},{"$f":"DEC2BIN('W6'!AM50, 9)","v":"000000000"},{"$f":"DEC2BIN('W6'!AN50, 9)","v":"000000000"},{"$f":"DEC2BIN('W6'!AO50, 9)","v":"000000000"},{"$f":"DEC2BIN('W6'!AP50, 9)","v":"000000000"},{"$f":"DEC2BIN('W6'!AQ50, 9)","v":"000000000"}]
[{"$f":"DEC2BIN('W6'!A51, 9)","v":"000000111"},{"$f":"DEC2BIN('W6'!B51, 9)","v":"1111010011"},{"$f":"DEC2BIN('W6'!C51, 9)","v":"1111001000"},{"$f":"DEC2BIN('W6'!D51, 9)","v":"1110011101"},{"$f":"DEC2BIN('W6'!E51, 9)","v":"1111110110"},{"$f":"DEC2BIN('W6'!F51, 9)","v":"1111010011"},{"$f":"DEC2BIN('W6'!G51, 9)","v":"1111100101"},{"$f":"DEC2BIN('W6'!H51, 9)","v":"000001111"},{"$f":"DEC2BIN('W6'!I51, 9)","v":"000010101"},{"$f":"DEC2BIN('W6'!J51, 9)","v":"1111010010"},{"$f":"DEC2BIN('W6'!K51, 9)","v":"000000000"},{"$f":"DEC2BIN('W6'!L51, 9)","v":"000000000"},{"$f":"DEC2BIN('W6'!M51, 9)","v":"000000000"},{"$f":"DEC2BIN('W6'!N51, 9)","v":"000000000"},{"$f":"DEC2BIN('W6'!O51, 9)","v":"000000000"},{"$f":"DEC2BIN('W6'!P51, 9)","v":"000000000"},{"$f":"DEC2BIN('W6'!Q51, 9)","v":"000000000"},{"$f":"DEC2BIN('W6'!R51, 9)","v":"000000000"},{"$f":"DEC2BIN('W6'!S51, 9)","v":"000000000"},{"$f":"DEC2BIN('W6'!T51, 9)","v":"000000000"},{"$f":"DEC2BIN('W6'!U51, 9)","v":"000000000"},{"$f":"DEC2BIN('W6'!V51, 9)","v":"000000000"},{"$f":"DEC2BIN('W6'!W51, 9)","v":"000000000"},{"$f":"DEC2BIN('W6'!X51, 9)","v":"000000000"},{"$f":"DEC2BIN('W6'!Y51, 9)","v":"000000000"},{"$f":"DEC2BIN('W6'!Z51, 9)","v":"000000000"},{"$f":"DEC2BIN('W6'!AA51, 9)","v":"000000000"},{"$f":"DEC2BIN('W6'!AB51, 9)","v":"000000000"},{"$f":"DEC2BIN('W6'!AC51, 9)","v":"000000000"},{"$f":"DEC2BIN('W6'!AD51, 9)","v":"000000000"},{"$f":"DEC2BIN('W6'!AE51, 9)","v":"000000000"},{"$f":"DEC2BIN('W6'!AF51, 9)","v":"000000000"},{"$f":"DEC2BIN('W6'!AG51, 9)","v":"000000000"},{"$f":"DEC2BIN('W6'!AH51, 9)","v":"000000000"},{"$f":"DEC2BIN('W6'!AI51, 9)","v":"000000000"},{"$f":"DEC2BIN('W6'!AJ51, 9)","v":"000000000"},{"$f":"DEC2BIN('W6'!AK51, 9)","v":"000000000"},{"$f":"DEC2BIN('W6'!AL51, 9)","v":"000000000"},{"$f":"DEC2BIN('W6'!AM51, 9)","v":"000000000"},{"$f":"DEC2BIN('W6'!AN51, 9)","v":"000000000"},{"$f":"DEC2BIN('W6'!AO51, 9)","v":"000000000"},{"$f":"DEC2BIN('W6'!AP51, 9)","v":"000000000"},{"$f":"DEC2BIN('W6'!AQ51, 9)","v":"000000000"}]
[{"$f":"DEC2BIN('W6'!A52, 9)","v":"1110000100"},{"$f":"DEC2BIN('W6'!B52, 9)","v":"1110101100"},{"$f":"DEC2BIN('W6'!C52, 9)","v":"000101000"},{"$f":"DEC2BIN('W6'!D52, 9)","v":"000101001"},{"$f":"DEC2BIN('W6'!E52, 9)","v":"1110110011"},{"$f":"DEC2BIN('W6'!F52, 9)","v":"000110011"},{"$f":"DEC2BIN('W6'!G52, 9)","v":"1110110011"},{"$f":"DEC2BIN('W6'!H52, 9)","v":"1111111111"},{"$f":"DEC2BIN('W6'!I52, 9)","v":"000011110"},{"$f":"DEC2BIN('W6'!J52, 9)","v":"1111100101"},{"$f":"DEC2BIN('W6'!K52, 9)","v":"000000000"},{"$f":"DEC2BIN('W6'!L52, 9)","v":"000000000"},{"$f":"DEC2BIN('W6'!M52, 9)","v":"000000000"},{"$f":"DEC2BIN('W6'!N52, 9)","v":"000000000"},{"$f":"DEC2BIN('W6'!O52, 9)","v":"000000000"},{"$f":"DEC2BIN('W6'!P52, 9)","v":"000000000"},{"$f":"DEC2BIN('W6'!Q52, 9)","v":"000000000"},{"$f":"DEC2BIN('W6'!R52, 9)","v":"000000000"},{"$f":"DEC2BIN('W6'!S52, 9)","v":"000000000"},{"$f":"DEC2BIN('W6'!T52, 9)","v":"000000000"},{"$f":"DEC2BIN('W6'!U52, 9)","v":"000000000"},{"$f":"DEC2BIN('W6'!V52, 9)","v":"000000000"},{"$f":"DEC2BIN('W6'!W52, 9)","v":"000000000"},{"$f":"DEC2BIN('W6'!X52, 9)","v":"000000000"},{"$f":"DEC2BIN('W6'!Y52, 9)","v":"000000000"},{"$f":"DEC2BIN('W6'!Z52, 9)","v":"000000000"},{"$f":"DEC2BIN('W6'!AA52, 9)","v":"000000000"},{"$f":"DEC2BIN('W6'!AB52, 9)","v":"000000000"},{"$f":"DEC2BIN('W6'!AC52, 9)","v":"000000000"},{"$f":"DEC2BIN('W6'!AD52, 9)","v":"000000000"},{"$f":"DEC2BIN('W6'!AE52, 9)","v":"000000000"},{"$f":"DEC2BIN('W6'!AF52, 9)","v":"000000000"},{"$f":"DEC2BIN('W6'!AG52, 9)","v":"000000000"},{"$f":"DEC2BIN('W6'!AH52, 9)","v":"000000000"},{"$f":"DEC2BIN('W6'!AI52, 9)","v":"000000000"},{"$f":"DEC2BIN('W6'!AJ52, 9)","v":"000000000"},{"$f":"DEC2BIN('W6'!AK52, 9)","v":"000000000"},{"$f":"DEC2BIN('W6'!AL52, 9)","v":"000000000"},{"$f":"DEC2BIN('W6'!AM52, 9)","v":"000000000"},{"$f":"DEC2BIN('W6'!AN52, 9)","v":"000000000"},{"$f":"DEC2BIN('W6'!AO52, 9)","v":"000000000"},{"$f":"DEC2BIN('W6'!AP52, 9)","v":"000000000"},{"$f":"DEC2BIN('W6'!AQ52, 9)","v":"000000000"}]
[{"$f":"DEC2BIN('W6'!A53, 9)","v":"1111110011"},{"$f":"DEC2BIN('W6'!B53, 9)","v":"1111100110"},{"$f":"DEC2BIN('W6'!C53, 9)","v":"1110110111"},{"$f":"DEC2BIN('W6'!D53, 9)","v":"1111001001"},{"$f":"DEC2BIN('W6'!E53, 9)","v":"1110101101"},{"$f":"DEC2BIN('W6'!F53, 9)","v":"000101001"},{"$f":"DEC2BIN('W6'!G53, 9)","v":"000011111"},{"$f":"DEC2BIN('W6'!H53, 9)","v":"1111111111"},{"$f":"DEC2BIN('W6'!I53, 9)","v":"1111000011"},{"$f":"DEC2BIN('W6'!J53, 9)","v":"000010110"},{"$f":"DEC2BIN('W6'!K53, 9)","v":"000000000"},{"$f":"DEC2BIN('W6'!L53, 9)","v":"000000000"},{"$f":"DEC2BIN('W6'!M53, 9)","v":"000000000"},{"$f":"DEC2BIN('W6'!N53, 9)","v":"000000000"},{"$f":"DEC2BIN('W6'!O53, 9)","v":"000000000"},{"$f":"DEC2BIN('W6'!P53, 9)","v":"000000000"},{"$f":"DEC2BIN('W6'!Q53, 9)","v":"000000000"},{"$f":"DEC2BIN('W6'!R53, 9)","v":"000000000"},{"$f":"DEC2BIN('W6'!S53, 9)","v":"000000000"},{"$f":"DEC2BIN('W6'!T53, 9)","v":"000000000"},{"$f":"DEC2BIN('W6'!U53, 9)","v":"000000000"},{"$f":"DEC2BIN('W6'!V53, 9)","v":"000000000"},{"$f":"DEC2BIN('W6'!W53, 9)","v":"000000000"},{"$f":"DEC2BIN('W6'!X53, 9)","v":"000000000"},{"$f":"DEC2BIN('W6'!Y53, 9)","v":"000000000"},{"$f":"DEC2BIN('W6'!Z53, 9)","v":"000000000"},{"$f":"DEC2BIN('W6'!AA53, 9)","v":"000000000"},{"$f":"DEC2BIN('W6'!AB53, 9)","v":"000000000"},{"$f":"DEC2BIN('W6'!AC53, 9)","v":"000000000"},{"$f":"DEC2BIN('W6'!AD53, 9)","v":"000000000"},{"$f":"DEC2BIN('W6'!AE53, 9)","v":"000000000"},{"$f":"DEC2BIN('W6'!AF53, 9)","v":"000000000"},{"$f":"DEC2BIN('W6'!AG53, 9)","v":"000000000"},{"$f":"DEC2BIN('W6'!AH53, 9)","v":"000000000"},{"$f":"DEC2BIN('W6'!AI53, 9)","v":"000000000"},{"$f":"DEC2BIN('W6'!AJ53, 9)","v":"000000000"},{"$f":"DEC2BIN('W6'!AK53, 9)","v":"000000000"},{"$f":"DEC2BIN('W6'!AL53, 9)","v":"000000000"},{"$f":"DEC2BIN('W6'!AM53, 9)","v":"000000000"},{"$f":"DEC2BIN('W6'!AN53, 9)","v":"000000000"},{"$f":"DEC2BIN('W6'!AO53, 9)","v":"000000000"},{"$f":"DEC2BIN('W6'!AP53, 9)","v":"000000000"},{"$f":"DEC2BIN('W6'!AQ53, 9)","v":"000000000"}]
[{"$f":"DEC2BIN('W6'!A54, 9)","v":"1111100010"},{"$f":"DEC2BIN('W6'!B54, 9)","v":"1111100011"},{"$f":"DEC2BIN('W6'!C54, 9)","v":"000000101"},{"$f":"DEC2BIN('W6'!D54, 9)","v":"000011001"},{"$f":"DEC2BIN('W6'!E54, 9)","v":"000000110"},{"$f":"DEC2BIN('W6'!F54, 9)","v":"000101110"},{"$f":"DEC2BIN('W6'!G54, 9)","v":"000100001"},{"$f":"DEC2BIN('W6'!H54, 9)","v":"000000001"},{"$f":"DEC2BIN('W6'!I54, 9)","v":"1111001011"},{"$f":"DEC2BIN('W6'!J54, 9)","v":"000101001"},{"$f":"DEC2BIN('W6'!K54, 9)","v":"000000000"},{"$f":"DEC2BIN('W6'!L54, 9)","v":"000000000"},{"$f":"DEC2BIN('W6'!M54, 9)","v":"000000000"},{"$f":"DEC2BIN('W6'!N54, 9)","v":"000000000"},{"$f":"DEC2BIN('W6'!O54, 9)","v":"000000000"},{"$f":"DEC2BIN('W6'!P54, 9)","v":"000000000"},{"$f":"DEC2BIN('W6'!Q54, 9)","v":"000000000"},{"$f":"DEC2BIN('W6'!R54, 9)","v":"000000000"},{"$f":"DEC2BIN('W6'!S54, 9)","v":"000000000"},{"$f":"DEC2BIN('W6'!T54, 9)","v":"000000000"},{"$f":"DEC2BIN('W6'!U54, 9)","v":"000000000"},{"$f":"DEC2BIN('W6'!V54, 9)","v":"000000000"},{"$f":"DEC2BIN('W6'!W54, 9)","v":"000000000"},{"$f":"DEC2BIN('W6'!X54, 9)","v":"000000000"},{"$f":"DEC2BIN('W6'!Y54, 9)","v":"000000000"},{"$f":"DEC2BIN('W6'!Z54, 9)","v":"000000000"},{"$f":"DEC2BIN('W6'!AA54, 9)","v":"000000000"},{"$f":"DEC2BIN('W6'!AB54, 9)","v":"000000000"},{"$f":"DEC2BIN('W6'!AC54, 9)","v":"000000000"},{"$f":"DEC2BIN('W6'!AD54, 9)","v":"000000000"},{"$f":"DEC2BIN('W6'!AE54, 9)","v":"000000000"},{"$f":"DEC2BIN('W6'!AF54, 9)","v":"000000000"},{"$f":"DEC2BIN('W6'!AG54, 9)","v":"000000000"},{"$f":"DEC2BIN('W6'!AH54, 9)","v":"000000000"},{"$f":"DEC2BIN('W6'!AI54, 9)","v":"000000000"},{"$f":"DEC2BIN('W6'!AJ54, 9)","v":"000000000"},{"$f":"DEC2BIN('W6'!AK54, 9)","v":"000000000"},{"$f":"DEC2BIN('W6'!AL54, 9)","v":"000000000"},{"$f":"DEC2BIN('W6'!AM54, 9)","v":"000000000"},{"$f":"DEC2BIN('W6'!AN54, 9)","v":"000000000"},{"$f":"DEC2BIN('W6'!AO54, 9)","v":"000000000"},{"$f":"DEC2BIN('W6'!AP54, 9)","v":"000000000"},{"$f":"DEC2BIN('W6'!AQ54, 9)","v":"000000000"}]
[{"$f":"DEC2BIN('W6'!A55, 9)","v":"1110100111"},{"$f":"DEC2BIN('W6'!B55, 9)","v":"1111100010"},{"$f":"DEC2BIN('W6'!C55, 9)","v":"1111010000"},{"$f":"DEC2BIN('W6'!D55, 9)","v":"000011110"},{"$f":"DEC2BIN('W6'!E55, 9)","v":"000100011"},{"$f":"DEC2BIN('W6'!F55, 9)","v":"000101010"},{"$f":"DEC2BIN('W6'!G55, 9)","v":"1111010010"},{"$f":"DEC2BIN('W6'!H55, 9)","v":"000010010"},{"$f":"DEC2BIN('W6'!I55, 9)","v":"000100110"},{"$f":"DEC2BIN('W6'!J55, 9)","v":"1110100111"},{"$f":"DEC2BIN('W6'!K55, 9)","v":"000000000"},{"$f":"DEC2BIN('W6'!L55, 9)","v":"000000000"},{"$f":"DEC2BIN('W6'!M55, 9)","v":"000000000"},{"$f":"DEC2BIN('W6'!N55, 9)","v":"000000000"},{"$f":"DEC2BIN('W6'!O55, 9)","v":"000000000"},{"$f":"DEC2BIN('W6'!P55, 9)","v":"000000000"},{"$f":"DEC2BIN('W6'!Q55, 9)","v":"000000000"},{"$f":"DEC2BIN('W6'!R55, 9)","v":"000000000"},{"$f":"DEC2BIN('W6'!S55, 9)","v":"000000000"},{"$f":"DEC2BIN('W6'!T55, 9)","v":"000000000"},{"$f":"DEC2BIN('W6'!U55, 9)","v":"000000000"},{"$f":"DEC2BIN('W6'!V55, 9)","v":"000000000"},{"$f":"DEC2BIN('W6'!W55, 9)","v":"000000000"},{"$f":"DEC2BIN('W6'!X55, 9)","v":"000000000"},{"$f":"DEC2BIN('W6'!Y55, 9)","v":"000000000"},{"$f":"DEC2BIN('W6'!Z55, 9)","v":"000000000"},{"$f":"DEC2BIN('W6'!AA55, 9)","v":"000000000"},{"$f":"DEC2BIN('W6'!AB55, 9)","v":"000000000"},{"$f":"DEC2BIN('W6'!AC55, 9)","v":"000000000"},{"$f":"DEC2BIN('W6'!AD55, 9)","v":"000000000"},{"$f":"DEC2BIN('W6'!AE55, 9)","v":"000000000"},{"$f":"DEC2BIN('W6'!AF55, 9)","v":"000000000"},{"$f":"DEC2BIN('W6'!AG55, 9)","v":"000000000"},{"$f":"DEC2BIN('W6'!AH55, 9)","v":"000000000"},{"$f":"DEC2BIN('W6'!AI55, 9)","v":"000000000"},{"$f":"DEC2BIN('W6'!AJ55, 9)","v":"000000000"},{"$f":"DEC2BIN('W6'!AK55, 9)","v":"000000000"},{"$f":"DEC2BIN('W6'!AL55, 9)","v":"000000000"},{"$f":"DEC2BIN('W6'!AM55, 9)","v":"000000000"},{"$f":"DEC2BIN('W6'!AN55, 9)","v":"000000000"},{"$f":"DEC2BIN('W6'!AO55, 9)","v":"000000000"},{"$f":"DEC2BIN('W6'!AP55, 9)","v":"000000000"},{"$f":"DEC2BIN('W6'!AQ55, 9)","v":"000000000"}]
[{"$f":"DEC2BIN('W6'!A56, 9)","v":"1111110101"},{"$f":"DEC2BIN('W6'!B56, 9)","v":"000100100"},{"$f":"DEC2BIN('W6'!C56, 9)","v":"000000010"},{"$f":"DEC2BIN('W6'!D56, 9)","v":"1111100010"},{"$f":"DEC2BIN('W6'!E56, 9)","v":"1111110110"},{"$f":"DEC2BIN('W6'!F56, 9)","v":"1111001101"},{"$f":"DEC2BIN('W6'!G56, 9)","v":"000000000"},{"$f":"DEC2BIN('W6'!H56, 9)","v":"000000001"},{"$f":"DEC2BIN('W6'!I56, 9)","v":"1111101100"},{"$f":"DEC2BIN('W6'!J56, 9)","v":"000101001"},{"$f":"DEC2BIN('W6'!K56, 9)","v":"000000000"},{"$f":"DEC2BIN('W6'!L56, 9)","v":"000000000"},{"$f":"DEC2BIN('W6'!M56, 9)","v":"000000000"},{"$f":"DEC2BIN('W6'!N56, 9)","v":"000000000"},{"$f":"DEC2BIN('W6'!O56, 9)","v":"000000000"},{"$f":"DEC2BIN('W6'!P56, 9)","v":"000000000"},{"$f":"DEC2BIN('W6'!Q56, 9)","v":"000000000"},{"$f":"DEC2BIN('W6'!R56, 9)","v":"000000000"},{"$f":"DEC2BIN('W6'!S56, 9)","v":"000000000"},{"$f":"DEC2BIN('W6'!T56, 9)","v":"000000000"},{"$f":"DEC2BIN('W6'!U56, 9)","v":"000000000"},{"$f":"DEC2BIN('W6'!V56, 9)","v":"000000000"},{"$f":"DEC2BIN('W6'!W56, 9)","v":"000000000"},{"$f":"DEC2BIN('W6'!X56, 9)","v":"000000000"},{"$f":"DEC2BIN('W6'!Y56, 9)","v":"000000000"},{"$f":"DEC2BIN('W6'!Z56, 9)","v":"000000000"},{"$f":"DEC2BIN('W6'!AA56, 9)","v":"000000000"},{"$f":"DEC2BIN('W6'!AB56, 9)","v":"000000000"},{"$f":"DEC2BIN('W6'!AC56, 9)","v":"000000000"},{"$f":"DEC2BIN('W6'!AD56, 9)","v":"000000000"},{"$f":"DEC2BIN('W6'!AE56, 9)","v":"000000000"},{"$f":"DEC2BIN('W6'!AF56, 9)","v":"000000000"},{"$f":"DEC2BIN('W6'!AG56, 9)","v":"000000000"},{"$f":"DEC2BIN('W6'!AH56, 9)","v":"000000000"},{"$f":"DEC2BIN('W6'!AI56, 9)","v":"000000000"},{"$f":"DEC2BIN('W6'!AJ56, 9)","v":"000000000"},{"$f":"DEC2BIN('W6'!AK56, 9)","v":"000000000"},{"$f":"DEC2BIN('W6'!AL56, 9)","v":"000000000"},{"$f":"DEC2BIN('W6'!AM56, 9)","v":"000000000"},{"$f":"DEC2BIN('W6'!AN56, 9)","v":"000000000"},{"$f":"DEC2BIN('W6'!AO56, 9)","v":"000000000"},{"$f":"DEC2BIN('W6'!AP56, 9)","v":"000000000"},{"$f":"DEC2BIN('W6'!AQ56, 9)","v":"000000000"}]
[{"$f":"DEC2BIN('W6'!A57, 9)","v":"1111101011"},{"$f":"DEC2BIN('W6'!B57, 9)","v":"000100000"},{"$f":"DEC2BIN('W6'!C57, 9)","v":"1111111010"},{"$f":"DEC2BIN('W6'!D57, 9)","v":"1111010011"},{"$f":"DEC2BIN('W6'!E57, 9)","v":"1111011101"},{"$f":"DEC2BIN('W6'!F57, 9)","v":"000001001"},{"$f":"DEC2BIN('W6'!G57, 9)","v":"000001011"},{"$f":"DEC2BIN('W6'!H57, 9)","v":"000110010"},{"$f":"DEC2BIN('W6'!I57, 9)","v":"1111110000"},{"$f":"DEC2BIN('W6'!J57, 9)","v":"1111101110"},{"$f":"DEC2BIN('W6'!K57, 9)","v":"000000000"},{"$f":"DEC2BIN('W6'!L57, 9)","v":"000000000"},{"$f":"DEC2BIN('W6'!M57, 9)","v":"000000000"},{"$f":"DEC2BIN('W6'!N57, 9)","v":"000000000"},{"$f":"DEC2BIN('W6'!O57, 9)","v":"000000000"},{"$f":"DEC2BIN('W6'!P57, 9)","v":"000000000"},{"$f":"DEC2BIN('W6'!Q57, 9)","v":"000000000"},{"$f":"DEC2BIN('W6'!R57, 9)","v":"000000000"},{"$f":"DEC2BIN('W6'!S57, 9)","v":"000000000"},{"$f":"DEC2BIN('W6'!T57, 9)","v":"000000000"},{"$f":"DEC2BIN('W6'!U57, 9)","v":"000000000"},{"$f":"DEC2BIN('W6'!V57, 9)","v":"000000000"},{"$f":"DEC2BIN('W6'!W57, 9)","v":"000000000"},{"$f":"DEC2BIN('W6'!X57, 9)","v":"000000000"},{"$f":"DEC2BIN('W6'!Y57, 9)","v":"000000000"},{"$f":"DEC2BIN('W6'!Z57, 9)","v":"000000000"},{"$f":"DEC2BIN('W6'!AA57, 9)","v":"000000000"},{"$f":"DEC2BIN('W6'!AB57, 9)","v":"000000000"},{"$f":"DEC2BIN('W6'!AC57, 9)","v":"000000000"},{"$f":"DEC2BIN('W6'!AD57, 9)","v":"000000000"},{"$f":"DEC2BIN('W6'!AE57, 9)","v":"000000000"},{"$f":"DEC2BIN('W6'!AF57, 9)","v":"000000000"},{"$f":"DEC2BIN('W6'!AG57, 9)","v":"000000000"},{"$f":"DEC2BIN('W6'!AH57, 9)","v":"000000000"},{"$f":"DEC2BIN('W6'!AI57, 9)","v":"000000000"},{"$f":"DEC2BIN('W6'!AJ57, 9)","v":"000000000"},{"$f":"DEC2BIN('W6'!AK57, 9)","v":"000000000"},{"$f":"DEC2BIN('W6'!AL57, 9)","v":"000000000"},{"$f":"DEC2BIN('W6'!AM57, 9)","v":"000000000"},{"$f":"DEC2BIN('W6'!AN57, 9)","v":"000000000"},{"$f":"DEC2BIN('W6'!AO57, 9)","v":"000000000"},{"$f":"DEC2BIN('W6'!AP57, 9)","v":"000000000"},{"$f":"DEC2BIN('W6'!AQ57, 9)","v":"000000000"}]
[{"$f":"DEC2BIN('W6'!A58, 9)","v":"000110000"},{"$f":"DEC2BIN('W6'!B58, 9)","v":"000101000"},{"$f":"DEC2BIN('W6'!C58, 9)","v":"1111111010"},{"$f":"DEC2BIN('W6'!D58, 9)","v":"000100011"},{"$f":"DEC2BIN('W6'!E58, 9)","v":"1111100001"},{"$f":"DEC2BIN('W6'!F58, 9)","v":"1111111000"},{"$f":"DEC2BIN('W6'!G58, 9)","v":"000111001"},{"$f":"DEC2BIN('W6'!H58, 9)","v":"000010110"},{"$f":"DEC2BIN('W6'!I58, 9)","v":"1110100001"},{"$f":"DEC2BIN('W6'!J58, 9)","v":"1110111111"},{"$f":"DEC2BIN('W6'!K58, 9)","v":"000000000"},{"$f":"DEC2BIN('W6'!L58, 9)","v":"000000000"},{"$f":"DEC2BIN('W6'!M58, 9)","v":"000000000"},{"$f":"DEC2BIN('W6'!N58, 9)","v":"000000000"},{"$f":"DEC2BIN('W6'!O58, 9)","v":"000000000"},{"$f":"DEC2BIN('W6'!P58, 9)","v":"000000000"},{"$f":"DEC2BIN('W6'!Q58, 9)","v":"000000000"},{"$f":"DEC2BIN('W6'!R58, 9)","v":"000000000"},{"$f":"DEC2BIN('W6'!S58, 9)","v":"000000000"},{"$f":"DEC2BIN('W6'!T58, 9)","v":"000000000"},{"$f":"DEC2BIN('W6'!U58, 9)","v":"000000000"},{"$f":"DEC2BIN('W6'!V58, 9)","v":"000000000"},{"$f":"DEC2BIN('W6'!W58, 9)","v":"000000000"},{"$f":"DEC2BIN('W6'!X58, 9)","v":"000000000"},{"$f":"DEC2BIN('W6'!Y58, 9)","v":"000000000"},{"$f":"DEC2BIN('W6'!Z58, 9)","v":"000000000"},{"$f":"DEC2BIN('W6'!AA58, 9)","v":"000000000"},{"$f":"DEC2BIN('W6'!AB58, 9)","v":"000000000"},{"$f":"DEC2BIN('W6'!AC58, 9)","v":"000000000"},{"$f":"DEC2BIN('W6'!AD58, 9)","v":"000000000"},{"$f":"DEC2BIN('W6'!AE58, 9)","v":"000000000"},{"$f":"DEC2BIN('W6'!AF58, 9)","v":"000000000"},{"$f":"DEC2BIN('W6'!AG58, 9)","v":"000000000"},{"$f":"DEC2BIN('W6'!AH58, 9)","v":"000000000"},{"$f":"DEC2BIN('W6'!AI58, 9)","v":"000000000"},{"$f":"DEC2BIN('W6'!AJ58, 9)","v":"000000000"},{"$f":"DEC2BIN('W6'!AK58, 9)","v":"000000000"},{"$f":"DEC2BIN('W6'!AL58, 9)","v":"000000000"},{"$f":"DEC2BIN('W6'!AM58, 9)","v":"000000000"},{"$f":"DEC2BIN('W6'!AN58, 9)","v":"000000000"},{"$f":"DEC2BIN('W6'!AO58, 9)","v":"000000000"},{"$f":"DEC2BIN('W6'!AP58, 9)","v":"000000000"},{"$f":"DEC2BIN('W6'!AQ58, 9)","v":"000000000"}]
[{"$f":"DEC2BIN('W6'!A59, 9)","v":"1111011010"},{"$f":"DEC2BIN('W6'!B59, 9)","v":"1111111010"},{"$f":"DEC2BIN('W6'!C59, 9)","v":"1111100011"},{"$f":"DEC2BIN('W6'!D59, 9)","v":"000101001"},{"$f":"DEC2BIN('W6'!E59, 9)","v":"1111110110"},{"$f":"DEC2BIN('W6'!F59, 9)","v":"000010101"},{"$f":"DEC2BIN('W6'!G59, 9)","v":"1111111111"},{"$f":"DEC2BIN('W6'!H59, 9)","v":"1111100010"},{"$f":"DEC2BIN('W6'!I59, 9)","v":"1111110101"},{"$f":"DEC2BIN('W6'!J59, 9)","v":"1111111010"},{"$f":"DEC2BIN('W6'!K59, 9)","v":"000000000"},{"$f":"DEC2BIN('W6'!L59, 9)","v":"000000000"},{"$f":"DEC2BIN('W6'!M59, 9)","v":"000000000"},{"$f":"DEC2BIN('W6'!N59, 9)","v":"000000000"},{"$f":"DEC2BIN('W6'!O59, 9)","v":"000000000"},{"$f":"DEC2BIN('W6'!P59, 9)","v":"000000000"},{"$f":"DEC2BIN('W6'!Q59, 9)","v":"000000000"},{"$f":"DEC2BIN('W6'!R59, 9)","v":"000000000"},{"$f":"DEC2BIN('W6'!S59, 9)","v":"000000000"},{"$f":"DEC2BIN('W6'!T59, 9)","v":"000000000"},{"$f":"DEC2BIN('W6'!U59, 9)","v":"000000000"},{"$f":"DEC2BIN('W6'!V59, 9)","v":"000000000"},{"$f":"DEC2BIN('W6'!W59, 9)","v":"000000000"},{"$f":"DEC2BIN('W6'!X59, 9)","v":"000000000"},{"$f":"DEC2BIN('W6'!Y59, 9)","v":"000000000"},{"$f":"DEC2BIN('W6'!Z59, 9)","v":"000000000"},{"$f":"DEC2BIN('W6'!AA59, 9)","v":"000000000"},{"$f":"DEC2BIN('W6'!AB59, 9)","v":"000000000"},{"$f":"DEC2BIN('W6'!AC59, 9)","v":"000000000"},{"$f":"DEC2BIN('W6'!AD59, 9)","v":"000000000"},{"$f":"DEC2BIN('W6'!AE59, 9)","v":"000000000"},{"$f":"DEC2BIN('W6'!AF59, 9)","v":"000000000"},{"$f":"DEC2BIN('W6'!AG59, 9)","v":"000000000"},{"$f":"DEC2BIN('W6'!AH59, 9)","v":"000000000"},{"$f":"DEC2BIN('W6'!AI59, 9)","v":"000000000"},{"$f":"DEC2BIN('W6'!AJ59, 9)","v":"000000000"},{"$f":"DEC2BIN('W6'!AK59, 9)","v":"000000000"},{"$f":"DEC2BIN('W6'!AL59, 9)","v":"000000000"},{"$f":"DEC2BIN('W6'!AM59, 9)","v":"000000000"},{"$f":"DEC2BIN('W6'!AN59, 9)","v":"000000000"},{"$f":"DEC2BIN('W6'!AO59, 9)","v":"000000000"},{"$f":"DEC2BIN('W6'!AP59, 9)","v":"000000000"},{"$f":"DEC2BIN('W6'!AQ59, 9)","v":"000000000"}]
[{"$f":"DEC2BIN('W6'!A60, 9)","v":"1111011001"},{"$f":"DEC2BIN('W6'!B60, 9)","v":"1111100010"},{"$f":"DEC2BIN('W6'!C60, 9)","v":"000001000"},{"$f":"DEC2BIN('W6'!D60, 9)","v":"1110111001"},{"$f":"DEC2BIN('W6'!E60, 9)","v":"000010110"},{"$f":"DEC2BIN('W6'!F60, 9)","v":"000010001"},{"$f":"DEC2BIN('W6'!G60, 9)","v":"000110001"},{"$f":"DEC2BIN('W6'!H60, 9)","v":"000000110"},{"$f":"DEC2BIN('W6'!I60, 9)","v":"000001011"},{"$f":"DEC2BIN('W6'!J60, 9)","v":"000010011"},{"$f":"DEC2BIN('W6'!K60, 9)","v":"000000000"},{"$f":"DEC2BIN('W6'!L60, 9)","v":"000000000"},{"$f":"DEC2BIN('W6'!M60, 9)","v":"000000000"},{"$f":"DEC2BIN('W6'!N60, 9)","v":"000000000"},{"$f":"DEC2BIN('W6'!O60, 9)","v":"000000000"},{"$f":"DEC2BIN('W6'!P60, 9)","v":"000000000"},{"$f":"DEC2BIN('W6'!Q60, 9)","v":"000000000"},{"$f":"DEC2BIN('W6'!R60, 9)","v":"000000000"},{"$f":"DEC2BIN('W6'!S60, 9)","v":"000000000"},{"$f":"DEC2BIN('W6'!T60, 9)","v":"000000000"},{"$f":"DEC2BIN('W6'!U60, 9)","v":"000000000"},{"$f":"DEC2BIN('W6'!V60, 9)","v":"000000000"},{"$f":"DEC2BIN('W6'!W60, 9)","v":"000000000"},{"$f":"DEC2BIN('W6'!X60, 9)","v":"000000000"},{"$f":"DEC2BIN('W6'!Y60, 9)","v":"000000000"},{"$f":"DEC2BIN('W6'!Z60, 9)","v":"000000000"},{"$f":"DEC2BIN('W6'!AA60, 9)","v":"000000000"},{"$f":"DEC2BIN('W6'!AB60, 9)","v":"000000000"},{"$f":"DEC2BIN('W6'!AC60, 9)","v":"000000000"},{"$f":"DEC2BIN('W6'!AD60, 9)","v":"000000000"},{"$f":"DEC2BIN('W6'!AE60, 9)","v":"000000000"},{"$f":"DEC2BIN('W6'!AF60, 9)","v":"000000000"},{"$f":"DEC2BIN('W6'!AG60, 9)","v":"000000000"},{"$f":"DEC2BIN('W6'!AH60, 9)","v":"000000000"},{"$f":"DEC2BIN('W6'!AI60, 9)","v":"000000000"},{"$f":"DEC2BIN('W6'!AJ60, 9)","v":"000000000"},{"$f":"DEC2BIN('W6'!AK60, 9)","v":"000000000"},{"$f":"DEC2BIN('W6'!AL60, 9)","v":"000000000"},{"$f":"DEC2BIN('W6'!AM60, 9)","v":"000000000"},{"$f":"DEC2BIN('W6'!AN60, 9)","v":"000000000"},{"$f":"DEC2BIN('W6'!AO60, 9)","v":"000000000"},{"$f":"DEC2BIN('W6'!AP60, 9)","v":"000000000"},{"$f":"DEC2BIN('W6'!AQ60, 9)","v":"000000000"}]
[{"$f":"DEC2BIN('W6'!A61, 9)","v":"000101110"},{"$f":"DEC2BIN('W6'!B61, 9)","v":"1111001001"},{"$f":"DEC2BIN('W6'!C61, 9)","v":"1111000111"},{"$f":"DEC2BIN('W6'!D61, 9)","v":"1111001100"},{"$f":"DEC2BIN('W6'!E61, 9)","v":"1110111111"},{"$f":"DEC2BIN('W6'!F61, 9)","v":"1110111111"},{"$f":"DEC2BIN('W6'!G61, 9)","v":"1111010111"},{"$f":"DEC2BIN('W6'!H61, 9)","v":"1111000011"},{"$f":"DEC2BIN('W6'!I61, 9)","v":"000011101"},{"$f":"DEC2BIN('W6'!J61, 9)","v":"1110101100"},{"$f":"DEC2BIN('W6'!K61, 9)","v":"000000000"},{"$f":"DEC2BIN('W6'!L61, 9)","v":"000000000"},{"$f":"DEC2BIN('W6'!M61, 9)","v":"000000000"},{"$f":"DEC2BIN('W6'!N61, 9)","v":"000000000"},{"$f":"DEC2BIN('W6'!O61, 9)","v":"000000000"},{"$f":"DEC2BIN('W6'!P61, 9)","v":"000000000"},{"$f":"DEC2BIN('W6'!Q61, 9)","v":"000000000"},{"$f":"DEC2BIN('W6'!R61, 9)","v":"000000000"},{"$f":"DEC2BIN('W6'!S61, 9)","v":"000000000"},{"$f":"DEC2BIN('W6'!T61, 9)","v":"000000000"},{"$f":"DEC2BIN('W6'!U61, 9)","v":"000000000"},{"$f":"DEC2BIN('W6'!V61, 9)","v":"000000000"},{"$f":"DEC2BIN('W6'!W61, 9)","v":"000000000"},{"$f":"DEC2BIN('W6'!X61, 9)","v":"000000000"},{"$f":"DEC2BIN('W6'!Y61, 9)","v":"000000000"},{"$f":"DEC2BIN('W6'!Z61, 9)","v":"000000000"},{"$f":"DEC2BIN('W6'!AA61, 9)","v":"000000000"},{"$f":"DEC2BIN('W6'!AB61, 9)","v":"000000000"},{"$f":"DEC2BIN('W6'!AC61, 9)","v":"000000000"},{"$f":"DEC2BIN('W6'!AD61, 9)","v":"000000000"},{"$f":"DEC2BIN('W6'!AE61, 9)","v":"000000000"},{"$f":"DEC2BIN('W6'!AF61, 9)","v":"000000000"},{"$f":"DEC2BIN('W6'!AG61, 9)","v":"000000000"},{"$f":"DEC2BIN('W6'!AH61, 9)","v":"000000000"},{"$f":"DEC2BIN('W6'!AI61, 9)","v":"000000000"},{"$f":"DEC2BIN('W6'!AJ61, 9)","v":"000000000"},{"$f":"DEC2BIN('W6'!AK61, 9)","v":"000000000"},{"$f":"DEC2BIN('W6'!AL61, 9)","v":"000000000"},{"$f":"DEC2BIN('W6'!AM61, 9)","v":"000000000"},{"$f":"DEC2BIN('W6'!AN61, 9)","v":"000000000"},{"$f":"DEC2BIN('W6'!AO61, 9)","v":"000000000"},{"$f":"DEC2BIN('W6'!AP61, 9)","v":"000000000"},{"$f":"DEC2BIN('W6'!AQ61, 9)","v":"000000000"}]
[{"$f":"DEC2BIN('W6'!A62, 9)","v":"1111001110"},{"$f":"DEC2BIN('W6'!B62, 9)","v":"1111100100"},{"$f":"DEC2BIN('W6'!C62, 9)","v":"000001000"},{"$f":"DEC2BIN('W6'!D62, 9)","v":"000010001"},{"$f":"DEC2BIN('W6'!E62, 9)","v":"1111001101"},{"$f":"DEC2BIN('W6'!F62, 9)","v":"000001101"},{"$f":"DEC2BIN('W6'!G62, 9)","v":"000000010"},{"$f":"DEC2BIN('W6'!H62, 9)","v":"1111111101"},{"$f":"DEC2BIN('W6'!I62, 9)","v":"1111110001"},{"$f":"DEC2BIN('W6'!J62, 9)","v":"1111010111"},{"$f":"DEC2BIN('W6'!K62, 9)","v":"000000000"},{"$f":"DEC2BIN('W6'!L62, 9)","v":"000000000"},{"$f":"DEC2BIN('W6'!M62, 9)","v":"000000000"},{"$f":"DEC2BIN('W6'!N62, 9)","v":"000000000"},{"$f":"DEC2BIN('W6'!O62, 9)","v":"000000000"},{"$f":"DEC2BIN('W6'!P62, 9)","v":"000000000"},{"$f":"DEC2BIN('W6'!Q62, 9)","v":"000000000"},{"$f":"DEC2BIN('W6'!R62, 9)","v":"000000000"},{"$f":"DEC2BIN('W6'!S62, 9)","v":"000000000"},{"$f":"DEC2BIN('W6'!T62, 9)","v":"000000000"},{"$f":"DEC2BIN('W6'!U62, 9)","v":"000000000"},{"$f":"DEC2BIN('W6'!V62, 9)","v":"000000000"},{"$f":"DEC2BIN('W6'!W62, 9)","v":"000000000"},{"$f":"DEC2BIN('W6'!X62, 9)","v":"000000000"},{"$f":"DEC2BIN('W6'!Y62, 9)","v":"000000000"},{"$f":"DEC2BIN('W6'!Z62, 9)","v":"000000000"},{"$f":"DEC2BIN('W6'!AA62, 9)","v":"000000000"},{"$f":"DEC2BIN('W6'!AB62, 9)","v":"000000000"},{"$f":"DEC2BIN('W6'!AC62, 9)","v":"000000000"},{"$f":"DEC2BIN('W6'!AD62, 9)","v":"000000000"},{"$f":"DEC2BIN('W6'!AE62, 9)","v":"000000000"},{"$f":"DEC2BIN('W6'!AF62, 9)","v":"000000000"},{"$f":"DEC2BIN('W6'!AG62, 9)","v":"000000000"},{"$f":"DEC2BIN('W6'!AH62, 9)","v":"000000000"},{"$f":"DEC2BIN('W6'!AI62, 9)","v":"000000000"},{"$f":"DEC2BIN('W6'!AJ62, 9)","v":"000000000"},{"$f":"DEC2BIN('W6'!AK62, 9)","v":"000000000"},{"$f":"DEC2BIN('W6'!AL62, 9)","v":"000000000"},{"$f":"DEC2BIN('W6'!AM62, 9)","v":"000000000"},{"$f":"DEC2BIN('W6'!AN62, 9)","v":"000000000"},{"$f":"DEC2BIN('W6'!AO62, 9)","v":"000000000"},{"$f":"DEC2BIN('W6'!AP62, 9)","v":"000000000"},{"$f":"DEC2BIN('W6'!AQ62, 9)","v":"000000000"}]
[{"$f":"DEC2BIN('W6'!A63, 9)","v":"1111010000"},{"$f":"DEC2BIN('W6'!B63, 9)","v":"1111111100"},{"$f":"DEC2BIN('W6'!C63, 9)","v":"1111111000"},{"$f":"DEC2BIN('W6'!D63, 9)","v":"1111111110"},{"$f":"DEC2BIN('W6'!E63, 9)","v":"000101100"},{"$f":"DEC2BIN('W6'!F63, 9)","v":"000001000"},{"$f":"DEC2BIN('W6'!G63, 9)","v":"1111010111"},{"$f":"DEC2BIN('W6'!H63, 9)","v":"1111001011"},{"$f":"DEC2BIN('W6'!I63, 9)","v":"000101011"},{"$f":"DEC2BIN('W6'!J63, 9)","v":"1111111110"},{"$f":"DEC2BIN('W6'!K63, 9)","v":"000000000"},{"$f":"DEC2BIN('W6'!L63, 9)","v":"000000000"},{"$f":"DEC2BIN('W6'!M63, 9)","v":"000000000"},{"$f":"DEC2BIN('W6'!N63, 9)","v":"000000000"},{"$f":"DEC2BIN('W6'!O63, 9)","v":"000000000"},{"$f":"DEC2BIN('W6'!P63, 9)","v":"000000000"},{"$f":"DEC2BIN('W6'!Q63, 9)","v":"000000000"},{"$f":"DEC2BIN('W6'!R63, 9)","v":"000000000"},{"$f":"DEC2BIN('W6'!S63, 9)","v":"000000000"},{"$f":"DEC2BIN('W6'!T63, 9)","v":"000000000"},{"$f":"DEC2BIN('W6'!U63, 9)","v":"000000000"},{"$f":"DEC2BIN('W6'!V63, 9)","v":"000000000"},{"$f":"DEC2BIN('W6'!W63, 9)","v":"000000000"},{"$f":"DEC2BIN('W6'!X63, 9)","v":"000000000"},{"$f":"DEC2BIN('W6'!Y63, 9)","v":"000000000"},{"$f":"DEC2BIN('W6'!Z63, 9)","v":"000000000"},{"$f":"DEC2BIN('W6'!AA63, 9)","v":"000000000"},{"$f":"DEC2BIN('W6'!AB63, 9)","v":"000000000"},{"$f":"DEC2BIN('W6'!AC63, 9)","v":"000000000"},{"$f":"DEC2BIN('W6'!AD63, 9)","v":"000000000"},{"$f":"DEC2BIN('W6'!AE63, 9)","v":"000000000"},{"$f":"DEC2BIN('W6'!AF63, 9)","v":"000000000"},{"$f":"DEC2BIN('W6'!AG63, 9)","v":"000000000"},{"$f":"DEC2BIN('W6'!AH63, 9)","v":"000000000"},{"$f":"DEC2BIN('W6'!AI63, 9)","v":"000000000"},{"$f":"DEC2BIN('W6'!AJ63, 9)","v":"000000000"},{"$f":"DEC2BIN('W6'!AK63, 9)","v":"000000000"},{"$f":"DEC2BIN('W6'!AL63, 9)","v":"000000000"},{"$f":"DEC2BIN('W6'!AM63, 9)","v":"000000000"},{"$f":"DEC2BIN('W6'!AN63, 9)","v":"000000000"},{"$f":"DEC2BIN('W6'!AO63, 9)","v":"000000000"},{"$f":"DEC2BIN('W6'!AP63, 9)","v":"000000000"},{"$f":"DEC2BIN('W6'!AQ63, 9)","v":"000000000"}]
[{"$f":"DEC2BIN('W6'!A64, 9)","v":"000011111"},{"$f":"DEC2BIN('W6'!B64, 9)","v":"000010011"},{"$f":"DEC2BIN('W6'!C64, 9)","v":"1111100000"},{"$f":"DEC2BIN('W6'!D64, 9)","v":"1110111010"},{"$f":"DEC2BIN('W6'!E64, 9)","v":"1111000101"},{"$f":"DEC2BIN('W6'!F64, 9)","v":"000000000"},{"$f":"DEC2BIN('W6'!G64, 9)","v":"1111000010"},{"$f":"DEC2BIN('W6'!H64, 9)","v":"000100100"},{"$f":"DEC2BIN('W6'!I64, 9)","v":"000010000"},{"$f":"DEC2BIN('W6'!J64, 9)","v":"1111101100"},{"$f":"DEC2BIN('W6'!K64, 9)","v":"000000000"},{"$f":"DEC2BIN('W6'!L64, 9)","v":"000000000"},{"$f":"DEC2BIN('W6'!M64, 9)","v":"000000000"},{"$f":"DEC2BIN('W6'!N64, 9)","v":"000000000"},{"$f":"DEC2BIN('W6'!O64, 9)","v":"000000000"},{"$f":"DEC2BIN('W6'!P64, 9)","v":"000000000"},{"$f":"DEC2BIN('W6'!Q64, 9)","v":"000000000"},{"$f":"DEC2BIN('W6'!R64, 9)","v":"000000000"},{"$f":"DEC2BIN('W6'!S64, 9)","v":"000000000"},{"$f":"DEC2BIN('W6'!T64, 9)","v":"000000000"},{"$f":"DEC2BIN('W6'!U64, 9)","v":"000000000"},{"$f":"DEC2BIN('W6'!V64, 9)","v":"000000000"},{"$f":"DEC2BIN('W6'!W64, 9)","v":"000000000"},{"$f":"DEC2BIN('W6'!X64, 9)","v":"000000000"},{"$f":"DEC2BIN('W6'!Y64, 9)","v":"000000000"},{"$f":"DEC2BIN('W6'!Z64, 9)","v":"000000000"},{"$f":"DEC2BIN('W6'!AA64, 9)","v":"000000000"},{"$f":"DEC2BIN('W6'!AB64, 9)","v":"000000000"},{"$f":"DEC2BIN('W6'!AC64, 9)","v":"000000000"},{"$f":"DEC2BIN('W6'!AD64, 9)","v":"000000000"},{"$f":"DEC2BIN('W6'!AE64, 9)","v":"000000000"},{"$f":"DEC2BIN('W6'!AF64, 9)","v":"000000000"},{"$f":"DEC2BIN('W6'!AG64, 9)","v":"000000000"},{"$f":"DEC2BIN('W6'!AH64, 9)","v":"000000000"},{"$f":"DEC2BIN('W6'!AI64, 9)","v":"000000000"},{"$f":"DEC2BIN('W6'!AJ64, 9)","v":"000000000"},{"$f":"DEC2BIN('W6'!AK64, 9)","v":"000000000"},{"$f":"DEC2BIN('W6'!AL64, 9)","v":"000000000"},{"$f":"DEC2BIN('W6'!AM64, 9)","v":"000000000"},{"$f":"DEC2BIN('W6'!AN64, 9)","v":"000000000"},{"$f":"DEC2BIN('W6'!AO64, 9)","v":"000000000"},{"$f":"DEC2BIN('W6'!AP64, 9)","v":"000000000"},{"$f":"DEC2BIN('W6'!AQ64, 9)","v":"000000000"}]
[{"$f":"DEC2BIN('W6'!A65, 9)","v":"000110100"},{"$f":"DEC2BIN('W6'!B65, 9)","v":"000100011"},{"$f":"DEC2BIN('W6'!C65, 9)","v":"1110110100"},{"$f":"DEC2BIN('W6'!D65, 9)","v":"000011111"},{"$f":"DEC2BIN('W6'!E65, 9)","v":"1111010011"},{"$f":"DEC2BIN('W6'!F65, 9)","v":"000011110"},{"$f":"DEC2BIN('W6'!G65, 9)","v":"1110010100"},{"$f":"DEC2BIN('W6'!H65, 9)","v":"000111010"},{"$f":"DEC2BIN('W6'!I65, 9)","v":"1111101010"},{"$f":"DEC2BIN('W6'!J65, 9)","v":"000100111"},{"$f":"DEC2BIN('W6'!K65, 9)","v":"000000000"},{"$f":"DEC2BIN('W6'!L65, 9)","v":"000000000"},{"$f":"DEC2BIN('W6'!M65, 9)","v":"000000000"},{"$f":"DEC2BIN('W6'!N65, 9)","v":"000000000"},{"$f":"DEC2BIN('W6'!O65, 9)","v":"000000000"},{"$f":"DEC2BIN('W6'!P65, 9)","v":"000000000"},{"$f":"DEC2BIN('W6'!Q65, 9)","v":"000000000"},{"$f":"DEC2BIN('W6'!R65, 9)","v":"000000000"},{"$f":"DEC2BIN('W6'!S65, 9)","v":"000000000"},{"$f":"DEC2BIN('W6'!T65, 9)","v":"000000000"},{"$f":"DEC2BIN('W6'!U65, 9)","v":"000000000"},{"$f":"DEC2BIN('W6'!V65, 9)","v":"000000000"},{"$f":"DEC2BIN('W6'!W65, 9)","v":"000000000"},{"$f":"DEC2BIN('W6'!X65, 9)","v":"000000000"},{"$f":"DEC2BIN('W6'!Y65, 9)","v":"000000000"},{"$f":"DEC2BIN('W6'!Z65, 9)","v":"000000000"},{"$f":"DEC2BIN('W6'!AA65, 9)","v":"000000000"},{"$f":"DEC2BIN('W6'!AB65, 9)","v":"000000000"},{"$f":"DEC2BIN('W6'!AC65, 9)","v":"000000000"},{"$f":"DEC2BIN('W6'!AD65, 9)","v":"000000000"},{"$f":"DEC2BIN('W6'!AE65, 9)","v":"000000000"},{"$f":"DEC2BIN('W6'!AF65, 9)","v":"000000000"},{"$f":"DEC2BIN('W6'!AG65, 9)","v":"000000000"},{"$f":"DEC2BIN('W6'!AH65, 9)","v":"000000000"},{"$f":"DEC2BIN('W6'!AI65, 9)","v":"000000000"},{"$f":"DEC2BIN('W6'!AJ65, 9)","v":"000000000"},{"$f":"DEC2BIN('W6'!AK65, 9)","v":"000000000"},{"$f":"DEC2BIN('W6'!AL65, 9)","v":"000000000"},{"$f":"DEC2BIN('W6'!AM65, 9)","v":"000000000"},{"$f":"DEC2BIN('W6'!AN65, 9)","v":"000000000"},{"$f":"DEC2BIN('W6'!AO65, 9)","v":"000000000"},{"$f":"DEC2BIN('W6'!AP65, 9)","v":"000000000"},{"$f":"DEC2BIN('W6'!AQ65, 9)","v":"000000000"}]
[{"$f":"DEC2BIN('W6'!A66, 9)","v":"1111010111"},{"$f":"DEC2BIN('W6'!B66, 9)","v":"1111110111"},{"$f":"DEC2BIN('W6'!C66, 9)","v":"1111000001"},{"$f":"DEC2BIN('W6'!D66, 9)","v":"000100010"},{"$f":"DEC2BIN('W6'!E66, 9)","v":"1111110011"},{"$f":"DEC2BIN('W6'!F66, 9)","v":"1111101100"},{"$f":"DEC2BIN('W6'!G66, 9)","v":"000010100"},{"$f":"DEC2BIN('W6'!H66, 9)","v":"1111011100"},{"$f":"DEC2BIN('W6'!I66, 9)","v":"000000100"},{"$f":"DEC2BIN('W6'!J66, 9)","v":"1111101111"},{"$f":"DEC2BIN('W6'!K66, 9)","v":"000000000"},{"$f":"DEC2BIN('W6'!L66, 9)","v":"000000000"},{"$f":"DEC2BIN('W6'!M66, 9)","v":"000000000"},{"$f":"DEC2BIN('W6'!N66, 9)","v":"000000000"},{"$f":"DEC2BIN('W6'!O66, 9)","v":"000000000"},{"$f":"DEC2BIN('W6'!P66, 9)","v":"000000000"},{"$f":"DEC2BIN('W6'!Q66, 9)","v":"000000000"},{"$f":"DEC2BIN('W6'!R66, 9)","v":"000000000"},{"$f":"DEC2BIN('W6'!S66, 9)","v":"000000000"},{"$f":"DEC2BIN('W6'!T66, 9)","v":"000000000"},{"$f":"DEC2BIN('W6'!U66, 9)","v":"000000000"},{"$f":"DEC2BIN('W6'!V66, 9)","v":"000000000"},{"$f":"DEC2BIN('W6'!W66, 9)","v":"000000000"},{"$f":"DEC2BIN('W6'!X66, 9)","v":"000000000"},{"$f":"DEC2BIN('W6'!Y66, 9)","v":"000000000"},{"$f":"DEC2BIN('W6'!Z66, 9)","v":"000000000"},{"$f":"DEC2BIN('W6'!AA66, 9)","v":"000000000"},{"$f":"DEC2BIN('W6'!AB66, 9)","v":"000000000"},{"$f":"DEC2BIN('W6'!AC66, 9)","v":"000000000"},{"$f":"DEC2BIN('W6'!AD66, 9)","v":"000000000"},{"$f":"DEC2BIN('W6'!AE66, 9)","v":"000000000"},{"$f":"DEC2BIN('W6'!AF66, 9)","v":"000000000"},{"$f":"DEC2BIN('W6'!AG66, 9)","v":"000000000"},{"$f":"DEC2BIN('W6'!AH66, 9)","v":"000000000"},{"$f":"DEC2BIN('W6'!AI66, 9)","v":"000000000"},{"$f":"DEC2BIN('W6'!AJ66, 9)","v":"000000000"},{"$f":"DEC2BIN('W6'!AK66, 9)","v":"000000000"},{"$f":"DEC2BIN('W6'!AL66, 9)","v":"000000000"},{"$f":"DEC2BIN('W6'!AM66, 9)","v":"000000000"},{"$f":"DEC2BIN('W6'!AN66, 9)","v":"000000000"},{"$f":"DEC2BIN('W6'!AO66, 9)","v":"000000000"},{"$f":"DEC2BIN('W6'!AP66, 9)","v":"000000000"},{"$f":"DEC2BIN('W6'!AQ66, 9)","v":"000000000"}]
[{"$f":"DEC2BIN('W6'!A67, 9)","v":"000010100"},{"$f":"DEC2BIN('W6'!B67, 9)","v":"1111100110"},{"$f":"DEC2BIN('W6'!C67, 9)","v":"000100010"},{"$f":"DEC2BIN('W6'!D67, 9)","v":"1111100111"},{"$f":"DEC2BIN('W6'!E67, 9)","v":"000001001"},{"$f":"DEC2BIN('W6'!F67, 9)","v":"000011110"},{"$f":"DEC2BIN('W6'!G67, 9)","v":"1111001011"},{"$f":"DEC2BIN('W6'!H67, 9)","v":"1111010110"},{"$f":"DEC2BIN('W6'!I67, 9)","v":"000010101"},{"$f":"DEC2BIN('W6'!J67, 9)","v":"000011101"},{"$f":"DEC2BIN('W6'!K67, 9)","v":"000000000"},{"$f":"DEC2BIN('W6'!L67, 9)","v":"000000000"},{"$f":"DEC2BIN('W6'!M67, 9)","v":"000000000"},{"$f":"DEC2BIN('W6'!N67, 9)","v":"000000000"},{"$f":"DEC2BIN('W6'!O67, 9)","v":"000000000"},{"$f":"DEC2BIN('W6'!P67, 9)","v":"000000000"},{"$f":"DEC2BIN('W6'!Q67, 9)","v":"000000000"},{"$f":"DEC2BIN('W6'!R67, 9)","v":"000000000"},{"$f":"DEC2BIN('W6'!S67, 9)","v":"000000000"},{"$f":"DEC2BIN('W6'!T67, 9)","v":"000000000"},{"$f":"DEC2BIN('W6'!U67, 9)","v":"000000000"},{"$f":"DEC2BIN('W6'!V67, 9)","v":"000000000"},{"$f":"DEC2BIN('W6'!W67, 9)","v":"000000000"},{"$f":"DEC2BIN('W6'!X67, 9)","v":"000000000"},{"$f":"DEC2BIN('W6'!Y67, 9)","v":"000000000"},{"$f":"DEC2BIN('W6'!Z67, 9)","v":"000000000"},{"$f":"DEC2BIN('W6'!AA67, 9)","v":"000000000"},{"$f":"DEC2BIN('W6'!AB67, 9)","v":"000000000"},{"$f":"DEC2BIN('W6'!AC67, 9)","v":"000000000"},{"$f":"DEC2BIN('W6'!AD67, 9)","v":"000000000"},{"$f":"DEC2BIN('W6'!AE67, 9)","v":"000000000"},{"$f":"DEC2BIN('W6'!AF67, 9)","v":"000000000"},{"$f":"DEC2BIN('W6'!AG67, 9)","v":"000000000"},{"$f":"DEC2BIN('W6'!AH67, 9)","v":"000000000"},{"$f":"DEC2BIN('W6'!AI67, 9)","v":"000000000"},{"$f":"DEC2BIN('W6'!AJ67, 9)","v":"000000000"},{"$f":"DEC2BIN('W6'!AK67, 9)","v":"000000000"},{"$f":"DEC2BIN('W6'!AL67, 9)","v":"000000000"},{"$f":"DEC2BIN('W6'!AM67, 9)","v":"000000000"},{"$f":"DEC2BIN('W6'!AN67, 9)","v":"000000000"},{"$f":"DEC2BIN('W6'!AO67, 9)","v":"000000000"},{"$f":"DEC2BIN('W6'!AP67, 9)","v":"000000000"},{"$f":"DEC2BIN('W6'!AQ67, 9)","v":"000000000"}]
[{"$f":"DEC2BIN('W6'!A68, 9)","v":"000010000"},{"$f":"DEC2BIN('W6'!B68, 9)","v":"1111111110"},{"$f":"DEC2BIN('W6'!C68, 9)","v":"1111010101"},{"$f":"DEC2BIN('W6'!D68, 9)","v":"000001100"},{"$f":"DEC2BIN('W6'!E68, 9)","v":"1111111001"},{"$f":"DEC2BIN('W6'!F68, 9)","v":"1111111010"},{"$f":"DEC2BIN('W6'!G68, 9)","v":"000001100"},{"$f":"DEC2BIN('W6'!H68, 9)","v":"000110001"},{"$f":"DEC2BIN('W6'!I68, 9)","v":"1111101001"},{"$f":"DEC2BIN('W6'!J68, 9)","v":"1111101001"},{"$f":"DEC2BIN('W6'!K68, 9)","v":"000000000"},{"$f":"DEC2BIN('W6'!L68, 9)","v":"000000000"},{"$f":"DEC2BIN('W6'!M68, 9)","v":"000000000"},{"$f":"DEC2BIN('W6'!N68, 9)","v":"000000000"},{"$f":"DEC2BIN('W6'!O68, 9)","v":"000000000"},{"$f":"DEC2BIN('W6'!P68, 9)","v":"000000000"},{"$f":"DEC2BIN('W6'!Q68, 9)","v":"000000000"},{"$f":"DEC2BIN('W6'!R68, 9)","v":"000000000"},{"$f":"DEC2BIN('W6'!S68, 9)","v":"000000000"},{"$f":"DEC2BIN('W6'!T68, 9)","v":"000000000"},{"$f":"DEC2BIN('W6'!U68, 9)","v":"000000000"},{"$f":"DEC2BIN('W6'!V68, 9)","v":"000000000"},{"$f":"DEC2BIN('W6'!W68, 9)","v":"000000000"},{"$f":"DEC2BIN('W6'!X68, 9)","v":"000000000"},{"$f":"DEC2BIN('W6'!Y68, 9)","v":"000000000"},{"$f":"DEC2BIN('W6'!Z68, 9)","v":"000000000"},{"$f":"DEC2BIN('W6'!AA68, 9)","v":"000000000"},{"$f":"DEC2BIN('W6'!AB68, 9)","v":"000000000"},{"$f":"DEC2BIN('W6'!AC68, 9)","v":"000000000"},{"$f":"DEC2BIN('W6'!AD68, 9)","v":"000000000"},{"$f":"DEC2BIN('W6'!AE68, 9)","v":"000000000"},{"$f":"DEC2BIN('W6'!AF68, 9)","v":"000000000"},{"$f":"DEC2BIN('W6'!AG68, 9)","v":"000000000"},{"$f":"DEC2BIN('W6'!AH68, 9)","v":"000000000"},{"$f":"DEC2BIN('W6'!AI68, 9)","v":"000000000"},{"$f":"DEC2BIN('W6'!AJ68, 9)","v":"000000000"},{"$f":"DEC2BIN('W6'!AK68, 9)","v":"000000000"},{"$f":"DEC2BIN('W6'!AL68, 9)","v":"000000000"},{"$f":"DEC2BIN('W6'!AM68, 9)","v":"000000000"},{"$f":"DEC2BIN('W6'!AN68, 9)","v":"000000000"},{"$f":"DEC2BIN('W6'!AO68, 9)","v":"000000000"},{"$f":"DEC2BIN('W6'!AP68, 9)","v":"000000000"},{"$f":"DEC2BIN('W6'!AQ68, 9)","v":"000000000"}]
[{"$f":"DEC2BIN('W6'!A69, 9)","v":"000010001"},{"$f":"DEC2BIN('W6'!B69, 9)","v":"1111001001"},{"$f":"DEC2BIN('W6'!C69, 9)","v":"000001111"},{"$f":"DEC2BIN('W6'!D69, 9)","v":"1111010110"},{"$f":"DEC2BIN('W6'!E69, 9)","v":"1111110010"},{"$f":"DEC2BIN('W6'!F69, 9)","v":"1111100000"},{"$f":"DEC2BIN('W6'!G69, 9)","v":"1111010001"},{"$f":"DEC2BIN('W6'!H69, 9)","v":"000001101"},{"$f":"DEC2BIN('W6'!I69, 9)","v":"000100010"},{"$f":"DEC2BIN('W6'!J69, 9)","v":"1111111000"},{"$f":"DEC2BIN('W6'!K69, 9)","v":"000000000"},{"$f":"DEC2BIN('W6'!L69, 9)","v":"000000000"},{"$f":"DEC2BIN('W6'!M69, 9)","v":"000000000"},{"$f":"DEC2BIN('W6'!N69, 9)","v":"000000000"},{"$f":"DEC2BIN('W6'!O69, 9)","v":"000000000"},{"$f":"DEC2BIN('W6'!P69, 9)","v":"000000000"},{"$f":"DEC2BIN('W6'!Q69, 9)","v":"000000000"},{"$f":"DEC2BIN('W6'!R69, 9)","v":"000000000"},{"$f":"DEC2BIN('W6'!S69, 9)","v":"000000000"},{"$f":"DEC2BIN('W6'!T69, 9)","v":"000000000"},{"$f":"DEC2BIN('W6'!U69, 9)","v":"000000000"},{"$f":"DEC2BIN('W6'!V69, 9)","v":"000000000"},{"$f":"DEC2BIN('W6'!W69, 9)","v":"000000000"},{"$f":"DEC2BIN('W6'!X69, 9)","v":"000000000"},{"$f":"DEC2BIN('W6'!Y69, 9)","v":"000000000"},{"$f":"DEC2BIN('W6'!Z69, 9)","v":"000000000"},{"$f":"DEC2BIN('W6'!AA69, 9)","v":"000000000"},{"$f":"DEC2BIN('W6'!AB69, 9)","v":"000000000"},{"$f":"DEC2BIN('W6'!AC69, 9)","v":"000000000"},{"$f":"DEC2BIN('W6'!AD69, 9)","v":"000000000"},{"$f":"DEC2BIN('W6'!AE69, 9)","v":"000000000"},{"$f":"DEC2BIN('W6'!AF69, 9)","v":"000000000"},{"$f":"DEC2BIN('W6'!AG69, 9)","v":"000000000"},{"$f":"DEC2BIN('W6'!AH69, 9)","v":"000000000"},{"$f":"DEC2BIN('W6'!AI69, 9)","v":"000000000"},{"$f":"DEC2BIN('W6'!AJ69, 9)","v":"000000000"},{"$f":"DEC2BIN('W6'!AK69, 9)","v":"000000000"},{"$f":"DEC2BIN('W6'!AL69, 9)","v":"000000000"},{"$f":"DEC2BIN('W6'!AM69, 9)","v":"000000000"},{"$f":"DEC2BIN('W6'!AN69, 9)","v":"000000000"},{"$f":"DEC2BIN('W6'!AO69, 9)","v":"000000000"},{"$f":"DEC2BIN('W6'!AP69, 9)","v":"000000000"},{"$f":"DEC2BIN('W6'!AQ69, 9)","v":"000000000"}]
[{"$f":"DEC2BIN('W6'!A70, 9)","v":"1111000110"},{"$f":"DEC2BIN('W6'!B70, 9)","v":"000000000"},{"$f":"DEC2BIN('W6'!C70, 9)","v":"000100111"},{"$f":"DEC2BIN('W6'!D70, 9)","v":"1110010011"},{"$f":"DEC2BIN('W6'!E70, 9)","v":"000101101"},{"$f":"DEC2BIN('W6'!F70, 9)","v":"1111101000"},{"$f":"DEC2BIN('W6'!G70, 9)","v":"1110101010"},{"$f":"DEC2BIN('W6'!H70, 9)","v":"000100111"},{"$f":"DEC2BIN('W6'!I70, 9)","v":"000100111"},{"$f":"DEC2BIN('W6'!J70, 9)","v":"1111001110"},{"$f":"DEC2BIN('W6'!K70, 9)","v":"000000000"},{"$f":"DEC2BIN('W6'!L70, 9)","v":"000000000"},{"$f":"DEC2BIN('W6'!M70, 9)","v":"000000000"},{"$f":"DEC2BIN('W6'!N70, 9)","v":"000000000"},{"$f":"DEC2BIN('W6'!O70, 9)","v":"000000000"},{"$f":"DEC2BIN('W6'!P70, 9)","v":"000000000"},{"$f":"DEC2BIN('W6'!Q70, 9)","v":"000000000"},{"$f":"DEC2BIN('W6'!R70, 9)","v":"000000000"},{"$f":"DEC2BIN('W6'!S70, 9)","v":"000000000"},{"$f":"DEC2BIN('W6'!T70, 9)","v":"000000000"},{"$f":"DEC2BIN('W6'!U70, 9)","v":"000000000"},{"$f":"DEC2BIN('W6'!V70, 9)","v":"000000000"},{"$f":"DEC2BIN('W6'!W70, 9)","v":"000000000"},{"$f":"DEC2BIN('W6'!X70, 9)","v":"000000000"},{"$f":"DEC2BIN('W6'!Y70, 9)","v":"000000000"},{"$f":"DEC2BIN('W6'!Z70, 9)","v":"000000000"},{"$f":"DEC2BIN('W6'!AA70, 9)","v":"000000000"},{"$f":"DEC2BIN('W6'!AB70, 9)","v":"000000000"},{"$f":"DEC2BIN('W6'!AC70, 9)","v":"000000000"},{"$f":"DEC2BIN('W6'!AD70, 9)","v":"000000000"},{"$f":"DEC2BIN('W6'!AE70, 9)","v":"000000000"},{"$f":"DEC2BIN('W6'!AF70, 9)","v":"000000000"},{"$f":"DEC2BIN('W6'!AG70, 9)","v":"000000000"},{"$f":"DEC2BIN('W6'!AH70, 9)","v":"000000000"},{"$f":"DEC2BIN('W6'!AI70, 9)","v":"000000000"},{"$f":"DEC2BIN('W6'!AJ70, 9)","v":"000000000"},{"$f":"DEC2BIN('W6'!AK70, 9)","v":"000000000"},{"$f":"DEC2BIN('W6'!AL70, 9)","v":"000000000"},{"$f":"DEC2BIN('W6'!AM70, 9)","v":"000000000"},{"$f":"DEC2BIN('W6'!AN70, 9)","v":"000000000"},{"$f":"DEC2BIN('W6'!AO70, 9)","v":"000000000"},{"$f":"DEC2BIN('W6'!AP70, 9)","v":"000000000"},{"$f":"DEC2BIN('W6'!AQ70, 9)","v":"000000000"}]
[{"$f":"DEC2BIN('W6'!A71, 9)","v":"000111000"},{"$f":"DEC2BIN('W6'!B71, 9)","v":"000100010"},{"$f":"DEC2BIN('W6'!C71, 9)","v":"1111011100"},{"$f":"DEC2BIN('W6'!D71, 9)","v":"1111001000"},{"$f":"DEC2BIN('W6'!E71, 9)","v":"000101100"},{"$f":"DEC2BIN('W6'!F71, 9)","v":"1110100101"},{"$f":"DEC2BIN('W6'!G71, 9)","v":"1110101001"},{"$f":"DEC2BIN('W6'!H71, 9)","v":"1111000101"},{"$f":"DEC2BIN('W6'!I71, 9)","v":"1111000110"},{"$f":"DEC2BIN('W6'!J71, 9)","v":"000110101"},{"$f":"DEC2BIN('W6'!K71, 9)","v":"000000000"},{"$f":"DEC2BIN('W6'!L71, 9)","v":"000000000"},{"$f":"DEC2BIN('W6'!M71, 9)","v":"000000000"},{"$f":"DEC2BIN('W6'!N71, 9)","v":"000000000"},{"$f":"DEC2BIN('W6'!O71, 9)","v":"000000000"},{"$f":"DEC2BIN('W6'!P71, 9)","v":"000000000"},{"$f":"DEC2BIN('W6'!Q71, 9)","v":"000000000"},{"$f":"DEC2BIN('W6'!R71, 9)","v":"000000000"},{"$f":"DEC2BIN('W6'!S71, 9)","v":"000000000"},{"$f":"DEC2BIN('W6'!T71, 9)","v":"000000000"},{"$f":"DEC2BIN('W6'!U71, 9)","v":"000000000"},{"$f":"DEC2BIN('W6'!V71, 9)","v":"000000000"},{"$f":"DEC2BIN('W6'!W71, 9)","v":"000000000"},{"$f":"DEC2BIN('W6'!X71, 9)","v":"000000000"},{"$f":"DEC2BIN('W6'!Y71, 9)","v":"000000000"},{"$f":"DEC2BIN('W6'!Z71, 9)","v":"000000000"},{"$f":"DEC2BIN('W6'!AA71, 9)","v":"000000000"},{"$f":"DEC2BIN('W6'!AB71, 9)","v":"000000000"},{"$f":"DEC2BIN('W6'!AC71, 9)","v":"000000000"},{"$f":"DEC2BIN('W6'!AD71, 9)","v":"000000000"},{"$f":"DEC2BIN('W6'!AE71, 9)","v":"000000000"},{"$f":"DEC2BIN('W6'!AF71, 9)","v":"000000000"},{"$f":"DEC2BIN('W6'!AG71, 9)","v":"000000000"},{"$f":"DEC2BIN('W6'!AH71, 9)","v":"000000000"},{"$f":"DEC2BIN('W6'!AI71, 9)","v":"000000000"},{"$f":"DEC2BIN('W6'!AJ71, 9)","v":"000000000"},{"$f":"DEC2BIN('W6'!AK71, 9)","v":"000000000"},{"$f":"DEC2BIN('W6'!AL71, 9)","v":"000000000"},{"$f":"DEC2BIN('W6'!AM71, 9)","v":"000000000"},{"$f":"DEC2BIN('W6'!AN71, 9)","v":"000000000"},{"$f":"DEC2BIN('W6'!AO71, 9)","v":"000000000"},{"$f":"DEC2BIN('W6'!AP71, 9)","v":"000000000"},{"$f":"DEC2BIN('W6'!AQ71, 9)","v":"000000000"}]
[{"$f":"DEC2BIN('W6'!A72, 9)","v":"1111001100"},{"$f":"DEC2BIN('W6'!B72, 9)","v":"000101100"},{"$f":"DEC2BIN('W6'!C72, 9)","v":"000001101"},{"$f":"DEC2BIN('W6'!D72, 9)","v":"1110001111"},{"$f":"DEC2BIN('W6'!E72, 9)","v":"000000000"},{"$f":"DEC2BIN('W6'!F72, 9)","v":"1111100011"},{"$f":"DEC2BIN('W6'!G72, 9)","v":"000100001"},{"$f":"DEC2BIN('W6'!H72, 9)","v":"000101000"},{"$f":"DEC2BIN('W6'!I72, 9)","v":"1111100011"},{"$f":"DEC2BIN('W6'!J72, 9)","v":"1111001100"},{"$f":"DEC2BIN('W6'!K72, 9)","v":"000000000"},{"$f":"DEC2BIN('W6'!L72, 9)","v":"000000000"},{"$f":"DEC2BIN('W6'!M72, 9)","v":"000000000"},{"$f":"DEC2BIN('W6'!N72, 9)","v":"000000000"},{"$f":"DEC2BIN('W6'!O72, 9)","v":"000000000"},{"$f":"DEC2BIN('W6'!P72, 9)","v":"000000000"},{"$f":"DEC2BIN('W6'!Q72, 9)","v":"000000000"},{"$f":"DEC2BIN('W6'!R72, 9)","v":"000000000"},{"$f":"DEC2BIN('W6'!S72, 9)","v":"000000000"},{"$f":"DEC2BIN('W6'!T72, 9)","v":"000000000"},{"$f":"DEC2BIN('W6'!U72, 9)","v":"000000000"},{"$f":"DEC2BIN('W6'!V72, 9)","v":"000000000"},{"$f":"DEC2BIN('W6'!W72, 9)","v":"000000000"},{"$f":"DEC2BIN('W6'!X72, 9)","v":"000000000"},{"$f":"DEC2BIN('W6'!Y72, 9)","v":"000000000"},{"$f":"DEC2BIN('W6'!Z72, 9)","v":"000000000"},{"$f":"DEC2BIN('W6'!AA72, 9)","v":"000000000"},{"$f":"DEC2BIN('W6'!AB72, 9)","v":"000000000"},{"$f":"DEC2BIN('W6'!AC72, 9)","v":"000000000"},{"$f":"DEC2BIN('W6'!AD72, 9)","v":"000000000"},{"$f":"DEC2BIN('W6'!AE72, 9)","v":"000000000"},{"$f":"DEC2BIN('W6'!AF72, 9)","v":"000000000"},{"$f":"DEC2BIN('W6'!AG72, 9)","v":"000000000"},{"$f":"DEC2BIN('W6'!AH72, 9)","v":"000000000"},{"$f":"DEC2BIN('W6'!AI72, 9)","v":"000000000"},{"$f":"DEC2BIN('W6'!AJ72, 9)","v":"000000000"},{"$f":"DEC2BIN('W6'!AK72, 9)","v":"000000000"},{"$f":"DEC2BIN('W6'!AL72, 9)","v":"000000000"},{"$f":"DEC2BIN('W6'!AM72, 9)","v":"000000000"},{"$f":"DEC2BIN('W6'!AN72, 9)","v":"000000000"},{"$f":"DEC2BIN('W6'!AO72, 9)","v":"000000000"},{"$f":"DEC2BIN('W6'!AP72, 9)","v":"000000000"},{"$f":"DEC2BIN('W6'!AQ72, 9)","v":"000000000"}]
[{"$f":"DEC2BIN('W6'!A73, 9)","v":"000101100"},{"$f":"DEC2BIN('W6'!B73, 9)","v":"000000000"},{"$f":"DEC2BIN('W6'!C73, 9)","v":"1111000001"},{"$f":"DEC2BIN('W6'!D73, 9)","v":"1111011010"},{"$f":"DEC2BIN('W6'!E73, 9)","v":"000010101"},{"$f":"DEC2BIN('W6'!F73, 9)","v":"1111010000"},{"$f":"DEC2BIN('W6'!G73, 9)","v":"1111111010"},{"$f":"DEC2BIN('W6'!H73, 9)","v":"1111000110"},{"$f":"DEC2BIN('W6'!I73, 9)","v":"000001011"},{"$f":"DEC2BIN('W6'!J73, 9)","v":"000101100"},{"$f":"DEC2BIN('W6'!K73, 9)","v":"000000000"},{"$f":"DEC2BIN('W6'!L73, 9)","v":"000000000"},{"$f":"DEC2BIN('W6'!M73, 9)","v":"000000000"},{"$f":"DEC2BIN('W6'!N73, 9)","v":"000000000"},{"$f":"DEC2BIN('W6'!O73, 9)","v":"000000000"},{"$f":"DEC2BIN('W6'!P73, 9)","v":"000000000"},{"$f":"DEC2BIN('W6'!Q73, 9)","v":"000000000"},{"$f":"DEC2BIN('W6'!R73, 9)","v":"000000000"},{"$f":"DEC2BIN('W6'!S73, 9)","v":"000000000"},{"$f":"DEC2BIN('W6'!T73, 9)","v":"000000000"},{"$f":"DEC2BIN('W6'!U73, 9)","v":"000000000"},{"$f":"DEC2BIN('W6'!V73, 9)","v":"000000000"},{"$f":"DEC2BIN('W6'!W73, 9)","v":"000000000"},{"$f":"DEC2BIN('W6'!X73, 9)","v":"000000000"},{"$f":"DEC2BIN('W6'!Y73, 9)","v":"000000000"},{"$f":"DEC2BIN('W6'!Z73, 9)","v":"000000000"},{"$f":"DEC2BIN('W6'!AA73, 9)","v":"000000000"},{"$f":"DEC2BIN('W6'!AB73, 9)","v":"000000000"},{"$f":"DEC2BIN('W6'!AC73, 9)","v":"000000000"},{"$f":"DEC2BIN('W6'!AD73, 9)","v":"000000000"},{"$f":"DEC2BIN('W6'!AE73, 9)","v":"000000000"},{"$f":"DEC2BIN('W6'!AF73, 9)","v":"000000000"},{"$f":"DEC2BIN('W6'!AG73, 9)","v":"000000000"},{"$f":"DEC2BIN('W6'!AH73, 9)","v":"000000000"},{"$f":"DEC2BIN('W6'!AI73, 9)","v":"000000000"},{"$f":"DEC2BIN('W6'!AJ73, 9)","v":"000000000"},{"$f":"DEC2BIN('W6'!AK73, 9)","v":"000000000"},{"$f":"DEC2BIN('W6'!AL73, 9)","v":"000000000"},{"$f":"DEC2BIN('W6'!AM73, 9)","v":"000000000"},{"$f":"DEC2BIN('W6'!AN73, 9)","v":"000000000"},{"$f":"DEC2BIN('W6'!AO73, 9)","v":"000000000"},{"$f":"DEC2BIN('W6'!AP73, 9)","v":"000000000"},{"$f":"DEC2BIN('W6'!AQ73, 9)","v":"000000000"}]
[{"$f":"DEC2BIN('W6'!A74, 9)","v":"1111100001"},{"$f":"DEC2BIN('W6'!B74, 9)","v":"1111100100"},{"$f":"DEC2BIN('W6'!C74, 9)","v":"000000100"},{"$f":"DEC2BIN('W6'!D74, 9)","v":"1111101101"},{"$f":"DEC2BIN('W6'!E74, 9)","v":"1110111001"},{"$f":"DEC2BIN('W6'!F74, 9)","v":"000101100"},{"$f":"DEC2BIN('W6'!G74, 9)","v":"000000100"},{"$f":"DEC2BIN('W6'!H74, 9)","v":"000101101"},{"$f":"DEC2BIN('W6'!I74, 9)","v":"000010101"},{"$f":"DEC2BIN('W6'!J74, 9)","v":"000010100"},{"$f":"DEC2BIN('W6'!K74, 9)","v":"000000000"},{"$f":"DEC2BIN('W6'!L74, 9)","v":"000000000"},{"$f":"DEC2BIN('W6'!M74, 9)","v":"000000000"},{"$f":"DEC2BIN('W6'!N74, 9)","v":"000000000"},{"$f":"DEC2BIN('W6'!O74, 9)","v":"000000000"},{"$f":"DEC2BIN('W6'!P74, 9)","v":"000000000"},{"$f":"DEC2BIN('W6'!Q74, 9)","v":"000000000"},{"$f":"DEC2BIN('W6'!R74, 9)","v":"000000000"},{"$f":"DEC2BIN('W6'!S74, 9)","v":"000000000"},{"$f":"DEC2BIN('W6'!T74, 9)","v":"000000000"},{"$f":"DEC2BIN('W6'!U74, 9)","v":"000000000"},{"$f":"DEC2BIN('W6'!V74, 9)","v":"000000000"},{"$f":"DEC2BIN('W6'!W74, 9)","v":"000000000"},{"$f":"DEC2BIN('W6'!X74, 9)","v":"000000000"},{"$f":"DEC2BIN('W6'!Y74, 9)","v":"000000000"},{"$f":"DEC2BIN('W6'!Z74, 9)","v":"000000000"},{"$f":"DEC2BIN('W6'!AA74, 9)","v":"000000000"},{"$f":"DEC2BIN('W6'!AB74, 9)","v":"000000000"},{"$f":"DEC2BIN('W6'!AC74, 9)","v":"000000000"},{"$f":"DEC2BIN('W6'!AD74, 9)","v":"000000000"},{"$f":"DEC2BIN('W6'!AE74, 9)","v":"000000000"},{"$f":"DEC2BIN('W6'!AF74, 9)","v":"000000000"},{"$f":"DEC2BIN('W6'!AG74, 9)","v":"000000000"},{"$f":"DEC2BIN('W6'!AH74, 9)","v":"000000000"},{"$f":"DEC2BIN('W6'!AI74, 9)","v":"000000000"},{"$f":"DEC2BIN('W6'!AJ74, 9)","v":"000000000"},{"$f":"DEC2BIN('W6'!AK74, 9)","v":"000000000"},{"$f":"DEC2BIN('W6'!AL74, 9)","v":"000000000"},{"$f":"DEC2BIN('W6'!AM74, 9)","v":"000000000"},{"$f":"DEC2BIN('W6'!AN74, 9)","v":"000000000"},{"$f":"DEC2BIN('W6'!AO74, 9)","v":"000000000"},{"$f":"DEC2BIN('W6'!AP74, 9)","v":"000000000"},{"$f":"DEC2BIN('W6'!AQ74, 9)","v":"000000000"}]
[{"$f":"DEC2BIN('W6'!A75, 9)","v":"001001000"},{"$f":"DEC2BIN('W6'!B75, 9)","v":"1110111101"},{"$f":"DEC2BIN('W6'!C75, 9)","v":"000010001"},{"$f":"DEC2BIN('W6'!D75, 9)","v":"1111100111"},{"$f":"DEC2BIN('W6'!E75, 9)","v":"1110111100"},{"$f":"DEC2BIN('W6'!F75, 9)","v":"000010100"},{"$f":"DEC2BIN('W6'!G75, 9)","v":"1110100011"},{"$f":"DEC2BIN('W6'!H75, 9)","v":"1110100000"},{"$f":"DEC2BIN('W6'!I75, 9)","v":"1111010100"},{"$f":"DEC2BIN('W6'!J75, 9)","v":"1111000111"},{"$f":"DEC2BIN('W6'!K75, 9)","v":"000000000"},{"$f":"DEC2BIN('W6'!L75, 9)","v":"000000000"},{"$f":"DEC2BIN('W6'!M75, 9)","v":"000000000"},{"$f":"DEC2BIN('W6'!N75, 9)","v":"000000000"},{"$f":"DEC2BIN('W6'!O75, 9)","v":"000000000"},{"$f":"DEC2BIN('W6'!P75, 9)","v":"000000000"},{"$f":"DEC2BIN('W6'!Q75, 9)","v":"000000000"},{"$f":"DEC2BIN('W6'!R75, 9)","v":"000000000"},{"$f":"DEC2BIN('W6'!S75, 9)","v":"000000000"},{"$f":"DEC2BIN('W6'!T75, 9)","v":"000000000"},{"$f":"DEC2BIN('W6'!U75, 9)","v":"000000000"},{"$f":"DEC2BIN('W6'!V75, 9)","v":"000000000"},{"$f":"DEC2BIN('W6'!W75, 9)","v":"000000000"},{"$f":"DEC2BIN('W6'!X75, 9)","v":"000000000"},{"$f":"DEC2BIN('W6'!Y75, 9)","v":"000000000"},{"$f":"DEC2BIN('W6'!Z75, 9)","v":"000000000"},{"$f":"DEC2BIN('W6'!AA75, 9)","v":"000000000"},{"$f":"DEC2BIN('W6'!AB75, 9)","v":"000000000"},{"$f":"DEC2BIN('W6'!AC75, 9)","v":"000000000"},{"$f":"DEC2BIN('W6'!AD75, 9)","v":"000000000"},{"$f":"DEC2BIN('W6'!AE75, 9)","v":"000000000"},{"$f":"DEC2BIN('W6'!AF75, 9)","v":"000000000"},{"$f":"DEC2BIN('W6'!AG75, 9)","v":"000000000"},{"$f":"DEC2BIN('W6'!AH75, 9)","v":"000000000"},{"$f":"DEC2BIN('W6'!AI75, 9)","v":"000000000"},{"$f":"DEC2BIN('W6'!AJ75, 9)","v":"000000000"},{"$f":"DEC2BIN('W6'!AK75, 9)","v":"000000000"},{"$f":"DEC2BIN('W6'!AL75, 9)","v":"000000000"},{"$f":"DEC2BIN('W6'!AM75, 9)","v":"000000000"},{"$f":"DEC2BIN('W6'!AN75, 9)","v":"000000000"},{"$f":"DEC2BIN('W6'!AO75, 9)","v":"000000000"},{"$f":"DEC2BIN('W6'!AP75, 9)","v":"000000000"},{"$f":"DEC2BIN('W6'!AQ75, 9)","v":"000000000"}]
[{"$f":"DEC2BIN('W6'!A76, 9)","v":"1111111001"},{"$f":"DEC2BIN('W6'!B76, 9)","v":"000101110"},{"$f":"DEC2BIN('W6'!C76, 9)","v":"000110101"},{"$f":"DEC2BIN('W6'!D76, 9)","v":"1110111100"},{"$f":"DEC2BIN('W6'!E76, 9)","v":"000100111"},{"$f":"DEC2BIN('W6'!F76, 9)","v":"1110110101"},{"$f":"DEC2BIN('W6'!G76, 9)","v":"1111001011"},{"$f":"DEC2BIN('W6'!H76, 9)","v":"1111011001"},{"$f":"DEC2BIN('W6'!I76, 9)","v":"1110010010"},{"$f":"DEC2BIN('W6'!J76, 9)","v":"1111010111"},{"$f":"DEC2BIN('W6'!K76, 9)","v":"000000000"},{"$f":"DEC2BIN('W6'!L76, 9)","v":"000000000"},{"$f":"DEC2BIN('W6'!M76, 9)","v":"000000000"},{"$f":"DEC2BIN('W6'!N76, 9)","v":"000000000"},{"$f":"DEC2BIN('W6'!O76, 9)","v":"000000000"},{"$f":"DEC2BIN('W6'!P76, 9)","v":"000000000"},{"$f":"DEC2BIN('W6'!Q76, 9)","v":"000000000"},{"$f":"DEC2BIN('W6'!R76, 9)","v":"000000000"},{"$f":"DEC2BIN('W6'!S76, 9)","v":"000000000"},{"$f":"DEC2BIN('W6'!T76, 9)","v":"000000000"},{"$f":"DEC2BIN('W6'!U76, 9)","v":"000000000"},{"$f":"DEC2BIN('W6'!V76, 9)","v":"000000000"},{"$f":"DEC2BIN('W6'!W76, 9)","v":"000000000"},{"$f":"DEC2BIN('W6'!X76, 9)","v":"000000000"},{"$f":"DEC2BIN('W6'!Y76, 9)","v":"000000000"},{"$f":"DEC2BIN('W6'!Z76, 9)","v":"000000000"},{"$f":"DEC2BIN('W6'!AA76, 9)","v":"000000000"},{"$f":"DEC2BIN('W6'!AB76, 9)","v":"000000000"},{"$f":"DEC2BIN('W6'!AC76, 9)","v":"000000000"},{"$f":"DEC2BIN('W6'!AD76, 9)","v":"000000000"},{"$f":"DEC2BIN('W6'!AE76, 9)","v":"000000000"},{"$f":"DEC2BIN('W6'!AF76, 9)","v":"000000000"},{"$f":"DEC2BIN('W6'!AG76, 9)","v":"000000000"},{"$f":"DEC2BIN('W6'!AH76, 9)","v":"000000000"},{"$f":"DEC2BIN('W6'!AI76, 9)","v":"000000000"},{"$f":"DEC2BIN('W6'!AJ76, 9)","v":"000000000"},{"$f":"DEC2BIN('W6'!AK76, 9)","v":"000000000"},{"$f":"DEC2BIN('W6'!AL76, 9)","v":"000000000"},{"$f":"DEC2BIN('W6'!AM76, 9)","v":"000000000"},{"$f":"DEC2BIN('W6'!AN76, 9)","v":"000000000"},{"$f":"DEC2BIN('W6'!AO76, 9)","v":"000000000"},{"$f":"DEC2BIN('W6'!AP76, 9)","v":"000000000"},{"$f":"DEC2BIN('W6'!AQ76, 9)","v":"000000000"}]
[{"$f":"DEC2BIN('W6'!A77, 9)","v":"000101110"},{"$f":"DEC2BIN('W6'!B77, 9)","v":"000001101"},{"$f":"DEC2BIN('W6'!C77, 9)","v":"1110110110"},{"$f":"DEC2BIN('W6'!D77, 9)","v":"000001100"},{"$f":"DEC2BIN('W6'!E77, 9)","v":"1111111110"},{"$f":"DEC2BIN('W6'!F77, 9)","v":"1110110110"},{"$f":"DEC2BIN('W6'!G77, 9)","v":"1101111110"},{"$f":"DEC2BIN('W6'!H77, 9)","v":"1110101110"},{"$f":"DEC2BIN('W6'!I77, 9)","v":"000011110"},{"$f":"DEC2BIN('W6'!J77, 9)","v":"1110010111"},{"$f":"DEC2BIN('W6'!K77, 9)","v":"000000000"},{"$f":"DEC2BIN('W6'!L77, 9)","v":"000000000"},{"$f":"DEC2BIN('W6'!M77, 9)","v":"000000000"},{"$f":"DEC2BIN('W6'!N77, 9)","v":"000000000"},{"$f":"DEC2BIN('W6'!O77, 9)","v":"000000000"},{"$f":"DEC2BIN('W6'!P77, 9)","v":"000000000"},{"$f":"DEC2BIN('W6'!Q77, 9)","v":"000000000"},{"$f":"DEC2BIN('W6'!R77, 9)","v":"000000000"},{"$f":"DEC2BIN('W6'!S77, 9)","v":"000000000"},{"$f":"DEC2BIN('W6'!T77, 9)","v":"000000000"},{"$f":"DEC2BIN('W6'!U77, 9)","v":"000000000"},{"$f":"DEC2BIN('W6'!V77, 9)","v":"000000000"},{"$f":"DEC2BIN('W6'!W77, 9)","v":"000000000"},{"$f":"DEC2BIN('W6'!X77, 9)","v":"000000000"},{"$f":"DEC2BIN('W6'!Y77, 9)","v":"000000000"},{"$f":"DEC2BIN('W6'!Z77, 9)","v":"000000000"},{"$f":"DEC2BIN('W6'!AA77, 9)","v":"000000000"},{"$f":"DEC2BIN('W6'!AB77, 9)","v":"000000000"},{"$f":"DEC2BIN('W6'!AC77, 9)","v":"000000000"},{"$f":"DEC2BIN('W6'!AD77, 9)","v":"000000000"},{"$f":"DEC2BIN('W6'!AE77, 9)","v":"000000000"},{"$f":"DEC2BIN('W6'!AF77, 9)","v":"000000000"},{"$f":"DEC2BIN('W6'!AG77, 9)","v":"000000000"},{"$f":"DEC2BIN('W6'!AH77, 9)","v":"000000000"},{"$f":"DEC2BIN('W6'!AI77, 9)","v":"000000000"},{"$f":"DEC2BIN('W6'!AJ77, 9)","v":"000000000"},{"$f":"DEC2BIN('W6'!AK77, 9)","v":"000000000"},{"$f":"DEC2BIN('W6'!AL77, 9)","v":"000000000"},{"$f":"DEC2BIN('W6'!AM77, 9)","v":"000000000"},{"$f":"DEC2BIN('W6'!AN77, 9)","v":"000000000"},{"$f":"DEC2BIN('W6'!AO77, 9)","v":"000000000"},{"$f":"DEC2BIN('W6'!AP77, 9)","v":"000000000"},{"$f":"DEC2BIN('W6'!AQ77, 9)","v":"000000000"}]
[{"$f":"DEC2BIN('W6'!A78, 9)","v":"1110110010"},{"$f":"DEC2BIN('W6'!B78, 9)","v":"1110100110"},{"$f":"DEC2BIN('W6'!C78, 9)","v":"1110101000"},{"$f":"DEC2BIN('W6'!D78, 9)","v":"000011000"},{"$f":"DEC2BIN('W6'!E78, 9)","v":"1110111110"},{"$f":"DEC2BIN('W6'!F78, 9)","v":"000010001"},{"$f":"DEC2BIN('W6'!G78, 9)","v":"000000011"},{"$f":"DEC2BIN('W6'!H78, 9)","v":"000011100"},{"$f":"DEC2BIN('W6'!I78, 9)","v":"000011101"},{"$f":"DEC2BIN('W6'!J78, 9)","v":"1111000111"},{"$f":"DEC2BIN('W6'!K78, 9)","v":"000000000"},{"$f":"DEC2BIN('W6'!L78, 9)","v":"000000000"},{"$f":"DEC2BIN('W6'!M78, 9)","v":"000000000"},{"$f":"DEC2BIN('W6'!N78, 9)","v":"000000000"},{"$f":"DEC2BIN('W6'!O78, 9)","v":"000000000"},{"$f":"DEC2BIN('W6'!P78, 9)","v":"000000000"},{"$f":"DEC2BIN('W6'!Q78, 9)","v":"000000000"},{"$f":"DEC2BIN('W6'!R78, 9)","v":"000000000"},{"$f":"DEC2BIN('W6'!S78, 9)","v":"000000000"},{"$f":"DEC2BIN('W6'!T78, 9)","v":"000000000"},{"$f":"DEC2BIN('W6'!U78, 9)","v":"000000000"},{"$f":"DEC2BIN('W6'!V78, 9)","v":"000000000"},{"$f":"DEC2BIN('W6'!W78, 9)","v":"000000000"},{"$f":"DEC2BIN('W6'!X78, 9)","v":"000000000"},{"$f":"DEC2BIN('W6'!Y78, 9)","v":"000000000"},{"$f":"DEC2BIN('W6'!Z78, 9)","v":"000000000"},{"$f":"DEC2BIN('W6'!AA78, 9)","v":"000000000"},{"$f":"DEC2BIN('W6'!AB78, 9)","v":"000000000"},{"$f":"DEC2BIN('W6'!AC78, 9)","v":"000000000"},{"$f":"DEC2BIN('W6'!AD78, 9)","v":"000000000"},{"$f":"DEC2BIN('W6'!AE78, 9)","v":"000000000"},{"$f":"DEC2BIN('W6'!AF78, 9)","v":"000000000"},{"$f":"DEC2BIN('W6'!AG78, 9)","v":"000000000"},{"$f":"DEC2BIN('W6'!AH78, 9)","v":"000000000"},{"$f":"DEC2BIN('W6'!AI78, 9)","v":"000000000"},{"$f":"DEC2BIN('W6'!AJ78, 9)","v":"000000000"},{"$f":"DEC2BIN('W6'!AK78, 9)","v":"000000000"},{"$f":"DEC2BIN('W6'!AL78, 9)","v":"000000000"},{"$f":"DEC2BIN('W6'!AM78, 9)","v":"000000000"},{"$f":"DEC2BIN('W6'!AN78, 9)","v":"000000000"},{"$f":"DEC2BIN('W6'!AO78, 9)","v":"000000000"},{"$f":"DEC2BIN('W6'!AP78, 9)","v":"000000000"},{"$f":"DEC2BIN('W6'!AQ78, 9)","v":"000000000"}]
[{"$f":"DEC2BIN('W6'!A79, 9)","v":"001000001"},{"$f":"DEC2BIN('W6'!B79, 9)","v":"1110100100"},{"$f":"DEC2BIN('W6'!C79, 9)","v":"000001110"},{"$f":"DEC2BIN('W6'!D79, 9)","v":"000100111"},{"$f":"DEC2BIN('W6'!E79, 9)","v":"000010100"},{"$f":"DEC2BIN('W6'!F79, 9)","v":"1111001011"},{"$f":"DEC2BIN('W6'!G79, 9)","v":"1111011000"},{"$f":"DEC2BIN('W6'!H79, 9)","v":"1111000011"},{"$f":"DEC2BIN('W6'!I79, 9)","v":"000111111"},{"$f":"DEC2BIN('W6'!J79, 9)","v":"1111011001"},{"$f":"DEC2BIN('W6'!K79, 9)","v":"000000000"},{"$f":"DEC2BIN('W6'!L79, 9)","v":"000000000"},{"$f":"DEC2BIN('W6'!M79, 9)","v":"000000000"},{"$f":"DEC2BIN('W6'!N79, 9)","v":"000000000"},{"$f":"DEC2BIN('W6'!O79, 9)","v":"000000000"},{"$f":"DEC2BIN('W6'!P79, 9)","v":"000000000"},{"$f":"DEC2BIN('W6'!Q79, 9)","v":"000000000"},{"$f":"DEC2BIN('W6'!R79, 9)","v":"000000000"},{"$f":"DEC2BIN('W6'!S79, 9)","v":"000000000"},{"$f":"DEC2BIN('W6'!T79, 9)","v":"000000000"},{"$f":"DEC2BIN('W6'!U79, 9)","v":"000000000"},{"$f":"DEC2BIN('W6'!V79, 9)","v":"000000000"},{"$f":"DEC2BIN('W6'!W79, 9)","v":"000000000"},{"$f":"DEC2BIN('W6'!X79, 9)","v":"000000000"},{"$f":"DEC2BIN('W6'!Y79, 9)","v":"000000000"},{"$f":"DEC2BIN('W6'!Z79, 9)","v":"000000000"},{"$f":"DEC2BIN('W6'!AA79, 9)","v":"000000000"},{"$f":"DEC2BIN('W6'!AB79, 9)","v":"000000000"},{"$f":"DEC2BIN('W6'!AC79, 9)","v":"000000000"},{"$f":"DEC2BIN('W6'!AD79, 9)","v":"000000000"},{"$f":"DEC2BIN('W6'!AE79, 9)","v":"000000000"},{"$f":"DEC2BIN('W6'!AF79, 9)","v":"000000000"},{"$f":"DEC2BIN('W6'!AG79, 9)","v":"000000000"},{"$f":"DEC2BIN('W6'!AH79, 9)","v":"000000000"},{"$f":"DEC2BIN('W6'!AI79, 9)","v":"000000000"},{"$f":"DEC2BIN('W6'!AJ79, 9)","v":"000000000"},{"$f":"DEC2BIN('W6'!AK79, 9)","v":"000000000"},{"$f":"DEC2BIN('W6'!AL79, 9)","v":"000000000"},{"$f":"DEC2BIN('W6'!AM79, 9)","v":"000000000"},{"$f":"DEC2BIN('W6'!AN79, 9)","v":"000000000"},{"$f":"DEC2BIN('W6'!AO79, 9)","v":"000000000"},{"$f":"DEC2BIN('W6'!AP79, 9)","v":"000000000"},{"$f":"DEC2BIN('W6'!AQ79, 9)","v":"000000000"}]
[{"$f":"DEC2BIN('W6'!A80, 9)","v":"000001111"},{"$f":"DEC2BIN('W6'!B80, 9)","v":"000011000"},{"$f":"DEC2BIN('W6'!C80, 9)","v":"1111111011"},{"$f":"DEC2BIN('W6'!D80, 9)","v":"1111101010"},{"$f":"DEC2BIN('W6'!E80, 9)","v":"1111011010"},{"$f":"DEC2BIN('W6'!F80, 9)","v":"1111000010"},{"$f":"DEC2BIN('W6'!G80, 9)","v":"1111111111"},{"$f":"DEC2BIN('W6'!H80, 9)","v":"000111101"},{"$f":"DEC2BIN('W6'!I80, 9)","v":"1111111001"},{"$f":"DEC2BIN('W6'!J80, 9)","v":"1111111111"},{"$f":"DEC2BIN('W6'!K80, 9)","v":"000000000"},{"$f":"DEC2BIN('W6'!L80, 9)","v":"000000000"},{"$f":"DEC2BIN('W6'!M80, 9)","v":"000000000"},{"$f":"DEC2BIN('W6'!N80, 9)","v":"000000000"},{"$f":"DEC2BIN('W6'!O80, 9)","v":"000000000"},{"$f":"DEC2BIN('W6'!P80, 9)","v":"000000000"},{"$f":"DEC2BIN('W6'!Q80, 9)","v":"000000000"},{"$f":"DEC2BIN('W6'!R80, 9)","v":"000000000"},{"$f":"DEC2BIN('W6'!S80, 9)","v":"000000000"},{"$f":"DEC2BIN('W6'!T80, 9)","v":"000000000"},{"$f":"DEC2BIN('W6'!U80, 9)","v":"000000000"},{"$f":"DEC2BIN('W6'!V80, 9)","v":"000000000"},{"$f":"DEC2BIN('W6'!W80, 9)","v":"000000000"},{"$f":"DEC2BIN('W6'!X80, 9)","v":"000000000"},{"$f":"DEC2BIN('W6'!Y80, 9)","v":"000000000"},{"$f":"DEC2BIN('W6'!Z80, 9)","v":"000000000"},{"$f":"DEC2BIN('W6'!AA80, 9)","v":"000000000"},{"$f":"DEC2BIN('W6'!AB80, 9)","v":"000000000"},{"$f":"DEC2BIN('W6'!AC80, 9)","v":"000000000"},{"$f":"DEC2BIN('W6'!AD80, 9)","v":"000000000"},{"$f":"DEC2BIN('W6'!AE80, 9)","v":"000000000"},{"$f":"DEC2BIN('W6'!AF80, 9)","v":"000000000"},{"$f":"DEC2BIN('W6'!AG80, 9)","v":"000000000"},{"$f":"DEC2BIN('W6'!AH80, 9)","v":"000000000"},{"$f":"DEC2BIN('W6'!AI80, 9)","v":"000000000"},{"$f":"DEC2BIN('W6'!AJ80, 9)","v":"000000000"},{"$f":"DEC2BIN('W6'!AK80, 9)","v":"000000000"},{"$f":"DEC2BIN('W6'!AL80, 9)","v":"000000000"},{"$f":"DEC2BIN('W6'!AM80, 9)","v":"000000000"},{"$f":"DEC2BIN('W6'!AN80, 9)","v":"000000000"},{"$f":"DEC2BIN('W6'!AO80, 9)","v":"000000000"},{"$f":"DEC2BIN('W6'!AP80, 9)","v":"000000000"},{"$f":"DEC2BIN('W6'!AQ80, 9)","v":"000000000"}]
[{"$f":"DEC2BIN('W6'!A81, 9)","v":"1111111101"},{"$f":"DEC2BIN('W6'!B81, 9)","v":"000010111"},{"$f":"DEC2BIN('W6'!C81, 9)","v":"000010001"},{"$f":"DEC2BIN('W6'!D81, 9)","v":"000001100"},{"$f":"DEC2BIN('W6'!E81, 9)","v":"1111010100"},{"$f":"DEC2BIN('W6'!F81, 9)","v":"000011100"},{"$f":"DEC2BIN('W6'!G81, 9)","v":"000011011"},{"$f":"DEC2BIN('W6'!H81, 9)","v":"000011010"},{"$f":"DEC2BIN('W6'!I81, 9)","v":"1111000011"},{"$f":"DEC2BIN('W6'!J81, 9)","v":"1110101101"},{"$f":"DEC2BIN('W6'!K81, 9)","v":"000000000"},{"$f":"DEC2BIN('W6'!L81, 9)","v":"000000000"},{"$f":"DEC2BIN('W6'!M81, 9)","v":"000000000"},{"$f":"DEC2BIN('W6'!N81, 9)","v":"000000000"},{"$f":"DEC2BIN('W6'!O81, 9)","v":"000000000"},{"$f":"DEC2BIN('W6'!P81, 9)","v":"000000000"},{"$f":"DEC2BIN('W6'!Q81, 9)","v":"000000000"},{"$f":"DEC2BIN('W6'!R81, 9)","v":"000000000"},{"$f":"DEC2BIN('W6'!S81, 9)","v":"000000000"},{"$f":"DEC2BIN('W6'!T81, 9)","v":"000000000"},{"$f":"DEC2BIN('W6'!U81, 9)","v":"000000000"},{"$f":"DEC2BIN('W6'!V81, 9)","v":"000000000"},{"$f":"DEC2BIN('W6'!W81, 9)","v":"000000000"},{"$f":"DEC2BIN('W6'!X81, 9)","v":"000000000"},{"$f":"DEC2BIN('W6'!Y81, 9)","v":"000000000"},{"$f":"DEC2BIN('W6'!Z81, 9)","v":"000000000"},{"$f":"DEC2BIN('W6'!AA81, 9)","v":"000000000"},{"$f":"DEC2BIN('W6'!AB81, 9)","v":"000000000"},{"$f":"DEC2BIN('W6'!AC81, 9)","v":"000000000"},{"$f":"DEC2BIN('W6'!AD81, 9)","v":"000000000"},{"$f":"DEC2BIN('W6'!AE81, 9)","v":"000000000"},{"$f":"DEC2BIN('W6'!AF81, 9)","v":"000000000"},{"$f":"DEC2BIN('W6'!AG81, 9)","v":"000000000"},{"$f":"DEC2BIN('W6'!AH81, 9)","v":"000000000"},{"$f":"DEC2BIN('W6'!AI81, 9)","v":"000000000"},{"$f":"DEC2BIN('W6'!AJ81, 9)","v":"000000000"},{"$f":"DEC2BIN('W6'!AK81, 9)","v":"000000000"},{"$f":"DEC2BIN('W6'!AL81, 9)","v":"000000000"},{"$f":"DEC2BIN('W6'!AM81, 9)","v":"000000000"},{"$f":"DEC2BIN('W6'!AN81, 9)","v":"000000000"},{"$f":"DEC2BIN('W6'!AO81, 9)","v":"000000000"},{"$f":"DEC2BIN('W6'!AP81, 9)","v":"000000000"},{"$f":"DEC2BIN('W6'!AQ81, 9)","v":"000000000"}]
[{"$f":"DEC2BIN('W6'!A82, 9)","v":"1111001111"},{"$f":"DEC2BIN('W6'!B82, 9)","v":"000110000"},{"$f":"DEC2BIN('W6'!C82, 9)","v":"1111100000"},{"$f":"DEC2BIN('W6'!D82, 9)","v":"1111111101"},{"$f":"DEC2BIN('W6'!E82, 9)","v":"000100011"},{"$f":"DEC2BIN('W6'!F82, 9)","v":"000001001"},{"$f":"DEC2BIN('W6'!G82, 9)","v":"000101101"},{"$f":"DEC2BIN('W6'!H82, 9)","v":"000000000"},{"$f":"DEC2BIN('W6'!I82, 9)","v":"000100010"},{"$f":"DEC2BIN('W6'!J82, 9)","v":"000010000"},{"$f":"DEC2BIN('W6'!K82, 9)","v":"000000000"},{"$f":"DEC2BIN('W6'!L82, 9)","v":"000000000"},{"$f":"DEC2BIN('W6'!M82, 9)","v":"000000000"},{"$f":"DEC2BIN('W6'!N82, 9)","v":"000000000"},{"$f":"DEC2BIN('W6'!O82, 9)","v":"000000000"},{"$f":"DEC2BIN('W6'!P82, 9)","v":"000000000"},{"$f":"DEC2BIN('W6'!Q82, 9)","v":"000000000"},{"$f":"DEC2BIN('W6'!R82, 9)","v":"000000000"},{"$f":"DEC2BIN('W6'!S82, 9)","v":"000000000"},{"$f":"DEC2BIN('W6'!T82, 9)","v":"000000000"},{"$f":"DEC2BIN('W6'!U82, 9)","v":"000000000"},{"$f":"DEC2BIN('W6'!V82, 9)","v":"000000000"},{"$f":"DEC2BIN('W6'!W82, 9)","v":"000000000"},{"$f":"DEC2BIN('W6'!X82, 9)","v":"000000000"},{"$f":"DEC2BIN('W6'!Y82, 9)","v":"000000000"},{"$f":"DEC2BIN('W6'!Z82, 9)","v":"000000000"},{"$f":"DEC2BIN('W6'!AA82, 9)","v":"000000000"},{"$f":"DEC2BIN('W6'!AB82, 9)","v":"000000000"},{"$f":"DEC2BIN('W6'!AC82, 9)","v":"000000000"},{"$f":"DEC2BIN('W6'!AD82, 9)","v":"000000000"},{"$f":"DEC2BIN('W6'!AE82, 9)","v":"000000000"},{"$f":"DEC2BIN('W6'!AF82, 9)","v":"000000000"},{"$f":"DEC2BIN('W6'!AG82, 9)","v":"000000000"},{"$f":"DEC2BIN('W6'!AH82, 9)","v":"000000000"},{"$f":"DEC2BIN('W6'!AI82, 9)","v":"000000000"},{"$f":"DEC2BIN('W6'!AJ82, 9)","v":"000000000"},{"$f":"DEC2BIN('W6'!AK82, 9)","v":"000000000"},{"$f":"DEC2BIN('W6'!AL82, 9)","v":"000000000"},{"$f":"DEC2BIN('W6'!AM82, 9)","v":"000000000"},{"$f":"DEC2BIN('W6'!AN82, 9)","v":"000000000"},{"$f":"DEC2BIN('W6'!AO82, 9)","v":"000000000"},{"$f":"DEC2BIN('W6'!AP82, 9)","v":"000000000"},{"$f":"DEC2BIN('W6'!AQ82, 9)","v":"000000000"}]
[{"$f":"DEC2BIN('W6'!A83, 9)","v":"1111000110"},{"$f":"DEC2BIN('W6'!B83, 9)","v":"1111011011"},{"$f":"DEC2BIN('W6'!C83, 9)","v":"1111110010"},{"$f":"DEC2BIN('W6'!D83, 9)","v":"1110011001"},{"$f":"DEC2BIN('W6'!E83, 9)","v":"000100000"},{"$f":"DEC2BIN('W6'!F83, 9)","v":"1111011011"},{"$f":"DEC2BIN('W6'!G83, 9)","v":"1111111100"},{"$f":"DEC2BIN('W6'!H83, 9)","v":"1110111011"},{"$f":"DEC2BIN('W6'!I83, 9)","v":"1111000110"},{"$f":"DEC2BIN('W6'!J83, 9)","v":"000011111"},{"$f":"DEC2BIN('W6'!K83, 9)","v":"000000000"},{"$f":"DEC2BIN('W6'!L83, 9)","v":"000000000"},{"$f":"DEC2BIN('W6'!M83, 9)","v":"000000000"},{"$f":"DEC2BIN('W6'!N83, 9)","v":"000000000"},{"$f":"DEC2BIN('W6'!O83, 9)","v":"000000000"},{"$f":"DEC2BIN('W6'!P83, 9)","v":"000000000"},{"$f":"DEC2BIN('W6'!Q83, 9)","v":"000000000"},{"$f":"DEC2BIN('W6'!R83, 9)","v":"000000000"},{"$f":"DEC2BIN('W6'!S83, 9)","v":"000000000"},{"$f":"DEC2BIN('W6'!T83, 9)","v":"000000000"},{"$f":"DEC2BIN('W6'!U83, 9)","v":"000000000"},{"$f":"DEC2BIN('W6'!V83, 9)","v":"000000000"},{"$f":"DEC2BIN('W6'!W83, 9)","v":"000000000"},{"$f":"DEC2BIN('W6'!X83, 9)","v":"000000000"},{"$f":"DEC2BIN('W6'!Y83, 9)","v":"000000000"},{"$f":"DEC2BIN('W6'!Z83, 9)","v":"000000000"},{"$f":"DEC2BIN('W6'!AA83, 9)","v":"000000000"},{"$f":"DEC2BIN('W6'!AB83, 9)","v":"000000000"},{"$f":"DEC2BIN('W6'!AC83, 9)","v":"000000000"},{"$f":"DEC2BIN('W6'!AD83, 9)","v":"000000000"},{"$f":"DEC2BIN('W6'!AE83, 9)","v":"000000000"},{"$f":"DEC2BIN('W6'!AF83, 9)","v":"000000000"},{"$f":"DEC2BIN('W6'!AG83, 9)","v":"000000000"},{"$f":"DEC2BIN('W6'!AH83, 9)","v":"000000000"},{"$f":"DEC2BIN('W6'!AI83, 9)","v":"000000000"},{"$f":"DEC2BIN('W6'!AJ83, 9)","v":"000000000"},{"$f":"DEC2BIN('W6'!AK83, 9)","v":"000000000"},{"$f":"DEC2BIN('W6'!AL83, 9)","v":"000000000"},{"$f":"DEC2BIN('W6'!AM83, 9)","v":"000000000"},{"$f":"DEC2BIN('W6'!AN83, 9)","v":"000000000"},{"$f":"DEC2BIN('W6'!AO83, 9)","v":"000000000"},{"$f":"DEC2BIN('W6'!AP83, 9)","v":"000000000"},{"$f":"DEC2BIN('W6'!AQ83, 9)","v":"000000000"}]
[{"$f":"DEC2BIN('W6'!A84, 9)","v":"1111111100"},{"$f":"DEC2BIN('W6'!B84, 9)","v":"000101011"},{"$f":"DEC2BIN('W6'!C84, 9)","v":"000010000"},{"$f":"DEC2BIN('W6'!D84, 9)","v":"000010100"},{"$f":"DEC2BIN('W6'!E84, 9)","v":"000001000"},{"$f":"DEC2BIN('W6'!F84, 9)","v":"000101010"},{"$f":"DEC2BIN('W6'!G84, 9)","v":"000000000"},{"$f":"DEC2BIN('W6'!H84, 9)","v":"000010000"},{"$f":"DEC2BIN('W6'!I84, 9)","v":"000100100"},{"$f":"DEC2BIN('W6'!J84, 9)","v":"000100000"},{"$f":"DEC2BIN('W6'!K84, 9)","v":"000000000"},{"$f":"DEC2BIN('W6'!L84, 9)","v":"000000000"},{"$f":"DEC2BIN('W6'!M84, 9)","v":"000000000"},{"$f":"DEC2BIN('W6'!N84, 9)","v":"000000000"},{"$f":"DEC2BIN('W6'!O84, 9)","v":"000000000"},{"$f":"DEC2BIN('W6'!P84, 9)","v":"000000000"},{"$f":"DEC2BIN('W6'!Q84, 9)","v":"000000000"},{"$f":"DEC2BIN('W6'!R84, 9)","v":"000000000"},{"$f":"DEC2BIN('W6'!S84, 9)","v":"000000000"},{"$f":"DEC2BIN('W6'!T84, 9)","v":"000000000"},{"$f":"DEC2BIN('W6'!U84, 9)","v":"000000000"},{"$f":"DEC2BIN('W6'!V84, 9)","v":"000000000"},{"$f":"DEC2BIN('W6'!W84, 9)","v":"000000000"},{"$f":"DEC2BIN('W6'!X84, 9)","v":"000000000"},{"$f":"DEC2BIN('W6'!Y84, 9)","v":"000000000"},{"$f":"DEC2BIN('W6'!Z84, 9)","v":"000000000"},{"$f":"DEC2BIN('W6'!AA84, 9)","v":"000000000"},{"$f":"DEC2BIN('W6'!AB84, 9)","v":"000000000"},{"$f":"DEC2BIN('W6'!AC84, 9)","v":"000000000"},{"$f":"DEC2BIN('W6'!AD84, 9)","v":"000000000"},{"$f":"DEC2BIN('W6'!AE84, 9)","v":"000000000"},{"$f":"DEC2BIN('W6'!AF84, 9)","v":"000000000"},{"$f":"DEC2BIN('W6'!AG84, 9)","v":"000000000"},{"$f":"DEC2BIN('W6'!AH84, 9)","v":"000000000"},{"$f":"DEC2BIN('W6'!AI84, 9)","v":"000000000"},{"$f":"DEC2BIN('W6'!AJ84, 9)","v":"000000000"},{"$f":"DEC2BIN('W6'!AK84, 9)","v":"000000000"},{"$f":"DEC2BIN('W6'!AL84, 9)","v":"000000000"},{"$f":"DEC2BIN('W6'!AM84, 9)","v":"000000000"},{"$f":"DEC2BIN('W6'!AN84, 9)","v":"000000000"},{"$f":"DEC2BIN('W6'!AO84, 9)","v":"000000000"},{"$f":"DEC2BIN('W6'!AP84, 9)","v":"000000000"},{"$f":"DEC2BIN('W6'!AQ84, 9)","v":"000000000"}]
[{"$f":"DEC2BIN('W6'!A85, 9)","v":"1111000110"},{"$f":"DEC2BIN('W6'!B85, 9)","v":"1111110110"},{"$f":"DEC2BIN('W6'!C85, 9)","v":"1111001011"},{"$f":"DEC2BIN('W6'!D85, 9)","v":"1111111110"},{"$f":"DEC2BIN('W6'!E85, 9)","v":"1110101011"},{"$f":"DEC2BIN('W6'!F85, 9)","v":"000111100"},{"$f":"DEC2BIN('W6'!G85, 9)","v":"000000000"},{"$f":"DEC2BIN('W6'!H85, 9)","v":"000010111"},{"$f":"DEC2BIN('W6'!I85, 9)","v":"000001011"},{"$f":"DEC2BIN('W6'!J85, 9)","v":"1111010010"},{"$f":"DEC2BIN('W6'!K85, 9)","v":"000000000"},{"$f":"DEC2BIN('W6'!L85, 9)","v":"000000000"},{"$f":"DEC2BIN('W6'!M85, 9)","v":"000000000"},{"$f":"DEC2BIN('W6'!N85, 9)","v":"000000000"},{"$f":"DEC2BIN('W6'!O85, 9)","v":"000000000"},{"$f":"DEC2BIN('W6'!P85, 9)","v":"000000000"},{"$f":"DEC2BIN('W6'!Q85, 9)","v":"000000000"},{"$f":"DEC2BIN('W6'!R85, 9)","v":"000000000"},{"$f":"DEC2BIN('W6'!S85, 9)","v":"000000000"},{"$f":"DEC2BIN('W6'!T85, 9)","v":"000000000"},{"$f":"DEC2BIN('W6'!U85, 9)","v":"000000000"},{"$f":"DEC2BIN('W6'!V85, 9)","v":"000000000"},{"$f":"DEC2BIN('W6'!W85, 9)","v":"000000000"},{"$f":"DEC2BIN('W6'!X85, 9)","v":"000000000"},{"$f":"DEC2BIN('W6'!Y85, 9)","v":"000000000"},{"$f":"DEC2BIN('W6'!Z85, 9)","v":"000000000"},{"$f":"DEC2BIN('W6'!AA85, 9)","v":"000000000"},{"$f":"DEC2BIN('W6'!AB85, 9)","v":"000000000"},{"$f":"DEC2BIN('W6'!AC85, 9)","v":"000000000"},{"$f":"DEC2BIN('W6'!AD85, 9)","v":"000000000"},{"$f":"DEC2BIN('W6'!AE85, 9)","v":"000000000"},{"$f":"DEC2BIN('W6'!AF85, 9)","v":"000000000"},{"$f":"DEC2BIN('W6'!AG85, 9)","v":"000000000"},{"$f":"DEC2BIN('W6'!AH85, 9)","v":"000000000"},{"$f":"DEC2BIN('W6'!AI85, 9)","v":"000000000"},{"$f":"DEC2BIN('W6'!AJ85, 9)","v":"000000000"},{"$f":"DEC2BIN('W6'!AK85, 9)","v":"000000000"},{"$f":"DEC2BIN('W6'!AL85, 9)","v":"000000000"},{"$f":"DEC2BIN('W6'!AM85, 9)","v":"000000000"},{"$f":"DEC2BIN('W6'!AN85, 9)","v":"000000000"},{"$f":"DEC2BIN('W6'!AO85, 9)","v":"000000000"},{"$f":"DEC2BIN('W6'!AP85, 9)","v":"000000000"},{"$f":"DEC2BIN('W6'!AQ85, 9)","v":"000000000"}]
[{"$f":"DEC2BIN('W6'!A86, 9)","v":"000101000"},{"$f":"DEC2BIN('W6'!B86, 9)","v":"000100011"},{"$f":"DEC2BIN('W6'!C86, 9)","v":"000010111"},{"$f":"DEC2BIN('W6'!D86, 9)","v":"1111101001"},{"$f":"DEC2BIN('W6'!E86, 9)","v":"000010110"},{"$f":"DEC2BIN('W6'!F86, 9)","v":"1111011001"},{"$f":"DEC2BIN('W6'!G86, 9)","v":"1110011011"},{"$f":"DEC2BIN('W6'!H86, 9)","v":"1110110011"},{"$f":"DEC2BIN('W6'!I86, 9)","v":"000001000"},{"$f":"DEC2BIN('W6'!J86, 9)","v":"1110001011"},{"$f":"DEC2BIN('W6'!K86, 9)","v":"000000000"},{"$f":"DEC2BIN('W6'!L86, 9)","v":"000000000"},{"$f":"DEC2BIN('W6'!M86, 9)","v":"000000000"},{"$f":"DEC2BIN('W6'!N86, 9)","v":"000000000"},{"$f":"DEC2BIN('W6'!O86, 9)","v":"000000000"},{"$f":"DEC2BIN('W6'!P86, 9)","v":"000000000"},{"$f":"DEC2BIN('W6'!Q86, 9)","v":"000000000"},{"$f":"DEC2BIN('W6'!R86, 9)","v":"000000000"},{"$f":"DEC2BIN('W6'!S86, 9)","v":"000000000"},{"$f":"DEC2BIN('W6'!T86, 9)","v":"000000000"},{"$f":"DEC2BIN('W6'!U86, 9)","v":"000000000"},{"$f":"DEC2BIN('W6'!V86, 9)","v":"000000000"},{"$f":"DEC2BIN('W6'!W86, 9)","v":"000000000"},{"$f":"DEC2BIN('W6'!X86, 9)","v":"000000000"},{"$f":"DEC2BIN('W6'!Y86, 9)","v":"000000000"},{"$f":"DEC2BIN('W6'!Z86, 9)","v":"000000000"},{"$f":"DEC2BIN('W6'!AA86, 9)","v":"000000000"},{"$f":"DEC2BIN('W6'!AB86, 9)","v":"000000000"},{"$f":"DEC2BIN('W6'!AC86, 9)","v":"000000000"},{"$f":"DEC2BIN('W6'!AD86, 9)","v":"000000000"},{"$f":"DEC2BIN('W6'!AE86, 9)","v":"000000000"},{"$f":"DEC2BIN('W6'!AF86, 9)","v":"000000000"},{"$f":"DEC2BIN('W6'!AG86, 9)","v":"000000000"},{"$f":"DEC2BIN('W6'!AH86, 9)","v":"000000000"},{"$f":"DEC2BIN('W6'!AI86, 9)","v":"000000000"},{"$f":"DEC2BIN('W6'!AJ86, 9)","v":"000000000"},{"$f":"DEC2BIN('W6'!AK86, 9)","v":"000000000"},{"$f":"DEC2BIN('W6'!AL86, 9)","v":"000000000"},{"$f":"DEC2BIN('W6'!AM86, 9)","v":"000000000"},{"$f":"DEC2BIN('W6'!AN86, 9)","v":"000000000"},{"$f":"DEC2BIN('W6'!AO86, 9)","v":"000000000"},{"$f":"DEC2BIN('W6'!AP86, 9)","v":"000000000"},{"$f":"DEC2BIN('W6'!AQ86, 9)","v":"000000000"}]
[{"$f":"DEC2BIN('W6'!A87, 9)","v":"000010011"},{"$f":"DEC2BIN('W6'!B87, 9)","v":"1111011000"},{"$f":"DEC2BIN('W6'!C87, 9)","v":"1111010000"},{"$f":"DEC2BIN('W6'!D87, 9)","v":"000100010"},{"$f":"DEC2BIN('W6'!E87, 9)","v":"000011100"},{"$f":"DEC2BIN('W6'!F87, 9)","v":"1111101100"},{"$f":"DEC2BIN('W6'!G87, 9)","v":"000011111"},{"$f":"DEC2BIN('W6'!H87, 9)","v":"1110100001"},{"$f":"DEC2BIN('W6'!I87, 9)","v":"1111011010"},{"$f":"DEC2BIN('W6'!J87, 9)","v":"1111110101"},{"$f":"DEC2BIN('W6'!K87, 9)","v":"000000000"},{"$f":"DEC2BIN('W6'!L87, 9)","v":"000000000"},{"$f":"DEC2BIN('W6'!M87, 9)","v":"000000000"},{"$f":"DEC2BIN('W6'!N87, 9)","v":"000000000"},{"$f":"DEC2BIN('W6'!O87, 9)","v":"000000000"},{"$f":"DEC2BIN('W6'!P87, 9)","v":"000000000"},{"$f":"DEC2BIN('W6'!Q87, 9)","v":"000000000"},{"$f":"DEC2BIN('W6'!R87, 9)","v":"000000000"},{"$f":"DEC2BIN('W6'!S87, 9)","v":"000000000"},{"$f":"DEC2BIN('W6'!T87, 9)","v":"000000000"},{"$f":"DEC2BIN('W6'!U87, 9)","v":"000000000"},{"$f":"DEC2BIN('W6'!V87, 9)","v":"000000000"},{"$f":"DEC2BIN('W6'!W87, 9)","v":"000000000"},{"$f":"DEC2BIN('W6'!X87, 9)","v":"000000000"},{"$f":"DEC2BIN('W6'!Y87, 9)","v":"000000000"},{"$f":"DEC2BIN('W6'!Z87, 9)","v":"000000000"},{"$f":"DEC2BIN('W6'!AA87, 9)","v":"000000000"},{"$f":"DEC2BIN('W6'!AB87, 9)","v":"000000000"},{"$f":"DEC2BIN('W6'!AC87, 9)","v":"000000000"},{"$f":"DEC2BIN('W6'!AD87, 9)","v":"000000000"},{"$f":"DEC2BIN('W6'!AE87, 9)","v":"000000000"},{"$f":"DEC2BIN('W6'!AF87, 9)","v":"000000000"},{"$f":"DEC2BIN('W6'!AG87, 9)","v":"000000000"},{"$f":"DEC2BIN('W6'!AH87, 9)","v":"000000000"},{"$f":"DEC2BIN('W6'!AI87, 9)","v":"000000000"},{"$f":"DEC2BIN('W6'!AJ87, 9)","v":"000000000"},{"$f":"DEC2BIN('W6'!AK87, 9)","v":"000000000"},{"$f":"DEC2BIN('W6'!AL87, 9)","v":"000000000"},{"$f":"DEC2BIN('W6'!AM87, 9)","v":"000000000"},{"$f":"DEC2BIN('W6'!AN87, 9)","v":"000000000"},{"$f":"DEC2BIN('W6'!AO87, 9)","v":"000000000"},{"$f":"DEC2BIN('W6'!AP87, 9)","v":"000000000"},{"$f":"DEC2BIN('W6'!AQ87, 9)","v":"000000000"}]
[{"$f":"DEC2BIN('W6'!A88, 9)","v":"1111001000"},{"$f":"DEC2BIN('W6'!B88, 9)","v":"000101011"},{"$f":"DEC2BIN('W6'!C88, 9)","v":"000000000"},{"$f":"DEC2BIN('W6'!D88, 9)","v":"1111011100"},{"$f":"DEC2BIN('W6'!E88, 9)","v":"1110101001"},{"$f":"DEC2BIN('W6'!F88, 9)","v":"1111100110"},{"$f":"DEC2BIN('W6'!G88, 9)","v":"001000110"},{"$f":"DEC2BIN('W6'!H88, 9)","v":"000111100"},{"$f":"DEC2BIN('W6'!I88, 9)","v":"000001001"},{"$f":"DEC2BIN('W6'!J88, 9)","v":"1110111110"},{"$f":"DEC2BIN('W6'!K88, 9)","v":"000000000"},{"$f":"DEC2BIN('W6'!L88, 9)","v":"000000000"},{"$f":"DEC2BIN('W6'!M88, 9)","v":"000000000"},{"$f":"DEC2BIN('W6'!N88, 9)","v":"000000000"},{"$f":"DEC2BIN('W6'!O88, 9)","v":"000000000"},{"$f":"DEC2BIN('W6'!P88, 9)","v":"000000000"},{"$f":"DEC2BIN('W6'!Q88, 9)","v":"000000000"},{"$f":"DEC2BIN('W6'!R88, 9)","v":"000000000"},{"$f":"DEC2BIN('W6'!S88, 9)","v":"000000000"},{"$f":"DEC2BIN('W6'!T88, 9)","v":"000000000"},{"$f":"DEC2BIN('W6'!U88, 9)","v":"000000000"},{"$f":"DEC2BIN('W6'!V88, 9)","v":"000000000"},{"$f":"DEC2BIN('W6'!W88, 9)","v":"000000000"},{"$f":"DEC2BIN('W6'!X88, 9)","v":"000000000"},{"$f":"DEC2BIN('W6'!Y88, 9)","v":"000000000"},{"$f":"DEC2BIN('W6'!Z88, 9)","v":"000000000"},{"$f":"DEC2BIN('W6'!AA88, 9)","v":"000000000"},{"$f":"DEC2BIN('W6'!AB88, 9)","v":"000000000"},{"$f":"DEC2BIN('W6'!AC88, 9)","v":"000000000"},{"$f":"DEC2BIN('W6'!AD88, 9)","v":"000000000"},{"$f":"DEC2BIN('W6'!AE88, 9)","v":"000000000"},{"$f":"DEC2BIN('W6'!AF88, 9)","v":"000000000"},{"$f":"DEC2BIN('W6'!AG88, 9)","v":"000000000"},{"$f":"DEC2BIN('W6'!AH88, 9)","v":"000000000"},{"$f":"DEC2BIN('W6'!AI88, 9)","v":"000000000"},{"$f":"DEC2BIN('W6'!AJ88, 9)","v":"000000000"},{"$f":"DEC2BIN('W6'!AK88, 9)","v":"000000000"},{"$f":"DEC2BIN('W6'!AL88, 9)","v":"000000000"},{"$f":"DEC2BIN('W6'!AM88, 9)","v":"000000000"},{"$f":"DEC2BIN('W6'!AN88, 9)","v":"000000000"},{"$f":"DEC2BIN('W6'!AO88, 9)","v":"000000000"},{"$f":"DEC2BIN('W6'!AP88, 9)","v":"000000000"},{"$f":"DEC2BIN('W6'!AQ88, 9)","v":"000000000"}]
[{"$f":"DEC2BIN('W6'!A89, 9)","v":"1111111111"},{"$f":"DEC2BIN('W6'!B89, 9)","v":"1110101111"},{"$f":"DEC2BIN('W6'!C89, 9)","v":"1111011011"},{"$f":"DEC2BIN('W6'!D89, 9)","v":"1110100100"},{"$f":"DEC2BIN('W6'!E89, 9)","v":"000001111"},{"$f":"DEC2BIN('W6'!F89, 9)","v":"1111001100"},{"$f":"DEC2BIN('W6'!G89, 9)","v":"1111010001"},{"$f":"DEC2BIN('W6'!H89, 9)","v":"000101110"},{"$f":"DEC2BIN('W6'!I89, 9)","v":"000110110"},{"$f":"DEC2BIN('W6'!J89, 9)","v":"001000101"},{"$f":"DEC2BIN('W6'!K89, 9)","v":"000000000"},{"$f":"DEC2BIN('W6'!L89, 9)","v":"000000000"},{"$f":"DEC2BIN('W6'!M89, 9)","v":"000000000"},{"$f":"DEC2BIN('W6'!N89, 9)","v":"000000000"},{"$f":"DEC2BIN('W6'!O89, 9)","v":"000000000"},{"$f":"DEC2BIN('W6'!P89, 9)","v":"000000000"},{"$f":"DEC2BIN('W6'!Q89, 9)","v":"000000000"},{"$f":"DEC2BIN('W6'!R89, 9)","v":"000000000"},{"$f":"DEC2BIN('W6'!S89, 9)","v":"000000000"},{"$f":"DEC2BIN('W6'!T89, 9)","v":"000000000"},{"$f":"DEC2BIN('W6'!U89, 9)","v":"000000000"},{"$f":"DEC2BIN('W6'!V89, 9)","v":"000000000"},{"$f":"DEC2BIN('W6'!W89, 9)","v":"000000000"},{"$f":"DEC2BIN('W6'!X89, 9)","v":"000000000"},{"$f":"DEC2BIN('W6'!Y89, 9)","v":"000000000"},{"$f":"DEC2BIN('W6'!Z89, 9)","v":"000000000"},{"$f":"DEC2BIN('W6'!AA89, 9)","v":"000000000"},{"$f":"DEC2BIN('W6'!AB89, 9)","v":"000000000"},{"$f":"DEC2BIN('W6'!AC89, 9)","v":"000000000"},{"$f":"DEC2BIN('W6'!AD89, 9)","v":"000000000"},{"$f":"DEC2BIN('W6'!AE89, 9)","v":"000000000"},{"$f":"DEC2BIN('W6'!AF89, 9)","v":"000000000"},{"$f":"DEC2BIN('W6'!AG89, 9)","v":"000000000"},{"$f":"DEC2BIN('W6'!AH89, 9)","v":"000000000"},{"$f":"DEC2BIN('W6'!AI89, 9)","v":"000000000"},{"$f":"DEC2BIN('W6'!AJ89, 9)","v":"000000000"},{"$f":"DEC2BIN('W6'!AK89, 9)","v":"000000000"},{"$f":"DEC2BIN('W6'!AL89, 9)","v":"000000000"},{"$f":"DEC2BIN('W6'!AM89, 9)","v":"000000000"},{"$f":"DEC2BIN('W6'!AN89, 9)","v":"000000000"},{"$f":"DEC2BIN('W6'!AO89, 9)","v":"000000000"},{"$f":"DEC2BIN('W6'!AP89, 9)","v":"000000000"},{"$f":"DEC2BIN('W6'!AQ89, 9)","v":"000000000"}]
[{"$f":"DEC2BIN('W6'!A90, 9)","v":"1111010111"},{"$f":"DEC2BIN('W6'!B90, 9)","v":"1111001010"},{"$f":"DEC2BIN('W6'!C90, 9)","v":"000101110"},{"$f":"DEC2BIN('W6'!D90, 9)","v":"000101111"},{"$f":"DEC2BIN('W6'!E90, 9)","v":"1111101000"},{"$f":"DEC2BIN('W6'!F90, 9)","v":"1111110001"},{"$f":"DEC2BIN('W6'!G90, 9)","v":"1110111010"},{"$f":"DEC2BIN('W6'!H90, 9)","v":"000110111"},{"$f":"DEC2BIN('W6'!I90, 9)","v":"1111010111"},{"$f":"DEC2BIN('W6'!J90, 9)","v":"000101101"},{"$f":"DEC2BIN('W6'!K90, 9)","v":"000000000"},{"$f":"DEC2BIN('W6'!L90, 9)","v":"000000000"},{"$f":"DEC2BIN('W6'!M90, 9)","v":"000000000"},{"$f":"DEC2BIN('W6'!N90, 9)","v":"000000000"},{"$f":"DEC2BIN('W6'!O90, 9)","v":"000000000"},{"$f":"DEC2BIN('W6'!P90, 9)","v":"000000000"},{"$f":"DEC2BIN('W6'!Q90, 9)","v":"000000000"},{"$f":"DEC2BIN('W6'!R90, 9)","v":"000000000"},{"$f":"DEC2BIN('W6'!S90, 9)","v":"000000000"},{"$f":"DEC2BIN('W6'!T90, 9)","v":"000000000"},{"$f":"DEC2BIN('W6'!U90, 9)","v":"000000000"},{"$f":"DEC2BIN('W6'!V90, 9)","v":"000000000"},{"$f":"DEC2BIN('W6'!W90, 9)","v":"000000000"},{"$f":"DEC2BIN('W6'!X90, 9)","v":"000000000"},{"$f":"DEC2BIN('W6'!Y90, 9)","v":"000000000"},{"$f":"DEC2BIN('W6'!Z90, 9)","v":"000000000"},{"$f":"DEC2BIN('W6'!AA90, 9)","v":"000000000"},{"$f":"DEC2BIN('W6'!AB90, 9)","v":"000000000"},{"$f":"DEC2BIN('W6'!AC90, 9)","v":"000000000"},{"$f":"DEC2BIN('W6'!AD90, 9)","v":"000000000"},{"$f":"DEC2BIN('W6'!AE90, 9)","v":"000000000"},{"$f":"DEC2BIN('W6'!AF90, 9)","v":"000000000"},{"$f":"DEC2BIN('W6'!AG90, 9)","v":"000000000"},{"$f":"DEC2BIN('W6'!AH90, 9)","v":"000000000"},{"$f":"DEC2BIN('W6'!AI90, 9)","v":"000000000"},{"$f":"DEC2BIN('W6'!AJ90, 9)","v":"000000000"},{"$f":"DEC2BIN('W6'!AK90, 9)","v":"000000000"},{"$f":"DEC2BIN('W6'!AL90, 9)","v":"000000000"},{"$f":"DEC2BIN('W6'!AM90, 9)","v":"000000000"},{"$f":"DEC2BIN('W6'!AN90, 9)","v":"000000000"},{"$f":"DEC2BIN('W6'!AO90, 9)","v":"000000000"},{"$f":"DEC2BIN('W6'!AP90, 9)","v":"000000000"},{"$f":"DEC2BIN('W6'!AQ90, 9)","v":"000000000"}]
[{"$f":"DEC2BIN('W6'!A91, 9)","v":"000001101"},{"$f":"DEC2BIN('W6'!B91, 9)","v":"000100001"},{"$f":"DEC2BIN('W6'!C91, 9)","v":"000011111"},{"$f":"DEC2BIN('W6'!D91, 9)","v":"1111011100"},{"$f":"DEC2BIN('W6'!E91, 9)","v":"000100011"},{"$f":"DEC2BIN('W6'!F91, 9)","v":"1111011110"},{"$f":"DEC2BIN('W6'!G91, 9)","v":"1110111011"},{"$f":"DEC2BIN('W6'!H91, 9)","v":"1111010010"},{"$f":"DEC2BIN('W6'!I91, 9)","v":"1110100101"},{"$f":"DEC2BIN('W6'!J91, 9)","v":"000010001"},{"$f":"DEC2BIN('W6'!K91, 9)","v":"000000000"},{"$f":"DEC2BIN('W6'!L91, 9)","v":"000000000"},{"$f":"DEC2BIN('W6'!M91, 9)","v":"000000000"},{"$f":"DEC2BIN('W6'!N91, 9)","v":"000000000"},{"$f":"DEC2BIN('W6'!O91, 9)","v":"000000000"},{"$f":"DEC2BIN('W6'!P91, 9)","v":"000000000"},{"$f":"DEC2BIN('W6'!Q91, 9)","v":"000000000"},{"$f":"DEC2BIN('W6'!R91, 9)","v":"000000000"},{"$f":"DEC2BIN('W6'!S91, 9)","v":"000000000"},{"$f":"DEC2BIN('W6'!T91, 9)","v":"000000000"},{"$f":"DEC2BIN('W6'!U91, 9)","v":"000000000"},{"$f":"DEC2BIN('W6'!V91, 9)","v":"000000000"},{"$f":"DEC2BIN('W6'!W91, 9)","v":"000000000"},{"$f":"DEC2BIN('W6'!X91, 9)","v":"000000000"},{"$f":"DEC2BIN('W6'!Y91, 9)","v":"000000000"},{"$f":"DEC2BIN('W6'!Z91, 9)","v":"000000000"},{"$f":"DEC2BIN('W6'!AA91, 9)","v":"000000000"},{"$f":"DEC2BIN('W6'!AB91, 9)","v":"000000000"},{"$f":"DEC2BIN('W6'!AC91, 9)","v":"000000000"},{"$f":"DEC2BIN('W6'!AD91, 9)","v":"000000000"},{"$f":"DEC2BIN('W6'!AE91, 9)","v":"000000000"},{"$f":"DEC2BIN('W6'!AF91, 9)","v":"000000000"},{"$f":"DEC2BIN('W6'!AG91, 9)","v":"000000000"},{"$f":"DEC2BIN('W6'!AH91, 9)","v":"000000000"},{"$f":"DEC2BIN('W6'!AI91, 9)","v":"000000000"},{"$f":"DEC2BIN('W6'!AJ91, 9)","v":"000000000"},{"$f":"DEC2BIN('W6'!AK91, 9)","v":"000000000"},{"$f":"DEC2BIN('W6'!AL91, 9)","v":"000000000"},{"$f":"DEC2BIN('W6'!AM91, 9)","v":"000000000"},{"$f":"DEC2BIN('W6'!AN91, 9)","v":"000000000"},{"$f":"DEC2BIN('W6'!AO91, 9)","v":"000000000"},{"$f":"DEC2BIN('W6'!AP91, 9)","v":"000000000"},{"$f":"DEC2BIN('W6'!AQ91, 9)","v":"000000000"}]
[{"$f":"DEC2BIN('W6'!A92, 9)","v":"000100010"},{"$f":"DEC2BIN('W6'!B92, 9)","v":"1111110000"},{"$f":"DEC2BIN('W6'!C92, 9)","v":"1111111011"},{"$f":"DEC2BIN('W6'!D92, 9)","v":"000000000"},{"$f":"DEC2BIN('W6'!E92, 9)","v":"001000110"},{"$f":"DEC2BIN('W6'!F92, 9)","v":"1111001101"},{"$f":"DEC2BIN('W6'!G92, 9)","v":"1111010011"},{"$f":"DEC2BIN('W6'!H92, 9)","v":"000100011"},{"$f":"DEC2BIN('W6'!I92, 9)","v":"000000011"},{"$f":"DEC2BIN('W6'!J92, 9)","v":"1111010000"},{"$f":"DEC2BIN('W6'!K92, 9)","v":"000000000"},{"$f":"DEC2BIN('W6'!L92, 9)","v":"000000000"},{"$f":"DEC2BIN('W6'!M92, 9)","v":"000000000"},{"$f":"DEC2BIN('W6'!N92, 9)","v":"000000000"},{"$f":"DEC2BIN('W6'!O92, 9)","v":"000000000"},{"$f":"DEC2BIN('W6'!P92, 9)","v":"000000000"},{"$f":"DEC2BIN('W6'!Q92, 9)","v":"000000000"},{"$f":"DEC2BIN('W6'!R92, 9)","v":"000000000"},{"$f":"DEC2BIN('W6'!S92, 9)","v":"000000000"},{"$f":"DEC2BIN('W6'!T92, 9)","v":"000000000"},{"$f":"DEC2BIN('W6'!U92, 9)","v":"000000000"},{"$f":"DEC2BIN('W6'!V92, 9)","v":"000000000"},{"$f":"DEC2BIN('W6'!W92, 9)","v":"000000000"},{"$f":"DEC2BIN('W6'!X92, 9)","v":"000000000"},{"$f":"DEC2BIN('W6'!Y92, 9)","v":"000000000"},{"$f":"DEC2BIN('W6'!Z92, 9)","v":"000000000"},{"$f":"DEC2BIN('W6'!AA92, 9)","v":"000000000"},{"$f":"DEC2BIN('W6'!AB92, 9)","v":"000000000"},{"$f":"DEC2BIN('W6'!AC92, 9)","v":"000000000"},{"$f":"DEC2BIN('W6'!AD92, 9)","v":"000000000"},{"$f":"DEC2BIN('W6'!AE92, 9)","v":"000000000"},{"$f":"DEC2BIN('W6'!AF92, 9)","v":"000000000"},{"$f":"DEC2BIN('W6'!AG92, 9)","v":"000000000"},{"$f":"DEC2BIN('W6'!AH92, 9)","v":"000000000"},{"$f":"DEC2BIN('W6'!AI92, 9)","v":"000000000"},{"$f":"DEC2BIN('W6'!AJ92, 9)","v":"000000000"},{"$f":"DEC2BIN('W6'!AK92, 9)","v":"000000000"},{"$f":"DEC2BIN('W6'!AL92, 9)","v":"000000000"},{"$f":"DEC2BIN('W6'!AM92, 9)","v":"000000000"},{"$f":"DEC2BIN('W6'!AN92, 9)","v":"000000000"},{"$f":"DEC2BIN('W6'!AO92, 9)","v":"000000000"},{"$f":"DEC2BIN('W6'!AP92, 9)","v":"000000000"},{"$f":"DEC2BIN('W6'!AQ92, 9)","v":"000000000"}]
[{"$f":"DEC2BIN('W6'!A93, 9)","v":"1110101010"},{"$f":"DEC2BIN('W6'!B93, 9)","v":"1110101101"},{"$f":"DEC2BIN('W6'!C93, 9)","v":"000110000"},{"$f":"DEC2BIN('W6'!D93, 9)","v":"000110011"},{"$f":"DEC2BIN('W6'!E93, 9)","v":"1111001100"},{"$f":"DEC2BIN('W6'!F93, 9)","v":"000111101"},{"$f":"DEC2BIN('W6'!G93, 9)","v":"1110101100"},{"$f":"DEC2BIN('W6'!H93, 9)","v":"1110110001"},{"$f":"DEC2BIN('W6'!I93, 9)","v":"1110001011"},{"$f":"DEC2BIN('W6'!J93, 9)","v":"000001010"},{"$f":"DEC2BIN('W6'!K93, 9)","v":"000000000"},{"$f":"DEC2BIN('W6'!L93, 9)","v":"000000000"},{"$f":"DEC2BIN('W6'!M93, 9)","v":"000000000"},{"$f":"DEC2BIN('W6'!N93, 9)","v":"000000000"},{"$f":"DEC2BIN('W6'!O93, 9)","v":"000000000"},{"$f":"DEC2BIN('W6'!P93, 9)","v":"000000000"},{"$f":"DEC2BIN('W6'!Q93, 9)","v":"000000000"},{"$f":"DEC2BIN('W6'!R93, 9)","v":"000000000"},{"$f":"DEC2BIN('W6'!S93, 9)","v":"000000000"},{"$f":"DEC2BIN('W6'!T93, 9)","v":"000000000"},{"$f":"DEC2BIN('W6'!U93, 9)","v":"000000000"},{"$f":"DEC2BIN('W6'!V93, 9)","v":"000000000"},{"$f":"DEC2BIN('W6'!W93, 9)","v":"000000000"},{"$f":"DEC2BIN('W6'!X93, 9)","v":"000000000"},{"$f":"DEC2BIN('W6'!Y93, 9)","v":"000000000"},{"$f":"DEC2BIN('W6'!Z93, 9)","v":"000000000"},{"$f":"DEC2BIN('W6'!AA93, 9)","v":"000000000"},{"$f":"DEC2BIN('W6'!AB93, 9)","v":"000000000"},{"$f":"DEC2BIN('W6'!AC93, 9)","v":"000000000"},{"$f":"DEC2BIN('W6'!AD93, 9)","v":"000000000"},{"$f":"DEC2BIN('W6'!AE93, 9)","v":"000000000"},{"$f":"DEC2BIN('W6'!AF93, 9)","v":"000000000"},{"$f":"DEC2BIN('W6'!AG93, 9)","v":"000000000"},{"$f":"DEC2BIN('W6'!AH93, 9)","v":"000000000"},{"$f":"DEC2BIN('W6'!AI93, 9)","v":"000000000"},{"$f":"DEC2BIN('W6'!AJ93, 9)","v":"000000000"},{"$f":"DEC2BIN('W6'!AK93, 9)","v":"000000000"},{"$f":"DEC2BIN('W6'!AL93, 9)","v":"000000000"},{"$f":"DEC2BIN('W6'!AM93, 9)","v":"000000000"},{"$f":"DEC2BIN('W6'!AN93, 9)","v":"000000000"},{"$f":"DEC2BIN('W6'!AO93, 9)","v":"000000000"},{"$f":"DEC2BIN('W6'!AP93, 9)","v":"000000000"},{"$f":"DEC2BIN('W6'!AQ93, 9)","v":"000000000"}]
[{"$f":"DEC2BIN('W6'!A94, 9)","v":"1111111101"},{"$f":"DEC2BIN('W6'!B94, 9)","v":"1111111001"},{"$f":"DEC2BIN('W6'!C94, 9)","v":"1111100101"},{"$f":"DEC2BIN('W6'!D94, 9)","v":"1111110000"},{"$f":"DEC2BIN('W6'!E94, 9)","v":"000101000"},{"$f":"DEC2BIN('W6'!F94, 9)","v":"1111011111"},{"$f":"DEC2BIN('W6'!G94, 9)","v":"1111010000"},{"$f":"DEC2BIN('W6'!H94, 9)","v":"1111000101"},{"$f":"DEC2BIN('W6'!I94, 9)","v":"1111111011"},{"$f":"DEC2BIN('W6'!J94, 9)","v":"1111100101"},{"$f":"DEC2BIN('W6'!K94, 9)","v":"000000000"},{"$f":"DEC2BIN('W6'!L94, 9)","v":"000000000"},{"$f":"DEC2BIN('W6'!M94, 9)","v":"000000000"},{"$f":"DEC2BIN('W6'!N94, 9)","v":"000000000"},{"$f":"DEC2BIN('W6'!O94, 9)","v":"000000000"},{"$f":"DEC2BIN('W6'!P94, 9)","v":"000000000"},{"$f":"DEC2BIN('W6'!Q94, 9)","v":"000000000"},{"$f":"DEC2BIN('W6'!R94, 9)","v":"000000000"},{"$f":"DEC2BIN('W6'!S94, 9)","v":"000000000"},{"$f":"DEC2BIN('W6'!T94, 9)","v":"000000000"},{"$f":"DEC2BIN('W6'!U94, 9)","v":"000000000"},{"$f":"DEC2BIN('W6'!V94, 9)","v":"000000000"},{"$f":"DEC2BIN('W6'!W94, 9)","v":"000000000"},{"$f":"DEC2BIN('W6'!X94, 9)","v":"000000000"},{"$f":"DEC2BIN('W6'!Y94, 9)","v":"000000000"},{"$f":"DEC2BIN('W6'!Z94, 9)","v":"000000000"},{"$f":"DEC2BIN('W6'!AA94, 9)","v":"000000000"},{"$f":"DEC2BIN('W6'!AB94, 9)","v":"000000000"},{"$f":"DEC2BIN('W6'!AC94, 9)","v":"000000000"},{"$f":"DEC2BIN('W6'!AD94, 9)","v":"000000000"},{"$f":"DEC2BIN('W6'!AE94, 9)","v":"000000000"},{"$f":"DEC2BIN('W6'!AF94, 9)","v":"000000000"},{"$f":"DEC2BIN('W6'!AG94, 9)","v":"000000000"},{"$f":"DEC2BIN('W6'!AH94, 9)","v":"000000000"},{"$f":"DEC2BIN('W6'!AI94, 9)","v":"000000000"},{"$f":"DEC2BIN('W6'!AJ94, 9)","v":"000000000"},{"$f":"DEC2BIN('W6'!AK94, 9)","v":"000000000"},{"$f":"DEC2BIN('W6'!AL94, 9)","v":"000000000"},{"$f":"DEC2BIN('W6'!AM94, 9)","v":"000000000"},{"$f":"DEC2BIN('W6'!AN94, 9)","v":"000000000"},{"$f":"DEC2BIN('W6'!AO94, 9)","v":"000000000"},{"$f":"DEC2BIN('W6'!AP94, 9)","v":"000000000"},{"$f":"DEC2BIN('W6'!AQ94, 9)","v":"000000000"}]
[{"$f":"DEC2BIN('W6'!A95, 9)","v":"000001011"},{"$f":"DEC2BIN('W6'!B95, 9)","v":"000001000"},{"$f":"DEC2BIN('W6'!C95, 9)","v":"1110111001"},{"$f":"DEC2BIN('W6'!D95, 9)","v":"1110101111"},{"$f":"DEC2BIN('W6'!E95, 9)","v":"000010011"},{"$f":"DEC2BIN('W6'!F95, 9)","v":"000000100"},{"$f":"DEC2BIN('W6'!G95, 9)","v":"1110110100"},{"$f":"DEC2BIN('W6'!H95, 9)","v":"000101010"},{"$f":"DEC2BIN('W6'!I95, 9)","v":"1110110111"},{"$f":"DEC2BIN('W6'!J95, 9)","v":"1111001101"},{"$f":"DEC2BIN('W6'!K95, 9)","v":"000000000"},{"$f":"DEC2BIN('W6'!L95, 9)","v":"000000000"},{"$f":"DEC2BIN('W6'!M95, 9)","v":"000000000"},{"$f":"DEC2BIN('W6'!N95, 9)","v":"000000000"},{"$f":"DEC2BIN('W6'!O95, 9)","v":"000000000"},{"$f":"DEC2BIN('W6'!P95, 9)","v":"000000000"},{"$f":"DEC2BIN('W6'!Q95, 9)","v":"000000000"},{"$f":"DEC2BIN('W6'!R95, 9)","v":"000000000"},{"$f":"DEC2BIN('W6'!S95, 9)","v":"000000000"},{"$f":"DEC2BIN('W6'!T95, 9)","v":"000000000"},{"$f":"DEC2BIN('W6'!U95, 9)","v":"000000000"},{"$f":"DEC2BIN('W6'!V95, 9)","v":"000000000"},{"$f":"DEC2BIN('W6'!W95, 9)","v":"000000000"},{"$f":"DEC2BIN('W6'!X95, 9)","v":"000000000"},{"$f":"DEC2BIN('W6'!Y95, 9)","v":"000000000"},{"$f":"DEC2BIN('W6'!Z95, 9)","v":"000000000"},{"$f":"DEC2BIN('W6'!AA95, 9)","v":"000000000"},{"$f":"DEC2BIN('W6'!AB95, 9)","v":"000000000"},{"$f":"DEC2BIN('W6'!AC95, 9)","v":"000000000"},{"$f":"DEC2BIN('W6'!AD95, 9)","v":"000000000"},{"$f":"DEC2BIN('W6'!AE95, 9)","v":"000000000"},{"$f":"DEC2BIN('W6'!AF95, 9)","v":"000000000"},{"$f":"DEC2BIN('W6'!AG95, 9)","v":"000000000"},{"$f":"DEC2BIN('W6'!AH95, 9)","v":"000000000"},{"$f":"DEC2BIN('W6'!AI95, 9)","v":"000000000"},{"$f":"DEC2BIN('W6'!AJ95, 9)","v":"000000000"},{"$f":"DEC2BIN('W6'!AK95, 9)","v":"000000000"},{"$f":"DEC2BIN('W6'!AL95, 9)","v":"000000000"},{"$f":"DEC2BIN('W6'!AM95, 9)","v":"000000000"},{"$f":"DEC2BIN('W6'!AN95, 9)","v":"000000000"},{"$f":"DEC2BIN('W6'!AO95, 9)","v":"000000000"},{"$f":"DEC2BIN('W6'!AP95, 9)","v":"000000000"},{"$f":"DEC2BIN('W6'!AQ95, 9)","v":"000000000"}]
[{"$f":"DEC2BIN('W6'!A96, 9)","v":"1111110000"},{"$f":"DEC2BIN('W6'!B96, 9)","v":"1111110001"},{"$f":"DEC2BIN('W6'!C96, 9)","v":"000110001"},{"$f":"DEC2BIN('W6'!D96, 9)","v":"1111101011"},{"$f":"DEC2BIN('W6'!E96, 9)","v":"000001111"},{"$f":"DEC2BIN('W6'!F96, 9)","v":"000100111"},{"$f":"DEC2BIN('W6'!G96, 9)","v":"000111000"},{"$f":"DEC2BIN('W6'!H96, 9)","v":"1111010001"},{"$f":"DEC2BIN('W6'!I96, 9)","v":"1111111111"},{"$f":"DEC2BIN('W6'!J96, 9)","v":"000000110"},{"$f":"DEC2BIN('W6'!K96, 9)","v":"000000000"},{"$f":"DEC2BIN('W6'!L96, 9)","v":"000000000"},{"$f":"DEC2BIN('W6'!M96, 9)","v":"000000000"},{"$f":"DEC2BIN('W6'!N96, 9)","v":"000000000"},{"$f":"DEC2BIN('W6'!O96, 9)","v":"000000000"},{"$f":"DEC2BIN('W6'!P96, 9)","v":"000000000"},{"$f":"DEC2BIN('W6'!Q96, 9)","v":"000000000"},{"$f":"DEC2BIN('W6'!R96, 9)","v":"000000000"},{"$f":"DEC2BIN('W6'!S96, 9)","v":"000000000"},{"$f":"DEC2BIN('W6'!T96, 9)","v":"000000000"},{"$f":"DEC2BIN('W6'!U96, 9)","v":"000000000"},{"$f":"DEC2BIN('W6'!V96, 9)","v":"000000000"},{"$f":"DEC2BIN('W6'!W96, 9)","v":"000000000"},{"$f":"DEC2BIN('W6'!X96, 9)","v":"000000000"},{"$f":"DEC2BIN('W6'!Y96, 9)","v":"000000000"},{"$f":"DEC2BIN('W6'!Z96, 9)","v":"000000000"},{"$f":"DEC2BIN('W6'!AA96, 9)","v":"000000000"},{"$f":"DEC2BIN('W6'!AB96, 9)","v":"000000000"},{"$f":"DEC2BIN('W6'!AC96, 9)","v":"000000000"},{"$f":"DEC2BIN('W6'!AD96, 9)","v":"000000000"},{"$f":"DEC2BIN('W6'!AE96, 9)","v":"000000000"},{"$f":"DEC2BIN('W6'!AF96, 9)","v":"000000000"},{"$f":"DEC2BIN('W6'!AG96, 9)","v":"000000000"},{"$f":"DEC2BIN('W6'!AH96, 9)","v":"000000000"},{"$f":"DEC2BIN('W6'!AI96, 9)","v":"000000000"},{"$f":"DEC2BIN('W6'!AJ96, 9)","v":"000000000"},{"$f":"DEC2BIN('W6'!AK96, 9)","v":"000000000"},{"$f":"DEC2BIN('W6'!AL96, 9)","v":"000000000"},{"$f":"DEC2BIN('W6'!AM96, 9)","v":"000000000"},{"$f":"DEC2BIN('W6'!AN96, 9)","v":"000000000"},{"$f":"DEC2BIN('W6'!AO96, 9)","v":"000000000"},{"$f":"DEC2BIN('W6'!AP96, 9)","v":"000000000"},{"$f":"DEC2BIN('W6'!AQ96, 9)","v":"000000000"}]
[{"$f":"DEC2BIN('W6'!A97, 9)","v":"1111100001"},{"$f":"DEC2BIN('W6'!B97, 9)","v":"000010011"},{"$f":"DEC2BIN('W6'!C97, 9)","v":"1111001000"},{"$f":"DEC2BIN('W6'!D97, 9)","v":"1111011010"},{"$f":"DEC2BIN('W6'!E97, 9)","v":"1111110000"},{"$f":"DEC2BIN('W6'!F97, 9)","v":"000100010"},{"$f":"DEC2BIN('W6'!G97, 9)","v":"1111101111"},{"$f":"DEC2BIN('W6'!H97, 9)","v":"000110100"},{"$f":"DEC2BIN('W6'!I97, 9)","v":"1111101110"},{"$f":"DEC2BIN('W6'!J97, 9)","v":"1111001101"},{"$f":"DEC2BIN('W6'!K97, 9)","v":"000000000"},{"$f":"DEC2BIN('W6'!L97, 9)","v":"000000000"},{"$f":"DEC2BIN('W6'!M97, 9)","v":"000000000"},{"$f":"DEC2BIN('W6'!N97, 9)","v":"000000000"},{"$f":"DEC2BIN('W6'!O97, 9)","v":"000000000"},{"$f":"DEC2BIN('W6'!P97, 9)","v":"000000000"},{"$f":"DEC2BIN('W6'!Q97, 9)","v":"000000000"},{"$f":"DEC2BIN('W6'!R97, 9)","v":"000000000"},{"$f":"DEC2BIN('W6'!S97, 9)","v":"000000000"},{"$f":"DEC2BIN('W6'!T97, 9)","v":"000000000"},{"$f":"DEC2BIN('W6'!U97, 9)","v":"000000000"},{"$f":"DEC2BIN('W6'!V97, 9)","v":"000000000"},{"$f":"DEC2BIN('W6'!W97, 9)","v":"000000000"},{"$f":"DEC2BIN('W6'!X97, 9)","v":"000000000"},{"$f":"DEC2BIN('W6'!Y97, 9)","v":"000000000"},{"$f":"DEC2BIN('W6'!Z97, 9)","v":"000000000"},{"$f":"DEC2BIN('W6'!AA97, 9)","v":"000000000"},{"$f":"DEC2BIN('W6'!AB97, 9)","v":"000000000"},{"$f":"DEC2BIN('W6'!AC97, 9)","v":"000000000"},{"$f":"DEC2BIN('W6'!AD97, 9)","v":"000000000"},{"$f":"DEC2BIN('W6'!AE97, 9)","v":"000000000"},{"$f":"DEC2BIN('W6'!AF97, 9)","v":"000000000"},{"$f":"DEC2BIN('W6'!AG97, 9)","v":"000000000"},{"$f":"DEC2BIN('W6'!AH97, 9)","v":"000000000"},{"$f":"DEC2BIN('W6'!AI97, 9)","v":"000000000"},{"$f":"DEC2BIN('W6'!AJ97, 9)","v":"000000000"},{"$f":"DEC2BIN('W6'!AK97, 9)","v":"000000000"},{"$f":"DEC2BIN('W6'!AL97, 9)","v":"000000000"},{"$f":"DEC2BIN('W6'!AM97, 9)","v":"000000000"},{"$f":"DEC2BIN('W6'!AN97, 9)","v":"000000000"},{"$f":"DEC2BIN('W6'!AO97, 9)","v":"000000000"},{"$f":"DEC2BIN('W6'!AP97, 9)","v":"000000000"},{"$f":"DEC2BIN('W6'!AQ97, 9)","v":"000000000"}]
[{"$f":"DEC2BIN('W6'!A98, 9)","v":"1111010111"},{"$f":"DEC2BIN('W6'!B98, 9)","v":"000110011"},{"$f":"DEC2BIN('W6'!C98, 9)","v":"000100101"},{"$f":"DEC2BIN('W6'!D98, 9)","v":"000011011"},{"$f":"DEC2BIN('W6'!E98, 9)","v":"000101010"},{"$f":"DEC2BIN('W6'!F98, 9)","v":"1111010111"},{"$f":"DEC2BIN('W6'!G98, 9)","v":"000001110"},{"$f":"DEC2BIN('W6'!H98, 9)","v":"1111101101"},{"$f":"DEC2BIN('W6'!I98, 9)","v":"000010100"},{"$f":"DEC2BIN('W6'!J98, 9)","v":"1111000011"},{"$f":"DEC2BIN('W6'!K98, 9)","v":"000000000"},{"$f":"DEC2BIN('W6'!L98, 9)","v":"000000000"},{"$f":"DEC2BIN('W6'!M98, 9)","v":"000000000"},{"$f":"DEC2BIN('W6'!N98, 9)","v":"000000000"},{"$f":"DEC2BIN('W6'!O98, 9)","v":"000000000"},{"$f":"DEC2BIN('W6'!P98, 9)","v":"000000000"},{"$f":"DEC2BIN('W6'!Q98, 9)","v":"000000000"},{"$f":"DEC2BIN('W6'!R98, 9)","v":"000000000"},{"$f":"DEC2BIN('W6'!S98, 9)","v":"000000000"},{"$f":"DEC2BIN('W6'!T98, 9)","v":"000000000"},{"$f":"DEC2BIN('W6'!U98, 9)","v":"000000000"},{"$f":"DEC2BIN('W6'!V98, 9)","v":"000000000"},{"$f":"DEC2BIN('W6'!W98, 9)","v":"000000000"},{"$f":"DEC2BIN('W6'!X98, 9)","v":"000000000"},{"$f":"DEC2BIN('W6'!Y98, 9)","v":"000000000"},{"$f":"DEC2BIN('W6'!Z98, 9)","v":"000000000"},{"$f":"DEC2BIN('W6'!AA98, 9)","v":"000000000"},{"$f":"DEC2BIN('W6'!AB98, 9)","v":"000000000"},{"$f":"DEC2BIN('W6'!AC98, 9)","v":"000000000"},{"$f":"DEC2BIN('W6'!AD98, 9)","v":"000000000"},{"$f":"DEC2BIN('W6'!AE98, 9)","v":"000000000"},{"$f":"DEC2BIN('W6'!AF98, 9)","v":"000000000"},{"$f":"DEC2BIN('W6'!AG98, 9)","v":"000000000"},{"$f":"DEC2BIN('W6'!AH98, 9)","v":"000000000"},{"$f":"DEC2BIN('W6'!AI98, 9)","v":"000000000"},{"$f":"DEC2BIN('W6'!AJ98, 9)","v":"000000000"},{"$f":"DEC2BIN('W6'!AK98, 9)","v":"000000000"},{"$f":"DEC2BIN('W6'!AL98, 9)","v":"000000000"},{"$f":"DEC2BIN('W6'!AM98, 9)","v":"000000000"},{"$f":"DEC2BIN('W6'!AN98, 9)","v":"000000000"},{"$f":"DEC2BIN('W6'!AO98, 9)","v":"000000000"},{"$f":"DEC2BIN('W6'!AP98, 9)","v":"000000000"},{"$f":"DEC2BIN('W6'!AQ98, 9)","v":"000000000"}]
[{"$f":"DEC2BIN('W6'!A99, 9)","v":"1110011011"},{"$f":"DEC2BIN('W6'!B99, 9)","v":"1110111110"},{"$f":"DEC2BIN('W6'!C99, 9)","v":"000111110"},{"$f":"DEC2BIN('W6'!D99, 9)","v":"001000000"},{"$f":"DEC2BIN('W6'!E99, 9)","v":"1111111001"},{"$f":"DEC2BIN('W6'!F99, 9)","v":"1111111010"},{"$f":"DEC2BIN('W6'!G99, 9)","v":"1111101101"},{"$f":"DEC2BIN('W6'!H99, 9)","v":"1110101111"},{"$f":"DEC2BIN('W6'!I99, 9)","v":"1111011011"},{"$f":"DEC2BIN('W6'!J99, 9)","v":"1111000010"},{"$f":"DEC2BIN('W6'!K99, 9)","v":"000000000"},{"$f":"DEC2BIN('W6'!L99, 9)","v":"000000000"},{"$f":"DEC2BIN('W6'!M99, 9)","v":"000000000"},{"$f":"DEC2BIN('W6'!N99, 9)","v":"000000000"},{"$f":"DEC2BIN('W6'!O99, 9)","v":"000000000"},{"$f":"DEC2BIN('W6'!P99, 9)","v":"000000000"},{"$f":"DEC2BIN('W6'!Q99, 9)","v":"000000000"},{"$f":"DEC2BIN('W6'!R99, 9)","v":"000000000"},{"$f":"DEC2BIN('W6'!S99, 9)","v":"000000000"},{"$f":"DEC2BIN('W6'!T99, 9)","v":"000000000"},{"$f":"DEC2BIN('W6'!U99, 9)","v":"000000000"},{"$f":"DEC2BIN('W6'!V99, 9)","v":"000000000"},{"$f":"DEC2BIN('W6'!W99, 9)","v":"000000000"},{"$f":"DEC2BIN('W6'!X99, 9)","v":"000000000"},{"$f":"DEC2BIN('W6'!Y99, 9)","v":"000000000"},{"$f":"DEC2BIN('W6'!Z99, 9)","v":"000000000"},{"$f":"DEC2BIN('W6'!AA99, 9)","v":"000000000"},{"$f":"DEC2BIN('W6'!AB99, 9)","v":"000000000"},{"$f":"DEC2BIN('W6'!AC99, 9)","v":"000000000"},{"$f":"DEC2BIN('W6'!AD99, 9)","v":"000000000"},{"$f":"DEC2BIN('W6'!AE99, 9)","v":"000000000"},{"$f":"DEC2BIN('W6'!AF99, 9)","v":"000000000"},{"$f":"DEC2BIN('W6'!AG99, 9)","v":"000000000"},{"$f":"DEC2BIN('W6'!AH99, 9)","v":"000000000"},{"$f":"DEC2BIN('W6'!AI99, 9)","v":"000000000"},{"$f":"DEC2BIN('W6'!AJ99, 9)","v":"000000000"},{"$f":"DEC2BIN('W6'!AK99, 9)","v":"000000000"},{"$f":"DEC2BIN('W6'!AL99, 9)","v":"000000000"},{"$f":"DEC2BIN('W6'!AM99, 9)","v":"000000000"},{"$f":"DEC2BIN('W6'!AN99, 9)","v":"000000000"},{"$f":"DEC2BIN('W6'!AO99, 9)","v":"000000000"},{"$f":"DEC2BIN('W6'!AP99, 9)","v":"000000000"},{"$f":"DEC2BIN('W6'!AQ99, 9)","v":"000000000"}]
[{"$f":"DEC2BIN('W6'!A100, 9)","v":"1111011111"},{"$f":"DEC2BIN('W6'!B100, 9)","v":"000110111"},{"$f":"DEC2BIN('W6'!C100, 9)","v":"000110100"},{"$f":"DEC2BIN('W6'!D100, 9)","v":"1111000001"},{"$f":"DEC2BIN('W6'!E100, 9)","v":"000110011"},{"$f":"DEC2BIN('W6'!F100, 9)","v":"1111010000"},{"$f":"DEC2BIN('W6'!G100, 9)","v":"1111111100"},{"$f":"DEC2BIN('W6'!H100, 9)","v":"1111011100"},{"$f":"DEC2BIN('W6'!I100, 9)","v":"1111001100"},{"$f":"DEC2BIN('W6'!J100, 9)","v":"001000101"},{"$f":"DEC2BIN('W6'!K100, 9)","v":"000000000"},{"$f":"DEC2BIN('W6'!L100, 9)","v":"000000000"},{"$f":"DEC2BIN('W6'!M100, 9)","v":"000000000"},{"$f":"DEC2BIN('W6'!N100, 9)","v":"000000000"},{"$f":"DEC2BIN('W6'!O100, 9)","v":"000000000"},{"$f":"DEC2BIN('W6'!P100, 9)","v":"000000000"},{"$f":"DEC2BIN('W6'!Q100, 9)","v":"000000000"},{"$f":"DEC2BIN('W6'!R100, 9)","v":"000000000"},{"$f":"DEC2BIN('W6'!S100, 9)","v":"000000000"},{"$f":"DEC2BIN('W6'!T100, 9)","v":"000000000"},{"$f":"DEC2BIN('W6'!U100, 9)","v":"000000000"},{"$f":"DEC2BIN('W6'!V100, 9)","v":"000000000"},{"$f":"DEC2BIN('W6'!W100, 9)","v":"000000000"},{"$f":"DEC2BIN('W6'!X100, 9)","v":"000000000"},{"$f":"DEC2BIN('W6'!Y100, 9)","v":"000000000"},{"$f":"DEC2BIN('W6'!Z100, 9)","v":"000000000"},{"$f":"DEC2BIN('W6'!AA100, 9)","v":"000000000"},{"$f":"DEC2BIN('W6'!AB100, 9)","v":"000000000"},{"$f":"DEC2BIN('W6'!AC100, 9)","v":"000000000"},{"$f":"DEC2BIN('W6'!AD100, 9)","v":"000000000"},{"$f":"DEC2BIN('W6'!AE100, 9)","v":"000000000"},{"$f":"DEC2BIN('W6'!AF100, 9)","v":"000000000"},{"$f":"DEC2BIN('W6'!AG100, 9)","v":"000000000"},{"$f":"DEC2BIN('W6'!AH100, 9)","v":"000000000"},{"$f":"DEC2BIN('W6'!AI100, 9)","v":"000000000"},{"$f":"DEC2BIN('W6'!AJ100, 9)","v":"000000000"},{"$f":"DEC2BIN('W6'!AK100, 9)","v":"000000000"},{"$f":"DEC2BIN('W6'!AL100, 9)","v":"000000000"},{"$f":"DEC2BIN('W6'!AM100, 9)","v":"000000000"},{"$f":"DEC2BIN('W6'!AN100, 9)","v":"000000000"},{"$f":"DEC2BIN('W6'!AO100, 9)","v":"000000000"},{"$f":"DEC2BIN('W6'!AP100, 9)","v":"000000000"},{"$f":"DEC2BIN('W6'!AQ100, 9)","v":"000000000"}]
[{"$f":"DEC2BIN('W6'!A101, 9)","v":"1110101111"},{"$f":"DEC2BIN('W6'!B101, 9)","v":"000001111"},{"$f":"DEC2BIN('W6'!C101, 9)","v":"000101111"},{"$f":"DEC2BIN('W6'!D101, 9)","v":"1111001110"},{"$f":"DEC2BIN('W6'!E101, 9)","v":"000000001"},{"$f":"DEC2BIN('W6'!F101, 9)","v":"000110001"},{"$f":"DEC2BIN('W6'!G101, 9)","v":"1110100000"},{"$f":"DEC2BIN('W6'!H101, 9)","v":"000100011"},{"$f":"DEC2BIN('W6'!I101, 9)","v":"1110011111"},{"$f":"DEC2BIN('W6'!J101, 9)","v":"000010001"},{"$f":"DEC2BIN('W6'!K101, 9)","v":"000000000"},{"$f":"DEC2BIN('W6'!L101, 9)","v":"000000000"},{"$f":"DEC2BIN('W6'!M101, 9)","v":"000000000"},{"$f":"DEC2BIN('W6'!N101, 9)","v":"000000000"},{"$f":"DEC2BIN('W6'!O101, 9)","v":"000000000"},{"$f":"DEC2BIN('W6'!P101, 9)","v":"000000000"},{"$f":"DEC2BIN('W6'!Q101, 9)","v":"000000000"},{"$f":"DEC2BIN('W6'!R101, 9)","v":"000000000"},{"$f":"DEC2BIN('W6'!S101, 9)","v":"000000000"},{"$f":"DEC2BIN('W6'!T101, 9)","v":"000000000"},{"$f":"DEC2BIN('W6'!U101, 9)","v":"000000000"},{"$f":"DEC2BIN('W6'!V101, 9)","v":"000000000"},{"$f":"DEC2BIN('W6'!W101, 9)","v":"000000000"},{"$f":"DEC2BIN('W6'!X101, 9)","v":"000000000"},{"$f":"DEC2BIN('W6'!Y101, 9)","v":"000000000"},{"$f":"DEC2BIN('W6'!Z101, 9)","v":"000000000"},{"$f":"DEC2BIN('W6'!AA101, 9)","v":"000000000"},{"$f":"DEC2BIN('W6'!AB101, 9)","v":"000000000"},{"$f":"DEC2BIN('W6'!AC101, 9)","v":"000000000"},{"$f":"DEC2BIN('W6'!AD101, 9)","v":"000000000"},{"$f":"DEC2BIN('W6'!AE101, 9)","v":"000000000"},{"$f":"DEC2BIN('W6'!AF101, 9)","v":"000000000"},{"$f":"DEC2BIN('W6'!AG101, 9)","v":"000000000"},{"$f":"DEC2BIN('W6'!AH101, 9)","v":"000000000"},{"$f":"DEC2BIN('W6'!AI101, 9)","v":"000000000"},{"$f":"DEC2BIN('W6'!AJ101, 9)","v":"000000000"},{"$f":"DEC2BIN('W6'!AK101, 9)","v":"000000000"},{"$f":"DEC2BIN('W6'!AL101, 9)","v":"000000000"},{"$f":"DEC2BIN('W6'!AM101, 9)","v":"000000000"},{"$f":"DEC2BIN('W6'!AN101, 9)","v":"000000000"},{"$f":"DEC2BIN('W6'!AO101, 9)","v":"000000000"},{"$f":"DEC2BIN('W6'!AP101, 9)","v":"000000000"},{"$f":"DEC2BIN('W6'!AQ101, 9)","v":"000000000"}]
[{"$f":"DEC2BIN('W6'!A102, 9)","v":"1111100111"},{"$f":"DEC2BIN('W6'!B102, 9)","v":"1111110110"},{"$f":"DEC2BIN('W6'!C102, 9)","v":"000011000"},{"$f":"DEC2BIN('W6'!D102, 9)","v":"1111100111"},{"$f":"DEC2BIN('W6'!E102, 9)","v":"1111011111"},{"$f":"DEC2BIN('W6'!F102, 9)","v":"1111010010"},{"$f":"DEC2BIN('W6'!G102, 9)","v":"000011101"},{"$f":"DEC2BIN('W6'!H102, 9)","v":"1111011011"},{"$f":"DEC2BIN('W6'!I102, 9)","v":"1111101100"},{"$f":"DEC2BIN('W6'!J102, 9)","v":"000011011"},{"$f":"DEC2BIN('W6'!K102, 9)","v":"000000000"},{"$f":"DEC2BIN('W6'!L102, 9)","v":"000000000"},{"$f":"DEC2BIN('W6'!M102, 9)","v":"000000000"},{"$f":"DEC2BIN('W6'!N102, 9)","v":"000000000"},{"$f":"DEC2BIN('W6'!O102, 9)","v":"000000000"},{"$f":"DEC2BIN('W6'!P102, 9)","v":"000000000"},{"$f":"DEC2BIN('W6'!Q102, 9)","v":"000000000"},{"$f":"DEC2BIN('W6'!R102, 9)","v":"000000000"},{"$f":"DEC2BIN('W6'!S102, 9)","v":"000000000"},{"$f":"DEC2BIN('W6'!T102, 9)","v":"000000000"},{"$f":"DEC2BIN('W6'!U102, 9)","v":"000000000"},{"$f":"DEC2BIN('W6'!V102, 9)","v":"000000000"},{"$f":"DEC2BIN('W6'!W102, 9)","v":"000000000"},{"$f":"DEC2BIN('W6'!X102, 9)","v":"000000000"},{"$f":"DEC2BIN('W6'!Y102, 9)","v":"000000000"},{"$f":"DEC2BIN('W6'!Z102, 9)","v":"000000000"},{"$f":"DEC2BIN('W6'!AA102, 9)","v":"000000000"},{"$f":"DEC2BIN('W6'!AB102, 9)","v":"000000000"},{"$f":"DEC2BIN('W6'!AC102, 9)","v":"000000000"},{"$f":"DEC2BIN('W6'!AD102, 9)","v":"000000000"},{"$f":"DEC2BIN('W6'!AE102, 9)","v":"000000000"},{"$f":"DEC2BIN('W6'!AF102, 9)","v":"000000000"},{"$f":"DEC2BIN('W6'!AG102, 9)","v":"000000000"},{"$f":"DEC2BIN('W6'!AH102, 9)","v":"000000000"},{"$f":"DEC2BIN('W6'!AI102, 9)","v":"000000000"},{"$f":"DEC2BIN('W6'!AJ102, 9)","v":"000000000"},{"$f":"DEC2BIN('W6'!AK102, 9)","v":"000000000"},{"$f":"DEC2BIN('W6'!AL102, 9)","v":"000000000"},{"$f":"DEC2BIN('W6'!AM102, 9)","v":"000000000"},{"$f":"DEC2BIN('W6'!AN102, 9)","v":"000000000"},{"$f":"DEC2BIN('W6'!AO102, 9)","v":"000000000"},{"$f":"DEC2BIN('W6'!AP102, 9)","v":"000000000"},{"$f":"DEC2BIN('W6'!AQ102, 9)","v":"000000000"}]
[{"$f":"DEC2BIN('W6'!A103, 9)","v":"000011011"},{"$f":"DEC2BIN('W6'!B103, 9)","v":"1111110011"},{"$f":"DEC2BIN('W6'!C103, 9)","v":"1111011111"},{"$f":"DEC2BIN('W6'!D103, 9)","v":"000001101"},{"$f":"DEC2BIN('W6'!E103, 9)","v":"1111011111"},{"$f":"DEC2BIN('W6'!F103, 9)","v":"1111111010"},{"$f":"DEC2BIN('W6'!G103, 9)","v":"000100000"},{"$f":"DEC2BIN('W6'!H103, 9)","v":"1111111000"},{"$f":"DEC2BIN('W6'!I103, 9)","v":"1111111100"},{"$f":"DEC2BIN('W6'!J103, 9)","v":"000001010"},{"$f":"DEC2BIN('W6'!K103, 9)","v":"000000000"},{"$f":"DEC2BIN('W6'!L103, 9)","v":"000000000"},{"$f":"DEC2BIN('W6'!M103, 9)","v":"000000000"},{"$f":"DEC2BIN('W6'!N103, 9)","v":"000000000"},{"$f":"DEC2BIN('W6'!O103, 9)","v":"000000000"},{"$f":"DEC2BIN('W6'!P103, 9)","v":"000000000"},{"$f":"DEC2BIN('W6'!Q103, 9)","v":"000000000"},{"$f":"DEC2BIN('W6'!R103, 9)","v":"000000000"},{"$f":"DEC2BIN('W6'!S103, 9)","v":"000000000"},{"$f":"DEC2BIN('W6'!T103, 9)","v":"000000000"},{"$f":"DEC2BIN('W6'!U103, 9)","v":"000000000"},{"$f":"DEC2BIN('W6'!V103, 9)","v":"000000000"},{"$f":"DEC2BIN('W6'!W103, 9)","v":"000000000"},{"$f":"DEC2BIN('W6'!X103, 9)","v":"000000000"},{"$f":"DEC2BIN('W6'!Y103, 9)","v":"000000000"},{"$f":"DEC2BIN('W6'!Z103, 9)","v":"000000000"},{"$f":"DEC2BIN('W6'!AA103, 9)","v":"000000000"},{"$f":"DEC2BIN('W6'!AB103, 9)","v":"000000000"},{"$f":"DEC2BIN('W6'!AC103, 9)","v":"000000000"},{"$f":"DEC2BIN('W6'!AD103, 9)","v":"000000000"},{"$f":"DEC2BIN('W6'!AE103, 9)","v":"000000000"},{"$f":"DEC2BIN('W6'!AF103, 9)","v":"000000000"},{"$f":"DEC2BIN('W6'!AG103, 9)","v":"000000000"},{"$f":"DEC2BIN('W6'!AH103, 9)","v":"000000000"},{"$f":"DEC2BIN('W6'!AI103, 9)","v":"000000000"},{"$f":"DEC2BIN('W6'!AJ103, 9)","v":"000000000"},{"$f":"DEC2BIN('W6'!AK103, 9)","v":"000000000"},{"$f":"DEC2BIN('W6'!AL103, 9)","v":"000000000"},{"$f":"DEC2BIN('W6'!AM103, 9)","v":"000000000"},{"$f":"DEC2BIN('W6'!AN103, 9)","v":"000000000"},{"$f":"DEC2BIN('W6'!AO103, 9)","v":"000000000"},{"$f":"DEC2BIN('W6'!AP103, 9)","v":"000000000"},{"$f":"DEC2BIN('W6'!AQ103, 9)","v":"000000000"}]
[{"$f":"DEC2BIN('W6'!A104, 9)","v":"1111001001"},{"$f":"DEC2BIN('W6'!B104, 9)","v":"000000101"},{"$f":"DEC2BIN('W6'!C104, 9)","v":"000101100"},{"$f":"DEC2BIN('W6'!D104, 9)","v":"000000000"},{"$f":"DEC2BIN('W6'!E104, 9)","v":"1111010110"},{"$f":"DEC2BIN('W6'!F104, 9)","v":"1111010011"},{"$f":"DEC2BIN('W6'!G104, 9)","v":"1110110000"},{"$f":"DEC2BIN('W6'!H104, 9)","v":"000000110"},{"$f":"DEC2BIN('W6'!I104, 9)","v":"1110110101"},{"$f":"DEC2BIN('W6'!J104, 9)","v":"000001011"},{"$f":"DEC2BIN('W6'!K104, 9)","v":"000000000"},{"$f":"DEC2BIN('W6'!L104, 9)","v":"000000000"},{"$f":"DEC2BIN('W6'!M104, 9)","v":"000000000"},{"$f":"DEC2BIN('W6'!N104, 9)","v":"000000000"},{"$f":"DEC2BIN('W6'!O104, 9)","v":"000000000"},{"$f":"DEC2BIN('W6'!P104, 9)","v":"000000000"},{"$f":"DEC2BIN('W6'!Q104, 9)","v":"000000000"},{"$f":"DEC2BIN('W6'!R104, 9)","v":"000000000"},{"$f":"DEC2BIN('W6'!S104, 9)","v":"000000000"},{"$f":"DEC2BIN('W6'!T104, 9)","v":"000000000"},{"$f":"DEC2BIN('W6'!U104, 9)","v":"000000000"},{"$f":"DEC2BIN('W6'!V104, 9)","v":"000000000"},{"$f":"DEC2BIN('W6'!W104, 9)","v":"000000000"},{"$f":"DEC2BIN('W6'!X104, 9)","v":"000000000"},{"$f":"DEC2BIN('W6'!Y104, 9)","v":"000000000"},{"$f":"DEC2BIN('W6'!Z104, 9)","v":"000000000"},{"$f":"DEC2BIN('W6'!AA104, 9)","v":"000000000"},{"$f":"DEC2BIN('W6'!AB104, 9)","v":"000000000"},{"$f":"DEC2BIN('W6'!AC104, 9)","v":"000000000"},{"$f":"DEC2BIN('W6'!AD104, 9)","v":"000000000"},{"$f":"DEC2BIN('W6'!AE104, 9)","v":"000000000"},{"$f":"DEC2BIN('W6'!AF104, 9)","v":"000000000"},{"$f":"DEC2BIN('W6'!AG104, 9)","v":"000000000"},{"$f":"DEC2BIN('W6'!AH104, 9)","v":"000000000"},{"$f":"DEC2BIN('W6'!AI104, 9)","v":"000000000"},{"$f":"DEC2BIN('W6'!AJ104, 9)","v":"000000000"},{"$f":"DEC2BIN('W6'!AK104, 9)","v":"000000000"},{"$f":"DEC2BIN('W6'!AL104, 9)","v":"000000000"},{"$f":"DEC2BIN('W6'!AM104, 9)","v":"000000000"},{"$f":"DEC2BIN('W6'!AN104, 9)","v":"000000000"},{"$f":"DEC2BIN('W6'!AO104, 9)","v":"000000000"},{"$f":"DEC2BIN('W6'!AP104, 9)","v":"000000000"},{"$f":"DEC2BIN('W6'!AQ104, 9)","v":"000000000"}]
[{"$f":"DEC2BIN('W6'!A105, 9)","v":"1111010011"},{"$f":"DEC2BIN('W6'!B105, 9)","v":"1111100110"},{"$f":"DEC2BIN('W6'!C105, 9)","v":"1111111000"},{"$f":"DEC2BIN('W6'!D105, 9)","v":"000110111"},{"$f":"DEC2BIN('W6'!E105, 9)","v":"1111011101"},{"$f":"DEC2BIN('W6'!F105, 9)","v":"1111000000"},{"$f":"DEC2BIN('W6'!G105, 9)","v":"001000101"},{"$f":"DEC2BIN('W6'!H105, 9)","v":"1110100010"},{"$f":"DEC2BIN('W6'!I105, 9)","v":"1110101001"},{"$f":"DEC2BIN('W6'!J105, 9)","v":"000101000"},{"$f":"DEC2BIN('W6'!K105, 9)","v":"000000000"},{"$f":"DEC2BIN('W6'!L105, 9)","v":"000000000"},{"$f":"DEC2BIN('W6'!M105, 9)","v":"000000000"},{"$f":"DEC2BIN('W6'!N105, 9)","v":"000000000"},{"$f":"DEC2BIN('W6'!O105, 9)","v":"000000000"},{"$f":"DEC2BIN('W6'!P105, 9)","v":"000000000"},{"$f":"DEC2BIN('W6'!Q105, 9)","v":"000000000"},{"$f":"DEC2BIN('W6'!R105, 9)","v":"000000000"},{"$f":"DEC2BIN('W6'!S105, 9)","v":"000000000"},{"$f":"DEC2BIN('W6'!T105, 9)","v":"000000000"},{"$f":"DEC2BIN('W6'!U105, 9)","v":"000000000"},{"$f":"DEC2BIN('W6'!V105, 9)","v":"000000000"},{"$f":"DEC2BIN('W6'!W105, 9)","v":"000000000"},{"$f":"DEC2BIN('W6'!X105, 9)","v":"000000000"},{"$f":"DEC2BIN('W6'!Y105, 9)","v":"000000000"},{"$f":"DEC2BIN('W6'!Z105, 9)","v":"000000000"},{"$f":"DEC2BIN('W6'!AA105, 9)","v":"000000000"},{"$f":"DEC2BIN('W6'!AB105, 9)","v":"000000000"},{"$f":"DEC2BIN('W6'!AC105, 9)","v":"000000000"},{"$f":"DEC2BIN('W6'!AD105, 9)","v":"000000000"},{"$f":"DEC2BIN('W6'!AE105, 9)","v":"000000000"},{"$f":"DEC2BIN('W6'!AF105, 9)","v":"000000000"},{"$f":"DEC2BIN('W6'!AG105, 9)","v":"000000000"},{"$f":"DEC2BIN('W6'!AH105, 9)","v":"000000000"},{"$f":"DEC2BIN('W6'!AI105, 9)","v":"000000000"},{"$f":"DEC2BIN('W6'!AJ105, 9)","v":"000000000"},{"$f":"DEC2BIN('W6'!AK105, 9)","v":"000000000"},{"$f":"DEC2BIN('W6'!AL105, 9)","v":"000000000"},{"$f":"DEC2BIN('W6'!AM105, 9)","v":"000000000"},{"$f":"DEC2BIN('W6'!AN105, 9)","v":"000000000"},{"$f":"DEC2BIN('W6'!AO105, 9)","v":"000000000"},{"$f":"DEC2BIN('W6'!AP105, 9)","v":"000000000"},{"$f":"DEC2BIN('W6'!AQ105, 9)","v":"000000000"}]
[{"$f":"DEC2BIN('W6'!A106, 9)","v":"1111101000"},{"$f":"DEC2BIN('W6'!B106, 9)","v":"1111100000"},{"$f":"DEC2BIN('W6'!C106, 9)","v":"000010101"},{"$f":"DEC2BIN('W6'!D106, 9)","v":"000000001"},{"$f":"DEC2BIN('W6'!E106, 9)","v":"1111101001"},{"$f":"DEC2BIN('W6'!F106, 9)","v":"1111000011"},{"$f":"DEC2BIN('W6'!G106, 9)","v":"1111110000"},{"$f":"DEC2BIN('W6'!H106, 9)","v":"1111100100"},{"$f":"DEC2BIN('W6'!I106, 9)","v":"1111000111"},{"$f":"DEC2BIN('W6'!J106, 9)","v":"1111001000"},{"$f":"DEC2BIN('W6'!K106, 9)","v":"000000000"},{"$f":"DEC2BIN('W6'!L106, 9)","v":"000000000"},{"$f":"DEC2BIN('W6'!M106, 9)","v":"000000000"},{"$f":"DEC2BIN('W6'!N106, 9)","v":"000000000"},{"$f":"DEC2BIN('W6'!O106, 9)","v":"000000000"},{"$f":"DEC2BIN('W6'!P106, 9)","v":"000000000"},{"$f":"DEC2BIN('W6'!Q106, 9)","v":"000000000"},{"$f":"DEC2BIN('W6'!R106, 9)","v":"000000000"},{"$f":"DEC2BIN('W6'!S106, 9)","v":"000000000"},{"$f":"DEC2BIN('W6'!T106, 9)","v":"000000000"},{"$f":"DEC2BIN('W6'!U106, 9)","v":"000000000"},{"$f":"DEC2BIN('W6'!V106, 9)","v":"000000000"},{"$f":"DEC2BIN('W6'!W106, 9)","v":"000000000"},{"$f":"DEC2BIN('W6'!X106, 9)","v":"000000000"},{"$f":"DEC2BIN('W6'!Y106, 9)","v":"000000000"},{"$f":"DEC2BIN('W6'!Z106, 9)","v":"000000000"},{"$f":"DEC2BIN('W6'!AA106, 9)","v":"000000000"},{"$f":"DEC2BIN('W6'!AB106, 9)","v":"000000000"},{"$f":"DEC2BIN('W6'!AC106, 9)","v":"000000000"},{"$f":"DEC2BIN('W6'!AD106, 9)","v":"000000000"},{"$f":"DEC2BIN('W6'!AE106, 9)","v":"000000000"},{"$f":"DEC2BIN('W6'!AF106, 9)","v":"000000000"},{"$f":"DEC2BIN('W6'!AG106, 9)","v":"000000000"},{"$f":"DEC2BIN('W6'!AH106, 9)","v":"000000000"},{"$f":"DEC2BIN('W6'!AI106, 9)","v":"000000000"},{"$f":"DEC2BIN('W6'!AJ106, 9)","v":"000000000"},{"$f":"DEC2BIN('W6'!AK106, 9)","v":"000000000"},{"$f":"DEC2BIN('W6'!AL106, 9)","v":"000000000"},{"$f":"DEC2BIN('W6'!AM106, 9)","v":"000000000"},{"$f":"DEC2BIN('W6'!AN106, 9)","v":"000000000"},{"$f":"DEC2BIN('W6'!AO106, 9)","v":"000000000"},{"$f":"DEC2BIN('W6'!AP106, 9)","v":"000000000"},{"$f":"DEC2BIN('W6'!AQ106, 9)","v":"000000000"}]
[{"$f":"DEC2BIN('W6'!A107, 9)","v":"1111101011"},{"$f":"DEC2BIN('W6'!B107, 9)","v":"000000100"},{"$f":"DEC2BIN('W6'!C107, 9)","v":"1111010010"},{"$f":"DEC2BIN('W6'!D107, 9)","v":"1110111110"},{"$f":"DEC2BIN('W6'!E107, 9)","v":"1111101010"},{"$f":"DEC2BIN('W6'!F107, 9)","v":"000000111"},{"$f":"DEC2BIN('W6'!G107, 9)","v":"000100100"},{"$f":"DEC2BIN('W6'!H107, 9)","v":"1111000111"},{"$f":"DEC2BIN('W6'!I107, 9)","v":"000100101"},{"$f":"DEC2BIN('W6'!J107, 9)","v":"1111101011"},{"$f":"DEC2BIN('W6'!K107, 9)","v":"000000000"},{"$f":"DEC2BIN('W6'!L107, 9)","v":"000000000"},{"$f":"DEC2BIN('W6'!M107, 9)","v":"000000000"},{"$f":"DEC2BIN('W6'!N107, 9)","v":"000000000"},{"$f":"DEC2BIN('W6'!O107, 9)","v":"000000000"},{"$f":"DEC2BIN('W6'!P107, 9)","v":"000000000"},{"$f":"DEC2BIN('W6'!Q107, 9)","v":"000000000"},{"$f":"DEC2BIN('W6'!R107, 9)","v":"000000000"},{"$f":"DEC2BIN('W6'!S107, 9)","v":"000000000"},{"$f":"DEC2BIN('W6'!T107, 9)","v":"000000000"},{"$f":"DEC2BIN('W6'!U107, 9)","v":"000000000"},{"$f":"DEC2BIN('W6'!V107, 9)","v":"000000000"},{"$f":"DEC2BIN('W6'!W107, 9)","v":"000000000"},{"$f":"DEC2BIN('W6'!X107, 9)","v":"000000000"},{"$f":"DEC2BIN('W6'!Y107, 9)","v":"000000000"},{"$f":"DEC2BIN('W6'!Z107, 9)","v":"000000000"},{"$f":"DEC2BIN('W6'!AA107, 9)","v":"000000000"},{"$f":"DEC2BIN('W6'!AB107, 9)","v":"000000000"},{"$f":"DEC2BIN('W6'!AC107, 9)","v":"000000000"},{"$f":"DEC2BIN('W6'!AD107, 9)","v":"000000000"},{"$f":"DEC2BIN('W6'!AE107, 9)","v":"000000000"},{"$f":"DEC2BIN('W6'!AF107, 9)","v":"000000000"},{"$f":"DEC2BIN('W6'!AG107, 9)","v":"000000000"},{"$f":"DEC2BIN('W6'!AH107, 9)","v":"000000000"},{"$f":"DEC2BIN('W6'!AI107, 9)","v":"000000000"},{"$f":"DEC2BIN('W6'!AJ107, 9)","v":"000000000"},{"$f":"DEC2BIN('W6'!AK107, 9)","v":"000000000"},{"$f":"DEC2BIN('W6'!AL107, 9)","v":"000000000"},{"$f":"DEC2BIN('W6'!AM107, 9)","v":"000000000"},{"$f":"DEC2BIN('W6'!AN107, 9)","v":"000000000"},{"$f":"DEC2BIN('W6'!AO107, 9)","v":"000000000"},{"$f":"DEC2BIN('W6'!AP107, 9)","v":"000000000"},{"$f":"DEC2BIN('W6'!AQ107, 9)","v":"000000000"}]
[{"$f":"DEC2BIN('W6'!A108, 9)","v":"1110001111"},{"$f":"DEC2BIN('W6'!B108, 9)","v":"1111000100"},{"$f":"DEC2BIN('W6'!C108, 9)","v":"1111111001"},{"$f":"DEC2BIN('W6'!D108, 9)","v":"1111000000"},{"$f":"DEC2BIN('W6'!E108, 9)","v":"000010001"},{"$f":"DEC2BIN('W6'!F108, 9)","v":"000011010"},{"$f":"DEC2BIN('W6'!G108, 9)","v":"000001010"},{"$f":"DEC2BIN('W6'!H108, 9)","v":"000110000"},{"$f":"DEC2BIN('W6'!I108, 9)","v":"000100101"},{"$f":"DEC2BIN('W6'!J108, 9)","v":"1110111000"},{"$f":"DEC2BIN('W6'!K108, 9)","v":"000000000"},{"$f":"DEC2BIN('W6'!L108, 9)","v":"000000000"},{"$f":"DEC2BIN('W6'!M108, 9)","v":"000000000"},{"$f":"DEC2BIN('W6'!N108, 9)","v":"000000000"},{"$f":"DEC2BIN('W6'!O108, 9)","v":"000000000"},{"$f":"DEC2BIN('W6'!P108, 9)","v":"000000000"},{"$f":"DEC2BIN('W6'!Q108, 9)","v":"000000000"},{"$f":"DEC2BIN('W6'!R108, 9)","v":"000000000"},{"$f":"DEC2BIN('W6'!S108, 9)","v":"000000000"},{"$f":"DEC2BIN('W6'!T108, 9)","v":"000000000"},{"$f":"DEC2BIN('W6'!U108, 9)","v":"000000000"},{"$f":"DEC2BIN('W6'!V108, 9)","v":"000000000"},{"$f":"DEC2BIN('W6'!W108, 9)","v":"000000000"},{"$f":"DEC2BIN('W6'!X108, 9)","v":"000000000"},{"$f":"DEC2BIN('W6'!Y108, 9)","v":"000000000"},{"$f":"DEC2BIN('W6'!Z108, 9)","v":"000000000"},{"$f":"DEC2BIN('W6'!AA108, 9)","v":"000000000"},{"$f":"DEC2BIN('W6'!AB108, 9)","v":"000000000"},{"$f":"DEC2BIN('W6'!AC108, 9)","v":"000000000"},{"$f":"DEC2BIN('W6'!AD108, 9)","v":"000000000"},{"$f":"DEC2BIN('W6'!AE108, 9)","v":"000000000"},{"$f":"DEC2BIN('W6'!AF108, 9)","v":"000000000"},{"$f":"DEC2BIN('W6'!AG108, 9)","v":"000000000"},{"$f":"DEC2BIN('W6'!AH108, 9)","v":"000000000"},{"$f":"DEC2BIN('W6'!AI108, 9)","v":"000000000"},{"$f":"DEC2BIN('W6'!AJ108, 9)","v":"000000000"},{"$f":"DEC2BIN('W6'!AK108, 9)","v":"000000000"},{"$f":"DEC2BIN('W6'!AL108, 9)","v":"000000000"},{"$f":"DEC2BIN('W6'!AM108, 9)","v":"000000000"},{"$f":"DEC2BIN('W6'!AN108, 9)","v":"000000000"},{"$f":"DEC2BIN('W6'!AO108, 9)","v":"000000000"},{"$f":"DEC2BIN('W6'!AP108, 9)","v":"000000000"},{"$f":"DEC2BIN('W6'!AQ108, 9)","v":"000000000"}]
[{"$f":"DEC2BIN('W6'!A109, 9)","v":"1110100011"},{"$f":"DEC2BIN('W6'!B109, 9)","v":"1111011001"},{"$f":"DEC2BIN('W6'!C109, 9)","v":"1111010100"},{"$f":"DEC2BIN('W6'!D109, 9)","v":"000111001"},{"$f":"DEC2BIN('W6'!E109, 9)","v":"1110110110"},{"$f":"DEC2BIN('W6'!F109, 9)","v":"000110010"},{"$f":"DEC2BIN('W6'!G109, 9)","v":"000110111"},{"$f":"DEC2BIN('W6'!H109, 9)","v":"1111110111"},{"$f":"DEC2BIN('W6'!I109, 9)","v":"1111111100"},{"$f":"DEC2BIN('W6'!J109, 9)","v":"000101000"},{"$f":"DEC2BIN('W6'!K109, 9)","v":"000000000"},{"$f":"DEC2BIN('W6'!L109, 9)","v":"000000000"},{"$f":"DEC2BIN('W6'!M109, 9)","v":"000000000"},{"$f":"DEC2BIN('W6'!N109, 9)","v":"000000000"},{"$f":"DEC2BIN('W6'!O109, 9)","v":"000000000"},{"$f":"DEC2BIN('W6'!P109, 9)","v":"000000000"},{"$f":"DEC2BIN('W6'!Q109, 9)","v":"000000000"},{"$f":"DEC2BIN('W6'!R109, 9)","v":"000000000"},{"$f":"DEC2BIN('W6'!S109, 9)","v":"000000000"},{"$f":"DEC2BIN('W6'!T109, 9)","v":"000000000"},{"$f":"DEC2BIN('W6'!U109, 9)","v":"000000000"},{"$f":"DEC2BIN('W6'!V109, 9)","v":"000000000"},{"$f":"DEC2BIN('W6'!W109, 9)","v":"000000000"},{"$f":"DEC2BIN('W6'!X109, 9)","v":"000000000"},{"$f":"DEC2BIN('W6'!Y109, 9)","v":"000000000"},{"$f":"DEC2BIN('W6'!Z109, 9)","v":"000000000"},{"$f":"DEC2BIN('W6'!AA109, 9)","v":"000000000"},{"$f":"DEC2BIN('W6'!AB109, 9)","v":"000000000"},{"$f":"DEC2BIN('W6'!AC109, 9)","v":"000000000"},{"$f":"DEC2BIN('W6'!AD109, 9)","v":"000000000"},{"$f":"DEC2BIN('W6'!AE109, 9)","v":"000000000"},{"$f":"DEC2BIN('W6'!AF109, 9)","v":"000000000"},{"$f":"DEC2BIN('W6'!AG109, 9)","v":"000000000"},{"$f":"DEC2BIN('W6'!AH109, 9)","v":"000000000"},{"$f":"DEC2BIN('W6'!AI109, 9)","v":"000000000"},{"$f":"DEC2BIN('W6'!AJ109, 9)","v":"000000000"},{"$f":"DEC2BIN('W6'!AK109, 9)","v":"000000000"},{"$f":"DEC2BIN('W6'!AL109, 9)","v":"000000000"},{"$f":"DEC2BIN('W6'!AM109, 9)","v":"000000000"},{"$f":"DEC2BIN('W6'!AN109, 9)","v":"000000000"},{"$f":"DEC2BIN('W6'!AO109, 9)","v":"000000000"},{"$f":"DEC2BIN('W6'!AP109, 9)","v":"000000000"},{"$f":"DEC2BIN('W6'!AQ109, 9)","v":"000000000"}]
[{"$f":"DEC2BIN('W6'!A110, 9)","v":"1111101000"},{"$f":"DEC2BIN('W6'!B110, 9)","v":"1111000011"},{"$f":"DEC2BIN('W6'!C110, 9)","v":"1110100010"},{"$f":"DEC2BIN('W6'!D110, 9)","v":"1110111110"},{"$f":"DEC2BIN('W6'!E110, 9)","v":"000010111"},{"$f":"DEC2BIN('W6'!F110, 9)","v":"1111101001"},{"$f":"DEC2BIN('W6'!G110, 9)","v":"1110100000"},{"$f":"DEC2BIN('W6'!H110, 9)","v":"000011010"},{"$f":"DEC2BIN('W6'!I110, 9)","v":"000100010"},{"$f":"DEC2BIN('W6'!J110, 9)","v":"1111000100"},{"$f":"DEC2BIN('W6'!K110, 9)","v":"000000000"},{"$f":"DEC2BIN('W6'!L110, 9)","v":"000000000"},{"$f":"DEC2BIN('W6'!M110, 9)","v":"000000000"},{"$f":"DEC2BIN('W6'!N110, 9)","v":"000000000"},{"$f":"DEC2BIN('W6'!O110, 9)","v":"000000000"},{"$f":"DEC2BIN('W6'!P110, 9)","v":"000000000"},{"$f":"DEC2BIN('W6'!Q110, 9)","v":"000000000"},{"$f":"DEC2BIN('W6'!R110, 9)","v":"000000000"},{"$f":"DEC2BIN('W6'!S110, 9)","v":"000000000"},{"$f":"DEC2BIN('W6'!T110, 9)","v":"000000000"},{"$f":"DEC2BIN('W6'!U110, 9)","v":"000000000"},{"$f":"DEC2BIN('W6'!V110, 9)","v":"000000000"},{"$f":"DEC2BIN('W6'!W110, 9)","v":"000000000"},{"$f":"DEC2BIN('W6'!X110, 9)","v":"000000000"},{"$f":"DEC2BIN('W6'!Y110, 9)","v":"000000000"},{"$f":"DEC2BIN('W6'!Z110, 9)","v":"000000000"},{"$f":"DEC2BIN('W6'!AA110, 9)","v":"000000000"},{"$f":"DEC2BIN('W6'!AB110, 9)","v":"000000000"},{"$f":"DEC2BIN('W6'!AC110, 9)","v":"000000000"},{"$f":"DEC2BIN('W6'!AD110, 9)","v":"000000000"},{"$f":"DEC2BIN('W6'!AE110, 9)","v":"000000000"},{"$f":"DEC2BIN('W6'!AF110, 9)","v":"000000000"},{"$f":"DEC2BIN('W6'!AG110, 9)","v":"000000000"},{"$f":"DEC2BIN('W6'!AH110, 9)","v":"000000000"},{"$f":"DEC2BIN('W6'!AI110, 9)","v":"000000000"},{"$f":"DEC2BIN('W6'!AJ110, 9)","v":"000000000"},{"$f":"DEC2BIN('W6'!AK110, 9)","v":"000000000"},{"$f":"DEC2BIN('W6'!AL110, 9)","v":"000000000"},{"$f":"DEC2BIN('W6'!AM110, 9)","v":"000000000"},{"$f":"DEC2BIN('W6'!AN110, 9)","v":"000000000"},{"$f":"DEC2BIN('W6'!AO110, 9)","v":"000000000"},{"$f":"DEC2BIN('W6'!AP110, 9)","v":"000000000"},{"$f":"DEC2BIN('W6'!AQ110, 9)","v":"000000000"}]
[{"$f":"DEC2BIN('W6'!A111, 9)","v":"000010100"},{"$f":"DEC2BIN('W6'!B111, 9)","v":"1111111100"},{"$f":"DEC2BIN('W6'!C111, 9)","v":"000100110"},{"$f":"DEC2BIN('W6'!D111, 9)","v":"1110011100"},{"$f":"DEC2BIN('W6'!E111, 9)","v":"000100011"},{"$f":"DEC2BIN('W6'!F111, 9)","v":"000011110"},{"$f":"DEC2BIN('W6'!G111, 9)","v":"1110100001"},{"$f":"DEC2BIN('W6'!H111, 9)","v":"000101001"},{"$f":"DEC2BIN('W6'!I111, 9)","v":"000110100"},{"$f":"DEC2BIN('W6'!J111, 9)","v":"1110001001"},{"$f":"DEC2BIN('W6'!K111, 9)","v":"000000000"},{"$f":"DEC2BIN('W6'!L111, 9)","v":"000000000"},{"$f":"DEC2BIN('W6'!M111, 9)","v":"000000000"},{"$f":"DEC2BIN('W6'!N111, 9)","v":"000000000"},{"$f":"DEC2BIN('W6'!O111, 9)","v":"000000000"},{"$f":"DEC2BIN('W6'!P111, 9)","v":"000000000"},{"$f":"DEC2BIN('W6'!Q111, 9)","v":"000000000"},{"$f":"DEC2BIN('W6'!R111, 9)","v":"000000000"},{"$f":"DEC2BIN('W6'!S111, 9)","v":"000000000"},{"$f":"DEC2BIN('W6'!T111, 9)","v":"000000000"},{"$f":"DEC2BIN('W6'!U111, 9)","v":"000000000"},{"$f":"DEC2BIN('W6'!V111, 9)","v":"000000000"},{"$f":"DEC2BIN('W6'!W111, 9)","v":"000000000"},{"$f":"DEC2BIN('W6'!X111, 9)","v":"000000000"},{"$f":"DEC2BIN('W6'!Y111, 9)","v":"000000000"},{"$f":"DEC2BIN('W6'!Z111, 9)","v":"000000000"},{"$f":"DEC2BIN('W6'!AA111, 9)","v":"000000000"},{"$f":"DEC2BIN('W6'!AB111, 9)","v":"000000000"},{"$f":"DEC2BIN('W6'!AC111, 9)","v":"000000000"},{"$f":"DEC2BIN('W6'!AD111, 9)","v":"000000000"},{"$f":"DEC2BIN('W6'!AE111, 9)","v":"000000000"},{"$f":"DEC2BIN('W6'!AF111, 9)","v":"000000000"},{"$f":"DEC2BIN('W6'!AG111, 9)","v":"000000000"},{"$f":"DEC2BIN('W6'!AH111, 9)","v":"000000000"},{"$f":"DEC2BIN('W6'!AI111, 9)","v":"000000000"},{"$f":"DEC2BIN('W6'!AJ111, 9)","v":"000000000"},{"$f":"DEC2BIN('W6'!AK111, 9)","v":"000000000"},{"$f":"DEC2BIN('W6'!AL111, 9)","v":"000000000"},{"$f":"DEC2BIN('W6'!AM111, 9)","v":"000000000"},{"$f":"DEC2BIN('W6'!AN111, 9)","v":"000000000"},{"$f":"DEC2BIN('W6'!AO111, 9)","v":"000000000"},{"$f":"DEC2BIN('W6'!AP111, 9)","v":"000000000"},{"$f":"DEC2BIN('W6'!AQ111, 9)","v":"000000000"}]
[{"$f":"DEC2BIN('W6'!A112, 9)","v":"1111101001"},{"$f":"DEC2BIN('W6'!B112, 9)","v":"000011100"},{"$f":"DEC2BIN('W6'!C112, 9)","v":"1111111101"},{"$f":"DEC2BIN('W6'!D112, 9)","v":"000011010"},{"$f":"DEC2BIN('W6'!E112, 9)","v":"000101000"},{"$f":"DEC2BIN('W6'!F112, 9)","v":"000010001"},{"$f":"DEC2BIN('W6'!G112, 9)","v":"1110111011"},{"$f":"DEC2BIN('W6'!H112, 9)","v":"1111000110"},{"$f":"DEC2BIN('W6'!I112, 9)","v":"1110001000"},{"$f":"DEC2BIN('W6'!J112, 9)","v":"1110100111"},{"$f":"DEC2BIN('W6'!K112, 9)","v":"000000000"},{"$f":"DEC2BIN('W6'!L112, 9)","v":"000000000"},{"$f":"DEC2BIN('W6'!M112, 9)","v":"000000000"},{"$f":"DEC2BIN('W6'!N112, 9)","v":"000000000"},{"$f":"DEC2BIN('W6'!O112, 9)","v":"000000000"},{"$f":"DEC2BIN('W6'!P112, 9)","v":"000000000"},{"$f":"DEC2BIN('W6'!Q112, 9)","v":"000000000"},{"$f":"DEC2BIN('W6'!R112, 9)","v":"000000000"},{"$f":"DEC2BIN('W6'!S112, 9)","v":"000000000"},{"$f":"DEC2BIN('W6'!T112, 9)","v":"000000000"},{"$f":"DEC2BIN('W6'!U112, 9)","v":"000000000"},{"$f":"DEC2BIN('W6'!V112, 9)","v":"000000000"},{"$f":"DEC2BIN('W6'!W112, 9)","v":"000000000"},{"$f":"DEC2BIN('W6'!X112, 9)","v":"000000000"},{"$f":"DEC2BIN('W6'!Y112, 9)","v":"000000000"},{"$f":"DEC2BIN('W6'!Z112, 9)","v":"000000000"},{"$f":"DEC2BIN('W6'!AA112, 9)","v":"000000000"},{"$f":"DEC2BIN('W6'!AB112, 9)","v":"000000000"},{"$f":"DEC2BIN('W6'!AC112, 9)","v":"000000000"},{"$f":"DEC2BIN('W6'!AD112, 9)","v":"000000000"},{"$f":"DEC2BIN('W6'!AE112, 9)","v":"000000000"},{"$f":"DEC2BIN('W6'!AF112, 9)","v":"000000000"},{"$f":"DEC2BIN('W6'!AG112, 9)","v":"000000000"},{"$f":"DEC2BIN('W6'!AH112, 9)","v":"000000000"},{"$f":"DEC2BIN('W6'!AI112, 9)","v":"000000000"},{"$f":"DEC2BIN('W6'!AJ112, 9)","v":"000000000"},{"$f":"DEC2BIN('W6'!AK112, 9)","v":"000000000"},{"$f":"DEC2BIN('W6'!AL112, 9)","v":"000000000"},{"$f":"DEC2BIN('W6'!AM112, 9)","v":"000000000"},{"$f":"DEC2BIN('W6'!AN112, 9)","v":"000000000"},{"$f":"DEC2BIN('W6'!AO112, 9)","v":"000000000"},{"$f":"DEC2BIN('W6'!AP112, 9)","v":"000000000"},{"$f":"DEC2BIN('W6'!AQ112, 9)","v":"000000000"}]
[{"$f":"DEC2BIN('W6'!A113, 9)","v":"1111010110"},{"$f":"DEC2BIN('W6'!B113, 9)","v":"1111100111"},{"$f":"DEC2BIN('W6'!C113, 9)","v":"001001000"},{"$f":"DEC2BIN('W6'!D113, 9)","v":"1111001001"},{"$f":"DEC2BIN('W6'!E113, 9)","v":"1111001101"},{"$f":"DEC2BIN('W6'!F113, 9)","v":"000011011"},{"$f":"DEC2BIN('W6'!G113, 9)","v":"1110111101"},{"$f":"DEC2BIN('W6'!H113, 9)","v":"1111000010"},{"$f":"DEC2BIN('W6'!I113, 9)","v":"1110110011"},{"$f":"DEC2BIN('W6'!J113, 9)","v":"001001101"},{"$f":"DEC2BIN('W6'!K113, 9)","v":"000000000"},{"$f":"DEC2BIN('W6'!L113, 9)","v":"000000000"},{"$f":"DEC2BIN('W6'!M113, 9)","v":"000000000"},{"$f":"DEC2BIN('W6'!N113, 9)","v":"000000000"},{"$f":"DEC2BIN('W6'!O113, 9)","v":"000000000"},{"$f":"DEC2BIN('W6'!P113, 9)","v":"000000000"},{"$f":"DEC2BIN('W6'!Q113, 9)","v":"000000000"},{"$f":"DEC2BIN('W6'!R113, 9)","v":"000000000"},{"$f":"DEC2BIN('W6'!S113, 9)","v":"000000000"},{"$f":"DEC2BIN('W6'!T113, 9)","v":"000000000"},{"$f":"DEC2BIN('W6'!U113, 9)","v":"000000000"},{"$f":"DEC2BIN('W6'!V113, 9)","v":"000000000"},{"$f":"DEC2BIN('W6'!W113, 9)","v":"000000000"},{"$f":"DEC2BIN('W6'!X113, 9)","v":"000000000"},{"$f":"DEC2BIN('W6'!Y113, 9)","v":"000000000"},{"$f":"DEC2BIN('W6'!Z113, 9)","v":"000000000"},{"$f":"DEC2BIN('W6'!AA113, 9)","v":"000000000"},{"$f":"DEC2BIN('W6'!AB113, 9)","v":"000000000"},{"$f":"DEC2BIN('W6'!AC113, 9)","v":"000000000"},{"$f":"DEC2BIN('W6'!AD113, 9)","v":"000000000"},{"$f":"DEC2BIN('W6'!AE113, 9)","v":"000000000"},{"$f":"DEC2BIN('W6'!AF113, 9)","v":"000000000"},{"$f":"DEC2BIN('W6'!AG113, 9)","v":"000000000"},{"$f":"DEC2BIN('W6'!AH113, 9)","v":"000000000"},{"$f":"DEC2BIN('W6'!AI113, 9)","v":"000000000"},{"$f":"DEC2BIN('W6'!AJ113, 9)","v":"000000000"},{"$f":"DEC2BIN('W6'!AK113, 9)","v":"000000000"},{"$f":"DEC2BIN('W6'!AL113, 9)","v":"000000000"},{"$f":"DEC2BIN('W6'!AM113, 9)","v":"000000000"},{"$f":"DEC2BIN('W6'!AN113, 9)","v":"000000000"},{"$f":"DEC2BIN('W6'!AO113, 9)","v":"000000000"},{"$f":"DEC2BIN('W6'!AP113, 9)","v":"000000000"},{"$f":"DEC2BIN('W6'!AQ113, 9)","v":"000000000"}]
[{"$f":"DEC2BIN('W6'!A114, 9)","v":"1111000001"},{"$f":"DEC2BIN('W6'!B114, 9)","v":"000001100"},{"$f":"DEC2BIN('W6'!C114, 9)","v":"001010000"},{"$f":"DEC2BIN('W6'!D114, 9)","v":"000001101"},{"$f":"DEC2BIN('W6'!E114, 9)","v":"001001000"},{"$f":"DEC2BIN('W6'!F114, 9)","v":"1111100111"},{"$f":"DEC2BIN('W6'!G114, 9)","v":"1111000110"},{"$f":"DEC2BIN('W6'!H114, 9)","v":"1111110000"},{"$f":"DEC2BIN('W6'!I114, 9)","v":"1111100001"},{"$f":"DEC2BIN('W6'!J114, 9)","v":"000000010"},{"$f":"DEC2BIN('W6'!K114, 9)","v":"000000000"},{"$f":"DEC2BIN('W6'!L114, 9)","v":"000000000"},{"$f":"DEC2BIN('W6'!M114, 9)","v":"000000000"},{"$f":"DEC2BIN('W6'!N114, 9)","v":"000000000"},{"$f":"DEC2BIN('W6'!O114, 9)","v":"000000000"},{"$f":"DEC2BIN('W6'!P114, 9)","v":"000000000"},{"$f":"DEC2BIN('W6'!Q114, 9)","v":"000000000"},{"$f":"DEC2BIN('W6'!R114, 9)","v":"000000000"},{"$f":"DEC2BIN('W6'!S114, 9)","v":"000000000"},{"$f":"DEC2BIN('W6'!T114, 9)","v":"000000000"},{"$f":"DEC2BIN('W6'!U114, 9)","v":"000000000"},{"$f":"DEC2BIN('W6'!V114, 9)","v":"000000000"},{"$f":"DEC2BIN('W6'!W114, 9)","v":"000000000"},{"$f":"DEC2BIN('W6'!X114, 9)","v":"000000000"},{"$f":"DEC2BIN('W6'!Y114, 9)","v":"000000000"},{"$f":"DEC2BIN('W6'!Z114, 9)","v":"000000000"},{"$f":"DEC2BIN('W6'!AA114, 9)","v":"000000000"},{"$f":"DEC2BIN('W6'!AB114, 9)","v":"000000000"},{"$f":"DEC2BIN('W6'!AC114, 9)","v":"000000000"},{"$f":"DEC2BIN('W6'!AD114, 9)","v":"000000000"},{"$f":"DEC2BIN('W6'!AE114, 9)","v":"000000000"},{"$f":"DEC2BIN('W6'!AF114, 9)","v":"000000000"},{"$f":"DEC2BIN('W6'!AG114, 9)","v":"000000000"},{"$f":"DEC2BIN('W6'!AH114, 9)","v":"000000000"},{"$f":"DEC2BIN('W6'!AI114, 9)","v":"000000000"},{"$f":"DEC2BIN('W6'!AJ114, 9)","v":"000000000"},{"$f":"DEC2BIN('W6'!AK114, 9)","v":"000000000"},{"$f":"DEC2BIN('W6'!AL114, 9)","v":"000000000"},{"$f":"DEC2BIN('W6'!AM114, 9)","v":"000000000"},{"$f":"DEC2BIN('W6'!AN114, 9)","v":"000000000"},{"$f":"DEC2BIN('W6'!AO114, 9)","v":"000000000"},{"$f":"DEC2BIN('W6'!AP114, 9)","v":"000000000"},{"$f":"DEC2BIN('W6'!AQ114, 9)","v":"000000000"}]
[{"$f":"DEC2BIN('W6'!A115, 9)","v":"000110011"},{"$f":"DEC2BIN('W6'!B115, 9)","v":"000101100"},{"$f":"DEC2BIN('W6'!C115, 9)","v":"1110011011"},{"$f":"DEC2BIN('W6'!D115, 9)","v":"000001011"},{"$f":"DEC2BIN('W6'!E115, 9)","v":"000001110"},{"$f":"DEC2BIN('W6'!F115, 9)","v":"1111011011"},{"$f":"DEC2BIN('W6'!G115, 9)","v":"000101000"},{"$f":"DEC2BIN('W6'!H115, 9)","v":"000011010"},{"$f":"DEC2BIN('W6'!I115, 9)","v":"000100010"},{"$f":"DEC2BIN('W6'!J115, 9)","v":"000010110"},{"$f":"DEC2BIN('W6'!K115, 9)","v":"000000000"},{"$f":"DEC2BIN('W6'!L115, 9)","v":"000000000"},{"$f":"DEC2BIN('W6'!M115, 9)","v":"000000000"},{"$f":"DEC2BIN('W6'!N115, 9)","v":"000000000"},{"$f":"DEC2BIN('W6'!O115, 9)","v":"000000000"},{"$f":"DEC2BIN('W6'!P115, 9)","v":"000000000"},{"$f":"DEC2BIN('W6'!Q115, 9)","v":"000000000"},{"$f":"DEC2BIN('W6'!R115, 9)","v":"000000000"},{"$f":"DEC2BIN('W6'!S115, 9)","v":"000000000"},{"$f":"DEC2BIN('W6'!T115, 9)","v":"000000000"},{"$f":"DEC2BIN('W6'!U115, 9)","v":"000000000"},{"$f":"DEC2BIN('W6'!V115, 9)","v":"000000000"},{"$f":"DEC2BIN('W6'!W115, 9)","v":"000000000"},{"$f":"DEC2BIN('W6'!X115, 9)","v":"000000000"},{"$f":"DEC2BIN('W6'!Y115, 9)","v":"000000000"},{"$f":"DEC2BIN('W6'!Z115, 9)","v":"000000000"},{"$f":"DEC2BIN('W6'!AA115, 9)","v":"000000000"},{"$f":"DEC2BIN('W6'!AB115, 9)","v":"000000000"},{"$f":"DEC2BIN('W6'!AC115, 9)","v":"000000000"},{"$f":"DEC2BIN('W6'!AD115, 9)","v":"000000000"},{"$f":"DEC2BIN('W6'!AE115, 9)","v":"000000000"},{"$f":"DEC2BIN('W6'!AF115, 9)","v":"000000000"},{"$f":"DEC2BIN('W6'!AG115, 9)","v":"000000000"},{"$f":"DEC2BIN('W6'!AH115, 9)","v":"000000000"},{"$f":"DEC2BIN('W6'!AI115, 9)","v":"000000000"},{"$f":"DEC2BIN('W6'!AJ115, 9)","v":"000000000"},{"$f":"DEC2BIN('W6'!AK115, 9)","v":"000000000"},{"$f":"DEC2BIN('W6'!AL115, 9)","v":"000000000"},{"$f":"DEC2BIN('W6'!AM115, 9)","v":"000000000"},{"$f":"DEC2BIN('W6'!AN115, 9)","v":"000000000"},{"$f":"DEC2BIN('W6'!AO115, 9)","v":"000000000"},{"$f":"DEC2BIN('W6'!AP115, 9)","v":"000000000"},{"$f":"DEC2BIN('W6'!AQ115, 9)","v":"000000000"}]
[{"$f":"DEC2BIN('W6'!A116, 9)","v":"000001010"},{"$f":"DEC2BIN('W6'!B116, 9)","v":"1110110100"},{"$f":"DEC2BIN('W6'!C116, 9)","v":"000100000"},{"$f":"DEC2BIN('W6'!D116, 9)","v":"000100000"},{"$f":"DEC2BIN('W6'!E116, 9)","v":"000001101"},{"$f":"DEC2BIN('W6'!F116, 9)","v":"1110101010"},{"$f":"DEC2BIN('W6'!G116, 9)","v":"1111010100"},{"$f":"DEC2BIN('W6'!H116, 9)","v":"1110001111"},{"$f":"DEC2BIN('W6'!I116, 9)","v":"000001010"},{"$f":"DEC2BIN('W6'!J116, 9)","v":"1111100001"},{"$f":"DEC2BIN('W6'!K116, 9)","v":"000000000"},{"$f":"DEC2BIN('W6'!L116, 9)","v":"000000000"},{"$f":"DEC2BIN('W6'!M116, 9)","v":"000000000"},{"$f":"DEC2BIN('W6'!N116, 9)","v":"000000000"},{"$f":"DEC2BIN('W6'!O116, 9)","v":"000000000"},{"$f":"DEC2BIN('W6'!P116, 9)","v":"000000000"},{"$f":"DEC2BIN('W6'!Q116, 9)","v":"000000000"},{"$f":"DEC2BIN('W6'!R116, 9)","v":"000000000"},{"$f":"DEC2BIN('W6'!S116, 9)","v":"000000000"},{"$f":"DEC2BIN('W6'!T116, 9)","v":"000000000"},{"$f":"DEC2BIN('W6'!U116, 9)","v":"000000000"},{"$f":"DEC2BIN('W6'!V116, 9)","v":"000000000"},{"$f":"DEC2BIN('W6'!W116, 9)","v":"000000000"},{"$f":"DEC2BIN('W6'!X116, 9)","v":"000000000"},{"$f":"DEC2BIN('W6'!Y116, 9)","v":"000000000"},{"$f":"DEC2BIN('W6'!Z116, 9)","v":"000000000"},{"$f":"DEC2BIN('W6'!AA116, 9)","v":"000000000"},{"$f":"DEC2BIN('W6'!AB116, 9)","v":"000000000"},{"$f":"DEC2BIN('W6'!AC116, 9)","v":"000000000"},{"$f":"DEC2BIN('W6'!AD116, 9)","v":"000000000"},{"$f":"DEC2BIN('W6'!AE116, 9)","v":"000000000"},{"$f":"DEC2BIN('W6'!AF116, 9)","v":"000000000"},{"$f":"DEC2BIN('W6'!AG116, 9)","v":"000000000"},{"$f":"DEC2BIN('W6'!AH116, 9)","v":"000000000"},{"$f":"DEC2BIN('W6'!AI116, 9)","v":"000000000"},{"$f":"DEC2BIN('W6'!AJ116, 9)","v":"000000000"},{"$f":"DEC2BIN('W6'!AK116, 9)","v":"000000000"},{"$f":"DEC2BIN('W6'!AL116, 9)","v":"000000000"},{"$f":"DEC2BIN('W6'!AM116, 9)","v":"000000000"},{"$f":"DEC2BIN('W6'!AN116, 9)","v":"000000000"},{"$f":"DEC2BIN('W6'!AO116, 9)","v":"000000000"},{"$f":"DEC2BIN('W6'!AP116, 9)","v":"000000000"},{"$f":"DEC2BIN('W6'!AQ116, 9)","v":"000000000"}]
[{"$f":"DEC2BIN('W6'!A117, 9)","v":"1110111100"},{"$f":"DEC2BIN('W6'!B117, 9)","v":"000000110"},{"$f":"DEC2BIN('W6'!C117, 9)","v":"000000000"},{"$f":"DEC2BIN('W6'!D117, 9)","v":"1111101110"},{"$f":"DEC2BIN('W6'!E117, 9)","v":"000000101"},{"$f":"DEC2BIN('W6'!F117, 9)","v":"000011101"},{"$f":"DEC2BIN('W6'!G117, 9)","v":"1111100100"},{"$f":"DEC2BIN('W6'!H117, 9)","v":"000100000"},{"$f":"DEC2BIN('W6'!I117, 9)","v":"000100000"},{"$f":"DEC2BIN('W6'!J117, 9)","v":"1111010000"},{"$f":"DEC2BIN('W6'!K117, 9)","v":"000000000"},{"$f":"DEC2BIN('W6'!L117, 9)","v":"000000000"},{"$f":"DEC2BIN('W6'!M117, 9)","v":"000000000"},{"$f":"DEC2BIN('W6'!N117, 9)","v":"000000000"},{"$f":"DEC2BIN('W6'!O117, 9)","v":"000000000"},{"$f":"DEC2BIN('W6'!P117, 9)","v":"000000000"},{"$f":"DEC2BIN('W6'!Q117, 9)","v":"000000000"},{"$f":"DEC2BIN('W6'!R117, 9)","v":"000000000"},{"$f":"DEC2BIN('W6'!S117, 9)","v":"000000000"},{"$f":"DEC2BIN('W6'!T117, 9)","v":"000000000"},{"$f":"DEC2BIN('W6'!U117, 9)","v":"000000000"},{"$f":"DEC2BIN('W6'!V117, 9)","v":"000000000"},{"$f":"DEC2BIN('W6'!W117, 9)","v":"000000000"},{"$f":"DEC2BIN('W6'!X117, 9)","v":"000000000"},{"$f":"DEC2BIN('W6'!Y117, 9)","v":"000000000"},{"$f":"DEC2BIN('W6'!Z117, 9)","v":"000000000"},{"$f":"DEC2BIN('W6'!AA117, 9)","v":"000000000"},{"$f":"DEC2BIN('W6'!AB117, 9)","v":"000000000"},{"$f":"DEC2BIN('W6'!AC117, 9)","v":"000000000"},{"$f":"DEC2BIN('W6'!AD117, 9)","v":"000000000"},{"$f":"DEC2BIN('W6'!AE117, 9)","v":"000000000"},{"$f":"DEC2BIN('W6'!AF117, 9)","v":"000000000"},{"$f":"DEC2BIN('W6'!AG117, 9)","v":"000000000"},{"$f":"DEC2BIN('W6'!AH117, 9)","v":"000000000"},{"$f":"DEC2BIN('W6'!AI117, 9)","v":"000000000"},{"$f":"DEC2BIN('W6'!AJ117, 9)","v":"000000000"},{"$f":"DEC2BIN('W6'!AK117, 9)","v":"000000000"},{"$f":"DEC2BIN('W6'!AL117, 9)","v":"000000000"},{"$f":"DEC2BIN('W6'!AM117, 9)","v":"000000000"},{"$f":"DEC2BIN('W6'!AN117, 9)","v":"000000000"},{"$f":"DEC2BIN('W6'!AO117, 9)","v":"000000000"},{"$f":"DEC2BIN('W6'!AP117, 9)","v":"000000000"},{"$f":"DEC2BIN('W6'!AQ117, 9)","v":"000000000"}]
[{"$f":"DEC2BIN('W6'!A118, 9)","v":"000010000"},{"$f":"DEC2BIN('W6'!B118, 9)","v":"000100011"},{"$f":"DEC2BIN('W6'!C118, 9)","v":"1111100000"},{"$f":"DEC2BIN('W6'!D118, 9)","v":"1111110011"},{"$f":"DEC2BIN('W6'!E118, 9)","v":"1111001010"},{"$f":"DEC2BIN('W6'!F118, 9)","v":"1111001100"},{"$f":"DEC2BIN('W6'!G118, 9)","v":"1111100101"},{"$f":"DEC2BIN('W6'!H118, 9)","v":"1111100001"},{"$f":"DEC2BIN('W6'!I118, 9)","v":"1111101100"},{"$f":"DEC2BIN('W6'!J118, 9)","v":"1111011001"},{"$f":"DEC2BIN('W6'!K118, 9)","v":"000000000"},{"$f":"DEC2BIN('W6'!L118, 9)","v":"000000000"},{"$f":"DEC2BIN('W6'!M118, 9)","v":"000000000"},{"$f":"DEC2BIN('W6'!N118, 9)","v":"000000000"},{"$f":"DEC2BIN('W6'!O118, 9)","v":"000000000"},{"$f":"DEC2BIN('W6'!P118, 9)","v":"000000000"},{"$f":"DEC2BIN('W6'!Q118, 9)","v":"000000000"},{"$f":"DEC2BIN('W6'!R118, 9)","v":"000000000"},{"$f":"DEC2BIN('W6'!S118, 9)","v":"000000000"},{"$f":"DEC2BIN('W6'!T118, 9)","v":"000000000"},{"$f":"DEC2BIN('W6'!U118, 9)","v":"000000000"},{"$f":"DEC2BIN('W6'!V118, 9)","v":"000000000"},{"$f":"DEC2BIN('W6'!W118, 9)","v":"000000000"},{"$f":"DEC2BIN('W6'!X118, 9)","v":"000000000"},{"$f":"DEC2BIN('W6'!Y118, 9)","v":"000000000"},{"$f":"DEC2BIN('W6'!Z118, 9)","v":"000000000"},{"$f":"DEC2BIN('W6'!AA118, 9)","v":"000000000"},{"$f":"DEC2BIN('W6'!AB118, 9)","v":"000000000"},{"$f":"DEC2BIN('W6'!AC118, 9)","v":"000000000"},{"$f":"DEC2BIN('W6'!AD118, 9)","v":"000000000"},{"$f":"DEC2BIN('W6'!AE118, 9)","v":"000000000"},{"$f":"DEC2BIN('W6'!AF118, 9)","v":"000000000"},{"$f":"DEC2BIN('W6'!AG118, 9)","v":"000000000"},{"$f":"DEC2BIN('W6'!AH118, 9)","v":"000000000"},{"$f":"DEC2BIN('W6'!AI118, 9)","v":"000000000"},{"$f":"DEC2BIN('W6'!AJ118, 9)","v":"000000000"},{"$f":"DEC2BIN('W6'!AK118, 9)","v":"000000000"},{"$f":"DEC2BIN('W6'!AL118, 9)","v":"000000000"},{"$f":"DEC2BIN('W6'!AM118, 9)","v":"000000000"},{"$f":"DEC2BIN('W6'!AN118, 9)","v":"000000000"},{"$f":"DEC2BIN('W6'!AO118, 9)","v":"000000000"},{"$f":"DEC2BIN('W6'!AP118, 9)","v":"000000000"},{"$f":"DEC2BIN('W6'!AQ118, 9)","v":"000000000"}]
[{"$f":"DEC2BIN('W6'!A119, 9)","v":"000010000"},{"$f":"DEC2BIN('W6'!B119, 9)","v":"000000101"},{"$f":"DEC2BIN('W6'!C119, 9)","v":"000101110"},{"$f":"DEC2BIN('W6'!D119, 9)","v":"000111101"},{"$f":"DEC2BIN('W6'!E119, 9)","v":"1111001101"},{"$f":"DEC2BIN('W6'!F119, 9)","v":"000100111"},{"$f":"DEC2BIN('W6'!G119, 9)","v":"000001001"},{"$f":"DEC2BIN('W6'!H119, 9)","v":"1111001110"},{"$f":"DEC2BIN('W6'!I119, 9)","v":"000010100"},{"$f":"DEC2BIN('W6'!J119, 9)","v":"000010110"},{"$f":"DEC2BIN('W6'!K119, 9)","v":"000000000"},{"$f":"DEC2BIN('W6'!L119, 9)","v":"000000000"},{"$f":"DEC2BIN('W6'!M119, 9)","v":"000000000"},{"$f":"DEC2BIN('W6'!N119, 9)","v":"000000000"},{"$f":"DEC2BIN('W6'!O119, 9)","v":"000000000"},{"$f":"DEC2BIN('W6'!P119, 9)","v":"000000000"},{"$f":"DEC2BIN('W6'!Q119, 9)","v":"000000000"},{"$f":"DEC2BIN('W6'!R119, 9)","v":"000000000"},{"$f":"DEC2BIN('W6'!S119, 9)","v":"000000000"},{"$f":"DEC2BIN('W6'!T119, 9)","v":"000000000"},{"$f":"DEC2BIN('W6'!U119, 9)","v":"000000000"},{"$f":"DEC2BIN('W6'!V119, 9)","v":"000000000"},{"$f":"DEC2BIN('W6'!W119, 9)","v":"000000000"},{"$f":"DEC2BIN('W6'!X119, 9)","v":"000000000"},{"$f":"DEC2BIN('W6'!Y119, 9)","v":"000000000"},{"$f":"DEC2BIN('W6'!Z119, 9)","v":"000000000"},{"$f":"DEC2BIN('W6'!AA119, 9)","v":"000000000"},{"$f":"DEC2BIN('W6'!AB119, 9)","v":"000000000"},{"$f":"DEC2BIN('W6'!AC119, 9)","v":"000000000"},{"$f":"DEC2BIN('W6'!AD119, 9)","v":"000000000"},{"$f":"DEC2BIN('W6'!AE119, 9)","v":"000000000"},{"$f":"DEC2BIN('W6'!AF119, 9)","v":"000000000"},{"$f":"DEC2BIN('W6'!AG119, 9)","v":"000000000"},{"$f":"DEC2BIN('W6'!AH119, 9)","v":"000000000"},{"$f":"DEC2BIN('W6'!AI119, 9)","v":"000000000"},{"$f":"DEC2BIN('W6'!AJ119, 9)","v":"000000000"},{"$f":"DEC2BIN('W6'!AK119, 9)","v":"000000000"},{"$f":"DEC2BIN('W6'!AL119, 9)","v":"000000000"},{"$f":"DEC2BIN('W6'!AM119, 9)","v":"000000000"},{"$f":"DEC2BIN('W6'!AN119, 9)","v":"000000000"},{"$f":"DEC2BIN('W6'!AO119, 9)","v":"000000000"},{"$f":"DEC2BIN('W6'!AP119, 9)","v":"000000000"},{"$f":"DEC2BIN('W6'!AQ119, 9)","v":"000000000"}]
[{"$f":"DEC2BIN('W6'!A120, 9)","v":"1111101100"},{"$f":"DEC2BIN('W6'!B120, 9)","v":"1111100001"},{"$f":"DEC2BIN('W6'!C120, 9)","v":"000000011"},{"$f":"DEC2BIN('W6'!D120, 9)","v":"000000000"},{"$f":"DEC2BIN('W6'!E120, 9)","v":"000011001"},{"$f":"DEC2BIN('W6'!F120, 9)","v":"000100100"},{"$f":"DEC2BIN('W6'!G120, 9)","v":"1111111101"},{"$f":"DEC2BIN('W6'!H120, 9)","v":"000000001"},{"$f":"DEC2BIN('W6'!I120, 9)","v":"1111111001"},{"$f":"DEC2BIN('W6'!J120, 9)","v":"000001010"},{"$f":"DEC2BIN('W6'!K120, 9)","v":"000000000"},{"$f":"DEC2BIN('W6'!L120, 9)","v":"000000000"},{"$f":"DEC2BIN('W6'!M120, 9)","v":"000000000"},{"$f":"DEC2BIN('W6'!N120, 9)","v":"000000000"},{"$f":"DEC2BIN('W6'!O120, 9)","v":"000000000"},{"$f":"DEC2BIN('W6'!P120, 9)","v":"000000000"},{"$f":"DEC2BIN('W6'!Q120, 9)","v":"000000000"},{"$f":"DEC2BIN('W6'!R120, 9)","v":"000000000"},{"$f":"DEC2BIN('W6'!S120, 9)","v":"000000000"},{"$f":"DEC2BIN('W6'!T120, 9)","v":"000000000"},{"$f":"DEC2BIN('W6'!U120, 9)","v":"000000000"},{"$f":"DEC2BIN('W6'!V120, 9)","v":"000000000"},{"$f":"DEC2BIN('W6'!W120, 9)","v":"000000000"},{"$f":"DEC2BIN('W6'!X120, 9)","v":"000000000"},{"$f":"DEC2BIN('W6'!Y120, 9)","v":"000000000"},{"$f":"DEC2BIN('W6'!Z120, 9)","v":"000000000"},{"$f":"DEC2BIN('W6'!AA120, 9)","v":"000000000"},{"$f":"DEC2BIN('W6'!AB120, 9)","v":"000000000"},{"$f":"DEC2BIN('W6'!AC120, 9)","v":"000000000"},{"$f":"DEC2BIN('W6'!AD120, 9)","v":"000000000"},{"$f":"DEC2BIN('W6'!AE120, 9)","v":"000000000"},{"$f":"DEC2BIN('W6'!AF120, 9)","v":"000000000"},{"$f":"DEC2BIN('W6'!AG120, 9)","v":"000000000"},{"$f":"DEC2BIN('W6'!AH120, 9)","v":"000000000"},{"$f":"DEC2BIN('W6'!AI120, 9)","v":"000000000"},{"$f":"DEC2BIN('W6'!AJ120, 9)","v":"000000000"},{"$f":"DEC2BIN('W6'!AK120, 9)","v":"000000000"},{"$f":"DEC2BIN('W6'!AL120, 9)","v":"000000000"},{"$f":"DEC2BIN('W6'!AM120, 9)","v":"000000000"},{"$f":"DEC2BIN('W6'!AN120, 9)","v":"000000000"},{"$f":"DEC2BIN('W6'!AO120, 9)","v":"000000000"},{"$f":"DEC2BIN('W6'!AP120, 9)","v":"000000000"},{"$f":"DEC2BIN('W6'!AQ120, 9)","v":"000000000"}]
[{"$f":"DEC2BIN('W6'!A121, 9)","v":"1111000000"},{"$f":"DEC2BIN('W6'!B121, 9)","v":"1111110101"},{"$f":"DEC2BIN('W6'!C121, 9)","v":"1110110011"},{"$f":"DEC2BIN('W6'!D121, 9)","v":"1111100100"},{"$f":"DEC2BIN('W6'!E121, 9)","v":"1111111010"},{"$f":"DEC2BIN('W6'!F121, 9)","v":"1111010011"},{"$f":"DEC2BIN('W6'!G121, 9)","v":"1111011010"},{"$f":"DEC2BIN('W6'!H121, 9)","v":"1111001001"},{"$f":"DEC2BIN('W6'!I121, 9)","v":"000001101"},{"$f":"DEC2BIN('W6'!J121, 9)","v":"001011101"},{"$f":"DEC2BIN('W6'!K121, 9)","v":"000000000"},{"$f":"DEC2BIN('W6'!L121, 9)","v":"000000000"},{"$f":"DEC2BIN('W6'!M121, 9)","v":"000000000"},{"$f":"DEC2BIN('W6'!N121, 9)","v":"000000000"},{"$f":"DEC2BIN('W6'!O121, 9)","v":"000000000"},{"$f":"DEC2BIN('W6'!P121, 9)","v":"000000000"},{"$f":"DEC2BIN('W6'!Q121, 9)","v":"000000000"},{"$f":"DEC2BIN('W6'!R121, 9)","v":"000000000"},{"$f":"DEC2BIN('W6'!S121, 9)","v":"000000000"},{"$f":"DEC2BIN('W6'!T121, 9)","v":"000000000"},{"$f":"DEC2BIN('W6'!U121, 9)","v":"000000000"},{"$f":"DEC2BIN('W6'!V121, 9)","v":"000000000"},{"$f":"DEC2BIN('W6'!W121, 9)","v":"000000000"},{"$f":"DEC2BIN('W6'!X121, 9)","v":"000000000"},{"$f":"DEC2BIN('W6'!Y121, 9)","v":"000000000"},{"$f":"DEC2BIN('W6'!Z121, 9)","v":"000000000"},{"$f":"DEC2BIN('W6'!AA121, 9)","v":"000000000"},{"$f":"DEC2BIN('W6'!AB121, 9)","v":"000000000"},{"$f":"DEC2BIN('W6'!AC121, 9)","v":"000000000"},{"$f":"DEC2BIN('W6'!AD121, 9)","v":"000000000"},{"$f":"DEC2BIN('W6'!AE121, 9)","v":"000000000"},{"$f":"DEC2BIN('W6'!AF121, 9)","v":"000000000"},{"$f":"DEC2BIN('W6'!AG121, 9)","v":"000000000"},{"$f":"DEC2BIN('W6'!AH121, 9)","v":"000000000"},{"$f":"DEC2BIN('W6'!AI121, 9)","v":"000000000"},{"$f":"DEC2BIN('W6'!AJ121, 9)","v":"000000000"},{"$f":"DEC2BIN('W6'!AK121, 9)","v":"000000000"},{"$f":"DEC2BIN('W6'!AL121, 9)","v":"000000000"},{"$f":"DEC2BIN('W6'!AM121, 9)","v":"000000000"},{"$f":"DEC2BIN('W6'!AN121, 9)","v":"000000000"},{"$f":"DEC2BIN('W6'!AO121, 9)","v":"000000000"},{"$f":"DEC2BIN('W6'!AP121, 9)","v":"000000000"},{"$f":"DEC2BIN('W6'!AQ121, 9)","v":"000000000"}]
[{"$f":"DEC2BIN('W6'!A122, 9)","v":"000010001"},{"$f":"DEC2BIN('W6'!B122, 9)","v":"000101010"},{"$f":"DEC2BIN('W6'!C122, 9)","v":"1111101101"},{"$f":"DEC2BIN('W6'!D122, 9)","v":"1110101001"},{"$f":"DEC2BIN('W6'!E122, 9)","v":"000100000"},{"$f":"DEC2BIN('W6'!F122, 9)","v":"1110100011"},{"$f":"DEC2BIN('W6'!G122, 9)","v":"000011101"},{"$f":"DEC2BIN('W6'!H122, 9)","v":"1110010110"},{"$f":"DEC2BIN('W6'!I122, 9)","v":"000110011"},{"$f":"DEC2BIN('W6'!J122, 9)","v":"1111001000"},{"$f":"DEC2BIN('W6'!K122, 9)","v":"000000000"},{"$f":"DEC2BIN('W6'!L122, 9)","v":"000000000"},{"$f":"DEC2BIN('W6'!M122, 9)","v":"000000000"},{"$f":"DEC2BIN('W6'!N122, 9)","v":"000000000"},{"$f":"DEC2BIN('W6'!O122, 9)","v":"000000000"},{"$f":"DEC2BIN('W6'!P122, 9)","v":"000000000"},{"$f":"DEC2BIN('W6'!Q122, 9)","v":"000000000"},{"$f":"DEC2BIN('W6'!R122, 9)","v":"000000000"},{"$f":"DEC2BIN('W6'!S122, 9)","v":"000000000"},{"$f":"DEC2BIN('W6'!T122, 9)","v":"000000000"},{"$f":"DEC2BIN('W6'!U122, 9)","v":"000000000"},{"$f":"DEC2BIN('W6'!V122, 9)","v":"000000000"},{"$f":"DEC2BIN('W6'!W122, 9)","v":"000000000"},{"$f":"DEC2BIN('W6'!X122, 9)","v":"000000000"},{"$f":"DEC2BIN('W6'!Y122, 9)","v":"000000000"},{"$f":"DEC2BIN('W6'!Z122, 9)","v":"000000000"},{"$f":"DEC2BIN('W6'!AA122, 9)","v":"000000000"},{"$f":"DEC2BIN('W6'!AB122, 9)","v":"000000000"},{"$f":"DEC2BIN('W6'!AC122, 9)","v":"000000000"},{"$f":"DEC2BIN('W6'!AD122, 9)","v":"000000000"},{"$f":"DEC2BIN('W6'!AE122, 9)","v":"000000000"},{"$f":"DEC2BIN('W6'!AF122, 9)","v":"000000000"},{"$f":"DEC2BIN('W6'!AG122, 9)","v":"000000000"},{"$f":"DEC2BIN('W6'!AH122, 9)","v":"000000000"},{"$f":"DEC2BIN('W6'!AI122, 9)","v":"000000000"},{"$f":"DEC2BIN('W6'!AJ122, 9)","v":"000000000"},{"$f":"DEC2BIN('W6'!AK122, 9)","v":"000000000"},{"$f":"DEC2BIN('W6'!AL122, 9)","v":"000000000"},{"$f":"DEC2BIN('W6'!AM122, 9)","v":"000000000"},{"$f":"DEC2BIN('W6'!AN122, 9)","v":"000000000"},{"$f":"DEC2BIN('W6'!AO122, 9)","v":"000000000"},{"$f":"DEC2BIN('W6'!AP122, 9)","v":"000000000"},{"$f":"DEC2BIN('W6'!AQ122, 9)","v":"000000000"}]
[{"$f":"DEC2BIN('W6'!A123, 9)","v":"1110011111"},{"$f":"DEC2BIN('W6'!B123, 9)","v":"1111010101"},{"$f":"DEC2BIN('W6'!C123, 9)","v":"1111111011"},{"$f":"DEC2BIN('W6'!D123, 9)","v":"000111000"},{"$f":"DEC2BIN('W6'!E123, 9)","v":"1111000110"},{"$f":"DEC2BIN('W6'!F123, 9)","v":"000110110"},{"$f":"DEC2BIN('W6'!G123, 9)","v":"1110110001"},{"$f":"DEC2BIN('W6'!H123, 9)","v":"000011111"},{"$f":"DEC2BIN('W6'!I123, 9)","v":"1111101001"},{"$f":"DEC2BIN('W6'!J123, 9)","v":"000111100"},{"$f":"DEC2BIN('W6'!K123, 9)","v":"000000000"},{"$f":"DEC2BIN('W6'!L123, 9)","v":"000000000"},{"$f":"DEC2BIN('W6'!M123, 9)","v":"000000000"},{"$f":"DEC2BIN('W6'!N123, 9)","v":"000000000"},{"$f":"DEC2BIN('W6'!O123, 9)","v":"000000000"},{"$f":"DEC2BIN('W6'!P123, 9)","v":"000000000"},{"$f":"DEC2BIN('W6'!Q123, 9)","v":"000000000"},{"$f":"DEC2BIN('W6'!R123, 9)","v":"000000000"},{"$f":"DEC2BIN('W6'!S123, 9)","v":"000000000"},{"$f":"DEC2BIN('W6'!T123, 9)","v":"000000000"},{"$f":"DEC2BIN('W6'!U123, 9)","v":"000000000"},{"$f":"DEC2BIN('W6'!V123, 9)","v":"000000000"},{"$f":"DEC2BIN('W6'!W123, 9)","v":"000000000"},{"$f":"DEC2BIN('W6'!X123, 9)","v":"000000000"},{"$f":"DEC2BIN('W6'!Y123, 9)","v":"000000000"},{"$f":"DEC2BIN('W6'!Z123, 9)","v":"000000000"},{"$f":"DEC2BIN('W6'!AA123, 9)","v":"000000000"},{"$f":"DEC2BIN('W6'!AB123, 9)","v":"000000000"},{"$f":"DEC2BIN('W6'!AC123, 9)","v":"000000000"},{"$f":"DEC2BIN('W6'!AD123, 9)","v":"000000000"},{"$f":"DEC2BIN('W6'!AE123, 9)","v":"000000000"},{"$f":"DEC2BIN('W6'!AF123, 9)","v":"000000000"},{"$f":"DEC2BIN('W6'!AG123, 9)","v":"000000000"},{"$f":"DEC2BIN('W6'!AH123, 9)","v":"000000000"},{"$f":"DEC2BIN('W6'!AI123, 9)","v":"000000000"},{"$f":"DEC2BIN('W6'!AJ123, 9)","v":"000000000"},{"$f":"DEC2BIN('W6'!AK123, 9)","v":"000000000"},{"$f":"DEC2BIN('W6'!AL123, 9)","v":"000000000"},{"$f":"DEC2BIN('W6'!AM123, 9)","v":"000000000"},{"$f":"DEC2BIN('W6'!AN123, 9)","v":"000000000"},{"$f":"DEC2BIN('W6'!AO123, 9)","v":"000000000"},{"$f":"DEC2BIN('W6'!AP123, 9)","v":"000000000"},{"$f":"DEC2BIN('W6'!AQ123, 9)","v":"000000000"}]
[{"$f":"DEC2BIN('W6'!A124, 9)","v":"1111010010"},{"$f":"DEC2BIN('W6'!B124, 9)","v":"1111101110"},{"$f":"DEC2BIN('W6'!C124, 9)","v":"000100110"},{"$f":"DEC2BIN('W6'!D124, 9)","v":"000100011"},{"$f":"DEC2BIN('W6'!E124, 9)","v":"000011000"},{"$f":"DEC2BIN('W6'!F124, 9)","v":"000011011"},{"$f":"DEC2BIN('W6'!G124, 9)","v":"000110000"},{"$f":"DEC2BIN('W6'!H124, 9)","v":"1111110101"},{"$f":"DEC2BIN('W6'!I124, 9)","v":"1110111000"},{"$f":"DEC2BIN('W6'!J124, 9)","v":"1111100010"},{"$f":"DEC2BIN('W6'!K124, 9)","v":"000000000"},{"$f":"DEC2BIN('W6'!L124, 9)","v":"000000000"},{"$f":"DEC2BIN('W6'!M124, 9)","v":"000000000"},{"$f":"DEC2BIN('W6'!N124, 9)","v":"000000000"},{"$f":"DEC2BIN('W6'!O124, 9)","v":"000000000"},{"$f":"DEC2BIN('W6'!P124, 9)","v":"000000000"},{"$f":"DEC2BIN('W6'!Q124, 9)","v":"000000000"},{"$f":"DEC2BIN('W6'!R124, 9)","v":"000000000"},{"$f":"DEC2BIN('W6'!S124, 9)","v":"000000000"},{"$f":"DEC2BIN('W6'!T124, 9)","v":"000000000"},{"$f":"DEC2BIN('W6'!U124, 9)","v":"000000000"},{"$f":"DEC2BIN('W6'!V124, 9)","v":"000000000"},{"$f":"DEC2BIN('W6'!W124, 9)","v":"000000000"},{"$f":"DEC2BIN('W6'!X124, 9)","v":"000000000"},{"$f":"DEC2BIN('W6'!Y124, 9)","v":"000000000"},{"$f":"DEC2BIN('W6'!Z124, 9)","v":"000000000"},{"$f":"DEC2BIN('W6'!AA124, 9)","v":"000000000"},{"$f":"DEC2BIN('W6'!AB124, 9)","v":"000000000"},{"$f":"DEC2BIN('W6'!AC124, 9)","v":"000000000"},{"$f":"DEC2BIN('W6'!AD124, 9)","v":"000000000"},{"$f":"DEC2BIN('W6'!AE124, 9)","v":"000000000"},{"$f":"DEC2BIN('W6'!AF124, 9)","v":"000000000"},{"$f":"DEC2BIN('W6'!AG124, 9)","v":"000000000"},{"$f":"DEC2BIN('W6'!AH124, 9)","v":"000000000"},{"$f":"DEC2BIN('W6'!AI124, 9)","v":"000000000"},{"$f":"DEC2BIN('W6'!AJ124, 9)","v":"000000000"},{"$f":"DEC2BIN('W6'!AK124, 9)","v":"000000000"},{"$f":"DEC2BIN('W6'!AL124, 9)","v":"000000000"},{"$f":"DEC2BIN('W6'!AM124, 9)","v":"000000000"},{"$f":"DEC2BIN('W6'!AN124, 9)","v":"000000000"},{"$f":"DEC2BIN('W6'!AO124, 9)","v":"000000000"},{"$f":"DEC2BIN('W6'!AP124, 9)","v":"000000000"},{"$f":"DEC2BIN('W6'!AQ124, 9)","v":"000000000"}]
[{"$f":"DEC2BIN('W6'!A125, 9)","v":"1111000100"},{"$f":"DEC2BIN('W6'!B125, 9)","v":"1111110100"},{"$f":"DEC2BIN('W6'!C125, 9)","v":"000011010"},{"$f":"DEC2BIN('W6'!D125, 9)","v":"1111111000"},{"$f":"DEC2BIN('W6'!E125, 9)","v":"1110011010"},{"$f":"DEC2BIN('W6'!F125, 9)","v":"1111000100"},{"$f":"DEC2BIN('W6'!G125, 9)","v":"000100010"},{"$f":"DEC2BIN('W6'!H125, 9)","v":"1111001111"},{"$f":"DEC2BIN('W6'!I125, 9)","v":"000111010"},{"$f":"DEC2BIN('W6'!J125, 9)","v":"1111100101"},{"$f":"DEC2BIN('W6'!K125, 9)","v":"000000000"},{"$f":"DEC2BIN('W6'!L125, 9)","v":"000000000"},{"$f":"DEC2BIN('W6'!M125, 9)","v":"000000000"},{"$f":"DEC2BIN('W6'!N125, 9)","v":"000000000"},{"$f":"DEC2BIN('W6'!O125, 9)","v":"000000000"},{"$f":"DEC2BIN('W6'!P125, 9)","v":"000000000"},{"$f":"DEC2BIN('W6'!Q125, 9)","v":"000000000"},{"$f":"DEC2BIN('W6'!R125, 9)","v":"000000000"},{"$f":"DEC2BIN('W6'!S125, 9)","v":"000000000"},{"$f":"DEC2BIN('W6'!T125, 9)","v":"000000000"},{"$f":"DEC2BIN('W6'!U125, 9)","v":"000000000"},{"$f":"DEC2BIN('W6'!V125, 9)","v":"000000000"},{"$f":"DEC2BIN('W6'!W125, 9)","v":"000000000"},{"$f":"DEC2BIN('W6'!X125, 9)","v":"000000000"},{"$f":"DEC2BIN('W6'!Y125, 9)","v":"000000000"},{"$f":"DEC2BIN('W6'!Z125, 9)","v":"000000000"},{"$f":"DEC2BIN('W6'!AA125, 9)","v":"000000000"},{"$f":"DEC2BIN('W6'!AB125, 9)","v":"000000000"},{"$f":"DEC2BIN('W6'!AC125, 9)","v":"000000000"},{"$f":"DEC2BIN('W6'!AD125, 9)","v":"000000000"},{"$f":"DEC2BIN('W6'!AE125, 9)","v":"000000000"},{"$f":"DEC2BIN('W6'!AF125, 9)","v":"000000000"},{"$f":"DEC2BIN('W6'!AG125, 9)","v":"000000000"},{"$f":"DEC2BIN('W6'!AH125, 9)","v":"000000000"},{"$f":"DEC2BIN('W6'!AI125, 9)","v":"000000000"},{"$f":"DEC2BIN('W6'!AJ125, 9)","v":"000000000"},{"$f":"DEC2BIN('W6'!AK125, 9)","v":"000000000"},{"$f":"DEC2BIN('W6'!AL125, 9)","v":"000000000"},{"$f":"DEC2BIN('W6'!AM125, 9)","v":"000000000"},{"$f":"DEC2BIN('W6'!AN125, 9)","v":"000000000"},{"$f":"DEC2BIN('W6'!AO125, 9)","v":"000000000"},{"$f":"DEC2BIN('W6'!AP125, 9)","v":"000000000"},{"$f":"DEC2BIN('W6'!AQ125, 9)","v":"000000000"}]
[{"$f":"DEC2BIN('W6'!A126, 9)","v":"1111111010"},{"$f":"DEC2BIN('W6'!B126, 9)","v":"1110110001"},{"$f":"DEC2BIN('W6'!C126, 9)","v":"1111011111"},{"$f":"DEC2BIN('W6'!D126, 9)","v":"1111000101"},{"$f":"DEC2BIN('W6'!E126, 9)","v":"000000101"},{"$f":"DEC2BIN('W6'!F126, 9)","v":"000110010"},{"$f":"DEC2BIN('W6'!G126, 9)","v":"000011000"},{"$f":"DEC2BIN('W6'!H126, 9)","v":"1111010110"},{"$f":"DEC2BIN('W6'!I126, 9)","v":"1111111110"},{"$f":"DEC2BIN('W6'!J126, 9)","v":"000011011"},{"$f":"DEC2BIN('W6'!K126, 9)","v":"000000000"},{"$f":"DEC2BIN('W6'!L126, 9)","v":"000000000"},{"$f":"DEC2BIN('W6'!M126, 9)","v":"000000000"},{"$f":"DEC2BIN('W6'!N126, 9)","v":"000000000"},{"$f":"DEC2BIN('W6'!O126, 9)","v":"000000000"},{"$f":"DEC2BIN('W6'!P126, 9)","v":"000000000"},{"$f":"DEC2BIN('W6'!Q126, 9)","v":"000000000"},{"$f":"DEC2BIN('W6'!R126, 9)","v":"000000000"},{"$f":"DEC2BIN('W6'!S126, 9)","v":"000000000"},{"$f":"DEC2BIN('W6'!T126, 9)","v":"000000000"},{"$f":"DEC2BIN('W6'!U126, 9)","v":"000000000"},{"$f":"DEC2BIN('W6'!V126, 9)","v":"000000000"},{"$f":"DEC2BIN('W6'!W126, 9)","v":"000000000"},{"$f":"DEC2BIN('W6'!X126, 9)","v":"000000000"},{"$f":"DEC2BIN('W6'!Y126, 9)","v":"000000000"},{"$f":"DEC2BIN('W6'!Z126, 9)","v":"000000000"},{"$f":"DEC2BIN('W6'!AA126, 9)","v":"000000000"},{"$f":"DEC2BIN('W6'!AB126, 9)","v":"000000000"},{"$f":"DEC2BIN('W6'!AC126, 9)","v":"000000000"},{"$f":"DEC2BIN('W6'!AD126, 9)","v":"000000000"},{"$f":"DEC2BIN('W6'!AE126, 9)","v":"000000000"},{"$f":"DEC2BIN('W6'!AF126, 9)","v":"000000000"},{"$f":"DEC2BIN('W6'!AG126, 9)","v":"000000000"},{"$f":"DEC2BIN('W6'!AH126, 9)","v":"000000000"},{"$f":"DEC2BIN('W6'!AI126, 9)","v":"000000000"},{"$f":"DEC2BIN('W6'!AJ126, 9)","v":"000000000"},{"$f":"DEC2BIN('W6'!AK126, 9)","v":"000000000"},{"$f":"DEC2BIN('W6'!AL126, 9)","v":"000000000"},{"$f":"DEC2BIN('W6'!AM126, 9)","v":"000000000"},{"$f":"DEC2BIN('W6'!AN126, 9)","v":"000000000"},{"$f":"DEC2BIN('W6'!AO126, 9)","v":"000000000"},{"$f":"DEC2BIN('W6'!AP126, 9)","v":"000000000"},{"$f":"DEC2BIN('W6'!AQ126, 9)","v":"000000000"}]
[{"$f":"DEC2BIN('W6'!A127, 9)","v":"1111111001"},{"$f":"DEC2BIN('W6'!B127, 9)","v":"1111110011"},{"$f":"DEC2BIN('W6'!C127, 9)","v":"1111101110"},{"$f":"DEC2BIN('W6'!D127, 9)","v":"000111011"},{"$f":"DEC2BIN('W6'!E127, 9)","v":"001001100"},{"$f":"DEC2BIN('W6'!F127, 9)","v":"1111010100"},{"$f":"DEC2BIN('W6'!G127, 9)","v":"1111001011"},{"$f":"DEC2BIN('W6'!H127, 9)","v":"1110111100"},{"$f":"DEC2BIN('W6'!I127, 9)","v":"1111101111"},{"$f":"DEC2BIN('W6'!J127, 9)","v":"1111000101"},{"$f":"DEC2BIN('W6'!K127, 9)","v":"000000000"},{"$f":"DEC2BIN('W6'!L127, 9)","v":"000000000"},{"$f":"DEC2BIN('W6'!M127, 9)","v":"000000000"},{"$f":"DEC2BIN('W6'!N127, 9)","v":"000000000"},{"$f":"DEC2BIN('W6'!O127, 9)","v":"000000000"},{"$f":"DEC2BIN('W6'!P127, 9)","v":"000000000"},{"$f":"DEC2BIN('W6'!Q127, 9)","v":"000000000"},{"$f":"DEC2BIN('W6'!R127, 9)","v":"000000000"},{"$f":"DEC2BIN('W6'!S127, 9)","v":"000000000"},{"$f":"DEC2BIN('W6'!T127, 9)","v":"000000000"},{"$f":"DEC2BIN('W6'!U127, 9)","v":"000000000"},{"$f":"DEC2BIN('W6'!V127, 9)","v":"000000000"},{"$f":"DEC2BIN('W6'!W127, 9)","v":"000000000"},{"$f":"DEC2BIN('W6'!X127, 9)","v":"000000000"},{"$f":"DEC2BIN('W6'!Y127, 9)","v":"000000000"},{"$f":"DEC2BIN('W6'!Z127, 9)","v":"000000000"},{"$f":"DEC2BIN('W6'!AA127, 9)","v":"000000000"},{"$f":"DEC2BIN('W6'!AB127, 9)","v":"000000000"},{"$f":"DEC2BIN('W6'!AC127, 9)","v":"000000000"},{"$f":"DEC2BIN('W6'!AD127, 9)","v":"000000000"},{"$f":"DEC2BIN('W6'!AE127, 9)","v":"000000000"},{"$f":"DEC2BIN('W6'!AF127, 9)","v":"000000000"},{"$f":"DEC2BIN('W6'!AG127, 9)","v":"000000000"},{"$f":"DEC2BIN('W6'!AH127, 9)","v":"000000000"},{"$f":"DEC2BIN('W6'!AI127, 9)","v":"000000000"},{"$f":"DEC2BIN('W6'!AJ127, 9)","v":"000000000"},{"$f":"DEC2BIN('W6'!AK127, 9)","v":"000000000"},{"$f":"DEC2BIN('W6'!AL127, 9)","v":"000000000"},{"$f":"DEC2BIN('W6'!AM127, 9)","v":"000000000"},{"$f":"DEC2BIN('W6'!AN127, 9)","v":"000000000"},{"$f":"DEC2BIN('W6'!AO127, 9)","v":"000000000"},{"$f":"DEC2BIN('W6'!AP127, 9)","v":"000000000"},{"$f":"DEC2BIN('W6'!AQ127, 9)","v":"000000000"}]
[{"$f":"DEC2BIN('W6'!A128, 9)","v":"1111000000"},{"$f":"DEC2BIN('W6'!B128, 9)","v":"000101000"},{"$f":"DEC2BIN('W6'!C128, 9)","v":"000110110"},{"$f":"DEC2BIN('W6'!D128, 9)","v":"1111110100"},{"$f":"DEC2BIN('W6'!E128, 9)","v":"1110111101"},{"$f":"DEC2BIN('W6'!F128, 9)","v":"000110100"},{"$f":"DEC2BIN('W6'!G128, 9)","v":"1111100110"},{"$f":"DEC2BIN('W6'!H128, 9)","v":"1111110000"},{"$f":"DEC2BIN('W6'!I128, 9)","v":"1111000001"},{"$f":"DEC2BIN('W6'!J128, 9)","v":"1111000101"},{"$f":"DEC2BIN('W6'!K128, 9)","v":"000000000"},{"$f":"DEC2BIN('W6'!L128, 9)","v":"000000000"},{"$f":"DEC2BIN('W6'!M128, 9)","v":"000000000"},{"$f":"DEC2BIN('W6'!N128, 9)","v":"000000000"},{"$f":"DEC2BIN('W6'!O128, 9)","v":"000000000"},{"$f":"DEC2BIN('W6'!P128, 9)","v":"000000000"},{"$f":"DEC2BIN('W6'!Q128, 9)","v":"000000000"},{"$f":"DEC2BIN('W6'!R128, 9)","v":"000000000"},{"$f":"DEC2BIN('W6'!S128, 9)","v":"000000000"},{"$f":"DEC2BIN('W6'!T128, 9)","v":"000000000"},{"$f":"DEC2BIN('W6'!U128, 9)","v":"000000000"},{"$f":"DEC2BIN('W6'!V128, 9)","v":"000000000"},{"$f":"DEC2BIN('W6'!W128, 9)","v":"000000000"},{"$f":"DEC2BIN('W6'!X128, 9)","v":"000000000"},{"$f":"DEC2BIN('W6'!Y128, 9)","v":"000000000"},{"$f":"DEC2BIN('W6'!Z128, 9)","v":"000000000"},{"$f":"DEC2BIN('W6'!AA128, 9)","v":"000000000"},{"$f":"DEC2BIN('W6'!AB128, 9)","v":"000000000"},{"$f":"DEC2BIN('W6'!AC128, 9)","v":"000000000"},{"$f":"DEC2BIN('W6'!AD128, 9)","v":"000000000"},{"$f":"DEC2BIN('W6'!AE128, 9)","v":"000000000"},{"$f":"DEC2BIN('W6'!AF128, 9)","v":"000000000"},{"$f":"DEC2BIN('W6'!AG128, 9)","v":"000000000"},{"$f":"DEC2BIN('W6'!AH128, 9)","v":"000000000"},{"$f":"DEC2BIN('W6'!AI128, 9)","v":"000000000"},{"$f":"DEC2BIN('W6'!AJ128, 9)","v":"000000000"},{"$f":"DEC2BIN('W6'!AK128, 9)","v":"000000000"},{"$f":"DEC2BIN('W6'!AL128, 9)","v":"000000000"},{"$f":"DEC2BIN('W6'!AM128, 9)","v":"000000000"},{"$f":"DEC2BIN('W6'!AN128, 9)","v":"000000000"},{"$f":"DEC2BIN('W6'!AO128, 9)","v":"000000000"},{"$f":"DEC2BIN('W6'!AP128, 9)","v":"000000000"},{"$f":"DEC2BIN('W6'!AQ128, 9)","v":"000000000"}]