{"text_format":"1","workbook":"xlsx","n_sheets":5,"sheets":["Ch00","Ch01","Ch02","W1_Bias","W1_Bias_bin"],"not_rendered":{"charts":0,"images":0,"macros":1,"external_links":0,"defined_names":0,"comments":0,"pivot_tables":0},"unopened":[],"bounds":{"document_bytes":16777216,"sheet_cells":100000,"rows_first":2000,"rows_last":500,"rows_between":2000,"halvings":0,"cell_chars":16384,"cell_head_chars":4096},"cells_cut":0,"cells_raw":0,"read":"whole","date_system":"1900"}

{"sheet":"Ch00","index":0,"n_rows":30,"n_cols":30,"rows_kept":30,"cut":false,"hidden":false,"merged":[]}
[176,128,56,16,16,24,32,32,32,24,24,24,24,24,24,16,16,16,16,16,16,16,16,16,16,16,16,16,8,16]
[176,104,32,8,16,16,16,16,16,24,24,24,16,8,16,24,24,24,24,24,24,32,32,32,40,48,48,40,40,40]
[168,88,32,16,24,32,32,40,48,56,64,72,56,72,56,56,64,72,64,64,56,56,56,48,48,48,48,48,48,48]
[192,184,80,40,72,72,64,56,56,48,48,56,96,224,152,80,80,80,80,48,48,48,48,40,24,24,24,32,32,32]
[200,232,88,56,64,48,40,32,32,32,32,40,104,136,112,64,64,64,56,48,48,48,40,32,24,24,32,32,32,32]
[208,208,80,48,72,56,40,32,40,56,64,40,32,24,24,24,24,24,32,48,64,64,40,32,24,24,24,24,32,32]
[168,120,80,48,48,40,40,48,56,56,40,16,8,16,16,16,16,16,16,24,32,48,56,40,32,24,24,32,32,32]
[136,48,56,48,40,48,48,72,48,24,16,24,32,48,64,72,64,48,32,24,16,24,48,56,40,32,32,32,32,32]
[152,56,48,48,32,56,72,56,24,16,32,72,104,120,128,128,120,120,104,64,32,16,24,40,48,40,24,24,32,32]
[120,56,40,48,48,64,64,32,16,40,80,120,136,128,128,128,128,128,128,112,80,48,16,32,48,48,32,24,32,32]
[56,56,40,32,56,64,48,16,32,72,128,112,88,96,112,128,128,112,80,80,96,72,32,24,40,48,40,32,32,32]
[56,48,48,48,48,56,32,24,56,96,88,64,48,48,72,104,88,64,56,48,64,80,56,32,24,48,40,24,24,32]
[64,48,40,48,72,48,24,32,88,120,72,80,88,88,72,72,64,80,96,88,72,72,72,40,24,40,40,24,24,32]
[64,48,40,40,64,40,24,48,104,136,128,128,120,96,72,64,64,88,120,104,80,72,88,56,16,40,48,32,24,24]
[56,48,48,56,56,32,24,56,112,136,136,128,112,64,64,80,64,80,120,104,72,80,96,64,24,32,48,40,32,32]
[56,48,48,64,64,32,24,64,112,136,128,112,88,48,88,112,64,80,112,104,80,80,96,64,24,32,48,40,32,32]
[72,48,48,64,56,32,24,56,112,136,120,88,56,80,120,112,72,80,120,104,80,72,96,64,24,32,48,40,32,32]
[80,56,48,56,56,40,24,48,96,128,104,72,80,120,136,120,72,80,104,96,72,72,88,56,24,40,48,32,32,32]
[88,80,56,56,72,48,32,32,80,112,72,56,72,96,104,104,88,72,64,56,64,80,80,40,24,40,48,32,24,32]
[104,104,64,48,64,56,40,24,56,88,64,48,40,40,64,88,112,88,48,64,96,104,64,24,24,48,48,24,32,32]
[88,80,72,48,48,64,48,24,32,64,112,120,120,112,120,128,128,120,120,120,112,80,32,16,40,56,40,24,32,32]
[80,72,80,56,40,56,48,32,16,40,80,112,128,136,128,128,128,128,128,120,80,40,16,24,48,48,40,32,32,32]
[96,80,112,88,48,40,48,56,32,16,32,64,104,128,136,128,128,120,104,64,32,24,24,48,56,40,32,24,32,32]
[104,96,120,136,128,64,48,64,56,32,16,24,40,64,72,72,72,64,40,16,16,32,48,56,48,32,32,24,24,32]
[104,104,128,160,152,72,56,72,88,56,40,24,24,16,24,24,24,16,16,24,40,56,64,56,40,32,32,24,24,32]
[104,120,136,152,128,96,104,104,80,48,64,64,48,24,24,24,24,24,40,64,72,48,40,32,32,32,32,24,24,32]
[88,104,128,144,128,144,160,160,136,104,96,96,96,80,72,72,56,40,64,80,56,32,32,40,48,48,40,32,32,32]
[88,120,136,136,136,160,176,192,184,176,232,248,232,160,136,112,80,56,48,48,48,56,56,64,72,80,72,48,32,32]
[88,120,128,144,128,104,88,72,72,80,104,144,160,128,104,88,96,88,88,88,88,96,96,96,96,104,88,56,40,32]
[104,104,112,136,128,88,64,80,88,96,96,104,104,104,112,112,120,120,120,112,120,128,136,128,128,128,104,64,40,32]

{"sheet":"Ch01","index":1,"n_rows":30,"n_cols":30,"rows_kept":30,"cut":false,"hidden":false,"merged":[]}
[220,176,92,28,16,20,20,20,20,20,20,16,16,16,16,16,16,16,16,12,16,16,16,12,12,12,12,12,16,16]
[216,148,60,20,20,16,16,16,16,16,16,16,16,12,16,16,20,24,20,24,24,28,32,36,40,44,44,44,52,48]
[208,132,64,28,24,28,28,32,36,44,48,52,60,96,56,44,52,68,68,68,64,64,64,52,48,48,44,44,40,40]
[224,200,112,68,84,84,76,64,56,48,48,48,92,224,132,60,64,76,80,60,56,56,60,44,28,24,24,24,24,24]
[224,236,120,88,92,76,64,56,48,40,36,52,100,112,84,44,52,64,64,64,56,56,52,40,28,24,28,24,24,24]
[220,212,112,76,96,84,68,52,48,56,52,56,44,24,16,20,20,24,28,44,56,64,56,36,28,24,24,24,24,24]
[176,156,112,76,72,72,60,52,60,52,36,24,12,12,12,16,16,12,16,16,28,40,56,44,28,24,24,28,24,28]
[156,120,88,72,64,72,60,60,52,28,16,16,24,36,48,56,52,44,32,20,16,20,36,44,36,28,28,24,24,28]
[152,100,80,72,56,64,76,52,28,20,24,40,72,96,104,108,104,100,88,60,36,20,20,32,44,36,24,24,24,28]
[128,88,72,72,72,64,68,36,20,28,52,88,104,104,108,108,104,104,104,96,72,44,20,24,36,44,32,24,28,28]
[84,84,76,60,68,68,52,24,24,48,84,88,72,76,88,100,104,84,60,68,76,64,40,20,28,40,36,28,24,24]
[92,84,76,68,64,64,40,20,36,72,76,48,36,36,56,80,76,52,40,36,48,64,56,32,20,36,40,28,24,24]
[96,80,64,68,84,60,28,24,52,88,64,60,72,76,60,60,56,56,72,76,60,60,68,40,20,32,40,28,24,28]
[88,76,68,64,80,56,20,28,68,100,96,100,100,84,60,56,56,60,88,88,60,60,76,52,20,28,40,32,28,24]
[76,68,72,72,68,48,20,32,76,104,108,108,96,68,52,64,60,56,88,92,60,60,80,60,24,24,40,36,28,28]
[80,72,68,76,68,44,20,36,76,104,108,100,76,48,68,88,64,56,84,92,64,60,80,60,24,24,40,36,24,28]
[96,80,76,76,60,44,20,36,76,104,104,84,48,56,88,92,64,56,88,88,64,56,80,60,24,24,40,36,28,28]
[96,84,80,72,60,48,24,28,68,100,92,56,52,84,96,92,68,52,76,84,64,60,76,52,20,28,44,36,28,28]
[92,96,84,80,76,56,28,24,56,88,68,40,40,60,64,68,76,52,44,44,48,68,72,40,20,32,44,32,28,28]
[84,100,96,76,76,60,36,20,36,68,56,36,32,28,40,64,88,76,44,44,64,80,60,24,20,36,44,28,24,28]
[72,84,100,76,68,64,48,24,24,44,84,96,100,96,100,104,104,104,100,100,96,76,36,16,28,40,36,28,24,28]
[72,84,104,88,64,60,56,36,20,28,52,88,104,108,108,108,108,104,104,100,76,40,20,20,40,40,32,28,28,28]
[72,80,136,120,80,64,56,52,32,20,28,52,80,96,108,108,108,104,92,68,36,20,24,36,44,36,28,28,28,28]
[76,84,132,152,144,84,60,64,56,36,20,20,28,44,60,64,64,56,36,24,16,24,40,48,44,28,28,24,24,28]
[84,100,132,168,152,96,76,88,92,64,44,24,20,20,20,20,20,20,16,20,28,48,52,52,40,28,28,24,24,28]
[84,116,144,168,148,124,128,124,116,72,64,52,40,28,20,20,20,24,32,40,56,48,48,40,36,28,28,24,24,28]
[84,112,140,164,156,160,168,172,160,112,76,84,92,104,80,64,56,48,68,64,48,32,36,40,44,36,28,28,28,28]
[92,144,144,160,164,168,176,192,192,168,208,252,236,196,140,104,72,56,48,44,44,44,48,56,56,44,52,40,32,28]
[96,136,128,156,160,128,100,76,68,72,92,132,144,132,96,76,80,72,68,72,72,72,72,72,76,68,68,52,36,28]
[96,104,112,152,156,116,76,72,80,84,84,80,84,88,92,96,100,100,104,100,100,104,108,108,108,100,88,60,40,28]

{"sheet":"Ch02","index":2,"n_rows":30,"n_cols":30,"rows_kept":30,"cut":false,"hidden":false,"merged":[]}
[248,248,176,80,56,56,56,56,56,56,56,56,56,56,48,48,56,56,56,48,48,48,48,48,48,48,48,48,48,48]
[248,232,144,64,56,56,56,56,48,48,48,48,48,48,48,56,48,48,48,48,48,56,56,56,56,56,56,56,64,56]
[240,216,152,72,56,56,64,64,64,64,64,64,72,128,104,72,64,72,88,88,80,80,80,72,56,48,48,40,40,40]
[240,248,200,120,112,96,96,80,64,56,48,40,64,232,208,80,64,64,96,72,56,72,80,72,40,24,24,24,24,24]
[224,248,176,120,144,120,88,72,56,40,40,48,96,136,128,64,56,72,80,80,64,72,72,56,40,24,24,24,24,24]
[232,248,176,112,152,136,88,64,56,56,56,64,56,48,48,40,40,48,56,64,72,80,72,56,40,24,24,24,24,24]
[240,248,192,128,112,104,80,56,64,64,56,56,48,48,48,48,48,48,48,48,56,64,72,72,40,24,24,24,24,32]
[224,200,160,128,88,80,72,72,64,56,48,48,40,48,56,64,64,64,56,48,48,48,56,64,48,32,24,24,24,24]
[208,160,136,120,64,64,88,72,56,48,48,64,80,96,96,96,104,104,96,80,64,48,48,56,56,48,32,24,24,24]
[176,136,112,88,88,80,80,64,48,48,64,88,104,96,104,96,96,96,96,96,88,64,48,48,56,56,40,24,24,32]
[120,120,112,80,80,80,72,56,56,64,88,88,64,64,72,88,96,80,56,56,72,72,56,48,48,56,48,32,24,24]
[128,112,104,88,80,80,64,48,56,80,80,48,32,24,40,64,72,48,32,24,32,56,64,56,48,56,56,40,24,24]
[120,112,88,80,120,96,64,48,64,88,56,48,64,72,56,48,40,48,64,72,56,48,64,64,48,48,56,40,32,32]
[112,96,80,88,112,96,56,48,72,96,88,88,96,88,64,48,48,48,72,80,64,40,72,72,48,48,56,40,32,32]
[104,80,80,96,96,80,56,48,80,96,96,104,104,72,48,56,56,56,72,80,64,40,72,80,48,48,56,48,32,32]
[104,88,80,96,88,72,56,56,80,96,96,96,88,40,48,80,64,48,64,80,64,40,72,80,56,56,56,48,40,32]
[112,104,104,96,80,64,56,56,80,96,104,88,48,48,72,88,64,48,72,80,64,40,72,80,56,56,56,48,40,32]
[96,112,112,96,72,64,56,48,72,88,96,64,40,72,88,96,72,48,72,80,64,40,72,72,48,56,56,48,32,32]
[72,112,112,96,104,88,64,48,64,88,72,40,40,56,56,56,72,48,40,40,32,48,72,64,48,56,56,40,32,32]
[56,96,112,112,112,88,64,48,56,72,56,40,24,24,32,56,80,72,40,32,48,72,72,56,48,56,56,40,32,32]
[48,56,112,152,104,72,64,48,56,64,88,96,88,88,96,96,96,96,88,88,96,88,64,48,48,56,48,32,24,24]
[56,64,136,184,104,64,64,64,48,56,64,88,96,104,96,96,96,96,96,104,88,64,48,48,64,56,32,32,32,32]
[56,56,160,224,144,96,72,72,56,48,48,64,88,96,104,112,104,104,96,88,56,48,48,56,64,48,32,24,32,32]
[56,64,160,248,240,160,80,80,72,64,56,48,56,64,72,80,80,72,64,56,48,48,56,64,56,32,24,24,32,32]
[64,96,168,248,248,176,88,96,120,112,80,56,48,48,48,48,48,48,48,48,48,64,72,56,48,32,24,24,32,32]
[64,112,176,248,248,208,152,160,168,144,112,72,56,56,56,48,48,56,64,64,72,64,56,40,40,32,24,24,24,24]
[64,96,160,248,248,248,232,248,248,216,128,88,80,120,120,88,80,72,80,80,64,40,40,40,40,32,24,24,24,24]
[80,168,200,240,248,240,216,216,224,216,240,248,240,224,184,136,88,56,48,48,48,40,40,56,48,40,48,40,32,32]
[80,160,184,224,248,200,120,88,80,80,120,152,152,152,120,96,88,64,64,72,72,72,64,64,72,64,64,56,40,32]
[64,80,120,208,248,184,88,64,72,72,80,80,80,80,88,88,96,88,96,96,96,96,96,96,96,96,96,72,48,32]

{"sheet":"W1_Bias","index":3,"n_rows":34,"n_cols":17,"rows_kept":34,"cut":false,"hidden":false,"merged":[]}
[-49,-53,-31,-5,-39,18,-45,27,-22,-43,39,10,65,-43,11,28]
[-19,25,3,2,5,-43,-8,29,-61,40,-6,10,46,-3,54,-37]
[-22,-58,17,-17,-49,-54,61,-25,-29,42,33,-39,14,-26,74,-59]
[39,-3,-12,8,21,-36,-49,40,43,37,44,-47,27,-27,-48,39]
[-9,9,30,4,41,-3,-46,38,-24,44,-23,10,-40,6,44,-32]
[-8,-2,55,27,19,-22,37,29,-6,-42,15,17,9,11,34,0]
[57,-28,46,-54,-23,-50,2,-31,-3,-55,-51,10,-14,-33,-32,-9]
[0,54,-16,-34,-52,23,5,-53,-27,-52,26,52,-56,31,7,7]
[55,41,21,35,-18,4,46,27,34,9,-5,65,-25,0,-19,3]
[17,-32,-33,17,-26,18,-39,77,-43,-40,-31,-72,87,-27,-12,70]
[-19,-16,-64,61,-31,-13,36,42,-58,46,1,39,28,5,65,10]
[-67,-64,-52,19,0,-1,78,-25,20,63,-20,40,-33,36,14,2]
[5,-29,60,-32,28,23,-57,83,-9,46,-10,-20,37,-42,-52,36]
[-48,11,23,29,24,-2,-55,-25,42,14,0,-16,2,-35,0,21]
[-8,4,-19,30,-29,16,11,31,-3,-10,0,62,-13,32,63,-61]
[83,11,90,-75,-4,-28,-32,-13,45,20,26,0,-13,14,-35,28]
[33,-10,41,44,-18,3,-42,2,27,-58,-45,12,-31,-41,-21,13]
[-17,51,46,16,8,0,-33,-24,23,-53,9,28,-27,41,-2,-21]
[13,-53,-61,12,-23,16,-8,11,-42,-8,48,-56,62,-8,-26,35]
[-54,14,-94,-23,14,-53,32,53,-54,53,-41,-52,23,-55,-29,-38]
[-36,-27,-7,25,-46,-16,44,-38,37,8,9,-47,6,28,55,22]
[-34,-24,39,25,15,0,-41,-13,-19,-32,-31,-14,-12,33,-53,13]
[26,38,-33,-44,-38,10,48,-44,50,39,-32,26,6,-41,-1,24]
[-16,39,-26,4,-13,25,46,-57,19,47,-37,45,-19,-27,17,-22]
[67,-15,8,-93,-13,-17,-5,-56,-13,0,-3,-58,-55,7,-47,41]
[16,75,45,-22,16,32,24,-11,71,-57,-29,15,-16,-34,-26,-42]
[13,72,-28,47,-36,-51,-9,-59,12,-30,-19,40,-41,-47,-14,-31]
[]
[]
[1872,1434,425,-70,-1572,-2401,1614,2040,3558,661,-575,-340,1160,381,1806,-141," "]
[]
[]
[{"$f":"MAX(A1:P27)","v":90}]
[{"$f":"MIN(A1:P27)","v":-94}]

{"sheet":"W1_Bias_bin","index":4,"n_rows":30,"n_cols":16,"rows_kept":30,"cut":false,"hidden":false,"merged":[]}
[{"$f":"DEC2BIN(W1_Bias!A1, 9)","v":"1111001111"},{"$f":"DEC2BIN(W1_Bias!B1, 9)","v":"1111001011"},{"$f":"DEC2BIN(W1_Bias!C1, 9)","v":"1111100001"},{"$f":"DEC2BIN(W1_Bias!D1, 9)","v":"1111111011"},{"$f":"DEC2BIN(W1_Bias!E1, 9)","v":"1111011001"},{"$f":"DEC2BIN(W1_Bias!F1, 9)","v":"000010010"},{"$f":"DEC2BIN(W1_Bias!G1, 9)","v":"1111010011"},{"$f":"DEC2BIN(W1_Bias!H1, 9)","v":"000011011"},{"$f":"DEC2BIN(W1_Bias!I1, 9)","v":"1111101010"},{"$f":"DEC2BIN(W1_Bias!J1, 9)","v":"1111010101"},{"$f":"DEC2BIN(W1_Bias!K1, 9)","v":"000100111"},{"$f":"DEC2BIN(W1_Bias!L1, 9)","v":"000001010"},{"$f":"DEC2BIN(W1_Bias!M1, 9)","v":"001000001"},{"$f":"DEC2BIN(W1_Bias!N1, 9)","v":"1111010101"},{"$f":"DEC2BIN(W1_Bias!O1, 9)","v":"000001011"},{"$f":"DEC2BIN(W1_Bias!P1, 9)","v":"000011100"}]
[{"$f":"DEC2BIN(W1_Bias!A2, 9)","v":"1111101101"},{"$f":"DEC2BIN(W1_Bias!B2, 9)","v":"000011001"},{"$f":"DEC2BIN(W1_Bias!C2, 9)","v":"000000011"},{"$f":"DEC2BIN(W1_Bias!D2, 9)","v":"000000010"},{"$f":"DEC2BIN(W1_Bias!E2, 9)","v":"000000101"},{"$f":"DEC2BIN(W1_Bias!F2, 9)","v":"1111010101"},{"$f":"DEC2BIN(W1_Bias!G2, 9)","v":"1111111000"},{"$f":"DEC2BIN(W1_Bias!H2, 9)","v":"000011101"},{"$f":"DEC2BIN(W1_Bias!I2, 9)","v":"1111000011"},{"$f":"DEC2BIN(W1_Bias!J2, 9)","v":"000101000"},{"$f":"DEC2BIN(W1_Bias!K2, 9)","v":"1111111010"},{"$f":"DEC2BIN(W1_Bias!L2, 9)","v":"000001010"},{"$f":"DEC2BIN(W1_Bias!M2, 9)","v":"000101110"},{"$f":"DEC2BIN(W1_Bias!N2, 9)","v":"1111111101"},{"$f":"DEC2BIN(W1_Bias!O2, 9)","v":"000110110"},{"$f":"DEC2BIN(W1_Bias!P2, 9)","v":"1111011011"}]
[{"$f":"DEC2BIN(W1_Bias!A3, 9)","v":"1111101010"},{"$f":"DEC2BIN(W1_Bias!B3, 9)","v":"1111000110"},{"$f":"DEC2BIN(W1_Bias!C3, 9)","v":"000010001"},{"$f":"DEC2BIN(W1_Bias!D3, 9)","v":"1111101111"},{"$f":"DEC2BIN(W1_Bias!E3, 9)","v":"1111001111"},{"$f":"DEC2BIN(W1_Bias!F3, 9)","v":"1111001010"},{"$f":"DEC2BIN(W1_Bias!G3, 9)","v":"000111101"},{"$f":"DEC2BIN(W1_Bias!H3, 9)","v":"1111100111"},{"$f":"DEC2BIN(W1_Bias!I3, 9)","v":"1111100011"},{"$f":"DEC2BIN(W1_Bias!J3, 9)","v":"000101010"},{"$f":"DEC2BIN(W1_Bias!K3, 9)","v":"000100001"},{"$f":"DEC2BIN(W1_Bias!L3, 9)","v":"1111011001"},{"$f":"DEC2BIN(W1_Bias!M3, 9)","v":"000001110"},{"$f":"DEC2BIN(W1_Bias!N3, 9)","v":"1111100110"},{"$f":"DEC2BIN(W1_Bias!O3, 9)","v":"001001010"},{"$f":"DEC2BIN(W1_Bias!P3, 9)","v":"1111000101"}]
[{"$f":"DEC2BIN(W1_Bias!A4, 9)","v":"000100111"},{"$f":"DEC2BIN(W1_Bias!B4, 9)","v":"1111111101"},{"$f":"DEC2BIN(W1_Bias!C4, 9)","v":"1111110100"},{"$f":"DEC2BIN(W1_Bias!D4, 9)","v":"000001000"},{"$f":"DEC2BIN(W1_Bias!E4, 9)","v":"000010101"},{"$f":"DEC2BIN(W1_Bias!F4, 9)","v":"1111011100"},{"$f":"DEC2BIN(W1_Bias!G4, 9)","v":"1111001111"},{"$f":"DEC2BIN(W1_Bias!H4, 9)","v":"000101000"},{"$f":"DEC2BIN(W1_Bias!I4, 9)","v":"000101011"},{"$f":"DEC2BIN(W1_Bias!J4, 9)","v":"000100101"},{"$f":"DEC2BIN(W1_Bias!K4, 9)","v":"000101100"},{"$f":"DEC2BIN(W1_Bias!L4, 9)","v":"1111010001"},{"$f":"DEC2BIN(W1_Bias!M4, 9)","v":"000011011"},{"$f":"DEC2BIN(W1_Bias!N4, 9)","v":"1111100101"},{"$f":"DEC2BIN(W1_Bias!O4, 9)","v":"1111010000"},{"$f":"DEC2BIN(W1_Bias!P4, 9)","v":"000100111"}]
[{"$f":"DEC2BIN(W1_Bias!A5, 9)","v":"1111110111"},{"$f":"DEC2BIN(W1_Bias!B5, 9)","v":"000001001"},{"$f":"DEC2BIN(W1_Bias!C5, 9)","v":"000011110"},{"$f":"DEC2BIN(W1_Bias!D5, 9)","v":"000000100"},{"$f":"DEC2BIN(W1_Bias!E5, 9)","v":"000101001"},{"$f":"DEC2BIN(W1_Bias!F5, 9)","v":"1111111101"},{"$f":"DEC2BIN(W1_Bias!G5, 9)","v":"1111010010"},{"$f":"DEC2BIN(W1_Bias!H5, 9)","v":"000100110"},{"$f":"DEC2BIN(W1_Bias!I5, 9)","v":"1111101000"},{"$f":"DEC2BIN(W1_Bias!J5, 9)","v":"000101100"},{"$f":"DEC2BIN(W1_Bias!K5, 9)","v":"1111101001"},{"$f":"DEC2BIN(W1_Bias!L5, 9)","v":"000001010"},{"$f":"DEC2BIN(W1_Bias!M5, 9)","v":"1111011000"},{"$f":"DEC2BIN(W1_Bias!N5, 9)","v":"000000110"},{"$f":"DEC2BIN(W1_Bias!O5, 9)","v":"000101100"},{"$f":"DEC2BIN(W1_Bias!P5, 9)","v":"1111100000"}]
[{"$f":"DEC2BIN(W1_Bias!A6, 9)","v":"1111111000"},{"$f":"DEC2BIN(W1_Bias!B6, 9)","v":"1111111110"},{"$f":"DEC2BIN(W1_Bias!C6, 9)","v":"000110111"},{"$f":"DEC2BIN(W1_Bias!D6, 9)","v":"000011011"},{"$f":"DEC2BIN(W1_Bias!E6, 9)","v":"000010011"},{"$f":"DEC2BIN(W1_Bias!F6, 9)","v":"1111101010"},{"$f":"DEC2BIN(W1_Bias!G6, 9)","v":"000100101"},{"$f":"DEC2BIN(W1_Bias!H6, 9)","v":"000011101"},{"$f":"DEC2BIN(W1_Bias!I6, 9)","v":"1111111010"},{"$f":"DEC2BIN(W1_Bias!J6, 9)","v":"1111010110"},{"$f":"DEC2BIN(W1_Bias!K6, 9)","v":"000001111"},{"$f":"DEC2BIN(W1_Bias!L6, 9)","v":"000010001"},{"$f":"DEC2BIN(W1_Bias!M6, 9)","v":"000001001"},{"$f":"DEC2BIN(W1_Bias!N6, 9)","v":"000001011"},{"$f":"DEC2BIN(W1_Bias!O6, 9)","v":"000100010"},{"$f":"DEC2BIN(W1_Bias!P6, 9)","v":"000000000"}]
[{"$f":"DEC2BIN(W1_Bias!A7, 9)","v":"000111001"},{"$f":"DEC2BIN(W1_Bias!B7, 9)","v":"1111100100"},{"$f":"DEC2BIN(W1_Bias!C7, 9)","v":"000101110"},{"$f":"DEC2BIN(W1_Bias!D7, 9)","v":"1111001010"},{"$f":"DEC2BIN(W1_Bias!E7, 9)","v":"1111101001"},{"$f":"DEC2BIN(W1_Bias!F7, 9)","v":"1111001110"},{"$f":"DEC2BIN(W1_Bias!G7, 9)","v":"000000010"},{"$f":"DEC2BIN(W1_Bias!H7, 9)","v":"1111100001"},{"$f":"DEC2BIN(W1_Bias!I7, 9)","v":"1111111101"},{"$f":"DEC2BIN(W1_Bias!J7, 9)","v":"1111001001"},{"$f":"DEC2BIN(W1_Bias!K7, 9)","v":"1111001101"},{"$f":"DEC2BIN(W1_Bias!L7, 9)","v":"000001010"},{"$f":"DEC2BIN(W1_Bias!M7, 9)","v":"1111110010"},{"$f":"DEC2BIN(W1_Bias!N7, 9)","v":"1111011111"},{"$f":"DEC2BIN(W1_Bias!O7, 9)","v":"1111100000"},{"$f":"DEC2BIN(W1_Bias!P7, 9)","v":"1111110111"}]
[{"$f":"DEC2BIN(W1_Bias!A8, 9)","v":"000000000"},{"$f":"DEC2BIN(W1_Bias!B8, 9)","v":"000110110"},{"$f":"DEC2BIN(W1_Bias!C8, 9)","v":"1111110000"},{"$f":"DEC2BIN(W1_Bias!D8, 9)","v":"1111011110"},{"$f":"DEC2BIN(W1_Bias!E8, 9)","v":"1111001100"},{"$f":"DEC2BIN(W1_Bias!F8, 9)","v":"000010111"},{"$f":"DEC2BIN(W1_Bias!G8, 9)","v":"000000101"},{"$f":"DEC2BIN(W1_Bias!H8, 9)","v":"1111001011"},{"$f":"DEC2BIN(W1_Bias!I8, 9)","v":"1111100101"},{"$f":"DEC2BIN(W1_Bias!J8, 9)","v":"1111001100"},{"$f":"DEC2BIN(W1_Bias!K8, 9)","v":"000011010"},{"$f":"DEC2BIN(W1_Bias!L8, 9)","v":"000110100"},{"$f":"DEC2BIN(W1_Bias!M8, 9)","v":"1111001000"},{"$f":"DEC2BIN(W1_Bias!N8, 9)","v":"000011111"},{"$f":"DEC2BIN(W1_Bias!O8, 9)","v":"000000111"},{"$f":"DEC2BIN(W1_Bias!P8, 9)","v":"000000111"}]
[{"$f":"DEC2BIN(W1_Bias!A9, 9)","v":"000110111"},{"$f":"DEC2BIN(W1_Bias!B9, 9)","v":"000101001"},{"$f":"DEC2BIN(W1_Bias!C9, 9)","v":"000010101"},{"$f":"DEC2BIN(W1_Bias!D9, 9)","v":"000100011"},{"$f":"DEC2BIN(W1_Bias!E9, 9)","v":"1111101110"},{"$f":"DEC2BIN(W1_Bias!F9, 9)","v":"000000100"},{"$f":"DEC2BIN(W1_Bias!G9, 9)","v":"000101110"},{"$f":"DEC2BIN(W1_Bias!H9, 9)","v":"000011011"},{"$f":"DEC2BIN(W1_Bias!I9, 9)","v":"000100010"},{"$f":"DEC2BIN(W1_Bias!J9, 9)","v":"000001001"},{"$f":"DEC2BIN(W1_Bias!K9, 9)","v":"1111111011"},{"$f":"DEC2BIN(W1_Bias!L9, 9)","v":"001000001"},{"$f":"DEC2BIN(W1_Bias!M9, 9)","v":"1111100111"},{"$f":"DEC2BIN(W1_Bias!N9, 9)","v":"000000000"},{"$f":"DEC2BIN(W1_Bias!O9, 9)","v":"1111101101"},{"$f":"DEC2BIN(W1_Bias!P9, 9)","v":"000000011"}]
[{"$f":"DEC2BIN(W1_Bias!A10, 9)","v":"000010001"},{"$f":"DEC2BIN(W1_Bias!B10, 9)","v":"1111100000"},{"$f":"DEC2BIN(W1_Bias!C10, 9)","v":"1111011111"},{"$f":"DEC2BIN(W1_Bias!D10, 9)","v":"000010001"},{"$f":"DEC2BIN(W1_Bias!E10, 9)","v":"1111100110"},{"$f":"DEC2BIN(W1_Bias!F10, 9)","v":"000010010"},{"$f":"DEC2BIN(W1_Bias!G10, 9)","v":"1111011001"},{"$f":"DEC2BIN(W1_Bias!H10, 9)","v":"001001101"},{"$f":"DEC2BIN(W1_Bias!I10, 9)","v":"1111010101"},{"$f":"DEC2BIN(W1_Bias!J10, 9)","v":"1111011000"},{"$f":"DEC2BIN(W1_Bias!K10, 9)","v":"1111100001"},{"$f":"DEC2BIN(W1_Bias!L10, 9)","v":"1110111000"},{"$f":"DEC2BIN(W1_Bias!M10, 9)","v":"001010111"},{"$f":"DEC2BIN(W1_Bias!N10, 9)","v":"1111100101"},{"$f":"DEC2BIN(W1_Bias!O10, 9)","v":"1111110100"},{"$f":"DEC2BIN(W1_Bias!P10, 9)","v":"001000110"}]
[{"$f":"DEC2BIN(W1_Bias!A11, 9)","v":"1111101101"},{"$f":"DEC2BIN(W1_Bias!B11, 9)","v":"1111110000"},{"$f":"DEC2BIN(W1_Bias!C11, 9)","v":"1111000000"},{"$f":"DEC2BIN(W1_Bias!D11, 9)","v":"000111101"},{"$f":"DEC2BIN(W1_Bias!E11, 9)","v":"1111100001"},{"$f":"DEC2BIN(W1_Bias!F11, 9)","v":"1111110011"},{"$f":"DEC2BIN(W1_Bias!G11, 9)","v":"000100100"},{"$f":"DEC2BIN(W1_Bias!H11, 9)","v":"000101010"},{"$f":"DEC2BIN(W1_Bias!I11, 9)","v":"1111000110"},{"$f":"DEC2BIN(W1_Bias!J11, 9)","v":"000101110"},{"$f":"DEC2BIN(W1_Bias!K11, 9)","v":"000000001"},{"$f":"DEC2BIN(W1_Bias!L11, 9)","v":"000100111"},{"$f":"DEC2BIN(W1_Bias!M11, 9)","v":"000011100"},{"$f":"DEC2BIN(W1_Bias!N11, 9)","v":"000000101"},{"$f":"DEC2BIN(W1_Bias!O11, 9)","v":"001000001"},{"$f":"DEC2BIN(W1_Bias!P11, 9)","v":"000001010"}]
[{"$f":"DEC2BIN(W1_Bias!A12, 9)","v":"1110111101"},{"$f":"DEC2BIN(W1_Bias!B12, 9)","v":"1111000000"},{"$f":"DEC2BIN(W1_Bias!C12, 9)","v":"1111001100"},{"$f":"DEC2BIN(W1_Bias!D12, 9)","v":"000010011"},{"$f":"DEC2BIN(W1_Bias!E12, 9)","v":"000000000"},{"$f":"DEC2BIN(W1_Bias!F12, 9)","v":"1111111111"},{"$f":"DEC2BIN(W1_Bias!G12, 9)","v":"001001110"},{"$f":"DEC2BIN(W1_Bias!H12, 9)","v":"1111100111"},{"$f":"DEC2BIN(W1_Bias!I12, 9)","v":"000010100"},{"$f":"DEC2BIN(W1_Bias!J12, 9)","v":"000111111"},{"$f":"DEC2BIN(W1_Bias!K12, 9)","v":"1111101100"},{"$f":"DEC2BIN(W1_Bias!L12, 9)","v":"000101000"},{"$f":"DEC2BIN(W1_Bias!M12, 9)","v":"1111011111"},{"$f":"DEC2BIN(W1_Bias!N12, 9)","v":"000100100"},{"$f":"DEC2BIN(W1_Bias!O12, 9)","v":"000001110"},{"$f":"DEC2BIN(W1_Bias!P12, 9)","v":"000000010"}]
[{"$f":"DEC2BIN(W1_Bias!A13, 9)","v":"000000101"},{"$f":"DEC2BIN(W1_Bias!B13, 9)","v":"1111100011"},{"$f":"DEC2BIN(W1_Bias!C13, 9)","v":"000111100"},{"$f":"DEC2BIN(W1_Bias!D13, 9)","v":"1111100000"},{"$f":"DEC2BIN(W1_Bias!E13, 9)","v":"000011100"},{"$f":"DEC2BIN(W1_Bias!F13, 9)","v":"000010111"},{"$f":"DEC2BIN(W1_Bias!G13, 9)","v":"1111000111"},{"$f":"DEC2BIN(W1_Bias!H13, 9)","v":"001010011"},{"$f":"DEC2BIN(W1_Bias!I13, 9)","v":"1111110111"},{"$f":"DEC2BIN(W1_Bias!J13, 9)","v":"000101110"},{"$f":"DEC2BIN(W1_Bias!K13, 9)","v":"1111110110"},{"$f":"DEC2BIN(W1_Bias!L13, 9)","v":"1111101100"},{"$f":"DEC2BIN(W1_Bias!M13, 9)","v":"000100101"},{"$f":"DEC2BIN(W1_Bias!N13, 9)","v":"1111010110"},{"$f":"DEC2BIN(W1_Bias!O13, 9)","v":"1111001100"},{"$f":"DEC2BIN(W1_Bias!P13, 9)","v":"000100100"}]
[{"$f":"DEC2BIN(W1_Bias!A14, 9)","v":"1111010000"},{"$f":"DEC2BIN(W1_Bias!B14, 9)","v":"000001011"},{"$f":"DEC2BIN(W1_Bias!C14, 9)","v":"000010111"},{"$f":"DEC2BIN(W1_Bias!D14, 9)","v":"000011101"},{"$f":"DEC2BIN(W1_Bias!E14, 9)","v":"000011000"},{"$f":"DEC2BIN(W1_Bias!F14, 9)","v":"1111111110"},{"$f":"DEC2BIN(W1_Bias!G14, 9)","v":"1111001001"},{"$f":"DEC2BIN(W1_Bias!H14, 9)","v":"1111100111"},{"$f":"DEC2BIN(W1_Bias!I14, 9)","v":"000101010"},{"$f":"DEC2BIN(W1_Bias!J14, 9)","v":"000001110"},{"$f":"DEC2BIN(W1_Bias!K14, 9)","v":"000000000"},{"$f":"DEC2BIN(W1_Bias!L14, 9)","v":"1111110000"},{"$f":"DEC2BIN(W1_Bias!M14, 9)","v":"000000010"},{"$f":"DEC2BIN(W1_Bias!N14, 9)","v":"1111011101"},{"$f":"DEC2BIN(W1_Bias!O14, 9)","v":"000000000"},{"$f":"DEC2BIN(W1_Bias!P14, 9)","v":"000010101"}]
[{"$f":"DEC2BIN(W1_Bias!A15, 9)","v":"1111111000"},{"$f":"DEC2BIN(W1_Bias!B15, 9)","v":"000000100"},{"$f":"DEC2BIN(W1_Bias!C15, 9)","v":"1111101101"},{"$f":"DEC2BIN(W1_Bias!D15, 9)","v":"000011110"},{"$f":"DEC2BIN(W1_Bias!E15, 9)","v":"1111100011"},{"$f":"DEC2BIN(W1_Bias!F15, 9)","v":"000010000"},{"$f":"DEC2BIN(W1_Bias!G15, 9)","v":"000001011"},{"$f":"DEC2BIN(W1_Bias!H15, 9)","v":"000011111"},{"$f":"DEC2BIN(W1_Bias!I15, 9)","v":"1111111101"},{"$f":"DEC2BIN(W1_Bias!J15, 9)","v":"1111110110"},{"$f":"DEC2BIN(W1_Bias!K15, 9)","v":"000000000"},{"$f":"DEC2BIN(W1_Bias!L15, 9)","v":"000111110"},{"$f":"DEC2BIN(W1_Bias!M15, 9)","v":"1111110011"},{"$f":"DEC2BIN(W1_Bias!N15, 9)","v":"000100000"},{"$f":"DEC2BIN(W1_Bias!O15, 9)","v":"000111111"},{"$f":"DEC2BIN(W1_Bias!P15, 9)","v":"1111000011"}]
[{"$f":"DEC2BIN(W1_Bias!A16, 9)","v":"001010011"},{"$f":"DEC2BIN(W1_Bias!B16, 9)","v":"000001011"},{"$f":"DEC2BIN(W1_Bias!C16, 9)","v":"001011010"},{"$f":"DEC2BIN(W1_Bias!D16, 9)","v":"1110110101"},{"$f":"DEC2BIN(W1_Bias!E16, 9)","v":"1111111100"},{"$f":"DEC2BIN(W1_Bias!F16, 9)","v":"1111100100"},{"$f":"DEC2BIN(W1_Bias!G16, 9)","v":"1111100000"},{"$f":"DEC2BIN(W1_Bias!H16, 9)","v":"1111110011"},{"$f":"DEC2BIN(W1_Bias!I16, 9)","v":"000101101"},{"$f":"DEC2BIN(W1_Bias!J16, 9)","v":"000010100"},{"$f":"DEC2BIN(W1_Bias!K16, 9)","v":"000011010"},{"$f":"DEC2BIN(W1_Bias!L16, 9)","v":"000000000"},{"$f":"DEC2BIN(W1_Bias!M16, 9)","v":"1111110011"},{"$f":"DEC2BIN(W1_Bias!N16, 9)","v":"000001110"},{"$f":"DEC2BIN(W1_Bias!O16, 9)","v":"1111011101"},{"$f":"DEC2BIN(W1_Bias!P16, 9)","v":"000011100"}]
[{"$f":"DEC2BIN(W1_Bias!A17, 9)","v":"000100001"},{"$f":"DEC2BIN(W1_Bias!B17, 9)","v":"1111110110"},{"$f":"DEC2BIN(W1_Bias!C17, 9)","v":"000101001"},{"$f":"DEC2BIN(W1_Bias!D17, 9)","v":"000101100"},{"$f":"DEC2BIN(W1_Bias!E17, 9)","v":"1111101110"},{"$f":"DEC2BIN(W1_Bias!F17, 9)","v":"000000011"},{"$f":"DEC2BIN(W1_Bias!G17, 9)","v":"1111010110"},{"$f":"DEC2BIN(W1_Bias!H17, 9)","v":"000000010"},{"$f":"DEC2BIN(W1_Bias!I17, 9)","v":"000011011"},{"$f":"DEC2BIN(W1_Bias!J17, 9)","v":"1111000110"},{"$f":"DEC2BIN(W1_Bias!K17, 9)","v":"1111010011"},{"$f":"DEC2BIN(W1_Bias!L17, 9)","v":"000001100"},{"$f":"DEC2BIN(W1_Bias!M17, 9)","v":"1111100001"},{"$f":"DEC2BIN(W1_Bias!N17, 9)","v":"1111010111"},{"$f":"DEC2BIN(W1_Bias!O17, 9)","v":"1111101011"},{"$f":"DEC2BIN(W1_Bias!P17, 9)","v":"000001101"}]
[{"$f":"DEC2BIN(W1_Bias!A18, 9)","v":"1111101111"},{"$f":"DEC2BIN(W1_Bias!B18, 9)","v":"000110011"},{"$f":"DEC2BIN(W1_Bias!C18, 9)","v":"000101110"},{"$f":"DEC2BIN(W1_Bias!D18, 9)","v":"000010000"},{"$f":"DEC2BIN(W1_Bias!E18, 9)","v":"000001000"},{"$f":"DEC2BIN(W1_Bias!F18, 9)","v":"000000000"},{"$f":"DEC2BIN(W1_Bias!G18, 9)","v":"1111011111"},{"$f":"DEC2BIN(W1_Bias!H18, 9)","v":"1111101000"},{"$f":"DEC2BIN(W1_Bias!I18, 9)","v":"000010111"},{"$f":"DEC2BIN(W1_Bias!J18, 9)","v":"1111001011"},{"$f":"DEC2BIN(W1_Bias!K18, 9)","v":"000001001"},{"$f":"DEC2BIN(W1_Bias!L18, 9)","v":"000011100"},{"$f":"DEC2BIN(W1_Bias!M18, 9)","v":"1111100101"},{"$f":"DEC2BIN(W1_Bias!N18, 9)","v":"000101001"},{"$f":"DEC2BIN(W1_Bias!O18, 9)","v":"1111111110"},{"$f":"DEC2BIN(W1_Bias!P18, 9)","v":"1111101011"}]
[{"$f":"DEC2BIN(W1_Bias!A19, 9)","v":"000001101"},{"$f":"DEC2BIN(W1_Bias!B19, 9)","v":"1111001011"},{"$f":"DEC2BIN(W1_Bias!C19, 9)","v":"1111000011"},{"$f":"DEC2BIN(W1_Bias!D19, 9)","v":"000001100"},{"$f":"DEC2BIN(W1_Bias!E19, 9)","v":"1111101001"},{"$f":"DEC2BIN(W1_Bias!F19, 9)","v":"000010000"},{"$f":"DEC2BIN(W1_Bias!G19, 9)","v":"1111111000"},{"$f":"DEC2BIN(W1_Bias!H19, 9)","v":"000001011"},{"$f":"DEC2BIN(W1_Bias!I19, 9)","v":"1111010110"},{"$f":"DEC2BIN(W1_Bias!J19, 9)","v":"1111111000"},{"$f":"DEC2BIN(W1_Bias!K19, 9)","v":"000110000"},{"$f":"DEC2BIN(W1_Bias!L19, 9)","v":"1111001000"},{"$f":"DEC2BIN(W1_Bias!M19, 9)","v":"000111110"},{"$f":"DEC2BIN(W1_Bias!N19, 9)","v":"1111111000"},{"$f":"DEC2BIN(W1_Bias!O19, 9)","v":"1111100110"},{"$f":"DEC2BIN(W1_Bias!P19, 9)","v":"000100011"}]
[{"$f":"DEC2BIN(W1_Bias!A20, 9)","v":"1111001010"},{"$f":"DEC2BIN(W1_Bias!B20, 9)","v":"000001110"},{"$f":"DEC2BIN(W1_Bias!C20, 9)","v":"1110100010"},{"$f":"DEC2BIN(W1_Bias!D20, 9)","v":"1111101001"},{"$f":"DEC2BIN(W1_Bias!E20, 9)","v":"000001110"},{"$f":"DEC2BIN(W1_Bias!F20, 9)","v":"1111001011"},{"$f":"DEC2BIN(W1_Bias!G20, 9)","v":"000100000"},{"$f":"DEC2BIN(W1_Bias!H20, 9)","v":"000110101"},{"$f":"DEC2BIN(W1_Bias!I20, 9)","v":"1111001010"},{"$f":"DEC2BIN(W1_Bias!J20, 9)","v":"000110101"},{"$f":"DEC2BIN(W1_Bias!K20, 9)","v":"1111010111"},{"$f":"DEC2BIN(W1_Bias!L20, 9)","v":"1111001100"},{"$f":"DEC2BIN(W1_Bias!M20, 9)","v":"000010111"},{"$f":"DEC2BIN(W1_Bias!N20, 9)","v":"1111001001"},{"$f":"DEC2BIN(W1_Bias!O20, 9)","v":"1111100011"},{"$f":"DEC2BIN(W1_Bias!P20, 9)","v":"1111011010"}]
[{"$f":"DEC2BIN(W1_Bias!A21, 9)","v":"1111011100"},{"$f":"DEC2BIN(W1_Bias!B21, 9)","v":"1111100101"},{"$f":"DEC2BIN(W1_Bias!C21, 9)","v":"1111111001"},{"$f":"DEC2BIN(W1_Bias!D21, 9)","v":"000011001"},{"$f":"DEC2BIN(W1_Bias!E21, 9)","v":"1111010010"},{"$f":"DEC2BIN(W1_Bias!F21, 9)","v":"1111110000"},{"$f":"DEC2BIN(W1_Bias!G21, 9)","v":"000101100"},{"$f":"DEC2BIN(W1_Bias!H21, 9)","v":"1111011010"},{"$f":"DEC2BIN(W1_Bias!I21, 9)","v":"000100101"},{"$f":"DEC2BIN(W1_Bias!J21, 9)","v":"000001000"},{"$f":"DEC2BIN(W1_Bias!K21, 9)","v":"000001001"},{"$f":"DEC2BIN(W1_Bias!L21, 9)","v":"1111010001"},{"$f":"DEC2BIN(W1_Bias!M21, 9)","v":"000000110"},{"$f":"DEC2BIN(W1_Bias!N21, 9)","v":"000011100"},{"$f":"DEC2BIN(W1_Bias!O21, 9)","v":"000110111"},{"$f":"DEC2BIN(W1_Bias!P21, 9)","v":"000010110"}]
[{"$f":"DEC2BIN(W1_Bias!A22, 9)","v":"1111011110"},{"$f":"DEC2BIN(W1_Bias!B22, 9)","v":"1111101000"},{"$f":"DEC2BIN(W1_Bias!C22, 9)","v":"000100111"},{"$f":"DEC2BIN(W1_Bias!D22, 9)","v":"000011001"},{"$f":"DEC2BIN(W1_Bias!E22, 9)","v":"000001111"},{"$f":"DEC2BIN(W1_Bias!F22, 9)","v":"000000000"},{"$f":"DEC2BIN(W1_Bias!G22, 9)","v":"1111010111"},{"$f":"DEC2BIN(W1_Bias!H22, 9)","v":"1111110011"},{"$f":"DEC2BIN(W1_Bias!I22, 9)","v":"1111101101"},{"$f":"DEC2BIN(W1_Bias!J22, 9)","v":"1111100000"},{"$f":"DEC2BIN(W1_Bias!K22, 9)","v":"1111100001"},{"$f":"DEC2BIN(W1_Bias!L22, 9)","v":"1111110010"},{"$f":"DEC2BIN(W1_Bias!M22, 9)","v":"1111110100"},{"$f":"DEC2BIN(W1_Bias!N22, 9)","v":"000100001"},{"$f":"DEC2BIN(W1_Bias!O22, 9)","v":"1111001011"},{"$f":"DEC2BIN(W1_Bias!P22, 9)","v":"000001101"}]
[{"$f":"DEC2BIN(W1_Bias!A23, 9)","v":"000011010"},{"$f":"DEC2BIN(W1_Bias!B23, 9)","v":"000100110"},{"$f":"DEC2BIN(W1_Bias!C23, 9)","v":"1111011111"},{"$f":"DEC2BIN(W1_Bias!D23, 9)","v":"1111010100"},{"$f":"DEC2BIN(W1_Bias!E23, 9)","v":"1111011010"},{"$f":"DEC2BIN(W1_Bias!F23, 9)","v":"000001010"},{"$f":"DEC2BIN(W1_Bias!G23, 9)","v":"000110000"},{"$f":"DEC2BIN(W1_Bias!H23, 9)","v":"1111010100"},{"$f":"DEC2BIN(W1_Bias!I23, 9)","v":"000110010"},{"$f":"DEC2BIN(W1_Bias!J23, 9)","v":"000100111"},{"$f":"DEC2BIN(W1_Bias!K23, 9)","v":"1111100000"},{"$f":"DEC2BIN(W1_Bias!L23, 9)","v":"000011010"},{"$f":"DEC2BIN(W1_Bias!M23, 9)","v":"000000110"},{"$f":"DEC2BIN(W1_Bias!N23, 9)","v":"1111010111"},{"$f":"DEC2BIN(W1_Bias!O23, 9)","v":"1111111111"},{"$f":"DEC2BIN(W1_Bias!P23, 9)","v":"000011000"}]
[{"$f":"DEC2BIN(W1_Bias!A24, 9)","v":"1111110000"},{"$f":"DEC2BIN(W1_Bias!B24, 9)","v":"000100111"},{"$f":"DEC2BIN(W1_Bias!C24, 9)","v":"1111100110"},{"$f":"DEC2BIN(W1_Bias!D24, 9)","v":"000000100"},{"$f":"DEC2BIN(W1_Bias!E24, 9)","v":"1111110011"},{"$f":"DEC2BIN(W1_Bias!F24, 9)","v":"000011001"},{"$f":"DEC2BIN(W1_Bias!G24, 9)","v":"000101110"},{"$f":"DEC2BIN(W1_Bias!H24, 9)","v":"1111000111"},{"$f":"DEC2BIN(W1_Bias!I24, 9)","v":"000010011"},{"$f":"DEC2BIN(W1_Bias!J24, 9)","v":"000101111"},{"$f":"DEC2BIN(W1_Bias!K24, 9)","v":"1111011011"},{"$f":"DEC2BIN(W1_Bias!L24, 9)","v":"000101101"},{"$f":"DEC2BIN(W1_Bias!M24, 9)","v":"1111101101"},{"$f":"DEC2BIN(W1_Bias!N24, 9)","v":"1111100101"},{"$f":"DEC2BIN(W1_Bias!O24, 9)","v":"000010001"},{"$f":"DEC2BIN(W1_Bias!P24, 9)","v":"1111101010"}]
[{"$f":"DEC2BIN(W1_Bias!A25, 9)","v":"001000011"},{"$f":"DEC2BIN(W1_Bias!B25, 9)","v":"1111110001"},{"$f":"DEC2BIN(W1_Bias!C25, 9)","v":"000001000"},{"$f":"DEC2BIN(W1_Bias!D25, 9)","v":"1110100011"},{"$f":"DEC2BIN(W1_Bias!E25, 9)","v":"1111110011"},{"$f":"DEC2BIN(W1_Bias!F25, 9)","v":"1111101111"},{"$f":"DEC2BIN(W1_Bias!G25, 9)","v":"1111111011"},{"$f":"DEC2BIN(W1_Bias!H25, 9)","v":"1111001000"},{"$f":"DEC2BIN(W1_Bias!I25, 9)","v":"1111110011"},{"$f":"DEC2BIN(W1_Bias!J25, 9)","v":"000000000"},{"$f":"DEC2BIN(W1_Bias!K25, 9)","v":"1111111101"},{"$f":"DEC2BIN(W1_Bias!L25, 9)","v":"1111000110"},{"$f":"DEC2BIN(W1_Bias!M25, 9)","v":"1111001001"},{"$f":"DEC2BIN(W1_Bias!N25, 9)","v":"000000111"},{"$f":"DEC2BIN(W1_Bias!O25, 9)","v":"1111010001"},{"$f":"DEC2BIN(W1_Bias!P25, 9)","v":"000101001"}]
[{"$f":"DEC2BIN(W1_Bias!A26, 9)","v":"000010000"},{"$f":"DEC2BIN(W1_Bias!B26, 9)","v":"001001011"},{"$f":"DEC2BIN(W1_Bias!C26, 9)","v":"000101101"},{"$f":"DEC2BIN(W1_Bias!D26, 9)","v":"1111101010"},{"$f":"DEC2BIN(W1_Bias!E26, 9)","v":"000010000"},{"$f":"DEC2BIN(W1_Bias!F26, 9)","v":"000100000"},{"$f":"DEC2BIN(W1_Bias!G26, 9)","v":"000011000"},{"$f":"DEC2BIN(W1_Bias!H26, 9)","v":"1111110101"},{"$f":"DEC2BIN(W1_Bias!I26, 9)","v":"001000111"},{"$f":"DEC2BIN(W1_Bias!J26, 9)","v":"1111000111"},{"$f":"DEC2BIN(W1_Bias!K26, 9)","v":"1111100011"},{"$f":"DEC2BIN(W1_Bias!L26, 9)","v":"000001111"},{"$f":"DEC2BIN(W1_Bias!M26, 9)","v":"1111110000"},{"$f":"DEC2BIN(W1_Bias!N26, 9)","v":"1111011110"},{"$f":"DEC2BIN(W1_Bias!O26, 9)","v":"1111100110"},{"$f":"DEC2BIN(W1_Bias!P26, 9)","v":"1111010110"}]
[{"$f":"DEC2BIN(W1_Bias!A27, 9)","v":"000001101"},{"$f":"DEC2BIN(W1_Bias!B27, 9)","v":"001001000"},{"$f":"DEC2BIN(W1_Bias!C27, 9)","v":"1111100100"},{"$f":"DEC2BIN(W1_Bias!D27, 9)","v":"000101111"},{"$f":"DEC2BIN(W1_Bias!E27, 9)","v":"1111011100"},{"$f":"DEC2BIN(W1_Bias!F27, 9)","v":"1111001101"},{"$f":"DEC2BIN(W1_Bias!G27, 9)","v":"1111110111"},{"$f":"DEC2BIN(W1_Bias!H27, 9)","v":"1111000101"},{"$f":"DEC2BIN(W1_Bias!I27, 9)","v":"000001100"},{"$f":"DEC2BIN(W1_Bias!J27, 9)","v":"1111100010"},{"$f":"DEC2BIN(W1_Bias!K27, 9)","v":"1111101101"},{"$f":"DEC2BIN(W1_Bias!L27, 9)","v":"000101000"},{"$f":"DEC2BIN(W1_Bias!M27, 9)","v":"1111010111"},{"$f":"DEC2BIN(W1_Bias!N27, 9)","v":"1111010001"},{"$f":"DEC2BIN(W1_Bias!O27, 9)","v":"1111110010"},{"$f":"DEC2BIN(W1_Bias!P27, 9)","v":"1111100001"}]
[]
[]
[{"$f":"DEC2BIN(INT(MOD(W1_Bias!A30, 2^24)/2^16), 8) & DEC2BIN(INT(MOD(W1_Bias!A30, 2^16)/2^8), 8) & DEC2BIN(MOD(W1_Bias!A30, 2^8), 8)","v":"000000000000011101010000"},{"$f":"DEC2BIN(INT(MOD(W1_Bias!B30, 2^24)/2^16), 8) & DEC2BIN(INT(MOD(W1_Bias!B30, 2^16)/2^8), 8) & DEC2BIN(MOD(W1_Bias!B30, 2^8), 8)","v":"000000000000010110011010"},{"$f":"DEC2BIN(INT(MOD(W1_Bias!C30, 2^24)/2^16), 8) & DEC2BIN(INT(MOD(W1_Bias!C30, 2^16)/2^8), 8) & DEC2BIN(MOD(W1_Bias!C30, 2^8), 8)","v":"000000000000000110101001"},{"$f":"DEC2BIN(INT(MOD(W1_Bias!D30, 2^24)/2^16), 8) & DEC2BIN(INT(MOD(W1_Bias!D30, 2^16)/2^8), 8) & DEC2BIN(MOD(W1_Bias!D30, 2^8), 8)","v":"111111111111111110111010"},{"$f":"DEC2BIN(INT(MOD(W1_Bias!E30, 2^24)/2^16), 8) & DEC2BIN(INT(MOD(W1_Bias!E30, 2^16)/2^8), 8) & DEC2BIN(MOD(W1_Bias!E30, 2^8), 8)","v":"111111111111100111011100"},{"$f":"DEC2BIN(INT(MOD(W1_Bias!F30, 2^24)/2^16), 8) & DEC2BIN(INT(MOD(W1_Bias!F30, 2^16)/2^8), 8) & DEC2BIN(MOD(W1_Bias!F30, 2^8), 8)","v":"111111111111011010011111"},{"$f":"DEC2BIN(INT(MOD(W1_Bias!G30, 2^24)/2^16), 8) & DEC2BIN(INT(MOD(W1_Bias!G30, 2^16)/2^8), 8) & DEC2BIN(MOD(W1_Bias!G30, 2^8), 8)","v":"000000000000011001001110"},{"$f":"DEC2BIN(INT(MOD(W1_Bias!H30, 2^24)/2^16), 8) & DEC2BIN(INT(MOD(W1_Bias!H30, 2^16)/2^8), 8) & DEC2BIN(MOD(W1_Bias!H30, 2^8), 8)","v":"000000000000011111111000"},{"$f":"DEC2BIN(INT(MOD(W1_Bias!I30, 2^24)/2^16), 8) & DEC2BIN(INT(MOD(W1_Bias!I30, 2^16)/2^8), 8) & DEC2BIN(MOD(W1_Bias!I30, 2^8), 8)","v":"000000000000110111100110"},{"$f":"DEC2BIN(INT(MOD(W1_Bias!J30, 2^24)/2^16), 8) & DEC2BIN(INT(MOD(W1_Bias!J30, 2^16)/2^8), 8) & DEC2BIN(MOD(W1_Bias!J30, 2^8), 8)","v":"000000000000001010010101"},{"$f":"DEC2BIN(INT(MOD(W1_Bias!K30, 2^24)/2^16), 8) & DEC2BIN(INT(MOD(W1_Bias!K30, 2^16)/2^8), 8) & DEC2BIN(MOD(W1_Bias!K30, 2^8), 8)","v":"111111111111110111000001"},{"$f":"DEC2BIN(INT(MOD(W1_Bias!L30, 2^24)/2^16), 8) & DEC2BIN(INT(MOD(W1_Bias!L30, 2^16)/2^8), 8) & DEC2BIN(MOD(W1_Bias!L30, 2^8), 8)","v":"111111111111111010101100"},{"$f":"DEC2BIN(INT(MOD(W1_Bias!M30, 2^24)/2^16), 8) & DEC2BIN(INT(MOD(W1_Bias!M30, 2^16)/2^8), 8) & DEC2BIN(MOD(W1_Bias!M30, 2^8), 8)","v":"000000000000010010001000"},{"$f":"DEC2BIN(INT(MOD(W1_Bias!N30, 2^24)/2^16), 8) & DEC2BIN(INT(MOD(W1_Bias!N30, 2^16)/2^8), 8) & DEC2BIN(MOD(W1_Bias!N30, 2^8), 8)","v":"000000000000000101111101"},{"$f":"DEC2BIN(INT(MOD(W1_Bias!O30, 2^24)/2^16), 8) & DEC2BIN(INT(MOD(W1_Bias!O30, 2^16)/2^8), 8) & DEC2BIN(MOD(W1_Bias!O30, 2^8), 8)","v":"000000000000011100001110"},{"$f":"DEC2BIN(INT(MOD(W1_Bias!P30, 2^24)/2^16), 8) & DEC2BIN(INT(MOD(W1_Bias!P30, 2^16)/2^8), 8) & DEC2BIN(MOD(W1_Bias!P30, 2^8), 8)","v":"111111111111111101110011"}]