{"text_format":"1","workbook":"xlsx","n_sheets":5,"sheets":["Calculate","W5","W6","W6_bin","W6_limit"],"not_rendered":{"charts":0,"images":0,"macros":1,"external_links":0,"defined_names":0,"comments":0,"pivot_tables":0},"unopened":[],"bounds":{"document_bytes":16777216,"sheet_cells":100000,"rows_first":2000,"rows_last":500,"rows_between":2000,"halvings":0,"cell_chars":16384,"cell_head_chars":4096},"cells_cut":0,"cells_raw":0,"read":"whole","date_system":"1900"}

{"sheet":"Calculate","index":0,"n_rows":30,"n_cols":2049,"rows_kept":30,"cut":false,"hidden":false,"merged":[]}
["ディープ・ラーニング－ハードウエア化への道"]
["5層目と6層目(Dense)の演算シート　畳み込み4層目の結果がx_in"]
[]
["番号",1,2,3,4,5,6,7,8,9,10,11,12,13,14,15,16,17,18,19,20,21,22,23,24,25,26,27,28,29,30,31,32,33,34,35,36,37,38,39,40,41,42,43,44,45,46,47,48,49,50,51,52,53,54,55,56,57,58,59,60,61,62,63,64,65,66,67,68,69,70,71,72,73,74,75,76,77,78,79,80,81,82,83,84,85,86,87,88,89,90,91,92,93,94,95,96,97,98,99,100,101,102,103,104,105,106,107,108,109,110,111,112,113,114,115,116,117,118,119,120,121,122,123,124,125,126,127,128,129,130,131,132,133,134,135,136,137,138,139,140,141,142,143,144,145,146,147,148,149,150,151,152,153,154,155,156,157,158,159,160,161,162,163,164,165,166,167,168,169,170,171,172,173,174,175,176,177,178,179,180,181,182,183,184,185,186,187,188,189,190,191,192,193,194,195,196,197,198,199,200,201,202,203,204,205,206,207,208,209,210,211,212,213,214,215,216,217,218,219,220,221,222,223,224,225,226,227,228,229,230,231,232,233,234,235,236,237,238,239,240,241,242,243,244,245,246,247,248,249,250,251,252,253,254,255,256,257,258,259,260,261,262,263,264,265,266,267,268,269,270,271,272,273,274,275,276,277,278,279,280,281,282,283,284,285,286,287,288,289,290,291,292,293,294,295,296,297,298,299,300,301,302,303,304,305,306,307,308,309,310,311,312,313,314,315,316,317,318,319,320,321,322,323,324,325,326,327,328,329,330,331,332,333,334,335,336,337,338,339,340,341,342,343,344,345,346,347,348,349,350,351,352,353,354,355,356,357,358,359,360,361,362,363,364,365,366,367,368,369,370,371,372,373,374,375,376,377,378,379,380,381,382,383,384,385,386,387,388,389,390,391,392,393,394,395,396,397,398,399,400,401,402,403,404,405,406,407,408,409,410,411,412,413,414,415,416,417,418,419,420,421,422,423,424,425,426,427,428,429,430,431,432,433,434,435,436,437,438,439,440,441,442,443,444,445,446,447,448,449,450,451,452,453,454,455,456,457,458,459,460,461,462,463,464,465,466,467,468,469,470,471,472,473,474,475,476,477,478,479,480,481,482,483,484,485,486,487,488,489,490,491,492,493,494,495,496,497,498,499,500,501,502,503,504,505,506,507,508,509,510,511,512,513,514,515,516,517,518,519,520,521,522,523,524,525,526,527,528,529,530,531,532,533,534,535,536,537,538,539,540,541,542,543,544,545,546,547,548,549,550,551,552,553,554,555,556,557,558,559,560,561,562,563,564,565,566,567,568,569,570,571,572,573,574,575,576,577,578,579,580,581,582,583,584,585,586,587,588,589,590,591,592,593,594,595,596,597,598,599,600,601,602,603,604,605,606,607,608,609,610,611,612,613,614,615,616,617,618,619,620,621,622,623,624,625,626,627,628,629,630,631,632,633,634,635,636,637,638,639,640,641,642,643,644,645,646,647,648,649,650,651,652,653,654,655,656,657,658,659,660,661,662,663,664,665,666,667,668,669,670,671,672,673,674,675,676,677,678,679,680,681,682,683,684,685,686,687,688,689,690,691,692,693,694,695,696,697,698,699,700,701,702,703,704,705,706,707,708,709,710,711,712,713,714,715,716,717,718,719,720,721,722,723,724,725,726,727,728,729,730,731,732,733,734,735,736,737,738,739,740,741,742,743,744,745,746,747,748,749,750,751,752,753,754,755,756,757,758,759,760,761,762,763,764,765,766,767,768,769,770,771,772,773,774,775,776,777,778,779,780,781,782,783,784,785,786,787,788,789,790,791,792,793,794,795,796,797,798,799,800,801,802,803,804,805,806,807,808,809,810,811,812,813,814,815,816,817,818,819,820,821,822,823,824,825,826,827,828,829,830,831,832,833,834,835,836,837,838,839,840,841,842,843,844,845,846,847,848,849,850,851,852,853,854,855,856,857,858,859,860,861,862,863,864,865,866,867,868,869,870,871,872,873,874,875,876,877,878,879,880,881,882,883,884,885,886,887,888,889,890,891,892,893,894,895,896,897,898,899,900,901,902,903,904,905,906,907,908,909,910,911,912,913,914,915,916,917,918,919,920,921,922,923,924,925,926,927,928,929,930,931,932,933,934,935,936,937,938,939,940,941,942,943,944,945,946,947,948,949,950,951,952,953,954,955,956,957,958,959,960,961,962,963,964,965,966,967,968,969,970,971,972,973,974,975,976,977,978,979,980,981,982,983,984,985,986,987,988,989,990,991,992,993,994,995,996,997,998,999,1000,1001,1002,1003,1004,1005,1006,1007,1008,1009,1010,1011,1012,1013,1014,1015,1016,1017,1018,1019,1020,1021,1022,1023,1024,1025,1026,1027,1028,1029,1030,1031,1032,1033,1034,1035,1036,1037,1038,1039,1040,1041,1042,1043,1044,1045,1046,1047,1048,1049,1050,1051,1052,1053,1054,1055,1056,1057,1058,1059,1060,1061,1062,1063,1064,1065,1066,1067,1068,1069,1070,1071,1072,1073,1074,1075,1076,1077,1078,1079,1080,1081,1082,1083,1084,1085,1086,1087,1088,1089,1090,1091,1092,1093,1094,1095,1096,1097,1098,1099,1100,1101,1102,1103,1104,1105,1106,1107,1108,1109,1110,1111,1112,1113,1114,1115,1116,1117,1118,1119,1120,1121,1122,1123,1124,1125,1126,1127,1128,1129,1130,1131,1132,1133,1134,1135,1136,1137,1138,1139,1140,1141,1142,1143,1144,1145,1146,1147,1148,1149,1150,1151,1152,1153,1154,1155,1156,1157,1158,1159,1160,1161,1162,1163,1164,1165,1166,1167,1168,1169,1170,1171,1172,1173,1174,1175,1176,1177,1178,1179,1180,1181,1182,1183,1184,1185,1186,1187,1188,1189,1190,1191,1192,1193,1194,1195,1196,1197,1198,1199,1200,1201,1202,1203,1204,1205,1206,1207,1208,1209,1210,1211,1212,1213,1214,1215,1216,1217,1218,1219,1220,1221,1222,1223,1224,1225,1226,1227,1228,1229,1230,1231,1232,1233,1234,1235,1236,1237,1238,1239,1240,1241,1242,1243,1244,1245,1246,1247,1248,1249,1250,1251,1252,1253,1254,1255,1256,1257,1258,1259,1260,1261,1262,1263,1264,1265,1266,1267,1268,1269,1270,1271,1272,1273,1274,1275,1276,1277,1278,1279,1280,1281,1282,1283,1284,1285,1286,1287,1288,1289,1290,1291,1292,1293,1294,1295,1296,1297,1298,1299,1300,1301,1302,1303,1304,1305,1306,1307,1308,1309,1310,1311,1312,1313,1314,1315,1316,1317,1318,1319,1320,1321,1322,1323,1324,1325,1326,1327,1328,1329,1330,1331,1332,1333,1334,1335,1336,1337,1338,1339,1340,1341,1342,1343,1344,1345,1346,1347,1348,1349,1350,1351,1352,1353,1354,1355,1356,1357,1358,1359,1360,1361,1362,1363,1364,1365,1366,1367,1368,1369,1370,1371,1372,1373,1374,1375,1376,1377,1378,1379,1380,1381,1382,1383,1384,1385,1386,1387,1388,1389,1390,1391,1392,1393,1394,1395,1396,1397,1398,1399,1400,1401,1402,1403,1404,1405,1406,1407,1408,1409,1410,1411,1412,1413,1414,1415,1416,1417,1418,1419,1420,1421,1422,1423,1424,1425,1426,1427,1428,1429,1430,1431,1432,1433,1434,1435,1436,1437,1438,1439,1440,1441,1442,1443,1444,1445,1446,1447,1448,1449,1450,1451,1452,1453,1454,1455,1456,1457,1458,1459,1460,1461,1462,1463,1464,1465,1466,1467,1468,1469,1470,1471,1472,1473,1474,1475,1476,1477,1478,1479,1480,1481,1482,1483,1484,1485,1486,1487,1488,1489,1490,1491,1492,1493,1494,1495,1496,1497,1498,1499,1500,1501,1502,1503,1504,1505,1506,1507,1508,1509,1510,1511,1512,1513,1514,1515,1516,1517,1518,1519,1520,1521,1522,1523,1524,1525,1526,1527,1528,1529,1530,1531,1532,1533,1534,1535,1536,1537,1538,1539,1540,1541,1542,1543,1544,1545,1546,1547,1548,1549,1550,1551,1552,1553,1554,1555,1556,1557,1558,1559,1560,1561,1562,1563,1564,1565,1566,1567,1568,1569,1570,1571,1572,1573,1574,1575,1576,1577,1578,1579,1580,1581,1582,1583,1584,1585,1586,1587,1588,1589,1590,1591,1592,1593,1594,1595,1596,1597,1598,1599,1600,1601,1602,1603,1604,1605,1606,1607,1608,1609,1610,1611,1612,1613,1614,1615,1616,1617,1618,1619,1620,1621,1622,1623,1624,1625,1626,1627,1628,1629,1630,1631,1632,1633,1634,1635,1636,1637,1638,1639,1640,1641,1642,1643,1644,1645,1646,1647,1648,1649,1650,1651,1652,1653,1654,1655,1656,1657,1658,1659,1660,1661,1662,1663,1664,1665,1666,1667,1668,1669,1670,1671,1672,1673,1674,1675,1676,1677,1678,1679,1680,1681,1682,1683,1684,1685,1686,1687,1688,1689,1690,1691,1692,1693,1694,1695,1696,1697,1698,1699,1700,1701,1702,1703,1704,1705,1706,1707,1708,1709,1710,1711,1712,1713,1714,1715,1716,1717,1718,1719,1720,1721,1722,1723,1724,1725,1726,1727,1728,1729,1730,1731,1732,1733,1734,1735,1736,1737,1738,1739,1740,1741,1742,1743,1744,1745,1746,1747,1748,1749,1750,1751,1752,1753,1754,1755,1756,1757,1758,1759,1760,1761,1762,1763,1764,1765,1766,1767,1768,1769,1770,1771,1772,1773,1774,1775,1776,1777,1778,1779,1780,1781,1782,1783,1784,1785,1786,1787,1788,1789,1790,1791,1792,1793,1794,1795,1796,1797,1798,1799,1800,1801,1802,1803,1804,1805,1806,1807,1808,1809,1810,1811,1812,1813,1814,1815,1816,1817,1818,1819,1820,1821,1822,1823,1824,1825,1826,1827,1828,1829,1830,1831,1832,1833,1834,1835,1836,1837,1838,1839,1840,1841,1842,1843,1844,1845,1846,1847,1848,1849,1850,1851,1852,1853,1854,1855,1856,1857,1858,1859,1860,1861,1862,1863,1864,1865,1866,1867,1868,1869,1870,1871,1872,1873,1874,1875,1876,1877,1878,1879,1880,1881,1882,1883,1884,1885,1886,1887,1888,1889,1890,1891,1892,1893,1894,1895,1896,1897,1898,1899,1900,1901,1902,1903,1904,1905,1906,1907,1908,1909,1910,1911,1912,1913,1914,1915,1916,1917,1918,1919,1920,1921,1922,1923,1924,1925,1926,1927,1928,1929,1930,1931,1932,1933,1934,1935,1936,1937,1938,1939,1940,1941,1942,1943,1944,1945,1946,1947,1948,1949,1950,1951,1952,1953,1954,1955,1956,1957,1958,1959,1960,1961,1962,1963,1964,1965,1966,1967,1968,1969,1970,1971,1972,1973,1974,1975,1976,1977,1978,1979,1980,1981,1982,1983,1984,1985,1986,1987,1988,1989,1990,1991,1992,1993,1994,1995,1996,1997,1998,1999,2000,2001,2002,2003,2004,2005,2006,2007,2008,2009,2010,2011,2012,2013,2014,2015,2016,2017,2018,2019,2020,2021,2022,2023,2024,2025,2026,2027,2028,2029,2030,2031,2032,2033,2034,2035,2036,2037,2038,2039,2040,2041,2042,2043,2044,2045,2046,2047,2048]
[]
["x_in",0,5,0,0,1,0,0,0,0,0,0,0,0,0,0,0,1,0,0,0,0,0,2,0,0,3,0,0,0,0,0,6,0,0,4,0,0,0,0,0,0,0,0,1,0,4,0,0,0,0,7,5,0,0,0,0,0,0,0,4,0,0,0,10,0,0,0,12,0,8,0,9,0,0,0,0,0,0,0,7,0,0,0,0,0,0,4,0,0,0,0,0,0,0,0,0,5,0,0,0,0,0,0,0,0,0,0,0,0,0,0,7,0,4,11,1,0,0,0,4,0,0,0,0,3,5,0,0,0,3,0,0,0,0,0,0,0,0,0,0,0,0,0,0,0,0,0,0,3,0,8,0,0,15,0,0,0,0,0,2,0,0,0,0,0,0,0,0,0,0,0,1,0,0,0,0,0,0,9,3,0,0,0,0,0,0,0,1,0,0,0,5,0,0,0,18,7,9,0,6,0,0,0,0,0,0,0,10,0,0,0,0,0,0,6,0,0,0,0,0,0,0,0,0,7,0,0,0,0,0,0,0,0,0,0,0,1,0,0,3,0,6,6,0,0,0,0,8,0,0,0,0,11,8,0,0,0,8,0,0,0,0,0,0,0,0,0,0,0,0,0,0,0,0,0,0,0,0,3,0,0,6,0,0,0,5,0,0,0,0,4,0,0,0,0,0,0,0,0,1,0,0,0,0,0,0,11,0,0,0,0,0,0,0,0,5,0,0,0,6,0,0,0,16,0,3,0,8,0,0,0,0,0,0,0,11,0,0,0,0,0,0,7,0,0,0,0,0,0,0,0,0,1,0,0,0,0,0,0,0,0,0,0,0,0,0,0,5,0,0,4,0,0,0,0,1,0,0,0,0,0,0,0,0,0,0,0,0,2,0,0,0,0,0,0,0,0,0,0,0,0,0,0,0,0,0,9,0,0,3,0,0,1,0,0,3,0,0,0,0,0,0,0,0,0,0,0,0,0,0,0,0,0,0,6,7,0,0,0,0,0,0,0,0,0,0,0,4,0,0,0,7,0,0,0,11,0,0,0,0,0,0,0,8,0,0,2,0,0,0,6,0,0,0,0,0,0,0,0,0,1,0,0,0,0,0,0,0,0,0,0,0,9,0,0,4,0,1,5,0,0,0,0,0,0,0,0,0,0,0,0,0,0,3,0,0,0,0,0,0,0,0,0,0,0,0,0,0,0,0,0,0,0,0,0,0,0,3,0,0,0,0,0,1,0,0,0,0,0,0,0,0,0,0,0,0,0,0,0,0,4,0,3,0,0,0,0,0,0,0,0,4,0,0,0,6,0,0,0,4,0,0,0,0,0,0,0,0,0,0,0,4,0,0,0,0,0,0,11,0,0,0,0,0,0,0,3,0,3,0,0,0,0,0,0,0,0,0,0,0,3,0,0,2,0,0,3,0,0,0,0,0,0,0,0,0,0,0,0,0,0,4,0,0,0,0,0,0,0,0,0,0,0,0,0,0,0,0,0,0,1,0,2,0,0,6,0,0,0,0,0,1,0,0,0,0,0,0,0,0,0,0,0,2,0,0,0,0,0,0,7,3,0,0,0,0,0,0,0,0,0,0,0,4,0,0,0,12,0,4,0,2,0,0,1,0,0,0,0,5,0,0,0,0,0,0,0,0,0,0,0,0,0,0,0,0,9,0,0,0,0,0,0,0,0,0,0,0,2,0,0,0,0,2,4,0,0,0,0,11,0,0,0,0,2,4,0,0,0,10,0,0,0,0,0,0,0,0,0,0,0,0,0,0,0,0,0,0,0,0,4,0,0,2,0,0,0,0,0,1,0,0,0,0,0,0,0,0,0,0,0,0,0,0,0,0,0,0,3,3,0,0,0,0,0,0,0,7,0,0,0,11,0,0,0,16,0,0,0,3,0,0,0,0,0,0,0,7,0,0,0,0,0,0,0,0,0,0,0,0,0,0,0,0,6,0,0,0,0,0,0,0,0,0,0,0,0,0,0,4,0,0,2,0,0,0,0,4,0,0,0,0,0,0,0,0,0,9,0,0,0,0,0,0,0,0,0,0,0,0,0,0,0,1,0,0,0,0,0,0,0,5,0,0,0,0,0,2,0,0,1,3,0,0,0,0,0,0,0,3,0,0,0,0,5,0,18,0,0,0,0,0,0,0,0,4,0,0,0,6,0,0,0,11,2,0,0,9,0,0,0,0,0,0,0,0,0,0,6,0,0,0,0,0,0,0,0,0,0,0,0,0,0,0,0,0,0,0,0,0,0,0,0,0,17,0,0,0,0,0,3,0,0,0,0,0,0,0,0,8,0,6,0,0,0,12,0,0,22,0,0,0,0,0,0,0,9,0,0,0,21,0,0,0,0,0,31,0,0,11,0,0,16,6,0,0,0,0,0,0,0,0,0,0,0,0,0,5,0,1,0,0,0,0,12,0,0,0,0,0,0,0,0,1,0,0,0,5,0,0,0,13,0,15,0,31,0,0,0,0,0,2,0,6,5,0,0,0,0,0,7,0,0,0,0,0,0,0,0,0,0,0,0,0,0,0,0,0,0,0,0,0,10,0,0,7,0,0,1,0,0,0,0,0,0,0,0,0,0,0,0,0,0,9,0,0,23,0,0,0,0,0,0,0,0,0,0,0,11,0,0,0,1,0,31,0,0,18,0,0,13,0,0,3,0,0,0,0,0,0,0,0,0,0,0,9,0,0,0,3,0,0,15,1,0,0,0,0,0,0,0,0,0,0,0,6,0,0,0,17,2,21,0,31,0,0,2,0,0,0,0,7,8,0,0,0,0,0,0,0,0,0,0,0,0,0,0,0,13,0,0,0,0,0,0,0,0,0,0,0,14,0,0,8,0,5,5,0,0,0,0,19,0,0,0,0,4,2,0,0,0,12,0,0,16,0,0,0,0,0,0,0,3,0,0,0,12,0,0,0,0,0,31,0,0,12,0,0,7,0,0,0,0,0,0,0,0,0,0,0,0,0,0,9,0,2,0,0,4,0,18,0,0,0,0,0,0,0,0,1,0,0,0,10,0,0,0,10,0,20,0,31,0,0,0,0,0,0,0,5,0,0,0,0,0,0,0,0,0,0,0,0,0,0,0,0,9,0,0,0,0,0,0,0,0,0,0,7,6,0,0,8,0,0,14,0,0,0,0,13,0,0,0,0,0,0,0,0,0,10,0,0,21,0,0,0,0,10,0,0,10,0,0,0,17,0,0,0,2,0,31,0,0,11,0,0,14,3,0,2,0,0,0,0,0,0,0,0,0,0,0,0,0,5,0,0,8,0,13,5,0,0,0,0,0,0,0,0,0,0,0,8,0,0,0,14,3,8,0,31,0,0,0,0,0,1,0,5,0,0,0,0,0,0,6,0,0,0,0,0,0,0,0,0,0,0,0,0,0,0,0,0,0,0,0,9,17,0,0,9,0,0,1,0,0,0,0,0,0,0,0,0,1,3,0,0,0,5,0,0,17,0,0,0,0,0,0,0,20,0,0,0,31,0,0,0,0,0,31,0,0,4,0,4,31,30,0,0,0,0,0,0,0,0,0,0,0,0,0,4,0,0,0,0,0,0,6,0,0,0,0,0,0,5,0,0,7,10,0,0,0,0,0,11,0,0,0,31,0,0,0,0,0,0,0,0,10,0,31,0,0,0,8,0,0,0,0,0,0,0,0,0,0,0,0,0,0,1,0,0,0,0,0,0,31,0,0,7,0,0,10,18,0,0,0,0,0,0,0,20,0,0,0,0,0,0,0,0,14,0,0,0,0,0,0,0,7,0,0,0,31,0,0,0,0,0,31,0,0,1,0,0,31,23,0,4,0,0,0,0,0,0,0,0,0,0,0,0,0,0,0,0,0,0,0,1,0,0,0,0,0,0,0,0,8,12,0,10,0,0,0,1,0,0,0,29,0,0,0,0,0,0,0,0,7,0,31,0,0,0,1,0,0,0,0,0,0,0,0,0,0,0,0,0,0,0,0,0,0,0,0,0,31,0,0,0,0,0,24,12,0,0,0,1,0,0,0,6,0,0,0,0,0,5,0,0,11,0,0,0,0,0,0,0,7,0,0,0,31,0,0,0,4,0,31,0,0,0,0,5,31,22,0,0,0,0,0,0,0,0,0,0,0,0,0,0,0,0,0,0,0,0,0,0,0,0,0,0,0,0,0,0,1,7,0,5,0,0,0,0,0,0,0,31,0,0,0,0,0,0,0,0,0,0,26,0,0,0,11,0,0,0,0,0,0,0,0,0,0,0,0,0,0,0,0,0,0,0,0,0,31,0,0,1,0,0,15,23,0,0,0,0,0,0,0,16,0,0,0,0,0,3,0,0,3,0,0,0,0,0,0,0,11,0,0,0,31,0,0,0,3,0,31,0,0,0,0,0,31,27,0,0,0,0,0,0,0,0,0,0,0,0,0,1,0,0,0,0,0,0,0,0,0,0,0,0,0,10,0,0,7,7,0,0,0,0,0,5,0,0,0,26,0,0,0,0,0,0,0,0,0,0,31,0,0,0,18,0,0,0,0,0,0,0,0,0,0,0,0,0,0,0,0,0,0,0,0,0,31,0,0,7,0,0,5,11,0,0,0,0,0,0,0,24,0,0,0,0]
[]
["x_in * W5",{"$f":"MMULT(B6:BZU6,'W5'!A1:DX2048)","v":-11920},-14272,-26640,-26960,-30656,13504,9776,-12064,-6176,-2512,-4032,18032,10144,15584,9008,-1280,-21760,4144,20240,6768,-18288,10112,9232,-5760,-18336,4256,-8304,-48304,-11232,-28112,-34400,7808,-12944,-12384,-10624,-3840,-24320,13568,-25280,-16736,-10816,-8032,-31680,-23648,-40224,-3776,-51040,-33696,-22752,8640,-15744,-12224,15760,-12448,3248,13216,-21344,-13152,-4384,-21104,-2976,22560,-33120,22064,-39104,-48960,9456,-5120,-12736,-22576,-7440,-26240,10864,-12160,22592,-4608,-29376,-19936,-15760,-16544,1072,-6912,35024,-7376,-27744,-39072,-41296,-5648,-28432,9472,-16896,-10912,-16032,22240,-18768,-5968,14848,-4080,-21088,-6784,-7008,3424,-18080,-22848,-10080,-37152,-26272,-10912,-16928,-4256,4528,-39536,19264,-6080,-46240,-18800,16768,-3008,-27968,-15392,20560,-10416,-27664,4496,29696,-16672,-7904,-18672]
[]
["b5",-5378,-1875,9625,1553,9538,-2125,5409,-1079,-920,-10472,4375,-4448,6093,-10091,-5448,-897,11661,2229,-10210,-4684,-9129,-1883,-11357,193,1323,-7607,-9217,11048,-2788,5967,5247,-9871,-4728,7958,-1788,-787,2297,-6687,10588,-1588,-3256,-3709,-7462,-9200,10930,-2404,8508,12136,-518,6766,-2558,-1864,-9265,-1626,-8378,-7974,-6182,-441,629,772,-6891,-8481,10532,-6961,432,8806,-9892,-436,-924,8854,3335,-5033,-2651,-2305,-8659,-2763,8765,-2618,12576,-217,-6693,-1296,-9863,-10584,8432,-5746,11303,4504,14219,-5840,12569,-1271,6221,-3408,10371,3427,-12920,-61,-7722,-1400,-3095,2798,-2604,7917,-2539,11604,11804,-1856,-2517,-612,4084,10683,-14168,-662,13585,1259,-9467,-2177,-5929,-745,-10661,5353,-10110,-11971,-9665,4102,-8828,12100]
["b5/8",{"$f":"+ROUNDDOWN(B10/8, 0)","v":-672},{"$f":"+ROUNDDOWN(C10/8, 0)","v":-234},1203,194,1192,-265,676,-134,-115,-1309,546,-556,761,-1261,-681,-112,1457,278,-1276,-585,-1141,-235,-1419,24,165,-950,-1152,1381,-348,745,655,-1233,-591,994,-223,-98,287,-835,1323,-198,-407,-463,-932,-1150,1366,-300,1063,1517,-64,845,-319,-233,-1158,-203,-1047,-996,-772,-55,78,96,-861,-1060,1316,-870,54,{"$f":"+ROUNDDOWN(BO10/8, 0)","v":1100},-1236,-54,-115,1106,416,-629,-331,-288,-1082,-345,1095,-327,1572,-27,-836,-162,-1232,-1323,1054,-718,1412,563,1777,-730,1571,-158,777,-426,1296,428,-1615,-7,-965,-175,-386,349,-325,989,-317,1450,1475,-232,-314,-76,510,1335,-1771,-82,1698,157,-1183,-272,-741,-93,-1332,669,-1263,-1496,-1208,512,-1103,1512]
[]
["plusBias5",{"$f":"B8+B11","v":-12592},{"$f":"C8+C11","v":-14506},-25437,-26766,-29464,13239,10452,-12198,-6291,-3821,-3486,17476,10905,14323,8327,-1392,-20303,4422,18964,6183,-19429,9877,7813,-5736,-18171,3306,-9456,-46923,-11580,-27367,-33745,6575,-13535,-11390,-10847,-3938,-24033,12733,-23957,-16934,-11223,-8495,-32612,-24798,-38858,-4076,-49977,-32179,-22816,9485,-16063,-12457,14602,-12651,2201,12220,-22116,-13207,-4306,-21008,-3837,21500,-31804,21194,-39050,{"$f":"BO8+BO11","v":-47860},8220,-5174,-12851,-21470,-7024,-26869,10533,-12448,21510,-4953,-28281,-20263,-14188,-16571,236,-7074,33792,-8699,-26690,-39790,-39884,-5085,-26655,8742,-15325,-11070,-15255,21814,-17472,-5540,13233,-4087,-22053,-6959,-7394,3773,-18405,-21859,-10397,-35702,-24797,-11144,-17242,-4332,5038,-38201,17493,-6162,-44542,-18643,15585,-3280,-28709,-15485,19228,-9747,-28927,3000,28488,-16160,-9007,-17160]
[]
["Relu5",{"$f":"IF(B13:DY13 > 0, IF(B13:DY13 > 100000000, 100000000, B13:DY13), 0)","v":0},{"$f":"IF(C13:DZ13 > 0, IF(C13:DZ13 > 100000000, 100000000, C13:DZ13), 0)","v":0},0,0,0,13239,10452,0,0,0,0,17476,10905,14323,8327,0,0,4422,18964,6183,0,9877,7813,0,0,3306,0,0,0,0,0,6575,0,0,0,0,0,12733,0,0,0,0,0,0,0,0,0,0,0,9485,0,0,14602,0,2201,12220,0,0,0,0,0,21500,0,21194,0,{"$f":"IF(BO13:GL13 > 0, IF(BO13:GL13 > 100000000, 100000000, BO13:GL13), 0)","v":0},8220,0,0,0,0,0,10533,0,21510,0,0,0,0,0,236,0,33792,0,0,0,0,0,0,8742,0,0,0,21814,0,0,13233,0,0,0,0,3773,0,0,0,0,0,0,0,0,5038,0,17493,0,0,0,15585,0,0,0,19228,0,0,3000,28488,0,0,0]
[]
["truncate",{"$f":"IF(ROUNDDOWN(B15:DY15/2^8, 0) > 31, 31, ROUNDDOWN(B15:DY15/2^8, 0))","v":0},{"$f":"IF(ROUNDDOWN(C15:DZ15/2^8, 0) > 31, 31, ROUNDDOWN(C15:DZ15/2^8, 0))","v":0},0,0,0,31,31,0,0,0,0,31,31,31,31,0,0,17,31,24,0,31,30,0,0,12,0,0,0,0,0,25,0,0,0,0,0,31,0,0,0,0,0,0,0,0,0,0,0,31,0,0,31,0,8,31,0,0,0,0,0,31,0,31,0,{"$f":"IF(ROUNDDOWN(BO15:GL15/2^8, 0) > 31, 31, ROUNDDOWN(BO15:GL15/2^8, 0))","v":0},31,0,0,0,0,0,31,0,31,0,0,0,0,0,0,0,31,0,0,0,0,0,0,31,0,0,0,31,0,0,31,0,0,0,0,14,0,0,0,0,0,0,0,0,19,0,31,0,0,0,31,0,0,0,31,0,0,11,31,0,0,0]
[]
["Drop5",{"$f":"B17","v":0},{"$f":"C17","v":0},0,0,0,31,31,0,0,0,0,31,31,31,31,0,0,17,31,24,0,31,30,0,0,12,0,0,0,0,0,25,0,0,0,0,0,31,0,0,0,0,0,0,0,0,0,0,0,31,0,0,31,0,8,31,0,0,0,0,0,31,0,31,0,{"$f":"BO17","v":0},31,0,0,0,0,0,31,0,31,0,0,0,0,0,0,0,31,0,0,0,0,0,0,31,0,0,0,31,0,0,31,0,0,0,0,14,0,0,0,0,0,0,0,0,19,0,31,0,0,0,31,0,0,0,31,0,0,11,31,0,0,0]
[]
["Drop5*W6",{"$f":"MMULT(B19:DY19, W6_limit!A1:J128)","v":22009},-20726,-139534,-101305,-103465,-64863,-47507,-53111,-55530,-3054]
[]
["b6",-34321,35910,-2448,8887,-11934,-24436,-27689,-30611,-30584,14673]
["b6/8",{"$f":"ROUNDDOWN(B23/8, 0)","v":-4290},{"$f":"ROUNDDOWN(C23/8, 0)","v":4488},-306,1110,-1491,-3054,-3461,-3826,-3823,1834,0,0,0,0,0,0,0,0,0,0,0,0,0,0,0,0,0,0,0,0,0,0,0,0,0,0,0,0,0,0,0,0,0]
[]
["plusBias6",{"$f":"B21+B24","v":17719},{"$f":"C21+C24","v":-16238},-139840,-100195,-104956,-67917,-50968,-56937,-59353,-1220]
["plusBias6/64",{"$f":"IF(B26 > 0, ROUNDDOWN(B26/2^6, 0), ROUNDUP(B26/2^6, 0))","v":276},{"$f":"IF(C26 > 0, ROUNDDOWN(C26/2^6, 0), ROUNDUP(C26/2^6, 0))","v":-254},-2185,-1566,-1640,-1062,-797,-890,-928,-20]
[]
["ranking",{"$f":" RANK(B26, $B$26:$AR$26)","v":1},{"$f":" RANK(C26, $B$26:$AR$26)","v":3},10,8,9,7,4,5,6,2]
["answer",{"$f":"MATCH(1, B29:AR29, 0)-1","v":0}]

{"sheet":"W5","index":1,"n_rows":2052,"n_cols":129,"rows_kept":562,"cut":true,"hidden":false,"merged":[],"bounds":{"rows_first":250,"rows_last":62,"rows_between":250,"halvings":3}}
[16,16,16,16,16,-16,16,-16,-16,16,16,16,16,-16,-16,16,-16,-16,16,16,16,16,-16,-16,-16,16,-16,16,16,-16,16,16,-16,16,-16,-16,16,-16,16,-16,-16,-16,-16,16,16,-16,-16,16,16,16,-16,16,16,-16,-16,-16,-16,16,16,16,16,16,-16,-16,-16,64,16,16,-16,16,16,16,16,-16,16,-16,16,16,16,16,16,-16,16,16,16,-16,16,16,16,-16,-16,-16,16,-16,-16,16,16,16,-16,-16,-16,16,-16,16,16,16,16,-16,-16,-16,-16,16,-16,16,16,-16,16,-16,16,-16,16,16,-16,16,16,16,16,16]
[-16,16,-16,-16,16,-16,-16,-16,16,16,16,16,16,16,-16,-16,-16,16,16,-16,16,-16,16,-16,16,16,-16,-16,-16,-64,-16,16,16,16,-16,16,16,16,-16,-64,-16,16,-64,16,-16,-16,-16,-16,16,16,16,16,16,16,16,-16,16,-16,16,-16,-16,16,16,16,-16,-16,16,16,-16,16,-16,-16,16,-16,64,-16,-16,-64,16,-16,16,16,16,-16,-16,16,-16,16,16,-16,16,16,-16,-16,16,16,16,16,-16,16,-16,-16,-16,16,-16,16,-16,-16,-16,-16,-16,16,16,16,-16,16,16,16,-64,16,16,16,-16,16,16,-16,-16,-16]
[16,16,16,16,-16,16,64,-16,-16,-16,64,-16,16,16,16,16,16,-16,-16,16,16,64,-16,-64,16,-16,16,16,-16,16,-16,-16,64,-16,16,64,-16,-16,16,-16,-16,16,-16,16,-16,16,16,16,-16,16,16,-16,-16,16,16,16,-16,16,16,-16,16,16,16,-16,-16,16,-16,16,-16,-64,16,-16,16,-16,-16,16,-16,-16,-16,16,16,-16,-16,16,16,-16,16,16,-16,-16,-16,16,-64,16,-16,-16,-16,64,16,-16,16,16,-16,-16,-16,-16,16,16,-16,-16,16,16,-16,16,16,16,-16,16,-16,16,-16,16,16,16,-16,-16,16,-64]
[16,16,-16,-16,-16,-16,-16,-16,-16,16,16,-16,16,16,-16,16,-16,-16,16,-16,64,16,16,-16,16,-16,16,16,-16,-16,-16,16,16,-16,16,16,-16,16,16,16,-16,-16,-16,16,-16,-16,-16,-16,16,16,-16,16,16,-16,64,-16,16,16,16,-16,16,16,16,16,-16,-16,-16,16,-16,-16,16,-16,16,-16,-16,16,-16,16,-16,16,16,16,16,-16,-16,16,-16,16,-16,16,-16,-16,-16,16,-16,-16,16,16,-16,16,16,-16,16,16,-16,-16,-16,-16,-16,16,16,16,16,-16,16,-16,16,-16,-16,16,-16,16,-16,16,-16,-16,16,-16]
[16,16,16,16,16,16,-16,16,16,-16,16,16,16,16,16,16,-16,16,16,-16,-16,-16,16,16,-16,-16,16,16,-16,-16,-16,-16,-16,-16,16,16,16,16,-16,-16,16,16,-64,-16,16,-16,16,-16,16,-16,-16,-16,16,-16,16,16,-16,-16,16,16,-16,-16,-16,-16,-16,16,16,16,-16,-16,16,-16,16,-16,16,16,-16,-16,-16,16,16,16,16,16,16,-16,-16,16,-16,-16,16,16,-16,-16,16,16,-16,16,-16,-16,16,-16,16,-16,-16,16,16,-16,16,16,16,-16,16,16,16,16,16,-16,-16,16,16,-16,-16,16,16,-16,-16,-16]
[64,16,-16,16,-16,64,-16,-16,-16,64,64,64,16,16,16,16,-64,-16,64,16,-16,16,16,16,16,64,16,-16,16,-64,-16,16,16,-16,-16,-16,16,64,-16,-16,16,-16,-16,16,-16,-16,-16,-64,-16,16,-16,16,16,-16,16,16,16,-16,64,-16,16,16,-16,64,-16,-16,16,16,-16,16,-16,-16,16,16,16,-16,-16,-16,-16,-16,16,16,16,64,-16,-16,-64,-16,-16,16,-16,16,16,16,16,-16,16,16,-16,16,-16,16,16,-16,-16,-16,-16,-16,16,16,16,-64,16,-16,-16,-16,16,-16,-16,-16,16,-64,-16,16,64,16,16,16]
[-16,16,16,-16,16,-16,16,-16,-16,-16,16,-16,16,-16,-16,-16,16,16,-16,-16,-16,16,16,16,-16,-16,-16,16,-16,16,64,-16,16,16,16,-16,-16,16,16,-16,16,-16,-16,-16,16,-16,-16,16,16,16,16,16,16,16,16,16,16,-16,-16,-16,-16,16,-16,16,-16,16,16,-16,-16,-16,16,-16,-16,-16,16,16,16,16,16,16,-16,16,-16,-16,16,16,16,16,16,16,16,-16,-16,16,-16,-16,16,16,-16,16,-16,16,16,-16,16,16,16,-16,-16,-16,-16,16,16,16,16,16,-16,-16,-16,16,-16,16,16,-16,16,16,-16,16]
[16,16,-16,-16,-16,-16,16,16,-16,-16,-16,16,16,-16,-16,16,16,16,-16,16,-16,16,-16,16,-16,16,16,16,16,16,-16,-16,-16,16,-16,-16,16,-16,16,16,-16,16,-16,-16,16,16,16,-16,-16,-16,16,16,-16,16,-16,16,16,-16,-16,16,16,16,-16,-16,16,16,16,-16,16,-16,-16,16,-16,-16,-16,-16,-16,-16,-16,16,-16,-16,-16,-16,16,-16,16,16,16,-16,16,-16,16,16,16,-16,-16,-16,-16,-16,16,-16,-16,-16,16,-16,-16,-16,-16,16,16,-16,16,-16,-16,16,16,-16,16,16,-16,-16,-16,-16,16,-16,16,16]
[-16,-16,-16,16,16,16,16,-16,-16,16,16,-16,16,16,16,16,-16,16,-16,-16,16,16,16,-16,-16,-16,-16,16,-16,-16,-16,16,16,-16,-16,16,16,16,16,16,16,16,-16,-16,16,16,64,16,16,16,-16,-16,-16,-16,-16,16,-16,16,16,-16,-16,16,16,16,16,16,-16,16,-16,-16,16,-16,16,-16,-16,16,16,16,-16,16,-16,16,16,-16,16,-16,16,64,16,16,-16,-16,-16,-16,16,16,16,16,16,16,-16,16,16,16,-16,-16,16,-16,-16,16,16,16,-16,-16,-16,16,64,16,-16,16,16,64,-16,-16,-16,16,-16,-16]
[-16,16,16,16,-16,-16,16,-16,-16,16,16,-16,-16,-16,-16,-16,-16,-16,-16,-16,-16,16,-16,-16,-16,16,16,64,16,16,16,16,-64,-16,16,-16,16,-16,16,16,-16,-16,16,16,16,-16,16,16,-16,-16,16,-16,-16,-16,-16,-16,-16,16,-16,16,16,-64,-16,-16,16,16,-16,16,-16,16,-16,16,16,-16,-16,-16,16,16,-16,16,16,-16,-64,16,16,-16,16,-16,16,-16,16,-16,16,-16,16,16,-16,16,16,16,16,16,16,16,-16,16,16,-16,16,16,16,-16,-16,-16,16,16,16,-16,16,16,-16,16,16,-16,-16,16,-16,16]
[16,16,-16,-16,-16,16,16,-16,16,16,16,16,16,16,16,16,-16,-16,16,16,16,16,16,-16,16,-16,16,16,-16,-16,-16,16,64,-16,-16,16,-16,16,-16,-16,-16,-16,-16,16,-16,-16,-16,-16,16,64,-16,16,16,16,64,64,-16,-16,16,-16,16,16,-16,16,16,-16,16,-16,-16,-16,64,16,-16,-16,16,-16,-16,-16,-16,-16,16,-16,16,16,-16,16,16,16,-16,16,-16,-16,-16,-16,-64,-16,16,16,-16,-16,16,16,16,-16,-16,-16,-16,-16,16,16,16,16,16,16,16,16,16,16,16,-16,-16,16,-16,64,16,-16,16,-16]
[64,-16,16,-16,16,-16,16,16,16,16,-16,16,-16,16,-16,-16,16,16,-16,-16,-16,-16,-16,16,-16,-16,-16,-16,-16,16,-16,16,16,16,-16,16,16,-16,16,16,-16,-16,-16,16,16,-16,16,16,-16,16,-16,16,16,-16,16,16,-16,16,16,16,16,-16,16,16,-16,-16,-16,-16,-16,16,16,-16,16,-16,-16,-16,16,-16,16,16,16,16,-16,16,16,16,-16,-16,16,-16,16,-16,-16,-16,-16,16,-16,16,-16,16,-16,16,16,16,-16,16,-16,-16,-16,-16,-16,16,16,16,16,16,16,-16,-16,16,-16,16,16,16,-16,16,-16,-16]
[-16,16,16,-16,16,-16,16,-16,-16,16,-16,-16,16,16,16,16,16,-16,-16,-16,16,16,-16,-16,-16,-16,16,-16,-16,-16,16,16,16,-16,16,16,-64,-16,64,-16,-16,-16,-16,16,16,-16,16,16,16,16,-16,-16,-16,-16,16,16,16,-16,16,-16,16,-16,16,-16,-16,16,-16,16,16,-16,16,-16,-16,-16,-16,-16,-16,-16,-16,-16,-16,16,-16,-16,16,-16,-16,16,-16,16,16,-16,-16,16,-16,-16,-16,16,-16,-16,16,16,-16,16,16,16,16,16,16,-16,16,16,-16,-16,16,16,-16,-16,-16,-16,-16,-16,-16,64,-16,16,-16,-16]
[16,-16,-16,16,16,-16,16,16,-16,-16,16,-16,-16,16,16,-16,-16,16,-16,16,16,16,-16,16,16,-16,-16,16,-16,-16,16,16,16,-16,-16,-16,16,16,16,16,16,-16,-16,-16,-16,-16,16,16,16,-16,16,16,16,16,16,16,16,16,16,16,16,-16,16,-16,-16,-16,16,16,-16,-16,-16,16,16,-16,16,16,-16,16,16,-16,16,16,16,16,16,16,-16,16,16,-16,-16,16,-16,16,16,16,16,16,-16,-16,-16,-16,16,16,-16,16,16,16,16,-16,-16,16,16,-16,-16,-16,-16,16,16,16,-16,16,-16,-16,16,16,-16,-16]
[64,-16,-16,-64,-16,16,16,-16,-16,64,64,16,16,16,16,16,-64,-64,16,16,16,16,64,-16,16,16,64,16,-16,-64,-16,16,64,-16,16,16,-16,16,-16,-16,-16,16,-16,64,-16,16,-16,-16,-16,16,16,-16,16,16,64,-16,16,16,64,-16,16,16,-16,16,-16,16,64,-16,-16,-64,16,-16,-16,16,16,16,-16,16,-16,-16,16,-16,16,64,16,16,-16,16,-64,16,-16,16,-16,16,-16,-16,16,64,-16,-16,-16,16,-16,-16,-16,-16,-16,-16,16,16,16,-16,64,16,-16,16,16,16,-16,-16,-16,-16,-16,64,16,-16,16,16]
[-16,-16,-16,16,16,-16,-16,-16,16,-16,-16,16,16,16,16,-16,-16,16,16,-16,16,16,16,-16,16,-16,-16,-16,16,-16,16,16,-16,16,16,16,-16,-16,16,-16,16,16,-16,16,16,-16,16,16,16,-16,-16,-16,-16,-16,-16,-16,16,16,-16,16,-16,-16,16,16,16,-16,-16,16,-16,-16,-16,-16,-16,16,-16,16,16,16,-16,16,16,16,16,-16,-16,-16,16,16,-16,16,16,-16,16,-16,16,-16,16,-16,-16,-16,-16,-16,-16,-16,16,-16,16,16,-16,16,-16,-16,-16,-16,16,-16,-16,-16,16,16,16,16,16,16,16,16,16,16]
[16,-16,16,-16,16,16,-16,16,-16,16,16,16,16,64,16,-16,16,16,16,16,16,16,16,-16,16,16,16,-16,16,-16,16,16,16,-64,-16,64,-16,16,16,-64,16,-16,-16,64,-16,-16,16,-16,-16,16,16,16,16,16,16,16,16,-16,16,-16,16,16,16,16,-16,16,16,-16,-16,-16,16,-16,-16,-16,16,16,-16,-16,-64,-16,64,-16,16,16,16,16,16,16,-16,16,16,-16,-16,16,16,-16,16,16,-16,-16,-16,16,-16,-16,-16,16,16,16,16,-16,16,16,16,-16,16,16,-16,-16,-16,-16,16,16,16,16,16,-16,16,16]
[16,-16,16,-16,-16,-16,-16,16,16,16,64,16,16,16,-16,-16,-16,16,64,-16,64,16,16,-16,64,-16,16,-16,16,16,-16,16,16,-16,-16,-16,-16,16,16,-16,-16,-16,-16,16,-16,-16,-16,16,-16,64,-16,16,16,16,16,-16,-16,16,16,16,64,16,-16,16,-16,16,16,16,16,-16,16,16,-16,16,16,-16,-16,-16,-16,16,-16,16,64,-16,-16,16,-16,-16,16,16,-16,-16,-16,-16,-16,-16,16,16,-16,-16,-16,16,-16,-16,16,-16,-16,16,-16,-16,16,-16,16,16,-16,64,16,-16,-16,-16,16,16,16,16,16,-16,16,16]
[16,16,-16,-16,-16,16,16,-16,16,16,16,16,16,16,16,16,-16,-16,16,16,16,16,16,-16,-16,16,16,-16,-16,16,-16,16,64,-16,16,16,-16,16,16,-16,-16,-16,16,-16,-16,-16,16,16,-16,64,16,-16,-16,-16,16,16,16,16,16,16,-16,16,-16,16,-16,-16,-16,-16,-16,-64,16,16,16,16,-16,16,-16,-16,-16,-16,16,-16,16,-16,-16,-16,16,16,-16,16,-16,16,-16,16,-16,16,-16,16,16,-16,16,16,-16,-16,-16,-16,-16,-16,-16,-16,16,16,16,16,16,16,-16,16,-16,16,-16,-16,-16,16,16,-16,16,-16]
[-16,-16,16,16,16,16,16,16,16,-16,-16,16,-16,-16,-16,16,-16,-16,16,16,16,16,16,-16,-16,-16,-16,-16,-16,-16,-16,16,16,-16,-16,-16,-16,-16,16,-16,-16,16,-16,-16,16,16,-16,-16,-16,-16,-16,16,16,-16,-16,16,16,16,16,-16,16,16,16,-16,-16,16,16,-16,-16,-16,16,16,-16,16,-16,16,-16,16,16,-16,-16,16,-16,16,16,-16,16,16,-16,16,16,16,16,-16,16,-16,16,-16,-16,16,-16,16,16,16,16,-16,-16,-16,-16,16,16,-16,-16,16,-16,-16,16,-16,-16,-16,-16,-16,-16,16,16,-16,-16,16]
[16,-16,-16,-16,16,-64,-16,16,16,16,16,16,-16,-16,-16,16,-16,-16,16,-64,16,16,16,-16,16,-16,16,-16,-16,-16,-16,16,16,16,16,-16,16,16,-16,-16,-16,16,-16,16,-16,-16,-64,-16,16,16,-16,-16,16,16,16,-16,16,-16,16,-16,16,16,-16,16,-16,-16,16,-16,16,16,-16,-16,-16,-16,64,16,-16,-16,-16,-16,-16,-16,64,-16,-64,16,-16,-16,16,-16,-16,16,-16,-16,16,-16,64,-16,-16,-16,-16,16,-16,-16,-16,-16,-16,16,16,-16,16,-64,16,16,-64,-16,64,16,-64,-16,16,16,-16,16,16,-16,-16,-16]
[16,-16,-16,-16,-16,-16,16,16,16,16,16,16,16,16,16,16,-16,16,16,-16,16,16,16,-16,16,16,16,16,-16,-16,16,64,16,-16,-16,16,16,16,16,-16,-16,-16,16,16,-16,16,16,-16,-16,16,-16,-16,16,-16,16,-16,16,-16,16,-16,64,16,16,16,-16,16,64,16,16,-16,16,-16,16,-16,16,-16,16,-16,16,16,16,16,16,-16,16,16,-16,16,16,16,-16,-16,-16,16,16,-16,16,16,-16,16,16,16,-16,-16,16,-16,16,-16,-16,16,16,-16,64,16,16,16,16,16,-16,16,16,-16,16,16,16,16,16,16]
[16,-16,16,-16,16,-16,-16,16,-16,-16,16,-16,16,16,-16,16,-16,-16,16,-16,-16,-16,-16,-16,-16,16,16,-16,16,-16,16,-16,-16,16,16,-16,16,-16,-16,16,16,16,16,-16,-16,-16,16,-16,-16,-16,16,-16,16,-16,16,16,-16,16,16,-16,-16,16,-16,16,16,16,16,16,-16,-16,-16,-16,16,-16,-16,-16,-16,16,16,16,16,-16,16,-16,16,16,-16,-16,16,16,16,16,-16,-16,16,-16,16,-16,16,16,-16,-16,16,-16,16,16,16,-16,16,16,16,-16,-16,-16,-16,16,-16,16,-16,-16,-16,16,16,-16,16,-16,-16,16]
[64,-16,16,-16,-16,16,64,-16,-16,-16,64,-16,16,16,16,16,16,16,-16,16,16,64,16,-64,16,-16,-16,16,-16,16,16,16,64,-16,16,64,-64,-16,16,-16,-16,16,-16,16,16,-16,16,16,-16,64,-16,-16,-16,16,16,16,-16,16,64,16,16,-16,16,-16,-16,16,-16,-16,-16,-64,64,-16,16,16,16,-16,16,-16,-16,16,64,16,-16,16,16,-16,16,16,-16,16,16,-16,-16,16,-16,-16,-16,16,-16,16,16,64,-16,16,-16,-16,16,16,-16,-16,16,16,-16,-16,16,16,-16,-16,-16,16,-16,64,-16,16,-16,16,16,-16]
[-16,-16,16,-16,-16,16,16,-16,-16,16,16,-16,-16,16,16,16,-16,-16,16,-16,16,16,16,16,16,16,-16,-16,16,16,16,64,16,16,-16,16,16,16,16,-16,-16,-16,-16,16,-16,16,-16,-16,16,16,-16,-16,16,16,16,16,16,-16,16,-16,16,16,-16,16,16,-16,16,-16,-16,16,16,16,16,16,16,-16,16,-16,-16,-16,16,16,16,16,-16,16,-16,16,16,16,-16,16,16,16,-16,-16,16,64,-16,-16,16,16,16,-16,16,-16,16,16,-16,16,16,16,16,-16,-16,16,16,16,16,-16,16,16,16,16,16,-16,16,16]
[-16,16,-16,-16,16,-16,-16,16,-16,-16,-16,16,-16,16,-16,-16,-16,16,16,-16,-16,-16,16,16,16,-16,-16,-16,-16,-16,16,-16,-16,16,16,-16,16,16,-16,-16,16,-16,-16,-16,16,16,-16,-16,-16,-16,-16,-16,16,16,-16,16,-16,-16,-16,-16,-16,16,16,16,-16,-16,16,16,-16,16,-16,-16,16,-16,16,16,-16,-16,16,-16,-16,-16,16,-16,16,-16,-16,-16,16,-16,16,-16,-16,-16,16,16,16,-16,-16,16,16,-16,-16,-16,-16,16,16,-16,-16,-16,-16,16,16,16,-16,-16,16,-16,-64,-16,16,-16,-16,16,16,-16,-16,16]
[-16,-16,16,16,16,-16,16,-16,-16,16,16,16,16,-16,16,16,-16,16,16,16,-16,16,-16,16,16,16,-16,16,16,-16,16,64,-16,-16,-16,-16,16,16,16,16,-16,-16,16,16,-16,16,16,-16,16,-16,-16,16,16,-16,-64,-16,-16,-16,16,16,16,-16,-16,16,-16,-16,-16,16,-16,16,-16,16,16,-16,16,-16,16,16,16,16,-16,16,-16,-16,-16,-16,16,-16,16,16,-16,16,16,-16,16,-16,16,16,-16,-16,16,16,-16,-16,16,16,16,16,-16,16,16,-16,-16,16,16,16,16,-16,16,16,16,16,16,-16,-16,16,-16,16]
[16,-16,-64,-16,-16,-16,-16,-16,-16,16,16,16,-16,-16,-16,-16,-64,-16,64,-16,-16,16,16,16,16,16,16,-64,-16,-64,-16,-16,16,-16,-16,-16,16,16,-64,-16,16,16,-16,16,-16,16,-16,-64,-16,16,-16,16,16,-16,16,16,-16,-16,16,16,16,16,-64,16,-16,-16,16,16,-16,16,16,-16,-16,16,64,16,16,-16,-16,16,16,-16,16,16,-16,-16,-64,-16,16,-16,-16,-16,16,-16,16,-16,64,16,16,16,-16,16,-16,-64,-16,-16,-16,16,-16,-16,-16,-16,16,-16,-64,16,16,-16,-16,-16,16,-16,-16,-16,16,-16,16,16]
[16,16,-16,-16,16,16,-16,16,-16,16,16,16,16,16,16,16,-16,-16,16,16,16,-16,16,-16,16,16,16,-64,16,-64,-16,16,-16,-16,-16,16,-16,16,-16,-16,16,-16,-16,16,-16,-16,16,-64,16,16,16,16,16,-16,16,16,-16,16,16,-16,16,16,-16,16,-16,-16,16,16,16,-16,16,-16,16,16,64,16,-16,-16,-16,16,64,-16,16,16,-16,16,-16,16,-16,-16,-16,16,-16,16,16,16,16,16,-16,-16,-16,16,-16,-16,-16,-16,-16,16,-16,16,16,-16,16,16,-64,16,16,16,-16,-16,16,16,-16,16,16,-16,-16,-16]
[16,-16,16,16,16,-16,-16,16,-16,16,16,16,-16,-16,-16,-16,16,-16,16,-16,-16,16,16,-16,16,16,-16,-16,16,-16,16,16,16,-16,-16,16,16,-16,64,-64,-16,-16,-16,16,-16,16,-16,16,-16,16,16,-16,-16,16,-16,16,16,16,16,-16,16,-16,16,-16,16,16,-16,-16,-16,-16,16,16,16,16,-16,16,-16,-16,-16,16,16,-16,16,16,-16,16,16,-16,16,16,16,-16,-16,-16,16,-16,16,16,-16,-16,-16,16,-16,-16,-16,16,16,-16,-16,16,-16,16,-16,-16,16,16,-16,-16,-16,-16,16,-16,-16,16,-16,-16,-16,16]
[16,16,16,-16,-16,16,16,16,16,16,16,16,16,-16,16,-16,16,16,-16,-16,16,16,16,-16,-16,-16,16,16,16,16,16,-16,64,-16,-16,16,-16,16,16,-16,-16,-16,16,-16,16,-16,16,16,-16,16,16,-16,16,-16,16,16,-16,-16,16,16,16,16,16,16,-16,16,16,16,-16,-16,64,-16,16,16,16,16,16,-16,-16,-16,16,16,16,-16,16,16,16,16,-16,-16,-16,-16,16,16,-16,-16,-16,16,-16,16,-16,16,16,16,-16,16,-16,16,-16,16,16,16,16,16,16,16,-16,-16,-16,-16,-16,16,-16,16,-16,16,16,-16]
[-16,-16,16,16,64,-16,16,-16,-16,-16,-16,16,-16,-16,-16,16,16,64,-16,-16,-16,-16,-16,16,-64,-16,-64,16,16,64,64,-16,-16,64,-16,-16,16,16,16,-16,-16,-16,-16,-16,64,16,-16,-16,-16,-16,-16,16,16,16,16,-16,16,-16,-16,-16,-16,-16,16,16,-16,16,-16,-16,16,16,-16,-16,-16,16,-16,-16,-16,-16,16,16,-16,-16,-16,-64,16,-16,-16,-16,64,16,16,16,16,-16,64,64,-16,-64,-64,-16,-16,-16,-16,-16,-16,64,16,16,-16,16,-16,16,16,-16,16,16,16,-16,-16,16,-16,-16,-16,-16,16,-16,-64,16]
[-16,16,-16,-16,16,-16,16,16,-16,16,-16,16,-16,-16,16,-16,16,-16,-16,-16,-16,-16,-16,-16,16,16,-16,-16,16,16,16,16,16,16,-16,16,16,-16,-16,16,-16,16,-16,-16,16,-16,16,16,16,16,-16,-16,-16,-16,-16,-16,16,16,-16,-16,16,-16,16,-16,-16,-16,-16,-16,-16,16,16,16,16,16,-16,-16,-16,-16,-16,-16,-16,-16,-16,-16,-16,16,-16,-16,16,-16,-16,16,16,16,-16,16,-16,-16,-16,16,16,16,16,-16,16,16,-16,-16,16,-16,16,-16,16,-16,-16,-16,-16,-16,16,16,-16,-16,-16,16,16,-16,-16,-16]
[16,-16,16,16,-16,16,64,16,-16,-16,16,-16,16,16,16,16,16,16,-16,-16,16,16,-16,-16,16,-16,-16,16,-16,16,16,16,16,-16,-16,64,-16,-16,16,16,-16,-16,-16,-16,16,16,16,16,-16,16,16,16,-16,-16,16,16,-16,16,16,-16,16,-16,16,-16,-16,16,-16,-16,-16,-16,16,-16,16,16,-16,-16,16,-16,16,16,64,16,-16,16,16,-16,16,16,16,-16,16,16,-16,16,-16,-16,-16,16,16,16,16,16,16,16,16,16,16,-16,-16,-16,16,16,-16,-16,16,16,-16,16,-16,16,-16,16,-16,16,-16,16,16,-16]
[-16,-16,-64,16,-16,-16,-64,-16,16,16,-16,64,-64,-16,-64,16,-64,16,64,-16,-64,-64,-16,16,16,-16,-16,-64,16,-64,-64,-16,-16,16,-16,-64,16,64,-64,-16,-16,16,-64,16,-16,16,-64,-64,-16,-64,16,-16,16,16,-16,64,16,-16,-16,-16,16,16,-64,64,-16,-64,16,-16,16,16,-16,16,-16,16,64,16,-16,-16,16,-16,-16,-16,64,-16,-16,16,-64,-64,16,16,-16,16,16,-16,16,16,64,-64,-16,-16,-16,-16,-16,-16,-16,-16,-64,16,-16,16,-16,-64,64,-16,-64,-64,64,-16,-16,-16,64,-64,16,-16,16,-16,-16,16]
[-16,16,16,16,16,-16,16,16,16,16,16,-16,16,16,-16,16,-16,-16,16,16,16,16,16,16,16,16,16,16,16,16,16,16,16,-16,16,16,16,64,16,16,16,16,-16,16,-16,-16,16,-16,16,16,16,-16,-16,-16,16,-16,16,16,16,16,16,16,64,16,16,16,16,16,16,16,-16,16,-16,16,-16,-16,16,-16,16,-16,16,16,-16,16,16,16,16,16,16,16,-16,-16,16,16,-16,-16,16,16,-16,16,-16,16,-16,16,16,-16,-16,16,16,16,16,16,-16,-16,16,-16,16,-16,16,-16,16,16,-16,16,-16,-16,16,16]
[16,16,-64,-16,-64,-64,-16,-16,-16,64,16,16,-16,16,-16,16,-64,-16,64,-16,16,-16,16,-16,16,-16,16,-16,-16,-16,-16,16,16,-16,16,-16,-16,16,-16,-16,-16,16,-16,16,-16,-16,-16,-16,-16,16,-16,16,64,-16,16,16,16,16,16,16,64,64,-16,16,-16,-16,64,16,16,-16,16,-16,-16,-16,16,16,-16,-16,-16,-16,16,-16,64,-16,-16,16,-16,-16,16,16,-64,16,-16,-16,-16,-16,16,-16,-16,-16,16,16,-16,-16,-16,-16,-16,16,-16,-16,-16,-16,64,16,-16,-16,64,16,-16,-16,16,16,16,16,16,-16,16,-16]
[16,-16,-16,-16,-16,16,64,16,-16,-16,64,-16,64,16,16,16,-16,16,16,16,16,16,16,-16,16,16,16,16,16,16,-16,16,64,-16,16,64,-64,-16,-16,16,-16,16,16,16,-16,-16,16,16,16,64,-16,16,-16,-16,16,16,-16,16,64,-16,16,16,16,-16,-16,16,16,-16,-16,-16,64,16,16,-16,-16,16,16,-16,-16,-16,64,16,16,16,-16,16,16,16,-16,16,16,-16,-16,16,-64,-16,-16,64,-16,-16,16,16,16,16,-16,-16,-16,-16,16,16,16,16,16,-16,16,16,16,-16,-16,-16,16,16,16,16,16,16,16,-64]
[-16,16,-16,16,16,-16,-16,16,-16,16,-64,-16,-16,-16,16,16,-64,-16,64,-16,-16,16,16,-16,-16,-16,-16,64,16,16,16,16,-64,-16,16,-16,16,-16,16,16,16,-16,16,64,-16,16,16,16,-16,-64,-16,-16,-16,16,-64,-16,-16,16,16,16,64,-64,16,-16,16,16,-16,16,-16,16,-16,16,16,16,-64,-16,16,16,16,-16,16,-16,-64,64,-16,-16,-16,-64,16,-16,16,-16,-16,-16,16,16,-16,16,16,16,-16,-64,16,-16,-16,-16,16,-16,-16,16,-16,-16,-64,16,16,-16,-16,-16,16,16,-16,16,16,-64,-16,16,-16,16]
[16,-16,16,-16,-16,16,64,-16,16,-16,64,16,16,16,16,16,-16,16,-16,16,16,16,-16,-64,16,16,16,16,-16,16,-16,-16,64,-16,-16,64,-16,-16,-16,-16,-16,16,16,-16,16,16,16,16,-16,64,16,-16,-16,16,16,16,-16,16,16,16,16,-16,16,-16,-16,16,-16,16,16,-64,64,-16,16,16,-16,16,16,-16,-16,16,16,16,-16,-16,-16,-16,16,16,-16,16,16,-16,-16,16,-16,16,-16,16,-16,-16,16,64,16,16,-16,-16,-16,-16,-16,16,16,16,-16,-16,16,16,-16,-16,16,-16,-16,16,16,16,16,16,16,-16]
[16,-16,16,-16,16,16,16,16,16,16,16,-16,-16,16,16,16,-16,-16,16,16,16,16,16,16,16,16,16,16,16,-16,16,-16,16,16,16,16,-16,16,16,16,-16,-16,16,16,16,16,16,16,16,16,16,16,16,16,16,-16,16,-16,-16,-16,-16,-16,16,-16,16,16,-16,-16,16,16,-16,-16,-16,-16,-16,16,16,16,-16,-16,16,-16,-16,16,-16,16,-16,16,16,16,-16,-16,-16,16,-16,-16,-16,-16,-16,16,-16,-16,-16,16,16,16,-16,16,-16,-16,16,16,-16,16,16,-16,-16,-16,-16,16,16,16,-16,-16,-16,16,-16,16]
[-16,-16,-16,16,-16,-16,-16,-16,16,-16,-16,-16,-16,16,16,-16,-16,-16,16,-16,-16,16,16,-16,-16,-16,16,16,16,64,16,-16,-16,-16,-16,-16,-16,-16,-16,16,16,-16,16,-16,-16,-16,-16,16,-16,-16,-16,-16,-16,-16,-16,-16,16,-16,16,16,16,-16,-16,-16,16,-16,-16,-16,-16,-16,-16,16,16,16,-16,-16,16,64,16,16,-16,-16,-16,16,-16,-16,-16,-16,-16,-16,-16,-16,16,16,16,-16,-16,-16,-16,-16,-16,-16,16,-16,-16,16,-16,-16,16,-16,-16,-16,-16,16,-16,-64,-16,-16,16,-16,-16,16,16,-16,-16,16,-16,16]
[16,-16,-16,-16,-16,-16,-16,-16,16,16,16,16,-16,-16,-64,-16,-64,-16,64,-64,-16,16,16,-16,16,-16,16,-16,-16,-64,-16,16,-16,-16,-16,-16,16,16,-16,-16,-16,-16,16,64,-64,16,-16,-64,16,-16,-16,16,16,-16,16,16,-16,-16,16,-16,16,64,-64,64,-16,-64,64,-16,-16,-16,16,-16,-16,16,16,16,-16,-64,16,16,-16,-16,16,-16,-16,16,-64,-16,16,16,-16,-16,-16,-16,-16,-16,16,16,-16,16,-16,16,-16,-16,-16,-16,-64,-16,16,16,-16,-64,64,-16,-64,16,64,-16,-16,16,64,16,-64,16,16,16,-16,16]
[-16,16,-16,16,16,-16,-16,-16,-16,-16,16,64,-16,-16,-16,-16,16,16,16,-16,-16,-16,16,-16,16,16,-16,-16,-16,-64,16,-16,-16,16,-16,16,16,16,-16,-64,-16,-16,-64,16,16,-16,-16,-16,-16,16,-16,-16,16,16,-16,16,-16,16,-16,-16,-16,16,16,16,-16,-16,16,16,-16,16,-16,-16,16,16,16,16,16,-16,-16,-16,-16,-16,16,-64,16,-16,-16,16,16,-16,16,16,-16,-16,16,16,16,-16,-64,-16,16,-16,-16,-16,-16,16,-16,-16,-16,-16,-16,-16,16,-16,-16,-16,16,-16,-64,-16,16,-16,-16,16,16,16,-16,16]
[-16,-16,16,16,-16,-16,-16,16,-16,-16,-16,-16,-16,-16,16,16,-16,-16,-16,16,-64,16,16,-16,-16,-16,16,16,16,16,64,-16,-64,-16,16,-64,16,-16,-16,16,-16,16,16,-16,-16,16,-16,16,-16,-64,16,16,-16,-16,-64,-16,-16,-16,-16,16,16,-64,16,-16,16,16,-16,-16,-16,16,-16,16,16,16,-16,-16,16,16,64,-16,-16,16,-16,16,-16,16,16,-64,-16,-16,16,-16,16,-16,16,-16,-16,16,16,-16,-16,-16,-16,16,-16,16,16,16,16,16,-16,-16,-64,-16,16,-16,16,-16,16,16,-16,16,16,-16,-16,-16,-16,-16]
[16,16,16,-16,-16,16,64,16,16,-16,16,-16,16,16,16,16,16,16,-16,16,16,16,-16,-16,-16,16,16,16,-16,16,16,16,64,-16,-16,16,-64,-16,-16,16,-16,16,-16,16,16,16,16,16,-16,16,-16,-16,-16,-16,16,16,-16,16,64,16,-16,-16,16,-16,-16,16,-16,-16,-16,-64,64,-16,16,16,16,16,16,-16,-16,16,64,-16,-16,16,16,-16,-16,16,-16,16,-16,-16,-16,-16,-16,16,-16,16,-16,-16,-16,16,-16,16,16,16,16,16,16,-16,16,16,-16,16,16,16,-16,-16,-16,-16,-16,16,-16,16,-16,16,16,-16]
[16,16,16,16,16,-16,-16,-16,16,16,16,-16,16,-16,-16,16,16,16,16,-16,16,-16,-16,16,16,-16,16,16,16,16,-16,16,-16,-16,16,16,16,-16,16,-16,-16,-16,-16,16,16,-16,16,16,16,-16,-16,-16,16,16,16,-16,-16,-16,16,16,-16,16,-16,-16,16,16,16,16,16,-16,-16,-16,-16,-16,16,-16,-16,-16,16,16,16,16,-16,16,16,16,16,16,16,-16,-16,-16,16,-16,16,16,-16,16,-16,16,16,16,-16,16,-16,-16,-16,-16,-16,-16,-16,16,16,-16,16,16,16,-16,-16,16,16,16,-16,-16,-16,16,-16,16]
[16,16,-64,-16,-16,16,-16,-16,16,-16,16,16,16,16,-16,-16,-64,-16,16,16,-16,-16,16,16,16,16,16,-16,16,-64,-16,16,-16,-16,-16,16,16,16,-16,-16,16,-16,-16,-16,-16,-16,-16,-64,-16,16,16,16,16,16,16,16,-16,-16,16,-16,16,64,-16,16,-16,-16,16,-16,-16,16,16,-16,16,-16,16,16,-16,16,16,-16,16,-16,16,16,16,16,-64,16,16,-16,-16,16,16,16,16,-16,16,16,16,-16,-16,16,-16,-16,-16,16,-16,-16,-16,16,16,-16,64,-16,-16,16,16,16,-16,16,64,-16,-16,16,64,16,-16,-16]
[16,-16,-64,-16,-16,-64,-16,16,16,16,16,16,-64,-64,-64,-16,-64,-16,64,-64,16,-16,-16,16,16,-16,16,-64,-16,-64,-64,-16,-16,16,-16,-64,-16,16,-64,-16,16,-16,-16,16,-16,16,-64,-16,-16,-16,-16,16,16,-16,16,16,16,-16,-16,-16,16,64,-16,64,-16,-16,64,16,-16,16,-16,-16,-16,-16,16,-16,-16,-16,16,-16,-16,16,64,-16,-16,16,-64,-64,-16,-16,-64,-16,-16,-16,16,-16,64,-16,-16,-16,-16,-16,-16,-16,-16,-16,-64,16,16,-16,-16,-64,64,-16,-64,-16,16,-16,-16,-16,64,-16,-16,16,64,16,-16,-16]
[-16,-16,16,16,16,-16,16,-16,-16,16,16,16,16,-16,-16,-16,-16,16,-16,16,-16,16,-16,-16,-16,16,-16,16,16,-16,16,16,-16,16,16,16,16,-16,16,16,16,-16,16,16,-16,-16,16,16,-16,-16,16,-16,-16,-16,-16,-16,-16,-16,-16,16,16,-64,-16,-16,16,16,-16,-16,-16,64,-16,-16,16,-16,-16,-16,16,16,16,16,16,-16,-64,-16,-16,-16,16,16,16,-16,16,-16,16,-16,16,-16,-16,16,16,-16,16,-16,16,16,-16,16,16,16,-16,16,16,-16,-16,16,64,-16,16,-16,16,16,-16,16,16,-64,-16,16,16,16]
[16,-16,-16,-64,-16,-16,-16,16,-16,16,16,16,16,16,-16,-16,-16,16,16,-16,16,-16,16,16,16,-16,-16,-16,16,-64,-16,16,16,16,-16,-16,-16,16,-16,-16,16,16,-16,16,-16,-16,-16,-16,16,-16,16,16,16,16,16,16,16,-16,16,-16,-16,16,-16,16,-64,-64,64,16,-16,16,16,-16,16,-16,64,16,-16,-16,-16,16,-16,-16,16,-16,-16,16,-16,-16,16,-16,-16,-16,-16,-16,16,16,16,16,-16,16,-16,16,-16,-16,-16,-16,-16,16,16,-16,-16,-16,64,-16,-16,16,16,16,-16,-16,64,16,-16,-16,64,16,-16,16]
[-16,16,-64,-64,-16,-16,-16,16,-16,64,-16,64,-64,-64,-64,-16,-64,16,64,-64,-16,-16,-16,-16,16,-16,-16,-64,16,-64,-64,16,-16,16,16,-64,-16,64,-64,-16,16,-16,-16,64,-16,-16,-64,-64,-16,-16,-16,-16,64,-16,16,16,-16,16,16,-16,16,64,-64,64,-16,-64,16,-16,-16,16,-16,-16,-16,-16,64,-16,-16,-16,16,-16,-64,16,64,-16,-64,16,-64,-64,-16,-16,-16,-16,16,-16,-16,16,64,-64,-64,16,-16,-16,16,-16,16,-16,-16,-16,-16,-16,-16,-64,64,-16,-64,-64,64,16,-64,-16,64,-64,-16,-16,16,-16,16,-16]
[-16,-16,-16,16,16,-16,16,16,-16,-16,-16,16,-16,16,16,16,-16,16,16,16,-16,16,-16,-16,-16,16,-16,16,16,16,-16,16,16,-16,-16,-16,-16,16,-16,16,16,-16,16,16,16,16,16,16,-16,16,-16,-16,-16,16,16,-16,-16,-16,16,-16,16,16,-16,16,-16,-16,16,-16,16,-16,-16,16,16,-16,16,-16,-16,16,-16,16,16,-16,16,-16,-16,16,-16,-16,-16,-16,-16,-16,-16,-16,-16,16,-16,16,-16,16,16,16,16,16,16,-16,-16,-16,16,-16,-16,-16,16,16,16,16,16,-16,-16,-16,16,16,-16,16,16,16,-16,16]
[16,16,-16,-16,16,-16,-16,-16,16,16,16,64,-16,-16,-16,16,-16,-16,64,-16,16,-16,16,-16,16,-16,16,-16,16,-64,-64,16,16,-16,16,16,-16,16,-16,-16,16,-16,-64,16,-16,-16,-16,-64,-16,16,-16,16,16,-16,16,16,16,-16,16,-16,16,16,-16,64,-16,-16,64,-16,16,16,16,-16,-16,-16,64,-16,-64,-16,-16,-16,-16,-16,64,-16,-64,16,-16,-16,16,-16,-16,16,16,-16,-16,16,64,16,-16,-16,16,16,-16,-16,-16,-16,-16,16,16,-16,-16,-64,64,-16,-64,16,16,16,-64,-16,64,16,-16,16,64,-16,-16,-16]
[16,-16,16,-16,16,-16,64,16,-16,-16,16,-16,64,-16,16,-16,-16,16,-16,16,16,16,16,-16,16,-16,-16,-16,-16,16,-16,16,16,16,16,64,-16,-16,-16,16,16,-16,-16,16,16,-16,-16,16,16,16,-16,-16,-16,-16,16,16,-16,-16,64,-16,-16,-16,-16,16,-16,16,16,16,16,-16,16,-16,16,-16,-16,16,16,-16,-16,16,16,16,-16,16,16,-16,16,16,-16,16,16,-16,-16,16,16,16,-16,16,-16,-16,16,16,-16,16,-16,16,16,-16,-16,16,16,16,-16,-16,-16,16,-16,16,-16,16,-16,16,16,16,-16,16,-16,-16]
[-16,16,-16,-16,-16,16,16,-16,-16,-16,-16,-16,16,16,-16,-16,16,-16,-16,-16,-16,-16,16,16,16,-16,16,16,16,16,16,16,-16,-16,-16,-16,-16,-16,-16,-16,16,-16,16,16,16,16,-16,-16,-16,16,-16,16,16,16,-16,16,16,16,-16,-16,-16,16,-16,16,16,16,-16,-16,16,16,-16,-16,-16,16,-16,16,-16,-16,-16,16,-16,16,16,-16,16,-16,-16,-16,-16,-16,-16,16,16,-16,-16,16,-16,16,16,16,-16,-16,16,-16,-16,16,16,16,-16,16,-16,-16,16,16,-16,16,16,16,-16,16,16,16,-16,16,-16,-16,16,-16]
[-16,16,-16,-16,-16,64,-16,-16,-16,16,16,16,-16,-16,16,16,16,-16,-16,16,64,-16,-16,16,16,16,-16,16,-16,-16,16,-16,-16,16,-16,-16,16,-16,-16,-16,16,16,-16,-16,-16,16,16,-16,-16,16,16,16,-16,16,16,16,16,-16,-16,-16,16,-16,-16,16,16,-16,-16,16,16,16,16,16,-16,-16,16,-16,64,-16,-16,16,16,16,-16,16,64,-16,-16,-16,-16,64,16,-16,16,16,-16,-16,-16,-16,-16,16,16,16,-16,16,-16,-16,-16,16,-16,-16,-16,64,16,16,16,-16,-16,-16,64,16,16,64,-16,16,-16,16,-16,64]
[16,16,-16,-16,-16,-16,16,16,-16,16,-16,16,16,16,16,-16,-16,-16,16,-16,16,64,16,-16,16,16,-16,-16,16,-16,-16,16,16,-16,-16,-16,16,-16,-16,-16,16,-16,-16,16,-64,16,16,-16,-16,16,-16,16,-16,16,16,-16,16,-16,16,16,16,16,-16,-16,16,16,-16,-16,16,-16,16,16,-16,-16,16,16,-16,-16,-16,16,-16,-16,-16,-16,-16,16,16,-16,16,16,-16,16,-16,-16,-16,-16,16,16,16,-16,16,16,-16,-16,-16,-16,-16,16,-16,16,16,16,-16,-16,16,16,-16,-16,-16,-16,16,16,-16,16,-16,16,16,16]
[16,16,-16,16,-16,16,16,-16,16,16,-16,-16,-16,16,16,-16,-16,16,16,-16,-16,16,-16,16,16,16,16,16,-16,16,-16,16,16,16,-16,16,-16,-16,16,16,16,16,-16,16,16,16,-16,-16,16,16,-16,16,16,16,16,16,-16,16,16,16,16,16,16,16,16,-16,-16,-16,16,-16,16,16,-16,-16,16,16,16,16,-16,-16,16,-16,16,16,-16,-16,16,16,16,16,-16,-16,16,-16,16,16,16,16,16,16,16,16,16,16,16,16,-16,16,16,16,-16,-16,16,16,-16,16,16,-16,16,16,16,16,16,16,16,16,-16,16]
[16,16,16,16,16,-16,16,-16,16,-16,-16,16,-16,-16,-16,-16,16,64,-16,16,16,16,16,-16,-16,-16,-16,16,-16,64,64,16,16,16,16,16,-16,-16,16,-16,16,-16,-16,-16,16,-16,16,16,16,16,-16,-16,-16,16,16,-16,-16,-16,16,-16,16,-16,16,-16,-64,16,-16,16,-16,-64,16,-16,16,-16,-16,-16,16,-16,-16,16,16,16,-16,-16,16,-16,16,16,16,-16,16,16,-16,16,-64,16,-16,16,-16,-16,16,16,-16,16,-16,16,-16,16,-16,-16,16,64,-16,16,16,16,-16,16,-16,16,-16,16,16,16,-16,16,16,-16]
[16,-16,16,16,16,16,-16,-16,-16,16,16,-16,16,16,-16,16,16,16,-16,16,-16,-16,16,16,-16,-16,-16,16,16,16,16,-16,16,16,16,16,16,16,16,16,-16,16,16,16,16,-16,-16,16,-16,-16,16,-16,16,-16,16,16,16,16,16,-16,-16,16,16,16,-16,16,16,-16,16,16,16,-16,-16,16,-16,-16,16,16,16,16,-16,16,16,16,16,-16,16,16,16,16,16,16,16,-16,16,16,-16,16,-16,16,16,16,-16,16,-16,16,16,-16,-16,16,16,16,-16,16,16,16,16,-16,-16,16,-16,-16,-16,16,16,16,-16,16]
[16,-16,-16,-16,16,-16,16,-16,-16,16,16,-16,16,-16,16,-16,16,16,16,-16,-16,16,-16,-16,-16,16,16,16,-16,16,16,16,16,16,-16,16,16,-16,-16,-16,16,-16,-16,16,16,-16,-16,16,-16,16,-16,16,-16,16,16,16,16,-16,16,16,16,16,-16,16,16,16,-16,16,-16,16,16,16,-16,16,-16,-16,16,-16,16,16,16,-16,16,16,-16,-16,-16,16,16,16,16,-16,-16,16,16,16,-16,16,-16,16,16,16,16,-16,-16,16,16,16,-16,-16,16,16,16,16,16,16,16,-16,16,-16,-16,-16,-16,-16,-16,-16,-16,16]
[16,-16,-16,-16,16,16,16,-16,16,16,-16,-16,16,16,-16,16,16,16,-16,-16,-16,-16,-16,-16,16,16,16,-16,-16,-16,16,-16,-16,-16,16,-16,-16,-16,-16,16,-16,16,-16,16,-16,-16,16,-16,-16,-16,-16,-16,-16,-16,16,16,-16,-16,16,-16,16,-16,-16,16,-16,16,16,-16,16,-16,-16,-16,16,16,16,-16,16,16,-16,-16,-16,-16,-16,-16,16,16,16,16,16,16,16,16,-16,-16,-16,-16,16,-16,16,16,-16,-16,-16,-16,-16,16,-16,16,16,-16,-16,16,16,-16,16,-16,-16,16,16,-16,16,16,16,16,-16,-16,-16,16]
[-16,16,16,64,64,-16,-16,-16,-16,-16,-16,16,-16,-16,-64,-16,-16,64,-16,-16,-16,-16,-64,16,-64,-16,-64,-16,-16,16,16,-16,-64,64,16,-16,-16,-16,16,-16,-16,-16,-16,-64,64,16,-16,16,16,-16,-16,16,-16,16,-16,-16,-16,16,-16,16,-16,-16,-16,16,-16,-16,-16,-16,-16,16,-16,-16,-16,-16,-16,-16,16,16,16,16,-16,-16,-16,-64,16,-16,16,-16,16,-16,16,-16,16,-16,64,64,-16,-64,-16,16,-16,-16,16,16,-16,64,16,-16,-16,16,-16,16,-16,16,16,-16,-16,16,-16,16,-16,-16,16,-16,-16,16,-64,16]
[16,-16,-16,-16,16,16,-16,-16,16,16,16,16,16,16,16,-16,16,-16,-16,16,16,16,16,16,16,16,16,16,-16,16,16,16,16,16,16,16,16,16,-16,16,-16,16,-16,16,16,-16,-16,16,-16,16,-16,16,16,-16,16,16,-16,16,16,-16,16,16,-16,16,16,16,16,-16,-16,16,16,-16,-16,16,16,16,-16,16,16,-16,16,-16,16,-16,16,-16,16,16,16,16,16,-16,16,-16,-16,-16,-16,16,16,-16,-16,16,-16,-16,-16,16,16,16,-16,16,-16,16,-16,16,16,16,16,-16,16,16,16,16,16,16,-16,16,16,16]
[16,16,16,-16,-16,16,64,-16,-16,-16,64,16,64,16,16,-16,16,-16,-16,16,16,64,16,-16,16,-16,16,16,-16,16,-16,16,64,-16,16,16,-64,-16,-16,-16,-16,-16,16,16,-16,-16,16,-16,16,64,-16,-16,-16,16,64,16,-16,-16,64,16,16,16,16,-16,16,16,16,16,16,-64,16,16,-16,-16,16,-16,-16,-16,-16,-16,64,16,16,16,-16,-16,16,64,-16,16,-16,-16,-16,16,-16,-16,16,16,-16,16,16,16,16,-16,16,-16,-16,16,16,-16,16,16,-16,-16,16,-16,16,16,-16,-16,-16,-16,-16,16,16,16,64,-64]
[-16,16,16,-16,16,64,16,-16,16,16,16,16,16,16,16,16,-16,-16,16,16,16,-16,64,16,16,16,16,-16,-16,-16,-16,16,16,-16,16,16,16,16,16,-16,16,-16,-16,64,16,16,-16,-16,16,16,16,-16,16,16,64,16,16,-16,16,-16,16,16,-16,16,-64,16,-16,-16,16,16,16,16,16,-16,16,-16,-16,-16,-16,16,16,-16,-16,16,16,-16,-16,-16,-64,16,16,16,16,16,16,16,-16,-16,-16,16,-16,-16,-16,-16,-16,-16,16,16,-16,-16,16,-16,16,16,16,-16,16,16,-16,-16,16,16,-16,16,64,16,16,16]
[-16,-16,64,-16,16,-16,16,-16,-16,16,-16,-16,-16,16,16,-16,16,16,-16,-64,-16,16,16,-16,16,-16,-16,16,16,16,16,-16,-16,16,-16,-16,-16,-16,16,-16,16,-16,-16,-16,16,-16,16,16,16,16,-16,-16,-16,16,16,16,-16,-16,16,-16,-16,-16,16,-16,-16,16,16,-16,-16,-16,16,-16,-16,-16,-16,-16,16,-16,-16,-16,-16,-16,16,-16,16,16,16,16,16,16,16,-16,-16,-16,16,-16,-16,-16,-16,-16,16,16,-16,16,-16,16,16,-16,-16,16,-16,16,16,-16,16,16,-16,16,-16,16,-16,-16,-16,16,-16,16,-16,16]
[-16,16,-16,-64,-16,16,16,-16,16,16,16,16,16,16,-16,-16,-16,16,16,-16,16,16,16,-16,-16,16,16,-16,-16,-16,-16,16,16,16,-16,-16,-16,64,-16,-64,-16,-16,-16,-16,-16,16,-64,-16,-16,16,-16,-16,16,16,-16,16,16,16,-16,-16,16,16,-16,64,-64,16,64,-16,16,16,-16,-16,16,16,64,16,-16,-16,-16,16,-16,-16,16,-16,-16,-16,-16,16,16,16,-16,-16,-16,16,16,16,16,-16,-64,-16,-16,-16,-16,-16,16,-16,16,-16,-16,-16,-16,-16,64,-16,-16,-16,64,16,-64,16,16,-64,-16,16,16,-16,16,-16]
[-16,16,16,16,16,-16,16,16,16,-16,-16,16,16,-16,16,16,16,16,16,16,-16,-16,-16,16,-16,16,-64,-16,16,16,16,-16,-16,16,-16,16,16,16,16,-16,-16,16,-64,-16,16,16,-16,16,-16,-16,-16,16,-16,-16,-16,-16,-16,16,-16,16,-16,-16,16,-16,-64,16,-16,-16,16,16,-16,-16,16,16,16,16,16,-16,16,16,-16,-16,16,-16,16,-16,16,-16,16,-16,16,-16,-16,-16,16,16,16,-16,-16,16,16,-16,-16,16,16,16,64,-16,-16,-16,-16,16,16,16,16,-16,-16,16,-64,16,16,-16,-16,-16,-16,-16,-16,16]
[16,-16,-16,-16,-16,-16,16,16,-16,16,16,16,-16,16,-16,16,-16,-16,16,-16,16,16,16,-16,16,-16,16,16,16,-16,-16,16,16,-16,16,-16,-16,16,-16,16,-16,-16,-16,16,-16,-16,-16,-16,16,16,16,-16,16,16,16,16,-16,16,16,-16,16,16,16,16,-16,-16,16,16,16,-16,16,-16,-16,-16,16,16,-16,-16,-16,-16,16,16,16,-16,-16,16,-16,16,-16,16,16,16,-64,-16,-16,-16,16,16,-16,-16,16,16,16,16,-16,-16,-16,16,-16,-16,16,-16,64,16,-16,-16,16,16,-16,-16,16,-16,-16,16,16,-16,16,-16]
[16,-16,-16,-16,16,16,-16,-16,-16,-16,16,16,16,16,16,16,-16,-16,16,-16,16,-16,16,16,16,16,16,-16,-16,-64,16,-16,16,-16,16,16,16,16,-16,-16,16,-16,-16,16,16,-16,16,-64,-16,16,16,16,16,-16,16,64,16,16,16,-16,16,16,-16,16,-16,16,16,-16,-16,16,16,-16,16,-16,16,-16,-16,-16,-16,16,16,16,-16,-16,16,16,-16,16,16,-16,16,-16,-16,-16,16,-16,16,16,-16,-16,16,-16,16,-16,-16,16,16,16,-16,-16,16,16,16,16,-16,16,16,16,-16,16,16,16,-16,16,16,-16,16,16]
[16,-16,-16,-16,-16,16,16,-16,-16,16,16,-16,16,16,16,16,-16,-16,16,-16,16,16,16,-16,16,16,16,16,-16,-16,-64,16,16,16,16,16,-16,-16,-16,16,16,16,16,16,-16,16,-16,-16,16,16,16,-16,-16,16,16,16,-16,16,64,-16,-16,16,16,16,-16,16,-16,-16,16,-16,16,-16,-16,-16,-16,-16,-16,-16,-16,-16,16,16,16,16,-16,16,16,16,-16,16,-16,16,-16,16,-16,-16,16,16,16,16,-16,16,16,-16,16,-16,-16,-16,16,16,-16,16,16,16,-16,16,-16,16,-16,-16,-16,16,-16,16,16,-16,16,-16]
[16,16,16,16,16,16,16,-16,16,16,16,-16,16,-16,-16,-16,16,16,16,16,16,-16,16,16,16,16,16,16,16,16,16,16,-16,16,-16,-16,16,16,16,-16,16,-16,-16,-16,16,16,16,16,-16,-16,16,-16,-16,-16,16,16,16,16,-16,16,16,16,16,16,16,16,16,16,16,16,-16,16,16,-16,-16,16,16,16,16,16,-16,16,16,16,16,16,16,-16,-16,16,16,-16,16,-16,16,-16,-16,-16,16,16,-16,16,16,16,-16,16,16,-16,16,-16,-16,16,-16,16,16,-16,16,-16,16,-16,-16,-16,-16,16,-16,-16,-16,16]
[-16,-16,16,16,64,16,-16,16,-16,-64,-64,16,-16,-16,-16,-16,16,64,-16,16,-16,16,-16,16,-64,-16,-64,-16,16,16,16,16,-16,64,-16,16,16,16,16,-16,16,-16,-16,-16,16,-16,-16,16,-16,16,-16,-16,-16,16,-16,16,16,16,16,-16,-16,-16,16,16,-64,16,-16,-16,-16,16,-16,-16,16,-16,-16,16,16,-16,16,-16,-16,-16,-16,-16,16,-16,16,16,16,-16,64,16,16,16,16,64,-16,-16,-16,-16,16,-16,16,16,16,16,16,16,-16,16,16,16,16,-16,16,-16,-16,16,-64,-16,16,-16,-16,-16,-16,-16,-16,16]
[16,-16,16,16,-16,-16,-16,-16,-16,-16,16,16,16,16,-16,-16,16,-16,-16,16,16,16,16,16,-16,-16,-16,16,16,16,-16,-16,16,-16,-16,-16,-16,16,-16,16,16,16,16,16,-16,-16,16,-16,16,16,16,16,16,16,-16,-16,-16,16,16,16,16,16,-16,16,16,16,16,16,-16,16,16,16,-16,-16,16,-16,16,16,16,16,16,-16,16,16,16,16,16,16,-16,-16,16,-16,-16,16,16,16,-16,16,16,16,-16,16,16,-16,16,-16,16,16,16,16,-16,16,16,16,-16,16,16,-16,16,-16,16,16,16,-16,16,-16,16,16]
[-16,16,16,-16,16,16,16,-16,16,16,-16,-16,16,64,16,16,16,-16,-16,-16,64,16,16,-64,64,16,64,-16,-16,16,16,16,16,16,16,-16,-16,16,16,16,-16,-16,16,16,16,-16,-16,-16,-16,16,-16,16,16,-16,16,-16,16,-16,16,16,16,-16,16,-16,-16,16,16,-16,16,-16,16,-16,16,16,-16,-16,16,-16,-16,16,64,-16,-16,-16,-16,16,16,16,-16,64,16,-16,-16,-16,-16,-16,-16,16,-16,16,16,16,-16,16,-16,16,16,-16,-16,-16,16,16,-16,-16,16,-16,-16,16,-16,-16,-16,16,16,64,-16,-16,16,-16]
[16,-16,-16,-16,-64,-64,-16,-16,-16,16,16,-16,-16,-16,-16,16,-64,-16,16,-64,16,16,16,-16,16,-16,16,-16,-16,-16,-16,16,-16,-16,16,-16,-16,-16,-16,16,-16,-16,16,16,-16,-16,16,16,16,16,-16,16,16,16,16,-16,16,-16,16,16,16,16,-16,-16,16,-16,-16,16,16,-16,16,16,-16,-16,16,16,16,16,-16,-16,-16,-16,-16,16,-16,16,-16,-16,-16,16,-64,-16,-16,-16,-16,-16,16,16,16,16,-16,16,16,16,-16,-64,-16,-16,-16,16,-16,-16,-16,16,-16,-16,16,-16,-16,-16,16,16,16,-16,-16,-16,16,-16]
[16,-16,-16,-16,16,16,16,16,16,16,16,-16,-16,16,16,16,-16,16,16,-16,-16,-16,16,-16,-16,16,-16,16,16,-16,16,16,-16,-16,-16,16,-16,-16,-16,-16,-16,16,16,-16,16,16,16,16,-16,16,-16,-16,16,-16,-16,16,16,16,-16,16,-16,16,-16,-16,-16,-16,16,16,16,16,16,-16,-16,-16,16,16,16,-16,-16,16,-16,16,-16,16,16,16,-16,-16,16,16,16,-16,-16,-16,16,-16,16,-16,16,16,16,16,16,-16,16,-16,16,16,-16,-16,-16,-16,-16,16,16,16,16,-16,-16,16,16,-16,16,-16,16,-16,-16,16]
[-16,-16,-64,16,-16,-16,-64,16,-16,16,-16,64,-64,-16,-64,-16,-64,-16,64,-16,-16,-16,-16,16,-16,-16,-16,-64,-16,-64,-64,-16,-16,16,-16,-64,-16,16,-64,-16,16,-16,-16,-16,-16,-16,-64,-64,-16,-64,-16,-16,16,16,-16,64,-16,16,-16,-16,16,16,-64,64,-16,-64,64,-16,-16,16,-16,-16,-16,-16,64,16,-64,-16,16,-16,-16,16,64,-16,-64,-16,-64,-64,16,-16,-16,16,16,-16,16,16,64,-64,-16,-16,16,-16,-16,-16,-16,16,-16,16,-16,16,-16,-64,64,-16,-64,-16,64,-16,-16,-16,64,-64,-16,-16,16,-16,-16,16]
[-16,-16,-16,-16,-16,16,-16,16,-16,16,64,64,16,64,16,16,-16,-16,16,16,-16,16,16,-16,16,16,16,-16,-16,-64,-16,16,16,-64,-16,16,16,16,-16,-16,-16,-16,-16,-16,-16,-16,16,-64,-16,16,-16,-16,16,-16,64,16,16,16,16,-16,16,64,-16,16,-64,-16,16,16,16,16,-16,-16,16,-16,16,-16,-64,-16,-16,16,64,-16,16,16,-16,-16,-16,16,-64,16,-16,16,-16,16,16,-16,16,16,-16,16,-16,-16,16,-64,-16,16,-16,16,16,16,16,-16,16,-16,-64,16,16,16,-16,-16,16,-16,-16,64,64,-16,16,16]
[16,-16,16,-16,-16,-16,16,-16,16,16,-16,-16,16,16,-16,-16,16,-16,16,-16,16,16,16,16,16,-16,-16,16,-16,16,16,16,16,16,-16,-16,16,-16,-16,16,16,-16,-16,16,16,16,-16,16,-16,-16,-16,-16,16,-16,16,16,16,-16,16,16,16,16,16,-16,16,16,16,16,16,16,-16,16,16,16,-16,-16,16,-16,16,-16,16,16,-16,16,16,16,16,16,-16,16,16,16,16,16,-16,-16,16,16,16,-16,16,16,-16,16,16,16,16,-16,-16,-16,16,16,16,16,16,16,16,16,16,16,16,16,16,16,-16,16,16,16]
[16,16,-64,-16,-16,-16,-16,16,-16,16,16,16,16,16,-16,-16,-64,-16,16,-16,16,16,16,-16,64,16,16,-16,-16,-16,-64,64,-16,-16,16,-16,16,-16,-64,-16,-16,-16,-16,16,-64,-16,-16,-16,-16,16,-16,-16,16,-16,16,16,-16,-16,64,-16,16,16,-16,-16,-16,-16,16,16,-16,16,16,-16,-16,-16,16,16,-16,16,-16,-16,16,16,16,-16,-64,16,-16,-16,-16,-16,-16,-16,-16,-16,-16,-16,16,16,16,-16,-16,16,16,-16,16,-16,-16,16,-16,16,-16,-16,-16,16,-16,16,16,16,-16,-16,64,16,16,16,-16,-16,-16,-16]
[16,16,16,16,-16,-16,64,-16,-16,-16,16,16,16,-16,16,16,16,16,-16,-16,16,16,-16,-16,-16,-16,-16,16,16,16,16,16,16,-16,16,64,-16,-16,64,-16,-16,-16,-16,-16,16,-16,64,16,16,16,-16,16,-16,16,16,16,-16,-16,16,16,16,-16,16,-16,-16,16,-16,-16,16,-64,64,-16,16,16,-16,-16,16,-16,-16,16,16,-16,16,16,16,-16,16,16,16,16,16,16,-16,-16,-16,16,-16,16,-16,-16,-16,16,-16,64,-16,16,16,16,16,-16,16,16,-16,16,16,16,16,16,-16,16,-16,16,-16,16,-16,-16,16,-16]
[16,-16,-16,-16,-16,-16,16,16,16,-16,16,16,16,16,16,16,-16,16,16,16,16,16,16,-16,16,-16,16,-16,16,16,-16,16,16,-16,-16,64,-16,16,16,-16,-16,16,16,-16,-16,-16,16,16,-16,16,16,-16,16,16,16,16,-16,-16,16,-16,16,16,-16,16,-16,16,16,-16,16,-64,16,-16,16,-16,16,16,-16,-16,-16,16,16,-16,16,16,16,-16,-16,-16,16,16,16,16,-16,16,-16,16,-16,16,-16,-16,-16,16,-16,-16,16,-16,-16,-16,16,16,-16,16,16,16,16,16,16,16,16,16,-16,16,-16,16,16,16,16,-64]
[-16,16,-16,16,16,16,64,16,16,16,16,-16,16,16,16,16,16,-16,-16,16,-16,16,16,-16,-16,16,-16,16,-16,-16,16,16,-16,-16,16,-16,16,-16,16,16,-16,16,16,-16,-16,16,-16,16,16,16,-16,-16,-16,16,-64,-16,-16,-16,16,16,16,16,-16,-16,16,64,16,-16,-16,16,16,16,16,16,-16,-16,16,-16,16,-16,-16,-16,-16,16,16,16,16,16,-16,16,-16,16,-16,16,16,-16,-16,16,16,-16,-16,16,16,16,-16,16,16,16,-16,16,16,16,-16,16,16,-16,16,-16,16,16,-16,64,16,-16,-16,-16,16,-16]
[16,-16,64,16,16,16,64,-16,16,-16,16,16,16,16,16,16,64,16,-16,16,16,16,-16,-64,-16,-16,16,16,16,64,64,-16,64,-16,-16,16,-16,-16,64,16,-16,16,16,-16,16,-16,16,16,16,16,-16,-16,-16,-16,64,-16,-64,-16,16,16,16,-16,16,-16,-16,16,-16,16,-16,-64,16,-64,16,16,-16,16,64,-16,16,16,64,16,-16,-16,16,-16,64,16,16,-16,64,-16,-16,16,-16,16,-16,16,-16,16,16,16,16,64,16,16,64,16,-16,16,16,64,-16,-16,64,16,-16,-16,-16,-16,-16,16,-16,16,-16,16,64,-16]
[16,-16,-64,-16,-16,-16,-16,-16,-16,16,16,-16,-16,16,-16,16,-16,-16,16,-64,64,-16,16,-16,16,-16,16,-16,-16,-16,-16,16,16,-16,-16,16,-16,16,-16,-16,-16,-16,-16,16,-16,16,-16,16,-16,16,16,-16,16,16,16,-16,-16,-16,16,-16,16,16,16,16,-16,16,16,-16,-16,-16,16,-16,-16,16,16,16,-16,-16,-64,16,16,-16,16,16,-16,16,16,16,-16,16,-16,-16,-64,-16,-16,-16,-16,16,-16,16,-16,16,16,-16,16,-16,-16,16,16,-16,16,16,16,-16,16,16,16,-16,-16,16,-16,16,-16,16,16,-16,16,-64]
[-16,-16,16,16,-16,-16,-16,-16,-16,16,16,16,16,16,16,16,-16,16,16,16,16,-16,16,16,16,16,-16,16,-16,16,-16,16,16,16,-16,16,16,16,-16,16,16,16,16,16,16,-16,16,-16,16,16,16,-16,16,-16,-16,16,16,16,-16,-16,-16,16,16,16,16,16,16,-16,16,-16,-16,-16,-16,-16,16,-16,-16,16,-16,16,16,-16,16,16,-16,-16,16,-16,-16,-16,16,16,16,16,16,-16,16,16,16,-16,16,16,-16,-16,-16,16,-16,-16,16,-16,-16,16,16,16,-16,-16,16,-16,16,16,16,-16,16,16,-16,16,16,16]
[16,-16,-16,16,-16,-16,-16,16,-16,16,-16,-16,16,-16,16,-16,-16,16,-16,16,-16,16,-16,-16,-16,16,16,16,16,16,-16,-16,-16,16,-16,-16,-16,-16,-16,16,-16,-16,16,-16,16,-16,-16,16,16,16,16,16,-16,-16,-16,16,-16,-16,16,-16,16,-16,-16,-16,-16,-16,16,-16,-16,-16,16,-16,-16,-16,16,-16,16,-16,16,16,-16,16,-16,-16,16,-16,16,16,-16,-16,16,16,16,16,-16,-16,-16,-16,-16,-16,16,16,16,-16,-16,16,-16,16,-16,-16,16,-16,-16,16,-16,-16,-16,16,16,16,-16,-16,-16,16,16,-16,-16,-16]
[-16,16,64,16,16,16,16,16,16,16,16,-16,16,16,16,16,64,64,-16,-64,-16,-16,16,-16,16,-16,-16,16,-16,16,64,-16,-16,-16,-16,16,-64,-16,64,16,-16,16,16,-16,64,16,16,16,-16,16,16,-16,-16,-16,-16,16,16,-16,-16,-16,16,-16,64,-16,-16,64,-16,16,-16,-16,16,-16,16,16,-16,16,16,-16,16,16,-16,16,-16,-16,16,-16,16,16,16,-16,16,16,-16,-16,16,-16,-16,16,16,16,16,16,-16,16,16,16,16,16,16,-16,16,16,-16,-16,64,16,-16,16,16,-16,-16,-16,16,16,-16,16,-16,-16]
[16,16,-16,-16,16,16,64,-16,-16,-16,64,-16,16,16,16,16,16,-16,-16,16,16,16,16,-16,16,-16,16,16,16,16,16,-16,64,-16,-16,64,-64,-16,-16,-16,-16,16,16,16,16,16,-16,16,-16,64,-16,16,-16,16,16,16,-16,-16,16,-16,16,-16,-16,-16,-16,-16,16,16,-16,-64,16,-16,16,-16,-16,-16,-16,-16,-16,16,64,-16,-16,16,-16,-16,16,16,-16,-16,-16,16,-16,16,-16,-16,16,16,16,16,-16,64,16,16,-16,-16,-16,16,16,16,64,16,-16,16,16,16,-16,16,-16,16,-16,16,16,16,-16,-16,16,-16]
[16,16,16,-16,-16,16,64,16,16,-16,64,-16,16,16,16,-16,16,-16,-16,16,16,64,-16,-64,-16,16,16,16,16,16,-16,16,64,-16,-16,64,-64,-16,16,-16,16,-16,16,16,-16,-16,16,16,-16,64,16,16,-16,16,16,-16,-16,16,64,16,16,16,16,-16,-16,16,-16,-16,16,-64,64,-16,16,-16,-16,16,-16,-16,-16,-16,16,16,-16,16,-16,-16,16,64,-16,-16,-16,-16,-64,16,-16,-16,-16,64,-16,16,-16,16,-16,16,16,-16,16,16,-16,16,16,16,-16,-16,16,16,-16,-16,16,16,-16,16,-16,16,16,16,64,-64]
[16,-16,16,-16,-16,16,64,16,-16,-16,64,-16,16,-16,16,16,16,16,-16,16,16,64,-16,-64,-16,-16,16,16,16,16,16,16,64,-16,16,64,-64,-16,16,-16,16,16,16,16,16,-16,16,16,-16,16,16,-16,-16,16,16,-16,-16,-16,64,16,-16,16,16,16,-16,16,-16,16,16,-64,64,-16,16,-16,-16,-16,-16,16,-16,16,64,-16,16,16,16,-16,-16,64,-16,-16,16,-16,-64,16,-64,-16,-16,64,16,-16,-16,64,-16,16,-16,-16,16,16,-16,16,16,16,-16,-16,16,16,-16,-16,-16,-16,-16,16,16,16,-16,-16,16,-64]
[16,-16,16,16,-16,16,64,-16,16,64,16,16,16,16,-16,16,-16,-16,16,16,16,16,16,16,16,64,-16,16,-16,-16,16,16,-16,16,-16,16,-16,16,16,16,16,16,16,16,-16,-16,16,16,-16,16,-16,-16,16,16,16,16,-16,-16,16,16,16,-16,-16,16,16,16,16,-16,16,16,16,-16,16,16,16,-16,16,-16,16,16,16,16,-16,64,16,16,16,16,16,64,16,-16,16,-16,16,-16,-16,16,16,16,-16,64,-16,16,-16,-16,16,16,16,16,16,-16,16,16,16,16,16,-16,16,16,16,16,16,16,16,16,16,16]
[-16,16,-16,16,-16,16,-16,16,-16,16,16,-16,16,-16,16,-16,16,-16,16,16,-16,-16,16,-16,-16,-16,-16,-16,16,16,-16,16,-16,16,-16,16,-16,16,-16,16,-16,-16,16,16,16,-16,16,-16,-16,16,16,-16,-16,-16,-16,-16,16,16,16,16,-16,-16,16,16,16,-16,16,16,16,16,16,-16,-16,-16,-16,-16,-16,16,16,-16,-16,16,-16,16,-16,-16,-16,16,16,-16,16,16,16,16,-16,-16,16,16,-16,16,16,16,-16,-16,16,-16,16,16,-16,-16,-16,16,16,-16,16,-16,-16,-16,16,-16,16,-16,-16,16,16,-16,16,16]
[-16,-16,16,64,64,-16,-16,16,16,-16,-64,16,-16,-16,-16,-16,16,64,16,-16,-64,-16,-16,16,-64,-16,-64,16,-16,-16,16,-16,-64,64,16,-16,16,16,16,-16,-16,-16,-16,-16,64,16,16,16,-16,-16,16,16,16,-16,-16,16,-16,-16,-16,16,-16,-16,16,16,-64,16,-16,16,16,16,-64,-16,16,-16,16,-16,16,-16,16,-16,-64,16,16,-16,16,-16,-16,-16,16,-16,16,-16,16,16,64,64,16,-64,-16,-16,-16,-16,-16,16,16,16,64,16,16,-16,-16,16,-16,-16,16,-16,-16,16,-16,-16,16,-64,-16,-16,-16,-16,-64,16]
[-16,16,16,-16,-16,-16,16,-16,-16,16,-16,-16,16,16,16,16,16,16,-64,-16,16,16,16,-64,-16,-16,16,16,-16,64,16,-16,16,16,-16,16,-64,-16,16,-16,16,16,16,-16,16,16,16,16,-16,16,16,16,16,16,16,-16,16,-16,-16,-16,16,-16,16,16,-16,64,16,16,-16,-64,16,-16,64,-16,-16,-16,16,-16,-16,16,-16,16,-16,16,16,16,16,16,16,16,16,16,-64,16,-16,-16,-16,16,-16,-16,16,16,-16,16,-16,16,64,16,-16,16,16,64,16,16,16,-16,-16,-16,-16,-16,-16,-16,16,64,-16,16,16,-16]
[16,16,-16,-16,-16,16,64,-16,16,16,16,16,16,16,16,16,-16,-16,-16,16,-16,16,16,-16,16,16,16,16,16,-16,-16,16,64,-16,-16,64,-64,16,-16,16,16,-16,16,16,-16,-16,-16,-16,-16,64,-16,-16,-16,16,16,16,-16,16,64,-16,-16,16,-16,16,-16,16,16,-16,-16,-64,64,-16,16,16,16,16,-16,16,-16,16,16,-16,16,16,16,-16,-16,64,-16,16,-16,-16,-16,-16,-16,-16,16,64,-16,-16,-16,64,-16,-16,-16,-16,-16,-16,-16,-16,16,-16,16,-16,-16,16,16,-16,-16,16,-16,16,16,16,16,16,16,-16]
[16,16,-16,-16,-16,16,16,-16,16,16,-16,16,16,16,-16,16,-16,-16,-16,-16,16,16,16,-16,16,64,16,-16,-16,-16,16,16,16,-16,-16,16,-16,16,16,-16,16,-16,-16,16,-16,16,-16,-16,-16,16,16,-16,16,16,16,-16,16,-16,16,-16,64,64,-16,16,-16,-16,16,-16,16,-16,16,-16,-16,-16,16,-16,-16,-16,-16,-16,16,-16,16,-16,-16,16,-16,16,-16,64,-16,-16,-16,16,-16,-16,16,16,-16,-16,-16,16,16,-16,16,-16,-16,-16,16,-16,16,16,64,-16,16,16,16,-16,-16,16,16,-16,-16,64,16,16,16,-16]
[16,16,16,16,16,-16,64,-16,16,-16,64,16,16,-16,-16,16,16,16,-16,16,16,16,-16,-16,16,-16,-16,-16,-16,16,16,-16,64,-16,16,64,-16,-16,16,16,-16,-16,-16,-16,16,-16,16,16,16,16,-16,-16,-16,16,16,16,-16,16,64,-16,16,16,16,-16,16,16,-16,-16,16,-16,64,-16,16,-16,-16,16,16,-16,-16,-16,64,-16,-16,-16,16,-16,16,16,-16,-16,-16,-16,-64,-16,-16,-16,-16,64,16,-16,-16,64,16,16,-16,-16,16,-16,-16,-16,16,16,16,-16,16,64,-16,-16,-16,16,-16,64,-16,16,-16,16,16,-64]
[16,-16,16,16,16,16,16,16,-16,-16,-16,-16,16,16,16,16,-16,-16,-16,16,-16,-16,-16,-16,-16,16,64,16,-16,16,64,-16,-64,16,16,-16,16,16,16,16,16,-16,16,-16,16,-16,16,16,16,-16,-16,-16,64,-16,-16,-16,-16,-16,-16,16,-16,-16,-16,-16,16,16,-16,16,-16,16,-16,-16,-16,-16,-16,16,16,16,64,16,16,16,-16,16,16,16,16,-16,16,-16,-16,-16,-16,16,16,-16,-16,-16,16,-16,-16,-64,16,16,-16,16,16,-16,-16,-16,16,-16,-16,-16,16,-16,16,-16,16,-16,-16,16,16,-16,64,-16,16,16]
[16,16,16,-16,-16,16,16,-16,16,16,16,-16,-16,16,-16,16,16,-16,-16,16,64,16,16,-16,16,16,16,16,16,-16,16,64,16,16,16,16,16,16,16,-16,16,16,16,16,-16,-16,16,16,16,16,-16,16,-16,16,16,16,16,16,64,16,64,16,16,16,16,16,-16,-16,16,-16,16,16,16,-16,-16,16,-16,16,-16,-16,16,16,-16,16,16,16,-16,16,-16,16,16,-16,16,16,16,-16,16,16,16,-16,-16,16,16,16,-16,16,-16,-16,16,-16,16,64,-16,-16,-16,64,-16,16,16,16,-16,16,16,16,16,-16,16,16]
[16,-16,16,-16,-16,16,64,-16,16,-16,64,-16,16,16,16,16,16,16,16,16,16,16,-16,-64,-16,16,16,16,-16,16,16,-16,16,-16,-16,16,-16,-16,-16,-16,-16,-16,16,16,16,-16,16,16,16,64,16,16,-16,16,16,-16,-16,-16,16,-16,-16,-16,16,16,-16,16,-16,-16,-16,-64,64,-16,16,16,16,-16,-16,-16,-16,16,16,16,16,-16,16,-16,16,16,-16,16,-16,-16,-64,16,-16,-16,16,16,-16,-16,-16,16,16,16,-16,16,16,-16,-16,16,16,16,-16,-16,16,16,16,-16,-16,16,-16,16,-16,16,16,16,16,-64]
[-16,16,16,16,16,16,-16,16,-16,16,-16,-16,16,-16,16,16,16,16,16,16,16,-16,16,16,-16,-16,16,-16,-16,-16,16,-16,-16,16,16,16,-16,16,16,16,16,-16,-16,-16,16,16,16,16,-16,-16,16,16,16,16,-16,-16,-16,16,-16,16,-16,16,-16,-16,16,-16,16,-16,16,-16,-16,-16,16,16,16,16,16,-16,-16,16,-16,-16,-16,16,16,-16,16,16,-16,-16,16,-16,-16,-16,-16,16,-16,-16,16,16,16,-16,-16,-16,-16,16,16,16,-16,16,-16,16,-16,16,16,16,16,16,16,16,16,16,-16,16,16,-16,16,-16]
[16,-16,16,16,16,-16,16,-16,-16,16,16,16,16,-16,16,16,16,-16,-16,-16,16,-16,-16,-16,16,16,-16,64,-16,16,16,-16,16,-16,-16,16,16,-16,16,16,-16,16,16,16,16,-16,64,16,16,16,-16,-16,-16,-16,-16,16,16,-16,16,16,16,16,16,16,16,16,-16,16,-16,16,16,16,-16,16,16,-16,16,16,16,16,16,-16,-16,16,16,16,16,16,16,16,16,16,16,-16,16,-16,-16,16,-16,-16,-16,16,16,16,16,64,16,16,-16,16,16,-16,16,16,16,16,16,-16,-16,16,-16,16,16,16,16,16,-16,-16]
[16,-16,-16,-16,16,16,16,-16,16,-16,-16,16,16,16,16,16,-16,-16,16,16,16,-16,16,-16,-16,16,-16,16,-16,-16,16,16,16,-16,-16,-16,-16,16,16,16,-16,16,16,16,16,-16,-16,16,-16,16,16,-16,16,-16,16,-16,16,-16,-16,16,-16,16,16,16,-16,16,16,16,-16,-16,16,16,16,-16,-16,-16,-16,16,16,16,16,-16,16,-16,-16,16,-16,16,16,-16,-16,-16,16,-16,16,16,-16,16,-16,-16,16,16,-16,16,-16,16,-16,-16,16,16,16,16,-16,-16,16,16,16,-16,-16,-16,16,16,16,16,16,-16,16,16]
[16,16,16,-16,16,-16,64,16,16,-16,16,16,16,16,-16,-16,-16,16,-16,-16,-16,16,-16,-16,16,-16,-16,-16,16,16,16,16,16,-16,-16,16,-16,-16,-16,16,-16,-16,-16,16,16,16,16,16,16,16,-16,-16,16,16,16,-16,-16,-16,16,16,16,-16,-16,16,16,-16,-16,16,16,-16,16,-16,16,16,-16,-16,-16,-16,-16,-16,64,-16,-16,-16,16,-16,16,-16,16,16,16,16,-16,16,-16,16,-16,16,-16,16,16,16,16,16,16,16,16,-16,-16,-16,16,16,-16,-16,16,16,-16,16,-16,16,-16,16,-16,16,-16,16,16,-16]
[64,16,-64,-64,-16,-16,16,16,16,16,16,16,-16,16,-16,16,-16,-16,64,-16,16,16,16,-16,64,16,16,-16,-16,-64,-64,16,16,-16,-16,-16,-16,16,-64,-16,-16,-16,-16,16,-16,16,-16,-16,-16,16,-16,-16,16,-16,16,16,16,-16,64,-16,64,16,-64,16,-16,-16,64,16,-16,-16,16,-16,-16,16,64,16,-64,-16,-64,16,16,16,64,16,-64,64,-16,16,16,-16,-16,16,-16,-16,-16,-16,64,16,-16,16,-16,16,-16,-16,-16,-16,-64,16,16,16,16,-16,64,-16,-64,64,16,16,-64,16,64,64,-16,16,64,-16,-16,-16]
[-16,16,-16,-16,16,-16,16,-16,16,16,16,16,16,-16,-16,-16,16,16,16,16,-16,-16,-16,-16,16,-16,-16,-16,16,16,16,-16,-16,16,-16,-16,16,16,-16,-16,-16,-16,-16,-16,-16,-16,16,16,-16,16,-16,16,16,-16,-16,-16,16,16,-16,16,-16,16,16,-16,16,16,16,16,16,16,-16,16,-16,16,16,16,-16,16,16,-16,-16,-16,16,-16,-16,-16,16,-16,16,16,16,16,-16,-16,-16,16,-16,-16,-16,-16,-16,-16,-16,16,16,-16,16,16,16,-16,16,16,16,-16,-16,16,16,16,-16,-16,-16,16,-16,-16,16,-16,16,16]
[16,16,-16,-16,-64,-64,-16,-16,16,64,16,16,-16,16,-16,-16,-16,-16,16,-64,16,-16,16,-16,16,-16,16,-16,16,-16,-64,16,16,-16,16,-16,-16,16,-16,16,16,-16,-16,64,-16,-16,-16,16,-16,16,16,16,16,-16,16,16,-16,16,16,-16,16,16,16,16,-16,-16,16,-16,-16,-64,16,-16,-16,-16,16,16,-16,-16,-16,16,16,-16,16,-16,-16,16,-16,-16,-64,16,-16,16,-64,-16,-16,-16,16,16,-16,-16,16,16,-16,-16,-16,-16,-16,16,-16,-16,16,-16,16,16,-16,16,16,-16,-16,-16,16,16,-16,16,16,-16,16,-64]
[-16,-16,-16,16,16,-16,-16,-16,-16,16,-16,16,-16,-64,-64,-16,-16,-16,16,-16,-16,-16,-16,16,-16,-16,-16,-16,16,-16,-16,-16,-16,16,-16,-64,-16,16,-16,16,16,-16,-16,16,-16,16,-16,-16,-16,-64,-16,-16,16,16,-16,16,16,16,-16,16,16,16,-16,16,-16,-16,16,16,16,-16,-16,-16,-16,-16,16,16,-16,-16,16,-16,-16,-16,16,-64,-16,16,-16,-16,16,-16,-16,-16,16,-16,-16,16,16,-16,-16,16,16,-16,16,-16,-16,16,-16,16,-16,16,-16,-64,16,16,-16,-16,16,-16,-16,-16,16,-16,16,-16,-16,16,-16,-16]
[16,16,-16,-16,16,16,16,16,-16,16,16,16,16,16,16,16,-16,-16,16,16,16,-16,16,-16,16,16,16,16,16,-16,-16,16,16,-16,16,16,-16,16,-16,16,-16,-16,16,16,16,16,-16,-16,16,64,-16,16,-16,-16,16,16,-16,16,16,16,16,16,-16,16,-16,16,16,16,16,-64,16,16,-16,-16,16,-16,16,16,-16,16,16,-16,16,16,16,-16,-16,64,-64,-16,-16,-16,-16,-16,-16,16,16,16,16,-16,-16,16,-16,-16,-16,-16,-16,16,-16,-16,16,16,16,-16,-16,16,16,16,16,-16,16,16,-16,16,16,16,16,-16]
[-16,16,-16,-16,-16,-64,-16,-16,-16,16,16,16,-16,-16,-16,-16,-16,16,64,-16,-16,16,-16,16,-16,-16,16,-16,16,-16,-16,16,-16,16,-16,-64,16,64,-16,-16,-16,-16,-16,16,16,-16,-64,-16,-16,-16,-16,-16,64,-16,-16,16,16,16,-16,-16,16,64,-16,64,-64,16,64,16,-16,-16,-16,-16,-16,16,16,-16,-16,-16,16,16,-16,-16,64,-16,-16,16,-16,16,16,16,-16,16,-16,-16,16,16,64,-64,-16,16,-16,-16,-16,-16,-16,16,-16,-16,-16,16,-16,-64,64,16,-16,-16,64,16,-64,16,16,-64,-16,-16,16,-16,16,16]
[-16,16,16,16,16,16,16,16,16,-64,-16,-16,-16,-16,-16,-16,16,16,-16,16,-16,-16,-64,-16,-64,-16,-16,16,-16,16,16,-16,-16,16,16,16,-16,-16,16,-16,-16,16,-16,16,16,16,16,16,-16,16,-16,-16,-16,-16,-16,-16,-16,-16,-16,16,-16,-16,16,-16,-16,16,-16,16,-16,16,-16,-16,16,-16,-16,-16,16,16,16,-16,-16,16,-16,-16,16,-16,16,16,16,-16,16,-16,16,-16,16,16,-16,-16,-16,-16,-16,16,-16,16,-16,16,16,16,16,-16,16,16,-16,-16,16,16,-16,-16,-16,-16,-16,-16,-16,16,-16,16,-16,16]
[16,16,-16,16,16,16,16,16,16,16,16,16,-16,16,64,16,16,-16,16,16,16,16,64,16,16,16,-16,-16,16,-16,-16,16,16,-16,-16,16,-16,16,-16,-16,-16,-16,-16,16,-16,16,-16,-16,-16,16,-16,16,16,-16,16,64,-16,16,-16,-16,16,16,-16,16,-16,16,16,16,-16,-16,-16,-16,16,16,16,-16,-16,-16,-16,-16,64,-16,16,16,-16,16,-16,16,-16,-16,-16,16,-16,16,-16,-16,16,16,-16,16,16,-16,16,-64,16,16,16,16,-16,-16,16,-16,16,-16,-16,16,16,-16,-16,-16,16,16,-16,16,16,-16,16,16]
[16,-16,16,-16,-16,16,16,-16,16,-16,16,16,16,-16,16,16,16,16,-16,16,16,-16,16,-16,16,-16,16,16,16,16,16,-16,64,-16,-16,16,-16,16,16,-16,-16,-16,16,16,-16,16,16,16,-16,16,-16,-16,-16,-16,16,16,16,-16,16,16,16,-16,16,16,16,-16,16,-16,16,-16,16,-16,16,-16,16,-16,16,16,16,16,16,16,-16,16,16,16,16,16,-16,16,16,16,-16,-16,-16,16,-16,64,-16,-16,16,16,-16,16,-16,16,-16,16,-16,-16,-16,16,16,16,16,16,-16,16,16,16,16,-16,-16,16,16,16,16,-16]
[16,16,16,-16,-16,16,64,-16,16,-16,64,-16,64,16,16,16,-16,-16,16,16,16,16,16,-64,-16,-16,16,16,-16,16,-16,16,64,-16,16,64,-64,16,-16,16,16,16,16,16,-16,-16,16,-16,-16,64,-16,-16,-16,16,16,16,-16,-16,64,-16,16,16,16,-16,16,16,-16,-16,-16,-64,64,16,16,16,16,-16,16,-16,-16,16,16,16,16,16,16,-16,-16,64,-16,-16,16,-16,-64,-16,-64,-16,16,64,16,16,-16,16,-16,-16,-16,-16,-16,-16,-16,16,64,16,-16,-16,-16,16,-16,-16,-16,-16,16,16,16,16,16,16,16,-64]
[16,16,16,-16,-16,-16,16,-16,-16,-16,64,-16,64,16,16,16,16,-16,-16,16,-16,16,16,-16,-16,16,16,16,16,16,16,16,64,-16,16,16,-16,16,-16,16,-16,16,16,16,-16,16,16,-16,-16,16,16,-16,16,-16,16,16,-16,-16,64,-16,16,-16,-16,-16,16,-16,-16,-16,-16,-64,16,-16,16,-16,-16,16,16,-16,-16,-16,16,-16,-16,16,16,-16,-16,16,-16,16,16,-16,-16,16,-16,16,-16,16,-16,-16,16,64,-16,-16,16,-16,16,-16,16,16,16,16,-16,16,16,16,-16,-16,-16,-16,-16,16,-16,16,16,16,16,-64]
[-16,-16,16,16,64,16,16,16,-16,-16,-16,-16,-16,-16,-16,-16,16,64,-16,-16,-16,-16,-64,16,-16,-16,-64,-16,-16,16,16,-16,-16,64,-16,-16,16,-16,16,-16,-16,-16,-16,-16,64,16,16,16,16,-16,-16,16,16,-16,-16,-16,-16,16,-16,-16,-16,-16,64,-16,-16,16,-16,-16,-16,16,-16,-16,16,-16,-16,-16,16,-16,64,-16,-16,-16,-16,-16,16,-16,16,16,64,-16,64,16,16,-16,16,16,-16,-16,-16,16,-16,-16,16,16,16,16,64,16,-16,-16,-16,16,-16,16,16,16,-16,16,-16,16,-16,-16,-16,-16,-16,-16,-16,16]
[16,-16,16,16,16,16,-16,-16,-16,-16,16,16,-16,-16,16,-16,-16,16,-16,-16,16,16,-16,16,16,16,16,-16,-16,-16,16,16,16,-16,16,-16,16,-16,-16,-16,-16,16,16,-16,16,16,16,16,-16,16,16,-16,16,-16,16,-16,-16,16,16,16,16,16,16,16,16,16,-16,16,16,-16,-16,16,-16,-16,-16,16,16,16,-16,-16,16,16,16,-16,-16,16,16,16,-16,-16,16,-16,-16,-16,16,16,-16,16,-16,-16,16,16,-16,-16,-16,-16,16,16,-16,16,16,-16,16,16,16,16,16,-16,-16,16,-16,16,16,16,16,-16,16,-16]
[-16,16,-16,16,16,-16,16,-16,16,-16,16,-16,-16,-16,-16,-16,16,16,-16,16,16,16,-16,16,-16,16,-16,16,-16,-16,-16,16,16,-16,-16,16,-16,16,-16,-16,-16,-16,-16,16,16,-16,-16,16,-16,16,-16,-16,16,-16,-16,16,16,16,16,-16,16,-16,-16,-16,16,16,-16,-16,-16,16,-16,-16,-16,-16,16,16,16,-16,-16,-16,-16,16,-16,-16,-16,-16,16,-16,-16,16,-16,16,-16,16,-16,-16,-16,-16,-16,-16,-16,16,16,16,16,16,-16,-16,16,-16,-16,-16,16,-16,-16,16,-16,-16,16,-16,-16,16,-16,-16,-16,16,-16,16]
[-16,-16,16,16,16,16,16,16,16,16,16,-16,-16,-16,16,-16,16,16,-16,-16,-16,16,16,16,16,-16,-16,-16,16,16,16,-16,16,16,-16,16,16,-16,-16,-16,16,16,16,16,16,-16,16,-16,16,16,-16,16,16,16,-16,-16,16,16,16,-16,-16,-16,16,16,16,16,16,-16,16,16,-16,-16,-16,16,16,-16,16,-16,16,-16,-16,-16,-16,16,16,16,16,16,16,16,16,-16,16,16,16,16,-16,16,16,-16,16,16,16,16,-16,16,16,-16,-16,16,16,16,-16,16,16,16,-16,-16,-16,16,-16,-16,-16,16,-16,-16,16,16]
[16,16,16,-16,16,-16,16,16,-16,-16,16,-16,16,-16,-16,-16,16,-16,-16,-16,-16,16,16,-16,16,16,16,-16,-16,-16,16,-16,16,-16,-16,-16,-16,-16,16,16,-16,16,16,16,-16,-16,16,16,-16,16,16,16,-16,16,16,-16,16,16,16,-16,16,-16,16,-16,16,16,16,16,16,16,-16,-16,16,-16,-16,-16,-16,16,-16,-16,16,-16,-16,-16,-16,16,16,-16,-16,-16,-16,-16,-16,-16,-16,16,-16,16,-16,-16,-16,16,16,-16,16,-16,-16,-16,16,-16,16,16,16,16,16,16,-16,16,-16,16,16,16,16,16,16,-16,-16,16]
[-16,-16,-16,16,16,16,-16,16,16,-16,-16,16,-16,-16,-16,-16,-16,16,16,-16,-16,-16,16,16,-16,-16,-16,-16,-16,-16,16,-16,-16,16,16,-16,-16,16,16,-16,16,-16,-16,-16,16,16,16,-16,-16,-16,-16,16,16,16,-16,16,-16,16,-16,16,-16,16,-16,16,-16,16,16,16,16,16,-16,-16,-16,-16,16,16,16,-16,16,-16,-16,16,64,-16,-16,16,-16,-16,16,16,16,16,16,-16,16,16,16,-16,-16,16,-16,-16,-16,-16,16,16,16,-16,-16,-16,-16,-16,16,-16,16,-16,16,-16,-64,-16,16,-16,-16,16,16,-16,-16,16]
[-16,-16,-16,-16,16,-16,16,-16,16,16,-16,16,16,-16,-16,-16,-16,16,16,-16,-16,16,16,16,-16,16,-16,16,16,-16,-16,-16,-16,16,16,16,-16,16,16,-16,-16,-16,-16,16,16,16,-16,16,-16,16,-16,-16,16,-16,-16,16,16,16,-16,16,16,-16,16,16,-64,16,16,-16,-16,16,-16,-16,16,16,16,16,-16,-16,16,16,-16,-16,16,-16,-16,-16,-16,-16,16,-16,16,-16,-16,16,16,16,16,-16,-16,16,-16,-16,-16,16,16,16,-16,-16,-16,16,-16,16,16,-16,16,-16,16,-16,-16,16,16,-16,16,16,16,-16,-16,16]
[16,-16,-16,-16,-16,16,16,16,16,-16,16,-16,-16,16,-16,16,-16,16,16,16,16,-16,-16,16,16,16,-16,16,-16,-16,-16,16,64,-16,16,16,16,-16,-16,16,16,16,16,16,-16,-16,16,-16,16,16,-16,-16,16,16,64,16,-16,16,16,-16,-16,16,-16,16,-16,-16,16,-16,-16,-16,16,-16,16,-16,16,16,16,-16,-16,-16,16,-16,-16,16,16,16,-16,16,-64,16,-16,16,-16,-16,-16,-16,-16,16,16,-16,-16,16,16,-16,16,16,16,-16,-16,-16,16,16,16,-16,-16,16,16,16,-16,-16,16,16,-16,16,16,16,16,16]
[16,-16,16,-16,16,16,64,-16,-16,-16,-16,16,16,16,16,16,16,16,-16,16,16,16,-16,-64,16,16,16,16,16,16,16,16,16,-16,16,64,-64,-16,16,-16,-16,-16,-16,-16,16,-16,-16,16,16,64,16,-16,-16,-16,64,-16,16,-16,-16,16,16,16,16,16,-64,16,16,-16,-16,-16,16,-16,16,16,-16,16,16,-16,16,16,16,16,-16,-16,16,-16,-16,16,-16,64,16,-16,-16,16,-16,-16,-16,16,-16,-16,-16,16,-16,16,16,16,16,16,-16,16,16,16,16,-16,16,16,-16,-16,-16,16,-16,-16,-16,64,16,16,16,-16]
[16,-16,-16,16,16,-16,-16,-16,-16,16,16,-16,16,-16,-16,16,16,-16,16,-16,16,16,-16,-16,-16,16,-16,16,16,16,16,-16,16,-16,16,-16,16,16,16,-16,-16,-16,-16,16,16,-16,16,16,-16,16,16,-16,16,-16,-16,16,16,-16,16,16,-16,16,-16,16,16,64,16,-16,-16,16,16,16,16,-16,16,16,16,16,16,16,16,-16,-16,16,16,16,16,16,16,16,16,16,-16,-16,16,16,16,-16,16,-16,-16,16,-16,16,-16,16,16,-16,16,-16,-16,16,16,-16,16,-16,-16,16,16,-16,-16,16,-16,16,16,16,16,16]
[16,16,-16,-16,16,-16,-16,16,-16,16,16,16,-16,-16,-16,-16,-16,16,16,-16,-16,-16,16,16,16,-16,-16,-16,-16,-16,16,16,16,16,-16,-16,16,-16,16,-16,-16,16,-64,16,16,-16,-16,-16,16,16,-16,-16,-16,-16,16,16,16,-16,16,-16,16,16,16,-16,-16,16,16,-16,-16,-16,16,-16,-16,-16,16,16,-16,-16,16,16,-16,-16,16,-16,16,16,-16,16,16,-16,16,16,-16,16,16,16,16,-16,-16,-16,16,-16,-16,16,16,16,16,16,-16,-16,16,16,-16,-16,16,16,-16,-16,-16,16,-16,16,-16,-16,-16,-16,-16,-16]
[-16,-16,-16,-16,-16,16,64,-16,16,-16,16,16,16,-16,16,16,-16,-16,16,-16,16,16,16,-16,-16,-16,-16,16,-16,16,-16,-16,16,-16,16,16,-64,-16,-16,-16,-16,-16,-16,16,16,-16,-16,16,-16,16,-16,-16,-16,16,16,-16,-16,16,16,16,-16,16,-16,-16,-16,16,-16,-16,-16,-16,16,-16,-16,-16,16,16,-16,-16,-16,-16,16,16,16,16,-16,-16,-16,16,-16,16,-16,-16,-64,16,-16,16,-16,64,-16,-16,16,16,-16,16,16,-16,-16,-16,-16,16,16,-16,-16,-16,-16,-16,16,-16,-16,16,16,16,-16,16,-16,-16,16,-16]
[16,16,16,16,-16,16,16,16,16,16,16,16,16,64,16,16,-16,16,16,-16,16,-16,-16,16,16,16,-16,-16,16,-16,16,-16,16,-16,-16,16,-16,16,16,-16,-16,-16,-16,16,16,-16,16,16,-16,16,-16,-16,64,16,16,64,16,-16,-16,16,-16,16,16,16,-16,16,16,-16,-16,16,16,-16,-16,-16,16,16,16,-16,16,-16,16,-16,16,16,-16,16,-16,16,16,16,-16,16,-16,-16,16,16,16,16,16,16,-16,16,-16,-16,-16,-16,64,16,-16,16,16,16,16,-16,16,16,16,16,16,-16,16,16,-16,64,16,16,16,-16]
[16,-16,16,-16,-16,-16,16,16,-16,16,16,-16,16,-16,16,16,16,16,-16,-16,-16,-16,-16,16,16,-16,-16,16,-16,-16,16,-16,16,16,16,16,16,16,-16,-16,-16,-16,-64,-16,16,16,16,16,-16,16,-16,16,-16,-16,16,16,-16,16,16,-16,-16,-16,16,-16,-16,-16,-16,-16,-16,16,16,-16,16,16,-16,-16,-16,16,16,16,16,-16,-16,16,-16,16,16,16,16,-16,16,-16,-16,-16,16,16,-16,16,-16,-16,-16,16,-16,16,-16,16,16,-16,-16,16,16,16,-16,-16,-16,16,-16,-16,-16,16,16,16,-16,-16,-16,16,-16,16]
[16,-16,-16,-16,-16,16,16,16,-16,64,16,16,-16,64,64,16,-64,-16,16,16,-16,16,16,16,16,64,16,16,-16,-16,-16,64,16,16,-16,64,-16,64,-16,-16,-16,16,-16,16,-64,-16,-16,-64,16,16,-16,-16,16,16,64,-16,16,16,64,-16,16,64,-16,16,-16,-16,16,-16,16,64,16,-16,16,16,64,-16,16,16,-16,-16,16,-16,64,-16,-16,-16,-16,64,-16,64,-16,-16,16,16,16,-16,64,64,16,16,-16,16,16,-16,-16,-16,-64,-16,-16,16,16,-16,16,16,-64,16,16,-16,16,16,64,-16,-16,64,16,-16,-16,16]
[16,-16,16,-16,-16,-16,16,-16,-16,16,16,16,-16,-16,16,-16,16,16,16,-16,16,-16,16,-16,-16,-16,-16,-16,-16,16,16,16,16,16,-16,16,16,16,-16,16,16,-16,-16,16,16,-16,-16,-16,16,16,-16,-16,16,16,16,16,-16,-16,16,16,-16,-16,-16,16,-16,-16,16,-16,-16,-16,16,-16,16,-16,-16,16,-16,-16,16,16,16,-16,16,-16,-16,16,-16,16,16,16,-16,-16,16,16,16,-16,16,16,16,-16,16,-16,-16,16,16,-16,-16,-16,-16,-16,16,-16,16,-16,-16,-16,-16,-16,-16,-16,-16,16,16,16,16,-16,16,-16]
[16,16,16,16,16,-16,16,-16,16,16,-16,16,16,-16,16,-16,-16,-16,16,-16,16,16,16,-16,-16,-16,-16,16,-16,-16,16,-16,16,-16,16,-16,16,-16,16,16,-16,16,16,16,16,16,16,16,16,16,-16,16,-16,16,-16,-16,16,16,16,16,-16,16,-16,16,-16,16,-16,16,-16,-16,16,16,16,-16,-16,16,16,16,-16,16,16,-16,-16,16,-16,-16,16,16,-16,-16,-16,16,-16,-16,-16,-16,16,-16,-16,-16,16,-16,-16,-16,16,-16,-16,16,-16,-16,-16,16,16,-16,16,-16,16,-16,16,16,16,-16,16,-16,-16,16,-16,-16]
[16,-16,16,-16,16,16,16,16,-16,16,64,-16,16,16,16,-16,16,16,-16,16,-16,16,16,-16,-16,16,16,16,-16,-16,16,-16,16,-16,-16,16,-16,16,16,16,-16,-16,-16,16,16,16,64,16,16,16,16,-16,-16,16,16,16,-16,16,16,16,-16,16,16,16,16,16,-16,-16,-16,16,16,-16,16,16,-16,-16,16,-16,16,16,16,-16,16,16,16,16,-16,16,16,16,-16,-16,-64,16,-16,16,16,16,16,16,16,16,-16,16,16,-16,-16,-16,16,-16,16,16,16,-16,-16,16,16,16,-16,16,16,16,-16,-16,-16,16,-16,-16]
[-16,-16,16,16,16,16,16,16,-16,-16,16,16,-16,-16,16,-16,-16,16,-16,16,-16,16,-16,16,-16,-16,16,16,-16,16,16,-16,-16,16,16,-16,16,-16,-16,16,-16,16,16,-16,16,16,16,16,-16,-16,16,-16,-16,-16,-16,-16,-16,-16,-16,16,-16,-16,16,-16,-16,16,16,16,-16,16,-16,16,16,16,16,-16,16,16,-16,16,16,-16,-16,-16,-16,-16,16,-16,16,16,16,-16,16,-16,-16,16,-64,-16,-16,-16,-16,-16,-16,16,-16,16,16,-16,-16,-16,16,-16,-16,-16,16,-16,16,16,16,-16,-16,-16,-16,-16,16,-16,16,16]
[16,16,-16,-16,16,16,64,16,-16,16,16,-16,16,16,16,16,-16,16,16,16,16,-16,16,16,16,-16,16,16,16,16,16,16,64,16,-16,16,-16,16,16,16,16,16,-16,16,16,-16,-16,16,-16,16,16,16,-16,16,16,16,-16,-16,16,16,-16,16,16,16,-16,-16,-16,-16,16,16,64,-16,16,-16,-16,16,16,-16,-16,16,16,16,-16,16,-16,16,16,64,-16,16,-16,16,16,-16,-16,-16,16,64,-16,-16,-16,16,16,16,16,-16,16,16,-16,16,16,16,16,16,16,16,-16,-16,-16,-16,16,16,-16,16,16,16,16,16]
[16,16,16,16,16,-16,16,16,-16,-16,-16,-16,16,16,-16,16,16,16,-16,-16,16,-16,-16,16,-16,16,-16,16,-16,16,16,-16,16,16,-16,16,-16,-16,16,16,-16,-16,16,-16,16,-16,-16,16,16,16,-16,-16,16,16,-16,16,-16,16,-16,16,-16,-16,16,-16,-16,16,-16,16,-16,16,-16,-16,-16,-16,-16,-16,16,-16,16,-16,16,16,-16,16,-16,16,-16,-16,16,-16,16,-16,16,-16,16,16,-16,16,-16,16,-16,16,-16,16,-16,16,16,16,-16,16,16,16,-16,-16,16,16,-16,16,-16,-16,16,16,16,16,-16,16,-16,-16]
[16,16,16,-16,-16,16,16,16,-16,16,16,16,-16,16,16,16,16,-16,-16,-16,16,-16,-16,-16,16,-16,16,-16,16,-16,-16,16,16,-16,-16,16,-16,16,-16,-16,16,-16,-16,16,-16,16,-16,-16,-16,16,16,-16,-16,16,-16,16,16,-16,16,-16,16,-16,-16,-16,16,16,-16,-16,-16,-16,16,-16,16,-16,-16,-16,-16,-16,-16,16,16,-16,-16,16,-16,-16,-16,16,-16,16,16,16,-64,16,-16,16,-16,16,-16,-16,16,16,-16,-16,-16,-16,-16,-16,-16,16,-16,-16,16,16,16,16,-16,-16,-16,-16,16,16,-16,16,16,-16,-16,-64]
[16,-16,-16,16,16,-16,-16,-16,16,16,16,16,-16,16,16,16,16,16,-16,16,16,-16,-16,16,16,-16,-16,16,16,-16,-16,-16,-16,16,-16,16,-16,16,16,-16,16,16,-16,-16,-16,-16,16,16,16,-16,-16,-16,-16,16,16,-16,-16,16,16,-16,16,-16,16,-16,16,16,-16,-16,-16,-16,-16,16,16,-16,-16,-16,-16,16,16,16,16,-16,-16,16,16,16,-16,-16,-16,-16,16,16,-16,16,16,-16,16,16,-16,-16,-16,16,16,16,-16,-16,-16,-16,16,16,16,16,16,16,16,-16,-16,16,16,-16,-16,16,-16,-16,-16,16,16,16]
[16,-16,-16,-16,-64,16,16,-16,16,16,16,16,16,64,16,16,-16,16,64,16,-16,16,64,-16,16,16,16,16,-16,-16,-16,64,64,-16,16,16,-16,16,-16,-16,16,-16,-16,16,-64,16,-16,-16,16,16,-16,16,16,-16,16,16,-16,-16,16,-16,16,64,-16,16,16,-16,16,16,-16,16,16,-16,-16,-16,16,-16,-16,16,-64,-16,16,-16,64,16,-16,16,-16,16,-16,64,-64,16,-16,16,-16,-16,16,64,-16,16,-16,16,-16,-16,-16,-64,-64,-16,16,-16,16,-16,16,-16,-16,-16,64,-16,-16,16,64,-16,-16,64,16,-16,-16,-16]
[16,-16,16,16,16,-16,-16,16,16,-16,16,-16,-16,16,16,16,16,16,-16,16,16,16,-16,16,16,-16,16,-16,16,16,16,16,-16,16,16,16,16,16,16,-16,16,16,16,16,16,16,16,16,16,-16,-16,16,16,16,-16,-16,16,16,-16,-16,-16,16,-16,-16,-16,16,16,16,-16,-16,-16,16,-16,-16,16,-16,-16,16,-16,-16,16,16,16,-16,16,-16,-16,-16,-16,-16,-16,-16,16,-16,16,16,16,-16,-16,-16,16,-16,16,-16,16,-16,-16,-16,16,-16,16,-16,-16,-16,16,-16,16,-16,16,16,16,16,-16,16,16,16,16,16]
[16,16,16,-16,16,-16,-16,-16,-16,-16,16,-16,-16,16,-16,-16,16,-16,-16,-16,16,16,-16,-16,16,-16,16,16,16,-16,-16,16,16,-16,16,16,-16,16,-16,-64,-16,-16,-16,16,16,16,-16,16,-16,16,-16,-16,-16,16,16,-16,16,16,-16,16,16,-16,16,-16,-16,-16,-16,16,-16,-16,16,-16,16,16,-16,-16,-16,-16,-16,-16,16,16,-16,-16,-16,16,-16,-16,16,-16,16,16,-16,16,16,16,16,16,-16,16,16,16,16,-16,-16,64,16,16,-16,-16,16,16,-16,16,16,16,-16,-16,-16,16,16,-16,-16,-16,16,-16,16,-16]
[16,-16,-16,-64,-16,-64,16,16,-16,16,16,16,-16,16,-16,-16,-16,16,16,-64,16,16,-16,-16,16,-16,16,-16,16,-16,-16,16,16,-16,-16,-16,16,-16,16,-16,-16,-16,-16,16,-16,-16,16,-16,16,16,-16,16,16,16,16,16,-16,-16,16,16,16,-16,-16,-16,16,-16,-16,-16,-16,-16,16,16,-16,16,16,-16,16,-16,-16,-16,16,-16,16,16,-16,-16,-16,-16,-16,-16,-64,-16,-16,-16,-16,-16,16,-16,-16,16,16,16,16,-16,-16,-16,-16,-16,-16,16,16,-16,16,16,-16,-16,-16,-16,-16,16,16,16,-16,16,-16,16,16,16]
[16,-16,-16,-16,16,16,16,-16,16,16,16,16,16,16,16,-16,16,-16,-16,16,16,-16,16,-16,16,-16,16,-16,-16,-16,16,-16,16,-16,-16,16,-16,-16,-16,-16,-16,-16,-16,16,-16,16,-16,-16,-16,64,16,-16,-16,16,16,16,-16,16,16,16,-16,16,16,16,-16,-16,-16,-16,-16,-16,16,-16,-16,16,16,-16,16,-16,-16,16,16,16,16,-16,-16,-16,-16,16,-16,-16,16,-16,-16,-16,-16,-16,-16,16,-16,-16,-16,16,-16,16,-16,16,-16,16,-16,16,-16,16,16,-16,-16,16,-16,16,-16,16,16,16,-16,16,-16,16,16,-16]
[16,16,-16,16,16,-16,-16,16,16,-16,-16,-16,16,16,-16,-16,-16,-16,16,-16,-16,-16,-16,-16,16,-16,-16,-16,16,-16,-16,-16,16,16,-16,16,-16,16,16,-16,16,16,-16,16,-16,16,16,-16,16,-16,16,-16,-16,-16,16,-16,-16,-16,16,16,-16,16,16,16,-16,16,-16,-16,-16,-16,-16,-16,16,-16,16,16,-16,-16,-16,-16,16,-16,-16,-16,-16,16,-16,-16,-16,-16,16,-16,16,16,-16,16,16,16,16,-16,-16,16,16,16,-16,-16,16,-16,16,16,-16,16,-16,-16,-16,-16,-16,-16,-16,16,-16,16,16,-16,-16,16,-16,-16]
[16,-16,-16,-16,16,-64,16,-16,16,-16,-16,16,-64,-16,-16,-16,-16,16,16,-64,16,-16,-16,-16,16,-16,16,-16,16,-16,16,16,16,16,16,-16,16,16,-16,-16,-16,16,-16,16,16,-16,-16,-16,-16,16,-16,-16,16,16,16,16,-16,16,16,-16,16,-16,-16,16,-16,-16,16,16,16,-16,-16,-16,-16,16,16,-16,-16,-16,16,-16,-16,-16,16,-16,-16,-16,-16,-64,-16,-16,-16,-16,16,-16,16,16,16,-16,-16,16,-16,-16,-16,-16,16,16,16,-16,16,-16,-16,-64,16,16,-16,-16,16,16,-16,-16,16,16,-16,-16,16,-16,-16,16]
[16,16,-16,-16,16,-64,16,16,-16,16,16,16,-16,16,16,-16,-16,-16,16,-64,16,-16,16,-16,16,-16,64,-16,-16,16,16,16,16,16,16,16,-16,-16,-16,16,16,-16,16,16,-16,-16,-16,-64,-16,16,-16,-16,16,-16,64,64,16,16,-16,16,64,16,-16,16,-16,-16,-16,-16,-16,-16,16,-16,16,-16,16,-16,16,-16,-16,-16,16,16,16,16,-16,-16,-16,16,-16,16,-16,-16,-16,16,-16,-16,16,-16,-16,-16,-16,16,16,-16,-16,-16,16,-16,-16,-16,-16,-16,64,16,-16,-16,16,-16,-16,16,-16,-16,16,64,16,-16,16,16]
[16,-16,-16,16,-16,-16,-16,-16,-16,-16,16,-16,-16,-16,-16,-16,-16,-16,-16,-16,-64,-16,-16,-16,-16,-16,-16,-16,16,16,16,-16,-16,16,16,-16,16,-16,-16,16,-16,-16,-16,-16,16,-16,-16,-16,-16,-16,16,-16,-16,-16,-16,-16,-16,16,16,-16,16,-16,-16,-16,16,-16,-16,16,16,16,16,-16,16,-16,-16,-16,-16,16,16,16,-16,16,-16,-16,16,16,-16,-16,16,-16,-16,-16,16,-16,16,-16,-16,16,-16,-16,-16,-16,-16,-16,16,16,16,-16,-16,16,-16,16,-16,16,-16,-16,-16,16,-16,-16,-16,16,-16,-16,-16,-16,16,16]
[16,16,-16,-16,16,16,16,16,-16,-16,16,16,16,16,16,16,16,16,16,-16,16,16,-16,-16,-16,-16,16,16,-16,16,16,16,16,-16,-16,16,-16,16,16,16,-16,-16,16,16,16,16,16,-16,-16,16,-16,-16,-16,-16,16,16,-16,-16,16,16,16,16,-16,16,-16,-16,16,16,-16,-16,16,16,16,16,16,-16,-16,-16,-16,16,64,-16,16,16,16,-16,-16,-16,-16,16,16,16,-16,16,-16,16,16,16,-16,16,-16,16,16,16,16,-16,16,16,16,16,16,16,-16,16,-16,-16,16,-16,-16,-16,-16,16,16,16,16,-16,16,-16]
[16,-16,-16,16,16,-16,16,-16,16,16,16,-16,-16,16,16,16,-16,16,16,-16,16,16,16,16,-16,16,-16,-16,16,16,16,16,64,-16,-16,16,-16,16,16,-16,-16,-16,-16,16,-16,-16,16,-16,-16,16,-16,16,16,16,16,16,16,16,16,-16,16,16,-16,16,16,-16,16,-16,16,16,16,16,16,16,16,16,-16,16,16,16,-16,16,16,16,16,16,16,16,16,16,16,-16,-16,-16,16,16,16,64,16,-16,16,16,16,-16,-16,16,16,16,16,-16,16,-16,16,-16,16,16,-16,16,-16,16,-16,16,16,16,16,16,16,16]
[16,-16,-16,-16,-16,-16,16,-16,16,-16,16,16,-16,-16,-16,-16,-16,16,16,-16,-16,-16,-16,16,16,-16,-16,-16,-16,-16,-16,16,16,16,16,16,16,16,16,-16,16,16,-64,16,16,16,-16,-16,-16,-16,16,-16,16,16,16,16,-16,-16,16,-16,16,16,16,16,-16,-16,16,-16,-16,-16,16,-16,-16,-16,16,-16,-16,-16,16,-16,-16,16,16,-16,-16,16,-16,-16,16,-16,16,-16,16,-16,16,16,16,16,-16,16,-16,16,-16,-16,-16,16,16,-16,-16,-16,-16,-16,16,16,-16,-16,16,16,-16,16,16,-16,-16,16,16,-16,-16,16]
[-16,16,-16,-16,16,-16,-16,16,16,-16,-16,-16,-16,16,16,-16,16,16,-16,16,16,-16,-16,16,-16,16,16,-16,16,16,16,-16,16,16,-16,-16,64,-16,16,16,16,-16,16,-16,16,-16,16,16,16,-16,-16,-16,-16,-16,16,-16,16,-16,-16,16,-16,16,-16,-16,-16,-16,-16,16,-16,16,-16,16,16,16,-16,-16,16,-16,16,-16,16,-16,16,-16,-16,-16,16,16,16,16,16,-16,16,-16,16,16,16,-16,-16,16,16,-16,-16,-16,-16,16,16,16,16,16,-16,-16,-16,16,-16,-16,16,16,16,16,-16,-16,16,-16,-16,-16,16,16]
[16,16,-64,-16,-16,-16,-16,16,-16,-16,16,-16,-16,-16,-16,16,-64,16,16,-16,-16,16,16,16,16,16,-16,-64,16,-64,-16,16,16,-16,16,-16,-16,16,-16,-16,16,-16,-16,-16,-16,-16,-16,-64,-16,-16,-16,-16,16,-16,16,-16,16,-16,-16,-16,16,16,-16,16,-16,-16,64,-16,-16,16,16,16,16,-16,16,16,-16,-16,16,-16,-16,-16,64,-16,-16,16,-16,-16,16,16,-16,-16,-16,-16,16,-16,16,16,16,16,16,16,-16,-16,16,16,-16,-16,-16,-16,16,-16,16,-16,-64,16,16,16,-16,-16,64,16,-16,-16,16,-16,-16,16]
[16,-16,-16,-16,-16,-16,-16,-16,-16,16,16,16,-16,16,-16,16,16,-16,16,16,16,-16,16,-16,16,16,16,-16,-16,-64,-16,16,16,-16,16,16,-16,-16,-16,-16,16,-16,-16,-16,-16,16,-16,-16,-16,16,-16,16,-16,-16,16,-16,16,-16,-16,-16,16,-16,-16,-16,16,-16,16,-16,-16,16,16,16,16,16,16,-16,-16,16,-16,16,16,-16,16,16,-16,-16,-16,16,-16,16,-16,16,-16,-16,-16,16,-16,16,-16,-16,-16,16,16,-16,-16,16,-16,-16,16,-16,16,16,-16,-16,-16,16,-16,16,-16,-16,16,16,-16,16,-16,-16,16,16]
[16,-16,16,16,16,-16,16,-16,-16,16,16,-16,-16,16,-16,-16,16,-16,-16,-16,-16,16,16,-16,16,-16,16,-16,-16,-16,-16,16,16,-16,-16,16,16,-16,16,-16,16,16,-16,16,16,-16,-16,-16,16,16,16,16,-16,-16,16,-16,-16,-16,16,-16,16,-16,-16,-16,16,-16,-16,-16,-16,-16,16,16,16,-16,-16,16,16,-16,16,-16,-16,16,16,16,-16,16,16,-16,16,16,-16,16,-16,-16,16,16,-16,64,16,16,16,16,-16,-16,16,16,-16,-16,-16,-16,-16,-16,-16,-16,-16,16,-16,16,-16,16,16,16,16,-16,-16,16,-16,-16]
[16,16,16,-16,-16,-16,16,16,-16,16,16,16,-16,16,16,16,-16,16,16,-16,16,16,16,16,16,16,16,16,16,-16,-16,-16,16,16,16,16,-16,16,16,-16,16,-16,-16,-16,-16,16,16,-16,16,16,16,-16,-16,-16,16,16,16,-16,64,16,16,16,-16,16,-16,16,16,-16,-16,-16,16,16,-16,-16,16,-16,-16,-16,-16,16,16,-16,16,16,-16,-16,16,16,-16,16,-16,-16,-16,16,-16,16,16,16,-16,16,16,16,-16,16,16,16,-16,-16,-16,-16,16,-16,16,16,16,16,16,-16,-16,-16,16,16,-16,16,16,-16,16,-16]
[-16,-16,16,16,16,-16,16,-16,-16,-16,16,16,-16,16,16,-16,16,16,-16,-16,-16,-16,-16,16,-16,-16,-16,-16,-16,16,16,16,-16,16,16,-16,16,-16,16,-16,-16,16,-16,-16,16,16,-16,-16,-16,-16,16,-16,-16,16,16,16,16,-16,-16,16,-16,-16,16,-16,-16,16,-16,16,16,16,-16,-16,16,16,-16,-16,16,-16,16,16,16,-16,-16,-16,16,16,16,-16,16,16,16,-16,-16,-16,16,16,-16,-16,-16,-16,-16,16,16,-16,-16,16,16,16,-16,-16,-16,-16,-16,16,-16,64,-16,-16,-16,16,-16,-16,16,16,-16,16,16,16]
[-16,-16,16,-16,-16,-16,-16,-16,-16,16,16,16,16,16,16,-16,-16,-16,-16,16,-16,-16,-16,16,-16,-16,16,-16,-16,-16,-16,16,16,16,16,16,16,-16,16,-16,16,16,16,-16,-16,16,16,16,16,16,-16,16,-16,-16,-16,16,16,-16,16,16,16,16,-16,16,16,-16,-16,16,16,-16,16,-16,16,-16,-16,-16,16,16,16,16,-16,16,16,-16,16,16,-16,16,16,16,-16,16,-16,-16,-16,-16,-16,-16,16,16,16,16,16,16,16,-16,16,16,-16,-16,16,-16,16,16,-16,16,-16,-16,-16,16,16,-16,-16,16,-16,-16,-16,16]
[16,16,16,-16,16,16,16,16,-16,-16,16,16,16,-16,16,16,16,16,-16,16,-16,16,16,-16,16,-16,16,-16,-16,16,16,-16,16,16,-16,16,-64,-16,16,-16,-16,-16,-16,16,16,16,16,16,-16,-16,-16,-16,-16,-16,16,16,-16,-16,16,-16,16,-16,16,-16,-16,-16,-16,16,16,-16,16,-16,16,16,-16,-16,-16,-16,-16,16,16,-16,-16,-16,-16,-16,-16,16,16,-16,-16,16,-16,16,-16,-16,16,16,16,-16,-16,16,-16,16,-16,16,16,-16,16,16,16,16,-16,16,16,16,16,-16,-16,16,-16,16,-16,16,-16,16,16,16]
[-16,-16,-16,-16,-16,-16,-16,16,16,16,-16,-16,-16,16,-16,-16,-16,-16,16,-64,-16,-16,16,-16,16,-16,-16,-16,16,-16,-16,16,-16,16,-16,-16,16,16,16,-16,-16,16,-16,-16,-16,-16,-16,-16,-16,-16,-16,-16,16,-16,16,16,16,-16,-16,-16,16,16,-16,16,16,-16,64,16,-16,16,-16,-16,-16,-16,64,-16,16,-16,16,-16,-64,-16,64,-16,-16,16,-16,-16,16,16,16,-16,-16,16,16,16,-16,16,-16,-16,16,-16,-16,16,16,16,-16,16,-16,-16,-16,-16,16,16,-16,16,16,-16,16,-16,64,-16,-16,-16,16,-16,-16,16]
[-16,-16,16,-16,16,16,16,16,-16,16,-16,-16,16,16,-16,16,-16,-16,16,16,16,16,16,64,-16,16,-16,16,16,16,16,16,16,16,16,16,16,16,16,16,-16,16,16,-16,16,16,16,-16,16,16,-16,-16,16,16,-16,16,16,16,16,-16,16,16,16,16,16,16,16,-16,16,16,16,-16,-16,-16,16,16,-16,16,16,-16,64,-16,16,16,-16,16,16,-16,-16,16,16,16,16,16,16,-16,16,16,16,-16,16,16,16,16,16,16,16,-16,-16,-16,-16,16,16,16,16,-16,16,-16,-16,-16,16,16,16,16,16,16,16,16]
[16,-16,-16,-16,-16,-64,16,-16,-16,16,16,16,-16,16,-16,-16,-16,16,16,-64,16,-16,-16,16,16,-16,16,-16,16,-16,-16,-16,16,-16,-16,16,-16,-16,-16,-16,-16,-16,16,64,-16,-16,-16,-16,-16,16,16,-16,16,16,16,16,16,-16,16,16,-16,16,-16,16,-16,-16,16,-16,16,-16,16,16,-16,16,16,16,16,-16,16,16,16,16,16,16,16,16,-16,-16,-16,-16,-64,16,-16,-16,-16,-16,-16,-16,16,-16,-16,16,-16,-16,-16,-16,-16,-16,-16,-16,-16,-16,16,16,-16,-16,16,-16,-16,16,-16,-16,16,16,16,-16,16,-16]
[16,16,16,-16,-16,16,64,-16,16,-16,64,16,16,16,16,16,16,-16,16,16,16,16,16,-16,16,16,16,16,-16,16,-16,16,64,-16,16,64,-16,-16,16,16,-16,16,-16,16,-16,-16,-16,16,-16,64,16,-16,-16,16,16,-16,-16,-16,64,16,-16,16,-16,-16,-16,-16,16,16,-16,-64,64,-16,16,16,-16,-16,16,16,-16,-16,64,16,16,-16,-16,-16,16,16,-16,16,-16,-16,-64,16,-16,-16,-16,16,-16,-16,16,16,16,16,-16,-16,-16,-16,-16,16,16,16,-16,16,-16,16,-16,-16,-16,-16,-16,64,-16,16,16,16,16,-64]
[-16,-16,-16,16,16,16,-16,16,-16,16,-16,-16,-16,-16,-16,16,-64,16,16,16,-64,16,16,-16,-16,16,-16,64,-16,16,16,16,-64,-16,16,-16,16,-16,-16,16,-16,16,16,64,16,-16,-16,16,-16,-16,16,16,16,-16,-64,-16,-16,16,16,-16,64,-16,-16,-16,16,16,-16,16,-16,-16,-64,16,16,-16,-16,-16,-16,-16,16,-16,-64,-16,-64,16,-16,16,16,-16,16,-16,-16,-16,-16,-16,16,16,-16,16,16,-16,16,-64,-16,16,16,16,-16,-16,16,-16,16,-16,-16,16,16,16,-16,-16,16,-16,-64,16,16,-64,-16,16,16,16]
[16,16,16,-16,-16,16,16,16,-16,16,16,16,16,16,16,16,-16,16,16,16,-16,16,16,-16,16,-16,-16,16,-16,16,-16,-16,64,-16,-16,64,-16,16,16,-16,-16,-16,-16,16,-16,-16,16,16,-16,16,-16,16,-16,-16,16,-16,-16,16,64,-16,-16,16,-16,-16,-16,-16,-16,16,-16,-64,16,-16,16,16,16,-16,-16,16,-16,16,64,16,16,-16,16,-16,-16,16,-16,16,-16,-16,-16,16,-16,16,16,64,-16,-16,-16,16,16,16,16,-16,-16,-16,-16,-16,16,16,-16,16,-16,16,16,-16,16,-16,16,16,-16,16,16,16,16,-16]
[-16,16,16,16,-16,16,16,16,-16,16,16,-16,16,-16,16,-16,-16,-16,-16,16,-16,16,16,-16,-16,-16,-16,-16,16,16,-16,-16,16,-16,16,-16,-16,16,-16,16,16,-16,-16,16,16,16,-16,-16,16,-16,16,16,-16,16,-16,-16,16,-16,-16,16,-16,-16,16,16,16,16,-16,-16,16,16,16,-16,16,16,16,16,-16,-16,-16,-16,-16,16,-16,-16,16,-16,-16,16,-16,-16,16,16,16,-16,-16,16,-16,-16,16,-16,16,16,-16,-16,16,-16,16,16,16,-16,-16,16,-16,16,16,-16,16,16,-16,-16,16,16,-16,16,-16,16,16,16]
[-16,16,-16,16,-16,-16,16,-16,-16,16,16,-16,-16,-16,16,16,-16,-16,16,16,-16,16,16,-16,-16,-16,16,16,-16,16,16,-16,-16,-16,-16,-16,16,16,-16,16,-16,-16,-16,16,-16,-16,-16,-16,-16,-16,-16,-16,16,16,-16,16,16,-16,-16,-16,16,-16,-16,-16,16,-16,-16,-16,16,-16,-16,16,16,16,-16,-16,-16,16,16,-16,-16,16,-16,16,-16,16,-16,-16,-16,16,-16,16,-16,16,16,-16,-16,16,16,16,16,-16,16,-16,16,-16,-16,-16,16,-16,-16,-16,-16,16,-16,-16,-16,16,16,-16,-16,16,16,-16,16,-16,16,-16]
[16,16,-16,-16,-16,-16,16,-16,-16,16,-16,16,16,-16,-64,16,-16,16,16,-64,-16,16,16,-16,16,16,-16,16,16,16,16,16,-16,-16,-16,-16,-16,-16,16,16,16,-16,-16,16,-16,16,-16,-16,-16,16,-16,-16,16,-16,-16,16,16,-16,16,-16,16,16,-16,16,-16,-16,16,16,16,-16,-16,-16,-16,-16,16,-16,16,16,16,-16,-16,16,16,16,-16,16,16,-16,-16,16,-16,16,-16,-16,16,-16,-16,16,-16,-16,16,16,-16,16,-16,-16,-16,16,-16,-16,16,-16,16,-16,-16,-16,16,16,-16,-16,16,16,-16,16,-16,-16,-16,16]
[16,-16,16,-16,16,-16,-16,-16,16,16,16,16,-16,-16,16,16,16,16,-16,-16,-16,-16,-16,16,-16,-16,-16,-16,-16,-16,16,-16,16,16,16,16,-16,16,16,-16,-16,-16,-64,-16,16,-16,-16,-16,-16,-16,-16,16,-16,-16,16,16,-16,-16,-16,-16,16,16,16,16,-64,16,16,16,16,16,16,-64,-16,16,16,16,-16,-16,-16,-16,-16,16,16,-16,16,-16,-16,16,16,-16,16,16,16,-16,16,16,16,-16,-64,-16,-16,16,-16,-16,-16,16,64,16,16,-16,16,16,-16,16,16,16,16,16,-16,-16,-16,-16,-64,-16,-16,-16,-16,16]
[16,16,16,16,-16,-16,-16,16,-16,-16,16,-16,-16,-16,16,-16,-16,16,-16,16,-16,-16,16,-16,-16,-16,16,64,-16,16,16,-16,-16,16,-16,-16,16,-16,16,16,-16,-16,16,-16,16,16,16,16,-16,-64,16,16,16,16,-64,-16,-16,-16,-16,-16,16,-16,-16,-16,16,16,-16,-16,16,-16,-16,16,16,16,-16,-16,16,16,16,-16,-16,16,-16,-16,-16,16,16,-16,16,-16,16,16,16,16,16,-16,-16,-16,16,16,-16,-16,-16,16,16,16,16,-16,16,16,16,-16,-16,-16,16,-16,16,16,16,-16,-16,16,16,-16,16,16,16,16]
[-16,-16,16,-16,-16,16,16,-16,-16,-16,16,16,16,16,16,16,-16,-16,16,16,16,16,16,16,-16,-16,16,16,-16,16,16,-16,16,-16,-16,16,-16,-16,-16,16,-16,16,-16,16,16,-16,-16,16,-16,16,16,-16,-16,16,16,-16,-16,16,16,-16,-16,-16,-16,-16,-16,16,-16,16,-16,-16,16,-16,-16,16,-16,16,-16,-16,-16,16,64,-16,-16,16,16,-16,-16,16,-16,16,16,16,-16,-16,-16,16,16,16,-16,16,16,16,-16,16,-16,16,16,16,-16,-16,16,16,-16,-16,16,-16,-16,-16,-16,16,-16,16,-16,16,-16,16,16,-16]
[16,-16,16,-16,16,-16,-16,16,16,16,-16,-16,-16,16,-16,-16,16,16,16,16,-16,-16,16,16,16,-16,16,16,-16,16,16,-16,16,16,-16,16,16,16,16,16,-16,16,16,16,16,-16,16,16,-16,16,-16,-16,16,-16,-16,-16,16,-16,16,-16,16,16,16,-16,16,16,16,-16,-16,-16,16,16,-16,-16,16,-16,16,-16,16,-16,16,-16,-16,-16,16,-16,16,-16,16,-16,-16,16,16,-16,16,16,-16,16,-16,16,16,-16,16,-16,-16,16,16,16,-16,16,-16,16,16,-16,16,16,-16,-16,16,16,16,-16,-16,-16,-16,16,16,-16]
[-16,16,-64,-16,-16,16,16,16,16,16,16,16,16,16,16,16,-16,16,16,16,-16,16,16,16,16,16,16,-64,16,-64,-16,64,16,-16,-16,16,-16,16,-64,-16,-16,16,-16,16,-64,-16,-16,-64,-16,16,-16,16,16,-16,16,-16,-16,16,16,-16,64,16,-16,16,16,-64,16,-16,16,64,-16,-16,16,16,64,-16,-16,16,-16,16,16,16,16,-16,-64,-16,-16,-16,-16,16,-16,16,-16,-16,-16,-16,16,16,-16,16,16,16,16,-16,16,16,-64,16,-16,16,16,-16,16,16,-64,16,16,-16,-16,16,64,-16,-16,16,16,-16,16,-16]
[-16,-16,16,-16,-16,-64,-16,16,-16,16,16,16,-64,-16,-64,-16,-16,16,16,-64,16,16,-16,16,16,-64,-16,-16,-16,16,-16,-16,-16,-16,-16,-64,-16,-16,16,-16,-16,16,-16,16,16,-16,-16,16,-16,-16,-16,-16,16,-16,-16,16,-16,16,-16,-16,16,16,16,16,-16,-16,64,-16,-16,16,-16,-16,-16,-16,16,-16,16,-16,16,16,-64,-16,16,-16,16,-16,16,-16,-16,-16,-16,-16,16,-16,16,16,16,-16,-16,-16,16,16,-16,16,16,-16,-16,-16,-16,16,-16,-16,16,-16,-16,-16,16,-16,-16,-16,16,-16,-16,-16,16,16,-16,-16]
[16,16,-16,16,16,-16,16,16,-16,16,16,16,-16,-16,16,-16,-16,16,-16,16,16,16,-16,-16,-16,16,-16,16,-16,16,16,16,-16,16,16,-16,16,-16,16,16,-16,-16,16,-16,-16,-16,16,16,-16,-16,16,-16,-16,-16,-16,-16,-16,16,-16,16,-16,-16,16,-16,-16,16,-16,16,-16,16,-16,-16,16,16,-16,-16,16,16,16,16,-16,16,-16,-16,16,-16,16,16,-16,-16,16,-16,16,16,16,16,-16,16,-16,16,16,-16,-16,16,-16,16,16,16,-16,-16,16,-16,16,16,16,-16,16,-16,16,-16,-16,16,16,-64,16,16,-16,16]
[-16,16,-16,-16,-16,-16,-16,16,16,16,16,16,-16,-16,-16,-16,16,-16,16,-16,-16,16,16,16,16,-16,16,16,16,-16,-16,16,16,16,-16,-16,-16,16,16,-16,16,-16,-16,16,-16,-16,-16,16,-16,-16,16,-16,-16,-16,-16,16,16,-16,16,-16,-16,-16,16,-16,-16,-16,16,-16,-16,-16,16,-16,-16,16,16,16,-64,16,-16,-16,-16,-16,16,-16,-16,-16,-16,-16,16,-16,16,-16,16,16,16,16,16,-16,-16,-16,-16,-16,-16,-16,-16,16,16,-16,16,-16,-16,16,-16,16,16,16,16,-16,-16,16,-16,16,-16,16,16,-16,-16,16]
[-16,-16,-16,-16,16,-16,-16,16,16,-16,16,16,-64,-16,-16,16,16,16,16,-16,16,-16,-16,-16,16,-16,16,-16,16,16,16,-16,-16,16,16,-64,16,-16,-16,-16,-16,16,16,16,-16,16,-64,-16,16,-16,-16,-16,16,-16,16,16,-16,-16,-16,-16,-16,16,-16,16,-16,-16,16,16,-16,16,-16,-16,-16,16,16,-16,16,16,16,16,-16,-16,16,-16,-16,16,-16,-16,16,-16,16,-16,-16,-16,16,16,16,-16,-16,16,-16,-16,16,-16,-16,16,-16,-16,16,-16,-16,-16,16,-16,-16,-16,16,16,-64,-16,16,-16,16,-16,16,-16,-16,-16]
[-16,16,-16,-16,16,16,-16,-16,-16,-16,16,-16,16,-16,16,16,16,-16,-16,16,16,-16,-16,16,16,16,16,-16,-16,16,-16,16,-16,16,16,16,16,-16,16,16,16,-16,-16,-16,-16,16,16,16,-16,16,-16,-16,16,16,16,-16,-16,-16,-16,-16,16,16,16,16,16,-16,16,-16,-16,-16,-16,-16,16,16,16,16,-16,16,-16,16,16,-16,16,-16,-16,16,-16,-16,-16,16,16,-16,-16,16,16,16,-16,-16,16,16,16,16,16,-16,16,-16,-16,-16,16,16,16,16,-16,16,-16,-16,-16,-16,-16,16,16,-16,16,16,-16,-16,16,16]
[16,-16,16,-16,16,-64,16,16,-16,16,-16,16,16,-16,-16,-16,-16,16,16,-16,-16,16,-16,-16,16,-16,16,16,16,-64,-16,16,16,16,-16,-16,16,16,16,-16,16,-16,-16,-16,16,16,-16,16,-16,16,-16,-16,-16,-16,-16,16,16,16,16,16,16,16,16,-16,-16,16,16,-16,-16,16,-16,-16,-16,16,16,-16,-16,-16,16,-16,-16,16,16,16,-16,16,16,-16,16,16,16,-16,16,-16,16,16,16,16,-16,16,16,16,-16,-16,16,16,16,-16,-16,-16,-16,-16,-16,-16,-16,16,16,-16,-64,16,16,-16,-16,-16,16,-16,-16,16]
[16,-16,16,-16,16,-16,64,16,16,-16,16,16,16,-16,16,-16,16,16,-16,16,-16,16,16,16,-16,-16,-16,16,16,16,-16,-16,16,16,16,16,-16,-16,16,16,16,16,-16,-16,16,-16,-16,16,16,16,-16,-16,-16,16,16,-16,-16,-16,16,-16,-16,-16,16,16,-16,16,-16,-16,-16,-16,16,-16,16,-16,-16,16,16,16,16,-16,16,16,-16,16,-16,-16,16,16,16,16,16,-16,16,16,16,16,-16,16,-16,-16,-16,16,-16,16,-16,16,-16,-16,-16,-16,16,16,-16,-16,-16,-16,-16,-16,-16,-16,-16,16,16,16,16,16,-16,-16]
[16,16,16,-16,16,16,-16,-16,16,16,-16,16,16,-16,-16,16,-16,16,-16,-16,-16,-16,-16,-16,-16,16,-16,16,-16,-16,-16,16,16,16,16,16,16,16,16,16,16,-16,16,-16,16,16,16,16,16,16,-16,16,-16,-16,-16,16,16,16,-16,16,-16,16,-16,16,16,16,16,-16,16,16,16,16,-16,16,-16,16,-16,-16,-16,-16,-16,-16,16,16,-16,-16,-16,-16,16,16,16,16,16,-16,16,-16,16,-16,16,16,16,16,16,16,-16,16,-16,16,16,16,-16,-16,-16,-16,16,16,16,-16,-16,-16,-16,16,16,16,16,-16,-16,-16]
[16,16,-16,-16,16,64,-16,-16,-16,-16,-16,-16,-16,-16,16,16,16,-16,-16,16,16,-16,-16,16,64,-16,-16,16,-16,-16,16,-16,-16,16,-16,16,16,-16,16,-16,16,16,-16,-16,-16,-16,16,-16,16,16,-16,-16,-16,16,-16,16,16,-16,-16,-16,16,-16,16,-16,16,-16,-16,16,-16,16,16,16,-16,-16,-16,-16,16,-16,-16,-16,16,-16,-16,16,64,-16,-16,-16,-16,64,16,-16,16,16,-16,-16,-16,-16,-16,-16,16,-16,-16,16,16,-16,-16,-16,16,16,-16,64,16,16,16,-16,-16,16,16,-16,16,64,16,-16,-16,16,-16,16]
[16,16,-16,-16,-16,-64,-16,-16,16,16,16,-16,-16,16,-16,-16,-64,-16,16,-64,16,16,-16,-16,16,16,16,-16,16,-64,16,64,16,-16,-16,16,16,-16,-16,-64,-16,-16,-64,16,-64,-16,-16,-64,-16,16,-16,16,-16,-16,-16,-16,16,-16,16,-16,64,16,-16,-16,16,-16,-16,-16,-16,-16,16,16,-16,-16,16,-16,16,-16,-16,16,-16,16,16,16,-64,-16,-16,-16,-16,16,-16,-16,-16,-16,16,-16,16,16,16,-16,-16,16,-16,-16,16,-16,-16,16,-16,-16,-16,-16,-16,16,-16,-16,16,-16,-16,-16,16,16,16,-16,-16,-16,-16,16]
[16,16,-16,-16,-16,-16,16,-16,16,16,-16,16,16,16,16,-16,16,16,16,-16,-16,16,16,-16,16,-16,16,-16,-16,16,-16,16,-16,-16,16,16,16,16,16,-16,16,-16,-16,-16,-16,16,-16,-16,16,16,-16,16,-16,16,16,-16,-16,-16,16,16,16,16,16,-16,-16,-16,-16,16,-16,-16,16,-16,16,16,-16,-16,-16,-16,-16,-16,16,16,-16,16,-16,-16,16,-16,-16,16,16,16,-16,16,16,-16,-16,16,-16,-16,-16,16,-16,-16,16,16,16,-16,-16,-16,16,-16,16,-16,-16,16,16,16,-16,-16,16,16,16,16,16,-16,-16,16]
[64,16,16,-16,16,16,16,16,-16,-16,-16,16,-16,16,16,-16,-16,16,-16,16,16,16,-16,-16,16,16,16,-16,-16,16,16,16,-16,-16,16,16,16,16,16,-16,-16,-16,-16,-16,-16,16,16,-16,16,-16,-16,16,-16,-16,16,16,16,-16,16,-16,16,16,16,16,-16,-16,16,16,-16,-16,16,-16,16,-16,-16,16,-16,-16,-16,16,16,16,16,-16,16,-16,-16,16,-16,16,-16,-16,-16,16,-16,16,16,16,-16,-16,16,16,16,16,-16,-16,-16,16,-16,-16,16,16,16,16,-16,-16,-16,-16,-16,-16,-16,16,-16,16,16,-16,16,-16]
[16,16,16,16,16,16,16,16,16,16,16,-16,-16,16,16,16,16,-16,16,-16,16,-16,16,16,-16,16,16,-16,16,16,-16,-16,16,16,16,16,16,16,16,16,16,16,-16,16,16,-16,-16,16,16,16,-16,16,-16,16,16,-16,16,-16,16,-16,16,16,-16,16,-16,16,-16,-16,16,16,-16,-16,-16,-16,16,16,-16,-16,16,16,16,-16,16,16,16,16,-16,16,16,16,16,-16,16,16,16,-16,16,-16,-16,16,16,16,16,16,-16,16,-16,-16,16,16,16,16,16,-16,-16,16,-16,16,-16,-16,16,16,16,16,16,16,16,16]
[-16,-16,16,-16,16,-16,16,16,-16,16,-16,-16,16,-16,16,-16,16,16,16,16,-16,16,-16,16,16,16,16,16,16,16,16,16,16,16,-16,16,-16,16,-16,-16,-16,16,16,-16,16,-16,16,-16,-16,-16,-16,16,16,16,-16,16,-16,-16,-16,-16,-16,16,16,16,16,16,16,-16,-16,16,-16,-16,-16,-16,16,16,16,16,-16,-16,16,16,16,-16,16,-16,-16,16,16,16,16,16,-16,-16,-16,16,-16,16,-16,-16,-16,16,-16,16,-16,16,16,-16,16,-16,16,16,16,16,-16,16,16,16,-16,16,16,-16,-16,16,16,-16,-16,16]
[-16,16,-16,16,16,16,-16,-16,16,-16,16,16,-16,-16,16,16,16,-16,-16,16,-16,-16,16,-16,-16,-16,16,-16,16,-16,16,-16,-16,-16,16,-16,-16,16,16,-16,16,-16,16,-16,-16,-16,-16,-16,16,16,16,-16,-16,-16,-16,16,16,16,-16,-16,-16,16,16,-16,16,16,16,16,16,-16,-16,16,-16,-16,-16,16,-16,-16,-16,-16,-16,-16,-16,-16,-16,-16,16,16,-16,-16,-16,-16,-16,-16,16,-16,16,-16,16,-16,-16,16,-16,16,16,-16,16,-16,-16,-16,-16,16,-16,16,-16,16,16,16,-16,16,16,16,16,16,16,-16,16,16]
[16,-16,16,16,16,-16,16,16,-16,-16,-16,16,-16,-16,-16,16,16,16,-16,16,-16,-16,-64,-16,-16,-16,-16,16,16,-16,16,-16,-16,16,-16,-16,-16,-16,16,-16,-16,16,-16,-16,16,16,-16,16,-16,-16,16,-16,-16,16,-16,-16,-16,16,-16,-16,-16,-16,16,16,-16,16,-16,16,-16,16,16,-16,16,-16,-16,16,16,-16,16,16,-16,-16,-16,-16,-16,-16,16,-16,16,16,16,-16,-16,-16,16,16,16,-16,-16,16,16,-16,-16,-16,-16,16,16,16,-16,16,-16,-16,-16,-16,16,16,-16,16,-16,-16,-16,-16,-16,16,-16,16,-16,16]
[16,-16,-16,16,-16,16,-16,-16,16,16,16,16,16,-16,16,-16,16,-16,-16,16,-16,16,16,16,-16,16,-16,16,16,16,16,16,16,-16,16,-16,16,16,-16,16,-16,-16,16,-16,16,-16,-16,-16,-16,16,-16,-16,16,-16,-16,-16,-16,16,-16,16,16,-16,-16,16,16,16,16,16,16,16,-16,16,16,-16,16,16,-16,16,16,-16,-16,-16,16,-16,-16,-16,-16,-16,16,-16,16,16,16,-16,16,16,-16,16,16,-16,-16,-16,16,-16,16,16,16,-16,-16,16,-16,-16,16,16,16,16,16,16,16,-16,-16,16,16,16,-16,16,16,16]
[16,16,16,-16,-16,16,16,16,16,-16,64,16,64,16,16,-16,16,-16,16,16,16,16,-16,-16,-16,-16,16,16,16,16,-16,16,64,-16,-16,16,-16,16,-16,16,-16,-16,16,16,-16,16,16,16,-16,64,-16,16,-16,16,16,16,-16,16,64,16,-16,-16,-16,-16,-16,16,16,-16,16,-16,16,-16,-16,16,16,16,-16,16,-16,-16,16,16,16,16,-16,-16,16,16,-16,-16,-16,-16,-16,-16,-16,-16,16,16,-16,-16,-16,16,16,-16,-16,-16,-16,-16,16,16,-16,16,16,16,-16,16,-16,-16,-16,16,16,16,-16,16,16,16,16,-16]
[16,-16,-16,-16,-16,64,-16,16,-16,16,-16,16,-16,16,-16,16,16,16,-16,16,16,16,-16,-16,16,16,16,-16,-16,-16,-16,16,16,16,16,64,-16,16,16,-16,-16,16,-16,-16,-16,16,-16,-16,16,16,16,-16,-16,-16,16,-16,-16,-16,16,-16,16,16,-16,-16,-64,-16,-16,16,-16,-16,16,-16,16,-16,-16,-16,-16,-16,-16,16,64,-16,-16,16,-16,-16,-16,16,-16,16,16,16,16,16,-16,16,-16,-16,-16,-16,-16,16,16,-16,16,-16,-16,16,16,16,16,16,-16,16,-16,16,-16,-16,-16,16,16,16,16,-16,16,-16,16,16]
[-16,-16,16,-16,-16,-16,16,-16,-16,16,16,16,-16,-16,-16,-16,16,16,-16,-16,-16,-16,-16,-16,16,-16,-16,-16,-16,16,-16,16,-16,16,-16,-16,16,-16,16,-16,-16,16,-16,16,-16,16,-16,-16,-16,16,-16,-16,-16,16,-16,16,-16,-16,16,-16,-16,-16,-16,16,-16,-16,-16,-16,-16,-16,-16,-16,-16,16,-16,-16,-16,-16,16,-16,-16,16,16,-16,16,-16,-16,-16,16,-16,-16,-16,-16,16,-16,16,-16,16,-16,16,-16,16,-16,-16,16,-16,-16,16,-16,16,-16,16,-16,16,-16,-16,-16,16,-16,-16,16,-16,-16,-16,16,16,-16,-16]
[16,16,-16,-16,16,-16,16,-16,16,-16,16,16,-16,-16,16,-16,-16,16,16,-16,16,-16,-16,16,16,-16,16,-16,-16,-16,16,16,16,16,16,16,16,16,-16,-16,-16,16,-16,16,16,16,-16,-64,16,16,-16,16,16,-16,16,16,16,16,-16,-16,16,16,-16,16,-16,-16,16,16,-16,16,-16,-16,-16,-16,16,16,16,-16,16,-16,16,-16,64,-16,-16,-16,-16,-16,16,16,-16,16,16,16,16,16,16,-16,-16,-16,16,-16,-16,-16,-16,16,16,-16,16,-16,16,-64,64,16,-16,-16,64,-16,-16,16,16,-16,-16,16,64,-16,16,16]
[-16,-16,16,64,16,16,-16,16,-16,-16,16,16,-16,-16,-16,-16,16,16,16,16,-16,-16,-16,16,-16,16,-16,-16,-16,-16,16,16,-16,16,16,-16,16,16,16,-16,16,-16,-64,-16,16,-16,16,16,-16,-16,16,16,16,-16,-16,-16,-16,-16,-16,-16,-16,16,16,-16,-64,16,-16,16,-16,16,-16,-16,-16,-16,-16,16,16,-16,-16,16,-16,-16,16,-16,16,-16,16,16,16,-16,16,-16,16,16,16,64,16,-16,-16,-16,-16,-16,16,16,-16,64,64,16,16,-16,16,16,16,-16,16,16,-16,-16,-64,16,16,-16,-16,-16,-16,16,-16,16]
[16,-16,16,-16,-16,-16,64,-16,16,16,16,16,-16,16,-16,16,-16,-16,-16,-16,16,16,16,-16,16,16,-16,16,16,-16,16,16,16,-64,16,16,-64,-16,16,-16,16,-16,-16,16,-16,16,-16,16,16,16,-16,16,16,16,16,16,-16,-16,16,16,16,16,16,16,-16,16,16,-16,-16,-16,-16,-16,-16,-16,16,-16,-16,-16,16,16,-16,-16,16,-16,-16,16,16,16,-16,16,16,16,-16,-16,-16,16,16,16,-16,16,-16,16,-16,16,-16,-16,-16,16,16,-16,-16,16,16,16,16,16,-16,16,-16,-16,16,-16,16,16,16,16,-16,-16]
[16,16,-16,-16,16,-16,16,-16,16,16,16,-16,16,-16,16,16,16,-16,16,-16,-16,-16,16,16,16,-16,-16,-16,-16,-16,-16,-16,-16,-16,16,16,-16,16,-16,-16,-16,16,-64,-16,16,-16,16,-16,-16,16,16,16,-16,16,16,-16,-16,-16,-16,-16,16,-16,16,-16,-16,-16,16,-16,16,16,16,-16,16,16,16,-16,-16,-16,16,-16,16,-16,16,-16,16,16,-16,16,16,-16,-16,-16,-16,-16,16,16,16,16,-16,-16,-16,16,16,-16,-16,16,64,-16,16,16,-16,16,-16,-16,-16,16,16,16,-16,16,16,-16,-16,-16,16,-16,16,16]
[16,-16,16,-16,-16,-16,16,16,-16,16,16,-16,16,-16,-16,16,16,16,-16,-16,16,16,16,-16,16,-16,16,16,-16,16,-16,16,16,-16,16,16,-16,-16,16,64,16,16,-16,16,-16,-16,16,16,-16,16,-16,16,-16,16,16,16,-16,16,16,16,-16,16,16,-16,-16,-16,-16,-16,-16,16,16,-16,-16,16,16,-16,16,-16,16,-16,16,-16,16,16,-16,16,16,16,-16,16,-16,-16,-16,-16,16,16,-16,64,-16,-16,-16,16,16,16,-16,16,-16,16,-16,-16,16,-16,-16,-16,16,16,-16,-16,-16,-16,-16,16,-16,-16,-16,16,-16,-16]
[-16,16,16,16,16,-16,16,16,16,16,-16,16,16,-16,-16,-16,16,16,-16,-16,16,16,-16,-16,16,-16,16,16,16,16,16,-16,16,16,-16,16,16,-16,16,-16,-16,-16,16,-16,16,16,16,-16,-16,-16,-16,-16,-16,-16,16,16,16,16,16,16,16,-16,16,-16,16,16,-16,16,16,16,-16,16,16,16,-16,-16,16,16,16,-16,-16,16,-16,16,16,-16,16,-16,-16,16,16,16,-16,16,16,-16,-16,16,16,16,16,16,16,16,-16,16,16,-16,16,16,16,16,16,-16,16,-16,16,-16,16,-16,-16,16,16,-16,-16,-16,-16,16]
[16,16,16,64,16,16,-16,16,16,-16,-16,16,16,-16,-16,-16,16,64,16,16,16,16,-16,16,-16,16,-16,-16,-16,-16,16,16,16,16,16,16,16,16,16,-16,-16,16,-16,-16,16,16,-16,16,-16,-16,-16,-16,16,-16,-16,16,16,-16,-16,16,16,16,16,-16,-16,16,-16,16,16,16,-16,-16,16,-16,16,-16,16,-16,-16,-16,-16,16,-16,-16,16,-16,16,16,16,-16,16,-16,16,-16,16,16,16,-16,-16,16,-16,-16,16,16,-16,16,16,-16,-16,16,16,-16,16,16,16,-16,16,16,-16,-16,16,-16,-16,16,16,16,16,16]
[16,16,16,16,-16,16,16,-16,-16,16,16,-16,16,-16,16,-16,16,16,-16,16,16,16,16,-16,-16,-16,-16,16,-16,16,-16,-16,-16,16,16,16,16,16,-16,-16,-16,16,-16,16,16,-16,16,-16,-16,16,-16,16,-16,-16,16,-16,16,16,16,-16,-16,16,16,-16,16,16,-16,16,-16,-16,16,16,-16,-16,-16,16,-16,-16,16,16,16,16,16,16,-16,16,-16,16,16,-16,16,-16,16,-16,16,-16,-16,16,16,-16,-16,16,-16,16,-16,16,16,-16,-16,16,16,16,16,-16,-16,16,16,16,16,16,16,16,16,-16,16,16,16,-16]
[16,16,-16,-16,-16,-16,16,-16,16,16,16,-16,-16,64,16,-16,16,-16,-16,-16,16,16,16,-16,16,-16,64,-16,16,16,16,16,16,-16,-16,16,-16,-16,16,-16,16,-16,16,16,-16,-16,-16,-16,-16,16,16,16,-16,-16,16,16,16,16,16,16,16,16,-16,16,16,16,-16,-16,16,-64,16,-16,16,16,-16,-16,16,-16,-16,16,16,-16,16,16,-16,-16,-16,16,16,16,16,16,-16,16,-16,16,-16,16,-16,16,16,16,16,-16,-16,-16,-16,-16,-16,-16,16,16,16,-16,16,-16,-16,-16,-16,16,-16,-16,16,16,16,16,16,-16]
[-16,-16,16,16,-16,-64,-16,16,-16,16,16,-16,-64,16,-16,-16,-16,-16,16,-64,16,-16,-16,-16,16,-16,16,16,-16,-16,16,16,-16,-16,-16,-16,-16,-16,-16,16,-16,-16,-16,16,-16,16,-16,16,16,-16,-16,-16,16,-16,-16,16,16,16,-16,16,-16,-16,-16,16,-16,-16,-16,-16,-16,-16,16,16,-16,16,16,-16,16,16,-16,16,-16,16,-16,16,-16,-16,-16,-16,-16,-16,-16,-16,-16,-16,-16,-16,16,16,16,-16,16,16,16,16,-16,-64,-16,-16,16,-16,-16,-16,-16,-16,-16,16,16,16,16,16,-16,16,16,16,-16,16,16,-16]
[16,-16,-16,16,16,-16,16,-16,16,16,16,-16,16,16,-16,16,-16,16,16,16,-16,-16,16,-16,-16,16,16,16,-16,16,-16,16,-16,16,-16,-16,16,-16,16,16,-16,16,16,16,-16,16,-16,16,-16,16,16,-16,-16,16,16,-16,-16,-16,16,-16,16,16,-16,16,-16,16,16,16,-16,16,-16,-16,16,-16,16,16,-16,16,16,16,16,-16,-16,16,-16,-16,-16,-16,-16,-16,16,-16,-16,-16,-16,-16,-16,16,16,16,16,-16,16,-16,-16,16,16,16,-16,16,16,-16,-16,-16,16,16,-16,16,-16,-16,-16,-16,-16,16,16,-16,16,-16]
[-16,-16,-64,16,16,-16,-64,16,-16,16,-16,16,-16,-16,-64,-16,-16,-16,64,-16,-16,-16,16,16,16,-16,16,-16,16,-16,-16,-16,-64,16,-16,-64,16,16,-16,-16,-16,-16,-16,-16,-16,16,-16,-16,-16,-16,16,-16,16,16,-16,16,16,-16,-16,-16,16,16,-16,16,16,-16,64,16,-16,16,-16,16,-16,-16,16,16,-16,16,16,-16,-64,16,64,-16,-16,16,-16,-16,-16,-16,16,16,16,-16,16,16,16,-16,-16,-16,-16,-16,-16,-16,16,16,16,-16,16,16,-16,-64,16,16,-16,16,64,-16,-16,16,16,-16,-16,-16,16,-16,-16,16]
[16,-16,-16,-16,-16,16,16,16,16,16,16,16,16,16,16,16,-16,-16,16,64,16,-16,64,16,16,16,16,-16,-16,-64,-16,16,16,-16,16,16,-16,16,-16,-16,16,-16,-64,16,-16,-16,-16,-64,16,16,-16,-16,-16,16,64,-16,16,-16,-16,-16,16,16,-16,16,-16,-16,16,16,-16,16,16,-16,16,16,16,-16,-64,-16,-16,-16,16,16,16,16,-16,16,-16,16,-16,64,-16,16,-16,16,-16,-16,16,16,-16,16,-16,16,-16,-64,-16,-16,-16,16,-16,-16,16,-16,16,16,-64,16,16,16,-16,-16,64,-16,-16,64,16,-16,16,-16]
[16,16,-16,-16,-16,-16,16,-16,-16,-16,16,-16,16,16,-16,-16,16,-16,16,-16,16,16,16,16,-16,-16,-16,16,-16,64,16,16,16,16,-16,16,16,16,16,-16,16,-16,-16,-16,16,-16,16,16,16,-16,16,-16,16,-16,16,16,16,16,16,16,16,16,16,16,-16,16,16,16,-16,16,16,16,-16,-16,-16,16,16,-16,-16,16,16,16,-16,16,-16,-16,16,64,-16,16,16,16,16,16,16,16,16,16,16,-16,-16,16,16,-16,-16,16,16,-16,-16,16,16,16,16,-16,16,16,16,16,16,16,16,16,-16,16,-16,16,16,16]
[16,-16,-16,-16,-16,-64,-16,16,16,16,16,-16,-16,16,-16,-16,-64,-16,16,-64,16,16,-16,-16,16,-16,16,16,-16,-64,-16,16,16,-16,-16,-16,16,-16,-16,-16,-16,-16,-16,16,-16,-16,-16,-16,-16,16,-16,16,16,16,-16,-16,16,-16,64,-16,16,16,-16,-16,16,-16,16,-16,16,16,16,16,-16,-16,16,-16,-16,16,-16,-16,-16,-16,16,16,-16,16,-16,-16,-16,16,-16,16,-16,-16,-16,-16,16,-16,16,-16,-16,16,-16,-16,-16,-16,-16,-16,16,16,-16,-16,-16,16,-16,16,16,-16,-16,-16,16,16,16,16,16,16,-16,16]
[16,-16,-16,16,16,-16,16,-16,16,16,16,16,16,16,16,16,16,16,-16,-16,16,16,16,-64,16,-16,16,16,16,16,16,16,16,-16,16,16,-16,-16,16,-16,-16,16,-16,16,16,-16,64,16,-16,16,-16,-16,-16,16,16,16,16,-16,16,64,-16,16,16,16,-16,16,-16,-16,-16,16,16,-16,16,16,-16,16,16,-16,-16,-16,16,16,16,16,16,-16,16,16,-16,16,16,16,-16,16,16,-16,-16,64,-16,-16,16,16,-16,16,16,16,16,-16,16,16,16,16,-16,16,16,16,16,16,-16,16,16,16,-16,16,-16,16,16,-16]
[16,-16,-16,-16,-16,-16,64,16,16,-16,16,16,16,16,16,16,-16,16,16,16,16,16,16,16,16,16,-16,-16,-16,-16,-16,-16,16,-16,16,16,-16,16,16,-16,16,-16,-16,-16,-16,-16,16,-16,-16,16,16,-16,16,-16,16,16,-16,16,16,16,-16,16,-16,16,-16,-16,-16,16,-16,-16,16,-16,16,16,16,16,16,-16,-16,16,16,16,16,16,16,16,-16,16,16,16,-16,-16,-16,16,-16,16,16,16,-16,-16,16,16,-16,16,-16,-16,16,-16,-16,-16,16,16,-16,16,-16,16,16,-16,-16,16,-16,16,-16,16,16,16,16,-16]
[16,16,16,16,16,16,16,-16,16,16,16,16,16,16,16,16,16,16,16,16,-16,16,-16,-16,-16,16,16,16,16,-16,16,16,-16,-16,-16,16,16,-16,16,16,-16,-16,16,-16,-16,-16,16,16,16,16,-16,16,-16,-16,-16,16,16,16,16,16,-16,-16,-16,-16,-16,64,-16,-16,-16,16,16,-16,16,16,16,-16,16,16,64,-16,16,16,-16,16,16,16,-16,16,16,-16,-16,16,16,16,16,16,16,-16,16,16,16,16,-16,16,16,16,16,16,-16,16,16,16,-16,-16,16,16,16,-16,16,-16,-16,16,16,-16,16,16,16,16]
[16,16,16,16,16,16,16,-16,-16,-16,-16,16,16,-16,-16,-16,16,16,-16,16,-16,16,16,-16,-16,16,-16,16,-16,16,16,-16,16,-16,-16,16,-16,-16,16,16,-16,-16,16,-16,-16,-16,-16,16,16,16,-16,-16,-16,-16,-16,-16,-16,-16,16,16,-16,16,16,-16,-16,16,-16,16,-16,-16,-16,-64,16,16,16,-16,16,16,16,16,-16,-16,16,16,16,-16,16,16,-16,16,16,16,-16,16,16,16,-16,16,-16,-16,16,16,16,16,-16,16,16,-16,-16,16,16,16,-16,-16,16,16,-16,16,-16,-16,-16,16,16,16,-16,16,16,-16]
[16,16,-16,16,-16,-16,16,-16,-16,16,16,16,-16,16,-16,16,-16,16,16,-16,16,-16,-16,16,64,16,-16,-16,-16,-16,16,16,16,-16,-16,-16,-16,16,-16,-16,-16,16,-16,16,-16,16,-16,16,16,16,-16,16,64,16,-16,16,16,-16,-16,-16,16,16,-16,16,-16,-16,16,16,16,-16,-16,-16,-16,-16,16,-16,16,-16,16,-16,16,16,16,16,-16,-16,-16,16,-16,16,-16,16,-16,-16,-16,16,16,16,-16,-16,16,16,16,-16,16,-16,16,-16,-16,-16,-16,-16,16,-16,16,16,64,16,-16,16,16,-16,-16,16,16,16,16,-64]
[16,16,16,-16,-16,-16,16,-16,16,16,16,-16,16,16,16,16,-16,-16,-16,-16,16,-16,-16,-16,16,16,16,16,16,16,-16,16,16,-16,-16,16,-16,-16,16,-16,16,16,-16,16,16,16,16,16,16,-16,16,16,16,16,16,16,16,-16,16,-16,16,16,16,-16,16,16,16,16,-16,16,16,16,-16,16,16,-16,16,-16,-16,16,16,-16,16,16,-16,16,16,16,-16,16,-16,16,-16,16,16,-16,16,16,16,-16,-16,16,16,16,-16,16,16,16,-16,-16,-16,16,-16,16,16,-16,16,16,16,16,-16,16,16,-16,-16,-16,16,16]
[-16,-16,-16,16,-16,16,16,16,16,-16,16,-16,16,16,-16,-16,-16,-16,-16,16,16,16,-16,16,-16,-16,-16,16,16,-16,16,16,-16,-16,16,16,-16,-16,16,-16,-16,16,16,16,16,16,-16,-16,16,16,-16,16,16,16,16,16,-16,16,16,-16,16,-16,-16,-16,-16,16,16,-16,-16,-16,-16,16,-16,-16,-16,-16,-16,16,-16,-16,-16,-16,16,-16,16,-16,-16,16,16,16,16,16,16,-16,16,-16,16,-16,-16,-16,16,16,16,16,-16,16,16,16,16,16,-16,-16,16,-16,-16,16,-16,16,16,16,-16,-16,16,-16,-16,-16,16,16]
[16,-16,64,-16,16,-16,16,16,-16,-16,16,16,16,-16,-16,16,16,16,-16,-64,16,-16,-16,-16,16,-64,16,16,-16,16,16,16,16,16,-16,16,-16,16,16,16,-16,-16,-16,-16,16,16,16,16,-16,16,-16,16,-16,-16,16,16,-16,-16,16,16,-16,-16,16,-16,-16,16,-16,-16,16,-64,16,-16,16,-16,-16,-16,16,-16,16,16,16,-16,-16,16,-16,-16,16,16,16,-16,16,-16,-16,16,16,16,-16,16,16,16,-16,16,16,16,16,16,-16,-16,16,-16,-16,16,-16,16,64,16,-16,-16,16,16,16,16,-16,-16,16,16,-16,-16]
[16,16,-16,-16,-16,16,16,16,-16,-16,16,16,16,16,16,16,-16,16,-16,-16,-16,16,16,-16,16,-16,-16,-16,-16,16,-16,-16,64,-16,16,64,-16,-16,16,-16,-16,-16,-16,16,16,-16,-16,16,-16,16,-16,-16,-16,-16,-16,16,-16,-16,16,16,-16,16,-16,-16,-16,16,-16,16,16,-16,16,-16,16,16,16,-16,-16,-16,-16,16,16,16,-16,16,-16,-16,-16,16,-16,-16,-16,-16,-16,16,-16,-16,-16,16,-16,-16,-16,64,-16,-16,-16,16,-16,-16,16,16,16,16,-16,-16,-16,16,-16,-16,-16,16,-16,16,16,16,-16,16,16,-16]
[-16,16,16,16,-16,16,64,-16,16,-16,16,16,16,-16,16,16,-16,-16,-16,-16,-16,16,16,-16,-16,-16,-16,16,-16,16,-16,-16,16,-16,16,16,-16,-16,-16,-16,-16,-16,-16,16,-16,-16,16,-16,-16,64,16,16,-16,16,16,-16,-16,-16,16,16,-16,16,-16,-16,-16,16,-16,-16,-16,-64,16,-16,16,16,16,-16,16,-16,-16,16,16,-16,16,16,16,-16,16,16,-16,-16,16,16,-64,-16,-16,-16,16,16,16,16,16,16,16,-16,16,-16,16,-16,-16,-16,16,16,-16,-16,-16,-16,-16,-16,16,-16,-16,16,-16,16,-16,16,16,-16]
[16,16,-16,-16,-16,16,16,-16,-16,16,64,-16,16,16,16,16,-16,16,-16,16,16,16,16,-16,-16,-16,-16,-16,-16,16,-16,16,64,-16,-16,64,-16,-16,16,16,16,-16,-16,16,-16,-16,16,16,-16,16,-16,16,-16,16,16,-16,-16,-16,16,16,-16,16,-16,16,-16,16,-16,16,16,-16,16,-16,16,-16,-16,-16,16,-16,-16,-16,64,-16,16,16,16,-16,-16,16,-16,16,-16,16,-16,16,-16,-16,16,16,-16,16,16,16,-16,-16,16,-16,-16,-16,-16,16,16,-16,-16,16,-16,16,16,-16,-16,16,-16,16,16,16,-16,-16,16,-16]
[16,16,16,16,16,-16,16,-16,16,16,16,-16,-16,64,-16,-16,-16,16,-16,16,16,64,16,16,16,-16,-16,16,-16,16,16,-16,16,-16,16,16,16,-16,16,-16,16,-16,16,-16,16,-16,16,16,-16,16,-16,-16,-16,16,16,16,-16,16,16,16,16,-16,16,-16,16,64,16,-16,-16,16,16,16,16,-16,16,16,16,16,16,16,16,-16,-16,16,16,16,16,16,16,64,16,16,16,-16,-16,16,-16,16,-16,16,-16,16,16,16,-16,16,64,16,-16,16,16,-16,-16,16,64,16,16,16,16,-16,16,16,16,-16,16,16,16,16]
[16,-16,-16,-16,16,-16,16,-16,-16,-16,-16,-16,16,16,16,-16,16,-16,16,16,16,16,-16,16,16,16,-16,-16,-16,-16,16,16,-16,-16,16,16,16,16,16,16,-16,16,-16,-16,-16,16,16,16,16,-16,16,16,16,16,16,-16,16,16,16,16,-16,16,-16,16,-16,16,-16,-16,-16,-16,16,16,-16,-16,16,16,16,-16,16,16,-16,16,16,16,16,16,-16,-16,16,-16,-16,-16,-16,16,-16,16,-16,-16,16,-16,-16,16,-16,-16,-16,16,16,-16,-16,16,-16,-16,-16,-16,16,-16,16,-16,16,-16,-16,-16,-16,16,16,-16,16,-16]
[-16,-16,16,64,16,-16,-16,-16,-16,-16,-16,-16,-16,-16,-16,-16,16,16,16,-16,-16,-16,-16,16,-16,-16,-64,-16,-16,-16,16,-16,-64,16,-16,-16,16,16,16,-16,16,16,-16,-16,16,-16,16,16,-16,-16,16,16,16,-16,-16,16,16,-16,-16,16,-16,-16,16,16,-64,64,16,-16,-16,16,-16,-16,16,16,16,-16,16,-16,16,16,-64,16,-16,-16,16,-16,16,-16,64,-16,64,16,16,-16,16,16,16,-64,-16,-16,-16,-16,16,16,16,64,16,16,16,16,16,-16,16,16,16,-16,16,16,-16,16,-16,-16,-16,-16,16,16,-16,16]
[16,16,16,-16,16,-16,64,16,-16,16,16,16,-16,16,-16,-16,16,16,-16,-16,16,-16,-16,-16,16,-64,16,16,-16,16,16,16,64,16,-16,16,-16,16,-16,-16,16,-16,16,16,-16,-16,16,16,16,16,-16,-16,-16,-16,16,16,-16,16,16,16,-16,-16,-16,-16,-16,16,-16,-16,-16,-16,16,-16,64,16,-16,-16,16,-16,-16,16,16,16,16,16,-16,-16,-16,16,16,-16,-16,-16,-16,16,-16,-16,-16,16,-16,-16,16,16,16,16,16,-16,16,-16,-16,16,-16,16,16,16,16,-16,16,-16,-16,-16,-16,16,-16,16,-16,-16,16,-16]
[16,16,-16,-16,-16,16,16,16,-16,16,64,16,16,16,16,-16,-16,16,-16,16,16,16,16,-16,16,16,16,-16,-16,-16,-16,16,64,-16,-16,64,-16,16,-16,16,16,16,-16,16,16,16,-16,-16,16,64,16,-16,-16,16,16,16,-16,-16,64,-16,-16,16,-16,16,16,16,-16,-16,16,-64,16,16,16,-16,16,-16,16,16,16,16,16,16,16,16,-16,-16,-16,16,16,-16,-16,-16,-64,16,-16,-16,16,16,-16,16,-16,64,16,16,16,-16,-16,16,-16,-16,16,16,16,16,16,64,16,16,-16,16,16,16,16,-16,16,16,16,-16]
[16,-16,-16,-64,16,-16,16,16,-16,16,16,16,-16,16,-16,16,-16,-16,16,-16,16,-16,16,-16,16,16,16,-16,-16,-16,-16,16,16,16,16,16,-16,16,-16,-16,16,-16,-16,16,16,-16,-16,-64,-16,16,16,16,16,-16,64,16,16,-16,16,16,16,16,-16,16,-16,-16,16,-16,-16,16,16,-16,16,-16,16,16,-16,-16,16,-16,16,-16,16,16,-16,-16,-16,16,16,16,-16,-16,-16,16,-16,-16,16,-16,-16,16,16,16,-16,-16,-16,-16,-16,16,16,16,-16,-16,16,16,-16,-16,16,-16,16,-16,16,16,16,64,64,-16,16,16]
[16,-16,-16,16,16,-16,64,16,16,-64,16,-16,16,16,-16,-16,-16,16,-16,-16,-16,16,16,-16,-16,-16,-16,-16,-16,-16,16,-16,16,-16,-16,16,-16,-16,16,16,-16,-16,16,-16,16,-16,16,-16,16,16,-16,16,-16,16,-16,-16,-16,-16,16,-16,16,-16,-16,-16,-16,-16,-16,-16,16,-16,16,-16,16,16,-16,-16,16,-16,-16,16,64,16,-16,16,16,-16,-16,16,-16,-16,16,16,-16,16,16,16,-16,16,-16,-16,16,16,-16,16,16,16,16,16,-16,-16,16,16,-16,-16,16,16,-16,16,-16,16,-16,64,16,16,-16,16,-16,-16]
[16,-16,16,16,16,16,16,16,-16,-16,16,-16,16,16,16,-16,-16,16,-16,16,-16,-16,-16,16,-16,16,16,16,-16,16,16,16,-16,16,-16,-16,16,16,-16,16,-16,-16,16,-16,16,16,16,16,16,-16,16,-16,16,-16,-16,16,16,16,-16,-16,-16,16,-16,16,16,16,16,16,-16,-16,-16,-16,-16,-16,16,-16,16,16,16,-16,16,16,16,16,-16,-16,-16,16,16,-16,-16,16,16,16,16,-16,16,-16,16,16,16,-16,16,16,-16,16,16,16,-16,16,-16,16,-16,-16,-16,-16,16,-16,16,16,-16,16,16,-16,64,-16,16,16]
[64,-16,-16,16,16,16,16,-16,-16,16,16,-16,16,64,16,16,-16,-16,-16,16,64,16,16,16,16,16,16,16,16,-16,-16,16,64,-16,-16,16,-16,-16,-16,16,-16,16,16,16,16,16,16,16,-16,16,-16,-16,-16,-16,64,16,16,16,64,16,64,16,16,16,-16,-16,16,16,16,-16,16,16,-16,-16,16,16,-16,16,-16,16,16,16,-16,16,-16,64,16,16,16,16,16,-16,16,16,-16,-16,16,16,-16,16,16,16,-16,16,16,16,-16,-16,-16,16,16,16,-16,16,-16,16,-16,16,-16,16,-16,16,16,16,16,-16,16,16]
[16,-16,-16,-16,-16,16,16,-16,-16,-16,16,16,16,16,16,16,16,16,16,16,16,16,16,-16,-16,-16,16,-16,-16,16,16,-16,16,-16,-16,64,-16,-16,16,-16,-16,-16,-16,16,16,-16,-16,16,16,64,-16,-16,-16,16,16,16,-16,16,16,16,-16,16,-16,-16,-16,-16,16,16,-16,-16,16,-16,16,-16,-16,16,16,-16,-16,16,16,-16,-16,-16,16,-16,-16,16,-16,16,16,16,-16,16,-16,16,-16,16,-16,16,-16,16,16,16,-16,16,16,-16,16,16,16,16,-16,16,-16,16,-16,16,-16,16,-16,16,-16,16,-16,16,16,-16]
[16,-16,16,-16,-16,-16,16,-16,-16,16,16,-16,16,-16,-16,-16,-16,-16,-16,16,-16,16,16,16,-16,-16,16,16,-16,16,-16,-16,-16,16,16,-16,-16,16,16,16,-16,16,16,-16,16,-16,-16,-16,-16,16,16,16,16,16,-16,16,-16,16,16,16,16,16,16,-16,16,16,16,16,16,-16,16,16,16,16,16,16,16,-16,16,-16,-16,16,-16,-16,-16,16,16,16,16,16,16,16,-16,-16,16,16,16,16,16,16,-16,16,-16,16,16,-16,-16,16,16,-16,-16,-16,16,-16,16,16,16,-16,-16,16,16,-16,16,16,-16,16,-16,16]
[-16,-16,-16,64,-16,-16,16,16,16,16,16,-16,16,16,-16,16,-16,16,-16,-16,16,16,16,-16,16,64,64,16,-16,16,16,-16,-16,16,-16,16,64,16,16,16,16,-16,-16,16,-16,16,16,16,16,16,16,16,16,16,-16,16,16,16,16,-16,16,16,-16,16,16,16,16,-16,-16,16,16,16,16,16,16,16,-16,-16,-16,-16,-16,-16,16,-16,16,16,16,16,16,16,16,16,16,16,-16,-16,16,-16,-16,16,-16,-16,-16,16,16,16,-16,16,16,16,16,-16,16,16,16,16,16,-16,16,-16,16,-16,-16,64,16,16,-16,-16]
[-16,16,-16,-16,16,-16,16,16,-16,-16,16,-16,-16,-16,-16,-16,16,16,-16,-16,16,-16,-16,16,-16,-16,16,-16,16,-16,16,16,16,-16,16,-16,-16,-16,-16,16,-16,16,16,-16,16,16,-16,-16,-16,16,16,16,-16,-16,16,16,-16,-16,16,16,-16,-16,-16,-16,-16,-16,16,-16,16,-16,16,16,16,16,-16,16,16,16,-16,-16,16,-16,-16,16,-16,-16,-16,16,-16,16,-16,-16,16,-16,-16,-16,-16,16,-16,-16,-16,16,-16,16,-16,16,-16,-16,16,16,16,-16,16,-16,-16,16,-16,16,16,16,16,-16,16,-16,16,-16,-16,16]
[16,-16,16,16,-16,-16,16,-16,-16,-16,16,-16,16,-16,16,-16,16,16,-16,-16,-16,16,16,-16,-16,-16,-16,-16,16,16,16,-16,16,-16,16,16,-16,-16,-16,-16,-16,16,16,16,16,-16,16,16,16,-16,-16,-16,-16,-16,16,-16,-16,-16,16,16,16,-16,16,-16,-16,16,-16,16,16,-16,16,-16,16,16,-16,-16,16,-16,16,16,16,16,-16,-16,16,-16,-16,16,-16,16,16,-16,-16,-16,16,16,-16,16,-16,-16,-16,16,-16,16,16,16,16,-16,-16,16,16,16,-16,-16,16,16,-16,16,-16,-16,-16,16,-16,-16,-16,16,16,-16]
[16,-16,-64,-64,16,-16,-16,-16,-16,16,16,-16,-16,16,-16,16,-16,16,64,-64,16,-16,16,-16,64,16,16,-16,-16,-16,-16,-16,16,-16,-16,16,16,16,-16,-16,16,16,-16,16,-16,16,-16,-16,-16,16,-16,-16,16,16,16,16,-16,16,16,-16,16,-16,-16,-16,-16,-16,16,-16,-16,-16,16,16,-16,-16,16,-16,-16,-16,-16,-16,-16,-16,16,16,16,-16,-16,-16,16,-16,16,-16,-16,-16,-16,-16,16,16,-16,-16,16,16,-16,-16,-16,-16,16,-16,16,16,-16,-16,16,-16,-16,16,16,-16,-16,-16,16,16,-16,16,-16,-16,16,16]
[16,-16,16,16,16,16,-16,-16,-16,16,-16,16,-16,16,-16,-16,-16,16,16,-16,-16,-16,16,-16,16,16,-16,-16,16,-16,-16,16,16,-16,16,-16,-16,-16,16,-16,-16,-16,16,16,-16,16,16,16,-16,-16,-16,16,16,16,-16,-16,16,-16,-16,-16,16,16,16,-16,-16,16,16,-16,16,-16,16,16,16,16,-16,16,-16,-16,-16,-16,16,-16,16,-16,-16,16,-16,16,16,16,-16,16,16,16,-16,16,16,16,-16,16,-16,16,-16,-16,-16,-16,16,-16,16,-16,16,-16,16,16,-16,16,16,16,16,16,-16,16,-16,16,-16,16,-16,16]
[-16,16,16,-16,-16,-16,16,-16,16,-16,16,-16,-16,16,-64,16,-16,16,16,-16,16,-16,-16,16,16,-16,-16,16,-16,16,-16,-16,-16,-16,-16,-16,-16,16,16,-16,16,-16,-16,16,16,-16,-16,16,-16,16,-16,-16,64,16,-16,16,-16,16,-16,-16,16,16,-16,16,-16,16,16,-16,16,-16,-16,-16,-16,-16,16,-16,16,-16,16,16,-16,-16,16,-16,16,16,16,16,-16,16,16,16,-16,-16,-16,16,-16,16,-16,-16,-16,16,16,16,-16,-16,-16,-16,16,16,-16,16,16,16,16,-16,16,16,-16,-16,16,-16,-16,16,16,16,-16,-16]
[-16,16,-16,16,-16,-16,-16,-16,-16,16,16,-16,-64,-16,-16,-16,-16,-16,16,-16,-16,-16,-16,-16,16,-16,16,-16,16,-16,16,-16,-16,16,16,-64,16,16,16,-16,-16,-16,-16,-16,-16,16,-16,16,-16,-16,-16,-16,16,-16,16,-16,-16,-16,16,16,16,16,16,-16,-16,16,16,16,-16,16,-16,-16,-16,16,16,16,16,16,16,-16,-16,16,64,-16,-16,16,-16,-16,16,-16,16,-16,-16,-16,-16,-16,16,-16,16,16,-16,-16,-16,16,-16,16,16,16,16,16,-16,-16,16,16,16,16,64,-16,16,-16,16,16,-16,-16,-16,-16,-16,-16]
[16,16,-16,-16,-16,16,16,-16,16,16,16,16,16,16,16,-16,-16,-16,-16,16,16,-16,16,-16,16,-16,16,-16,-16,-16,16,16,16,-16,-16,16,16,16,-16,-16,-16,16,16,16,-16,-16,16,-16,-16,16,16,16,16,-16,16,16,16,16,16,-16,16,16,-16,16,-16,-16,16,-16,16,-64,16,-16,-16,16,16,16,-16,16,-16,-16,16,-16,16,16,16,-16,-16,16,-16,-16,-16,-16,-16,-16,-16,16,-16,16,-16,16,-16,64,16,16,16,-16,16,-16,16,-16,16,16,16,16,-16,16,16,-16,-16,-16,16,16,16,-16,16,-16,16,-16]
[-64,-16,-16,-16,16,-16,16,-16,-16,16,16,16,-64,-16,-16,-16,16,16,16,-16,16,-16,-16,-16,-16,-16,16,-16,16,16,16,-16,-16,16,-16,-16,16,16,-16,-16,-16,16,16,16,16,16,-16,-16,16,-16,-16,-16,64,16,16,16,16,16,-16,16,16,16,-16,16,-16,16,16,16,-16,16,-16,-16,16,16,16,16,16,-16,16,-16,-16,-16,64,-16,-16,-16,-16,-16,16,-16,16,-16,16,16,16,16,16,-64,-16,16,-16,-16,-16,16,-16,16,-16,-16,-16,16,16,-16,16,-16,-16,-16,16,16,-16,-16,16,-16,16,16,16,-16,-16,-16]
[16,16,16,16,-16,16,16,-16,-16,-16,16,-16,16,16,16,16,16,16,-16,16,-16,-16,-16,-16,-16,-16,-16,16,-16,16,16,-16,-16,16,16,-16,-16,-16,16,-16,-16,16,-16,-16,-16,-16,16,16,16,16,-16,-16,-16,-16,16,-16,-16,16,-16,16,-16,-16,16,-16,-16,16,-16,-16,16,-16,16,-16,16,16,-16,-16,16,-16,16,16,-16,-16,16,-16,-16,-16,-16,16,-16,16,16,16,-16,16,16,-16,-16,-16,-16,-16,-16,16,16,16,16,16,16,-16,16,16,16,16,-16,16,16,16,-16,16,-16,-16,-16,-16,-16,-16,-16,16,-16,-16]
[-16,-16,-16,-16,16,16,16,16,16,-16,16,16,-16,-16,-16,16,16,-16,-16,16,16,-16,16,16,16,-16,-16,16,16,-16,-16,16,16,-16,-16,16,-16,-16,-16,-64,16,-16,-16,-16,16,-16,-16,-16,-16,16,16,-16,16,16,16,-16,-16,16,-16,-16,-16,16,-16,-16,-16,-16,16,-16,16,16,-16,-16,16,16,-16,-16,-16,16,-16,-16,16,16,-16,16,-16,-16,-16,16,16,-16,-16,-16,16,16,16,16,-16,16,-16,-16,-16,16,-16,-16,16,16,16,-16,16,-16,16,16,-16,-16,-16,16,-16,-16,-16,16,16,-16,-16,-16,-16,-16,16,-16]
[-16,-16,-16,16,-16,16,16,16,-16,16,16,16,16,-16,16,16,-16,16,-16,16,16,16,16,-16,16,16,16,-16,-16,16,16,-16,16,-16,16,16,-16,16,-16,16,16,16,-16,16,-16,-16,-16,-16,-16,16,-16,-16,-16,-16,16,16,16,16,16,16,-16,16,16,16,-16,16,16,-16,16,-16,16,-16,16,-16,16,16,16,-16,16,16,16,-16,16,16,-16,16,16,16,16,16,16,16,-16,16,-16,16,-16,64,-16,16,16,16,-16,16,-16,16,-16,-16,-16,-16,16,-16,16,-16,-16,16,16,16,-16,-16,-16,16,-16,16,-16,16,16,-16]
[16,16,-16,16,-16,16,16,16,-16,16,64,16,16,16,16,16,-16,-16,-16,16,16,16,16,-16,-16,16,16,-16,16,16,-16,-16,64,-16,16,64,-64,16,-16,16,16,-16,-16,16,16,-16,-16,-16,-16,64,-16,-16,-16,-16,16,16,-16,16,64,16,-16,16,-16,-16,-16,-16,16,-16,16,-64,64,-16,16,-16,16,-16,-16,-16,-16,-16,64,-16,16,16,-16,16,-16,64,-16,16,16,16,-64,16,-16,16,16,16,16,-16,-16,16,-16,16,-16,-16,-16,-16,16,-16,16,-16,-16,-16,-16,16,16,16,-16,16,16,16,16,16,-16,16,16,-64]
[16,16,16,-16,-16,16,16,-16,16,16,16,16,-16,16,16,16,-16,-16,16,16,16,-16,16,16,16,16,16,16,-16,-16,-16,16,16,-16,-16,16,-16,16,-16,16,16,-16,-16,16,16,-16,16,16,-16,16,-16,-16,-16,-16,-16,16,-16,-16,16,16,16,16,16,-16,-16,16,16,-16,16,-16,-16,-16,16,16,16,16,-16,-16,-16,16,16,16,-16,16,-16,-16,-16,16,-16,16,-16,-16,-16,16,-16,16,-16,-16,16,-16,-16,16,16,16,-16,16,-16,16,16,-16,16,16,-16,16,-16,16,16,-16,-16,-16,16,16,16,16,-16,-16,16,-16]
[16,16,16,16,16,16,16,-16,16,-16,-16,16,16,-16,-16,-16,16,16,-16,-16,-16,-16,-16,16,-16,-16,-64,16,-16,-16,16,-16,16,64,-16,-16,16,-16,16,-64,-16,16,-64,-16,16,-16,16,16,16,-16,16,-16,-16,-16,-16,16,-16,-16,16,-16,-16,-16,16,-16,-16,16,16,16,16,16,-16,-16,-16,16,-16,-16,16,-16,16,-16,-16,16,-16,-16,16,16,16,16,16,-16,16,-16,16,-16,16,16,-16,-16,-16,16,-16,16,16,16,-16,16,16,-16,-16,-16,16,16,16,16,16,16,16,-16,-16,-16,-16,-16,-64,-16,-16,16,16,16]
[16,-16,16,16,16,16,16,-16,-16,-16,-16,16,16,16,16,16,-16,16,16,-16,-16,-16,-16,-16,16,16,16,-16,-16,-16,-16,-16,-16,-16,16,-16,16,-16,-16,-16,-16,-16,-16,16,-16,16,16,16,-16,16,16,16,-16,-16,16,-16,16,16,16,16,16,-16,-16,-16,16,-16,16,-16,-16,16,-16,-16,16,16,-16,16,-16,16,16,-16,16,16,16,16,16,16,-16,16,16,-16,-16,-16,16,-16,16,16,-16,-16,-16,16,16,16,-16,-16,16,16,16,16,-16,16,-16,16,16,-16,-16,16,-16,16,16,-16,16,16,-16,16,-16,16,16,-16]
[16,16,16,-16,-16,16,16,16,-16,-16,-16,16,16,16,-16,16,16,16,-16,16,-16,16,-16,-16,-16,16,-16,-16,16,-16,16,16,-16,16,16,-16,-16,-16,16,-16,16,16,-16,-16,-16,-16,16,16,16,-16,16,-16,16,16,16,16,16,-16,-16,16,-16,16,16,16,-16,-16,16,-16,-16,16,16,-16,16,16,-16,16,-16,16,-16,-16,-16,16,-16,-16,16,-16,-16,16,16,-16,16,16,-16,16,-16,16,-16,-16,-16,16,-16,16,16,16,16,-16,-16,-16,16,16,16,-16,-16,-16,-16,16,-16,-16,-16,16,-16,16,-16,16,-16,16,16,16]
[-16,-16,-16,-16,16,-16,-16,-16,16,16,16,16,-16,-16,-16,16,-16,16,16,-16,16,-16,-16,16,-16,-16,-16,-16,-16,16,-64,16,-16,16,-16,-16,16,16,16,-16,16,16,-16,-16,16,-16,16,-16,16,-16,16,16,16,16,-16,16,16,16,-16,16,-16,16,-16,-16,-64,16,16,-16,-16,16,-16,-16,-16,-16,16,-16,-16,-16,16,-16,-16,16,16,-16,-16,-16,-16,-16,16,16,16,16,16,16,16,16,16,-16,-16,16,16,-16,-16,-16,-16,16,-16,-16,16,16,-16,-16,16,-16,-16,16,16,16,-16,16,16,-16,-16,16,16,16,-16,16]
[16,16,-16,-16,-16,16,16,-16,-16,16,64,16,16,16,16,16,16,16,-16,16,-16,64,16,-16,-16,16,16,16,16,16,-16,16,64,-16,16,16,-16,16,-16,-16,16,-16,-16,16,-16,16,-16,16,-16,16,16,-16,-16,-16,16,-16,-16,-16,16,-16,16,16,16,-16,-16,16,16,-16,-16,-16,16,-16,-16,-16,16,-16,-16,-16,-16,16,16,16,16,16,-16,-16,16,16,16,16,16,-16,-16,16,-16,16,-16,16,-16,-16,-16,16,16,16,16,16,16,-16,-16,-16,16,-16,-16,16,-16,16,-16,-16,-16,-16,16,16,-16,-16,16,-16,16,-16]
[16,-16,-16,-16,-16,16,16,16,-16,16,16,16,16,16,16,16,-16,16,16,16,-16,16,16,-16,16,16,16,-16,-16,16,-16,-16,64,-16,16,16,-16,16,-16,-16,-16,-16,-16,-16,-16,-16,16,-16,-16,16,-16,16,16,-16,16,16,-16,16,-16,16,16,16,-16,16,-16,-16,16,-16,-16,16,16,-16,-16,-16,16,-16,-16,16,-16,16,-16,16,16,16,-16,16,16,16,-16,-16,-16,16,16,-16,-16,16,16,16,16,16,-16,-16,-16,16,-16,-16,-16,-16,-16,16,16,-16,16,-16,-16,16,16,16,-16,-16,16,16,16,16,16,-16,-16,16]
[16,16,16,-16,-16,-16,-16,16,16,16,16,16,16,16,16,-16,-16,16,16,16,16,-16,-16,16,-16,-16,16,16,-16,-16,-16,-16,-16,16,-16,-16,-16,16,-16,-16,16,-16,-16,-16,16,-16,16,-16,16,16,-16,16,16,-16,-16,16,16,16,-16,16,-16,-16,-16,-16,-16,16,16,-16,-16,-16,-16,-16,-16,16,-16,-16,-16,-16,-16,-16,-16,16,-16,-16,16,-16,16,-16,-16,16,-16,16,16,16,-16,16,16,-16,-16,16,16,-16,16,16,-16,16,16,-16,16,16,-16,16,16,-16,-16,-16,16,-16,-16,-16,-16,-16,-16,16,16,16,16,16]
[16,-16,16,-16,16,16,16,16,16,16,16,16,16,-16,16,-16,16,16,16,16,16,16,16,-16,16,-16,-16,16,-16,16,16,16,16,16,16,64,-64,-16,16,-16,16,16,-64,16,16,-16,16,16,-16,16,16,-16,-16,-16,16,-16,-16,-16,16,-16,16,16,16,16,-16,16,-16,16,16,-16,16,-16,-16,-16,16,-16,16,-16,-16,16,16,-16,16,16,16,-16,16,16,16,16,16,16,-16,16,-16,16,-16,16,-16,-16,-16,16,-16,16,16,16,-16,-16,16,-16,16,16,-16,-16,-16,16,16,-16,-16,16,-16,16,-16,16,-16,16,-16,-16]
[16,16,16,16,16,-16,16,16,16,-16,-16,16,-64,16,-16,16,16,16,16,-16,16,-16,-16,-16,16,-16,16,-16,-16,-16,16,-16,-16,16,16,-16,16,-16,16,-16,-16,16,16,-16,16,-16,16,-16,-16,-16,16,16,-16,16,16,-16,16,-16,16,16,-16,-16,-16,16,-16,16,-16,16,-16,-16,-16,-16,16,-16,-16,16,16,-16,16,-16,16,16,-16,16,16,16,-16,-16,16,-16,-16,16,-16,-16,16,16,-16,-16,-16,-16,-16,-16,16,-16,-16,16,-16,16,-16,16,16,16,16,16,-16,-16,-16,16,-16,-16,-16,-16,16,-16,-16,16,16,16]
[-16,16,-16,16,-16,-64,-16,16,16,-16,-16,-16,-16,-16,16,16,16,16,16,-64,-16,-64,-16,16,16,-64,16,-16,-16,-16,-16,-16,-16,-16,16,-16,-16,-16,-16,16,-16,-16,16,16,-16,16,-16,16,-16,-16,-16,-16,16,-16,16,16,-16,-16,-16,16,-16,-16,-64,16,-16,-16,16,-16,-16,-16,16,-16,16,-16,16,-16,-16,-16,16,16,16,-16,16,-16,16,-16,-64,16,-16,-64,-16,-16,-16,-16,-16,-16,-16,-16,-16,-16,16,-16,-16,16,-16,-16,-16,-16,-16,-16,-16,-16,16,-16,-16,-16,-16,-16,-16,16,-16,-16,16,-16,-16,16,16,-16]
[16,16,-16,-16,-16,16,16,-16,-16,-16,16,-16,-16,-16,16,16,16,16,-16,16,16,-16,-16,-16,-16,16,16,16,-16,16,16,-64,-16,16,-16,-64,16,-16,-16,16,16,16,16,-16,16,16,16,16,-16,-16,-16,16,16,-16,-16,-16,-16,16,-16,16,-16,-16,-16,16,-16,16,-16,-16,-16,-16,-16,-16,-16,16,16,-16,16,16,16,-16,16,-16,16,-16,-16,16,16,-16,16,-16,16,16,16,16,-16,-16,-16,-16,-16,-16,16,-16,16,16,16,16,16,-16,-16,-16,16,-16,-16,-16,16,-16,16,16,16,-16,-16,16,16,-16,64,16,16,16]
[16,-16,-16,-16,16,16,-16,-16,-16,-16,-16,-16,-16,16,64,16,16,16,-16,16,16,16,-16,-16,-16,16,16,16,16,64,16,-16,16,16,16,16,16,-16,-16,16,16,-16,16,-16,-16,16,16,16,16,-16,-16,16,-16,-16,16,-16,16,-16,-16,-16,-16,16,-16,-16,16,16,-16,-16,-16,16,-16,-16,16,16,-16,-16,16,-16,-16,-16,16,16,-16,-16,-16,-16,16,16,16,16,-16,-16,16,-16,-16,16,-16,16,-16,16,-16,-16,16,-16,-16,16,-16,16,-16,-16,16,16,-16,-16,16,-16,-16,16,16,-16,-16,-16,16,-16,16,16,16,16]
[16,16,-16,16,-16,16,-16,-16,-16,16,-16,16,-16,16,16,16,-64,16,16,-16,16,-16,16,16,-16,-16,16,-64,16,-64,-16,16,-16,-16,-16,-16,16,16,-64,-16,-16,-16,-16,16,-64,-16,-64,-64,16,16,-16,16,16,16,-16,16,16,16,16,-16,16,16,-64,16,16,-64,64,-16,16,16,-16,16,16,-16,16,16,-16,-16,-16,-16,-16,-16,16,16,-16,-16,-64,-16,16,16,-16,-16,16,16,16,16,64,-16,16,-16,16,16,16,-64,-16,-16,-64,-16,16,16,-16,-64,-16,-16,-64,-16,16,-16,-16,-16,64,16,16,16,-16,-16,16,16]
[-16,16,-16,-16,-16,16,16,-16,16,16,16,16,64,-16,16,-16,16,-16,16,16,-16,64,16,-64,16,-16,-16,16,-16,16,-16,16,64,-16,16,16,-64,-16,-16,16,-16,-16,-16,-16,-16,-16,-16,16,-16,64,-16,-16,-16,-16,16,-16,16,16,64,16,-16,16,-16,16,-16,16,16,-16,-16,-16,16,-16,-16,-16,16,-16,-16,-16,-16,16,16,-16,16,16,-16,16,16,16,-16,16,-16,-16,-16,16,-16,-16,16,16,-16,16,-16,16,-16,16,-16,-16,-16,16,-16,16,16,16,16,-16,16,16,16,-16,-16,-16,16,-16,-16,16,16,16,16,-16]
[-16,16,16,16,-16,16,16,-16,-16,-16,16,16,16,16,16,16,-16,-16,16,-16,-16,16,16,-16,-16,16,-16,16,16,-16,-16,16,-16,-16,16,16,-16,16,16,-16,-16,-16,-16,-16,-16,16,-16,16,16,16,16,16,16,16,-16,16,-16,-16,-16,-16,16,-16,-16,16,-16,16,-16,-16,16,-16,-16,-16,16,16,16,-16,-16,-16,16,16,-16,16,16,16,-16,16,16,16,-16,16,16,16,16,-16,-16,16,16,16,-16,16,-16,16,16,-16,16,16,-16,-16,-16,-16,-16,-16,-16,-16,16,-16,16,16,-16,-16,16,16,-16,-16,-16,-16,-64,-16]
[16,-16,16,16,-16,-16,-16,-16,16,-16,-16,-16,16,16,16,-16,-16,-16,-16,16,16,-16,16,-16,-16,16,-16,-16,16,16,16,16,16,16,-16,16,16,16,16,-16,16,-16,16,16,-16,16,16,-16,-16,16,16,16,-16,-16,-16,-16,16,16,-16,16,16,-16,16,-16,-16,-16,-16,-16,-16,-16,-16,-16,-16,16,16,16,16,16,-16,-16,16,16,16,-16,-16,-16,-16,16,16,16,16,16,-16,16,16,16,-16,16,16,16,-16,-16,16,16,-16,16,16,16,16,-16,-16,16,16,-16,16,-16,16,-16,-16,-16,16,-16,16,-16,16,16,16,-16]
[16,-16,16,16,16,16,64,-16,-16,16,16,16,16,-16,16,-16,16,16,-16,16,-16,16,16,-16,-16,16,-16,16,-16,16,16,16,16,16,16,16,-16,-16,16,16,16,-16,-16,-16,-16,16,-16,16,-16,16,-16,-16,-16,16,-16,-16,-16,-16,16,-16,-16,16,16,-16,-16,16,-16,-16,-16,-16,16,-16,16,-16,16,-16,16,16,16,-16,-16,16,-16,16,16,-16,16,16,16,-16,16,-16,-16,16,16,16,-16,16,-16,-16,16,16,16,16,-16,16,16,-16,16,-16,16,16,-16,16,16,16,-16,-16,-16,-16,-16,16,-16,-16,-16,16,16,-16]
[16,-16,-16,-16,16,16,64,16,16,16,64,16,16,-16,16,16,16,16,16,16,-16,16,16,-16,16,16,-16,16,16,16,16,-16,64,-16,-16,16,-64,-16,16,-16,16,-16,-64,-16,16,16,16,16,-16,16,16,-16,-16,-16,-16,-16,-16,-16,16,16,-16,-16,16,-16,-16,16,-16,-16,-16,-16,16,16,16,16,16,-16,16,-16,-16,16,16,-16,-16,16,-16,-16,16,64,16,16,16,16,-16,16,-16,-16,-16,16,-16,16,16,16,-16,16,-16,16,16,16,-16,16,64,16,-16,-16,16,16,-16,16,-16,16,-16,64,-16,16,16,16,-16,-16]
[16,16,-16,-16,-16,16,-16,16,16,64,-16,16,-16,16,16,16,-16,-16,-16,16,16,16,16,-16,16,16,64,-16,-16,-64,-16,16,16,-16,16,16,16,16,-64,-16,-16,16,-16,16,-64,16,-16,-64,-16,16,-16,16,16,16,16,16,16,-16,16,-16,16,16,-16,16,-16,-16,-16,-16,-16,-16,16,-16,16,-16,16,-16,-16,-16,-16,16,16,-16,16,-16,-64,-16,-16,16,-16,16,-16,-16,-16,16,-16,-16,16,16,-16,-16,16,16,16,-64,16,-16,-16,16,-16,-16,16,-64,16,-16,-64,-16,-16,-16,16,-16,16,16,16,16,16,-16,16,16]
[-64,-16,-16,16,16,-16,-16,-16,16,16,16,-16,-64,-16,-16,-16,16,-16,-16,-64,-16,-16,16,-16,16,-64,-16,-16,16,16,-16,-16,-16,16,-16,-64,-16,-16,-16,-16,-16,16,-16,-16,16,-16,-16,-16,-16,-16,-16,-16,16,16,-16,-16,-16,-16,-16,16,-16,16,16,-16,-16,16,16,-16,16,16,-16,16,-16,-16,-16,-16,-16,-16,16,-16,-16,16,16,-16,-16,-16,-16,-64,16,-16,16,-16,-16,-64,16,16,16,16,-16,-16,-16,-16,-16,-16,-16,16,16,-16,-16,-16,-16,-16,-16,-16,16,16,-16,16,-16,-16,16,-16,-16,-16,16,16,-16,16]
[16,-16,-16,-16,-16,16,16,-16,-16,16,16,16,16,16,16,16,-16,-16,16,16,16,16,16,-16,16,16,16,16,16,16,-16,16,16,-16,16,16,16,16,-16,-16,-16,16,-16,-16,-16,16,-16,-16,-16,64,16,-16,16,-16,16,16,-16,-16,16,-16,-16,16,-16,16,-16,16,16,16,-16,-16,16,-16,-16,-16,16,-16,-16,-16,-16,-16,16,-16,16,16,-16,16,-16,16,-16,16,16,16,-16,-16,-16,16,16,16,-16,-16,-16,64,16,-16,-16,-16,16,-16,-16,-16,16,-16,16,16,16,16,16,-16,-16,-16,16,16,-16,16,16,-16,-16,-16]
[16,-16,16,-16,16,-16,16,-16,-16,-16,-16,16,16,-16,-16,16,-16,16,-16,-16,-16,-16,-16,16,16,16,-16,-16,16,16,16,-16,16,16,16,16,-16,-16,16,-16,-16,16,16,-16,16,-16,16,16,-16,16,16,16,16,-16,-16,-16,16,-16,-16,-16,-16,16,16,-16,16,16,-16,-16,-16,16,16,-16,16,16,-16,-16,16,16,-16,16,-16,-16,16,16,16,16,16,16,-16,-16,16,-16,-16,-16,16,-16,-16,-16,-16,-16,-16,16,16,-16,-16,-16,16,-16,-16,16,-16,-16,-16,16,-16,-16,-16,-16,16,16,-16,-16,-16,-16,-16,16,16,-16]
[16,16,16,-16,-16,-16,16,-16,-16,16,16,16,16,-16,-64,-16,16,-16,16,16,-16,16,16,-16,16,-16,-16,16,16,-16,16,-16,16,-16,16,-16,-16,16,16,-64,16,-16,-64,16,-16,-16,-16,16,-16,16,16,-16,-16,-16,16,16,-16,-16,16,-16,16,-16,16,-16,-16,-16,16,16,-16,16,16,-16,16,16,-16,16,16,-16,-16,-16,16,16,16,-16,16,16,16,16,-16,16,16,16,-16,-16,-16,-16,-16,16,-16,-16,16,16,-16,16,-16,16,-16,-16,-16,16,16,16,16,16,16,16,16,-16,-16,16,16,16,-16,-16,-16,-16,-16,-16]
[16,-16,16,16,-16,-16,16,-16,-16,-16,16,16,16,16,16,16,-16,16,16,-16,16,16,16,-16,16,16,16,16,16,-16,16,16,16,-16,-16,64,-16,-16,16,-16,-16,-16,-16,16,16,16,16,-16,16,16,16,-16,-16,-16,-16,16,-16,-16,64,16,64,-16,64,-16,-16,16,16,16,16,-16,16,16,-16,-16,-16,16,16,16,-16,16,16,16,-16,-16,16,-16,16,64,16,64,16,16,-16,16,16,-16,16,64,16,-16,-16,16,16,16,-16,16,16,16,-16,16,16,-16,-16,-16,16,16,-16,16,-16,16,16,16,16,16,16,16,16,16]
[16,-16,-64,-64,-64,64,-16,16,16,16,16,64,-64,-16,64,-16,-64,-16,64,16,64,16,64,-64,16,16,16,-64,-16,-64,-64,16,16,-16,16,16,-16,64,-64,-16,-16,16,-16,64,-64,-16,-64,-64,-16,16,-16,16,16,16,16,-16,16,16,16,-16,16,64,-64,64,16,-64,64,-16,16,-16,16,-16,-16,-16,64,16,-64,-16,-64,-16,16,-16,64,16,-16,16,-64,16,-64,16,-64,-16,-16,-16,-16,-16,64,16,-16,-16,16,16,16,-64,-16,-64,-64,-16,-16,-16,16,-64,64,-16,-64,16,16,16,-16,16,64,-16,-16,64,64,-16,64,-16]
[-16,-16,-64,-16,-16,16,-64,-16,16,16,16,16,-16,-16,16,-16,-16,-16,64,16,16,-64,16,-16,16,-16,16,-16,-16,-64,-16,-16,-16,-16,-16,-16,-16,16,-16,-16,16,16,-16,16,-16,16,-16,-16,-16,-16,-16,16,16,-16,-16,16,-16,-16,-16,-16,-16,16,-16,16,-16,-64,16,16,-16,-16,16,-16,-16,16,64,-16,-16,16,-16,-16,-16,-16,16,-16,-16,16,-16,-16,-16,-16,16,-16,16,16,16,-16,64,16,-16,16,16,16,16,-16,16,-16,-16,16,-16,-16,-16,-64,64,-16,-64,-16,64,-16,-16,-16,16,16,-16,16,16,-16,16,-16]
[16,-16,16,16,-16,16,16,16,16,-16,-16,-16,-16,16,64,16,-16,-16,-16,-16,16,-16,-16,16,-16,16,16,-16,16,16,-16,-16,64,16,-16,-16,16,-16,-16,16,16,-16,64,-16,16,16,-16,16,-16,-16,-16,-16,16,-16,16,-16,-16,16,-16,16,-64,16,-16,-16,-16,-16,-16,16,-16,16,-16,16,16,16,-16,-16,16,16,16,16,16,16,-16,-16,-16,16,-16,-16,-16,16,16,16,16,-16,16,16,-16,-16,16,-16,-16,-16,16,16,16,16,-64,-16,16,-16,16,-16,-16,16,-16,-16,16,-16,16,-16,-16,-16,16,16,16,-16,16,16]
[64,16,-16,-16,16,16,16,-16,16,-16,16,16,-16,16,16,16,-16,-16,16,16,16,-16,-16,-16,-16,-16,16,16,-16,-16,16,-16,16,16,16,-16,-16,-16,-16,16,16,-16,16,16,-16,16,16,16,-16,-16,16,-16,16,-16,16,-16,16,16,-16,16,-64,64,-16,64,-16,16,16,16,-16,-16,16,-16,16,-16,-16,-16,-16,-16,16,-16,64,-16,16,-16,-16,-16,-16,16,16,16,-16,16,-16,16,-16,64,-16,-16,-16,-16,-16,-16,16,-16,-16,-16,-16,16,-16,16,64,16,16,-16,16,-16,16,-16,16,16,-16,-16,-16,-16,16,16,16,-16]
[16,16,-16,16,-16,16,16,-16,-16,-16,16,-16,-16,16,64,16,16,16,-16,16,16,-16,-16,-16,-16,16,16,16,-16,16,16,-16,-16,16,-16,-16,-16,-16,-16,16,-16,-16,16,-16,16,-16,16,16,-16,-16,-16,16,16,16,-16,-16,-16,16,-16,16,-16,-16,-16,-16,-16,16,-16,16,16,-16,16,-16,16,16,-16,16,16,16,16,-16,64,16,-16,-16,-16,16,16,-16,16,16,16,-16,-16,16,-64,-64,-16,-16,16,16,16,-16,-16,16,-16,16,16,16,-16,-16,16,-16,-16,-16,-16,-16,16,16,16,-16,-16,16,16,-16,16,16,16,-16]
[16,16,16,-16,16,-16,16,-16,16,16,16,16,-16,-16,16,16,16,-16,-16,16,16,-16,16,16,-16,-16,16,16,16,16,16,-16,16,16,16,-16,16,16,16,16,16,16,16,16,16,16,-16,16,16,16,16,16,-16,16,16,16,16,16,16,-16,16,-16,16,16,16,16,16,-16,-16,16,-16,16,-16,16,-16,-16,-16,-16,16,16,-16,16,-16,16,16,16,16,16,-16,16,16,-16,16,-16,16,16,16,16,16,16,16,16,16,16,-16,-16,-16,16,-16,16,16,16,16,-16,-16,16,16,16,16,-16,16,-16,-16,16,-16,16,16,16]
[16,16,16,-16,16,16,16,-16,16,16,16,16,16,16,16,16,16,-16,16,16,16,16,16,-16,-16,16,16,-16,-16,-16,-16,16,16,-16,-16,16,-16,-16,-16,16,16,-16,-16,16,16,-16,16,16,-16,16,16,16,-16,16,16,-16,-16,-16,16,-16,16,-16,16,-16,-16,-16,-16,16,16,16,16,16,16,16,16,16,-16,-16,-16,-16,16,-16,16,16,-16,16,16,16,-16,16,16,-16,-16,-16,-16,-16,16,16,16,16,-16,16,-16,16,-16,16,16,16,-16,16,16,-16,16,16,16,16,-16,-16,-16,-16,16,16,-16,16,16,-16,16,-16]
[-16,-16,16,-16,-16,-16,64,16,16,16,16,16,16,-16,-16,-16,16,16,16,16,16,16,16,-16,16,-16,16,16,-16,-16,16,-16,16,-16,-16,16,-16,16,16,-16,-16,16,-16,64,-16,16,-16,-16,-16,16,16,-16,16,16,64,16,16,16,16,16,16,-16,16,-16,-16,16,-16,16,16,-16,16,-16,16,16,-16,-16,16,-16,-16,16,16,16,-16,-16,16,-16,16,16,-16,16,-16,-16,-16,16,-16,-16,16,16,-16,16,16,16,16,16,16,-16,-16,16,16,-16,16,16,16,16,16,16,-16,16,-16,16,-16,16,-16,-16,-16,16,16,-16]
[16,-16,16,16,16,-16,16,16,16,16,16,-16,16,-16,-16,-16,16,16,-16,-16,16,-16,-16,-16,16,-16,-16,16,-16,-16,16,-16,16,-16,-16,-16,-16,-16,16,-16,16,-16,-16,16,-16,-16,16,16,-16,16,-16,16,-16,16,16,16,-16,-16,16,-16,16,-16,16,-16,16,-16,16,16,-16,-16,16,-16,-16,16,16,16,16,-16,16,-16,16,16,-16,-16,16,16,16,-16,16,16,16,16,16,-16,-16,16,-16,-16,-16,16,16,16,-16,16,-16,16,16,-16,16,-16,16,16,-16,-16,-16,16,-16,-16,16,-16,-16,16,-16,-16,-16,-16,16,16]
[-64,-16,-16,16,16,-16,-16,-16,16,-16,-16,16,-16,-16,-16,-16,-64,16,16,-16,-16,16,-16,16,-16,-16,-64,-16,16,-64,-16,-16,-16,16,-16,-16,16,16,-16,-16,-16,-16,-64,-16,16,16,16,-16,-16,-16,-16,-16,64,-16,-16,64,-16,-16,-16,-16,-16,16,-16,16,16,-16,16,-16,16,16,-16,-16,-16,-16,16,16,-16,16,16,16,-16,-16,64,-16,16,-16,-16,-16,16,16,16,16,16,-16,-16,16,16,-16,-16,-16,-16,-16,-16,-16,16,16,16,16,16,-16,-16,-64,16,-16,-16,-64,64,-16,-16,-16,16,-16,-16,-16,16,16,-16,16]
[-16,-16,-64,-16,-16,16,-16,-16,16,64,16,16,-16,16,16,-16,-16,-16,16,16,16,16,16,-16,-16,16,16,-16,16,-64,-64,64,16,-16,16,16,-16,16,-16,-16,-16,16,-16,16,16,-16,-64,-16,16,16,16,16,16,-16,16,-16,16,16,16,-16,16,16,-16,64,-16,-16,16,16,-16,-16,-16,16,16,16,16,-16,-64,-16,-16,16,16,16,16,-16,-16,16,-16,16,-64,16,-16,-16,-16,-16,-16,-16,64,16,-16,-16,-16,16,16,-16,-16,-16,-64,-16,-16,-16,16,-16,16,-16,-16,16,16,-16,-16,-16,16,16,16,64,16,16,16,-16]
[16,-16,16,-16,-16,16,64,-16,-16,16,64,-16,16,-16,-16,16,16,-16,16,16,16,64,-16,-16,16,16,-16,16,16,16,16,16,64,-16,-16,16,-64,-16,16,-16,-16,-16,-16,-16,-16,-16,16,16,-16,64,16,-16,-16,-16,16,-64,-16,16,64,16,16,16,16,-16,16,16,16,-16,-16,-16,16,-16,-16,-16,-16,16,-16,-16,-16,16,16,-16,16,16,-16,-16,16,16,-16,16,-16,16,-64,16,-16,-16,16,64,-16,-16,-16,16,-16,16,16,-16,16,16,-16,-16,16,16,-16,-16,16,16,16,16,-16,16,16,16,-16,-16,16,-16,-16,-16]
[64,-16,16,16,16,16,16,-16,16,-16,16,16,16,16,-16,-16,16,16,-16,-16,-16,16,-16,-16,16,-16,16,16,-16,16,16,-16,64,16,-16,16,-16,-16,16,16,-16,-16,-16,16,16,-16,16,16,-16,16,16,16,-64,-16,16,-16,16,-16,64,16,16,16,64,16,16,16,-16,-16,16,-16,16,-16,16,16,16,-16,16,-16,-16,-16,16,16,-16,16,16,16,16,16,16,-16,16,16,-16,16,16,16,-16,64,-16,-16,-16,16,16,16,16,16,16,16,-16,16,16,16,16,16,16,64,-16,16,-16,-16,16,64,-16,16,-16,-16,-16,-16]
[16,16,-16,-16,-16,-16,-16,-16,16,16,64,16,-16,-16,16,16,-16,-16,16,-16,16,-64,-16,-16,16,16,16,-16,16,-16,-16,-16,64,-16,-16,16,-16,-16,-16,-16,16,-16,-16,64,-64,-16,-16,16,-16,64,-16,-16,-16,16,16,16,16,-16,64,-16,16,16,-16,16,16,16,16,-16,-16,-16,64,-16,-16,16,16,-16,-16,-16,-16,-16,16,16,16,-16,16,16,-16,16,-16,-16,-16,16,-16,-16,-16,16,16,16,-16,-16,-16,64,-16,16,-16,-64,-64,16,-16,-16,16,-16,16,16,-16,16,16,-16,-16,-16,16,16,-16,16,-16,-16,64,-16]
[-16,-16,-64,16,16,-16,-64,16,-16,-16,-16,64,-64,-64,16,-16,-64,16,64,-16,16,-16,16,16,16,-16,-16,-64,16,-16,-64,-64,-64,16,-16,-64,16,64,-64,-16,16,16,-16,-16,-16,-16,-64,-64,16,-16,16,-16,16,-16,16,64,-16,-16,-16,-16,-64,64,-64,64,-16,-64,64,16,16,16,-16,-16,-16,-16,64,-16,-64,-16,16,-16,-16,16,64,-16,-16,-16,-64,-64,16,-16,-16,-16,-16,-16,16,16,64,-16,-16,-16,16,-16,-16,-64,-16,16,-16,16,-16,-16,-16,-64,64,-16,-64,-64,64,16,-16,-16,64,-64,-16,16,64,-16,16,16]
[16,-16,16,-16,16,-16,-16,-16,16,-16,-16,16,16,16,16,-16,-16,-16,16,-16,-16,-16,16,-16,-16,-16,-16,-16,-16,16,-16,16,-16,-16,-16,16,16,16,16,16,-16,-16,16,-16,-16,-16,-16,-16,16,16,-16,16,-16,-16,-16,16,16,-16,16,-16,-16,16,16,-16,-16,16,-16,-16,16,-16,16,-16,16,-16,-16,-16,-16,-16,16,16,16,16,16,16,16,16,16,-16,16,-16,-16,-16,-16,-16,16,-16,16,16,-16,-16,16,16,-16,16,-16,-16,-16,16,-16,-16,-16,16,-16,16,16,16,-16,-16,-16,16,-16,-16,-16,-16,16,16,-16,-16]
[-16,16,16,16,16,16,16,-16,-16,16,-16,16,16,-16,-16,-16,-16,-16,-16,16,16,-16,-16,16,-16,16,-16,16,-16,16,-16,16,16,16,-16,16,16,16,16,16,16,-16,-16,-16,16,16,16,-16,16,-16,-16,16,-16,16,-16,16,16,-16,16,-16,-16,-16,16,16,16,-16,-16,-16,16,-16,-16,-16,16,16,16,-16,16,-16,16,-16,16,16,16,16,16,-16,-16,16,16,16,-16,-16,-16,-16,16,-16,16,16,-16,-16,-16,-16,16,16,-16,-16,16,-16,-16,16,16,16,-16,16,16,-16,16,16,16,-16,16,-16,16,-16,16,16,16,-16]
[16,16,16,-16,16,-16,16,-16,-16,-16,16,-16,16,-16,-16,-16,64,16,-16,-16,-16,16,16,-16,16,16,16,-16,-16,16,16,-16,16,16,-16,16,16,16,16,-16,-16,-16,16,16,16,-16,-16,16,-16,16,-16,16,16,-16,-16,-16,16,16,16,-16,16,-16,16,16,-16,16,16,16,16,-16,16,-16,-16,-16,-16,-16,16,16,-16,-16,-16,-16,-16,16,16,16,16,64,16,16,-16,-16,16,16,16,-16,-16,-16,16,-16,16,16,-16,-16,16,-16,16,-16,-16,-16,16,16,-16,16,16,-16,16,-16,-16,16,-16,16,16,16,16,16,-16,16]
[64,-16,16,-16,-16,16,64,-16,-16,16,64,16,64,16,16,16,-16,-16,16,16,-16,16,16,-16,16,64,64,16,-16,-16,-16,16,16,-16,16,16,-16,16,16,-16,-16,-16,-16,16,-16,16,-16,16,16,64,16,-16,-16,-16,16,16,16,-16,64,-16,16,16,16,16,-16,16,16,-16,-16,-64,16,-16,16,-16,16,-16,16,-16,-16,-16,16,-16,16,16,16,64,16,16,-64,64,16,-16,-16,64,-16,-16,16,64,-16,16,16,16,-16,16,16,-64,-16,-16,-16,-16,16,-16,16,-16,16,16,16,16,-16,16,16,16,-16,16,16,-16,16,-16]
[16,-16,-16,16,-16,16,-16,-16,16,16,16,-16,16,-16,16,-16,16,-16,-16,16,-16,-16,16,-16,-16,16,-16,16,16,-16,16,-16,16,-16,-16,-16,16,-16,-16,-16,-16,-16,16,16,-16,16,16,-16,-16,16,-16,-16,16,16,16,16,-16,-16,16,-16,-16,16,16,16,16,16,-16,-16,-16,-16,-16,-16,-16,16,-16,16,-16,-16,-16,-16,-16,-16,16,-16,-16,16,-16,-16,16,-16,-16,-16,-16,-16,-16,-16,16,-16,-16,16,-16,-16,-16,-16,-16,-16,16,-16,16,16,-16,-16,-16,16,-16,16,16,16,-16,16,16,-16,-16,16,-16,16,16,-16]
[16,-16,-16,-16,-16,-16,-16,16,-16,16,16,16,16,16,-16,16,-16,-16,16,16,16,-16,16,-16,-16,16,16,16,16,-16,-16,16,16,-16,-16,16,16,16,-16,-16,-16,-16,-16,16,-16,16,-16,-16,16,-16,-16,-16,16,-16,16,-16,-16,16,-16,-16,16,16,-16,16,-16,-16,16,-16,-16,16,-16,-16,16,-16,16,-16,16,16,16,-16,16,-16,16,16,-16,16,-16,16,16,16,-16,16,16,16,64,-16,16,16,16,-16,16,16,16,16,-16,16,-16,-16,16,-16,-16,-16,16,16,-16,16,16,-16,-16,-16,16,16,-16,-16,16,16,16,-16]
[-16,16,-16,-16,16,16,16,16,16,-16,-16,-16,-16,-16,-16,-16,16,-16,16,16,-16,16,16,16,-16,16,-16,16,-16,-16,-16,-16,16,16,16,-16,-16,-16,16,-16,16,16,16,-16,16,16,16,16,-16,-16,-16,16,-16,-16,-16,-16,16,-16,16,-16,-16,16,16,-16,16,-16,-16,-16,16,-16,16,16,16,16,-16,-16,16,16,-16,16,-16,16,-16,-16,16,16,-16,16,16,-16,-16,-16,-16,-16,-16,-16,16,-16,16,-16,-16,16,16,16,16,16,16,-16,16,16,16,16,-16,16,16,-16,-16,16,16,-16,16,16,16,16,-16,-16,16,-16]
[-16,16,-16,16,-16,16,-16,16,16,16,16,16,16,16,-16,16,16,16,-16,16,16,16,-16,-16,-16,16,-16,-16,16,-16,-16,16,16,-16,-16,-16,-16,16,16,-16,-16,16,-16,16,-16,-16,16,16,16,-16,16,16,-16,-16,-16,16,16,16,16,-16,16,-16,-16,16,16,16,16,-16,16,16,-16,-16,16,16,-16,16,16,16,-16,16,16,16,16,16,-16,-16,16,16,-16,16,-16,16,16,-16,-16,16,-16,-16,16,16,16,16,-16,16,-16,-16,16,-16,-16,16,16,16,16,16,-16,16,16,-16,16,-16,16,16,-16,-16,-16,16,-16,-16]
[16,-16,-64,-16,-16,-16,-16,-16,16,16,-16,16,-16,-16,-64,-16,-16,16,16,-16,-16,-16,16,-16,16,-16,16,-16,-16,-16,-16,16,-16,-16,-16,-16,16,64,-16,-16,-16,-16,16,16,-16,-16,-16,-16,16,-16,-16,-16,16,16,16,16,16,16,-16,-16,-16,16,-16,64,-16,16,16,16,16,16,16,-16,-16,16,16,-16,-16,-16,-16,-16,-16,16,16,-16,-16,-16,-16,16,-16,-16,-16,-16,16,-16,16,16,16,-16,-16,-16,-16,-16,-16,-16,-16,-16,-16,-16,16,-16,-16,-64,16,16,-16,-16,16,16,-16,-16,16,-16,-16,-16,64,-16,-16,-16]
[-16,-16,-16,-16,16,-16,16,16,-16,16,16,16,16,16,-16,-16,-16,-16,16,16,-16,16,16,-16,16,-16,-16,-16,16,-16,-16,-16,16,16,-16,-16,16,16,-16,-16,16,16,-64,16,16,-16,-16,-16,-16,16,16,-16,16,-16,16,16,16,-16,16,-16,16,64,-16,16,-16,-16,16,-16,16,16,-16,-16,-16,-16,16,-16,-16,-16,-16,16,-16,-16,16,-16,-16,16,16,-16,16,16,-16,16,16,-16,16,16,16,16,-64,-16,-16,16,16,-16,16,16,16,16,-16,-16,16,16,16,-16,16,16,16,-16,-16,-16,16,16,-16,16,16,-16,-16,-16]
[-16,-16,16,16,16,16,16,16,-16,16,16,-16,16,16,-16,-16,16,16,16,16,16,16,16,16,-16,-16,16,16,-16,16,16,16,16,16,-16,16,16,-16,16,-16,-16,-16,-16,-16,16,16,-16,16,16,16,16,-16,-16,16,-16,16,16,-16,16,-16,16,16,-16,16,-16,16,-16,-16,-16,16,16,16,-16,16,-16,16,16,-16,16,-16,-16,-16,16,16,16,16,-16,16,-16,16,-16,-16,16,16,16,16,-16,16,-16,-16,-16,16,16,16,16,16,16,16,-16,16,16,16,16,16,16,-16,-16,16,-16,-16,16,-16,-16,16,16,16,-16,-16]
[-16,-16,-16,16,16,-16,-16,-16,16,-16,-16,16,-16,16,-16,-16,16,16,16,16,-64,16,16,16,-16,-16,-16,16,-16,-16,16,-16,-16,16,16,-16,16,16,16,-64,16,-16,-16,-16,16,16,-16,-16,-16,-16,16,16,-16,-16,-16,16,-16,-16,-16,16,-16,16,16,16,-16,16,16,-16,16,16,-16,-64,16,-16,16,16,-16,-16,16,-16,-16,-16,16,-16,-16,16,-16,-16,16,16,16,16,-16,16,16,16,16,-16,-16,16,-16,-16,-16,16,16,16,16,16,-16,16,-16,16,-16,-16,16,-16,16,-16,-16,-16,16,-16,-16,16,16,-16,-16,16]
[-16,-16,16,16,16,16,-16,16,-16,-16,-16,16,-16,-16,-16,-16,16,64,16,16,-16,16,-16,16,-16,-16,-16,16,-16,-16,16,16,16,-16,-16,-16,16,16,16,-16,-16,-16,-16,-16,16,-16,16,-16,-16,-16,-16,-16,-16,-16,-16,-16,16,16,-16,16,-16,-16,64,16,-16,16,-16,-16,16,16,16,-16,16,16,16,-16,16,-16,16,16,-16,16,-16,-16,-16,16,-16,16,16,-16,16,-16,16,16,16,16,-16,-16,-16,-16,-16,16,-16,16,-16,16,16,16,16,-16,16,16,-16,16,16,-16,16,16,-16,16,-16,-16,-16,-16,-16,16,-16,-16]
[16,16,16,-16,-16,-16,16,-16,-16,16,16,-16,16,16,-16,-16,-16,-16,-16,16,-16,-16,16,-16,16,16,-16,16,16,-16,-16,16,-16,-16,-16,16,16,-16,16,-16,16,-16,16,-16,-16,-16,-16,-16,-16,16,16,-16,16,16,16,-16,-16,-16,16,16,16,-16,16,-16,16,16,16,-16,16,16,-16,-16,-16,-16,-16,-16,-16,-16,-16,-16,16,16,16,-16,-16,16,16,-16,-16,-16,-16,-16,-16,-16,16,-16,-16,16,16,16,16,16,16,-16,-16,-16,16,16,16,-16,16,16,-16,-16,16,16,-16,-16,-16,16,-16,16,16,16,-16,16,-16,16]
[16,16,-16,-16,-16,16,64,16,-16,16,16,16,16,16,16,16,-16,16,-16,16,16,16,16,-16,-16,16,16,16,16,16,-16,-16,16,16,16,16,-16,-16,16,-16,16,-16,-16,16,-16,16,16,-16,-16,16,16,-16,16,-16,-16,16,16,16,16,16,16,-16,16,-16,-16,16,16,-16,-16,-16,16,-16,16,-16,16,16,16,-16,-16,16,16,-16,-16,16,-16,-16,16,16,16,16,16,-16,-16,16,-16,16,-16,16,-16,16,-16,16,-16,16,-16,-16,-16,-16,-16,-16,16,16,-16,-16,16,16,-16,16,-16,-16,16,16,-16,16,16,16,16,16]
[16,16,16,64,16,16,16,-16,-16,64,16,16,16,16,-16,16,-16,-16,16,16,16,16,16,-16,16,16,16,16,16,-16,16,64,-16,-16,16,16,16,16,16,-16,-16,-16,-16,16,16,-16,16,-16,-16,16,16,-16,16,16,16,-16,16,-16,-16,-16,64,-16,-16,16,16,16,16,-16,16,-16,-16,-16,16,16,16,16,16,16,16,16,16,-16,-16,64,-16,16,16,16,16,16,-16,-16,16,16,16,-16,16,16,16,-16,16,-16,16,16,-16,16,16,-16,16,-16,16,-16,16,-16,16,-16,16,-16,16,-16,16,16,16,16,16,16,-16,16]
[16,-16,-16,-16,-16,16,64,16,-16,16,16,-16,16,16,16,16,16,-16,-16,16,64,-16,-16,16,16,-16,16,-16,-16,-16,16,16,16,16,-16,16,16,16,-16,-16,-16,-16,16,16,16,16,-16,16,16,16,-16,-16,16,16,16,16,16,-16,64,16,64,16,16,-16,16,16,16,16,16,16,16,16,16,-16,16,-16,-16,16,-16,16,16,16,16,16,-16,16,-16,16,-16,16,16,16,16,16,16,-16,16,16,-16,16,-16,16,16,16,16,16,-16,-16,-16,-16,16,16,-16,-16,16,16,-16,-16,16,16,-16,64,16,-16,16,-16,16,16]
[16,-16,-16,-16,16,-16,16,16,16,-16,-16,16,16,16,-16,-16,16,16,16,-16,-16,16,-16,-64,16,-16,-16,16,-16,16,16,-16,16,16,16,16,-16,-16,16,16,16,-16,-16,16,16,16,16,16,16,16,16,16,-16,16,16,-16,-16,16,16,16,16,-16,16,-16,-16,16,16,-16,-16,-16,16,-16,16,-16,-16,-16,16,-16,-16,16,64,-16,-16,-16,16,-16,-16,16,16,16,16,-16,-64,16,16,16,16,-16,-16,16,-16,16,-16,16,-16,16,16,-16,-16,-16,-16,16,-16,16,16,-16,-16,-16,-16,-16,-16,16,-16,16,-16,16,16,-64]
[16,16,-16,-16,-16,16,16,-16,16,16,16,16,16,16,16,16,-16,16,16,64,-16,16,64,-16,16,16,16,16,-16,-16,-16,16,16,-16,-16,16,-16,16,-16,-16,16,16,-16,-16,-16,-16,-16,-16,-16,16,-16,-16,16,-16,16,16,-16,16,16,-16,16,16,16,16,-16,16,16,-16,16,-16,16,-16,16,16,16,16,-16,-16,16,16,16,16,16,16,-16,-16,16,16,-16,16,-16,16,16,16,-16,-16,16,16,-16,-16,16,16,-16,-16,16,-16,16,-16,16,16,16,-16,16,16,16,16,16,-16,16,16,16,16,-16,16,16,-16,64,16]
[16,-16,-16,-16,16,-16,-16,16,-16,-16,-16,16,16,16,16,16,-16,-16,16,-16,16,16,-16,16,16,-16,-16,-16,16,16,-16,16,16,-16,-16,16,-16,16,16,-16,-16,-16,16,16,16,16,-16,-16,16,16,-16,-16,-16,-16,-16,-16,-16,16,16,-16,16,-16,16,-16,-16,-16,-16,-16,16,-16,16,16,-16,-16,-16,-16,16,16,16,-16,16,-16,16,16,-16,16,-16,16,-16,-16,-16,-16,16,-16,-16,16,-16,-16,16,16,-16,-16,16,16,16,-16,16,-16,-16,16,16,16,-16,-16,16,16,-16,-16,-16,-16,-16,-16,16,-16,-16,16,-16,-16]
[16,16,-16,-16,-16,16,-16,-16,16,16,16,16,16,-16,-16,16,16,16,16,-16,16,16,-16,-16,-16,-16,-16,16,-16,16,-16,16,-16,-16,16,16,16,-16,16,16,16,-16,-16,-16,16,-16,16,16,16,16,-16,16,16,-16,-16,-16,-16,-16,16,16,-16,16,-16,16,-16,64,16,-16,-16,16,-16,16,-16,16,16,16,16,16,16,16,16,-16,-16,16,16,-16,16,64,-16,-16,16,-16,16,-16,16,16,-16,-16,16,16,-16,16,-16,16,-16,16,16,-16,-16,16,16,16,16,16,16,-16,-16,-16,16,-16,16,16,-16,16,16,16,16,-16]
[16,-16,-16,-16,16,16,16,16,-16,64,64,16,16,16,16,16,-16,16,16,16,-16,16,16,-16,-16,16,16,-16,-16,-16,-16,64,16,16,-16,16,16,16,-16,16,16,16,-16,16,16,-16,16,-16,16,64,-16,16,16,16,16,16,16,-16,16,16,-16,64,-16,64,16,16,16,-16,-16,16,16,-16,16,-16,16,16,16,-16,16,16,16,-16,16,16,16,16,-16,16,16,16,-16,16,16,16,-16,16,16,16,16,16,16,16,16,16,-16,-16,-16,-16,-16,-16,16,16,16,-16,-16,-16,16,-16,-16,-16,64,16,16,16,16,16,16,16]
[16,16,16,16,16,-16,16,-16,16,-16,16,16,16,16,16,16,-16,16,-16,16,16,16,-16,16,16,16,-16,16,-16,16,16,-16,16,16,-16,16,16,16,16,-16,16,16,-16,16,16,-16,-16,16,-16,-16,16,16,-16,-16,16,16,-16,16,16,16,16,-16,16,-16,16,-16,-16,16,16,-16,-16,16,16,16,16,16,16,16,16,-16,-16,-16,16,16,16,16,16,16,16,16,-16,16,16,16,16,-16,16,16,16,-16,16,-16,-16,16,16,16,-16,-16,-16,-16,-16,16,16,-16,16,-16,-16,-16,16,-16,16,16,-16,-16,16,16,16,16]
[16,16,16,-16,16,-16,16,-16,-16,16,16,16,-16,64,16,16,-16,-16,16,-16,16,-64,-16,16,-16,-16,64,16,-16,16,16,16,16,16,-16,64,-16,-16,-16,-16,-16,-16,16,-16,16,-16,-16,-16,-16,16,16,-16,-16,-16,16,-16,16,16,16,-16,16,16,-16,-16,-16,-16,-16,-16,16,-16,16,-16,-16,16,-16,-16,16,-16,16,16,16,16,16,-16,16,-16,-16,16,-16,16,-16,16,-16,16,-16,-16,-16,16,-16,16,16,16,16,-16,-16,-16,16,-16,-16,16,16,-16,16,-16,-16,16,16,-16,-16,-16,-16,-16,16,16,16,-16,16,-16]
[-16,-16,16,16,-16,-16,16,-16,16,-16,16,-16,-16,-16,-16,16,16,16,-16,-16,-16,16,-16,16,-16,-16,16,-16,-16,16,16,-16,16,-16,-16,16,-16,-16,-16,-16,-16,16,-16,16,16,16,-16,-16,16,16,-16,-16,-16,16,16,-16,-16,-16,-16,-16,16,16,-16,-16,16,-16,-16,16,16,16,16,16,16,-16,-16,-16,16,16,16,16,-16,-16,16,16,16,-16,16,16,-16,16,-16,16,16,16,16,-16,16,16,16,-16,16,16,-16,-16,16,-16,-16,-16,16,-16,-16,16,-16,-16,-16,16,-16,-16,-16,-16,16,-16,16,-16,-16,16,16,-16]
[-16,-16,16,16,16,-16,16,16,-16,-16,16,-16,-16,16,-16,-16,16,16,16,-16,-16,-16,16,16,16,-16,16,16,-16,16,16,-16,16,-16,-16,16,-16,16,16,-16,-16,16,16,-16,16,16,16,16,16,16,-16,16,16,-16,-16,16,-16,-16,-16,-16,-16,16,16,-16,16,-16,16,-16,16,16,16,16,-16,16,16,-16,16,-16,16,-16,-16,-16,-16,16,16,-16,16,-16,-16,16,16,-16,16,-16,-16,16,-16,16,16,-16,-16,-16,-16,16,-16,-16,-16,16,-16,16,16,16,16,-16,16,16,16,16,16,-16,16,16,16,16,16,-16,-64,16]
[16,-16,-16,-16,16,-16,16,16,-16,-16,-16,16,-16,-16,-16,-16,-16,16,16,-16,16,-16,16,16,16,16,-16,-16,16,16,16,16,-16,16,-16,-16,16,-16,16,-16,-16,-16,-16,16,16,-16,-16,-16,16,-16,-16,-16,16,16,-16,-16,16,16,-16,16,-16,-16,16,-16,-16,16,-16,-16,-16,-16,16,-16,16,16,-16,-16,16,-16,-16,-16,-16,16,16,16,-16,-16,16,-16,-16,-16,-16,16,16,-16,16,16,-16,16,-16,-16,-16,-16,-16,16,16,-16,16,16,-16,-16,-16,16,16,16,16,16,16,16,-16,-16,16,-16,-16,16,16,-16,-16,-16]
[-16,-16,-16,16,16,-16,16,-16,16,-16,-16,16,16,-16,-16,-16,-16,16,16,16,-16,-16,16,16,-16,-16,-16,-16,16,-16,16,-16,16,64,16,16,16,16,-16,16,16,-16,-16,16,16,-16,16,16,-16,16,-16,-16,-16,-16,-16,16,-16,-16,-16,-16,-16,16,-16,16,16,-16,-16,-16,-16,16,-16,-16,-16,16,-16,16,16,16,16,16,-16,-16,-16,16,-16,-16,-16,16,16,-16,-16,16,16,-16,16,64,16,-16,-16,-16,16,-16,-16,-16,16,16,-16,16,16,16,-16,16,-16,-16,16,-16,-16,-16,16,-16,16,16,16,-16,-16,16,-16,-16]
[16,16,16,16,16,-16,16,-16,16,-16,16,16,-16,-16,-16,-16,16,16,-16,-16,-16,-16,16,-16,16,16,16,16,-16,-16,16,-16,16,-16,-16,16,16,16,-16,-16,-16,-16,16,16,16,16,-16,16,-16,16,-16,-16,-16,16,-16,-16,-16,-16,-16,-16,-16,16,16,16,16,16,-16,-16,16,16,16,16,16,16,16,-16,16,-16,-16,-16,16,16,16,16,16,-16,-16,16,16,16,16,-16,-16,16,16,16,16,-16,16,-16,16,16,-16,16,-16,-16,16,-16,-16,-16,16,-16,16,-16,-16,16,-16,-16,-16,16,16,16,-16,-16,16,16,-16,-16]
[16,-16,16,16,-16,16,16,-16,-16,16,-16,16,-16,-16,-16,-16,-16,64,16,16,-16,16,-16,16,-16,16,16,-16,-16,-16,16,16,16,16,16,-16,-16,-16,16,-16,-16,16,-16,-16,16,16,16,16,-16,-16,16,-16,-16,-16,-16,16,-16,-16,-16,16,16,-16,16,16,-16,16,-16,-16,16,16,-16,-16,16,-16,-16,-16,16,-16,16,-16,16,16,-16,-64,16,-16,16,16,16,-16,16,16,16,16,16,64,16,-16,-16,16,16,16,-16,16,-16,-16,16,-16,-16,16,16,16,-16,16,16,-16,16,-16,-16,16,-16,-16,-16,16,-16,-16,-16,16]
[16,16,16,16,-16,16,16,16,-16,16,16,16,16,16,16,16,-16,-16,16,-16,16,16,16,-16,-16,-16,-16,-16,16,16,16,16,16,16,-16,16,16,16,-16,16,16,-16,16,16,16,16,16,-16,16,16,16,-16,16,-16,-16,16,16,-16,16,16,-16,16,16,16,16,-16,16,16,-16,16,-16,16,16,-16,16,-16,-16,16,-16,16,-16,16,16,16,16,-16,-16,16,16,16,16,16,-16,16,16,16,-16,-16,16,-16,16,-16,16,-16,-16,-16,16,-16,-16,16,-16,16,-16,16,-16,16,16,16,16,-16,16,16,16,-16,16,16,16,16]
[16,16,16,-16,16,-16,16,16,16,-16,16,16,16,64,16,-16,16,16,-16,-16,16,-16,-16,16,16,-16,64,16,-16,16,16,-16,16,-16,16,64,-16,-16,16,-16,-16,-16,16,-16,-16,16,-16,-16,16,16,-16,-16,-16,-16,16,-16,16,16,16,-16,-16,-16,-16,-16,-16,16,-16,-16,16,16,16,-16,16,-16,-16,16,16,-16,-16,16,-16,-16,16,16,16,-16,-16,16,-16,64,-16,16,-16,16,-16,-16,-16,16,-16,16,-16,16,16,-16,16,-64,-16,16,16,-16,16,-16,16,-16,16,16,-16,16,-16,-16,-16,-16,16,16,16,-16,64,-16]
[16,-16,-16,-16,16,16,16,-16,16,-16,16,16,16,16,16,16,16,16,16,16,-16,-16,16,-16,16,16,16,16,16,16,-16,-16,16,16,16,16,16,16,16,16,16,16,16,16,16,16,16,16,16,16,-16,16,16,-16,16,16,-16,16,16,-16,16,16,16,16,-16,16,16,16,-16,-16,-16,-16,16,16,16,-16,16,-16,16,-16,16,-16,16,-16,16,16,-16,-16,16,16,16,16,-16,16,16,16,16,16,-16,-16,-16,-16,-16,-16,-16,-16,-16,-16,-16,-16,16,-16,-16,-16,-16,16,-16,16,16,16,-16,-16,16,16,16,16,16,16]
[16,16,16,16,16,16,-16,-16,-16,16,16,-16,-16,-16,-16,-16,16,16,16,-16,-16,16,-16,16,-16,16,16,16,-16,16,16,16,16,16,16,-16,16,16,16,-16,16,16,-16,-16,16,-16,16,16,-16,16,-16,16,16,16,-16,16,16,16,16,-16,-16,16,16,-16,-16,16,-16,16,16,-16,-16,-16,16,16,16,-16,16,-16,16,-16,16,-16,-16,-16,16,16,16,-16,16,16,16,16,-16,16,-16,16,-16,16,16,16,-16,-16,-16,-16,16,16,16,-16,-16,-16,16,16,16,-16,16,-16,16,-16,-16,16,-16,-16,16,16,16,16,-16,16]
[64,16,16,16,16,16,16,16,16,-16,16,16,16,16,16,16,16,16,16,-16,64,16,16,-16,-16,-16,16,16,-16,16,16,-16,16,-16,-16,16,-16,16,16,-16,16,-16,-16,16,-16,-16,-16,16,-16,64,-16,-16,16,16,64,16,16,16,16,16,-16,16,16,16,-16,-16,-16,16,-16,-16,16,-16,16,-16,16,-16,16,-16,-16,16,16,-16,16,16,16,-16,16,16,-16,16,-16,16,16,16,-16,-16,-16,16,-16,-16,16,16,16,16,-16,-16,-16,-16,16,-16,16,16,16,-16,16,16,16,-16,-16,-16,16,16,-16,16,-16,16,16,-16]
[16,-16,-16,-16,16,-16,16,-16,-16,-16,-16,-16,16,-16,-16,-16,16,16,-16,-16,16,-16,16,16,-16,-16,-16,16,16,16,16,-16,16,-16,16,16,16,16,-16,-16,-16,-16,16,-16,16,16,16,16,-16,-16,16,16,16,-16,16,-16,-16,16,16,-16,-16,16,-16,16,-16,16,16,-16,-16,16,-16,-16,16,16,-16,16,-16,-16,16,16,-16,16,16,-16,16,-16,16,16,-16,16,16,16,16,16,16,-16,16,-16,-16,16,16,16,16,-16,-16,-16,16,16,-16,16,16,16,16,-16,-16,16,-16,-16,16,16,-16,-16,-16,-16,16,16,-16,16]
[16,16,-16,-16,16,16,16,-16,16,-16,16,-16,16,-16,16,16,-16,16,16,16,-16,16,16,-16,-16,-16,16,-16,16,16,16,-16,16,16,16,16,-16,-16,-16,16,16,16,-16,-16,16,16,16,-16,16,16,16,-16,-16,16,-16,16,-16,16,16,-16,-16,16,-16,-16,16,-16,-16,16,16,-16,16,-16,16,16,-16,-16,16,-16,16,16,16,-16,16,16,-16,-16,-16,64,-16,-16,16,-16,-16,-16,16,16,16,16,-16,16,-16,16,16,16,-16,-16,-16,16,16,-16,16,-16,-16,16,-16,16,-16,-16,16,-16,16,16,16,16,-16,16,16,-16]
[16,-16,-16,-16,-16,16,16,-16,-16,-16,64,16,-16,16,16,16,16,-16,-16,16,-16,16,16,-16,-16,16,-16,-16,16,16,16,-16,64,-16,-16,16,-16,-16,-16,-16,-16,-16,16,-16,-16,16,16,16,16,16,-16,16,-16,16,-16,16,16,16,64,16,-16,-16,-16,-16,-16,-16,-16,16,-16,-16,16,-16,16,-16,16,-16,16,16,-16,-16,16,-16,-16,16,-16,-16,-16,64,-16,-16,-16,-16,-16,16,-16,-16,-16,16,16,16,-16,16,16,16,16,-16,-16,16,-16,-16,16,16,16,-16,-16,64,16,-16,16,-16,-16,16,-16,-16,16,16,16,-16]
[-16,-16,16,16,16,16,16,-16,16,-16,16,16,16,-16,16,16,16,-16,16,16,-16,16,16,-16,-16,-16,-16,16,-16,16,-16,16,-16,-16,-16,16,-16,-16,-16,-16,-16,-16,-64,-16,16,16,16,16,-16,16,-16,16,-16,-16,-16,-16,-16,-16,16,16,-16,16,-16,-16,-16,16,-16,16,-16,-16,-16,-16,-16,-16,-16,16,-16,-16,16,16,-16,-16,-16,16,-16,-16,-16,16,16,-16,16,16,-16,16,16,16,16,16,-16,16,-16,-16,16,16,-16,16,-16,16,16,-16,16,-16,-16,-16,16,-16,-16,-16,16,-16,16,-16,-16,-16,16,16,-16,16]
[16,16,-16,-16,-16,16,16,-16,-16,16,-16,-16,16,16,-16,-16,-16,16,-16,-16,-16,16,16,16,16,-16,16,-16,-16,16,-16,-16,16,-16,-16,16,16,-16,-16,16,-16,-16,16,16,-16,-16,-16,-16,16,16,16,-16,16,16,16,16,16,16,-16,-16,-16,16,-16,16,-16,-16,-16,-16,-16,16,16,-16,-16,16,-16,16,-16,-16,-16,-16,16,-16,-16,16,-16,-16,16,16,-16,-16,-16,-16,16,16,-16,-16,16,16,16,-16,-16,-16,-16,-16,16,-16,-16,-16,-16,-16,16,-16,-16,16,-16,-16,-16,-16,-16,16,16,16,16,16,-16,16,16,16]
[16,16,-16,16,-16,-16,16,16,16,16,16,16,-16,16,16,16,-16,-16,16,16,16,64,16,-16,16,16,16,16,-16,16,-16,16,16,-16,-16,16,16,16,16,-16,16,16,-16,16,-16,-16,16,16,-16,16,16,-16,16,16,16,64,16,-16,64,16,64,16,16,16,16,16,16,16,-16,-16,16,16,16,-16,16,-16,16,16,-16,16,16,-16,16,-16,-16,-16,16,16,-16,16,-16,16,-16,16,-16,-16,16,64,16,16,-16,16,-16,16,-16,-16,-16,-16,-16,16,-16,16,16,-16,16,-16,16,-16,16,-16,16,16,16,16,16,-16,-16,-16]
[16,-16,16,-16,-16,-16,16,16,-16,-16,16,-16,-16,-16,-16,-16,-16,16,16,-16,-16,-16,-16,16,16,-16,16,-16,16,16,16,-16,16,-16,16,-16,-16,-16,-16,16,-16,-16,-16,16,16,16,16,16,16,-16,16,16,16,-16,16,-16,-16,-16,-16,-16,16,-16,16,-16,16,16,16,16,-16,-16,-16,-16,-16,-16,16,-16,16,16,-16,-16,16,-16,-16,-16,-16,-16,16,16,-16,-16,-16,16,-16,-16,16,-16,-16,-16,16,-16,-16,16,16,-16,16,-16,16,-16,-16,16,16,16,16,-16,16,-16,16,-16,-16,-16,-16,16,16,-16,-16,-16,-16,-16]
[16,16,16,16,16,16,-16,16,16,-16,-16,16,16,16,16,16,-16,16,16,-16,-16,-16,16,-16,-16,16,-16,-16,16,16,16,16,16,16,-16,16,-16,16,64,16,16,16,-16,-16,16,-16,16,16,16,-16,-16,16,-16,-16,16,16,16,-16,16,-16,16,16,16,16,-16,16,16,-16,-16,-16,16,-16,16,16,16,16,16,-16,16,16,-16,16,16,16,-16,16,16,-16,16,16,-16,16,16,16,16,16,16,16,-16,-16,-16,16,16,16,-16,16,16,16,-16,-16,16,-16,16,-16,16,16,16,16,-16,-16,16,16,-16,16,16,-16,-16,-16]
[-16,16,16,-16,16,-16,-16,-16,16,-16,16,-16,-16,16,-16,-16,16,16,16,-16,16,16,16,16,-16,-16,-16,-16,-16,16,16,-16,16,16,16,16,16,16,16,16,-16,-16,-16,-16,16,-16,-16,16,-16,16,-16,-16,-16,16,-16,16,16,16,-16,16,-16,16,16,16,16,16,16,16,-16,16,16,16,-16,16,16,16,16,16,16,16,-16,16,16,16,16,16,16,16,16,-16,16,16,-16,-16,16,-16,16,16,16,16,16,-16,16,16,-16,16,16,-16,-16,16,-16,64,16,-16,16,-16,16,16,16,-16,16,16,16,-16,16,16,16,-16]
[16,16,16,-16,16,16,-16,16,16,-16,-16,16,16,16,16,-16,-16,16,16,16,16,-16,16,16,-16,-16,16,16,16,-16,-16,-16,16,16,16,16,16,16,16,-16,16,-16,-16,-16,16,-16,-16,16,-16,16,-16,16,16,16,16,-16,-16,-16,16,-16,-16,16,-16,16,-16,-16,16,16,-16,-16,-16,-16,-16,-16,16,16,16,-16,16,-16,-16,-16,16,16,16,-16,-16,16,16,-16,16,-16,16,-16,-16,16,-16,16,-16,16,16,-16,16,16,-16,16,64,-16,-16,-16,16,16,16,-16,-16,-16,16,-16,-16,-16,16,-16,-16,16,16,-16,-16,16]
[-16,-16,16,-16,16,-16,-16,-16,16,-16,-16,-16,-16,-16,-16,-16,16,16,-16,-16,16,16,-16,-16,-16,-16,16,16,-16,16,16,-16,16,16,-16,16,-16,-64,16,-16,16,16,16,16,-16,-16,-16,16,-16,-16,16,-16,16,16,-16,16,16,-16,16,-16,-16,16,16,-16,16,16,-16,-16,-16,-16,16,-16,-16,-16,-16,16,-16,16,16,-16,-16,-16,16,-16,-16,-16,-16,-16,-16,-16,16,-16,-16,16,-16,16,-16,-16,-16,-16,16,-16,16,16,-16,-16,16,16,-16,16,-16,16,16,-16,16,-16,-16,-16,-16,-16,-16,-16,-16,16,-16,-16,16,16]
[-16,16,-16,-16,16,16,-16,-16,16,-16,-16,-16,16,-16,16,16,16,-16,-16,16,16,16,16,16,16,16,-16,16,-16,-16,16,16,-16,-16,16,-16,16,-16,16,-16,16,-16,16,16,-16,-16,16,-16,-16,-16,-16,16,-16,-16,-16,16,16,-16,-16,16,16,-16,16,-16,16,-16,-16,16,-16,16,-16,16,16,-16,-16,-16,64,-16,-16,16,-16,16,16,16,64,-16,-16,-16,16,16,16,16,16,16,-16,-16,-16,16,-16,-16,-16,-16,-16,64,-16,-16,-16,-16,16,-16,-16,64,16,16,-16,-16,16,-16,16,-16,16,64,16,-16,-16,16,-16,16]
[-16,16,16,16,-16,16,16,-16,-16,16,16,-16,16,16,16,16,-16,-16,16,16,-16,64,16,16,-16,-16,-64,16,16,16,16,16,16,-16,-16,16,16,16,-16,-16,16,16,16,16,-16,16,-16,-16,16,16,16,16,-16,-16,-16,-16,16,16,16,-16,64,16,-16,16,64,16,16,-16,-16,16,16,16,-16,16,-16,-16,-16,16,16,16,-16,16,-16,16,-16,16,16,16,16,16,16,16,16,16,-16,-16,16,16,16,-16,-16,16,16,-16,-16,-16,16,16,16,-16,-16,-16,16,16,-16,16,16,-16,16,16,-16,16,64,-16,-16,-16,16,16]
[-16,-16,16,16,-16,16,16,-16,-16,-16,-16,16,16,16,-16,-16,-16,16,16,16,16,16,16,16,-16,16,-16,16,-16,16,-16,-16,-16,16,16,16,16,16,16,-16,-16,-16,-16,-16,16,-16,-16,16,-16,-16,-16,16,16,-16,16,-16,-16,-16,-16,-16,16,16,16,16,-16,16,-16,16,-16,16,16,-16,-16,-16,16,-16,16,-16,-16,-16,-16,-16,16,-16,16,-16,16,16,-16,-16,16,16,16,-16,-16,16,16,16,-16,-16,-16,-16,-16,16,-16,16,16,-16,-16,-16,16,16,16,16,-16,-16,16,-16,-16,-16,-16,16,-16,16,16,16,16,16]
[-16,-16,16,16,16,-16,-64,-16,-16,16,-16,16,-16,-16,16,-16,-16,16,-16,-16,16,16,-16,-16,-16,-16,-16,16,-16,-16,-16,-16,16,-16,-16,-64,-16,-16,16,-16,-16,-16,16,-16,-16,-16,16,16,16,-16,-16,-16,16,-16,-16,16,16,-16,16,-16,16,-16,16,-16,16,-16,16,-16,16,-16,-16,-16,16,-16,-16,-16,-16,16,-16,16,-16,16,-16,16,-16,16,16,-16,-16,-16,-16,-16,-16,-16,16,-16,-16,-16,-16,-16,-16,-16,-16,-16,-16,-16,-16,16,-16,-16,-16,-16,16,16,16,-16,-16,-16,16,16,-16,16,-16,-16,-16,-16,16,-16]
[16,-16,-16,-16,-16,16,16,16,16,16,-16,16,16,-16,16,16,16,-16,16,-16,-16,16,-16,-16,16,-16,-16,16,16,16,-16,-16,16,16,16,16,16,-16,-16,-16,16,-16,16,-16,-16,-16,-16,16,16,16,-16,16,16,16,16,16,16,-16,-16,-16,-16,16,16,16,-16,16,16,16,-16,-16,64,-16,-16,16,16,16,16,-16,-16,-16,16,16,16,-16,16,-16,-16,16,16,16,-16,-16,-16,-16,-16,-16,-16,-16,-16,16,16,-16,16,16,-16,16,16,-16,-16,16,-16,16,16,16,-16,-16,16,-16,-16,-16,-16,16,-16,16,16,-16,-16,16]
[64,16,-16,-16,-16,16,16,-16,16,16,16,16,16,16,64,16,-16,16,16,16,64,16,16,-16,16,16,16,-16,16,16,-64,16,16,-16,16,64,-16,16,-16,16,16,16,-16,16,-16,-16,-16,-64,16,64,16,16,16,-16,16,16,-16,-16,16,16,16,16,16,16,-16,-16,16,-16,-16,-16,16,-16,-16,-16,16,-16,-16,16,-16,16,16,16,16,16,-16,16,16,16,-16,16,-16,16,16,16,-16,-16,16,64,16,16,-16,16,-16,-16,16,-16,-64,-16,16,-16,64,-16,-16,16,-16,16,16,-16,-16,-16,16,16,16,16,16,16,16,16]
[16,-16,-16,16,16,16,16,-16,16,-16,16,16,16,16,16,16,-16,16,16,16,-16,64,16,-16,-16,16,-16,-16,16,16,16,16,16,16,-16,16,16,16,16,16,16,-16,-16,-16,16,16,16,-16,-16,16,16,-16,-16,16,16,16,-16,-16,16,-16,-16,16,16,16,-16,-16,16,16,-16,-16,16,-16,16,-16,16,16,16,16,16,16,16,-16,16,64,16,-16,-16,16,16,-16,-16,16,-16,-16,-16,-16,16,16,-16,-16,16,16,16,16,-16,-16,-16,-16,-16,-16,16,16,16,-16,16,16,16,16,16,-16,16,16,-16,-16,16,16,-16,-16]
[16,16,-16,-16,16,16,-16,16,16,16,16,-16,16,16,-16,16,-16,16,16,16,16,-16,16,16,16,-16,-16,16,-16,16,16,16,16,-16,16,-16,-16,-16,16,16,16,-16,16,16,-16,16,16,16,16,16,16,16,16,16,16,16,16,-16,16,-16,-16,-16,-16,-16,-16,16,16,16,16,16,-16,-16,-16,-16,16,-16,-16,16,-16,-16,16,-16,16,16,16,16,-16,16,16,-16,16,16,-16,-16,16,16,16,16,-16,-16,16,16,16,-16,16,16,-16,-16,-16,-16,16,16,-16,-16,16,16,16,-16,-16,-16,16,-16,16,-16,16,-16,16,16]
[-16,-16,-16,16,16,-16,-16,-16,-16,-16,-16,-16,-16,-16,-16,-16,16,16,16,-16,-16,16,-16,-16,-16,-16,-16,16,-16,-16,-16,-16,-16,16,16,-16,-16,-16,16,16,16,16,-16,16,16,16,64,16,16,-16,16,-16,16,16,-16,16,16,-16,16,-16,-16,16,-16,16,-16,16,16,16,-16,-16,-16,-16,-16,-16,16,-16,-16,16,16,-16,-16,16,-16,-16,16,-16,-16,-16,16,-16,16,-16,-16,16,-16,16,16,-16,-16,16,16,-16,-16,16,16,-16,16,-16,-16,-16,-16,16,16,16,-16,16,16,16,-16,-16,16,-16,-16,-16,16,16,16,16]
[-16,-16,16,64,16,16,-16,-16,-16,-16,-16,-16,16,-16,-16,-16,16,16,-16,-16,-16,-16,-16,16,-16,-16,-64,16,-16,-16,16,-16,-16,16,-16,16,16,-16,16,-16,-16,-16,-16,-16,-16,-16,-16,16,-16,-16,-16,-16,-16,16,-16,-16,-16,-16,-16,-16,-16,16,16,-16,16,-16,16,-16,-16,-16,-16,-16,-16,-16,-16,-16,16,-16,16,16,-16,-16,16,-16,16,-16,16,-16,16,-16,16,-16,16,-16,16,16,-16,-16,-16,16,-16,-16,16,16,-16,16,16,16,16,-16,-16,16,16,-16,-16,16,-16,-16,16,16,16,-16,-16,-16,-16,16,-16,16]
[-16,-16,-16,16,-16,16,16,-16,16,16,16,16,-16,-16,16,-16,16,16,16,16,-16,-16,16,16,16,16,-16,16,-16,16,-16,-16,16,-16,16,16,16,16,16,-16,-16,16,-16,16,16,-16,16,16,-16,16,-16,-16,16,-16,-16,16,-16,-16,-16,-16,-16,16,-16,16,-16,16,16,-16,16,-16,16,-16,-16,16,16,-16,-16,-16,-16,-16,-16,16,16,-16,-16,16,16,-16,-16,-16,16,-16,-16,16,-16,16,16,-16,-16,-16,16,-16,-16,16,-16,-16,-16,16,-16,-16,-16,16,16,-16,-16,-16,16,16,-16,16,16,-16,-16,16,16,16,16,16]
[64,-16,-16,-16,-16,16,16,-16,16,16,16,16,16,16,-16,16,16,16,16,16,-16,16,16,-16,16,16,-16,-16,-16,-16,-16,-16,16,-16,16,16,-16,16,-16,-16,16,-16,-16,-16,-16,-16,16,-16,-16,16,-16,-16,16,-16,16,16,-16,-16,16,16,16,16,16,16,-16,16,16,16,-16,-16,16,-16,-16,-16,16,16,-16,16,-16,-16,16,16,16,16,-16,16,16,16,-16,16,-16,16,-16,16,-16,-16,16,16,-16,16,-16,16,-16,-16,-16,-16,16,-16,-16,16,16,-16,16,16,-16,16,-16,-16,16,-16,-16,16,-16,16,16,-16,16,-16]
[16,16,-64,-16,-16,16,16,-16,-16,16,16,16,-16,16,16,16,-64,-16,64,16,-16,-16,16,-16,16,16,16,-16,-16,-16,-16,16,64,-16,-16,16,-16,16,-16,-16,-16,16,-64,16,-16,-16,16,-16,16,16,-16,16,-16,-16,16,16,-16,16,-16,-16,16,16,-16,16,-16,-16,16,16,-16,-16,16,-16,-16,-16,16,-16,-16,-16,-64,-16,16,16,16,16,-16,16,-16,16,-16,64,-16,16,-16,16,-16,-16,16,16,-16,-16,-16,16,16,16,-16,-16,-16,-16,-16,16,16,-64,64,16,-16,16,16,-16,-16,16,16,16,-16,16,16,-16,16,-16]
[-16,16,16,-16,-16,16,-16,16,-16,16,16,16,-16,-16,16,16,-16,-16,-16,-16,16,-16,16,-16,-16,-16,16,16,16,-16,16,16,16,-16,16,16,-16,16,16,-16,-16,16,-16,16,-16,-16,16,16,-16,-16,-16,-16,64,-16,-16,16,-16,16,-16,-16,16,16,-16,16,16,64,16,16,-16,16,-16,16,-16,-16,16,16,-16,-16,-16,16,-16,16,16,16,16,16,-16,-16,-16,16,16,16,16,16,16,-16,16,16,-16,16,16,16,-16,16,-16,-16,-16,16,-16,16,16,16,-16,16,16,16,16,-16,-16,-16,16,16,-16,16,-16,-16,16,16]
[16,16,-16,-16,16,16,-16,-16,-16,-16,16,16,16,16,16,-16,-16,16,16,16,16,-16,-16,-16,-16,-16,16,-16,-16,-64,-16,-64,16,-16,-16,16,-16,16,-16,16,-16,-16,-16,16,-16,16,-16,-16,-16,-16,-16,-16,16,16,16,16,-16,-16,-16,-16,-16,16,-16,16,-16,-64,16,16,-16,-16,16,-16,16,16,16,16,-16,-16,-16,16,-16,-16,16,16,-64,16,-16,-16,-16,16,-16,16,16,16,-16,-16,16,16,-16,-16,-16,16,-16,-16,-16,-16,16,16,-16,-16,-16,-16,16,-16,-16,-16,16,-16,-16,-16,16,16,-16,-16,64,-16,16,16]
[16,16,16,-16,-16,16,-16,16,16,16,16,16,-16,16,16,16,-16,-16,16,-16,16,16,16,-16,-16,16,16,16,-16,16,-16,16,16,-16,-16,16,-16,16,-16,-16,-16,16,-16,16,16,-16,16,16,-16,16,-16,16,-16,16,16,16,16,-16,16,-16,-16,16,16,16,16,16,16,-16,-16,-16,16,-16,16,-16,16,16,16,-16,-16,16,16,-16,64,16,-16,16,16,-16,-16,16,16,-16,-16,16,-16,-16,16,-16,-16,16,-16,16,-16,16,-16,16,-16,-16,-16,16,16,16,-16,16,16,16,16,16,16,-16,16,16,-16,16,16,-16,-16,-16]
[-16,16,-16,-16,16,16,16,-16,16,16,16,-16,-16,-16,16,16,-16,16,-16,16,16,-16,-16,-16,-16,-16,16,16,-16,16,16,-16,16,16,-16,16,-16,-64,-16,16,-16,-16,16,16,-16,16,16,16,-16,16,16,-16,16,-16,16,-16,16,-16,-16,16,-16,16,16,16,-16,16,16,-16,-16,-16,16,-16,16,16,-16,-16,16,-16,16,-16,16,16,-16,-16,-16,-16,-16,16,16,16,-16,16,-16,-16,-16,16,-16,16,-16,16,-16,16,16,-16,-16,16,16,-16,-16,-16,16,16,-16,-16,16,-16,-16,16,-16,16,-16,-16,16,16,16,16,-16,16]
[16,16,16,16,-16,-16,-16,16,16,16,16,-16,16,16,-16,-16,16,16,-16,-16,16,16,-16,-16,-16,-16,16,16,16,16,16,16,16,16,16,-16,16,16,16,16,16,16,-16,16,16,16,-16,16,16,16,-16,-16,16,16,16,16,16,-16,16,-16,16,16,16,16,16,16,16,16,-16,-16,16,16,-16,16,16,-16,16,-16,-16,-16,16,16,16,16,16,-16,16,16,16,-16,-16,16,16,-16,16,16,16,16,16,16,16,16,-16,16,16,-16,-16,16,16,16,16,16,16,-16,16,16,16,16,16,-16,16,16,16,-16,-16,16,-16,16]
[-16,-16,-16,-16,16,16,16,16,-16,16,16,16,-16,-16,16,-16,-16,16,16,16,16,-16,16,-16,16,16,16,16,16,-64,-16,-16,16,-16,-16,16,-16,16,-16,-16,-16,-16,-16,16,16,-16,-64,16,-16,16,-16,16,16,-16,16,16,-16,-16,16,16,-16,16,-16,16,-16,-16,16,-16,-16,-16,16,-16,-16,-16,16,16,-16,-16,-16,-16,-16,-16,16,16,-16,16,16,-16,16,16,16,16,16,-16,-16,-16,16,16,-16,16,16,-16,16,-16,-16,16,16,16,16,-16,16,-16,16,-16,-16,-16,16,-16,-16,16,64,16,-16,-16,16,-16,16,-16]
[16,-16,-16,-16,16,16,16,16,16,16,16,16,16,16,16,16,16,16,-16,16,16,16,16,-16,16,-16,16,16,-16,16,-16,16,-16,16,16,16,-16,16,16,16,16,16,16,-16,16,-16,-16,-16,-16,16,16,16,16,-16,-16,-16,16,-16,16,-16,-16,16,16,-16,-16,16,-16,16,16,16,16,16,16,16,-16,-16,-16,-16,16,-16,16,16,-16,16,-16,16,-16,16,16,-16,16,16,16,16,16,-16,-16,64,16,16,16,16,16,16,-16,16,16,16,16,-16,16,-16,-16,-16,16,16,16,16,-16,-16,-16,16,16,16,16,16,-16,16]
[16,-16,-16,-16,-16,16,16,16,-16,16,-16,16,16,16,-16,16,16,16,-16,-16,-16,64,16,-16,16,16,16,16,-16,-16,-16,16,16,-16,-16,16,16,16,-16,-16,-16,16,-16,16,-16,16,16,16,16,64,-16,16,-16,-16,64,16,-16,-16,16,-16,16,16,-16,16,16,16,-16,-16,-16,-16,16,-16,16,-16,-16,-16,-16,-16,-16,-16,16,16,16,16,-16,16,-16,16,-16,64,-16,16,16,16,-16,-16,16,16,16,16,16,64,-16,-16,-16,-16,-16,16,16,-16,16,-16,16,-16,-16,16,16,-16,-16,-16,16,16,-16,16,16,-16,16,-16]
[16,16,16,16,-16,-16,16,-16,16,-16,16,-16,16,-16,-16,16,-16,16,16,-16,-16,16,-16,-16,16,-16,-16,16,16,-16,16,-16,16,-16,16,16,16,16,-16,16,16,16,-16,-16,-16,16,16,16,-16,16,-16,-16,16,16,16,-16,-16,-16,-16,16,-16,-16,-16,16,-16,-16,16,-16,-16,16,-16,-16,-16,-16,16,16,-16,16,16,-16,16,-16,16,16,-16,-16,-16,16,16,-16,-16,16,-16,16,-16,16,-16,-16,-16,16,16,16,16,-16,16,-16,16,-16,16,-16,16,-16,-16,-16,-16,16,16,-16,16,-16,16,16,-16,-16,16,-16,16,-16]
[-16,16,-16,16,16,-16,16,16,16,-16,-16,-16,-16,16,-16,-16,-16,-16,16,16,-16,16,16,-16,-16,-16,-16,-16,-16,-16,-16,-16,-16,-16,16,-16,16,16,-16,-16,16,16,-16,16,16,-16,16,-16,-16,-16,16,16,16,16,-16,16,16,16,-16,-16,-16,16,-16,16,-16,-16,16,-16,16,16,-16,16,-16,-16,16,16,-16,16,16,-16,-16,16,16,16,16,-16,-16,-16,16,-16,16,16,16,16,16,16,16,16,16,-16,16,-16,-16,-16,-16,16,-16,16,16,-16,-16,-16,16,16,-16,-16,16,16,-16,16,16,-16,16,16,16,16,-16,-16]
[16,-16,16,-16,-16,16,16,16,-16,16,16,16,16,16,16,16,16,16,16,-16,-16,-16,16,-16,-16,-16,16,-16,-16,-16,-16,16,-16,-16,-16,16,-16,16,-16,-16,-16,-16,-16,16,16,16,16,16,-16,16,-16,16,-16,-16,-16,-16,16,-16,16,16,16,16,16,16,16,16,-16,-16,-16,-16,16,16,16,-16,16,-16,-16,-16,-16,16,16,-16,16,16,16,-16,16,16,-16,16,16,16,-16,16,-16,16,16,16,-16,16,16,16,16,16,-16,-16,-16,16,-16,-16,-16,16,-16,-16,-16,16,16,16,16,16,16,16,-16,16,16,16,16,-16]
[-16,16,16,-16,16,-16,16,-16,-16,16,16,16,16,16,-16,16,16,-16,-16,16,-16,16,16,-64,-16,16,-16,16,-16,16,-16,16,16,-16,16,16,-64,-16,16,-16,-16,-16,-16,16,16,-16,16,16,-16,64,16,-16,-16,-16,-16,-64,16,16,16,16,16,16,16,16,16,16,-16,-16,-16,-16,16,16,16,-16,16,-16,-16,-16,-16,-16,16,16,-16,16,-16,-16,16,16,16,16,-16,-16,-64,16,16,-16,16,16,-16,-16,16,16,16,16,16,-16,16,16,-16,16,16,16,-16,-16,16,16,-16,16,16,16,-16,-16,-16,-16,-16,16,-16,-16]
[16,16,-16,-16,16,16,16,16,16,16,16,16,16,16,-16,-16,-16,16,16,16,-16,16,16,-16,16,16,16,-16,-16,16,16,16,16,-16,-16,16,-16,16,16,16,16,16,-16,16,16,-16,-16,16,-16,16,-16,16,-16,-16,16,-16,16,-16,16,16,16,16,16,16,-16,-16,16,-16,-16,-16,16,-16,16,-16,16,-16,16,-16,-16,16,64,16,16,16,16,16,-16,16,16,16,-16,-16,16,16,16,16,16,16,-16,-16,16,16,-16,16,-16,-16,16,-16,16,-16,16,16,16,-16,-16,16,16,-16,-16,16,16,16,-16,16,16,16,-16,-16]
[16,-16,16,16,-16,16,16,-16,16,16,-16,16,16,64,64,16,16,-16,-16,16,16,16,16,16,16,16,16,16,16,-16,16,16,16,-16,16,16,16,-16,16,-16,-16,16,-16,16,-16,16,-16,16,16,16,-16,16,-16,-16,16,16,-16,16,-16,-16,16,16,16,16,-16,16,16,-16,-16,-16,16,16,-16,16,16,-16,16,16,-16,-16,16,-16,64,16,-16,-16,16,-16,16,16,64,16,-16,-16,-16,-16,16,-16,16,16,-16,16,16,-16,16,16,16,16,16,16,16,-16,16,16,16,-16,-16,16,16,16,16,16,16,16,16,-16,16,16]
[-16,-16,-16,16,16,16,-16,16,-16,-16,-16,16,-16,-16,16,-16,16,64,16,-16,16,-16,-16,16,-16,-16,16,-16,-16,-16,16,-16,-16,16,-16,-16,-16,16,-16,16,16,16,-16,16,16,16,16,16,16,-16,16,-16,16,-16,-16,64,-16,-16,16,16,-16,16,-16,16,-16,-16,-16,16,-16,16,-16,-16,-16,16,16,-16,-16,-16,16,16,-16,-16,-16,-16,-16,-16,-16,-16,-16,-16,64,-16,16,-16,16,16,16,-16,16,-16,-16,-16,-16,16,-16,16,16,-16,-16,-16,-16,-16,16,-16,-16,-16,16,-16,16,16,-16,-16,16,-16,16,-16,-16,16]
[-16,-16,-64,16,16,16,-16,16,16,16,16,16,-16,-16,16,16,-16,16,16,-16,16,-16,16,-16,-16,-16,16,-16,-16,-16,-16,-16,16,16,-16,16,-16,16,-16,16,-16,-16,16,-16,-16,-16,16,16,-16,16,-16,-16,16,-16,-16,16,16,-16,-16,-16,-16,16,16,16,-16,-16,-16,-16,-16,-16,16,-16,-16,16,16,-16,-16,-16,-16,-16,-16,-16,-16,16,-16,16,-16,-16,-16,16,16,16,16,16,-16,-16,-16,16,16,-16,-16,16,16,-16,-16,16,-16,-16,16,-16,-16,16,16,-16,-16,16,16,16,-16,16,16,16,-16,16,16,-16,16,16]
[-16,-16,16,-16,16,-16,-16,16,-16,16,16,16,16,-16,16,16,16,-16,16,16,16,16,16,16,16,16,16,-16,-16,16,-16,16,16,-16,16,-16,-16,16,-16,-16,-16,-16,-16,16,-16,16,16,-16,-16,16,-16,16,16,16,16,16,16,-16,16,-16,16,-16,-16,-16,16,16,16,16,-16,16,16,16,16,-16,-16,16,16,-16,16,-16,16,-16,16,-16,-16,16,-16,16,-16,16,-16,16,-16,16,16,-16,16,16,16,16,-16,-16,-16,16,16,16,16,16,-16,16,16,16,-16,-16,16,-16,16,16,-16,16,16,-16,-16,-16,16,-16,16,-16]
[16,16,16,-64,-16,-16,16,16,-16,-16,64,-16,16,-16,16,16,16,16,16,-16,-16,16,16,-16,16,16,16,-16,16,16,-16,-16,16,16,-16,-16,16,16,16,16,-16,-16,-16,16,-16,-16,-16,16,16,16,-16,-16,16,16,-16,16,16,-16,16,-16,16,16,16,16,-16,16,16,-16,-16,-16,16,-16,16,-16,-16,16,-16,-16,-16,-16,-16,-16,-16,-16,16,-16,16,16,16,-16,16,-16,-16,16,-16,16,-16,-16,-16,16,16,16,16,16,-16,-16,16,-16,-16,-16,16,16,16,-16,16,16,16,-16,-16,16,16,16,16,-16,16,16,-64,16]
[-16,-16,16,-16,-16,-16,16,16,-16,16,16,16,16,-16,16,-16,-16,16,-16,-16,16,-16,-16,-16,-16,-16,16,-16,-16,16,-16,-16,16,16,16,16,-16,16,16,-16,16,16,16,16,16,16,-16,16,16,16,16,16,-16,16,16,-16,-16,-16,16,16,-16,16,16,-16,-16,-16,16,-16,-16,-16,16,-16,16,-16,-16,-16,16,-16,-16,-16,16,16,-16,-16,-16,16,16,16,-16,-16,-16,16,-16,-16,-16,-16,-16,16,-16,-16,16,16,-16,-16,-16,-16,16,-16,-16,-16,16,16,16,-16,16,16,-16,-16,-16,16,-16,-16,16,16,-16,16,16,-16]
[16,16,16,16,-16,-16,-16,16,16,-16,16,-16,-16,16,-16,16,-16,-16,16,16,-16,-16,-16,-16,16,16,-16,16,16,16,16,-16,16,-16,-16,16,-16,16,-16,-16,-16,-16,-16,16,16,16,16,16,-16,-16,-16,-16,16,-16,16,16,16,-16,16,-16,16,-16,16,-16,16,-16,-16,-16,-16,-16,16,16,-16,16,16,-16,16,16,16,16,-16,-16,-16,16,-16,-16,-16,16,-16,-16,16,16,-16,16,16,16,-16,16,16,-16,16,16,-16,16,16,-16,-16,16,-16,16,-16,-16,-16,16,16,16,16,16,16,-16,16,-16,16,-16,-16,-16,16,16]
[-16,16,-16,-16,16,-16,-16,-16,16,-16,-16,16,64,16,-16,16,16,-16,-16,-16,-16,-16,16,-16,-16,16,16,-16,-16,-16,16,-16,-16,-16,-16,-16,-16,16,-16,16,-16,16,-16,-16,16,-16,-16,-16,16,-16,-16,-16,-16,-16,16,-16,16,-16,-16,-16,-16,-16,-16,-16,-16,-16,16,16,-16,-16,-64,16,16,-16,16,16,16,16,16,-16,16,-16,16,16,-16,16,-16,-16,16,16,16,16,16,16,16,-16,16,-16,16,-16,-16,-16,16,16,-16,-16,16,-16,-16,-16,-16,16,16,-16,-16,-16,-16,-16,16,-16,-16,-16,16,-16,16,-16,-64,-16]
[16,-16,-16,-16,-16,16,16,-16,-16,-16,16,16,16,-16,-16,16,16,-16,-16,16,16,16,-16,-16,-16,-16,16,16,16,16,-16,-16,64,16,-16,16,-16,-16,16,16,16,16,-16,16,16,16,16,16,16,16,-16,16,-16,-16,16,-16,16,-16,16,-16,-16,-16,-16,-16,-16,-16,-16,16,16,-16,16,-16,16,-16,16,-16,-16,-16,-16,-16,16,-16,16,-16,-16,-16,16,64,-16,-16,-16,16,-16,-16,-16,16,-16,16,-16,-16,-16,16,-16,16,-16,-16,-16,-16,-16,-16,16,16,16,-16,16,16,-16,-16,-16,16,-16,16,-16,16,-16,16,16,-16]
[-16,16,-16,-16,16,16,-16,16,16,16,16,16,16,-16,-16,-16,-16,16,16,-16,-16,-16,-16,16,-16,16,16,16,16,-16,-16,16,-16,-16,16,-16,-16,-16,16,-16,16,-16,-16,-16,16,16,-16,16,-16,-16,16,-16,-16,16,16,-16,16,-16,16,16,16,16,-16,16,16,16,-16,16,-16,-16,-16,16,16,16,16,-16,16,-16,16,-16,16,16,-16,-16,-16,16,-16,16,-16,16,16,-16,-16,16,16,-16,-16,-16,-16,16,-16,-16,-16,-16,16,16,-16,16,16,-16,-16,-16,-16,-16,-16,-16,16,16,16,-16,16,-16,16,16,16,-16,16,16]
[-16,16,16,-16,16,-16,-16,16,-16,-16,-16,16,-16,-16,-16,-16,16,-16,16,16,16,16,16,-16,16,16,-16,-16,16,16,16,16,-16,-16,16,-16,16,16,16,-16,16,-16,-16,-16,16,-16,-16,16,-16,-16,-16,-16,-16,16,-16,-16,16,-16,16,-16,-16,16,-16,16,16,-16,-16,16,16,-16,16,16,-16,-16,-16,16,-16,-16,-16,16,-16,16,16,-16,-16,-16,-16,-16,16,-16,16,-16,-16,-16,-16,16,-16,16,-16,16,-16,-16,16,16,16,16,16,-16,-16,-16,16,16,-16,-16,16,-16,16,16,-16,16,16,16,-16,16,-16,-16,16,16]
[16,-16,16,16,64,-16,16,-16,16,16,16,-16,16,16,16,16,16,-16,16,16,-16,-16,16,16,-16,16,16,16,-16,16,-16,-16,16,16,-16,16,16,-16,16,16,16,16,16,-16,16,16,16,16,16,-16,16,16,16,16,16,16,16,-16,16,-16,-16,16,16,16,-16,16,16,-16,16,16,-16,16,-16,16,16,16,-16,-16,16,16,-16,16,-16,16,16,-16,16,16,16,-16,16,16,16,16,16,16,-16,16,16,-16,-16,16,-16,16,16,16,16,16,-16,16,16,16,16,16,16,16,16,-16,-16,16,-16,16,-16,16,16,16,16,16]
[-16,16,16,16,16,-16,16,-16,-16,16,16,-16,-16,16,16,16,16,16,16,16,-16,16,16,16,16,16,16,16,16,16,16,16,16,-16,-16,16,16,16,16,-16,16,16,-16,16,16,16,16,16,-16,16,-16,16,-16,16,16,-16,-16,-16,16,-16,-16,16,-16,16,-16,16,16,-16,16,16,16,16,-16,-16,-16,-16,16,16,16,-16,16,-16,16,16,16,16,-16,-16,-16,16,16,16,-16,-16,16,-16,-16,16,-16,-16,-16,16,-16,-16,-16,16,-16,-16,16,-16,16,16,16,16,16,-16,-16,-16,-16,16,16,16,16,16,16,16,-16,-16]
[-16,16,16,16,16,16,-16,-16,-16,-16,-16,-16,16,-16,16,-16,16,16,16,-16,16,-16,-16,16,16,16,16,16,-16,16,-16,16,16,16,-16,16,16,-16,16,-16,16,-16,-16,-16,16,-16,16,16,-16,-16,-16,-16,16,16,16,-16,16,16,16,16,-16,16,16,-16,16,16,16,-16,-16,16,-16,16,-16,-16,16,-16,16,16,16,16,16,-16,16,16,16,16,16,-16,-16,-16,16,-16,16,16,16,16,16,-16,-16,16,-16,16,-16,16,16,16,16,-16,-16,16,16,16,-16,-16,16,-16,16,-16,16,-16,-16,16,16,16,16,-16,-16,16]
[-16,-16,16,-16,-16,16,-16,16,-16,16,-16,16,-16,16,16,-16,16,16,64,16,-16,16,16,16,-16,-16,-16,-16,16,-16,16,16,16,16,-16,-16,16,16,16,-16,16,16,16,16,-16,-16,16,-16,-16,-16,16,16,16,16,16,-16,16,16,-16,-16,16,16,-16,-16,-16,16,16,-16,-16,16,-16,-16,-16,-16,16,-16,16,16,-16,-16,16,-16,16,64,-16,16,-16,16,16,16,-16,-16,16,16,16,16,16,16,16,-16,16,-16,16,16,16,-16,-16,-16,-16,16,16,16,16,-16,16,-16,16,16,16,16,16,16,-16,16,16,-16,16,16]
[16,-16,16,16,-16,-16,-16,16,-16,16,16,16,16,16,-16,-16,16,-16,-16,16,-16,16,-16,-16,16,16,-16,16,16,-16,-16,-16,-16,-16,-16,16,-16,-16,-16,16,16,16,16,-16,-16,-16,16,-16,-16,-16,-16,-16,-16,16,16,16,-16,16,16,-16,-16,-16,16,-16,16,-16,-16,-16,-16,-16,-16,-16,-16,16,-16,16,-16,-16,-16,-16,-16,-16,-16,16,-16,-16,16,-16,-16,-16,-16,-16,-16,16,-16,-16,16,-16,-16,16,-16,-16,-16,-16,16,16,-16,-16,-16,-16,16,-16,16,-16,16,-16,-16,-16,-16,16,16,16,-16,16,-16,-16,-64,-16]
[16,16,16,16,-16,16,16,16,-16,64,16,16,16,16,16,16,16,-16,-16,16,-16,16,16,16,16,16,-16,16,16,-16,16,16,16,-16,16,16,-16,16,16,-16,-16,-16,-16,16,16,16,16,-16,-16,-16,16,-16,16,16,16,-16,-16,16,-64,-16,16,16,16,-16,16,16,16,16,16,16,16,-16,-16,-16,16,-16,16,16,16,16,64,16,-16,16,-16,16,16,16,16,-16,16,16,16,-16,-16,-16,64,-16,-16,16,16,-16,-16,16,-16,-16,16,-16,16,-16,16,16,16,-16,16,-16,16,-16,16,-16,-16,-16,16,16,16,16,-16,-16]
[-16,-16,16,16,16,16,-16,16,-16,-16,-16,16,-16,16,16,-16,16,16,16,16,-16,-16,-16,16,-16,-16,-16,16,16,-16,16,-16,-16,16,16,-16,16,16,-16,-16,16,16,-16,-16,16,16,16,16,-16,-16,-16,16,16,16,-16,16,-16,-16,-16,-16,16,16,16,16,-64,16,-16,16,-16,16,-16,-16,-16,16,16,-16,-16,16,16,16,16,-16,-16,-16,-16,16,-16,-16,16,-16,16,-16,16,16,-16,16,-16,-16,-16,-16,-16,-16,-16,-16,-16,16,16,16,16,16,-16,-16,-16,-16,-16,-16,16,16,-16,-16,16,-16,-16,-16,16,-16,-16,16]
[16,16,-16,-16,16,16,-16,16,16,16,-16,-16,16,16,16,-16,16,-16,-16,16,16,-16,16,-16,-16,16,16,-16,16,16,16,16,16,-16,-16,16,-16,16,16,16,-16,16,-16,16,-16,-16,16,-16,16,16,-16,16,16,16,16,-16,16,-16,16,-16,-16,16,-16,16,-16,-16,16,-16,-16,-16,16,16,16,16,16,-16,-16,16,-16,16,16,-16,16,16,-16,-16,-16,16,16,16,-16,16,-16,16,-16,-16,16,-16,-16,-16,16,-16,-16,-16,16,16,-16,16,16,-16,-16,16,16,16,-16,-16,16,-16,16,-16,-16,16,16,16,16,-16,-16,16]
[16,-16,16,16,16,-16,16,-16,16,-16,-16,-16,16,-16,-16,-16,16,16,-16,-16,-16,-16,-16,16,-64,16,-16,16,16,16,16,-16,-16,16,-16,16,16,-16,16,16,16,16,-16,-16,16,-16,16,16,-16,16,-16,16,-16,-16,16,16,-16,-16,-16,16,-16,-16,16,-16,-16,16,-16,16,16,16,16,-16,16,-16,-16,-16,-16,-16,16,-16,16,-16,-16,-64,16,-16,16,16,16,-16,16,-16,16,-16,16,16,-16,-16,-16,-16,-16,16,-16,16,-16,16,16,16,16,-16,16,16,-16,-16,16,-16,-16,-16,-16,-16,-16,-16,-16,-16,-16,16,16,64]
[16,16,16,16,16,16,16,16,-16,-16,16,16,-16,-16,16,16,16,16,-16,-16,-16,16,-16,16,16,-16,16,16,-16,16,-16,16,16,-16,16,16,-16,-16,-16,-16,-16,16,16,16,16,-16,16,-16,-16,16,-16,16,16,16,16,-16,-16,16,16,-16,16,-16,16,16,-16,16,-16,-16,16,-16,16,-16,-16,16,16,16,16,-16,16,-16,16,16,-16,-16,-16,16,16,16,16,-16,16,-16,16,-16,-16,-16,-16,16,16,-16,16,-16,16,16,16,16,16,-16,-16,16,16,-16,-16,-16,-16,16,16,16,-16,16,-16,-16,-16,16,16,-16,16,16]
[16,16,16,-16,-16,16,16,-16,16,-16,64,16,-16,16,-16,-16,16,16,-16,16,16,16,-16,-16,16,16,16,-16,16,16,-16,16,64,16,16,16,-16,16,16,-16,16,16,-16,16,16,-16,-16,16,16,64,16,-16,-16,-16,64,-16,-16,-16,16,16,16,16,16,16,-64,16,16,16,16,-16,16,-16,16,-16,-16,16,16,-64,-16,-16,16,-16,16,-16,16,-16,16,16,-16,16,16,-16,-16,16,-16,16,-16,16,-64,16,-16,16,-16,16,-16,16,16,16,-16,16,16,16,16,-16,16,16,-16,-16,-64,-16,-16,16,-16,16,16,16,-16,-16]
[16,16,-16,16,16,-16,-16,-16,16,-16,-16,-16,-16,-16,-16,16,-16,-16,16,16,16,-16,-16,16,-16,16,-16,-16,16,16,16,-16,16,-16,-16,-16,16,-16,16,-16,-16,16,16,-16,-16,16,16,16,16,-16,-16,-16,-16,-16,16,16,-16,-16,16,-16,16,-16,16,-16,16,-16,-16,16,-16,-16,-16,-16,-16,-16,-16,16,-16,16,16,-16,16,16,-16,16,16,-16,-16,16,16,16,16,16,16,16,-16,-16,-16,-16,16,-16,16,-16,16,-16,-16,-16,-16,16,16,16,-16,16,16,16,16,-16,16,-16,-16,16,16,-16,16,-16,16,16,16,-16]
[16,16,16,16,16,16,16,-16,16,-16,-16,16,16,-16,-16,16,-16,16,16,16,16,-16,-16,64,-16,-16,16,-16,16,-16,16,-16,-16,-16,-16,-16,-16,16,-16,-16,16,16,16,16,16,-16,-16,16,-16,16,-16,16,16,16,16,16,16,16,16,16,-16,16,-16,16,16,-16,16,-16,-16,-16,16,-16,-16,16,16,16,-16,-16,-16,-16,-16,-16,-16,16,16,-16,-16,-16,-16,16,16,-16,16,-16,-16,16,16,16,16,-16,16,16,16,-16,-16,-16,16,-16,16,16,16,-16,16,16,-16,-16,-16,-16,-16,16,16,-16,16,16,16,16,16,-16]
[16,-16,16,16,16,-16,-16,-16,-16,16,-16,16,16,16,-16,-16,16,-16,-16,-16,-16,16,16,16,16,-16,-16,16,16,-16,-16,16,-16,16,-16,16,16,-16,16,16,-16,16,16,-16,16,-16,-16,-16,16,-16,-16,16,16,-16,16,16,-16,-16,16,-16,-16,-16,16,16,16,-16,-16,-16,16,-16,-16,-16,-16,-16,16,-16,16,-16,16,-16,-16,16,-16,-16,16,-16,16,16,16,-16,-16,16,16,-16,16,-16,16,-16,-16,16,16,-16,-16,-16,16,16,16,-16,16,-16,16,16,-16,-16,-16,16,-16,-16,-16,16,-16,16,-16,-16,-16,-16,-16,-16]
[-16,-16,-16,-16,-16,16,-16,16,16,-16,-16,64,-16,16,16,16,-16,16,16,16,-16,-16,16,16,-16,16,-16,-16,16,-16,-16,16,16,16,-16,16,-16,16,-16,-16,-16,-16,-16,-16,-16,16,-16,16,-16,16,-16,-16,16,-16,16,16,-16,16,-16,-16,16,16,16,-16,-16,-16,16,-16,-16,16,-16,-16,-16,16,16,-16,-16,-16,16,-16,16,16,16,16,-16,-16,-16,16,-16,16,-16,16,16,16,16,-16,64,16,16,16,16,16,-16,-16,16,-16,-64,-16,-16,-16,16,16,16,-16,-16,-16,16,16,16,-16,16,16,-16,16,64,-16,-16,-16]
[16,16,16,-16,16,16,-16,16,-16,-16,-16,16,-16,-16,16,-16,-16,16,-16,-16,-16,-16,-16,-16,-16,16,-16,-16,-16,16,-16,16,-16,16,16,16,-16,-16,-16,16,16,16,-16,16,-16,-16,16,-16,-16,-16,-16,-16,-16,16,-16,16,-16,-16,16,16,-16,-16,-16,-16,-16,-16,-16,16,16,-16,-16,-16,16,-16,-16,-16,-16,-16,16,16,16,-16,-16,-16,-16,-16,-16,-16,16,-16,16,-16,16,-16,16,16,-16,-16,-16,16,-16,-16,-16,16,-16,-16,16,-16,16,16,-16,-16,16,-16,-16,16,-16,16,-16,-16,16,16,-16,-16,16,16,16,16]
[-16,16,16,16,-16,-16,-16,16,16,-16,16,-16,-16,16,16,-16,16,16,-16,-16,16,16,16,16,-16,-16,16,16,-16,16,16,16,-16,-16,-16,16,16,-16,16,16,16,16,16,16,-16,16,-16,-16,-16,-16,16,-16,16,-16,-16,16,16,-16,16,16,16,-16,16,-16,-16,-16,-16,-16,16,16,16,16,16,16,-16,-16,16,16,16,-16,-16,16,16,16,16,-16,-16,-16,16,16,-16,-16,16,16,-16,-16,-16,-16,16,16,16,-16,16,-16,-16,16,-16,-16,16,16,16,16,-16,-16,16,16,16,16,16,16,-16,16,16,-16,16,16,16,-16]
[16,-16,-16,16,16,16,16,16,-16,16,-16,16,16,-16,-16,16,16,16,16,-16,-16,16,-16,-16,-16,-16,-16,16,-16,-16,-16,-16,-16,-16,16,16,-16,-16,-16,16,16,-16,-16,-16,-16,-16,16,16,-16,16,16,-16,-16,16,-16,16,-16,-16,-16,16,-16,-16,16,-16,-16,16,-16,-16,-16,16,16,-16,16,16,-16,16,16,16,-16,-16,16,16,-16,-16,-16,16,16,16,16,-16,16,16,-16,16,16,16,-16,-16,-16,-16,16,16,16,16,16,16,16,16,-16,16,16,-16,16,-16,16,16,-16,-16,16,-16,-16,-16,-16,-16,16,16,16,-16]
[-16,-16,-16,16,16,-16,-16,16,16,-16,-16,16,-16,-16,-16,-16,16,16,16,-16,-16,-16,-16,16,-16,-16,-16,-16,16,16,-16,-16,-16,16,-16,-16,-16,-16,-16,16,-16,-16,16,16,16,-16,16,-16,16,16,-16,-16,-16,-16,16,16,-16,16,16,-16,-16,-16,-16,16,-16,16,-16,16,16,16,-16,-16,16,-16,-16,-16,16,-16,16,16,16,-16,-16,-16,16,16,-16,-16,16,-16,16,-16,-16,-16,64,16,-16,-16,-16,-16,-16,16,16,-16,-16,16,16,-16,-16,-16,-16,16,16,-16,16,16,-16,-16,-16,16,-16,16,16,-16,16,16,-16,16]
[-16,-16,-16,-16,16,16,16,16,16,-16,-16,16,16,-16,-16,16,-16,16,16,-16,16,16,16,16,-16,16,-16,-16,16,-16,-16,-16,-16,-16,-16,-16,-16,16,16,16,-16,16,-16,16,16,-16,-16,16,16,-16,16,16,-16,-16,-16,-16,-16,16,-16,-16,-16,16,16,-16,16,16,16,16,-16,16,-16,16,16,-16,-16,16,-16,-16,-16,-16,16,-16,-16,16,16,-16,-16,16,16,-16,-16,16,16,-16,16,-16,16,-16,16,16,-16,-16,-16,16,16,16,16,16,-16,16,16,-16,-16,16,16,16,-16,16,-16,-16,16,-16,-16,-16,16,-16,16,-16]
[-16,-16,16,-16,-16,16,16,16,-16,-16,16,-16,-16,-16,16,16,-16,16,16,16,-16,-16,16,-16,-16,-16,16,16,-16,16,16,-16,16,-16,16,16,-16,-16,16,16,-16,-16,16,-16,-16,-16,-16,16,-16,16,-16,-16,-16,-16,16,16,16,16,16,16,-16,-16,16,16,-16,-16,-16,-16,-16,-16,16,-16,16,-16,-16,16,16,-16,-16,-16,16,16,16,-16,16,-16,16,16,16,-16,-16,-16,16,16,-16,-16,-16,64,-16,-16,-16,16,16,16,-16,-16,-16,16,-16,-16,-16,16,-16,16,-16,-16,-16,16,-16,-16,-16,16,-16,-16,16,16,16,-16]
[16,16,-16,-16,-16,16,-16,-16,-16,16,-16,16,-16,16,16,16,-16,16,16,16,16,-16,16,16,-16,16,16,-16,16,16,-16,16,-16,16,16,16,16,16,16,-16,16,16,-16,16,16,-16,16,-16,-16,16,-16,16,16,16,16,16,-16,-16,-16,16,-16,16,-16,16,16,-16,16,16,16,16,-16,16,-16,16,16,-16,16,16,-16,16,16,-16,16,16,16,16,-16,-16,16,16,16,-16,16,16,16,16,16,-16,16,-16,-16,16,-16,-16,-16,-16,-16,-16,16,16,-16,16,16,16,-16,16,16,16,16,16,16,16,-16,-16,16,16,16,16]
[16,-16,16,16,64,-64,-16,16,-16,16,-16,16,16,-16,-16,-16,-16,64,-16,-16,-16,-16,-16,-16,-64,-16,-16,-16,-16,16,-16,-16,-16,16,16,-16,16,-16,16,-16,16,-16,-16,-16,16,-16,16,16,16,-16,-16,-16,-16,-16,-16,16,16,-16,16,16,-16,16,-16,16,-16,-16,-16,-16,16,16,16,-16,-16,16,-16,16,-16,-16,16,16,-16,-16,-16,16,-16,-16,-16,-16,64,-16,16,16,16,-16,16,16,-16,-16,16,-16,16,-16,-16,-16,16,16,16,-16,-16,16,-16,16,-16,16,-16,16,16,-16,16,16,-16,16,-16,-64,16,16,-16,16]
[16,-16,16,16,-16,-16,16,16,-16,16,-16,16,16,16,16,16,16,16,16,-16,16,16,16,16,16,16,16,16,16,16,-16,16,16,-16,-16,16,16,16,16,16,16,-16,16,16,16,-16,16,-16,16,-16,16,16,-16,16,16,-16,16,-16,16,-16,16,-16,16,-16,16,16,16,16,-16,16,-16,16,-16,-16,16,16,16,-16,16,16,16,16,16,16,16,16,-16,16,16,16,16,-16,16,-16,16,16,16,-16,16,16,-16,16,-16,16,16,16,64,-16,16,-16,-16,16,16,-16,16,-16,16,16,-16,16,16,-16,16,16,16,16,-16,16]
[-16,16,-16,16,-16,16,16,-16,-16,-16,16,16,16,-16,-16,-16,16,16,-16,16,-16,16,-16,16,-16,16,16,-16,-16,16,-16,16,16,16,16,-16,16,16,16,-16,16,-16,16,16,16,16,-16,16,16,16,-16,16,16,-16,-16,16,-16,16,16,-16,16,16,-16,-16,-16,16,-16,16,-16,-16,-16,-16,16,16,16,-16,-16,16,-16,16,16,-16,16,16,-16,-16,16,-16,-16,16,16,-16,16,16,-16,16,-16,16,-16,16,-16,-16,-16,-16,16,-16,16,16,-16,16,16,-16,-16,-16,-16,-64,16,16,-16,16,16,-16,-16,16,16,-16,-16,16]
[16,-16,16,-16,-16,16,16,16,-16,-16,16,-16,16,16,16,16,16,16,16,16,16,-16,16,16,16,16,16,16,16,16,16,16,16,-16,16,16,16,16,16,16,16,16,16,16,16,16,16,16,-16,16,-16,16,64,-16,-16,16,-16,-16,16,-16,-16,16,-16,-16,-16,16,16,-16,-16,16,-16,16,16,-16,-16,16,16,-16,16,-16,64,-16,16,16,16,16,16,16,-16,-16,-16,16,-16,16,-16,-16,16,16,16,16,-16,16,16,16,-16,-16,-16,16,16,16,16,16,16,16,16,16,16,-16,16,16,16,16,16,16,64,-16,-16,-16]
[-16,-16,-16,-16,-16,-16,16,-16,16,-16,16,-16,-16,16,16,16,16,16,-16,16,-16,16,16,16,-16,-16,-16,-16,-16,16,-16,-16,16,16,-16,-16,16,16,16,-16,-16,-16,-16,-16,-16,-16,16,-16,16,16,16,16,-16,16,-16,-16,-16,16,-16,-16,16,-16,16,-16,-16,-16,-16,-16,16,16,16,-16,-16,16,-16,-16,16,-16,-16,-16,-16,16,-16,16,16,16,16,-16,16,-16,16,16,-16,16,16,-16,16,16,-16,-16,-16,16,16,16,16,-16,-16,16,16,16,-16,-16,16,-16,-16,16,-16,16,-16,16,-16,-16,-16,-16,-16,16,16,-16]
[16,-16,-16,-16,-16,-16,16,-16,16,-16,16,16,16,16,-16,-16,16,16,-16,-16,16,16,16,-16,-16,-16,16,16,-16,16,16,-64,16,16,16,-16,-16,-16,-16,16,16,16,-16,16,16,16,16,-16,-16,16,-16,-16,-16,16,16,16,-16,-16,16,-16,-64,16,-16,16,-16,16,-16,-16,16,-16,16,-16,16,16,-16,16,16,-16,16,16,16,-16,-16,16,-16,-16,-16,16,16,-16,-16,-16,-16,-16,16,-16,16,-16,16,-16,16,-16,-16,16,-16,-16,16,16,-16,-16,16,16,16,-16,-16,16,16,-16,16,16,16,16,16,-16,-16,16,16,16]
[16,-16,16,16,16,16,16,-16,16,16,-16,16,-16,-16,16,-16,16,16,16,-16,16,16,16,-16,-16,-16,-16,16,16,16,16,16,-16,-16,-16,-16,-16,16,-16,16,16,-16,-16,16,16,16,16,16,-16,-16,-16,-16,-16,16,16,16,-16,16,16,16,16,16,16,16,16,16,16,-16,16,16,16,-16,-16,16,16,-16,16,16,-16,16,16,16,-16,16,-16,16,16,-16,16,-16,-16,16,16,-16,16,16,16,-16,16,-16,-16,16,16,-16,16,16,16,16,-16,16,-16,16,16,16,16,-16,-16,-16,16,-16,-16,-16,16,16,-16,16,16,16]
[-16,16,16,16,16,-16,16,-16,16,-16,-16,16,-16,16,-16,16,16,16,16,16,-16,-16,-16,16,-16,-16,-16,16,16,16,16,16,-16,16,-16,-16,-16,16,-16,-16,-16,-16,-16,16,16,-16,16,16,-16,-16,-16,16,-16,-16,-16,-16,-16,-16,-16,-16,-16,-16,-16,16,16,16,-16,16,-16,-16,-16,-16,-16,-16,-16,-16,16,-16,16,16,-16,-16,16,-16,-16,-16,-16,16,16,-16,16,-16,16,-16,16,16,-16,16,-16,16,16,-16,-16,16,16,16,-16,16,16,-16,16,-16,-16,16,16,16,-16,-16,-16,16,16,-16,-16,-64,-16,-16,-16,-16]
[-16,-16,16,16,16,16,16,-16,16,16,16,-16,16,16,16,16,16,16,16,16,-16,-16,16,16,-16,-16,16,16,-16,16,16,-16,16,-16,16,-16,16,-16,16,-16,16,-16,-16,16,16,16,16,16,16,16,-16,-16,-16,-16,-16,-16,-16,-16,16,-16,-16,-16,-16,16,-16,16,-16,-16,-16,16,16,-16,16,-16,16,-16,16,16,16,16,-16,16,16,-16,16,16,16,16,16,-16,-16,-16,-16,-16,16,16,-16,16,16,16,16,16,-16,16,-16,16,16,16,-16,-16,16,16,16,16,16,16,-16,16,16,16,-16,16,16,-16,-16,16,-16,-16]
[16,-16,16,16,16,-16,-16,-16,16,16,16,16,16,-16,16,16,-16,16,16,16,-16,16,16,-16,-16,-16,-16,16,-16,16,16,16,-16,16,-16,-16,16,16,16,16,-16,-16,16,16,16,-16,16,-16,-16,16,-16,16,16,16,-16,-16,16,-16,16,16,-16,16,16,-16,-16,16,16,-16,-16,-16,-16,16,-16,16,-16,16,-16,16,-16,-16,-16,-16,16,-16,16,-16,16,-16,-16,16,-16,-16,-16,16,-16,16,16,-16,-16,-16,16,-16,-16,-16,-16,16,16,16,-16,16,16,-16,-16,16,16,16,16,-16,-16,-16,16,-16,16,16,16,-16,-16,16]
[-64,-16,16,-16,-16,-16,16,-16,16,-16,-16,-16,16,16,16,-16,-16,16,16,-16,-16,-16,-16,16,-16,-16,-16,-64,16,16,-16,-16,-16,-16,16,16,16,-16,-16,16,16,16,-16,-16,-16,-16,-16,16,16,16,-16,16,16,16,-16,-16,-16,16,16,16,16,-16,-16,-16,16,-16,-16,-16,16,16,-16,-16,-16,16,-16,-16,16,16,16,-16,-16,-16,-16,16,-16,-16,-16,-16,-16,-16,-16,-16,-16,-16,16,-16,-16,-16,16,-16,-16,-16,-16,16,16,-16,-16,-16,-16,16,16,16,-16,16,16,-16,-16,16,-16,-16,-16,16,16,-16,-16,-16,-16,16]
[-16,-16,16,16,-16,-16,-16,-16,-16,16,-16,16,16,-16,-16,-16,16,-16,16,-16,-64,16,-16,16,16,-16,-16,-16,16,16,-16,16,16,-16,16,16,-16,16,-16,16,-16,16,-16,-16,-16,16,-16,-16,-16,16,16,-16,-16,16,-16,16,16,-16,16,-16,-16,-16,16,16,16,-16,16,-16,-16,16,16,16,-16,-16,16,-16,-16,16,16,16,16,16,-16,16,-16,-16,-16,-16,-16,-16,16,16,16,-16,-16,-16,16,16,16,16,-16,-16,16,-16,-16,-16,-16,-16,-16,-16,-16,16,16,16,-16,16,16,16,-16,-16,-16,16,16,-16,-16,-16,-16,-16]
[16,16,-16,-16,16,-16,-16,16,16,16,-16,-16,16,16,-16,16,-16,16,16,16,16,16,16,16,16,16,-16,-16,-16,-16,16,16,-16,-16,-16,16,16,16,16,-16,16,16,-16,-16,16,16,-16,-16,-16,16,16,-16,16,-16,-16,16,-16,16,16,16,-16,16,-16,16,16,16,16,-16,16,16,16,16,-16,-16,-16,-16,16,16,16,16,16,-16,16,16,16,16,-16,-16,16,16,16,-16,16,16,16,-16,-16,16,16,-16,-16,-16,16,16,-16,16,-16,16,-16,-16,16,16,16,16,16,16,16,16,16,16,16,16,16,16,16,-16,16,16]
[-16,-16,16,16,16,-16,16,16,-16,-16,16,-16,16,-16,-16,16,-16,16,16,16,-16,-16,-16,16,-16,-16,-16,-16,-16,-16,-16,16,-16,-16,-16,16,16,16,-16,-16,-16,-16,-16,-16,16,-16,-16,16,-16,-16,-16,-16,16,-16,-16,16,-16,-16,-16,16,-16,-16,16,16,-16,16,-16,-16,16,-16,-16,-16,16,-16,-16,16,-16,-16,16,-16,-16,-16,-16,16,16,-16,16,16,-16,-16,-16,-16,16,16,-16,16,-16,16,-16,-16,-16,-16,16,16,-16,16,16,-16,-16,-16,-16,-16,-16,-16,16,-16,16,-16,-16,16,16,-16,-16,-16,-16,16,-16,16]
[16,-16,-64,-16,-16,-16,16,16,-16,16,16,-16,-64,16,16,-16,-16,16,-16,-16,-16,-16,16,-16,16,16,16,-16,16,16,-16,-16,-16,16,16,16,-16,-16,16,16,16,-16,16,16,-16,16,-16,-16,-16,16,16,-16,-16,16,16,-16,-16,-16,16,-16,-16,-16,-16,16,16,-16,16,16,-16,16,-16,-16,-16,-16,16,-16,16,-16,16,16,16,-16,16,-16,16,16,16,-16,-16,-16,16,-16,16,-16,-16,-16,-16,-16,-16,16,16,16,16,-16,-16,-16,-16,-16,16,16,-16,-16,16,-16,-16,-16,16,-16,16,-16,-16,16,16,-16,-16,-16,16,-16]
[-16,-16,16,-16,-16,16,16,-16,-16,-16,-16,-16,16,-16,16,16,-16,-16,16,-16,16,-16,16,16,16,-16,16,-16,16,-16,-16,16,-16,16,16,-16,16,16,16,-16,16,16,-16,-16,-16,16,16,-16,-16,16,16,16,16,16,-16,-16,16,-16,-16,-16,16,-16,16,-16,16,-16,16,-16,16,16,-16,16,-16,-16,16,-16,64,-16,16,16,-16,16,-16,16,64,-64,-16,16,-16,16,16,-16,16,16,-16,-16,16,-16,-16,16,-16,-16,-16,16,-16,-16,-16,-16,16,-16,-16,16,16,16,-16,-16,16,-16,64,-16,-16,64,16,-16,-16,16,16,16]
[16,16,16,16,-16,16,16,-16,16,16,16,16,16,16,16,16,16,-16,-16,16,-16,16,16,16,16,-16,-16,16,16,16,16,16,16,-16,-16,-16,16,16,16,16,16,-16,16,16,16,16,-16,-16,16,16,16,16,-16,16,-16,16,-16,16,16,16,64,16,16,16,64,16,16,-16,-16,16,16,16,16,-16,16,16,-16,16,16,16,16,16,16,16,-16,-16,-16,16,16,16,16,-16,16,-16,16,-16,16,16,16,-16,-16,16,-16,-16,-16,16,16,16,-16,-16,-16,-16,16,-16,-16,16,-16,-16,16,16,-16,-16,64,16,-16,-16,16,16]
[-16,-16,16,16,16,16,16,-16,-16,-16,16,-16,16,-16,16,-16,16,16,-16,16,-16,16,-16,-16,-16,16,-16,16,-16,16,16,16,-16,-16,-16,16,-16,-16,16,-16,-16,16,-16,-16,-16,16,-16,16,-16,16,-16,16,16,-16,-16,16,-16,-16,16,-16,16,16,16,16,-16,16,-16,16,-16,-16,16,-16,16,-16,16,-16,-16,-16,-16,-16,16,-16,-16,-16,16,-16,16,16,-16,-16,16,16,16,16,-16,16,-16,16,-16,16,16,16,-16,-16,-16,-16,-16,-16,-16,-16,16,-16,-16,-16,16,-16,16,-16,-16,-16,16,-16,-16,-16,-16,16,-16,-16]
[-16,-16,-16,16,-16,-16,-16,-16,16,16,16,-16,-16,16,16,-16,-16,-16,-16,-16,-16,-16,-16,16,16,-16,-16,-16,-16,-16,-16,-16,16,16,16,-16,16,16,16,-16,-16,-16,16,16,-16,16,16,-16,-16,-16,-16,-16,-16,-16,-16,16,-16,-16,16,-16,-16,-16,16,-16,16,-16,-16,16,16,-16,16,16,16,16,16,16,-16,16,-16,-16,16,-16,-16,-16,-16,16,-16,-16,-16,16,16,-16,-16,-16,16,16,16,-16,-16,-16,-16,-16,-16,-16,16,-16,-16,16,-16,-16,-16,-16,-16,16,16,16,-16,-16,16,16,-16,16,-16,-16,-16,-16,16,-16]
[16,16,-16,-16,16,-16,-16,-16,-16,-16,16,16,-16,-16,-16,-16,16,16,16,16,-16,16,-16,16,-16,-16,16,16,16,16,-16,16,-16,16,16,-16,16,-16,16,16,16,16,-16,-16,16,16,16,-16,-16,-16,-16,16,16,-16,16,16,16,16,16,-16,16,16,-16,16,16,-16,16,16,16,16,16,16,-16,-16,16,-16,16,-16,-16,16,-16,16,16,16,-16,-16,16,-16,-16,-16,-16,16,16,-16,-16,16,-16,16,-16,16,16,-16,16,-16,-16,-16,16,-16,-16,16,16,16,-16,16,-16,16,16,-16,16,16,-16,-16,-16,16,16,-16,-16,-16]
[16,16,-16,-16,-16,-16,16,-16,16,16,16,16,16,16,64,-16,-16,16,16,-16,16,16,64,-16,16,16,64,-16,-16,-64,-64,16,16,16,-16,16,16,16,-64,-16,16,-16,16,64,-16,16,-16,-16,-16,16,-16,-16,16,-16,64,16,16,-16,16,-16,16,16,-16,16,-16,-64,16,16,16,-16,16,-16,-16,16,16,-16,-16,-16,-16,16,64,16,16,64,-64,-16,-64,16,-16,16,-64,-16,-16,16,-16,-16,16,16,16,-16,16,16,-16,-16,-16,-16,-16,-16,-16,-16,64,-16,64,-16,-16,16,16,-16,16,-16,16,16,16,64,16,-16,16,16]
[-16,-16,16,16,16,-16,16,16,16,-16,16,-16,16,-16,-16,-16,16,16,16,-16,-16,16,-16,16,16,-16,-16,16,-16,16,16,-16,16,16,16,16,16,16,16,16,16,16,-16,-16,16,-16,16,16,16,16,-16,16,16,-16,-16,16,16,-16,-16,16,-16,16,16,16,-16,16,16,-16,-16,16,-16,16,16,-16,-16,16,64,16,16,16,-16,16,16,16,16,-16,16,-16,16,-16,16,-16,-16,-16,16,16,-16,16,-16,-16,16,16,16,16,-16,16,16,-16,16,-16,16,16,16,16,16,16,16,16,-16,-16,-16,16,-16,-16,16,16,-16,16]
[16,16,16,16,-16,-16,16,16,16,-16,16,-16,-16,16,16,16,16,16,-16,16,-16,16,16,-16,16,-16,-16,16,-16,16,-16,-16,16,16,16,-16,-16,-16,16,16,-16,16,16,16,-16,-16,-16,-16,16,16,-16,-16,-16,-16,-16,-16,-16,-16,16,-16,-16,-16,16,-16,16,-16,-16,-16,-16,-16,16,16,-16,-16,16,-16,-16,-16,16,-16,16,16,-16,-16,16,16,16,16,16,-16,16,16,-16,-16,-16,16,-16,16,16,16,16,16,-16,-16,-16,16,16,16,16,16,16,-16,-16,-16,-16,16,-16,16,-16,-16,-16,16,16,-16,-16,-16,-16,-64]
[-16,-16,16,-16,16,-16,-16,16,-16,-16,-16,-16,-16,16,-16,-16,16,-16,-16,-16,-16,-16,16,16,16,-16,16,-16,-16,16,-16,-16,16,-16,-16,-16,-16,16,16,-16,-16,-16,-16,16,-16,-16,16,16,-16,-16,16,-16,-16,-16,16,16,-16,-16,16,-16,16,-16,-16,16,-16,-16,-16,-16,16,16,-16,16,-16,-16,16,16,-16,-16,-16,-16,-16,-16,-16,16,16,16,16,-16,-16,-16,16,16,16,16,16,-16,16,-16,-16,-16,16,16,-16,-16,-16,-16,-16,-16,-16,16,-16,16,16,16,-16,16,-16,-16,-16,-16,16,-16,-16,-16,-16,16,16,-16]
[16,16,-16,-16,16,-16,-16,-16,-16,16,-16,-16,16,16,16,16,-16,-16,-16,-16,16,-16,16,16,-16,16,16,-16,-16,16,-16,16,-16,-16,16,16,16,64,-64,16,16,16,16,16,-16,-16,-16,-16,16,-16,16,-16,64,-16,16,16,-16,-16,-16,-16,16,16,-16,16,-16,-16,-16,16,-16,16,-16,16,-16,-16,-16,16,-16,16,16,-16,16,-16,-16,64,-16,16,-16,16,16,16,-16,-16,16,16,-16,-16,-16,-16,16,16,16,-16,16,-16,16,-64,-16,-16,16,16,16,-16,16,-16,16,-16,16,-16,16,-16,-16,-16,16,16,16,-16,-16,16]
[16,16,-16,-16,-16,-16,16,16,16,16,16,-16,-16,-16,16,16,16,16,-16,16,-16,-16,-16,16,16,-16,16,16,16,16,-16,16,16,-16,-16,16,16,16,-16,16,-16,-16,16,16,-16,16,-16,16,-16,16,-16,-16,-16,16,16,16,16,-16,16,-16,-16,-16,-16,16,16,-16,16,16,-16,16,16,-16,-16,16,-16,-16,-16,-16,16,-16,16,16,-16,-16,-16,-16,16,16,-16,-16,-16,-16,-16,-16,-16,16,16,16,-16,-16,-16,16,-16,-16,16,-16,-16,-16,-16,-16,-16,16,-16,-16,16,16,16,16,-16,-16,16,16,16,-16,-16,-16,-16,-16]
[16,-16,-16,-16,-16,16,16,16,-16,16,16,16,16,16,16,16,-16,-16,16,16,-16,16,64,-16,16,16,64,-64,-16,-16,-16,64,16,-16,16,16,-16,16,-16,16,16,-16,-16,-16,16,16,-16,-16,-16,16,-16,16,16,-16,64,-16,-16,-16,-16,16,16,16,-16,16,-16,-16,16,16,-16,-16,-16,16,16,-16,16,-16,-64,16,-16,-16,16,16,64,16,-16,-16,-64,16,-16,16,-16,-16,16,16,-16,-16,16,16,-16,16,-16,16,-16,-64,-16,-16,-16,-16,16,-16,-16,-64,16,-16,-64,-16,16,-16,-16,-16,16,16,-16,16,16,-16,16,-16]
[-16,-16,-16,-16,-16,16,16,-16,-16,16,16,16,16,16,16,16,-16,-16,16,-16,-16,16,16,-16,-16,16,64,-16,-16,-16,-64,16,16,-16,16,16,-16,16,-16,-16,-16,-16,-16,-64,-16,16,-16,-16,-16,16,16,-16,16,-16,64,64,-16,16,-16,-16,16,16,-16,16,-16,-16,16,16,-16,-16,16,-16,16,16,16,16,-16,-16,-64,-16,16,-16,16,16,-64,-16,-64,16,-64,16,-16,16,-16,-16,-16,-16,16,-16,-16,-16,16,16,16,-16,16,-64,-16,16,-16,-16,-16,-16,16,16,-16,16,16,16,16,-16,16,-16,-16,16,16,-16,16,-64]
[-16,16,16,16,16,16,-16,-16,16,16,16,16,16,-16,-16,-16,16,16,16,-16,-16,-16,16,16,16,-16,-16,16,-16,-16,-16,16,-16,16,16,-16,16,16,16,-16,16,16,16,-16,16,-16,16,16,-16,-16,-16,-16,-16,16,-16,-16,16,16,-16,-16,16,-16,16,-16,-16,-16,-16,16,-16,16,16,-16,-16,-16,-16,-16,-16,16,16,-16,-16,-16,-16,16,-16,-16,-16,16,16,-16,16,16,16,16,16,16,16,-16,16,16,16,16,-16,16,-16,16,16,-16,16,-16,-16,16,-16,-16,16,16,-16,-16,16,16,-16,-16,16,-16,16,-16,-16,16]
[16,16,-16,-16,-16,16,16,16,16,-16,16,16,-16,16,16,-16,-64,16,16,16,-16,-16,16,-16,-16,-16,16,-16,16,-64,-16,-16,16,16,16,16,16,64,-16,-16,16,-16,-16,-16,-16,16,-16,-64,16,-16,-16,-16,16,-16,16,16,-64,16,-16,-16,-16,16,-64,16,-16,-64,16,-16,16,16,-16,-16,16,16,16,-16,-16,-16,16,-16,16,16,16,16,-16,16,-16,-16,16,-16,-16,-16,16,16,-16,-16,16,16,16,-16,-16,16,-16,16,-16,16,-16,16,-16,-16,-16,-16,16,-16,-16,-64,16,16,-16,-16,16,16,-64,-16,64,-16,-16,16]
[16,-16,-16,16,16,-16,16,16,-16,16,16,-16,16,16,-16,-16,-16,16,16,-16,-16,16,16,-16,16,-16,16,-16,-16,16,-16,16,16,16,16,-16,-16,-16,-16,-16,-16,-16,-16,16,16,-16,16,16,-16,16,-16,16,-16,16,-16,-16,16,-16,16,-16,16,-16,16,-16,16,16,-16,-16,-16,-16,16,16,16,-16,-16,16,16,16,16,-16,-16,16,-16,-16,-16,16,16,16,-16,16,16,-16,-16,-16,16,16,-16,16,16,16,16,16,16,16,-16,-16,16,-16,16,16,-16,16,16,-16,16,16,-16,-16,-16,16,16,16,-16,-16,16,16,-64,-16]
[-16,16,16,16,16,-16,16,-16,16,16,16,16,16,-16,-16,-16,16,16,-16,-16,-16,16,-16,-16,16,-16,16,16,-16,16,16,16,16,-16,-16,16,-64,-16,16,16,16,16,-16,16,16,-16,16,16,-16,16,16,-16,-16,16,-16,-64,16,16,16,-16,16,-16,16,16,-16,16,-16,16,16,-16,16,16,16,-16,-16,16,-16,-16,16,16,16,-16,-16,-16,16,-16,16,16,16,-16,16,-16,-64,16,-16,16,16,16,-16,-16,16,16,16,16,16,16,16,-16,-16,-16,16,16,-16,-16,16,16,-16,-16,-16,16,-16,16,-16,-16,-16,16,-16,-16]
[16,-16,16,-16,16,16,16,-16,16,-16,16,16,16,16,16,-16,-16,-16,16,16,-16,-16,16,-16,16,16,16,-16,-16,-16,16,-16,16,-16,16,16,16,16,16,-16,-16,-16,-16,16,-16,16,-16,-16,-16,16,-16,16,64,-16,16,16,-16,16,-16,-16,-16,16,-16,16,-16,-16,16,16,-16,-16,16,-16,-16,-16,16,-16,-16,16,16,-16,16,-16,16,16,-16,-16,-16,16,-16,16,16,-16,-16,16,-16,-16,16,16,-16,-16,-16,16,-16,-16,-16,16,-16,-16,-16,16,-16,-16,16,-16,16,-16,16,-16,-16,16,16,16,-16,16,16,-16,16,-16]
[16,-16,16,16,-16,16,16,-16,-16,16,16,16,16,16,16,-16,16,-16,16,16,16,16,16,16,-16,16,16,16,-16,-16,-16,-16,-16,16,16,16,-16,-16,16,16,-16,-16,16,-16,-16,16,-16,16,16,16,-16,-16,16,-16,-16,16,16,-16,16,16,16,16,-16,16,16,16,16,16,16,-16,-16,-16,-16,-16,16,16,16,16,16,16,16,-16,16,16,-16,16,16,-16,-16,16,-16,-16,16,16,16,-16,16,16,16,16,-16,16,16,-16,16,-16,-16,16,16,-16,-16,-16,16,-16,16,16,16,16,-16,16,-16,16,16,16,16,16,16,16]
[-16,-16,16,16,16,16,16,-16,16,16,16,16,16,16,16,16,-16,16,-16,-16,-16,16,16,16,-16,-16,-16,16,16,16,16,16,16,-16,16,16,16,16,16,16,-16,-16,16,-16,16,16,16,16,-16,16,-16,16,-16,16,-16,16,-16,-16,16,-16,16,16,16,16,16,16,16,-16,16,16,16,16,-16,-16,16,16,-16,16,16,-16,16,-16,-16,16,16,16,16,16,16,16,16,-16,16,16,16,-16,16,16,16,-16,-16,16,16,-16,-16,64,64,-16,-16,-16,16,16,-16,-16,16,16,16,-16,16,-16,-16,16,16,16,16,-16,16,16]
[16,-16,16,16,-16,16,16,-16,-16,16,16,16,-16,16,16,16,-16,-16,16,-16,-16,-16,16,-16,-16,-16,16,16,-16,16,16,16,16,-16,16,16,-16,16,16,16,16,-16,16,16,-16,-16,-16,16,16,16,-16,-16,16,-16,-16,16,16,16,-16,-16,16,-16,-16,-16,-16,-16,16,16,-16,-16,16,16,-16,-16,-16,16,16,-16,-16,16,16,16,16,-16,-16,16,16,-16,-16,64,16,-16,-16,16,-16,-16,16,16,16,16,16,16,16,-16,-16,-16,-16,-16,16,-16,-16,16,-16,16,-16,16,-16,-16,16,16,16,16,16,16,-16,-16,16,-16]
[16,16,16,16,16,16,-16,16,16,-16,16,-16,16,16,-16,16,16,-16,-16,-16,-16,-16,16,-16,-16,-16,-16,-16,16,-16,16,16,16,16,-16,-16,16,16,16,16,16,16,-16,16,-16,16,16,16,16,-16,-16,-16,16,16,-16,-16,-16,16,-16,16,-16,-16,16,16,16,-16,-16,16,-16,16,16,16,-16,-16,-16,-16,16,-16,16,-16,16,16,16,-16,-16,16,16,-16,16,-16,16,16,-16,-16,-16,16,-16,16,-16,16,-16,16,16,-16,16,-16,-16,-16,-16,-16,-16,16,-16,-16,-16,16,16,-16,16,16,16,-16,-16,16,16,-16,-16,16]
[64,16,-16,16,16,16,-16,16,16,16,16,64,-16,16,16,-16,-16,16,16,16,-16,-16,16,16,-16,16,16,-16,16,-16,16,16,16,16,16,-16,16,-16,16,16,-16,-16,-16,16,-16,-16,-16,16,-16,16,-16,-16,-16,-16,16,-16,-16,-16,16,16,16,16,-16,16,16,16,16,-16,-16,16,16,-16,16,-16,16,-16,16,-16,-16,16,16,16,16,16,16,-16,-16,16,16,16,16,-16,-16,-16,16,64,-16,-16,-16,-16,-16,16,-16,-16,16,-16,16,-16,-16,-16,-16,-16,16,16,16,16,16,-16,-16,16,16,64,-16,16,16,16,-16,-16]
[-16,16,16,-16,-16,-16,16,16,-16,16,16,16,16,-16,-16,-16,-16,-16,-16,-16,-16,16,16,-16,16,16,16,16,-16,16,-16,16,16,-16,-16,16,-16,-16,16,-16,-16,16,-16,16,16,-16,16,-16,-16,16,16,-16,16,16,-16,-16,-16,-16,16,-16,16,-16,16,-16,16,16,-16,-16,16,-64,16,16,16,-16,16,-16,-16,16,16,16,16,-16,16,16,-16,-16,16,16,-16,16,16,-16,-16,-16,-16,-16,-16,16,-16,16,16,16,-16,16,-16,16,16,-16,16,-16,16,-16,-16,-16,-16,16,-16,-16,-16,-16,-16,16,-16,16,-16,-16,-16,-16]
[16,16,16,-16,-16,16,-16,16,16,-16,-16,16,16,-16,16,-16,16,-16,16,16,16,-16,16,-16,16,16,16,16,16,-16,16,-16,16,16,-16,16,16,16,16,-16,-16,-16,16,-16,16,16,16,16,16,16,-16,16,16,16,16,16,-16,-16,-16,16,-16,16,16,16,-16,-16,16,-16,-16,16,16,-16,-16,-16,-16,-16,16,-16,16,16,16,16,16,64,-16,-16,-16,16,-16,-16,-16,16,16,16,-16,-16,16,-16,-16,-16,16,16,-16,16,16,-16,16,-16,16,-16,16,16,16,16,16,-16,16,-16,-16,16,16,-16,16,-16,16,16,16,16]
[16,16,-16,-16,16,-16,-16,16,16,-16,16,-16,-16,-16,-16,16,-16,-16,-16,16,-16,-16,16,16,16,16,16,16,16,16,-16,-16,-16,-16,-16,-16,-16,-16,-16,-16,16,16,16,-16,16,16,16,16,-16,-16,-16,-16,16,-16,16,16,-16,16,16,-16,-16,16,-16,-16,16,16,16,16,16,-16,-16,-16,16,16,16,16,16,-16,-16,-16,-16,16,16,-16,16,-16,16,-16,16,16,16,-16,-16,16,16,16,16,16,-16,-16,16,16,16,-16,16,16,16,16,-16,16,-16,16,-16,16,16,16,-16,16,-16,-16,-16,-16,16,-16,16,16,-16,-16]
[16,16,16,16,16,-16,16,-16,-16,16,16,16,16,16,-64,-16,16,16,-16,-16,-16,-16,-16,-16,16,-16,-16,-16,-16,16,16,16,-16,16,16,16,-16,16,-16,16,-16,16,-16,-16,16,-16,16,-16,-16,16,-16,16,16,-16,-16,-16,16,16,16,-16,16,-16,16,16,-16,16,16,16,-16,-16,16,16,16,16,-16,16,16,16,16,-16,-16,16,16,16,16,-16,16,16,-16,-16,16,-16,-16,-16,16,16,-16,16,-16,16,16,16,16,16,-16,16,16,-16,-16,16,-16,16,-16,16,16,16,16,-16,-16,-16,16,16,-16,-16,16,16,-16,-16]
[16,16,16,-16,-16,-16,16,-16,16,16,16,16,16,-16,-16,16,-16,16,-16,16,-16,16,16,16,16,16,-16,-16,-16,-16,16,-16,-16,-16,-16,16,-16,16,16,16,-16,16,16,-16,16,-16,-16,16,16,-16,16,16,-16,-16,16,16,16,16,16,-16,16,16,-16,-16,16,16,16,-16,-16,16,-16,16,16,-16,16,-16,-16,-16,16,16,-16,-16,16,-16,16,-16,16,-16,16,-16,16,16,16,16,-16,16,16,-16,16,-16,-16,16,-16,-16,-16,16,-16,-16,16,-16,-16,-16,16,-16,-16,-16,-16,16,16,16,16,-16,-16,16,-16,-16,-16,-16]
[16,-16,16,-16,16,16,-16,-16,16,-16,16,16,-16,-16,-16,-16,-16,16,16,16,16,-16,16,-16,-16,16,16,-16,16,-16,-16,-16,16,-16,16,-16,16,16,-16,-16,16,-16,16,16,-16,16,16,-16,-16,-16,-16,16,-16,-16,16,16,16,16,16,-16,-16,16,-16,16,-16,-16,16,16,-16,-16,16,-16,-16,16,16,-16,-16,-16,-16,-16,16,16,16,-16,-16,16,-16,-16,-16,16,-16,16,-16,-16,-16,-16,16,16,-16,16,-16,16,-16,16,16,-16,-16,-16,-16,16,-16,16,16,-16,-16,16,16,-16,-16,-16,16,16,-16,-16,16,-16,16,-16]
[16,-16,-64,-16,-16,64,-16,16,16,64,16,64,-16,16,-16,16,-64,-16,64,16,-64,16,16,-16,16,64,-16,-64,16,-64,-16,16,-16,-16,-16,-16,64,64,-64,16,-16,16,-16,-16,-16,-16,-16,-64,-16,-16,-16,-16,16,-16,-64,16,16,-16,-16,-16,64,64,-64,64,-16,-64,64,-16,16,64,-16,-16,16,-16,64,-16,-16,-16,-16,-16,-16,-16,64,16,-16,16,-64,16,-16,64,-16,16,16,-16,16,-16,64,16,-16,-16,16,-16,16,-16,16,-16,-16,-16,16,-16,16,-64,64,16,-64,16,64,16,-16,-16,64,-64,-16,64,64,-16,-16,16]
[16,-16,16,-16,-16,16,16,16,-16,16,16,16,64,-16,-16,-16,-16,16,16,-16,16,-16,16,-16,16,16,16,16,16,16,-16,-16,16,-16,16,64,16,16,16,-16,-16,-16,16,16,-16,-16,16,16,-16,16,-16,16,16,16,16,64,-16,-16,16,16,16,16,16,16,-16,-16,16,16,16,-16,16,-16,16,-16,16,16,16,-16,-16,16,16,-16,16,16,16,16,16,-16,-16,16,-16,16,-16,-16,-16,-16,-16,16,16,-16,16,16,16,16,16,16,16,16,16,16,16,16,16,-16,16,16,-16,-16,16,16,16,64,16,16,16,-16,-16,16]
[16,16,-16,-16,-16,-16,16,-16,16,16,16,-16,16,-16,16,-16,16,-16,16,-16,16,-16,-16,-16,16,-16,16,-16,16,16,-16,-16,16,16,16,16,-16,16,-16,-16,-16,-16,-16,16,-16,-16,16,-16,-16,16,-16,-16,-16,-16,16,-16,-16,16,64,-16,-16,16,16,16,-16,16,16,16,-16,-16,-16,-16,16,-16,-16,-16,16,-16,-16,16,16,-16,-16,-16,16,16,16,16,-16,-16,16,-16,-16,-16,-16,-16,-16,16,16,-16,-16,16,16,16,16,-16,-16,16,-16,-16,16,16,16,-16,16,16,-16,-16,-16,-16,16,16,-16,16,16,-16,16,-16]
[-16,-16,16,-16,16,-16,16,-16,16,16,16,16,-16,-16,-16,-16,-16,16,16,16,-16,16,-16,16,16,16,-16,16,-16,-16,-16,16,-64,-16,-16,-16,-16,16,16,16,-16,-16,16,16,16,16,64,16,-16,16,-16,16,16,-16,-64,16,-16,-16,16,16,16,16,-16,-16,16,-16,16,-16,-16,16,-16,16,16,-16,16,-16,16,16,16,-16,-16,-16,16,16,16,-16,16,16,-16,16,-16,-16,-16,16,16,16,16,16,-16,-16,-16,-16,-16,16,16,16,16,16,16,16,-16,-16,-16,-16,16,-16,16,-16,16,16,16,16,-16,-16,16,16,-16,16]
[16,-16,16,-16,16,-16,16,-16,-16,-16,64,-16,16,-16,16,16,16,16,-16,16,-16,16,-16,-16,16,16,16,16,-16,16,16,16,16,-16,-16,16,16,-16,16,-16,16,-16,-16,16,16,-16,16,16,-16,64,-16,-16,-16,16,16,-16,-16,-16,16,-16,16,-16,16,-16,-16,16,-16,-16,-16,-16,16,-16,16,-16,-16,-16,-16,16,16,16,16,-16,-16,-16,16,-16,16,16,16,-16,16,-16,-16,-16,16,16,-16,16,-16,-16,16,64,-16,16,16,16,16,-16,-16,-16,16,16,-64,-16,16,16,-16,16,-16,16,-16,16,-16,-16,-16,16,16,-16]
[16,-16,-16,-16,-16,-16,16,-16,-16,-16,16,16,16,16,-16,-16,-16,-16,16,16,16,16,-16,-64,-16,16,16,-16,16,16,16,-16,16,-16,-16,16,-16,16,-16,16,-16,16,16,16,-16,-16,16,16,16,16,-16,16,-16,16,16,-16,16,16,16,16,-16,16,-16,16,-16,-16,-16,-16,16,-64,16,-16,16,16,-16,-16,-16,-16,16,-16,16,16,16,-16,-16,-16,16,16,-16,-16,-16,-16,-16,-16,-16,-16,-16,16,-16,-16,16,16,16,16,16,-16,-16,16,-16,-16,16,-16,16,16,-16,16,-16,-16,-16,-16,-16,16,-16,16,16,-16,-16,-16]
[-16,16,-64,16,-16,16,-16,16,-16,-16,-16,64,-16,16,-16,16,-64,-16,64,16,-64,16,16,-16,16,16,-16,-64,-16,-64,-16,16,-64,-16,16,-16,-16,64,-64,16,16,-16,-16,-16,-16,-16,-16,-64,-16,-16,-16,16,-16,-16,-64,16,-16,-16,-16,-16,-16,64,-64,64,-16,-64,64,-16,-16,16,-64,-16,-16,-16,64,16,-16,-16,-16,-16,-16,16,64,-16,-16,16,-64,-16,-16,16,-16,-16,-16,16,-16,-16,64,-16,-16,-16,16,-16,-16,-16,16,16,-16,16,-16,16,-16,-64,64,-16,-64,16,64,-16,-16,-16,64,-64,16,16,16,-16,-64,-16]
[-16,16,-16,-16,-16,16,16,16,16,16,16,-16,16,16,-16,-16,-16,-16,-16,16,-16,-16,-16,-16,-16,16,-16,-16,-16,-16,-16,16,16,-16,16,16,16,-16,16,-16,16,-16,-16,-16,16,-16,-16,-16,-16,-16,-16,16,-16,-16,-16,-16,-16,16,16,16,-16,16,16,16,-16,-16,-16,16,16,-16,16,-16,16,-16,16,16,16,16,16,-16,16,16,-16,16,16,16,16,-16,16,-16,-16,16,-16,-16,16,16,-16,16,-16,-16,-16,16,16,16,-16,-16,-16,16,16,16,-16,-16,-16,-16,16,-16,16,-16,-16,-16,16,-16,-16,16,-16,16,-16,-16]
[16,16,16,16,16,-16,-16,-16,16,16,-16,-16,-16,16,16,16,-16,16,16,16,16,-16,16,16,-16,16,-16,16,16,16,16,-16,16,16,-16,16,16,16,16,16,-16,16,16,-16,16,16,-16,16,-16,-16,-16,-16,16,-16,16,16,-16,-16,16,-16,16,16,-16,-16,16,16,16,16,16,16,-16,16,16,-16,16,-16,-16,-16,16,16,-16,-16,16,16,16,-16,16,16,16,-16,16,16,16,16,16,16,16,-16,-16,-16,16,-16,16,16,16,16,16,-16,-16,16,16,-16,16,-16,-16,16,16,-16,16,-16,16,-16,16,16,16,16,16,-16]
[16,-16,16,-16,-16,-16,16,-16,-16,16,16,-16,16,-16,16,-16,-16,-16,16,-16,16,64,-16,-16,-16,-16,16,16,16,64,-16,-16,16,16,-16,16,-16,16,16,16,16,16,16,16,-16,-16,16,16,-16,64,-16,-16,-16,-16,16,16,16,-16,64,16,16,16,16,16,16,16,-16,-16,-16,-64,-16,-16,16,16,16,-16,-16,-16,-16,-16,16,-16,16,-16,-16,16,16,64,-16,-16,-16,-16,-16,-16,-16,-16,-16,16,16,-16,-16,16,16,16,-16,-16,-16,-16,-16,16,-16,-16,16,-16,16,-16,-16,16,-16,16,-16,16,16,16,16,16,16,-16]
[16,16,16,16,16,16,-16,-16,16,16,-16,16,16,16,-16,16,16,-16,16,-16,16,-16,-16,16,16,16,16,16,-16,16,-16,16,-16,16,-16,-16,16,16,16,-16,-16,16,-16,-16,16,-16,-16,16,16,-16,16,16,16,-16,16,16,16,-16,16,16,16,16,16,-16,16,16,16,16,16,16,16,16,-16,-16,16,16,16,16,16,-16,16,16,16,16,-16,16,16,-16,-16,16,16,16,16,-16,16,-16,16,-16,16,16,16,16,16,16,16,16,16,16,-16,-16,-16,16,16,16,16,-16,16,-16,16,-16,16,16,-16,-16,16,16,16,16]
[16,16,16,-16,16,16,-16,16,16,16,-16,16,-16,16,16,16,16,-16,16,16,-16,-16,16,16,-16,16,-16,16,16,16,16,16,16,16,16,-16,16,16,-16,-16,-16,-16,-16,16,16,-16,16,-16,16,-16,16,16,16,-16,64,16,-16,-16,16,-16,16,16,-16,-16,-16,16,16,16,-16,16,-16,16,-16,-16,16,16,-16,16,-16,16,16,16,16,64,-16,16,16,16,16,16,-16,16,16,16,16,16,64,-16,16,16,16,16,-16,-16,-16,16,16,-16,16,-16,-16,16,16,-16,-16,-16,16,-16,16,16,16,16,-16,16,16,-16,16,16]
[16,-16,16,16,64,16,-16,-16,-16,-16,-16,64,-16,16,16,16,-16,64,-16,16,-16,-16,16,16,-16,16,16,-16,16,-16,16,16,16,16,-16,16,-16,-16,16,16,16,-16,-16,-16,16,-16,-16,16,-16,16,16,16,-16,-16,16,-16,-16,-16,16,16,-16,-16,16,16,-16,-16,-16,-16,-16,16,-16,-16,16,16,-16,-16,-16,-16,16,-16,16,-16,-16,-16,16,-64,16,16,16,-16,16,16,-16,16,16,64,-16,-16,-16,-16,-16,16,-16,16,-16,16,16,-16,-16,16,16,-16,-16,-16,16,16,-16,16,-16,16,-16,16,-16,16,-16,16,16,16]
[-16,16,16,16,-16,-16,-16,16,-16,64,-16,64,16,16,-16,16,-16,-16,-16,-16,-16,16,16,16,16,16,-16,16,-16,-16,16,16,-16,-16,16,16,-16,16,16,-16,-16,-16,-16,16,16,-16,16,16,-16,-16,-16,16,-16,-16,16,16,16,16,-16,16,16,-16,16,16,16,16,-16,-16,-16,64,-16,-16,-16,-16,-16,-16,16,16,16,16,16,16,-16,16,-16,16,16,-16,-16,-16,-16,16,16,-16,-16,-16,64,-16,16,16,16,-16,-16,16,-16,-16,16,16,16,-16,16,16,16,-16,16,-16,-16,16,16,-16,-16,-16,-16,16,-16,16,-16,-16]
[-16,-16,-16,-16,16,16,16,-16,-16,-16,16,16,16,16,16,16,-16,-16,16,-16,-16,16,-16,-16,16,16,16,-64,16,-64,-16,-16,16,16,16,16,16,16,-16,-16,16,16,16,-16,-16,-16,-16,-64,-16,16,-16,-16,16,16,-16,-16,-16,-16,-16,-16,16,64,-16,64,-16,-16,16,-16,-16,16,-16,-16,-16,-16,64,-16,-16,-16,16,16,16,-16,64,-16,-16,16,-64,-16,16,16,-16,-16,-16,16,-16,-16,-16,16,-16,-16,16,-16,-16,-16,16,-16,-16,-16,16,-16,16,-64,16,-16,-16,16,64,16,-64,-16,16,-16,-16,16,16,-16,-16,-16]
[-16,-16,-64,16,16,-16,-16,-16,16,16,-16,16,-64,-16,-16,-16,-16,16,16,-16,-16,-64,16,16,-16,-16,16,-16,-16,-64,16,-16,-16,16,16,-16,16,16,-16,-16,16,16,-16,-16,16,16,16,-16,-16,-16,-16,-16,64,-16,-64,16,-16,-16,-16,16,16,16,-16,64,-64,-16,64,-16,16,16,-16,-16,16,-16,16,-16,-16,-16,-16,16,-16,-16,16,-16,-16,16,-16,-64,16,-16,16,16,16,-16,16,16,16,-16,-16,16,-16,-16,16,-16,16,16,16,-16,-16,-16,-16,16,16,-16,-16,-16,16,-16,16,16,64,-16,-16,16,16,-16,16,16]
[-16,-16,16,16,16,-16,-16,16,-16,-16,-16,16,-16,-16,-16,-16,16,16,-16,-16,-16,-16,-16,-16,-64,-16,-16,16,-16,-16,16,-16,-16,16,16,-16,-16,-16,16,-16,16,-16,-16,-16,16,-16,16,16,-16,-16,-16,-16,-16,16,16,-16,-16,16,-16,-16,-16,-16,16,-16,-16,16,-16,16,16,-16,16,-16,16,-16,-16,16,-16,16,16,16,16,-16,-16,-64,16,-16,16,-16,16,-64,16,-16,16,-16,16,16,-64,-16,-16,-16,-16,16,-16,16,-16,16,16,-16,16,-16,-16,16,-16,-16,16,16,-16,16,-16,16,-16,16,-16,-16,-16,16,-16,16]
[-16,-16,16,-16,16,-16,-16,16,-16,-16,16,-16,-16,-16,-16,-16,16,16,-16,-16,-16,-16,-16,16,16,-16,-16,16,-16,16,16,-16,-16,16,-16,-16,-16,-16,16,-16,-16,-16,-64,-16,16,16,16,16,16,16,-16,-16,-16,16,-16,-16,-16,-16,16,16,-16,-16,16,-16,-16,16,-16,16,-16,-16,16,-16,16,16,-16,-16,64,-16,64,16,16,-16,-64,-64,16,-16,16,-16,64,-16,16,-16,16,-16,16,16,-16,-16,-16,16,16,-16,16,64,-16,16,16,-16,-16,-16,16,16,-16,16,16,16,-16,-16,-16,16,-16,16,-64,-16,-16,16,-16,16]
[64,16,16,-16,-16,-16,64,16,-16,-16,64,-16,16,-16,16,16,16,-16,-16,-16,16,16,-16,-64,16,-16,16,-16,-16,16,-16,-16,64,-16,16,16,-16,-16,16,-16,16,16,-16,16,16,-16,-16,16,-16,64,-16,-16,-16,-16,16,-16,16,-16,16,16,16,-16,16,16,-64,16,-16,-16,-16,-64,16,-16,16,-16,-16,-16,-16,-16,-16,16,16,16,16,-16,16,-16,16,16,-16,16,-16,-16,-16,16,-16,-16,-64,16,-16,-16,16,16,16,16,-16,-16,-16,16,16,16,16,16,-16,-16,16,16,-16,-16,-64,-16,-16,64,-16,16,-16,16,16,-16]
[-16,16,-16,-16,16,-16,-16,16,16,16,16,16,16,16,16,16,-16,-16,-16,16,16,-16,16,-16,16,-16,16,16,-16,-16,16,16,16,-16,16,16,16,-16,-16,-16,16,16,-16,-16,-16,16,16,-16,-16,16,-16,-16,16,-16,16,16,16,16,-16,-16,-16,-16,-16,-16,16,16,-16,16,-16,16,-16,16,16,16,16,-16,-16,-16,16,-16,16,-16,16,16,-16,-16,16,16,-16,-16,-16,16,-16,-16,-16,16,16,16,16,16,16,-16,-16,-16,-16,16,16,16,16,-16,-16,16,16,16,16,16,-16,-16,16,16,-16,16,-16,16,16,-16,-16,16]
[16,-16,-16,-16,-64,16,16,-16,-16,16,-16,16,-16,16,16,16,-16,-16,16,16,64,-16,-16,16,-16,16,64,-16,-16,-16,16,16,64,-16,16,16,-16,16,-16,-16,-16,-16,16,64,-16,-16,-64,-64,16,16,-16,-16,-16,-16,64,16,16,16,16,-16,16,16,-64,64,16,-16,16,-16,-16,-16,16,16,16,-16,16,16,-16,-16,-16,16,16,-16,16,16,-16,-16,-16,16,-64,16,-16,-16,-16,16,-64,-16,16,16,16,-16,16,16,16,-64,16,-16,-16,-16,16,16,-16,-64,16,-16,-16,-16,16,16,16,-16,16,16,16,64,16,-16,64,-16]
[-16,-16,16,-16,16,16,16,16,16,-16,-16,16,16,-16,-16,-16,16,16,-16,16,-16,-16,16,16,-16,-16,-16,16,-16,-16,-16,16,-16,16,-16,-16,16,16,-16,-16,-16,-16,16,-16,16,-16,-16,16,-16,16,16,-16,16,-16,-16,16,16,16,-16,16,-16,-16,-16,-16,-16,16,-16,-16,-16,-16,-16,-16,-16,-16,-16,-16,-16,-16,16,-16,-16,-16,-16,-16,16,-16,16,-16,16,-16,16,16,16,-16,16,16,-16,-16,16,-16,-16,-16,16,-16,16,16,16,16,16,-16,-16,-16,-16,-16,-16,-16,16,16,-16,-16,-16,-16,-16,-16,-16,16,-16,16]
[-16,-16,16,16,-16,-16,-16,16,-16,-16,-16,-16,-16,16,16,16,-16,16,16,-16,16,16,-16,-16,16,-16,-16,16,16,16,-16,16,-16,16,-16,16,-16,16,-16,16,16,16,16,-16,-16,-16,16,-16,-16,16,-16,16,-16,16,-16,16,-16,-16,-16,16,16,-16,-16,16,-16,-16,16,16,16,16,16,-16,16,-16,-16,16,-16,-16,16,-16,16,-16,-16,-16,16,-16,-16,-16,-16,-16,16,-16,-16,16,16,-16,-16,16,-16,-16,16,16,-16,-16,16,16,-16,-16,-16,-16,-16,16,16,-16,-16,-16,-16,16,-16,16,-16,-16,-16,16,-16,-16,16,-16]
[16,-16,-16,-16,16,16,-16,-16,-16,-16,-16,16,-16,-16,16,-16,-16,16,-16,-16,-16,-16,-16,-16,-16,-16,-16,-16,16,-16,-16,-16,16,16,16,-16,-16,16,-16,-16,16,-16,-16,-16,-16,-16,16,-16,-16,-16,16,-16,-16,16,16,-16,-16,16,-16,-16,-16,-16,-16,-16,16,-16,-16,-16,-16,-16,16,-64,16,16,-16,16,-16,-16,16,16,16,-16,-16,-16,-16,-16,-16,-16,16,16,16,16,-16,-16,16,16,-16,-16,-16,-16,16,-16,-16,16,-16,-16,16,16,-16,16,-16,-16,-16,16,-16,-16,-16,-16,-16,16,-16,-16,-16,-16,-16,-16,-16,-16]
[-16,-16,-16,16,16,16,16,-16,-16,16,-16,-16,-16,16,-16,16,16,-16,16,-16,16,16,16,16,-16,16,16,16,-16,16,16,64,16,-16,-16,16,16,-16,-16,16,16,16,16,16,-16,-16,-16,-16,-16,-16,-16,16,16,-16,-16,-16,16,-16,16,16,16,16,-16,-16,16,-16,16,16,16,16,16,16,16,-16,-16,-16,16,64,-16,16,-16,-16,-16,16,-16,-16,16,-16,-16,16,16,16,-16,16,-16,-16,16,16,16,-16,-16,16,-16,16,-16,-16,-16,-16,16,-16,16,16,16,16,16,-16,16,16,16,-16,-16,-16,16,16,16,-16,64,-16]
[-16,16,-16,-16,16,-16,16,16,16,-16,16,16,16,-16,-16,-16,-16,-16,16,16,-16,-16,-16,16,-16,16,-16,16,16,-16,-16,16,-16,-16,-16,-16,16,16,-16,-16,-16,-16,-16,-16,16,-16,-64,16,-16,-16,-16,-16,16,-16,-16,16,-16,-16,-16,-16,16,16,-16,16,-64,-16,16,-16,16,-16,-16,-16,16,16,64,-16,-16,-16,16,-16,-16,16,16,16,-16,-16,-16,-16,16,-16,16,16,16,-16,16,16,-16,-16,-16,16,16,-16,-16,-16,-16,16,16,-16,-16,-16,16,-16,16,-16,-16,-16,64,16,-16,16,16,-16,-64,-16,16,-16,-16,16]
[16,16,-16,16,16,16,16,-16,-16,16,16,16,-16,16,-16,16,-16,16,16,-16,16,16,16,-16,16,16,16,-16,-16,16,-16,16,16,-16,16,16,-16,16,16,16,-16,-16,16,16,16,-16,16,-16,16,16,-16,16,-16,-16,16,-16,16,16,16,16,16,16,-16,16,-16,16,16,16,16,-64,16,-16,16,16,16,-16,16,16,-16,-16,16,16,16,16,16,16,16,16,-16,16,16,16,-16,16,-16,-16,-16,16,16,16,16,16,16,-16,-16,-16,16,16,-16,16,16,16,16,16,-16,16,16,-16,-16,-16,16,16,16,16,16,16,16,-16]
[16,-16,16,-16,-16,16,16,16,16,-16,16,-16,16,-16,16,-16,-16,16,16,16,16,16,-16,-16,16,-16,16,-16,16,-16,-16,16,-16,-16,16,-16,-16,16,16,-16,-16,-16,16,-16,-16,-16,-16,16,16,16,16,16,16,16,-16,16,16,16,16,-16,-16,16,16,-16,16,16,-16,16,-16,-16,-16,16,-16,16,-16,-16,16,16,16,16,16,16,16,16,16,-16,-16,16,16,-16,16,-16,-16,-16,-16,-16,16,-16,-16,16,-16,16,-16,16,-16,16,16,-16,16,-16,16,-16,16,-16,16,-16,16,-16,16,16,-16,-16,-16,16,-16,-16,-16,-16]
[-16,-16,16,16,16,-16,-16,16,-16,-16,16,16,-16,-16,-16,-16,16,64,-16,-16,16,16,-16,-16,-16,-16,-16,-16,-16,16,16,-16,-16,16,16,-16,16,-16,16,-16,16,16,-64,16,64,16,-16,16,16,-16,16,16,-16,-16,16,16,16,-16,16,16,16,-16,16,-16,-16,16,-16,-16,16,16,16,-16,-16,16,-16,-16,-16,-16,16,-16,-16,-16,-16,-16,16,-16,16,-16,16,-16,16,-16,16,-16,16,16,-16,16,-16,-16,16,16,-16,16,-16,16,16,16,16,16,16,16,-16,-16,-16,16,-16,16,-16,16,-16,-16,-16,-16,-16,16,16,16]
[16,-16,16,16,-16,16,16,16,-16,16,-16,-16,-16,16,-16,-16,-16,-16,16,16,16,16,16,-16,16,-16,16,-16,-16,16,16,-16,16,-16,16,16,16,16,16,-16,16,-16,-16,16,-16,16,16,-16,-16,16,16,-16,16,16,-16,16,-16,-16,16,-16,16,-16,-16,16,16,16,16,16,16,16,16,16,16,16,16,16,-16,16,16,16,16,-16,16,16,-16,16,16,16,16,16,16,16,-16,16,16,16,16,16,-16,16,-16,-16,-16,-16,-16,-16,16,-16,-16,16,-16,16,16,-16,-16,16,-16,16,-16,-16,16,16,16,-16,16,-16,16,-16]
[16,-16,-16,-16,-16,16,16,-16,-16,16,16,-16,16,16,16,16,-16,-16,16,16,16,16,-16,-16,16,64,16,-16,16,16,16,16,16,-16,-16,16,16,16,16,16,16,16,16,16,-16,16,-16,-16,16,16,-16,-16,16,16,16,16,16,16,16,-16,16,16,-16,16,-16,16,16,-16,-16,-64,16,-16,-16,-16,-16,-16,-16,-16,-16,-16,64,16,16,16,-16,-16,16,16,-64,16,-16,-16,-16,16,-64,-16,-16,16,16,-16,-16,16,16,16,-16,-16,-16,16,-16,16,16,-16,16,-16,16,16,64,-16,-16,-16,16,16,16,16,16,16,-16,-16]
[16,-16,16,16,-16,-16,-16,-16,-16,-16,16,-16,16,16,-16,16,16,-16,-16,-16,-16,16,-16,16,16,16,16,-16,-16,16,16,-16,-16,16,16,-16,16,-16,-16,16,-16,-16,-16,-16,-16,16,-16,16,-16,-16,-16,16,16,16,-16,16,16,-16,16,-16,16,16,-16,16,-16,-16,16,-16,-16,16,-16,-16,16,16,16,16,-16,-16,16,-16,16,16,16,16,-16,-16,16,-16,-16,16,16,16,-16,16,16,-16,16,-16,16,16,-16,16,16,16,-16,-16,-16,16,16,16,16,16,16,16,-16,-16,16,-16,-16,-16,16,16,16,16,-16,-16,16,16]
[-16,16,16,16,16,16,-16,16,-16,-16,-16,16,-16,-16,-16,-16,16,16,-16,16,-16,-16,16,16,-16,-16,-16,16,-16,16,16,-16,-16,16,16,-16,16,-16,16,-16,-16,16,-16,16,16,16,-16,16,-16,-16,-16,16,16,-16,-16,-16,-16,-16,-16,16,-16,-16,-16,16,-16,16,-16,16,-16,16,16,-16,16,-16,-16,-16,16,16,16,-16,16,16,-16,-16,16,16,-16,-16,16,-16,16,-16,16,-16,16,16,16,-16,-16,-16,16,16,-16,-16,-16,16,16,16,16,-16,-16,-16,-16,-16,-16,-16,16,16,-16,-16,-16,-16,-16,-16,-16,16,16,16]
[-64,-16,-16,-16,-16,16,-16,-16,16,-16,-16,-16,16,16,-16,16,16,16,-16,16,-16,16,-16,-16,-16,-16,-16,-16,-16,16,-16,-16,-16,-16,-16,-16,-16,-16,-16,16,-16,-16,16,-16,-16,-16,-16,16,-16,-16,-16,16,-16,-16,-16,16,16,-16,-16,-16,-16,16,-16,-16,-16,-16,-16,-16,-16,-16,-16,-16,16,-16,-16,-16,-16,-16,-16,-16,-16,-16,-16,-16,-16,-16,16,-16,-16,-16,16,16,-16,16,-16,-16,-16,-16,16,-16,16,-16,-16,-16,-16,-64,-16,-16,-16,-16,16,-16,-16,-16,16,-16,-16,-16,16,-16,-16,-16,-16,-16,-16,-16,-16,-16]
[-16,-16,16,16,16,-16,16,-16,16,16,16,-16,16,-16,-16,16,16,16,16,-16,16,-16,-16,-16,16,-16,-16,16,16,16,16,-16,16,16,-16,16,16,16,16,16,-16,-16,-16,16,16,-16,16,16,-16,16,-16,-16,-16,16,16,16,16,-16,16,16,-16,-16,16,16,16,16,-16,16,16,-16,16,-16,16,-16,16,-16,16,16,16,16,16,-16,16,16,16,16,16,16,-16,-16,16,-16,-16,-16,16,16,-16,16,-16,-16,-16,-16,-16,16,-16,16,16,16,-16,16,16,16,16,-16,64,16,-16,16,16,16,16,16,16,-16,16,16,-16,-16]
[-16,-16,16,-16,-16,16,16,16,16,16,-16,16,-16,-16,16,-16,16,16,-16,-16,16,-16,16,16,-16,-16,-16,-16,-16,-16,16,-16,16,-16,16,-16,-16,-16,-16,-16,-16,-16,16,-16,-16,16,-16,-16,-16,16,-16,-16,-16,16,-16,16,-16,-16,-16,-16,-16,-16,16,16,-16,-16,16,-16,-16,-16,-16,16,16,-16,-16,16,16,-16,16,-16,16,16,16,-16,-16,16,16,16,16,16,-16,16,16,-16,16,-16,16,16,-16,-16,16,16,-16,16,-16,16,-16,-16,-16,16,16,-16,16,-16,16,-16,-16,16,-16,16,16,16,-16,16,-16,-16,-16,16]
[-16,16,-16,-16,16,16,16,-16,16,-16,-16,16,-16,16,16,-16,-16,16,16,16,16,16,16,16,16,-16,-16,-64,-16,-16,-16,-16,-16,16,-16,-16,16,16,-16,-16,16,-16,16,-16,16,-16,-16,-16,-16,-16,-16,-16,16,-16,16,16,16,-16,-16,16,-16,16,-64,16,-16,-64,16,-16,-16,-16,-16,-16,16,-16,16,-16,-16,-16,16,-16,-16,16,16,16,-16,-16,-16,16,-16,16,16,16,-16,16,16,-16,16,16,-16,-16,-16,-16,-16,-16,-16,-16,16,16,-16,16,16,-64,16,16,-16,-64,16,-16,-16,-16,16,-16,-16,-16,-16,-16,-16,-16]
[-16,16,16,-16,16,-16,-16,16,-16,-16,-16,-16,16,-16,-16,16,16,-16,-16,-16,16,-16,-16,16,-16,-16,-16,16,16,16,16,-16,16,64,-16,16,-16,-16,16,16,16,16,16,-16,16,-16,64,16,-16,-16,-16,-16,-16,-16,16,16,16,-16,16,-16,-64,-16,16,-16,-16,-16,-16,-16,16,-16,-16,-16,-16,-16,-16,-16,16,16,-16,16,16,-16,-16,16,16,-16,16,-16,-16,-16,-16,-16,16,-16,-16,-16,-16,-16,-16,-16,-16,-16,-16,16,-16,16,-16,16,16,-16,16,16,16,-16,16,-16,-16,-16,16,-16,-16,-16,-16,16,-16,16,16,16]
[16,16,16,16,-16,16,16,-16,-16,64,64,16,-16,16,16,16,-16,-16,16,16,16,64,16,-16,16,16,16,16,-16,-16,-16,16,64,-16,-16,16,-16,-16,-16,-16,-16,16,16,16,-16,16,-16,16,-16,16,16,16,16,16,16,16,16,-16,64,16,64,16,-16,16,16,16,16,16,16,-64,16,16,16,16,16,16,16,16,-16,-16,16,16,16,-16,16,-16,16,16,-64,64,-16,-16,-16,16,-64,-16,-16,64,16,-16,16,64,-16,-16,16,-16,16,-16,16,-16,16,16,16,16,16,16,16,16,-16,-16,16,64,-16,64,16,-16,-16,-16]
[-16,-16,16,-16,-16,16,16,-16,-16,16,-16,-16,16,16,16,16,16,-16,-16,16,-16,-16,-16,-16,-16,-16,-16,-16,16,16,-16,-16,-16,-16,-16,-16,16,-16,-16,-16,-16,-16,-16,-16,16,-16,-16,-16,-16,16,16,-16,16,-16,-16,-16,-16,-16,-16,-16,-16,-16,16,-16,16,-16,-16,-16,-16,16,16,16,-16,16,-16,16,16,16,16,16,-16,16,-16,-16,16,-16,-16,16,16,-16,16,16,-16,-16,-16,16,-64,-16,16,-16,-16,-16,-16,16,16,-16,16,-16,-16,16,16,-16,-16,-16,-16,-16,-16,16,-16,-16,-16,16,16,-16,-16,-16,-16,-16]
[-16,16,-16,16,16,16,16,-16,16,-16,-16,-16,-16,16,-16,-16,16,-16,-16,-16,16,16,-16,16,-16,-16,16,-16,-16,64,-16,16,16,16,16,-16,16,-16,16,16,16,-16,16,-16,-16,16,-16,16,-16,-16,16,16,-16,-16,16,-16,16,-16,16,-16,-16,-16,-16,-64,16,-16,-16,-16,-16,16,16,16,-16,-16,-16,16,-16,16,-16,-16,-16,-16,16,-16,-16,16,-16,-16,-16,16,-16,16,16,-16,16,16,-16,-16,-16,16,16,-16,16,16,-16,16,16,-16,-16,16,16,16,16,-16,16,-16,-16,16,16,16,-16,-16,16,16,-16,-16,64,64]
[-16,-16,16,16,-16,16,-16,-16,16,16,16,-16,-16,16,16,-16,16,-16,16,16,16,16,-16,16,16,-16,16,-16,-16,-16,16,-16,16,16,-16,16,-16,-16,16,16,-16,16,16,16,-16,16,-16,16,-16,16,16,-16,-16,-16,16,16,16,-16,16,-16,16,16,16,16,16,16,16,16,-16,-16,16,16,16,-16,16,-16,16,-16,-16,-16,16,16,-16,-16,16,16,16,16,-16,16,-16,16,16,16,-16,-16,-16,-16,-16,16,-16,16,-16,-16,-16,-16,-16,-16,-16,16,-16,16,16,-16,-16,16,16,-16,-16,16,-16,16,16,16,-16,16,16,-16]
[16,-16,16,-16,-16,-16,-16,16,16,16,-16,-16,-16,16,16,16,64,-16,-16,-16,16,16,-16,16,16,16,-16,-64,-16,16,-16,16,16,16,-16,16,-16,-16,-16,16,-16,-16,16,16,-16,-16,-16,16,-16,-16,-16,16,-16,-16,-16,-16,-16,-16,16,-16,-16,-16,-16,-16,16,-16,-16,-16,-16,16,-16,16,-16,-16,-16,-16,16,16,-16,-16,16,-16,-16,-16,16,16,-16,16,16,-16,-16,16,16,-16,16,-16,-16,-16,16,16,-16,-16,-16,-16,16,-64,-16,16,16,-16,-16,-16,-16,-16,-64,-16,16,-16,16,-16,-16,16,16,16,-16,16,16,16]
[-16,-16,-16,-16,-16,-16,-16,-16,-16,64,16,16,16,16,16,16,-64,-16,64,16,16,64,16,16,16,-16,16,-16,16,-16,-16,16,16,-16,-16,16,16,16,-16,-16,-16,16,-16,16,-16,16,-16,-16,-16,-16,-16,-16,-16,16,-16,16,16,-16,16,-16,64,16,-16,16,16,-16,16,16,-16,-16,16,16,16,-16,16,-16,-16,16,-16,-16,-16,16,16,16,-16,-16,-16,16,-16,16,-16,-16,-16,-16,-16,-16,16,16,16,16,-16,-16,16,-16,-16,-16,-64,16,16,-16,16,-16,16,-16,-16,-16,64,-16,-16,-16,64,64,16,16,16,-16,16,-16]
[-16,16,-16,16,-16,16,16,16,16,16,16,16,16,-16,16,-16,16,-16,16,-16,-16,-16,16,16,16,16,16,16,16,16,-16,-16,16,-16,16,16,-16,16,-16,16,16,16,-16,-16,16,-16,-16,-16,-16,16,-16,16,-16,16,16,-16,16,16,16,-16,16,16,-16,16,-16,16,16,16,-16,16,-16,-16,-16,16,-16,-16,16,-16,16,-16,16,16,-16,-16,16,16,-16,16,-16,-16,16,-16,-16,16,16,-16,16,-16,16,-16,-16,16,-16,16,16,-16,-16,16,-16,-16,-16,-16,16,16,16,-16,16,-16,-16,-16,-16,16,-16,16,-16,16,-16,16]
[64,-16,-16,16,-16,16,16,-16,16,16,64,16,16,16,64,-16,16,16,-16,16,-16,-16,16,-16,16,-16,16,-16,-16,-16,-16,16,-16,-16,-16,16,-16,16,16,-16,-16,-16,-64,64,16,16,-16,16,-16,16,-16,-16,-16,16,16,-16,-16,16,16,16,16,-16,-16,16,-16,16,16,16,16,-16,16,-64,16,16,-16,16,16,-16,-16,16,64,-16,-16,-16,16,-16,16,16,-16,16,16,-16,-16,16,16,16,16,16,-16,16,-16,16,-16,16,16,-16,-16,-16,16,-16,16,-16,-16,16,-16,16,-16,-16,-64,-16,16,16,-64,16,-16,16,16,-16]
[16,16,-16,16,16,-16,-16,-16,16,-16,-16,-16,-16,-16,16,-16,16,16,16,-16,16,-16,-16,16,16,-16,-16,-16,-16,-16,16,-16,-16,16,-16,16,16,16,16,16,-16,-16,-16,-16,16,-16,-16,-16,-16,-16,16,-16,16,16,-16,16,-16,16,-64,16,-16,-16,-16,16,-16,-16,-16,-16,16,16,-16,-16,-16,-16,16,-16,-16,-16,-16,16,-16,16,16,-16,-16,-16,16,-16,16,-16,16,16,16,-16,16,16,-16,-16,-16,16,-16,-64,-16,-16,-16,16,16,16,16,16,-16,-16,-16,16,-16,-16,-16,16,-16,-16,16,-16,-16,-16,16,-16,16,16]
[16,-16,-16,-16,-16,16,16,16,-16,-16,-16,-16,16,-16,16,-16,16,16,-16,-16,16,16,16,16,16,16,64,-16,-16,16,16,-16,16,-16,16,16,16,16,-16,-16,-16,-16,16,16,-16,16,-64,-16,-16,-16,16,-16,16,16,16,16,16,16,16,16,-16,16,-16,16,16,16,16,16,-16,16,16,-16,-16,-16,-16,-16,-16,-16,-16,-16,16,-16,16,64,-64,-64,16,16,-16,16,16,16,16,16,-16,16,-16,-16,-16,16,16,16,16,-16,16,-16,16,-16,-16,16,16,-16,16,16,-16,-16,16,-16,16,-16,16,16,-16,16,-16,-16,64,-16]
[16,16,-16,-16,16,-16,-16,16,16,16,16,16,-16,-16,-16,-16,-16,16,-16,-16,-16,-16,-16,-16,16,-16,-16,16,16,16,-16,-16,-16,16,-16,-16,-16,16,-16,16,16,-16,16,16,16,16,16,-16,-16,16,16,-16,-16,-16,16,-16,16,-16,-16,16,-16,-16,16,-16,-16,-16,16,-16,16,-16,-16,-16,16,16,-16,-16,-16,-16,16,16,16,16,-16,-16,16,16,16,-16,16,16,16,16,-16,-16,16,16,16,16,-16,-16,16,16,16,16,-16,16,-16,-16,-16,-16,-16,16,-16,-16,-16,-16,-16,-16,-16,-16,16,16,-16,-16,16,16,16,-16]
[16,-16,16,-16,-16,16,-16,-16,16,-16,-16,-16,16,16,-16,16,-16,16,16,16,16,-16,-16,16,-16,-16,16,-16,-16,-16,-16,16,16,-16,16,16,-16,16,16,-16,16,-16,16,16,16,-16,16,16,16,-16,16,-16,-16,-16,-16,-16,-16,16,-16,-16,16,16,-16,16,16,16,16,16,-16,16,16,-16,16,-16,16,-16,-16,-16,-16,-16,16,-16,16,16,-16,16,16,-16,16,16,16,16,-16,16,16,16,16,-16,-16,16,-16,-16,-16,-16,16,16,-16,-16,-16,-16,-16,16,-16,16,-16,16,-16,-16,16,-16,-16,16,16,-16,-16,-16,-16,-16]
[16,16,-16,-16,-16,-16,-16,-16,16,-16,-16,16,-16,-16,-16,16,16,64,-16,-16,-16,-16,-16,16,-16,-16,16,-16,-16,16,16,-64,-16,16,-16,-16,-16,16,-16,16,-16,-16,-16,16,16,-16,-64,-16,16,-16,16,-16,16,-16,16,16,-16,-16,-16,-16,-64,16,-16,-16,-16,-16,-16,16,-16,-16,16,-16,-16,-16,16,16,16,-16,-16,-16,16,-16,-16,16,-16,-16,-16,-16,-16,-16,16,-16,16,-16,16,16,-16,-16,-16,16,-16,-16,-16,16,-16,16,16,16,16,16,16,-16,-16,16,-16,-16,-16,16,-16,16,16,-16,-16,16,-16,-16,16,16]
[-16,-16,-16,16,-16,-16,-16,-16,16,16,16,16,16,64,16,16,16,16,-16,16,16,-16,16,-16,16,16,16,-16,-16,16,16,-16,16,16,16,16,16,16,16,-16,-16,16,16,16,16,16,16,-16,-16,16,16,-16,16,16,16,16,-16,-16,16,-16,16,16,16,-16,16,16,16,16,16,16,16,-16,-16,16,-16,16,-16,-16,16,-16,16,-16,-16,16,-16,16,-16,16,16,16,16,16,-16,-16,-16,16,16,16,-16,-16,16,16,16,16,-16,-16,-16,16,16,16,-16,16,-16,-16,-16,-16,16,16,16,-16,16,16,16,16,16,-16,16,16]
[16,16,16,16,-16,-16,16,16,16,16,16,-16,16,16,16,16,16,16,-16,16,-16,16,16,-16,-16,16,-16,16,-16,16,-16,16,16,-16,-16,16,-16,-16,16,16,-16,-16,16,-16,16,-16,-16,16,16,16,16,-16,16,-16,16,16,16,16,16,16,16,-16,-16,-16,-16,16,16,-16,-16,-64,16,-16,16,-16,-16,16,-16,16,16,16,16,16,-16,-16,16,16,64,16,-16,16,16,16,-16,16,-16,16,-16,16,16,16,16,16,-16,16,-16,16,16,16,-16,16,16,-16,-16,16,-16,16,16,16,-16,16,-16,64,-16,16,-16,16,-16,-16]
[-16,16,-16,16,16,-16,16,-16,-16,16,16,16,16,-16,-16,16,16,16,-16,-16,-16,16,-16,64,16,16,16,16,16,-16,16,16,-16,16,16,16,16,16,16,16,16,-16,16,16,16,-16,16,-16,-16,16,-16,-16,16,-16,-16,16,16,16,16,-16,16,-16,16,16,16,-16,16,-16,16,16,16,-16,16,-16,-16,-16,64,16,16,16,-16,-16,16,16,-16,16,-16,16,-16,16,16,16,16,-16,16,16,16,16,16,16,16,16,16,-16,-16,16,16,-16,-16,16,-16,16,16,-16,16,16,16,-16,16,16,16,16,16,16,-16,16,-16,-16]
[-16,-16,16,-16,16,16,16,16,-16,-16,-16,16,64,16,16,16,16,-16,-16,16,16,16,16,-16,16,16,16,16,-16,16,-16,16,-16,-16,16,16,-16,-16,16,16,-16,16,16,-16,-16,-16,-16,-16,-16,16,-16,-16,16,-16,16,16,-16,-16,16,16,16,16,-16,16,-16,-16,-16,-16,-16,-16,16,16,16,16,-16,-16,16,-16,16,-16,-16,16,-16,16,-16,-16,16,16,-16,16,-16,-16,16,16,-16,-16,-16,-16,-16,16,-16,16,-16,-16,16,-16,16,-16,16,16,16,-16,-16,-16,16,-16,-16,-16,-16,-16,-16,-16,-16,-16,-16,-16,16,16]
[16,-16,-16,16,-16,16,-16,16,16,16,16,16,16,16,16,16,-16,16,16,16,16,-16,-16,-16,16,16,16,16,-16,16,-16,16,16,-16,16,16,16,16,16,16,16,-16,-16,16,16,-16,16,-16,-16,16,-16,16,64,16,16,16,16,16,16,-16,16,16,-16,16,-16,-16,16,16,-16,-16,16,-16,-16,16,16,16,-16,-16,-16,16,16,-16,16,-16,-16,-16,-16,16,-16,16,-16,-16,16,-16,-16,-16,16,16,16,16,-16,16,-16,-16,-16,-16,-16,-16,-16,16,16,-16,-16,-16,-16,16,16,-16,-16,16,16,64,16,-16,16,-16,16,-16]
[-16,16,-16,-16,16,-16,-16,-16,16,16,16,16,16,-16,-16,-16,64,-16,-16,-16,16,-16,16,-16,16,-16,-16,16,16,16,-16,16,16,-16,16,64,16,-16,16,-16,-16,-16,-16,-16,16,16,16,-16,-16,-16,-16,16,-16,16,16,-16,16,-16,16,16,-16,-16,16,-16,-16,16,-16,-16,16,-16,-16,-16,16,16,16,16,16,16,-16,16,16,16,-16,-16,16,-16,16,-16,-16,-64,16,-16,-16,-16,-16,16,16,-16,16,-16,16,-16,-16,16,-16,16,16,-16,-16,-16,-16,64,-16,-16,-16,-16,16,16,16,16,-16,-16,-16,16,16,16,-16,-16]
[-16,-16,-64,-16,-64,16,16,-16,-16,16,16,16,16,16,16,16,-64,-16,16,16,16,16,16,-64,-16,64,16,-16,-16,-16,-64,64,16,-16,16,-16,-64,16,-64,16,16,16,-16,-16,-64,16,-64,-64,-16,16,16,16,16,-16,16,16,-16,-16,-16,-16,16,16,-64,64,-16,-64,16,16,16,-16,16,-16,16,16,16,-16,-16,16,-64,16,16,-16,64,-16,-16,-16,-64,16,-64,16,-16,-16,-64,-16,-64,-16,16,16,-16,-16,16,16,-16,-16,-16,-64,-64,-16,-16,-16,16,-64,64,16,-64,-16,16,16,-16,-16,64,-16,-16,16,64,-16,64,-64]
[-16,16,16,16,16,-16,-16,-16,16,16,16,16,16,16,-16,-16,16,16,16,-16,16,-16,-16,16,16,-16,16,-16,16,-16,16,16,-16,16,16,-16,-16,-16,16,16,-16,-16,16,-16,16,-16,16,-16,-16,-16,-16,-16,-16,16,16,-16,16,-16,16,-16,16,-16,16,16,16,-16,-16,16,-16,-16,16,-16,-16,16,16,-16,-16,16,16,-16,16,-16,-16,16,-16,-16,16,-16,16,-16,16,-16,16,-16,16,16,64,16,16,16,16,16,16,16,16,16,16,16,16,16,-16,16,-16,16,16,-16,-16,-16,16,16,-16,-16,16,-16,-16,16,-16,16]
[16,-16,-64,-64,-64,16,16,-16,-16,-16,16,16,16,16,16,-16,-16,-16,16,64,64,16,64,-64,16,64,-16,-64,16,-64,-64,64,-16,-16,-16,16,-64,64,-64,-16,16,-16,-16,-16,-64,-16,-16,-64,16,16,16,-16,16,16,16,-16,-16,16,-16,16,16,64,-64,16,-16,-64,16,-16,-16,-16,-16,-16,16,-16,64,-16,-16,16,-16,-16,16,16,64,16,-16,-16,-64,16,-64,16,-64,-16,-16,16,-64,-16,64,16,-16,16,-16,16,-16,-16,16,-64,-64,16,-16,16,16,-64,64,16,-64,-16,16,16,16,16,16,16,-16,64,64,16,64,-16]
[16,16,16,16,16,16,16,-16,-16,16,16,16,16,16,-16,-16,-16,-16,16,16,16,16,16,-16,64,-16,16,16,-16,16,16,16,16,16,16,16,-16,16,-16,16,-16,-16,16,16,16,16,-16,-16,-16,16,16,-16,16,-16,16,16,16,16,16,-16,16,16,-16,16,16,-16,16,16,16,-16,16,16,16,-16,-16,-16,-16,16,-16,-16,16,16,16,-16,-16,16,-16,16,-16,16,-16,-16,-16,16,16,-16,16,16,16,-16,16,16,16,16,-16,-16,16,16,-16,-16,-16,-16,16,16,-16,16,16,16,16,-16,16,16,-16,16,16,16,16,-16]
[64,-16,16,-16,16,16,16,16,16,64,64,16,16,16,16,-16,16,-16,-16,16,-16,16,-16,-64,16,16,16,16,-16,16,16,16,64,-64,16,16,-64,-16,16,16,-16,-16,-16,64,16,-16,16,16,-16,64,-16,-16,-16,16,16,-16,16,-16,64,-16,16,16,16,-16,-16,16,-16,-16,-16,-64,64,-16,16,-16,-16,-16,-16,-16,-16,16,64,16,-16,-16,-16,16,16,16,-16,16,16,-16,-64,16,-16,-16,-16,16,-16,-16,16,64,-16,16,16,16,16,16,-16,16,16,-16,-16,-16,16,64,-16,-16,-16,-16,16,64,-16,16,-16,16,16,-64]
[-16,16,-64,-16,16,16,16,16,16,-64,-16,64,16,16,16,-16,-64,16,64,16,16,-16,16,16,16,16,-16,-64,-16,-16,-16,16,-16,16,-16,-16,-16,64,-64,-16,-16,-16,-16,-16,-16,16,-16,-64,16,-16,16,16,64,-16,16,16,-16,16,-16,-16,-16,64,-64,64,-16,-16,64,16,-16,16,-16,-16,16,-16,64,16,-64,-16,-16,-16,16,-16,64,64,-16,-16,-64,-16,16,16,16,16,16,-16,-16,16,64,-16,16,-16,16,-16,16,-16,-16,-16,-16,16,-16,-16,-16,-64,64,16,-16,-64,16,-16,-16,16,64,-16,-64,16,64,-16,16,16]
[16,-16,-16,16,-16,-16,16,16,16,16,16,-16,16,16,16,-16,16,-16,-16,16,16,16,-16,-16,16,16,16,-16,-16,16,16,-16,16,16,16,16,-16,-16,-16,-16,-16,-16,-16,16,16,-16,-16,16,16,16,-16,16,-16,-16,16,-16,16,16,16,-16,16,16,-16,-16,-16,-16,16,16,16,-16,16,16,16,-16,-16,-16,-16,16,-16,16,16,-16,-16,16,-16,16,16,16,-16,16,16,-16,16,-16,-16,-16,-16,64,16,16,-16,16,16,16,-16,16,16,16,-16,16,-16,-16,16,16,16,16,-16,-16,16,16,-16,16,16,16,16,-16,16,-16]
[16,16,16,16,16,-16,16,-16,-16,16,16,16,16,-16,16,16,16,16,-16,16,-16,16,16,-16,16,16,16,-16,-16,-16,16,16,16,-16,-16,16,-16,-16,16,-16,16,16,-16,16,16,-16,16,16,-16,16,-16,16,-16,-16,16,-16,-16,16,16,-16,-16,-16,-16,16,-16,16,-16,-16,16,-16,64,-64,16,16,-16,-16,16,-16,16,-16,16,16,-16,-16,16,16,16,16,16,16,16,16,-16,16,16,16,-16,16,-16,16,16,64,-16,16,16,16,16,16,-16,-16,16,-16,-16,-16,16,64,-16,-16,-64,16,-16,64,-64,16,-16,16,-16,-16]
[16,-16,-16,-16,-16,16,-16,16,16,16,16,16,-16,16,16,16,-16,-16,-16,16,-16,-16,-16,-16,16,16,16,16,16,16,-16,16,16,-16,-16,16,16,16,16,16,-16,16,16,16,-16,-16,-16,-16,-16,16,16,-16,16,-16,16,16,-16,-16,16,-16,16,-16,16,16,16,16,-16,-16,-16,-16,16,-16,16,16,16,-16,-16,16,16,-16,16,16,16,-16,-64,16,-16,16,-16,16,16,-16,-16,-16,-16,-16,-16,16,16,16,-16,16,16,-16,16,-16,-16,-16,16,-16,-16,-16,-16,16,-16,16,16,16,16,-16,16,64,16,16,16,-16,16,-16]
[-16,-16,-64,16,-64,16,-16,16,-16,16,-16,16,-16,16,16,-16,-64,-16,64,16,16,16,16,-16,16,16,-16,-64,16,-16,-64,16,16,-16,-16,-16,-16,64,-64,-16,16,16,-16,-16,-64,-16,-64,-64,-16,16,16,16,16,-16,16,16,16,-16,-16,-16,16,64,-64,64,-16,-64,16,16,-16,-16,-16,16,16,-16,16,-16,-64,16,-16,-16,16,16,64,-16,-16,-16,-64,16,-16,16,-16,-16,-16,-16,-16,-16,64,16,-16,-16,-16,16,-16,-16,16,-16,-64,-16,16,-16,16,-64,16,16,-64,-16,64,-16,-16,16,16,16,-16,16,16,-16,16,-16]
[16,-16,-16,-16,-16,16,16,-16,-16,64,16,16,16,16,16,-16,16,-16,-16,16,16,16,16,-16,16,16,16,16,-16,16,16,64,16,-16,16,64,-16,16,16,16,-16,16,-16,16,16,-16,16,-16,16,64,-16,16,16,-16,64,16,16,16,64,-16,16,16,-16,16,16,16,16,-16,-16,-16,64,16,-16,16,16,-16,-16,16,-16,-16,16,-16,16,-16,-16,16,16,16,-16,64,16,16,-16,16,-16,-16,16,64,16,16,-16,16,16,16,-16,-16,16,-16,16,-16,16,16,-16,-16,16,16,16,-16,16,16,16,16,-16,64,-16,16,64,-16]
[16,-16,16,16,-16,16,16,16,-16,16,-16,16,16,16,16,-16,16,-16,16,16,16,-16,16,-16,16,16,16,16,-16,16,-16,16,-16,-16,-16,16,16,16,-16,-16,16,-16,-16,16,16,16,-16,16,-16,-16,-16,-16,16,-16,16,16,16,-16,-16,-16,16,16,16,16,16,16,16,16,16,16,-16,16,-16,16,16,-16,16,16,16,16,16,16,16,64,16,-16,16,16,-16,16,16,16,16,16,-16,-16,16,16,16,16,-16,16,16,16,16,-16,16,16,-16,-16,-16,16,16,16,-16,-16,16,-16,16,16,16,16,16,16,16,-16,16,16]
[16,16,16,16,64,-16,-16,-16,-16,-16,-16,16,-16,-16,-16,-16,16,64,16,-16,-16,16,-16,16,-16,-16,-16,16,16,-16,16,-16,-16,16,-16,-16,16,-16,16,-16,-16,16,-64,-16,64,-16,-16,16,-16,-16,-16,-16,-16,-16,-16,-16,16,16,-16,-16,-16,-16,16,16,-16,16,-16,16,16,16,16,-16,16,-16,-16,-16,16,-64,64,-16,-16,16,-16,-16,16,-16,16,-16,64,-16,64,16,16,-16,64,16,-16,-16,-16,16,-16,-16,-16,16,16,16,16,-16,16,16,16,-16,-16,16,16,-16,-16,16,-64,-16,-16,16,-16,-16,-16,16,-16,64]
[-16,16,16,16,16,16,-16,-16,16,16,-16,16,16,16,-16,-16,-16,-16,16,-16,16,16,16,16,-16,-16,-16,16,16,16,-16,16,16,16,16,-16,16,16,-16,16,16,16,-16,16,-16,-16,-16,-16,16,16,16,-16,16,16,16,-16,16,16,16,-16,16,16,16,16,-16,16,16,16,-16,16,-16,-16,16,-16,16,-16,16,-16,-16,16,-16,-16,16,-16,-16,16,-16,16,16,-16,16,16,-16,-16,16,16,16,16,-16,-16,-16,-16,-16,-16,-16,16,16,-16,-16,16,16,-16,-16,16,-16,16,16,-16,16,16,16,-16,-16,16,16,16,16,16]
[16,-16,16,16,-16,16,-16,-16,16,-16,-16,-16,-16,16,16,-16,16,-16,16,16,16,-16,16,16,16,16,-16,16,16,16,16,-16,16,16,16,16,16,-16,16,16,-16,-16,16,16,16,16,-16,16,-16,16,-16,16,16,16,16,-16,16,-16,16,16,-16,-16,16,-16,16,16,16,-16,-16,16,16,-16,16,16,-16,16,16,-16,-16,16,16,16,16,64,-16,-16,16,16,-16,-16,-16,-16,16,-16,-16,-16,-16,-16,-16,-16,16,16,-16,16,-16,-16,-16,16,16,-16,16,16,16,-16,16,-64,16,-16,16,16,16,16,16,-16,16,16,16,16]
[16,16,-64,-16,-64,-16,-16,-16,16,16,16,16,16,16,16,16,-16,-16,-16,16,16,-16,-16,16,16,16,16,-16,16,-16,-64,16,16,-16,-16,16,16,16,-64,16,-16,-16,16,-16,-64,-16,16,-16,16,-16,-16,-16,16,-16,16,-16,-16,-16,-16,-16,-16,16,-16,-16,16,-64,-16,-16,-16,-16,-16,-16,16,-16,16,16,-16,16,-16,-16,64,-16,16,16,-64,16,-64,-16,-16,-16,-64,16,16,-16,-16,-16,16,-16,16,-16,-16,16,16,-16,-16,-64,-64,-16,16,16,16,-16,16,-16,-64,16,-16,-16,16,-16,16,-16,16,16,16,-16,16,16]
[-16,-16,16,16,-16,-16,-16,16,-16,16,16,16,-16,-16,-16,16,-16,16,16,-16,-16,16,16,16,-16,-16,-16,16,-16,16,-16,-16,-16,-16,-16,16,16,-16,16,-16,-16,16,-16,16,16,-16,16,-16,-16,-16,-16,16,-16,-16,16,-16,-16,16,-16,-16,16,-16,-16,16,-16,16,16,16,16,16,-16,-16,16,-16,16,-16,-16,-16,16,-16,16,16,-16,16,-16,16,16,-16,-16,-16,-16,-16,16,-16,-16,16,-16,16,16,16,16,16,-16,-16,-16,16,16,-16,16,-16,16,-16,16,-16,-16,-16,16,-16,-16,-16,16,-16,16,-16,-16,16,16,-16]
[-16,16,-16,16,16,-16,-16,-16,-16,-16,-16,16,-64,-16,16,-16,-16,-16,64,-16,16,-16,-16,16,-16,-16,-16,-16,-16,16,-16,-16,-16,16,16,-16,16,16,16,-16,-16,-16,-16,16,16,16,16,-16,16,-16,16,-16,16,-16,-16,16,-16,16,-16,-16,-16,16,-16,16,-16,-16,16,-16,-16,16,-16,-16,-16,-16,16,-16,-16,-16,16,16,-16,16,16,16,-16,16,-16,-16,16,-16,16,16,16,-16,-16,-16,64,-16,-16,-16,-16,-16,16,16,-16,-16,-16,-16,16,16,-16,-16,-16,-16,-16,-16,16,16,16,-16,16,16,16,-16,16,16,16,16]
[16,-16,-64,-16,-64,64,16,16,16,64,16,16,16,64,64,16,-64,-16,64,16,64,64,16,-16,16,64,16,-64,-16,-16,-64,64,16,-16,16,16,-16,16,-64,-16,16,-16,-16,64,-16,-16,-64,-64,-16,16,-16,-16,16,-16,16,16,16,-16,64,-16,64,64,-64,64,16,-64,64,-16,-16,-16,16,16,16,-16,64,16,-64,16,-64,16,16,16,64,16,-64,16,-64,16,-64,16,-64,16,-16,-16,-64,-16,64,64,16,16,16,16,16,-16,-16,-64,-64,-16,16,16,16,-64,64,16,-64,16,64,-16,-16,-16,64,64,16,64,64,-16,64,-16]
[16,16,-16,16,16,16,16,16,-16,-16,16,16,-16,16,16,16,-16,-16,16,16,-16,-16,16,16,-16,16,-16,16,16,16,16,-16,16,-16,-16,-16,-16,-16,-16,-16,16,-16,-16,16,16,16,16,16,16,16,-16,-16,-16,-16,16,-16,16,-16,16,-16,16,16,16,-16,16,16,-16,-16,-16,16,16,16,-16,-16,-16,-16,16,16,-16,-16,-16,-16,-16,16,16,-16,16,64,-16,-16,-16,-16,16,-16,-16,-16,16,-16,16,-16,16,16,-16,16,16,16,16,16,16,-16,-16,16,16,16,-16,16,-16,-16,16,16,16,16,-16,-16,-16,16,-16,16]
[16,16,-16,-16,-64,16,16,-16,-16,16,16,-16,64,16,16,-16,-16,-16,16,16,16,-16,-16,-16,16,16,-16,-16,-16,-16,-64,16,16,-16,-16,16,-16,16,-16,16,16,16,16,16,-64,-16,16,-16,16,16,16,-16,16,16,16,-16,-16,-16,-16,16,-16,-16,16,16,-16,-16,16,16,16,-16,16,-16,16,-16,16,-16,-16,16,-64,-16,64,-16,16,16,-16,-16,-16,16,-16,16,-16,-16,16,16,-16,-16,16,-16,16,-16,16,16,16,-16,-16,-16,-64,-16,16,16,16,-16,16,-16,-64,-16,-16,-16,16,-16,16,-16,-16,16,16,16,16,-16]
[16,-16,-16,16,16,-16,-16,-16,16,16,16,16,-16,16,-16,-16,-16,16,-16,-16,16,-16,16,-16,-16,-16,16,-16,16,-16,-16,16,-16,16,-16,-16,16,16,-16,16,-16,-16,16,16,16,-16,64,-16,16,16,-16,-16,-16,-16,16,-16,-16,16,16,-16,-16,16,16,16,-16,16,-16,-16,-16,-16,16,-16,-16,-16,16,16,-16,-16,16,16,16,16,16,16,16,16,-16,-16,16,-16,16,-16,16,16,16,16,-16,16,-16,16,16,-16,-16,-16,-16,16,16,16,-16,16,-16,-16,-16,-16,-16,16,-16,16,-16,-16,16,16,-16,-16,16,-16,16,-16]
[16,16,-16,16,16,-16,16,16,16,16,16,16,16,-16,-16,16,-16,16,-16,-16,16,16,16,-16,16,-16,16,-16,16,-16,-16,16,16,-16,-16,-16,-16,16,16,16,16,-16,-16,16,16,16,16,-16,-16,16,16,-16,16,16,16,-16,-16,-16,16,16,16,16,16,16,-16,16,-16,16,-16,-16,16,-16,-16,-16,16,-16,16,-16,-16,-16,16,-16,-16,-16,16,16,16,16,16,16,16,-16,-16,-16,16,16,-16,16,16,16,-16,16,16,-16,-16,16,16,-16,-16,16,-16,16,-16,-16,-16,16,-16,-16,-16,-16,16,16,-16,-16,16,16,16,-16]
[-16,-16,16,-16,16,-16,-16,16,16,16,-16,16,64,16,-16,-16,16,-16,-16,-16,-16,-16,16,-16,16,-16,-16,16,-16,16,-16,16,16,16,-16,64,-16,-16,16,-16,-16,-16,16,-16,16,-16,16,16,16,-16,16,-16,-16,-16,16,-16,16,-16,16,16,-16,-16,16,-16,-16,16,-16,-16,16,-16,-16,-16,-16,-16,-16,-16,16,-16,16,16,16,16,-16,16,16,-16,16,-16,16,-16,-16,16,-16,-16,-16,16,16,-16,-16,16,-16,-16,-16,64,-16,-16,16,-16,-16,16,-16,16,16,16,16,-16,-16,16,16,-16,-16,-16,-16,16,-16,16,-16,-16]
[16,16,16,64,64,-64,-16,-16,16,-16,-16,16,-16,-16,-64,-16,16,64,-16,-64,-64,-64,-16,16,-16,-64,-16,-16,-16,16,16,-16,-16,64,-16,-16,16,-16,16,-16,-16,16,-16,-64,64,-16,-16,16,-16,-16,-16,16,-16,-16,-64,-16,-16,16,16,-16,16,-16,16,16,-16,-16,-16,-16,-16,16,-16,-16,16,-16,-16,16,16,-16,64,16,-16,-16,-64,-16,16,-16,16,-16,64,-16,16,-16,16,-64,16,64,-64,16,-16,16,16,-16,-16,-16,-16,16,64,-16,16,-16,16,-16,-16,-16,16,16,-16,16,-16,-16,16,-16,-16,-64,-16,16,-64,16]
[64,-16,-16,-16,-64,16,16,16,16,64,16,16,16,16,16,16,-64,-16,16,16,16,16,16,-64,16,16,16,16,-16,-16,-64,16,16,-64,-16,16,-16,16,-16,16,-16,16,16,16,-64,-16,-16,-16,-16,16,-16,16,64,-16,16,16,-16,16,16,-16,16,16,-16,16,-16,-16,16,16,-16,-64,16,-16,-16,16,16,16,-64,16,-64,-16,16,16,16,-16,-64,16,-16,16,-64,16,-16,-16,-16,16,-64,-16,-16,64,16,-16,16,16,16,-16,-16,-64,-16,-16,-16,-16,16,-16,-16,-16,-16,16,16,16,16,-16,16,16,16,16,16,-16,16,-64]
[16,16,-16,16,16,16,16,-16,16,16,16,-16,16,16,16,16,-16,-16,16,-16,16,-16,-16,16,16,16,16,16,16,16,16,-16,16,16,-16,16,16,16,16,16,16,-16,16,16,16,-16,16,16,-16,16,16,16,16,16,16,16,16,-16,16,-16,16,16,16,16,16,16,16,16,-16,16,16,-16,-16,16,16,-16,16,-16,16,-16,16,16,16,16,-16,16,16,16,16,16,16,-16,16,-16,16,16,16,16,16,-16,16,16,-16,16,-16,16,16,16,16,-16,16,16,-16,16,-16,16,16,16,16,16,16,16,-16,16,16,-16,16,16]
[16,16,-16,-16,-16,-16,16,-16,-16,-16,-16,-16,-16,16,16,-16,16,16,-16,-16,-16,16,-16,-16,16,-16,16,16,16,-16,16,-16,16,16,-16,16,16,16,-16,-16,-16,-16,16,-16,16,-16,-16,16,16,-16,-16,-16,-16,16,-16,-16,16,16,16,-16,-16,-16,-16,16,16,-16,-16,16,-16,16,-16,16,16,-16,-16,-16,-16,-16,-16,-16,16,16,16,-16,-16,16,16,16,16,16,16,-16,-16,-16,16,-16,-16,16,-16,16,16,-16,-16,16,-16,-16,16,-16,16,-16,-16,-16,-16,-16,-16,16,16,-16,-16,-16,16,-16,16,-16,16,16,-16,-16]
[16,16,-64,16,-16,16,-16,16,-16,16,16,64,-16,16,16,16,-16,16,-16,16,16,-16,16,16,16,16,-16,-16,-16,-16,-16,16,16,16,16,16,16,16,-16,-16,-16,16,-16,-16,-16,-16,-64,-64,16,-16,-16,-16,16,16,16,-16,16,-16,-16,16,-16,16,-64,16,-16,-16,64,16,-16,-16,-16,-16,16,-16,64,-16,-16,16,-16,16,64,16,64,-16,16,-16,-64,16,-16,-16,-16,-16,16,-16,16,16,64,-16,-16,16,-16,-16,-16,-16,16,-16,-16,-16,-16,16,16,-16,64,-16,-64,-16,64,-16,-16,16,64,-16,-16,64,16,16,64,-16]
[16,-16,16,-16,-16,16,16,16,-16,16,16,-16,16,16,16,16,-16,-16,-16,-16,-16,16,16,-16,16,-16,16,16,16,-16,16,16,16,-16,16,-16,-16,16,16,16,-16,16,-16,16,-16,-16,-16,16,-16,16,-16,-16,-16,-16,16,-16,-16,16,16,-16,16,16,-16,16,16,-16,16,16,-16,-16,16,-16,16,16,-16,16,-16,-16,-16,-16,16,16,-16,-16,-16,16,16,16,-16,-16,16,16,-64,-16,-16,-16,16,64,16,-16,-16,64,-16,-16,16,-16,16,-16,16,-16,16,-16,-16,16,-16,16,16,-16,-16,-16,16,16,-16,16,-16,16,16,-16]
[-16,-16,16,16,16,-16,16,-16,16,16,16,-16,16,16,-16,-16,16,-16,-16,-16,-16,16,16,-16,16,-16,16,16,-16,16,16,16,16,-16,-16,-16,-16,16,16,-16,16,-16,-16,16,16,16,16,16,-16,16,-16,16,-16,-16,-16,-16,-16,-16,64,16,16,-16,16,-16,16,16,-16,16,16,-64,16,-16,16,-16,16,-16,-16,16,16,-16,16,-16,-16,-16,-16,16,16,16,-16,16,16,-16,-16,-16,16,-16,16,16,-16,-16,-16,-16,16,16,16,16,16,16,16,16,-16,16,-16,-16,16,16,16,-16,16,16,16,16,-16,-16,-16,16,16,-16]
[16,-16,-16,-16,16,-16,16,-16,16,64,16,16,16,16,-16,16,-16,16,-16,-16,16,16,16,-16,16,-16,16,-16,-16,16,16,16,16,-16,16,-16,-16,-16,-16,16,16,16,-16,16,16,-16,16,16,-16,16,-16,16,-16,-16,16,-16,16,-16,16,-16,16,16,-16,-16,-16,-16,16,16,16,-16,64,-16,16,16,-16,16,16,16,16,16,16,16,-16,-16,-16,16,-16,16,-16,16,16,-16,-64,-16,-16,16,-16,16,-16,-16,16,16,16,-16,16,-16,16,16,-16,-16,16,-16,-16,16,16,16,-16,16,-16,-16,16,16,16,-16,-16,-16,16,-16]
[-16,16,16,16,-16,-64,-16,16,-16,-16,-16,-16,16,-16,-64,-16,16,-16,-16,-16,16,-16,-16,-16,-16,-16,-16,16,-16,16,16,-16,16,16,-16,16,16,-16,16,-16,16,-16,16,-16,16,16,16,16,16,-16,-16,-16,-16,16,-16,-64,16,-16,64,16,-16,-16,-16,-64,16,-16,-64,-16,16,-16,16,16,-16,-16,-16,16,-16,16,-16,16,16,-16,-16,16,16,-16,16,-16,16,-64,16,16,16,-16,16,-16,-16,-16,16,16,-16,-16,-16,16,-16,16,16,-16,16,16,-16,16,-16,-16,16,16,-64,16,16,-16,-16,-16,16,-16,-64,16,-16,16]
[16,16,-16,16,-16,-16,-16,-16,-16,16,16,-16,-16,16,-16,-16,-16,-16,-16,-16,16,16,-16,16,-16,16,-16,-16,16,-16,16,16,16,-16,-16,-16,16,-16,16,-16,-16,16,-16,-16,16,-16,16,16,-16,16,16,-16,-16,-16,-16,-16,-16,16,-16,16,16,16,16,-16,-16,-16,16,-16,-16,-16,-16,16,16,16,16,16,16,16,-16,-16,16,16,16,-16,16,-16,-16,16,16,-16,-16,-16,-16,16,16,16,16,16,-16,16,16,16,-16,16,16,16,16,16,16,-16,-16,-16,-16,-16,-16,-16,-16,16,16,16,16,16,-16,-16,-16,-16,16,16]
[-16,-16,-16,16,64,-16,-16,16,-16,-64,-16,16,-16,-64,-16,-16,16,64,16,-16,-16,-16,-16,16,-16,-16,-64,16,16,-16,16,-16,-16,64,16,-64,16,-16,16,-16,16,16,-16,-64,16,16,16,-16,-16,-64,16,-16,16,-16,-16,16,-16,-16,-64,16,-16,16,16,16,-64,-16,-16,-16,-16,16,-16,-16,16,-16,16,-16,16,-16,64,16,-16,16,16,-16,16,-16,16,-16,16,-16,16,16,16,-16,64,16,16,-64,-16,-16,-16,-64,-16,-16,16,64,16,-16,-16,-16,-16,-64,16,16,16,-16,16,-16,-16,-16,-16,-16,-64,-16,16,-16,-64,64]
[16,-16,-16,-16,-16,16,-16,16,16,16,-16,16,-64,16,16,16,-16,-16,16,16,16,-64,16,-16,-16,16,16,-16,-16,-16,-64,16,-16,16,-16,-16,-16,16,-16,16,-16,-16,-16,-16,-16,16,-64,-16,16,-16,16,-16,-16,16,16,16,16,16,-16,-16,-16,16,-16,64,-16,-16,16,16,-16,-16,-16,16,16,-16,16,16,-16,-16,-16,-16,16,16,64,16,-64,-16,-16,16,-16,-16,-64,16,-16,-16,16,16,16,-16,-16,-16,-16,-16,16,-16,-16,-16,-16,-16,16,16,16,-64,16,-16,-16,-16,16,16,-16,16,16,-16,-16,16,16,-16,16,16]
[16,16,16,16,16,-16,16,-16,-16,16,16,16,16,-16,-64,-16,16,16,-16,-16,-16,16,16,-16,64,-16,16,16,-16,16,16,16,16,16,-16,16,16,64,16,16,-16,16,16,16,16,16,16,16,-16,16,16,-16,16,-16,-16,16,16,-16,16,16,16,16,16,16,16,16,16,-16,-16,-16,16,16,16,-16,16,16,16,16,16,16,-16,16,16,-16,16,16,16,16,-16,16,16,-16,-16,-16,16,16,16,16,-16,-16,-16,16,16,16,-16,-16,16,16,-16,16,16,16,16,-16,16,16,64,-16,-16,16,16,16,16,-16,16,16,16,-16]
[16,-16,-16,-16,-16,16,-16,16,-16,-16,-16,16,-16,-16,16,-16,-16,16,16,16,16,-16,-16,-16,16,16,16,-16,16,-16,-64,-16,16,-16,-16,16,-16,64,-64,16,-16,16,16,16,-16,-16,-64,-16,16,16,-16,-16,16,-16,16,-16,-16,16,-16,-16,-64,64,-16,64,-16,-16,64,16,-16,16,-16,-16,16,-16,64,-16,-16,16,-16,16,16,-16,64,16,-16,-16,-16,16,16,-16,-16,16,16,-16,16,-16,16,-16,16,16,16,-16,-16,16,-16,-16,-16,-16,16,-16,16,-16,64,-16,-16,-16,64,16,-16,-16,64,-16,16,16,64,-16,16,16]
[64,16,-16,-16,16,16,16,-16,-16,64,64,16,16,16,16,-16,-16,16,-16,16,16,16,16,-16,64,16,16,-16,-16,-16,-16,16,64,-16,16,64,-16,16,16,16,16,-16,-16,64,-16,16,-16,-16,-16,16,16,16,-16,-16,16,-64,16,-16,64,16,16,16,16,16,-16,-16,16,-16,-16,-64,64,-16,16,-16,16,16,16,-16,-16,16,64,-16,16,16,-16,16,-16,16,-16,16,-16,-16,-16,16,-16,-16,16,16,-16,16,-16,64,-16,16,16,-16,-16,16,16,-16,16,-16,16,-16,-16,64,16,16,-16,-16,16,64,-16,16,16,-16,16,-16]
[16,-16,16,16,16,-16,16,16,-16,16,16,16,16,16,-16,-16,-16,16,16,-16,-16,-16,-16,16,16,-16,-16,16,-16,16,-16,-16,-16,16,16,-16,64,16,16,16,16,-16,16,16,16,16,16,16,16,16,-16,16,16,16,-16,16,-16,16,-16,-16,16,16,-16,16,16,16,16,-16,-16,-16,16,16,-16,-16,-16,-16,16,16,-16,-16,16,16,16,16,-16,-16,16,-16,16,16,16,16,16,16,16,16,-16,-16,-16,-16,-16,-16,-16,-16,-16,16,16,16,-16,-16,-16,16,16,16,16,16,16,-16,-16,-16,16,-16,16,-16,-16,16,16,-16]
[-16,-16,-16,16,16,-16,16,-16,-16,-16,16,-16,16,16,-16,-16,16,16,-16,-16,16,-16,16,16,-16,16,-16,-16,-16,16,16,-16,16,-16,-16,16,16,-16,-16,16,-16,-16,16,16,16,16,16,-16,-16,16,-16,16,64,-16,16,-16,-16,-16,16,16,16,16,16,-16,-16,-16,-16,16,16,16,-16,-16,-16,16,-16,-16,-16,16,16,16,16,-16,-16,16,-16,16,16,-16,-16,-16,-16,-16,-16,-16,-16,-16,16,16,16,-16,16,16,16,-16,16,-16,16,16,-16,16,-16,16,-16,-16,-16,16,-16,-16,16,16,-16,16,16,-16,16,16,16,-16]
[16,16,16,16,16,-16,16,16,-16,16,16,16,16,16,-16,-16,16,16,-16,-16,16,16,16,-16,16,16,16,16,-16,16,-16,16,16,-16,-16,16,-16,16,16,16,-16,16,-16,16,16,-16,16,16,-16,16,-16,-16,-16,-16,16,-16,16,16,64,16,16,-16,16,16,-16,16,-16,16,-16,-16,16,-16,16,-16,-16,16,16,-16,16,16,16,-16,-16,-16,16,16,16,16,16,16,16,-16,-64,16,-16,16,16,16,-16,-16,-16,16,16,16,-16,-16,16,-16,-16,16,-16,16,-16,16,-16,16,-16,-16,-16,-16,16,16,-16,16,16,16,16,-16]
[-16,-16,-16,-16,-16,16,16,16,16,16,-16,16,16,16,16,16,-16,16,16,-16,-16,16,-16,-16,-16,-16,-16,-16,16,-16,16,16,-16,-16,16,-16,-16,-16,-16,16,16,16,-16,16,-16,16,-16,16,-16,16,16,16,-16,-16,16,16,-16,16,16,16,16,-16,16,16,16,-16,-16,-16,16,16,16,-16,-16,16,16,-16,-16,-16,16,-16,-16,-16,16,-16,-16,-16,-16,-16,16,-16,16,-16,-16,-16,-16,16,16,16,-16,16,-16,16,-16,16,-16,16,16,16,-16,16,-16,-16,16,16,16,-16,16,16,16,-16,16,16,-16,16,16,-16,16,16]
[16,16,-16,16,-16,16,16,16,16,16,16,16,16,16,64,16,-16,-16,16,16,16,-16,16,16,64,16,64,16,16,-16,-16,-16,16,-16,16,16,16,64,-16,16,16,16,16,64,-16,-16,-16,-16,-16,16,16,-16,16,-16,64,64,16,16,16,-16,16,64,16,64,16,-16,64,16,16,-16,16,16,-16,-16,16,-16,-16,16,-16,-16,16,-16,16,64,-16,-16,-16,-16,-16,64,-16,16,16,16,-16,-16,16,-16,16,-16,16,16,-16,-16,16,-16,16,-16,-16,16,-16,16,16,-16,16,-16,16,-16,16,16,16,64,16,64,16,-16,64,16]
[-16,16,-16,-16,-16,16,-16,-16,-16,16,-16,16,64,-16,-16,16,-16,16,16,-16,16,-64,16,16,16,-16,16,-16,-16,16,-16,16,-16,16,-16,16,-16,16,-16,16,16,16,16,16,16,16,16,-16,-16,16,-16,-16,16,16,16,-16,-16,16,-16,-16,-16,16,-16,-16,-16,16,16,16,-16,16,-16,-16,-16,-16,16,16,16,16,-16,-16,16,16,-16,16,-16,-16,-16,16,16,-16,-16,16,-16,-16,-16,16,16,-16,16,16,-16,-16,-16,16,-16,16,-16,-16,-16,16,-16,16,16,-16,-16,16,-16,-16,16,-16,16,-16,16,16,16,-16,-16,-16]
[64,16,-16,-16,-16,16,16,16,-16,64,64,16,16,64,16,-16,-16,16,-16,16,16,16,16,-16,16,16,64,-16,-16,-16,-16,64,64,-16,-16,64,-64,-16,16,16,16,16,-16,64,-16,16,-16,-16,-16,16,-16,-16,-16,-16,16,-64,16,16,16,-16,16,16,-16,16,16,-16,16,-16,-16,-16,64,-16,16,16,16,-16,-16,-16,-16,16,64,-16,-16,16,-16,16,-16,64,-16,16,16,-16,-64,16,-16,-16,16,16,-16,-16,-16,64,16,16,-16,-16,-16,-16,-16,16,16,-16,-16,-16,-16,64,-16,16,-16,16,-16,64,-16,16,-16,16,16,-64]
[-16,-16,16,-16,16,-16,16,-16,-16,-16,-16,-16,16,-16,-16,16,16,-16,-16,-16,-16,16,-16,16,-16,-16,-16,-16,16,16,-16,-16,-16,16,16,-16,-16,-16,-16,16,-16,-16,16,-16,-16,-16,16,16,-16,16,-16,-16,-16,-16,-16,-16,-16,-16,-16,-16,-16,-16,16,-16,16,-16,-16,-16,-16,-16,-16,-16,16,16,-16,16,-16,16,16,-16,-16,-16,-16,16,-16,-16,-16,16,16,-16,16,-16,16,-16,-16,-16,-16,-16,-16,-16,16,-16,-16,16,-16,16,16,-16,-16,16,-16,16,-16,16,-16,-16,-16,-16,16,16,-16,16,-16,-16,-16,-16,-16,16]
[16,16,16,16,16,16,-16,16,-16,-16,-16,-16,-16,-16,16,-16,16,-16,-16,16,16,16,-16,-16,-16,16,-16,-16,16,-16,-16,-16,-16,-16,16,16,16,16,16,-16,16,16,-16,16,16,-16,16,-16,16,-16,16,-16,16,-16,-16,-16,-16,-16,16,-16,16,-16,-16,-16,16,-16,16,-16,16,-16,-16,16,-16,-16,-16,-16,16,16,-16,-16,-16,16,16,-16,-16,16,16,16,-16,-16,-16,16,16,-16,-16,16,16,-16,-16,-16,16,-16,16,-16,16,16,-16,-16,-16,-16,-16,-16,-16,16,16,-16,-16,-16,16,16,16,-16,16,-16,16,-16,-16,-16]
[16,16,-16,-16,-16,16,16,-16,16,16,16,-16,16,16,16,16,-16,-16,-16,16,-16,16,-16,-16,16,16,16,16,16,16,-64,16,16,-64,16,16,-16,16,-16,16,-16,-16,16,16,-16,-16,-16,-16,-16,16,-16,-16,16,16,16,16,-16,-16,16,-16,16,16,-16,-16,-16,-16,16,16,-16,-64,16,-16,16,-16,16,16,-64,-16,-16,-16,16,-16,16,16,-64,16,-16,16,-64,16,-16,-16,-16,16,-64,-16,-16,64,16,-16,16,16,-16,-16,16,-16,-16,-16,-16,-16,16,-16,-16,16,-16,16,16,-16,-16,16,16,16,-16,16,16,-16,-16,-16]
[-64,-16,-64,16,16,-16,-16,-16,16,-16,-16,16,-16,-16,-16,16,-16,16,16,-16,16,-16,-16,16,-16,-16,-16,-16,-16,16,-16,-64,-16,16,16,-16,16,-16,-16,-16,-16,-16,-16,16,16,16,16,-16,-16,-16,-16,-16,16,-16,-16,16,-16,16,16,16,-16,16,-16,16,-16,-16,16,-16,-16,16,-16,-16,-64,-16,16,16,-16,16,16,-16,-16,16,16,16,-16,-16,-16,-16,16,-16,16,-16,16,-16,16,16,16,-16,-16,-16,-16,-16,-16,-16,-16,16,-16,-16,-16,-16,-16,-16,16,-16,-16,-64,16,-16,-16,-16,16,-16,-16,-16,16,-16,16,16]
[16,16,16,16,16,-16,16,16,-16,16,16,16,16,16,-16,16,-16,16,16,-16,16,16,-16,-16,16,-16,16,16,-16,16,16,16,16,16,16,16,-16,16,-16,-16,16,-16,-16,16,16,16,16,-16,-16,16,-16,-16,16,16,16,16,16,16,16,16,16,16,16,16,-16,16,16,16,16,-16,16,-16,16,16,16,-16,16,16,16,-16,-16,16,16,-16,16,16,16,16,-16,16,16,-16,-16,-16,-16,16,-16,64,-16,-16,16,16,16,16,-16,-16,16,-16,-16,-16,-16,16,16,16,16,16,16,16,-16,-16,16,16,-16,-16,16,16,16,-16]
[16,-16,-16,16,16,-16,-16,-16,16,-16,-16,16,-64,-16,16,-16,-16,16,16,-16,16,-16,-16,-16,16,-16,-16,16,16,16,-16,-16,-16,16,-16,-16,16,16,-16,16,16,-16,-16,-16,-16,-16,16,-16,-16,-16,-16,-16,16,-16,16,16,-16,16,-16,16,-16,16,-16,16,-16,-16,16,-16,-16,16,-16,-16,-16,16,16,16,16,-16,16,-16,16,-16,16,-16,-16,16,16,-16,16,-16,16,-16,16,-16,16,16,16,-16,-16,16,-16,16,-16,16,-16,16,16,16,-16,-16,-16,-16,16,16,16,-16,16,-16,-16,-16,16,-16,16,-16,16,16,16,-16]
[16,-16,16,16,16,-16,-16,-16,-16,16,-16,16,-16,-16,-16,-16,16,16,16,-16,-16,16,-16,-16,-16,16,-16,16,-16,-16,16,16,-16,16,-16,-16,-16,-16,16,-16,16,16,-16,-16,16,-16,16,16,-16,16,-16,16,-16,16,-16,-16,-16,-16,16,-16,-16,-16,16,-16,-16,-16,-16,16,-16,16,16,-16,-16,-16,-16,-16,-16,-16,64,16,-16,-16,-16,-16,-16,-16,16,16,16,-16,16,-16,-16,-16,16,16,-16,-16,-16,-16,-16,16,-16,16,-16,16,16,-16,-16,-16,-16,-16,-16,-16,16,16,-16,16,-16,-16,16,16,-16,-16,-16,16,-16,16]
[-16,16,-16,-16,-16,-16,-16,-16,16,16,16,-16,-16,-16,16,16,-16,-16,-16,-16,-16,16,16,-16,-16,16,16,-16,-16,-16,-16,16,16,-16,-16,-16,-16,16,-16,-16,16,16,-16,-16,-16,-16,-64,-16,-16,16,16,16,16,16,16,-16,-16,-16,16,-16,16,-16,16,16,16,-16,-16,16,-16,-16,16,16,-16,16,-16,-16,-16,-16,16,16,16,16,16,-16,-16,-16,-16,16,-16,-16,16,16,-16,-16,-16,-16,16,16,-16,-16,-16,16,16,-16,16,-16,-16,16,-16,-16,-16,-16,-16,16,16,16,16,-16,16,16,16,16,-16,-16,16,-16,-16,-16]
[-16,16,16,16,16,-16,16,-16,-16,16,16,16,64,-16,-16,16,16,16,16,-16,-16,16,-16,-16,16,-16,-16,16,-16,16,16,-16,16,16,16,16,-16,16,16,-16,16,-16,16,16,16,16,16,16,16,16,-16,-16,-16,-16,-16,16,16,-16,16,16,16,16,16,16,16,16,16,16,-16,-16,16,16,16,-16,16,-16,64,16,16,16,16,16,16,-16,-16,16,16,16,-16,-16,16,16,-16,-16,16,16,-16,64,-16,16,-16,16,16,16,-16,16,16,16,16,-16,16,16,-16,-16,16,16,-16,16,16,-16,16,16,-16,-16,16,16,16,-16]
[16,-16,-16,16,-16,-16,-16,-16,-16,16,16,16,16,16,-16,16,-16,16,16,-16,-16,16,16,-16,64,-16,16,-16,16,16,16,16,16,-16,16,16,-16,64,-16,16,16,-16,-16,64,16,16,16,-16,-16,16,16,-16,16,-16,-16,16,16,-16,16,-16,16,16,-16,16,16,-16,16,-16,-16,-16,16,-16,16,-16,16,-16,16,16,-16,16,16,16,16,-16,-16,16,16,16,-16,16,16,16,16,-16,-16,16,16,16,16,16,-16,16,-16,16,-16,-16,16,-16,-16,16,-16,16,16,16,-16,16,16,-16,16,-16,64,16,-16,16,16,16,16,-16]
[16,16,16,-16,-16,-16,16,16,-16,16,16,-16,16,-16,16,-16,16,-16,-16,16,-16,16,16,-16,16,16,16,-16,-16,16,16,16,16,-16,-16,16,16,16,16,16,-16,16,-16,16,-16,16,16,-16,16,16,16,-16,16,16,16,16,16,16,16,16,16,16,-16,16,-16,-16,16,16,-16,-16,16,-16,16,-16,-16,-16,16,-16,16,16,-16,16,-16,16,-16,-16,-16,16,-16,16,-16,-16,-16,-16,-16,-16,-16,64,16,16,-16,16,-16,-16,16,-16,-16,16,-16,16,16,16,16,-16,16,16,16,-16,-16,-16,16,16,16,-16,-16,16,-16,-16]
[16,-16,-16,16,16,-16,-16,-16,16,-16,16,16,16,16,-16,-16,-16,16,-16,16,-16,-16,-16,16,16,16,-16,16,-16,-16,16,16,-16,16,16,16,16,-16,16,-16,16,-16,-64,-16,16,-16,16,-16,16,-16,-16,-16,16,16,-16,-16,-16,-16,-16,-16,-16,-16,16,16,16,-16,-16,-16,16,16,-16,-16,16,-16,-16,-16,16,-64,16,-16,16,16,-16,-16,16,-16,16,16,16,16,16,-16,16,16,64,16,-16,-16,-16,16,16,-16,-16,16,-16,16,16,-16,-16,-16,16,-16,-16,-16,16,16,-16,16,-16,-16,-16,16,-16,-16,-16,16,-16,16]
[16,16,-16,16,-16,16,-16,-16,-16,16,16,-16,-16,-16,-16,-16,-16,16,16,-16,16,16,16,-16,-16,16,16,16,16,-16,-16,16,16,16,16,16,16,-16,-16,16,-16,-16,-16,-16,16,-16,16,16,-16,-16,-16,-16,-16,-16,-16,16,-16,-16,16,16,16,16,-16,16,16,-16,-16,16,16,-16,16,16,-16,16,16,-16,16,16,-16,-16,16,16,16,-16,-16,16,-16,16,-16,-16,-16,-16,16,16,-16,16,-16,16,-16,-16,16,16,-16,-16,-16,-16,16,-16,16,16,-16,16,-16,-16,-16,16,16,-16,16,16,-16,16,16,16,16,16,16,16]
[16,-16,-16,-16,-16,-16,-16,-16,-16,-16,-16,-16,-16,16,-16,16,16,16,16,16,16,16,-16,-16,16,16,16,-16,-16,-16,16,-16,-16,16,16,-16,16,16,16,16,16,16,-16,-16,-16,16,-16,16,16,16,-16,16,-16,16,16,-16,16,-16,16,-16,-16,-16,-16,16,16,16,16,-16,-16,16,16,16,16,-16,16,16,16,-16,-16,-16,-16,-16,-16,-16,-16,16,-16,16,16,-16,16,-16,-16,16,16,-16,-16,16,16,-16,16,16,16,16,16,-16,-16,16,16,16,16,16,16,16,-16,-16,-16,-16,-16,-16,-16,16,-16,-16,16,-16,16,16]
[-16,16,16,16,16,-16,16,-16,-16,16,-16,16,16,16,-16,-16,-16,-16,16,-16,16,16,-16,16,16,16,16,-16,16,16,16,-16,-16,-16,16,16,16,-16,16,16,16,16,-16,-16,16,-16,-16,-16,-16,16,16,-16,16,16,-16,-16,16,-16,16,-16,16,16,-16,16,16,16,-16,-16,16,-16,16,16,16,16,16,-16,-16,16,16,-16,16,-16,16,16,16,-16,16,-16,16,16,-16,-16,-16,16,16,-16,16,16,16,-16,-16,-16,16,16,-16,16,16,-16,-16,-16,-16,16,16,-16,-16,16,16,16,-16,-16,-16,16,16,16,-16,16,16,16]
[-16,-16,-16,-16,-16,16,64,16,16,-16,-16,16,64,16,16,16,-16,-16,16,16,16,-16,16,-64,16,64,-16,16,-16,-16,-16,16,-16,-16,-16,16,-16,16,-16,-16,-16,-16,-16,-16,-64,-16,-16,-64,16,64,16,-16,16,-16,16,16,-16,-16,16,16,16,16,-64,16,-16,-16,16,-16,16,-16,16,16,16,16,64,-16,-16,16,16,-16,16,-16,64,16,-16,-16,-16,64,-16,16,-16,-16,-16,16,-16,-16,16,16,-16,16,-16,16,16,-16,16,-64,-16,-16,16,16,16,-16,64,-16,-16,-16,16,16,16,-16,16,-16,-16,16,64,16,16,-16]
[-16,-16,-64,-16,16,-16,-16,-16,16,-16,-16,16,-16,-16,-16,-16,-64,16,64,16,16,-16,16,16,-16,-16,-16,-16,-16,16,-16,-16,-16,16,16,-16,16,64,-16,-16,-16,-16,-16,-16,16,16,16,-16,-16,-16,16,-16,16,16,16,64,-16,-16,-16,-16,-16,64,-64,16,-16,-64,64,-16,-16,16,-16,-16,16,16,16,-16,16,-16,16,-16,-16,16,16,-16,-64,-16,-16,-16,16,-16,-16,16,16,-16,16,16,64,-16,-16,-16,-16,-16,-16,16,-16,16,16,-16,16,-16,-16,-64,64,16,-16,-16,64,16,-16,16,16,-16,-16,-16,16,-16,16,16]
[-16,-16,-16,-16,16,-16,-16,16,-16,-16,-16,16,-16,16,-16,-16,-16,16,64,16,16,-16,-16,16,16,-16,-16,-16,-16,-16,-16,-16,-16,16,-16,-16,16,16,-16,16,-16,16,-16,-16,-16,16,16,-16,-16,-16,-16,-16,16,16,-16,16,-16,-16,-16,16,16,16,-16,16,-16,-16,64,-16,-16,16,-16,-16,-16,-16,64,-16,16,-16,16,16,16,-16,16,-16,-16,-16,-16,-16,16,-16,-16,16,16,-16,16,-16,16,-16,-16,-16,16,-16,16,-16,-16,-16,16,-16,-16,-16,16,-16,16,16,16,-16,16,-16,-16,-16,64,-16,-16,-16,16,16,16,-16]
[-16,-16,16,-16,16,-16,-16,16,16,16,16,-16,16,-16,16,16,16,16,16,-16,-16,-16,-16,16,16,16,-16,16,16,16,16,16,64,-16,-16,16,16,16,16,-16,16,-16,16,16,16,16,16,-16,16,16,16,-16,16,-16,16,16,-16,-16,16,16,16,16,16,-16,16,16,16,16,16,16,16,-16,16,-16,16,16,16,16,16,-16,16,-16,16,16,16,-16,16,16,-16,16,16,16,-16,16,-16,16,16,16,16,-16,16,16,-16,16,-16,-16,-16,16,-16,16,16,16,16,16,16,-16,16,-16,-16,-16,16,16,-16,16,-16,16,16,16]
[64,-16,16,-16,16,-16,-16,-16,-16,16,16,-16,16,16,16,16,16,-16,16,16,16,-16,-16,-16,16,-16,16,16,16,16,-16,16,16,-16,-16,16,-16,16,16,-16,-16,16,-16,16,-16,-16,-16,16,16,16,-16,-16,-16,16,16,-16,16,-16,16,-16,-16,16,-16,-16,16,16,16,-16,-16,-16,16,-16,16,16,16,-16,16,-16,-16,-16,16,-16,16,-16,16,16,16,16,-16,-16,-16,-16,-16,-16,-16,-16,-16,16,16,-16,-16,16,-16,16,16,-16,-16,16,16,-16,16,-16,-16,16,16,16,16,-16,-16,-16,16,16,16,16,-16,-16,16,16]
[]
[]
[]
[null,null,null,null,null,null,null,null,null,null,null,null,null,null,null,null,null,null,null,null,null,null,null,null,null,null,null,null,null,null,null,null,null,null,null,null,null,null,null,null,null,null,null,null,null,null,null,null,null,null,null,null,null,null,null,null,null,null,null,null,null,null,null,null,null,null,null,null,null,null,null,null,null,null,null,null,null,null,null,null,null,null,null,null,null,null,null,null,null,null,null,null,null,null,null,null,null,null,null,null,null,null,null,null,null,null,null,null,null,null,null,null,null,null,null,null,null,null,null,null,null,null,null,null,null,null,null,null," "]

{"sheet":"W6","index":2,"n_rows":132,"n_cols":44,"rows_kept":132,"cut":false,"hidden":false,"merged":[]}
[8,0,-236,-220,-236,-31,-80,-20,30,-33]
[35,-46,-55,-51,-34,-4,0,-36,45,-32]
[-43,67,53,-52,-54,-256,-214,-106,-175,-43]
[-55,5,-224,-118,21,3,40,-48,-109,18]
[-65,36,-123,-42,-9,-24,-212,-201,-256,40]
[57,-20,-169,61,-87,-118,-136,-47,-121,-32]
[37,39,34,-36,-185,-128,-136,-146,-222,-19]
[-41,9,-46,16,4,34,39,20,30,16]
[-40,-25,16,0,2,-40,-18,36,-39,42]
[15,-18,-166,-115,24,-67,36,30,-23,-77]
[12,19,5,-68,-206,-153,-54,-96,25,-59]
[28,15,-238,-256,2,-111,-82,33,-99,26]
[2,5,16,-54,-99,-184,-75,39,-212,-70]
[8,-49,-214,-149,20,24,14,19,16,-30]
[30,-18,-149,20,-49,21,-17,-103,53,-31]
[24,-44,23,47,40,-14,-18,13,17,-42]
[-51,40,25,3,-64,45,-214,48,-212,-19]
[20,28,-71,-67,-134,-18,-157,-111,-12,33]
[15,-67,-173,-132,-140,-92,20,-75,-115,18]
[69,-2,-160,-131,-61,-136,-67,-13,-98,-24]
[28,-45,-90,21,-51,38,-98,-186,-92,-45]
[-1,-6,6,-150,-52,-164,-11,-128,-103,-84]
[11,-55,-183,-21,-69,-68,35,22,-19,-28]
[-47,-106,-176,-18,-199,-24,-208,-153,-131,-20]
[8,-16,-143,91,-95,-145,-38,-23,-77,-28]
[39,-21,-172,-107,-50,-113,-50,-31,47,-17]
[18,-35,-198,-203,16,40,7,-84,45,-32]
[-63,55,75,-40,8,-193,-58,-113,-178,-76]
[23,-9,19,-37,-27,39,30,-12,3,-27]
[-84,-5,23,-76,-12,41,-119,-224,25,-167]
[-63,50,-159,11,-2,-70,-87,-256,0,-42]
[0,-30,-256,-173,-32,-120,4,18,-66,-73]
[12,31,27,-40,-151,47,-20,18,-76,-62]
[-20,7,-222,3,24,49,-246,-133,-98,33]
[16,30,31,13,0,23,-45,36,13,-30]
[32,31,15,-81,-135,33,-184,43,-103,-67]
[-58,-70,-185,57,-75,-77,29,-97,14,43]
[35,-7,-166,-178,-165,-77,-89,13,34,36]
[-47,67,17,39,-126,-247,-227,-247,-235,4]
[-67,-14,-111,-124,15,-46,-82,-15,74,-115]
[-23,-26,38,-19,-20,-10,-2,-51,5,23]
[-23,-6,-39,-46,-40,35,27,-7,-17,8]
[-35,-29,-59,-175,42,26,-16,-88,45,-31]
[5,-61,-83,-230,-74,-51,28,-68,-64,-53]
[-18,61,-54,-1,-57,-193,-193,-189,-253,61]
[6,-45,29,-57,-28,31,22,-21,31,-20]
[-62,7,-25,8,28,-82,-57,37,-79,-158]
[-87,33,31,-59,20,6,-126,-128,-103,-92]
[0,-31,-25,8,-39,36,-7,11,33,-4]
[44,38,47,-21,-211,-34,-54,-118,-95,-5]
[-18,-14,-53,-21,3,-18,6,28,-3,-44]
[-13,-28,8,-20,-30,49,-51,43,-11,26]
[7,-82,-159,-141,-89,-88,-87,-110,12,6]
[-42,46,41,-12,7,19,13,-39,22,2]
[-14,-48,-138,-256,-34,9,-95,-6,-60,-69]
[13,-74,-178,-201,-202,-42,-58,-165,-43,13]
[-11,-61,-31,57,-45,65,-53,-18,-60,-38]
[-12,-29,-8,51,25,-4,-25,51,-4,-19]
[16,10,20,-99,-154,32,48,-94,-92,-66]
[-44,8,5,-80,0,-106,-61,-54,-122,-42]
[17,-40,-221,20,-48,-85,53,-58,-30,-67]
[22,-65,-229,-174,-155,6,-69,-105,-180,28]
[-65,55,46,-39,-67,-256,-70,20,-103,-71]
[11,-9,-241,-256,-256,-165,-99,-135,-5,18]
[-33,-12,-89,34,-1,-128,51,-75,-31,-69]
[-86,65,78,-30,45,-95,-97,-51,-182,-22]
[51,-37,-99,-78,-161,-100,-26,-73,-98,45]
[3,48,44,5,2,-1,49,47,-25,-51]
[32,-31,35,-13,-11,50,-19,-48,15,42]
[-13,-23,-195,61,-90,-181,-116,-111,-128,49]
[39,43,31,-50,-167,36,-77,-146,-2,-38]
[-38,-22,-50,44,15,-50,47,-66,-75,-71]
[-27,2,-154,-113,24,-14,-54,-89,-122,-48]
[-46,-35,-26,28,10,31,25,44,0,-44]
[34,-30,-199,-221,-186,-105,-75,-85,-88,35]
[-48,-49,-62,-22,-6,-63,-47,26,36,2]
[-95,6,-137,22,-10,-94,-100,-256,-168,-66]
[-61,-5,-61,-117,32,-73,18,3,9,-92]
[-10,46,0,-16,-137,-256,-186,-256,40,36]
[-16,7,-28,-44,-37,9,-43,5,23,15]
[-6,-9,-154,-181,19,13,-63,30,22,-57]
[3,13,-41,48,41,-39,-17,49,38,28]
[41,-17,-135,-94,-135,37,-18,-25,-108,49]
[9,-51,-137,19,23,-51,31,41,-39,-39]
[-56,41,-128,75,-147,-230,-256,-256,-256,-1]
[15,-55,-61,-55,19,-5,4,-63,39,-35]
[-86,68,57,-69,27,-180,-99,-252,-250,-44]
[51,48,53,-40,-176,-174,-66,-97,-88,-37]
[-19,49,-110,-80,-125,-256,-253,-256,-179,43]
[27,-13,-203,71,-152,-15,25,-42,-39,-3]
[-51,26,-30,10,-50,-256,-218,-137,-229,27]
[-15,-47,-7,47,-48,-6,47,-48,-25,0]
[-27,-46,-180,55,-63,-177,-181,-133,-139,38]
[6,-34,-80,-28,-18,-19,-69,-8,8,-65]
[-31,29,-185,-88,-25,-220,29,-55,-203,55]
[28,45,-47,-35,-205,-144,-184,-196,-163,39]
[5,-45,-256,-214,-43,-172,1,26,-101,5]
[31,32,33,-72,-144,-129,41,-82,-130,-37]
[-23,-51,-39,2,-49,-78,63,-61,45,-28]
[-39,-14,13,-12,-52,-25,-4,19,-14,-7]
[4,-22,39,-34,-28,-36,-43,46,33,-13]
[50,48,-22,-60,-159,-94,-142,-82,-19,16]
[45,-38,-24,-24,17,11,-28,32,1,0]
[-55,8,-16,17,-70,-253,-256,-256,-236,-76]
[9,-14,21,18,11,-50,21,43,7,-7]
[-28,42,-50,-115,-41,-61,-252,-194,-256,51]
[-60,39,16,-62,-28,-150,-228,-204,-256,50]
[11,-27,-50,-6,20,-5,-41,28,35,0]
[-24,25,0,-26,-7,37,8,-27,-16,-27]
[-39,-34,34,39,21,-14,38,48,-9,-10]
[10,19,-2,-135,45,41,-48,-73,37,-42]
[-91,39,37,71,-70,-27,-144,58,-128,-143]
[46,-31,-256,1,-143,33,-92,45,-19,44]
[-24,-8,-54,36,47,-20,-35,-12,46,54]
[-31,51,46,-13,53,-190,-123,-114,-222,-21]
[19,34,-83,-33,-256,-155,-44,-52,-27,-35]
[39,-45,-144,-54,-141,-109,3,-117,49,40]
[1,-38,37,29,40,25,20,-33,25,5]
[-69,-35,-111,25,8,-36,5,6,27,-90]
[20,-3,24,34,-40,4,22,-29,-26,-15]
[25,-14,-210,-172,-212,-84,-18,-106,-44,28]
[17,26,-106,26,-76,-186,27,-86,36,-42]
[-33,-24,-57,-72,13,57,47,15,28,-79]
[19,-36,-111,-89,-28,37,-9,40,-110,-23]
[33,-41,-253,-152,-207,-69,-89,-95,27,35]
[-23,27,-7,-32,-23,-121,-200,-109,-114,-45]
[17,-46,-99,-194,10,31,19,-144,-82,-67]
[-54,-1,-256,39,24,22,-3,-44,-151,26]
[]
[]
[{"$f":"MAX(A1:J128)","v":91}]
[{"$f":"MIN(A1:J128)","v":-256},null,null,null,null,null,null,null,null,null,null,null,null,null,null,null,null,null,null,null,null,null,null,null,null,null,null,null,null,null,null,null,null,null,null,null,null,null,null,null,null,null,null," "]

{"sheet":"W6_bin","index":3,"n_rows":128,"n_cols":43,"rows_kept":128,"cut":false,"hidden":false,"merged":[]}
[{"$f":"DEC2BIN(W6_limit!A1, 9)","v":"000001000"},{"$f":"DEC2BIN(W6_limit!B1, 9)","v":"000000000"},{"$f":"DEC2BIN(W6_limit!C1, 9)","v":"1100010100"},{"$f":"DEC2BIN(W6_limit!D1, 9)","v":"1100100100"},{"$f":"DEC2BIN(W6_limit!E1, 9)","v":"1100010100"},{"$f":"DEC2BIN(W6_limit!F1, 9)","v":"1111100001"},{"$f":"DEC2BIN(W6_limit!G1, 9)","v":"1110110000"},{"$f":"DEC2BIN(W6_limit!H1, 9)","v":"1111101100"},{"$f":"DEC2BIN(W6_limit!I1, 9)","v":"000011110"},{"$f":"DEC2BIN(W6_limit!J1, 9)","v":"1111011111"},{"$f":"DEC2BIN(W6_limit!K1, 9)","v":"000000000"},{"$f":"DEC2BIN(W6_limit!L1, 9)","v":"000000000"},{"$f":"DEC2BIN(W6_limit!M1, 9)","v":"000000000"},{"$f":"DEC2BIN(W6_limit!N1, 9)","v":"000000000"},{"$f":"DEC2BIN(W6_limit!O1, 9)","v":"000000000"},{"$f":"DEC2BIN(W6_limit!P1, 9)","v":"000000000"},{"$f":"DEC2BIN(W6_limit!Q1, 9)","v":"000000000"},{"$f":"DEC2BIN(W6_limit!R1, 9)","v":"000000000"},{"$f":"DEC2BIN(W6_limit!S1, 9)","v":"000000000"},{"$f":"DEC2BIN(W6_limit!T1, 9)","v":"000000000"},{"$f":"DEC2BIN(W6_limit!U1, 9)","v":"000000000"},{"$f":"DEC2BIN(W6_limit!V1, 9)","v":"000000000"},{"$f":"DEC2BIN(W6_limit!W1, 9)","v":"000000000"},{"$f":"DEC2BIN(W6_limit!X1, 9)","v":"000000000"},{"$f":"DEC2BIN(W6_limit!Y1, 9)","v":"000000000"},{"$f":"DEC2BIN(W6_limit!Z1, 9)","v":"000000000"},{"$f":"DEC2BIN(W6_limit!AA1, 9)","v":"000000000"},{"$f":"DEC2BIN(W6_limit!AB1, 9)","v":"000000000"},{"$f":"DEC2BIN(W6_limit!AC1, 9)","v":"000000000"},{"$f":"DEC2BIN(W6_limit!AD1, 9)","v":"000000000"},{"$f":"DEC2BIN(W6_limit!AE1, 9)","v":"000000000"},{"$f":"DEC2BIN(W6_limit!AF1, 9)","v":"000000000"},{"$f":"DEC2BIN(W6_limit!AG1, 9)","v":"000000000"},{"$f":"DEC2BIN(W6_limit!AH1, 9)","v":"000000000"},{"$f":"DEC2BIN(W6_limit!AI1, 9)","v":"000000000"},{"$f":"DEC2BIN(W6_limit!AJ1, 9)","v":"000000000"},{"$f":"DEC2BIN(W6_limit!AK1, 9)","v":"000000000"},{"$f":"DEC2BIN(W6_limit!AL1, 9)","v":"000000000"},{"$f":"DEC2BIN(W6_limit!AM1, 9)","v":"000000000"},{"$f":"DEC2BIN(W6_limit!AN1, 9)","v":"000000000"},{"$f":"DEC2BIN(W6_limit!AO1, 9)","v":"000000000"},{"$f":"DEC2BIN(W6_limit!AP1, 9)","v":"000000000"},{"$f":"DEC2BIN(W6_limit!AQ1, 9)","v":"000000000"}]
[{"$f":"DEC2BIN(W6_limit!A2, 9)","v":"000100011"},{"$f":"DEC2BIN(W6_limit!B2, 9)","v":"1111010010"},{"$f":"DEC2BIN(W6_limit!C2, 9)","v":"1111001001"},{"$f":"DEC2BIN(W6_limit!D2, 9)","v":"1111001101"},{"$f":"DEC2BIN(W6_limit!E2, 9)","v":"1111011110"},{"$f":"DEC2BIN(W6_limit!F2, 9)","v":"1111111100"},{"$f":"DEC2BIN(W6_limit!G2, 9)","v":"000000000"},{"$f":"DEC2BIN(W6_limit!H2, 9)","v":"1111011100"},{"$f":"DEC2BIN(W6_limit!I2, 9)","v":"000101101"},{"$f":"DEC2BIN(W6_limit!J2, 9)","v":"1111100000"},{"$f":"DEC2BIN(W6_limit!K2, 9)","v":"000000000"},{"$f":"DEC2BIN(W6_limit!L2, 9)","v":"000000000"},{"$f":"DEC2BIN(W6_limit!M2, 9)","v":"000000000"},{"$f":"DEC2BIN(W6_limit!N2, 9)","v":"000000000"},{"$f":"DEC2BIN(W6_limit!O2, 9)","v":"000000000"},{"$f":"DEC2BIN(W6_limit!P2, 9)","v":"000000000"},{"$f":"DEC2BIN(W6_limit!Q2, 9)","v":"000000000"},{"$f":"DEC2BIN(W6_limit!R2, 9)","v":"000000000"},{"$f":"DEC2BIN(W6_limit!S2, 9)","v":"000000000"},{"$f":"DEC2BIN(W6_limit!T2, 9)","v":"000000000"},{"$f":"DEC2BIN(W6_limit!U2, 9)","v":"000000000"},{"$f":"DEC2BIN(W6_limit!V2, 9)","v":"000000000"},{"$f":"DEC2BIN(W6_limit!W2, 9)","v":"000000000"},{"$f":"DEC2BIN(W6_limit!X2, 9)","v":"000000000"},{"$f":"DEC2BIN(W6_limit!Y2, 9)","v":"000000000"},{"$f":"DEC2BIN(W6_limit!Z2, 9)","v":"000000000"},{"$f":"DEC2BIN(W6_limit!AA2, 9)","v":"000000000"},{"$f":"DEC2BIN(W6_limit!AB2, 9)","v":"000000000"},{"$f":"DEC2BIN(W6_limit!AC2, 9)","v":"000000000"},{"$f":"DEC2BIN(W6_limit!AD2, 9)","v":"000000000"},{"$f":"DEC2BIN(W6_limit!AE2, 9)","v":"000000000"},{"$f":"DEC2BIN(W6_limit!AF2, 9)","v":"000000000"},{"$f":"DEC2BIN(W6_limit!AG2, 9)","v":"000000000"},{"$f":"DEC2BIN(W6_limit!AH2, 9)","v":"000000000"},{"$f":"DEC2BIN(W6_limit!AI2, 9)","v":"000000000"},{"$f":"DEC2BIN(W6_limit!AJ2, 9)","v":"000000000"},{"$f":"DEC2BIN(W6_limit!AK2, 9)","v":"000000000"},{"$f":"DEC2BIN(W6_limit!AL2, 9)","v":"000000000"},{"$f":"DEC2BIN(W6_limit!AM2, 9)","v":"000000000"},{"$f":"DEC2BIN(W6_limit!AN2, 9)","v":"000000000"},{"$f":"DEC2BIN(W6_limit!AO2, 9)","v":"000000000"},{"$f":"DEC2BIN(W6_limit!AP2, 9)","v":"000000000"},{"$f":"DEC2BIN(W6_limit!AQ2, 9)","v":"000000000"}]
[{"$f":"DEC2BIN(W6_limit!A3, 9)","v":"1111010101"},{"$f":"DEC2BIN(W6_limit!B3, 9)","v":"001000011"},{"$f":"DEC2BIN(W6_limit!C3, 9)","v":"000110101"},{"$f":"DEC2BIN(W6_limit!D3, 9)","v":"1111001100"},{"$f":"DEC2BIN(W6_limit!E3, 9)","v":"1111001010"},{"$f":"DEC2BIN(W6_limit!F3, 9)","v":"1100000000"},{"$f":"DEC2BIN(W6_limit!G3, 9)","v":"1100101010"},{"$f":"DEC2BIN(W6_limit!H3, 9)","v":"1110010110"},{"$f":"DEC2BIN(W6_limit!I3, 9)","v":"1101010001"},{"$f":"DEC2BIN(W6_limit!J3, 9)","v":"1111010101"},{"$f":"DEC2BIN(W6_limit!K3, 9)","v":"000000000"},{"$f":"DEC2BIN(W6_limit!L3, 9)","v":"000000000"},{"$f":"DEC2BIN(W6_limit!M3, 9)","v":"000000000"},{"$f":"DEC2BIN(W6_limit!N3, 9)","v":"000000000"},{"$f":"DEC2BIN(W6_limit!O3, 9)","v":"000000000"},{"$f":"DEC2BIN(W6_limit!P3, 9)","v":"000000000"},{"$f":"DEC2BIN(W6_limit!Q3, 9)","v":"000000000"},{"$f":"DEC2BIN(W6_limit!R3, 9)","v":"000000000"},{"$f":"DEC2BIN(W6_limit!S3, 9)","v":"000000000"},{"$f":"DEC2BIN(W6_limit!T3, 9)","v":"000000000"},{"$f":"DEC2BIN(W6_limit!U3, 9)","v":"000000000"},{"$f":"DEC2BIN(W6_limit!V3, 9)","v":"000000000"},{"$f":"DEC2BIN(W6_limit!W3, 9)","v":"000000000"},{"$f":"DEC2BIN(W6_limit!X3, 9)","v":"000000000"},{"$f":"DEC2BIN(W6_limit!Y3, 9)","v":"000000000"},{"$f":"DEC2BIN(W6_limit!Z3, 9)","v":"000000000"},{"$f":"DEC2BIN(W6_limit!AA3, 9)","v":"000000000"},{"$f":"DEC2BIN(W6_limit!AB3, 9)","v":"000000000"},{"$f":"DEC2BIN(W6_limit!AC3, 9)","v":"000000000"},{"$f":"DEC2BIN(W6_limit!AD3, 9)","v":"000000000"},{"$f":"DEC2BIN(W6_limit!AE3, 9)","v":"000000000"},{"$f":"DEC2BIN(W6_limit!AF3, 9)","v":"000000000"},{"$f":"DEC2BIN(W6_limit!AG3, 9)","v":"000000000"},{"$f":"DEC2BIN(W6_limit!AH3, 9)","v":"000000000"},{"$f":"DEC2BIN(W6_limit!AI3, 9)","v":"000000000"},{"$f":"DEC2BIN(W6_limit!AJ3, 9)","v":"000000000"},{"$f":"DEC2BIN(W6_limit!AK3, 9)","v":"000000000"},{"$f":"DEC2BIN(W6_limit!AL3, 9)","v":"000000000"},{"$f":"DEC2BIN(W6_limit!AM3, 9)","v":"000000000"},{"$f":"DEC2BIN(W6_limit!AN3, 9)","v":"000000000"},{"$f":"DEC2BIN(W6_limit!AO3, 9)","v":"000000000"},{"$f":"DEC2BIN(W6_limit!AP3, 9)","v":"000000000"},{"$f":"DEC2BIN(W6_limit!AQ3, 9)","v":"000000000"}]
[{"$f":"DEC2BIN(W6_limit!A4, 9)","v":"1111001001"},{"$f":"DEC2BIN(W6_limit!B4, 9)","v":"000000101"},{"$f":"DEC2BIN(W6_limit!C4, 9)","v":"1100100000"},{"$f":"DEC2BIN(W6_limit!D4, 9)","v":"1110001010"},{"$f":"DEC2BIN(W6_limit!E4, 9)","v":"000010101"},{"$f":"DEC2BIN(W6_limit!F4, 9)","v":"000000011"},{"$f":"DEC2BIN(W6_limit!G4, 9)","v":"000101000"},{"$f":"DEC2BIN(W6_limit!H4, 9)","v":"1111010000"},{"$f":"DEC2BIN(W6_limit!I4, 9)","v":"1110010011"},{"$f":"DEC2BIN(W6_limit!J4, 9)","v":"000010010"},{"$f":"DEC2BIN(W6_limit!K4, 9)","v":"000000000"},{"$f":"DEC2BIN(W6_limit!L4, 9)","v":"000000000"},{"$f":"DEC2BIN(W6_limit!M4, 9)","v":"000000000"},{"$f":"DEC2BIN(W6_limit!N4, 9)","v":"000000000"},{"$f":"DEC2BIN(W6_limit!O4, 9)","v":"000000000"},{"$f":"DEC2BIN(W6_limit!P4, 9)","v":"000000000"},{"$f":"DEC2BIN(W6_limit!Q4, 9)","v":"000000000"},{"$f":"DEC2BIN(W6_limit!R4, 9)","v":"000000000"},{"$f":"DEC2BIN(W6_limit!S4, 9)","v":"000000000"},{"$f":"DEC2BIN(W6_limit!T4, 9)","v":"000000000"},{"$f":"DEC2BIN(W6_limit!U4, 9)","v":"000000000"},{"$f":"DEC2BIN(W6_limit!V4, 9)","v":"000000000"},{"$f":"DEC2BIN(W6_limit!W4, 9)","v":"000000000"},{"$f":"DEC2BIN(W6_limit!X4, 9)","v":"000000000"},{"$f":"DEC2BIN(W6_limit!Y4, 9)","v":"000000000"},{"$f":"DEC2BIN(W6_limit!Z4, 9)","v":"000000000"},{"$f":"DEC2BIN(W6_limit!AA4, 9)","v":"000000000"},{"$f":"DEC2BIN(W6_limit!AB4, 9)","v":"000000000"},{"$f":"DEC2BIN(W6_limit!AC4, 9)","v":"000000000"},{"$f":"DEC2BIN(W6_limit!AD4, 9)","v":"000000000"},{"$f":"DEC2BIN(W6_limit!AE4, 9)","v":"000000000"},{"$f":"DEC2BIN(W6_limit!AF4, 9)","v":"000000000"},{"$f":"DEC2BIN(W6_limit!AG4, 9)","v":"000000000"},{"$f":"DEC2BIN(W6_limit!AH4, 9)","v":"000000000"},{"$f":"DEC2BIN(W6_limit!AI4, 9)","v":"000000000"},{"$f":"DEC2BIN(W6_limit!AJ4, 9)","v":"000000000"},{"$f":"DEC2BIN(W6_limit!AK4, 9)","v":"000000000"},{"$f":"DEC2BIN(W6_limit!AL4, 9)","v":"000000000"},{"$f":"DEC2BIN(W6_limit!AM4, 9)","v":"000000000"},{"$f":"DEC2BIN(W6_limit!AN4, 9)","v":"000000000"},{"$f":"DEC2BIN(W6_limit!AO4, 9)","v":"000000000"},{"$f":"DEC2BIN(W6_limit!AP4, 9)","v":"000000000"},{"$f":"DEC2BIN(W6_limit!AQ4, 9)","v":"000000000"}]
[{"$f":"DEC2BIN(W6_limit!A5, 9)","v":"1110111111"},{"$f":"DEC2BIN(W6_limit!B5, 9)","v":"000100100"},{"$f":"DEC2BIN(W6_limit!C5, 9)","v":"1110000101"},{"$f":"DEC2BIN(W6_limit!D5, 9)","v":"1111010110"},{"$f":"DEC2BIN(W6_limit!E5, 9)","v":"1111110111"},{"$f":"DEC2BIN(W6_limit!F5, 9)","v":"1111101000"},{"$f":"DEC2BIN(W6_limit!G5, 9)","v":"1100101100"},{"$f":"DEC2BIN(W6_limit!H5, 9)","v":"1100110111"},{"$f":"DEC2BIN(W6_limit!I5, 9)","v":"1100000000"},{"$f":"DEC2BIN(W6_limit!J5, 9)","v":"000101000"},{"$f":"DEC2BIN(W6_limit!K5, 9)","v":"000000000"},{"$f":"DEC2BIN(W6_limit!L5, 9)","v":"000000000"},{"$f":"DEC2BIN(W6_limit!M5, 9)","v":"000000000"},{"$f":"DEC2BIN(W6_limit!N5, 9)","v":"000000000"},{"$f":"DEC2BIN(W6_limit!O5, 9)","v":"000000000"},{"$f":"DEC2BIN(W6_limit!P5, 9)","v":"000000000"},{"$f":"DEC2BIN(W6_limit!Q5, 9)","v":"000000000"},{"$f":"DEC2BIN(W6_limit!R5, 9)","v":"000000000"},{"$f":"DEC2BIN(W6_limit!S5, 9)","v":"000000000"},{"$f":"DEC2BIN(W6_limit!T5, 9)","v":"000000000"},{"$f":"DEC2BIN(W6_limit!U5, 9)","v":"000000000"},{"$f":"DEC2BIN(W6_limit!V5, 9)","v":"000000000"},{"$f":"DEC2BIN(W6_limit!W5, 9)","v":"000000000"},{"$f":"DEC2BIN(W6_limit!X5, 9)","v":"000000000"},{"$f":"DEC2BIN(W6_limit!Y5, 9)","v":"000000000"},{"$f":"DEC2BIN(W6_limit!Z5, 9)","v":"000000000"},{"$f":"DEC2BIN(W6_limit!AA5, 9)","v":"000000000"},{"$f":"DEC2BIN(W6_limit!AB5, 9)","v":"000000000"},{"$f":"DEC2BIN(W6_limit!AC5, 9)","v":"000000000"},{"$f":"DEC2BIN(W6_limit!AD5, 9)","v":"000000000"},{"$f":"DEC2BIN(W6_limit!AE5, 9)","v":"000000000"},{"$f":"DEC2BIN(W6_limit!AF5, 9)","v":"000000000"},{"$f":"DEC2BIN(W6_limit!AG5, 9)","v":"000000000"},{"$f":"DEC2BIN(W6_limit!AH5, 9)","v":"000000000"},{"$f":"DEC2BIN(W6_limit!AI5, 9)","v":"000000000"},{"$f":"DEC2BIN(W6_limit!AJ5, 9)","v":"000000000"},{"$f":"DEC2BIN(W6_limit!AK5, 9)","v":"000000000"},{"$f":"DEC2BIN(W6_limit!AL5, 9)","v":"000000000"},{"$f":"DEC2BIN(W6_limit!AM5, 9)","v":"000000000"},{"$f":"DEC2BIN(W6_limit!AN5, 9)","v":"000000000"},{"$f":"DEC2BIN(W6_limit!AO5, 9)","v":"000000000"},{"$f":"DEC2BIN(W6_limit!AP5, 9)","v":"000000000"},{"$f":"DEC2BIN(W6_limit!AQ5, 9)","v":"000000000"}]
[{"$f":"DEC2BIN(W6_limit!A6, 9)","v":"000111001"},{"$f":"DEC2BIN(W6_limit!B6, 9)","v":"1111101100"},{"$f":"DEC2BIN(W6_limit!C6, 9)","v":"1101010111"},{"$f":"DEC2BIN(W6_limit!D6, 9)","v":"000111101"},{"$f":"DEC2BIN(W6_limit!E6, 9)","v":"1110101001"},{"$f":"DEC2BIN(W6_limit!F6, 9)","v":"1110001010"},{"$f":"DEC2BIN(W6_limit!G6, 9)","v":"1101111000"},{"$f":"DEC2BIN(W6_limit!H6, 9)","v":"1111010001"},{"$f":"DEC2BIN(W6_limit!I6, 9)","v":"1110000111"},{"$f":"DEC2BIN(W6_limit!J6, 9)","v":"1111100000"},{"$f":"DEC2BIN(W6_limit!K6, 9)","v":"000000000"},{"$f":"DEC2BIN(W6_limit!L6, 9)","v":"000000000"},{"$f":"DEC2BIN(W6_limit!M6, 9)","v":"000000000"},{"$f":"DEC2BIN(W6_limit!N6, 9)","v":"000000000"},{"$f":"DEC2BIN(W6_limit!O6, 9)","v":"000000000"},{"$f":"DEC2BIN(W6_limit!P6, 9)","v":"000000000"},{"$f":"DEC2BIN(W6_limit!Q6, 9)","v":"000000000"},{"$f":"DEC2BIN(W6_limit!R6, 9)","v":"000000000"},{"$f":"DEC2BIN(W6_limit!S6, 9)","v":"000000000"},{"$f":"DEC2BIN(W6_limit!T6, 9)","v":"000000000"},{"$f":"DEC2BIN(W6_limit!U6, 9)","v":"000000000"},{"$f":"DEC2BIN(W6_limit!V6, 9)","v":"000000000"},{"$f":"DEC2BIN(W6_limit!W6, 9)","v":"000000000"},{"$f":"DEC2BIN(W6_limit!X6, 9)","v":"000000000"},{"$f":"DEC2BIN(W6_limit!Y6, 9)","v":"000000000"},{"$f":"DEC2BIN(W6_limit!Z6, 9)","v":"000000000"},{"$f":"DEC2BIN(W6_limit!AA6, 9)","v":"000000000"},{"$f":"DEC2BIN(W6_limit!AB6, 9)","v":"000000000"},{"$f":"DEC2BIN(W6_limit!AC6, 9)","v":"000000000"},{"$f":"DEC2BIN(W6_limit!AD6, 9)","v":"000000000"},{"$f":"DEC2BIN(W6_limit!AE6, 9)","v":"000000000"},{"$f":"DEC2BIN(W6_limit!AF6, 9)","v":"000000000"},{"$f":"DEC2BIN(W6_limit!AG6, 9)","v":"000000000"},{"$f":"DEC2BIN(W6_limit!AH6, 9)","v":"000000000"},{"$f":"DEC2BIN(W6_limit!AI6, 9)","v":"000000000"},{"$f":"DEC2BIN(W6_limit!AJ6, 9)","v":"000000000"},{"$f":"DEC2BIN(W6_limit!AK6, 9)","v":"000000000"},{"$f":"DEC2BIN(W6_limit!AL6, 9)","v":"000000000"},{"$f":"DEC2BIN(W6_limit!AM6, 9)","v":"000000000"},{"$f":"DEC2BIN(W6_limit!AN6, 9)","v":"000000000"},{"$f":"DEC2BIN(W6_limit!AO6, 9)","v":"000000000"},{"$f":"DEC2BIN(W6_limit!AP6, 9)","v":"000000000"},{"$f":"DEC2BIN(W6_limit!AQ6, 9)","v":"000000000"}]
[{"$f":"DEC2BIN(W6_limit!A7, 9)","v":"000100101"},{"$f":"DEC2BIN(W6_limit!B7, 9)","v":"000100111"},{"$f":"DEC2BIN(W6_limit!C7, 9)","v":"000100010"},{"$f":"DEC2BIN(W6_limit!D7, 9)","v":"1111011100"},{"$f":"DEC2BIN(W6_limit!E7, 9)","v":"1101000111"},{"$f":"DEC2BIN(W6_limit!F7, 9)","v":"1110000000"},{"$f":"DEC2BIN(W6_limit!G7, 9)","v":"1101111000"},{"$f":"DEC2BIN(W6_limit!H7, 9)","v":"1101101110"},{"$f":"DEC2BIN(W6_limit!I7, 9)","v":"1100100010"},{"$f":"DEC2BIN(W6_limit!J7, 9)","v":"1111101101"},{"$f":"DEC2BIN(W6_limit!K7, 9)","v":"000000000"},{"$f":"DEC2BIN(W6_limit!L7, 9)","v":"000000000"},{"$f":"DEC2BIN(W6_limit!M7, 9)","v":"000000000"},{"$f":"DEC2BIN(W6_limit!N7, 9)","v":"000000000"},{"$f":"DEC2BIN(W6_limit!O7, 9)","v":"000000000"},{"$f":"DEC2BIN(W6_limit!P7, 9)","v":"000000000"},{"$f":"DEC2BIN(W6_limit!Q7, 9)","v":"000000000"},{"$f":"DEC2BIN(W6_limit!R7, 9)","v":"000000000"},{"$f":"DEC2BIN(W6_limit!S7, 9)","v":"000000000"},{"$f":"DEC2BIN(W6_limit!T7, 9)","v":"000000000"},{"$f":"DEC2BIN(W6_limit!U7, 9)","v":"000000000"},{"$f":"DEC2BIN(W6_limit!V7, 9)","v":"000000000"},{"$f":"DEC2BIN(W6_limit!W7, 9)","v":"000000000"},{"$f":"DEC2BIN(W6_limit!X7, 9)","v":"000000000"},{"$f":"DEC2BIN(W6_limit!Y7, 9)","v":"000000000"},{"$f":"DEC2BIN(W6_limit!Z7, 9)","v":"000000000"},{"$f":"DEC2BIN(W6_limit!AA7, 9)","v":"000000000"},{"$f":"DEC2BIN(W6_limit!AB7, 9)","v":"000000000"},{"$f":"DEC2BIN(W6_limit!AC7, 9)","v":"000000000"},{"$f":"DEC2BIN(W6_limit!AD7, 9)","v":"000000000"},{"$f":"DEC2BIN(W6_limit!AE7, 9)","v":"000000000"},{"$f":"DEC2BIN(W6_limit!AF7, 9)","v":"000000000"},{"$f":"DEC2BIN(W6_limit!AG7, 9)","v":"000000000"},{"$f":"DEC2BIN(W6_limit!AH7, 9)","v":"000000000"},{"$f":"DEC2BIN(W6_limit!AI7, 9)","v":"000000000"},{"$f":"DEC2BIN(W6_limit!AJ7, 9)","v":"000000000"},{"$f":"DEC2BIN(W6_limit!AK7, 9)","v":"000000000"},{"$f":"DEC2BIN(W6_limit!AL7, 9)","v":"000000000"},{"$f":"DEC2BIN(W6_limit!AM7, 9)","v":"000000000"},{"$f":"DEC2BIN(W6_limit!AN7, 9)","v":"000000000"},{"$f":"DEC2BIN(W6_limit!AO7, 9)","v":"000000000"},{"$f":"DEC2BIN(W6_limit!AP7, 9)","v":"000000000"},{"$f":"DEC2BIN(W6_limit!AQ7, 9)","v":"000000000"}]
[{"$f":"DEC2BIN(W6_limit!A8, 9)","v":"1111010111"},{"$f":"DEC2BIN(W6_limit!B8, 9)","v":"000001001"},{"$f":"DEC2BIN(W6_limit!C8, 9)","v":"1111010010"},{"$f":"DEC2BIN(W6_limit!D8, 9)","v":"000010000"},{"$f":"DEC2BIN(W6_limit!E8, 9)","v":"000000100"},{"$f":"DEC2BIN(W6_limit!F8, 9)","v":"000100010"},{"$f":"DEC2BIN(W6_limit!G8, 9)","v":"000100111"},{"$f":"DEC2BIN(W6_limit!H8, 9)","v":"000010100"},{"$f":"DEC2BIN(W6_limit!I8, 9)","v":"000011110"},{"$f":"DEC2BIN(W6_limit!J8, 9)","v":"000010000"},{"$f":"DEC2BIN(W6_limit!K8, 9)","v":"000000000"},{"$f":"DEC2BIN(W6_limit!L8, 9)","v":"000000000"},{"$f":"DEC2BIN(W6_limit!M8, 9)","v":"000000000"},{"$f":"DEC2BIN(W6_limit!N8, 9)","v":"000000000"},{"$f":"DEC2BIN(W6_limit!O8, 9)","v":"000000000"},{"$f":"DEC2BIN(W6_limit!P8, 9)","v":"000000000"},{"$f":"DEC2BIN(W6_limit!Q8, 9)","v":"000000000"},{"$f":"DEC2BIN(W6_limit!R8, 9)","v":"000000000"},{"$f":"DEC2BIN(W6_limit!S8, 9)","v":"000000000"},{"$f":"DEC2BIN(W6_limit!T8, 9)","v":"000000000"},{"$f":"DEC2BIN(W6_limit!U8, 9)","v":"000000000"},{"$f":"DEC2BIN(W6_limit!V8, 9)","v":"000000000"},{"$f":"DEC2BIN(W6_limit!W8, 9)","v":"000000000"},{"$f":"DEC2BIN(W6_limit!X8, 9)","v":"000000000"},{"$f":"DEC2BIN(W6_limit!Y8, 9)","v":"000000000"},{"$f":"DEC2BIN(W6_limit!Z8, 9)","v":"000000000"},{"$f":"DEC2BIN(W6_limit!AA8, 9)","v":"000000000"},{"$f":"DEC2BIN(W6_limit!AB8, 9)","v":"000000000"},{"$f":"DEC2BIN(W6_limit!AC8, 9)","v":"000000000"},{"$f":"DEC2BIN(W6_limit!AD8, 9)","v":"000000000"},{"$f":"DEC2BIN(W6_limit!AE8, 9)","v":"000000000"},{"$f":"DEC2BIN(W6_limit!AF8, 9)","v":"000000000"},{"$f":"DEC2BIN(W6_limit!AG8, 9)","v":"000000000"},{"$f":"DEC2BIN(W6_limit!AH8, 9)","v":"000000000"},{"$f":"DEC2BIN(W6_limit!AI8, 9)","v":"000000000"},{"$f":"DEC2BIN(W6_limit!AJ8, 9)","v":"000000000"},{"$f":"DEC2BIN(W6_limit!AK8, 9)","v":"000000000"},{"$f":"DEC2BIN(W6_limit!AL8, 9)","v":"000000000"},{"$f":"DEC2BIN(W6_limit!AM8, 9)","v":"000000000"},{"$f":"DEC2BIN(W6_limit!AN8, 9)","v":"000000000"},{"$f":"DEC2BIN(W6_limit!AO8, 9)","v":"000000000"},{"$f":"DEC2BIN(W6_limit!AP8, 9)","v":"000000000"},{"$f":"DEC2BIN(W6_limit!AQ8, 9)","v":"000000000"}]
[{"$f":"DEC2BIN(W6_limit!A9, 9)","v":"1111011000"},{"$f":"DEC2BIN(W6_limit!B9, 9)","v":"1111100111"},{"$f":"DEC2BIN(W6_limit!C9, 9)","v":"000010000"},{"$f":"DEC2BIN(W6_limit!D9, 9)","v":"000000000"},{"$f":"DEC2BIN(W6_limit!E9, 9)","v":"000000010"},{"$f":"DEC2BIN(W6_limit!F9, 9)","v":"1111011000"},{"$f":"DEC2BIN(W6_limit!G9, 9)","v":"1111101110"},{"$f":"DEC2BIN(W6_limit!H9, 9)","v":"000100100"},{"$f":"DEC2BIN(W6_limit!I9, 9)","v":"1111011001"},{"$f":"DEC2BIN(W6_limit!J9, 9)","v":"000101010"},{"$f":"DEC2BIN(W6_limit!K9, 9)","v":"000000000"},{"$f":"DEC2BIN(W6_limit!L9, 9)","v":"000000000"},{"$f":"DEC2BIN(W6_limit!M9, 9)","v":"000000000"},{"$f":"DEC2BIN(W6_limit!N9, 9)","v":"000000000"},{"$f":"DEC2BIN(W6_limit!O9, 9)","v":"000000000"},{"$f":"DEC2BIN(W6_limit!P9, 9)","v":"000000000"},{"$f":"DEC2BIN(W6_limit!Q9, 9)","v":"000000000"},{"$f":"DEC2BIN(W6_limit!R9, 9)","v":"000000000"},{"$f":"DEC2BIN(W6_limit!S9, 9)","v":"000000000"},{"$f":"DEC2BIN(W6_limit!T9, 9)","v":"000000000"},{"$f":"DEC2BIN(W6_limit!U9, 9)","v":"000000000"},{"$f":"DEC2BIN(W6_limit!V9, 9)","v":"000000000"},{"$f":"DEC2BIN(W6_limit!W9, 9)","v":"000000000"},{"$f":"DEC2BIN(W6_limit!X9, 9)","v":"000000000"},{"$f":"DEC2BIN(W6_limit!Y9, 9)","v":"000000000"},{"$f":"DEC2BIN(W6_limit!Z9, 9)","v":"000000000"},{"$f":"DEC2BIN(W6_limit!AA9, 9)","v":"000000000"},{"$f":"DEC2BIN(W6_limit!AB9, 9)","v":"000000000"},{"$f":"DEC2BIN(W6_limit!AC9, 9)","v":"000000000"},{"$f":"DEC2BIN(W6_limit!AD9, 9)","v":"000000000"},{"$f":"DEC2BIN(W6_limit!AE9, 9)","v":"000000000"},{"$f":"DEC2BIN(W6_limit!AF9, 9)","v":"000000000"},{"$f":"DEC2BIN(W6_limit!AG9, 9)","v":"000000000"},{"$f":"DEC2BIN(W6_limit!AH9, 9)","v":"000000000"},{"$f":"DEC2BIN(W6_limit!AI9, 9)","v":"000000000"},{"$f":"DEC2BIN(W6_limit!AJ9, 9)","v":"000000000"},{"$f":"DEC2BIN(W6_limit!AK9, 9)","v":"000000000"},{"$f":"DEC2BIN(W6_limit!AL9, 9)","v":"000000000"},{"$f":"DEC2BIN(W6_limit!AM9, 9)","v":"000000000"},{"$f":"DEC2BIN(W6_limit!AN9, 9)","v":"000000000"},{"$f":"DEC2BIN(W6_limit!AO9, 9)","v":"000000000"},{"$f":"DEC2BIN(W6_limit!AP9, 9)","v":"000000000"},{"$f":"DEC2BIN(W6_limit!AQ9, 9)","v":"000000000"}]
[{"$f":"DEC2BIN(W6_limit!A10, 9)","v":"000001111"},{"$f":"DEC2BIN(W6_limit!B10, 9)","v":"1111101110"},{"$f":"DEC2BIN(W6_limit!C10, 9)","v":"1101011010"},{"$f":"DEC2BIN(W6_limit!D10, 9)","v":"1110001101"},{"$f":"DEC2BIN(W6_limit!E10, 9)","v":"000011000"},{"$f":"DEC2BIN(W6_limit!F10, 9)","v":"1110111101"},{"$f":"DEC2BIN(W6_limit!G10, 9)","v":"000100100"},{"$f":"DEC2BIN(W6_limit!H10, 9)","v":"000011110"},{"$f":"DEC2BIN(W6_limit!I10, 9)","v":"1111101001"},{"$f":"DEC2BIN(W6_limit!J10, 9)","v":"1110110011"},{"$f":"DEC2BIN(W6_limit!K10, 9)","v":"000000000"},{"$f":"DEC2BIN(W6_limit!L10, 9)","v":"000000000"},{"$f":"DEC2BIN(W6_limit!M10, 9)","v":"000000000"},{"$f":"DEC2BIN(W6_limit!N10, 9)","v":"000000000"},{"$f":"DEC2BIN(W6_limit!O10, 9)","v":"000000000"},{"$f":"DEC2BIN(W6_limit!P10, 9)","v":"000000000"},{"$f":"DEC2BIN(W6_limit!Q10, 9)","v":"000000000"},{"$f":"DEC2BIN(W6_limit!R10, 9)","v":"000000000"},{"$f":"DEC2BIN(W6_limit!S10, 9)","v":"000000000"},{"$f":"DEC2BIN(W6_limit!T10, 9)","v":"000000000"},{"$f":"DEC2BIN(W6_limit!U10, 9)","v":"000000000"},{"$f":"DEC2BIN(W6_limit!V10, 9)","v":"000000000"},{"$f":"DEC2BIN(W6_limit!W10, 9)","v":"000000000"},{"$f":"DEC2BIN(W6_limit!X10, 9)","v":"000000000"},{"$f":"DEC2BIN(W6_limit!Y10, 9)","v":"000000000"},{"$f":"DEC2BIN(W6_limit!Z10, 9)","v":"000000000"},{"$f":"DEC2BIN(W6_limit!AA10, 9)","v":"000000000"},{"$f":"DEC2BIN(W6_limit!AB10, 9)","v":"000000000"},{"$f":"DEC2BIN(W6_limit!AC10, 9)","v":"000000000"},{"$f":"DEC2BIN(W6_limit!AD10, 9)","v":"000000000"},{"$f":"DEC2BIN(W6_limit!AE10, 9)","v":"000000000"},{"$f":"DEC2BIN(W6_limit!AF10, 9)","v":"000000000"},{"$f":"DEC2BIN(W6_limit!AG10, 9)","v":"000000000"},{"$f":"DEC2BIN(W6_limit!AH10, 9)","v":"000000000"},{"$f":"DEC2BIN(W6_limit!AI10, 9)","v":"000000000"},{"$f":"DEC2BIN(W6_limit!AJ10, 9)","v":"000000000"},{"$f":"DEC2BIN(W6_limit!AK10, 9)","v":"000000000"},{"$f":"DEC2BIN(W6_limit!AL10, 9)","v":"000000000"},{"$f":"DEC2BIN(W6_limit!AM10, 9)","v":"000000000"},{"$f":"DEC2BIN(W6_limit!AN10, 9)","v":"000000000"},{"$f":"DEC2BIN(W6_limit!AO10, 9)","v":"000000000"},{"$f":"DEC2BIN(W6_limit!AP10, 9)","v":"000000000"},{"$f":"DEC2BIN(W6_limit!AQ10, 9)","v":"000000000"}]
[{"$f":"DEC2BIN(W6_limit!A11, 9)","v":"000001100"},{"$f":"DEC2BIN(W6_limit!B11, 9)","v":"000010011"},{"$f":"DEC2BIN(W6_limit!C11, 9)","v":"000000101"},{"$f":"DEC2BIN(W6_limit!D11, 9)","v":"1110111100"},{"$f":"DEC2BIN(W6_limit!E11, 9)","v":"1100110010"},{"$f":"DEC2BIN(W6_limit!F11, 9)","v":"1101100111"},{"$f":"DEC2BIN(W6_limit!G11, 9)","v":"1111001010"},{"$f":"DEC2BIN(W6_limit!H11, 9)","v":"1110100000"},{"$f":"DEC2BIN(W6_limit!I11, 9)","v":"000011001"},{"$f":"DEC2BIN(W6_limit!J11, 9)","v":"1111000101"},{"$f":"DEC2BIN(W6_limit!K11, 9)","v":"000000000"},{"$f":"DEC2BIN(W6_limit!L11, 9)","v":"000000000"},{"$f":"DEC2BIN(W6_limit!M11, 9)","v":"000000000"},{"$f":"DEC2BIN(W6_limit!N11, 9)","v":"000000000"},{"$f":"DEC2BIN(W6_limit!O11, 9)","v":"000000000"},{"$f":"DEC2BIN(W6_limit!P11, 9)","v":"000000000"},{"$f":"DEC2BIN(W6_limit!Q11, 9)","v":"000000000"},{"$f":"DEC2BIN(W6_limit!R11, 9)","v":"000000000"},{"$f":"DEC2BIN(W6_limit!S11, 9)","v":"000000000"},{"$f":"DEC2BIN(W6_limit!T11, 9)","v":"000000000"},{"$f":"DEC2BIN(W6_limit!U11, 9)","v":"000000000"},{"$f":"DEC2BIN(W6_limit!V11, 9)","v":"000000000"},{"$f":"DEC2BIN(W6_limit!W11, 9)","v":"000000000"},{"$f":"DEC2BIN(W6_limit!X11, 9)","v":"000000000"},{"$f":"DEC2BIN(W6_limit!Y11, 9)","v":"000000000"},{"$f":"DEC2BIN(W6_limit!Z11, 9)","v":"000000000"},{"$f":"DEC2BIN(W6_limit!AA11, 9)","v":"000000000"},{"$f":"DEC2BIN(W6_limit!AB11, 9)","v":"000000000"},{"$f":"DEC2BIN(W6_limit!AC11, 9)","v":"000000000"},{"$f":"DEC2BIN(W6_limit!AD11, 9)","v":"000000000"},{"$f":"DEC2BIN(W6_limit!AE11, 9)","v":"000000000"},{"$f":"DEC2BIN(W6_limit!AF11, 9)","v":"000000000"},{"$f":"DEC2BIN(W6_limit!AG11, 9)","v":"000000000"},{"$f":"DEC2BIN(W6_limit!AH11, 9)","v":"000000000"},{"$f":"DEC2BIN(W6_limit!AI11, 9)","v":"000000000"},{"$f":"DEC2BIN(W6_limit!AJ11, 9)","v":"000000000"},{"$f":"DEC2BIN(W6_limit!AK11, 9)","v":"000000000"},{"$f":"DEC2BIN(W6_limit!AL11, 9)","v":"000000000"},{"$f":"DEC2BIN(W6_limit!AM11, 9)","v":"000000000"},{"$f":"DEC2BIN(W6_limit!AN11, 9)","v":"000000000"},{"$f":"DEC2BIN(W6_limit!AO11, 9)","v":"000000000"},{"$f":"DEC2BIN(W6_limit!AP11, 9)","v":"000000000"},{"$f":"DEC2BIN(W6_limit!AQ11, 9)","v":"000000000"}]
[{"$f":"DEC2BIN(W6_limit!A12, 9)","v":"000011100"},{"$f":"DEC2BIN(W6_limit!B12, 9)","v":"000001111"},{"$f":"DEC2BIN(W6_limit!C12, 9)","v":"1100010010"},{"$f":"DEC2BIN(W6_limit!D12, 9)","v":"1100000000"},{"$f":"DEC2BIN(W6_limit!E12, 9)","v":"000000010"},{"$f":"DEC2BIN(W6_limit!F12, 9)","v":"1110010001"},{"$f":"DEC2BIN(W6_limit!G12, 9)","v":"1110101110"},{"$f":"DEC2BIN(W6_limit!H12, 9)","v":"000100001"},{"$f":"DEC2BIN(W6_limit!I12, 9)","v":"1110011101"},{"$f":"DEC2BIN(W6_limit!J12, 9)","v":"000011010"},{"$f":"DEC2BIN(W6_limit!K12, 9)","v":"000000000"},{"$f":"DEC2BIN(W6_limit!L12, 9)","v":"000000000"},{"$f":"DEC2BIN(W6_limit!M12, 9)","v":"000000000"},{"$f":"DEC2BIN(W6_limit!N12, 9)","v":"000000000"},{"$f":"DEC2BIN(W6_limit!O12, 9)","v":"000000000"},{"$f":"DEC2BIN(W6_limit!P12, 9)","v":"000000000"},{"$f":"DEC2BIN(W6_limit!Q12, 9)","v":"000000000"},{"$f":"DEC2BIN(W6_limit!R12, 9)","v":"000000000"},{"$f":"DEC2BIN(W6_limit!S12, 9)","v":"000000000"},{"$f":"DEC2BIN(W6_limit!T12, 9)","v":"000000000"},{"$f":"DEC2BIN(W6_limit!U12, 9)","v":"000000000"},{"$f":"DEC2BIN(W6_limit!V12, 9)","v":"000000000"},{"$f":"DEC2BIN(W6_limit!W12, 9)","v":"000000000"},{"$f":"DEC2BIN(W6_limit!X12, 9)","v":"000000000"},{"$f":"DEC2BIN(W6_limit!Y12, 9)","v":"000000000"},{"$f":"DEC2BIN(W6_limit!Z12, 9)","v":"000000000"},{"$f":"DEC2BIN(W6_limit!AA12, 9)","v":"000000000"},{"$f":"DEC2BIN(W6_limit!AB12, 9)","v":"000000000"},{"$f":"DEC2BIN(W6_limit!AC12, 9)","v":"000000000"},{"$f":"DEC2BIN(W6_limit!AD12, 9)","v":"000000000"},{"$f":"DEC2BIN(W6_limit!AE12, 9)","v":"000000000"},{"$f":"DEC2BIN(W6_limit!AF12, 9)","v":"000000000"},{"$f":"DEC2BIN(W6_limit!AG12, 9)","v":"000000000"},{"$f":"DEC2BIN(W6_limit!AH12, 9)","v":"000000000"},{"$f":"DEC2BIN(W6_limit!AI12, 9)","v":"000000000"},{"$f":"DEC2BIN(W6_limit!AJ12, 9)","v":"000000000"},{"$f":"DEC2BIN(W6_limit!AK12, 9)","v":"000000000"},{"$f":"DEC2BIN(W6_limit!AL12, 9)","v":"000000000"},{"$f":"DEC2BIN(W6_limit!AM12, 9)","v":"000000000"},{"$f":"DEC2BIN(W6_limit!AN12, 9)","v":"000000000"},{"$f":"DEC2BIN(W6_limit!AO12, 9)","v":"000000000"},{"$f":"DEC2BIN(W6_limit!AP12, 9)","v":"000000000"},{"$f":"DEC2BIN(W6_limit!AQ12, 9)","v":"000000000"}]
[{"$f":"DEC2BIN(W6_limit!A13, 9)","v":"000000010"},{"$f":"DEC2BIN(W6_limit!B13, 9)","v":"000000101"},{"$f":"DEC2BIN(W6_limit!C13, 9)","v":"000010000"},{"$f":"DEC2BIN(W6_limit!D13, 9)","v":"1111001010"},{"$f":"DEC2BIN(W6_limit!E13, 9)","v":"1110011101"},{"$f":"DEC2BIN(W6_limit!F13, 9)","v":"1101001000"},{"$f":"DEC2BIN(W6_limit!G13, 9)","v":"1110110101"},{"$f":"DEC2BIN(W6_limit!H13, 9)","v":"000100111"},{"$f":"DEC2BIN(W6_limit!I13, 9)","v":"1100101100"},{"$f":"DEC2BIN(W6_limit!J13, 9)","v":"1110111010"},{"$f":"DEC2BIN(W6_limit!K13, 9)","v":"000000000"},{"$f":"DEC2BIN(W6_limit!L13, 9)","v":"000000000"},{"$f":"DEC2BIN(W6_limit!M13, 9)","v":"000000000"},{"$f":"DEC2BIN(W6_limit!N13, 9)","v":"000000000"},{"$f":"DEC2BIN(W6_limit!O13, 9)","v":"000000000"},{"$f":"DEC2BIN(W6_limit!P13, 9)","v":"000000000"},{"$f":"DEC2BIN(W6_limit!Q13, 9)","v":"000000000"},{"$f":"DEC2BIN(W6_limit!R13, 9)","v":"000000000"},{"$f":"DEC2BIN(W6_limit!S13, 9)","v":"000000000"},{"$f":"DEC2BIN(W6_limit!T13, 9)","v":"000000000"},{"$f":"DEC2BIN(W6_limit!U13, 9)","v":"000000000"},{"$f":"DEC2BIN(W6_limit!V13, 9)","v":"000000000"},{"$f":"DEC2BIN(W6_limit!W13, 9)","v":"000000000"},{"$f":"DEC2BIN(W6_limit!X13, 9)","v":"000000000"},{"$f":"DEC2BIN(W6_limit!Y13, 9)","v":"000000000"},{"$f":"DEC2BIN(W6_limit!Z13, 9)","v":"000000000"},{"$f":"DEC2BIN(W6_limit!AA13, 9)","v":"000000000"},{"$f":"DEC2BIN(W6_limit!AB13, 9)","v":"000000000"},{"$f":"DEC2BIN(W6_limit!AC13, 9)","v":"000000000"},{"$f":"DEC2BIN(W6_limit!AD13, 9)","v":"000000000"},{"$f":"DEC2BIN(W6_limit!AE13, 9)","v":"000000000"},{"$f":"DEC2BIN(W6_limit!AF13, 9)","v":"000000000"},{"$f":"DEC2BIN(W6_limit!AG13, 9)","v":"000000000"},{"$f":"DEC2BIN(W6_limit!AH13, 9)","v":"000000000"},{"$f":"DEC2BIN(W6_limit!AI13, 9)","v":"000000000"},{"$f":"DEC2BIN(W6_limit!AJ13, 9)","v":"000000000"},{"$f":"DEC2BIN(W6_limit!AK13, 9)","v":"000000000"},{"$f":"DEC2BIN(W6_limit!AL13, 9)","v":"000000000"},{"$f":"DEC2BIN(W6_limit!AM13, 9)","v":"000000000"},{"$f":"DEC2BIN(W6_limit!AN13, 9)","v":"000000000"},{"$f":"DEC2BIN(W6_limit!AO13, 9)","v":"000000000"},{"$f":"DEC2BIN(W6_limit!AP13, 9)","v":"000000000"},{"$f":"DEC2BIN(W6_limit!AQ13, 9)","v":"000000000"}]
[{"$f":"DEC2BIN(W6_limit!A14, 9)","v":"000001000"},{"$f":"DEC2BIN(W6_limit!B14, 9)","v":"1111001111"},{"$f":"DEC2BIN(W6_limit!C14, 9)","v":"1100101010"},{"$f":"DEC2BIN(W6_limit!D14, 9)","v":"1101101011"},{"$f":"DEC2BIN(W6_limit!E14, 9)","v":"000010100"},{"$f":"DEC2BIN(W6_limit!F14, 9)","v":"000011000"},{"$f":"DEC2BIN(W6_limit!G14, 9)","v":"000001110"},{"$f":"DEC2BIN(W6_limit!H14, 9)","v":"000010011"},{"$f":"DEC2BIN(W6_limit!I14, 9)","v":"000010000"},{"$f":"DEC2BIN(W6_limit!J14, 9)","v":"1111100010"},{"$f":"DEC2BIN(W6_limit!K14, 9)","v":"000000000"},{"$f":"DEC2BIN(W6_limit!L14, 9)","v":"000000000"},{"$f":"DEC2BIN(W6_limit!M14, 9)","v":"000000000"},{"$f":"DEC2BIN(W6_limit!N14, 9)","v":"000000000"},{"$f":"DEC2BIN(W6_limit!O14, 9)","v":"000000000"},{"$f":"DEC2BIN(W6_limit!P14, 9)","v":"000000000"},{"$f":"DEC2BIN(W6_limit!Q14, 9)","v":"000000000"},{"$f":"DEC2BIN(W6_limit!R14, 9)","v":"000000000"},{"$f":"DEC2BIN(W6_limit!S14, 9)","v":"000000000"},{"$f":"DEC2BIN(W6_limit!T14, 9)","v":"000000000"},{"$f":"DEC2BIN(W6_limit!U14, 9)","v":"000000000"},{"$f":"DEC2BIN(W6_limit!V14, 9)","v":"000000000"},{"$f":"DEC2BIN(W6_limit!W14, 9)","v":"000000000"},{"$f":"DEC2BIN(W6_limit!X14, 9)","v":"000000000"},{"$f":"DEC2BIN(W6_limit!Y14, 9)","v":"000000000"},{"$f":"DEC2BIN(W6_limit!Z14, 9)","v":"000000000"},{"$f":"DEC2BIN(W6_limit!AA14, 9)","v":"000000000"},{"$f":"DEC2BIN(W6_limit!AB14, 9)","v":"000000000"},{"$f":"DEC2BIN(W6_limit!AC14, 9)","v":"000000000"},{"$f":"DEC2BIN(W6_limit!AD14, 9)","v":"000000000"},{"$f":"DEC2BIN(W6_limit!AE14, 9)","v":"000000000"},{"$f":"DEC2BIN(W6_limit!AF14, 9)","v":"000000000"},{"$f":"DEC2BIN(W6_limit!AG14, 9)","v":"000000000"},{"$f":"DEC2BIN(W6_limit!AH14, 9)","v":"000000000"},{"$f":"DEC2BIN(W6_limit!AI14, 9)","v":"000000000"},{"$f":"DEC2BIN(W6_limit!AJ14, 9)","v":"000000000"},{"$f":"DEC2BIN(W6_limit!AK14, 9)","v":"000000000"},{"$f":"DEC2BIN(W6_limit!AL14, 9)","v":"000000000"},{"$f":"DEC2BIN(W6_limit!AM14, 9)","v":"000000000"},{"$f":"DEC2BIN(W6_limit!AN14, 9)","v":"000000000"},{"$f":"DEC2BIN(W6_limit!AO14, 9)","v":"000000000"},{"$f":"DEC2BIN(W6_limit!AP14, 9)","v":"000000000"},{"$f":"DEC2BIN(W6_limit!AQ14, 9)","v":"000000000"}]
[{"$f":"DEC2BIN(W6_limit!A15, 9)","v":"000011110"},{"$f":"DEC2BIN(W6_limit!B15, 9)","v":"1111101110"},{"$f":"DEC2BIN(W6_limit!C15, 9)","v":"1101101011"},{"$f":"DEC2BIN(W6_limit!D15, 9)","v":"000010100"},{"$f":"DEC2BIN(W6_limit!E15, 9)","v":"1111001111"},{"$f":"DEC2BIN(W6_limit!F15, 9)","v":"000010101"},{"$f":"DEC2BIN(W6_limit!G15, 9)","v":"1111101111"},{"$f":"DEC2BIN(W6_limit!H15, 9)","v":"1110011001"},{"$f":"DEC2BIN(W6_limit!I15, 9)","v":"000110101"},{"$f":"DEC2BIN(W6_limit!J15, 9)","v":"1111100001"},{"$f":"DEC2BIN(W6_limit!K15, 9)","v":"000000000"},{"$f":"DEC2BIN(W6_limit!L15, 9)","v":"000000000"},{"$f":"DEC2BIN(W6_limit!M15, 9)","v":"000000000"},{"$f":"DEC2BIN(W6_limit!N15, 9)","v":"000000000"},{"$f":"DEC2BIN(W6_limit!O15, 9)","v":"000000000"},{"$f":"DEC2BIN(W6_limit!P15, 9)","v":"000000000"},{"$f":"DEC2BIN(W6_limit!Q15, 9)","v":"000000000"},{"$f":"DEC2BIN(W6_limit!R15, 9)","v":"000000000"},{"$f":"DEC2BIN(W6_limit!S15, 9)","v":"000000000"},{"$f":"DEC2BIN(W6_limit!T15, 9)","v":"000000000"},{"$f":"DEC2BIN(W6_limit!U15, 9)","v":"000000000"},{"$f":"DEC2BIN(W6_limit!V15, 9)","v":"000000000"},{"$f":"DEC2BIN(W6_limit!W15, 9)","v":"000000000"},{"$f":"DEC2BIN(W6_limit!X15, 9)","v":"000000000"},{"$f":"DEC2BIN(W6_limit!Y15, 9)","v":"000000000"},{"$f":"DEC2BIN(W6_limit!Z15, 9)","v":"000000000"},{"$f":"DEC2BIN(W6_limit!AA15, 9)","v":"000000000"},{"$f":"DEC2BIN(W6_limit!AB15, 9)","v":"000000000"},{"$f":"DEC2BIN(W6_limit!AC15, 9)","v":"000000000"},{"$f":"DEC2BIN(W6_limit!AD15, 9)","v":"000000000"},{"$f":"DEC2BIN(W6_limit!AE15, 9)","v":"000000000"},{"$f":"DEC2BIN(W6_limit!AF15, 9)","v":"000000000"},{"$f":"DEC2BIN(W6_limit!AG15, 9)","v":"000000000"},{"$f":"DEC2BIN(W6_limit!AH15, 9)","v":"000000000"},{"$f":"DEC2BIN(W6_limit!AI15, 9)","v":"000000000"},{"$f":"DEC2BIN(W6_limit!AJ15, 9)","v":"000000000"},{"$f":"DEC2BIN(W6_limit!AK15, 9)","v":"000000000"},{"$f":"DEC2BIN(W6_limit!AL15, 9)","v":"000000000"},{"$f":"DEC2BIN(W6_limit!AM15, 9)","v":"000000000"},{"$f":"DEC2BIN(W6_limit!AN15, 9)","v":"000000000"},{"$f":"DEC2BIN(W6_limit!AO15, 9)","v":"000000000"},{"$f":"DEC2BIN(W6_limit!AP15, 9)","v":"000000000"},{"$f":"DEC2BIN(W6_limit!AQ15, 9)","v":"000000000"}]
[{"$f":"DEC2BIN(W6_limit!A16, 9)","v":"000011000"},{"$f":"DEC2BIN(W6_limit!B16, 9)","v":"1111010100"},{"$f":"DEC2BIN(W6_limit!C16, 9)","v":"000010111"},{"$f":"DEC2BIN(W6_limit!D16, 9)","v":"000101111"},{"$f":"DEC2BIN(W6_limit!E16, 9)","v":"000101000"},{"$f":"DEC2BIN(W6_limit!F16, 9)","v":"1111110010"},{"$f":"DEC2BIN(W6_limit!G16, 9)","v":"1111101110"},{"$f":"DEC2BIN(W6_limit!H16, 9)","v":"000001101"},{"$f":"DEC2BIN(W6_limit!I16, 9)","v":"000010001"},{"$f":"DEC2BIN(W6_limit!J16, 9)","v":"1111010110"},{"$f":"DEC2BIN(W6_limit!K16, 9)","v":"000000000"},{"$f":"DEC2BIN(W6_limit!L16, 9)","v":"000000000"},{"$f":"DEC2BIN(W6_limit!M16, 9)","v":"000000000"},{"$f":"DEC2BIN(W6_limit!N16, 9)","v":"000000000"},{"$f":"DEC2BIN(W6_limit!O16, 9)","v":"000000000"},{"$f":"DEC2BIN(W6_limit!P16, 9)","v":"000000000"},{"$f":"DEC2BIN(W6_limit!Q16, 9)","v":"000000000"},{"$f":"DEC2BIN(W6_limit!R16, 9)","v":"000000000"},{"$f":"DEC2BIN(W6_limit!S16, 9)","v":"000000000"},{"$f":"DEC2BIN(W6_limit!T16, 9)","v":"000000000"},{"$f":"DEC2BIN(W6_limit!U16, 9)","v":"000000000"},{"$f":"DEC2BIN(W6_limit!V16, 9)","v":"000000000"},{"$f":"DEC2BIN(W6_limit!W16, 9)","v":"000000000"},{"$f":"DEC2BIN(W6_limit!X16, 9)","v":"000000000"},{"$f":"DEC2BIN(W6_limit!Y16, 9)","v":"000000000"},{"$f":"DEC2BIN(W6_limit!Z16, 9)","v":"000000000"},{"$f":"DEC2BIN(W6_limit!AA16, 9)","v":"000000000"},{"$f":"DEC2BIN(W6_limit!AB16, 9)","v":"000000000"},{"$f":"DEC2BIN(W6_limit!AC16, 9)","v":"000000000"},{"$f":"DEC2BIN(W6_limit!AD16, 9)","v":"000000000"},{"$f":"DEC2BIN(W6_limit!AE16, 9)","v":"000000000"},{"$f":"DEC2BIN(W6_limit!AF16, 9)","v":"000000000"},{"$f":"DEC2BIN(W6_limit!AG16, 9)","v":"000000000"},{"$f":"DEC2BIN(W6_limit!AH16, 9)","v":"000000000"},{"$f":"DEC2BIN(W6_limit!AI16, 9)","v":"000000000"},{"$f":"DEC2BIN(W6_limit!AJ16, 9)","v":"000000000"},{"$f":"DEC2BIN(W6_limit!AK16, 9)","v":"000000000"},{"$f":"DEC2BIN(W6_limit!AL16, 9)","v":"000000000"},{"$f":"DEC2BIN(W6_limit!AM16, 9)","v":"000000000"},{"$f":"DEC2BIN(W6_limit!AN16, 9)","v":"000000000"},{"$f":"DEC2BIN(W6_limit!AO16, 9)","v":"000000000"},{"$f":"DEC2BIN(W6_limit!AP16, 9)","v":"000000000"},{"$f":"DEC2BIN(W6_limit!AQ16, 9)","v":"000000000"}]
[{"$f":"DEC2BIN(W6_limit!A17, 9)","v":"1111001101"},{"$f":"DEC2BIN(W6_limit!B17, 9)","v":"000101000"},{"$f":"DEC2BIN(W6_limit!C17, 9)","v":"000011001"},{"$f":"DEC2BIN(W6_limit!D17, 9)","v":"000000011"},{"$f":"DEC2BIN(W6_limit!E17, 9)","v":"1111000000"},{"$f":"DEC2BIN(W6_limit!F17, 9)","v":"000101101"},{"$f":"DEC2BIN(W6_limit!G17, 9)","v":"1100101010"},{"$f":"DEC2BIN(W6_limit!H17, 9)","v":"000110000"},{"$f":"DEC2BIN(W6_limit!I17, 9)","v":"1100101100"},{"$f":"DEC2BIN(W6_limit!J17, 9)","v":"1111101101"},{"$f":"DEC2BIN(W6_limit!K17, 9)","v":"000000000"},{"$f":"DEC2BIN(W6_limit!L17, 9)","v":"000000000"},{"$f":"DEC2BIN(W6_limit!M17, 9)","v":"000000000"},{"$f":"DEC2BIN(W6_limit!N17, 9)","v":"000000000"},{"$f":"DEC2BIN(W6_limit!O17, 9)","v":"000000000"},{"$f":"DEC2BIN(W6_limit!P17, 9)","v":"000000000"},{"$f":"DEC2BIN(W6_limit!Q17, 9)","v":"000000000"},{"$f":"DEC2BIN(W6_limit!R17, 9)","v":"000000000"},{"$f":"DEC2BIN(W6_limit!S17, 9)","v":"000000000"},{"$f":"DEC2BIN(W6_limit!T17, 9)","v":"000000000"},{"$f":"DEC2BIN(W6_limit!U17, 9)","v":"000000000"},{"$f":"DEC2BIN(W6_limit!V17, 9)","v":"000000000"},{"$f":"DEC2BIN(W6_limit!W17, 9)","v":"000000000"},{"$f":"DEC2BIN(W6_limit!X17, 9)","v":"000000000"},{"$f":"DEC2BIN(W6_limit!Y17, 9)","v":"000000000"},{"$f":"DEC2BIN(W6_limit!Z17, 9)","v":"000000000"},{"$f":"DEC2BIN(W6_limit!AA17, 9)","v":"000000000"},{"$f":"DEC2BIN(W6_limit!AB17, 9)","v":"000000000"},{"$f":"DEC2BIN(W6_limit!AC17, 9)","v":"000000000"},{"$f":"DEC2BIN(W6_limit!AD17, 9)","v":"000000000"},{"$f":"DEC2BIN(W6_limit!AE17, 9)","v":"000000000"},{"$f":"DEC2BIN(W6_limit!AF17, 9)","v":"000000000"},{"$f":"DEC2BIN(W6_limit!AG17, 9)","v":"000000000"},{"$f":"DEC2BIN(W6_limit!AH17, 9)","v":"000000000"},{"$f":"DEC2BIN(W6_limit!AI17, 9)","v":"000000000"},{"$f":"DEC2BIN(W6_limit!AJ17, 9)","v":"000000000"},{"$f":"DEC2BIN(W6_limit!AK17, 9)","v":"000000000"},{"$f":"DEC2BIN(W6_limit!AL17, 9)","v":"000000000"},{"$f":"DEC2BIN(W6_limit!AM17, 9)","v":"000000000"},{"$f":"DEC2BIN(W6_limit!AN17, 9)","v":"000000000"},{"$f":"DEC2BIN(W6_limit!AO17, 9)","v":"000000000"},{"$f":"DEC2BIN(W6_limit!AP17, 9)","v":"000000000"},{"$f":"DEC2BIN(W6_limit!AQ17, 9)","v":"000000000"}]
[{"$f":"DEC2BIN(W6_limit!A18, 9)","v":"000010100"},{"$f":"DEC2BIN(W6_limit!B18, 9)","v":"000011100"},{"$f":"DEC2BIN(W6_limit!C18, 9)","v":"1110111001"},{"$f":"DEC2BIN(W6_limit!D18, 9)","v":"1110111101"},{"$f":"DEC2BIN(W6_limit!E18, 9)","v":"1101111010"},{"$f":"DEC2BIN(W6_limit!F18, 9)","v":"1111101110"},{"$f":"DEC2BIN(W6_limit!G18, 9)","v":"1101100011"},{"$f":"DEC2BIN(W6_limit!H18, 9)","v":"1110010001"},{"$f":"DEC2BIN(W6_limit!I18, 9)","v":"1111110100"},{"$f":"DEC2BIN(W6_limit!J18, 9)","v":"000100001"},{"$f":"DEC2BIN(W6_limit!K18, 9)","v":"000000000"},{"$f":"DEC2BIN(W6_limit!L18, 9)","v":"000000000"},{"$f":"DEC2BIN(W6_limit!M18, 9)","v":"000000000"},{"$f":"DEC2BIN(W6_limit!N18, 9)","v":"000000000"},{"$f":"DEC2BIN(W6_limit!O18, 9)","v":"000000000"},{"$f":"DEC2BIN(W6_limit!P18, 9)","v":"000000000"},{"$f":"DEC2BIN(W6_limit!Q18, 9)","v":"000000000"},{"$f":"DEC2BIN(W6_limit!R18, 9)","v":"000000000"},{"$f":"DEC2BIN(W6_limit!S18, 9)","v":"000000000"},{"$f":"DEC2BIN(W6_limit!T18, 9)","v":"000000000"},{"$f":"DEC2BIN(W6_limit!U18, 9)","v":"000000000"},{"$f":"DEC2BIN(W6_limit!V18, 9)","v":"000000000"},{"$f":"DEC2BIN(W6_limit!W18, 9)","v":"000000000"},{"$f":"DEC2BIN(W6_limit!X18, 9)","v":"000000000"},{"$f":"DEC2BIN(W6_limit!Y18, 9)","v":"000000000"},{"$f":"DEC2BIN(W6_limit!Z18, 9)","v":"000000000"},{"$f":"DEC2BIN(W6_limit!AA18, 9)","v":"000000000"},{"$f":"DEC2BIN(W6_limit!AB18, 9)","v":"000000000"},{"$f":"DEC2BIN(W6_limit!AC18, 9)","v":"000000000"},{"$f":"DEC2BIN(W6_limit!AD18, 9)","v":"000000000"},{"$f":"DEC2BIN(W6_limit!AE18, 9)","v":"000000000"},{"$f":"DEC2BIN(W6_limit!AF18, 9)","v":"000000000"},{"$f":"DEC2BIN(W6_limit!AG18, 9)","v":"000000000"},{"$f":"DEC2BIN(W6_limit!AH18, 9)","v":"000000000"},{"$f":"DEC2BIN(W6_limit!AI18, 9)","v":"000000000"},{"$f":"DEC2BIN(W6_limit!AJ18, 9)","v":"000000000"},{"$f":"DEC2BIN(W6_limit!AK18, 9)","v":"000000000"},{"$f":"DEC2BIN(W6_limit!AL18, 9)","v":"000000000"},{"$f":"DEC2BIN(W6_limit!AM18, 9)","v":"000000000"},{"$f":"DEC2BIN(W6_limit!AN18, 9)","v":"000000000"},{"$f":"DEC2BIN(W6_limit!AO18, 9)","v":"000000000"},{"$f":"DEC2BIN(W6_limit!AP18, 9)","v":"000000000"},{"$f":"DEC2BIN(W6_limit!AQ18, 9)","v":"000000000"}]
[{"$f":"DEC2BIN(W6_limit!A19, 9)","v":"000001111"},{"$f":"DEC2BIN(W6_limit!B19, 9)","v":"1110111101"},{"$f":"DEC2BIN(W6_limit!C19, 9)","v":"1101010011"},{"$f":"DEC2BIN(W6_limit!D19, 9)","v":"1101111100"},{"$f":"DEC2BIN(W6_limit!E19, 9)","v":"1101110100"},{"$f":"DEC2BIN(W6_limit!F19, 9)","v":"1110100100"},{"$f":"DEC2BIN(W6_limit!G19, 9)","v":"000010100"},{"$f":"DEC2BIN(W6_limit!H19, 9)","v":"1110110101"},{"$f":"DEC2BIN(W6_limit!I19, 9)","v":"1110001101"},{"$f":"DEC2BIN(W6_limit!J19, 9)","v":"000010010"},{"$f":"DEC2BIN(W6_limit!K19, 9)","v":"000000000"},{"$f":"DEC2BIN(W6_limit!L19, 9)","v":"000000000"},{"$f":"DEC2BIN(W6_limit!M19, 9)","v":"000000000"},{"$f":"DEC2BIN(W6_limit!N19, 9)","v":"000000000"},{"$f":"DEC2BIN(W6_limit!O19, 9)","v":"000000000"},{"$f":"DEC2BIN(W6_limit!P19, 9)","v":"000000000"},{"$f":"DEC2BIN(W6_limit!Q19, 9)","v":"000000000"},{"$f":"DEC2BIN(W6_limit!R19, 9)","v":"000000000"},{"$f":"DEC2BIN(W6_limit!S19, 9)","v":"000000000"},{"$f":"DEC2BIN(W6_limit!T19, 9)","v":"000000000"},{"$f":"DEC2BIN(W6_limit!U19, 9)","v":"000000000"},{"$f":"DEC2BIN(W6_limit!V19, 9)","v":"000000000"},{"$f":"DEC2BIN(W6_limit!W19, 9)","v":"000000000"},{"$f":"DEC2BIN(W6_limit!X19, 9)","v":"000000000"},{"$f":"DEC2BIN(W6_limit!Y19, 9)","v":"000000000"},{"$f":"DEC2BIN(W6_limit!Z19, 9)","v":"000000000"},{"$f":"DEC2BIN(W6_limit!AA19, 9)","v":"000000000"},{"$f":"DEC2BIN(W6_limit!AB19, 9)","v":"000000000"},{"$f":"DEC2BIN(W6_limit!AC19, 9)","v":"000000000"},{"$f":"DEC2BIN(W6_limit!AD19, 9)","v":"000000000"},{"$f":"DEC2BIN(W6_limit!AE19, 9)","v":"000000000"},{"$f":"DEC2BIN(W6_limit!AF19, 9)","v":"000000000"},{"$f":"DEC2BIN(W6_limit!AG19, 9)","v":"000000000"},{"$f":"DEC2BIN(W6_limit!AH19, 9)","v":"000000000"},{"$f":"DEC2BIN(W6_limit!AI19, 9)","v":"000000000"},{"$f":"DEC2BIN(W6_limit!AJ19, 9)","v":"000000000"},{"$f":"DEC2BIN(W6_limit!AK19, 9)","v":"000000000"},{"$f":"DEC2BIN(W6_limit!AL19, 9)","v":"000000000"},{"$f":"DEC2BIN(W6_limit!AM19, 9)","v":"000000000"},{"$f":"DEC2BIN(W6_limit!AN19, 9)","v":"000000000"},{"$f":"DEC2BIN(W6_limit!AO19, 9)","v":"000000000"},{"$f":"DEC2BIN(W6_limit!AP19, 9)","v":"000000000"},{"$f":"DEC2BIN(W6_limit!AQ19, 9)","v":"000000000"}]
[{"$f":"DEC2BIN(W6_limit!A20, 9)","v":"001000101"},{"$f":"DEC2BIN(W6_limit!B20, 9)","v":"1111111110"},{"$f":"DEC2BIN(W6_limit!C20, 9)","v":"1101100000"},{"$f":"DEC2BIN(W6_limit!D20, 9)","v":"1101111101"},{"$f":"DEC2BIN(W6_limit!E20, 9)","v":"1111000011"},{"$f":"DEC2BIN(W6_limit!F20, 9)","v":"1101111000"},{"$f":"DEC2BIN(W6_limit!G20, 9)","v":"1110111101"},{"$f":"DEC2BIN(W6_limit!H20, 9)","v":"1111110011"},{"$f":"DEC2BIN(W6_limit!I20, 9)","v":"1110011110"},{"$f":"DEC2BIN(W6_limit!J20, 9)","v":"1111101000"},{"$f":"DEC2BIN(W6_limit!K20, 9)","v":"000000000"},{"$f":"DEC2BIN(W6_limit!L20, 9)","v":"000000000"},{"$f":"DEC2BIN(W6_limit!M20, 9)","v":"000000000"},{"$f":"DEC2BIN(W6_limit!N20, 9)","v":"000000000"},{"$f":"DEC2BIN(W6_limit!O20, 9)","v":"000000000"},{"$f":"DEC2BIN(W6_limit!P20, 9)","v":"000000000"},{"$f":"DEC2BIN(W6_limit!Q20, 9)","v":"000000000"},{"$f":"DEC2BIN(W6_limit!R20, 9)","v":"000000000"},{"$f":"DEC2BIN(W6_limit!S20, 9)","v":"000000000"},{"$f":"DEC2BIN(W6_limit!T20, 9)","v":"000000000"},{"$f":"DEC2BIN(W6_limit!U20, 9)","v":"000000000"},{"$f":"DEC2BIN(W6_limit!V20, 9)","v":"000000000"},{"$f":"DEC2BIN(W6_limit!W20, 9)","v":"000000000"},{"$f":"DEC2BIN(W6_limit!X20, 9)","v":"000000000"},{"$f":"DEC2BIN(W6_limit!Y20, 9)","v":"000000000"},{"$f":"DEC2BIN(W6_limit!Z20, 9)","v":"000000000"},{"$f":"DEC2BIN(W6_limit!AA20, 9)","v":"000000000"},{"$f":"DEC2BIN(W6_limit!AB20, 9)","v":"000000000"},{"$f":"DEC2BIN(W6_limit!AC20, 9)","v":"000000000"},{"$f":"DEC2BIN(W6_limit!AD20, 9)","v":"000000000"},{"$f":"DEC2BIN(W6_limit!AE20, 9)","v":"000000000"},{"$f":"DEC2BIN(W6_limit!AF20, 9)","v":"000000000"},{"$f":"DEC2BIN(W6_limit!AG20, 9)","v":"000000000"},{"$f":"DEC2BIN(W6_limit!AH20, 9)","v":"000000000"},{"$f":"DEC2BIN(W6_limit!AI20, 9)","v":"000000000"},{"$f":"DEC2BIN(W6_limit!AJ20, 9)","v":"000000000"},{"$f":"DEC2BIN(W6_limit!AK20, 9)","v":"000000000"},{"$f":"DEC2BIN(W6_limit!AL20, 9)","v":"000000000"},{"$f":"DEC2BIN(W6_limit!AM20, 9)","v":"000000000"},{"$f":"DEC2BIN(W6_limit!AN20, 9)","v":"000000000"},{"$f":"DEC2BIN(W6_limit!AO20, 9)","v":"000000000"},{"$f":"DEC2BIN(W6_limit!AP20, 9)","v":"000000000"},{"$f":"DEC2BIN(W6_limit!AQ20, 9)","v":"000000000"}]
[{"$f":"DEC2BIN(W6_limit!A21, 9)","v":"000011100"},{"$f":"DEC2BIN(W6_limit!B21, 9)","v":"1111010011"},{"$f":"DEC2BIN(W6_limit!C21, 9)","v":"1110100110"},{"$f":"DEC2BIN(W6_limit!D21, 9)","v":"000010101"},{"$f":"DEC2BIN(W6_limit!E21, 9)","v":"1111001101"},{"$f":"DEC2BIN(W6_limit!F21, 9)","v":"000100110"},{"$f":"DEC2BIN(W6_limit!G21, 9)","v":"1110011110"},{"$f":"DEC2BIN(W6_limit!H21, 9)","v":"1101000110"},{"$f":"DEC2BIN(W6_limit!I21, 9)","v":"1110100100"},{"$f":"DEC2BIN(W6_limit!J21, 9)","v":"1111010011"},{"$f":"DEC2BIN(W6_limit!K21, 9)","v":"000000000"},{"$f":"DEC2BIN(W6_limit!L21, 9)","v":"000000000"},{"$f":"DEC2BIN(W6_limit!M21, 9)","v":"000000000"},{"$f":"DEC2BIN(W6_limit!N21, 9)","v":"000000000"},{"$f":"DEC2BIN(W6_limit!O21, 9)","v":"000000000"},{"$f":"DEC2BIN(W6_limit!P21, 9)","v":"000000000"},{"$f":"DEC2BIN(W6_limit!Q21, 9)","v":"000000000"},{"$f":"DEC2BIN(W6_limit!R21, 9)","v":"000000000"},{"$f":"DEC2BIN(W6_limit!S21, 9)","v":"000000000"},{"$f":"DEC2BIN(W6_limit!T21, 9)","v":"000000000"},{"$f":"DEC2BIN(W6_limit!U21, 9)","v":"000000000"},{"$f":"DEC2BIN(W6_limit!V21, 9)","v":"000000000"},{"$f":"DEC2BIN(W6_limit!W21, 9)","v":"000000000"},{"$f":"DEC2BIN(W6_limit!X21, 9)","v":"000000000"},{"$f":"DEC2BIN(W6_limit!Y21, 9)","v":"000000000"},{"$f":"DEC2BIN(W6_limit!Z21, 9)","v":"000000000"},{"$f":"DEC2BIN(W6_limit!AA21, 9)","v":"000000000"},{"$f":"DEC2BIN(W6_limit!AB21, 9)","v":"000000000"},{"$f":"DEC2BIN(W6_limit!AC21, 9)","v":"000000000"},{"$f":"DEC2BIN(W6_limit!AD21, 9)","v":"000000000"},{"$f":"DEC2BIN(W6_limit!AE21, 9)","v":"000000000"},{"$f":"DEC2BIN(W6_limit!AF21, 9)","v":"000000000"},{"$f":"DEC2BIN(W6_limit!AG21, 9)","v":"000000000"},{"$f":"DEC2BIN(W6_limit!AH21, 9)","v":"000000000"},{"$f":"DEC2BIN(W6_limit!AI21, 9)","v":"000000000"},{"$f":"DEC2BIN(W6_limit!AJ21, 9)","v":"000000000"},{"$f":"DEC2BIN(W6_limit!AK21, 9)","v":"000000000"},{"$f":"DEC2BIN(W6_limit!AL21, 9)","v":"000000000"},{"$f":"DEC2BIN(W6_limit!AM21, 9)","v":"000000000"},{"$f":"DEC2BIN(W6_limit!AN21, 9)","v":"000000000"},{"$f":"DEC2BIN(W6_limit!AO21, 9)","v":"000000000"},{"$f":"DEC2BIN(W6_limit!AP21, 9)","v":"000000000"},{"$f":"DEC2BIN(W6_limit!AQ21, 9)","v":"000000000"}]
[{"$f":"DEC2BIN(W6_limit!A22, 9)","v":"1111111111"},{"$f":"DEC2BIN(W6_limit!B22, 9)","v":"1111111010"},{"$f":"DEC2BIN(W6_limit!C22, 9)","v":"000000110"},{"$f":"DEC2BIN(W6_limit!D22, 9)","v":"1101101010"},{"$f":"DEC2BIN(W6_limit!E22, 9)","v":"1111001100"},{"$f":"DEC2BIN(W6_limit!F22, 9)","v":"1101011100"},{"$f":"DEC2BIN(W6_limit!G22, 9)","v":"1111110101"},{"$f":"DEC2BIN(W6_limit!H22, 9)","v":"1110000000"},{"$f":"DEC2BIN(W6_limit!I22, 9)","v":"1110011001"},{"$f":"DEC2BIN(W6_limit!J22, 9)","v":"1110101100"},{"$f":"DEC2BIN(W6_limit!K22, 9)","v":"000000000"},{"$f":"DEC2BIN(W6_limit!L22, 9)","v":"000000000"},{"$f":"DEC2BIN(W6_limit!M22, 9)","v":"000000000"},{"$f":"DEC2BIN(W6_limit!N22, 9)","v":"000000000"},{"$f":"DEC2BIN(W6_limit!O22, 9)","v":"000000000"},{"$f":"DEC2BIN(W6_limit!P22, 9)","v":"000000000"},{"$f":"DEC2BIN(W6_limit!Q22, 9)","v":"000000000"},{"$f":"DEC2BIN(W6_limit!R22, 9)","v":"000000000"},{"$f":"DEC2BIN(W6_limit!S22, 9)","v":"000000000"},{"$f":"DEC2BIN(W6_limit!T22, 9)","v":"000000000"},{"$f":"DEC2BIN(W6_limit!U22, 9)","v":"000000000"},{"$f":"DEC2BIN(W6_limit!V22, 9)","v":"000000000"},{"$f":"DEC2BIN(W6_limit!W22, 9)","v":"000000000"},{"$f":"DEC2BIN(W6_limit!X22, 9)","v":"000000000"},{"$f":"DEC2BIN(W6_limit!Y22, 9)","v":"000000000"},{"$f":"DEC2BIN(W6_limit!Z22, 9)","v":"000000000"},{"$f":"DEC2BIN(W6_limit!AA22, 9)","v":"000000000"},{"$f":"DEC2BIN(W6_limit!AB22, 9)","v":"000000000"},{"$f":"DEC2BIN(W6_limit!AC22, 9)","v":"000000000"},{"$f":"DEC2BIN(W6_limit!AD22, 9)","v":"000000000"},{"$f":"DEC2BIN(W6_limit!AE22, 9)","v":"000000000"},{"$f":"DEC2BIN(W6_limit!AF22, 9)","v":"000000000"},{"$f":"DEC2BIN(W6_limit!AG22, 9)","v":"000000000"},{"$f":"DEC2BIN(W6_limit!AH22, 9)","v":"000000000"},{"$f":"DEC2BIN(W6_limit!AI22, 9)","v":"000000000"},{"$f":"DEC2BIN(W6_limit!AJ22, 9)","v":"000000000"},{"$f":"DEC2BIN(W6_limit!AK22, 9)","v":"000000000"},{"$f":"DEC2BIN(W6_limit!AL22, 9)","v":"000000000"},{"$f":"DEC2BIN(W6_limit!AM22, 9)","v":"000000000"},{"$f":"DEC2BIN(W6_limit!AN22, 9)","v":"000000000"},{"$f":"DEC2BIN(W6_limit!AO22, 9)","v":"000000000"},{"$f":"DEC2BIN(W6_limit!AP22, 9)","v":"000000000"},{"$f":"DEC2BIN(W6_limit!AQ22, 9)","v":"000000000"}]
[{"$f":"DEC2BIN(W6_limit!A23, 9)","v":"000001011"},{"$f":"DEC2BIN(W6_limit!B23, 9)","v":"1111001001"},{"$f":"DEC2BIN(W6_limit!C23, 9)","v":"1101001001"},{"$f":"DEC2BIN(W6_limit!D23, 9)","v":"1111101011"},{"$f":"DEC2BIN(W6_limit!E23, 9)","v":"1110111011"},{"$f":"DEC2BIN(W6_limit!F23, 9)","v":"1110111100"},{"$f":"DEC2BIN(W6_limit!G23, 9)","v":"000100011"},{"$f":"DEC2BIN(W6_limit!H23, 9)","v":"000010110"},{"$f":"DEC2BIN(W6_limit!I23, 9)","v":"1111101101"},{"$f":"DEC2BIN(W6_limit!J23, 9)","v":"1111100100"},{"$f":"DEC2BIN(W6_limit!K23, 9)","v":"000000000"},{"$f":"DEC2BIN(W6_limit!L23, 9)","v":"000000000"},{"$f":"DEC2BIN(W6_limit!M23, 9)","v":"000000000"},{"$f":"DEC2BIN(W6_limit!N23, 9)","v":"000000000"},{"$f":"DEC2BIN(W6_limit!O23, 9)","v":"000000000"},{"$f":"DEC2BIN(W6_limit!P23, 9)","v":"000000000"},{"$f":"DEC2BIN(W6_limit!Q23, 9)","v":"000000000"},{"$f":"DEC2BIN(W6_limit!R23, 9)","v":"000000000"},{"$f":"DEC2BIN(W6_limit!S23, 9)","v":"000000000"},{"$f":"DEC2BIN(W6_limit!T23, 9)","v":"000000000"},{"$f":"DEC2BIN(W6_limit!U23, 9)","v":"000000000"},{"$f":"DEC2BIN(W6_limit!V23, 9)","v":"000000000"},{"$f":"DEC2BIN(W6_limit!W23, 9)","v":"000000000"},{"$f":"DEC2BIN(W6_limit!X23, 9)","v":"000000000"},{"$f":"DEC2BIN(W6_limit!Y23, 9)","v":"000000000"},{"$f":"DEC2BIN(W6_limit!Z23, 9)","v":"000000000"},{"$f":"DEC2BIN(W6_limit!AA23, 9)","v":"000000000"},{"$f":"DEC2BIN(W6_limit!AB23, 9)","v":"000000000"},{"$f":"DEC2BIN(W6_limit!AC23, 9)","v":"000000000"},{"$f":"DEC2BIN(W6_limit!AD23, 9)","v":"000000000"},{"$f":"DEC2BIN(W6_limit!AE23, 9)","v":"000000000"},{"$f":"DEC2BIN(W6_limit!AF23, 9)","v":"000000000"},{"$f":"DEC2BIN(W6_limit!AG23, 9)","v":"000000000"},{"$f":"DEC2BIN(W6_limit!AH23, 9)","v":"000000000"},{"$f":"DEC2BIN(W6_limit!AI23, 9)","v":"000000000"},{"$f":"DEC2BIN(W6_limit!AJ23, 9)","v":"000000000"},{"$f":"DEC2BIN(W6_limit!AK23, 9)","v":"000000000"},{"$f":"DEC2BIN(W6_limit!AL23, 9)","v":"000000000"},{"$f":"DEC2BIN(W6_limit!AM23, 9)","v":"000000000"},{"$f":"DEC2BIN(W6_limit!AN23, 9)","v":"000000000"},{"$f":"DEC2BIN(W6_limit!AO23, 9)","v":"000000000"},{"$f":"DEC2BIN(W6_limit!AP23, 9)","v":"000000000"},{"$f":"DEC2BIN(W6_limit!AQ23, 9)","v":"000000000"}]
[{"$f":"DEC2BIN(W6_limit!A24, 9)","v":"1111010001"},{"$f":"DEC2BIN(W6_limit!B24, 9)","v":"1110010110"},{"$f":"DEC2BIN(W6_limit!C24, 9)","v":"1101010000"},{"$f":"DEC2BIN(W6_limit!D24, 9)","v":"1111101110"},{"$f":"DEC2BIN(W6_limit!E24, 9)","v":"1100111001"},{"$f":"DEC2BIN(W6_limit!F24, 9)","v":"1111101000"},{"$f":"DEC2BIN(W6_limit!G24, 9)","v":"1100110000"},{"$f":"DEC2BIN(W6_limit!H24, 9)","v":"1101100111"},{"$f":"DEC2BIN(W6_limit!I24, 9)","v":"1101111101"},{"$f":"DEC2BIN(W6_limit!J24, 9)","v":"1111101100"},{"$f":"DEC2BIN(W6_limit!K24, 9)","v":"000000000"},{"$f":"DEC2BIN(W6_limit!L24, 9)","v":"000000000"},{"$f":"DEC2BIN(W6_limit!M24, 9)","v":"000000000"},{"$f":"DEC2BIN(W6_limit!N24, 9)","v":"000000000"},{"$f":"DEC2BIN(W6_limit!O24, 9)","v":"000000000"},{"$f":"DEC2BIN(W6_limit!P24, 9)","v":"000000000"},{"$f":"DEC2BIN(W6_limit!Q24, 9)","v":"000000000"},{"$f":"DEC2BIN(W6_limit!R24, 9)","v":"000000000"},{"$f":"DEC2BIN(W6_limit!S24, 9)","v":"000000000"},{"$f":"DEC2BIN(W6_limit!T24, 9)","v":"000000000"},{"$f":"DEC2BIN(W6_limit!U24, 9)","v":"000000000"},{"$f":"DEC2BIN(W6_limit!V24, 9)","v":"000000000"},{"$f":"DEC2BIN(W6_limit!W24, 9)","v":"000000000"},{"$f":"DEC2BIN(W6_limit!X24, 9)","v":"000000000"},{"$f":"DEC2BIN(W6_limit!Y24, 9)","v":"000000000"},{"$f":"DEC2BIN(W6_limit!Z24, 9)","v":"000000000"},{"$f":"DEC2BIN(W6_limit!AA24, 9)","v":"000000000"},{"$f":"DEC2BIN(W6_limit!AB24, 9)","v":"000000000"},{"$f":"DEC2BIN(W6_limit!AC24, 9)","v":"000000000"},{"$f":"DEC2BIN(W6_limit!AD24, 9)","v":"000000000"},{"$f":"DEC2BIN(W6_limit!AE24, 9)","v":"000000000"},{"$f":"DEC2BIN(W6_limit!AF24, 9)","v":"000000000"},{"$f":"DEC2BIN(W6_limit!AG24, 9)","v":"000000000"},{"$f":"DEC2BIN(W6_limit!AH24, 9)","v":"000000000"},{"$f":"DEC2BIN(W6_limit!AI24, 9)","v":"000000000"},{"$f":"DEC2BIN(W6_limit!AJ24, 9)","v":"000000000"},{"$f":"DEC2BIN(W6_limit!AK24, 9)","v":"000000000"},{"$f":"DEC2BIN(W6_limit!AL24, 9)","v":"000000000"},{"$f":"DEC2BIN(W6_limit!AM24, 9)","v":"000000000"},{"$f":"DEC2BIN(W6_limit!AN24, 9)","v":"000000000"},{"$f":"DEC2BIN(W6_limit!AO24, 9)","v":"000000000"},{"$f":"DEC2BIN(W6_limit!AP24, 9)","v":"000000000"},{"$f":"DEC2BIN(W6_limit!AQ24, 9)","v":"000000000"}]
[{"$f":"DEC2BIN(W6_limit!A25, 9)","v":"000001000"},{"$f":"DEC2BIN(W6_limit!B25, 9)","v":"1111110000"},{"$f":"DEC2BIN(W6_limit!C25, 9)","v":"1101110001"},{"$f":"DEC2BIN(W6_limit!D25, 9)","v":"001011011"},{"$f":"DEC2BIN(W6_limit!E25, 9)","v":"1110100001"},{"$f":"DEC2BIN(W6_limit!F25, 9)","v":"1101101111"},{"$f":"DEC2BIN(W6_limit!G25, 9)","v":"1111011010"},{"$f":"DEC2BIN(W6_limit!H25, 9)","v":"1111101001"},{"$f":"DEC2BIN(W6_limit!I25, 9)","v":"1110110011"},{"$f":"DEC2BIN(W6_limit!J25, 9)","v":"1111100100"},{"$f":"DEC2BIN(W6_limit!K25, 9)","v":"000000000"},{"$f":"DEC2BIN(W6_limit!L25, 9)","v":"000000000"},{"$f":"DEC2BIN(W6_limit!M25, 9)","v":"000000000"},{"$f":"DEC2BIN(W6_limit!N25, 9)","v":"000000000"},{"$f":"DEC2BIN(W6_limit!O25, 9)","v":"000000000"},{"$f":"DEC2BIN(W6_limit!P25, 9)","v":"000000000"},{"$f":"DEC2BIN(W6_limit!Q25, 9)","v":"000000000"},{"$f":"DEC2BIN(W6_limit!R25, 9)","v":"000000000"},{"$f":"DEC2BIN(W6_limit!S25, 9)","v":"000000000"},{"$f":"DEC2BIN(W6_limit!T25, 9)","v":"000000000"},{"$f":"DEC2BIN(W6_limit!U25, 9)","v":"000000000"},{"$f":"DEC2BIN(W6_limit!V25, 9)","v":"000000000"},{"$f":"DEC2BIN(W6_limit!W25, 9)","v":"000000000"},{"$f":"DEC2BIN(W6_limit!X25, 9)","v":"000000000"},{"$f":"DEC2BIN(W6_limit!Y25, 9)","v":"000000000"},{"$f":"DEC2BIN(W6_limit!Z25, 9)","v":"000000000"},{"$f":"DEC2BIN(W6_limit!AA25, 9)","v":"000000000"},{"$f":"DEC2BIN(W6_limit!AB25, 9)","v":"000000000"},{"$f":"DEC2BIN(W6_limit!AC25, 9)","v":"000000000"},{"$f":"DEC2BIN(W6_limit!AD25, 9)","v":"000000000"},{"$f":"DEC2BIN(W6_limit!AE25, 9)","v":"000000000"},{"$f":"DEC2BIN(W6_limit!AF25, 9)","v":"000000000"},{"$f":"DEC2BIN(W6_limit!AG25, 9)","v":"000000000"},{"$f":"DEC2BIN(W6_limit!AH25, 9)","v":"000000000"},{"$f":"DEC2BIN(W6_limit!AI25, 9)","v":"000000000"},{"$f":"DEC2BIN(W6_limit!AJ25, 9)","v":"000000000"},{"$f":"DEC2BIN(W6_limit!AK25, 9)","v":"000000000"},{"$f":"DEC2BIN(W6_limit!AL25, 9)","v":"000000000"},{"$f":"DEC2BIN(W6_limit!AM25, 9)","v":"000000000"},{"$f":"DEC2BIN(W6_limit!AN25, 9)","v":"000000000"},{"$f":"DEC2BIN(W6_limit!AO25, 9)","v":"000000000"},{"$f":"DEC2BIN(W6_limit!AP25, 9)","v":"000000000"},{"$f":"DEC2BIN(W6_limit!AQ25, 9)","v":"000000000"}]
[{"$f":"DEC2BIN(W6_limit!A26, 9)","v":"000100111"},{"$f":"DEC2BIN(W6_limit!B26, 9)","v":"1111101011"},{"$f":"DEC2BIN(W6_limit!C26, 9)","v":"1101010100"},{"$f":"DEC2BIN(W6_limit!D26, 9)","v":"1110010101"},{"$f":"DEC2BIN(W6_limit!E26, 9)","v":"1111001110"},{"$f":"DEC2BIN(W6_limit!F26, 9)","v":"1110001111"},{"$f":"DEC2BIN(W6_limit!G26, 9)","v":"1111001110"},{"$f":"DEC2BIN(W6_limit!H26, 9)","v":"1111100001"},{"$f":"DEC2BIN(W6_limit!I26, 9)","v":"000101111"},{"$f":"DEC2BIN(W6_limit!J26, 9)","v":"1111101111"},{"$f":"DEC2BIN(W6_limit!K26, 9)","v":"000000000"},{"$f":"DEC2BIN(W6_limit!L26, 9)","v":"000000000"},{"$f":"DEC2BIN(W6_limit!M26, 9)","v":"000000000"},{"$f":"DEC2BIN(W6_limit!N26, 9)","v":"000000000"},{"$f":"DEC2BIN(W6_limit!O26, 9)","v":"000000000"},{"$f":"DEC2BIN(W6_limit!P26, 9)","v":"000000000"},{"$f":"DEC2BIN(W6_limit!Q26, 9)","v":"000000000"},{"$f":"DEC2BIN(W6_limit!R26, 9)","v":"000000000"},{"$f":"DEC2BIN(W6_limit!S26, 9)","v":"000000000"},{"$f":"DEC2BIN(W6_limit!T26, 9)","v":"000000000"},{"$f":"DEC2BIN(W6_limit!U26, 9)","v":"000000000"},{"$f":"DEC2BIN(W6_limit!V26, 9)","v":"000000000"},{"$f":"DEC2BIN(W6_limit!W26, 9)","v":"000000000"},{"$f":"DEC2BIN(W6_limit!X26, 9)","v":"000000000"},{"$f":"DEC2BIN(W6_limit!Y26, 9)","v":"000000000"},{"$f":"DEC2BIN(W6_limit!Z26, 9)","v":"000000000"},{"$f":"DEC2BIN(W6_limit!AA26, 9)","v":"000000000"},{"$f":"DEC2BIN(W6_limit!AB26, 9)","v":"000000000"},{"$f":"DEC2BIN(W6_limit!AC26, 9)","v":"000000000"},{"$f":"DEC2BIN(W6_limit!AD26, 9)","v":"000000000"},{"$f":"DEC2BIN(W6_limit!AE26, 9)","v":"000000000"},{"$f":"DEC2BIN(W6_limit!AF26, 9)","v":"000000000"},{"$f":"DEC2BIN(W6_limit!AG26, 9)","v":"000000000"},{"$f":"DEC2BIN(W6_limit!AH26, 9)","v":"000000000"},{"$f":"DEC2BIN(W6_limit!AI26, 9)","v":"000000000"},{"$f":"DEC2BIN(W6_limit!AJ26, 9)","v":"000000000"},{"$f":"DEC2BIN(W6_limit!AK26, 9)","v":"000000000"},{"$f":"DEC2BIN(W6_limit!AL26, 9)","v":"000000000"},{"$f":"DEC2BIN(W6_limit!AM26, 9)","v":"000000000"},{"$f":"DEC2BIN(W6_limit!AN26, 9)","v":"000000000"},{"$f":"DEC2BIN(W6_limit!AO26, 9)","v":"000000000"},{"$f":"DEC2BIN(W6_limit!AP26, 9)","v":"000000000"},{"$f":"DEC2BIN(W6_limit!AQ26, 9)","v":"000000000"}]
[{"$f":"DEC2BIN(W6_limit!A27, 9)","v":"000010010"},{"$f":"DEC2BIN(W6_limit!B27, 9)","v":"1111011101"},{"$f":"DEC2BIN(W6_limit!C27, 9)","v":"1100111010"},{"$f":"DEC2BIN(W6_limit!D27, 9)","v":"1100110101"},{"$f":"DEC2BIN(W6_limit!E27, 9)","v":"000010000"},{"$f":"DEC2BIN(W6_limit!F27, 9)","v":"000101000"},{"$f":"DEC2BIN(W6_limit!G27, 9)","v":"000000111"},{"$f":"DEC2BIN(W6_limit!H27, 9)","v":"1110101100"},{"$f":"DEC2BIN(W6_limit!I27, 9)","v":"000101101"},{"$f":"DEC2BIN(W6_limit!J27, 9)","v":"1111100000"},{"$f":"DEC2BIN(W6_limit!K27, 9)","v":"000000000"},{"$f":"DEC2BIN(W6_limit!L27, 9)","v":"000000000"},{"$f":"DEC2BIN(W6_limit!M27, 9)","v":"000000000"},{"$f":"DEC2BIN(W6_limit!N27, 9)","v":"000000000"},{"$f":"DEC2BIN(W6_limit!O27, 9)","v":"000000000"},{"$f":"DEC2BIN(W6_limit!P27, 9)","v":"000000000"},{"$f":"DEC2BIN(W6_limit!Q27, 9)","v":"000000000"},{"$f":"DEC2BIN(W6_limit!R27, 9)","v":"000000000"},{"$f":"DEC2BIN(W6_limit!S27, 9)","v":"000000000"},{"$f":"DEC2BIN(W6_limit!T27, 9)","v":"000000000"},{"$f":"DEC2BIN(W6_limit!U27, 9)","v":"000000000"},{"$f":"DEC2BIN(W6_limit!V27, 9)","v":"000000000"},{"$f":"DEC2BIN(W6_limit!W27, 9)","v":"000000000"},{"$f":"DEC2BIN(W6_limit!X27, 9)","v":"000000000"},{"$f":"DEC2BIN(W6_limit!Y27, 9)","v":"000000000"},{"$f":"DEC2BIN(W6_limit!Z27, 9)","v":"000000000"},{"$f":"DEC2BIN(W6_limit!AA27, 9)","v":"000000000"},{"$f":"DEC2BIN(W6_limit!AB27, 9)","v":"000000000"},{"$f":"DEC2BIN(W6_limit!AC27, 9)","v":"000000000"},{"$f":"DEC2BIN(W6_limit!AD27, 9)","v":"000000000"},{"$f":"DEC2BIN(W6_limit!AE27, 9)","v":"000000000"},{"$f":"DEC2BIN(W6_limit!AF27, 9)","v":"000000000"},{"$f":"DEC2BIN(W6_limit!AG27, 9)","v":"000000000"},{"$f":"DEC2BIN(W6_limit!AH27, 9)","v":"000000000"},{"$f":"DEC2BIN(W6_limit!AI27, 9)","v":"000000000"},{"$f":"DEC2BIN(W6_limit!AJ27, 9)","v":"000000000"},{"$f":"DEC2BIN(W6_limit!AK27, 9)","v":"000000000"},{"$f":"DEC2BIN(W6_limit!AL27, 9)","v":"000000000"},{"$f":"DEC2BIN(W6_limit!AM27, 9)","v":"000000000"},{"$f":"DEC2BIN(W6_limit!AN27, 9)","v":"000000000"},{"$f":"DEC2BIN(W6_limit!AO27, 9)","v":"000000000"},{"$f":"DEC2BIN(W6_limit!AP27, 9)","v":"000000000"},{"$f":"DEC2BIN(W6_limit!AQ27, 9)","v":"000000000"}]
[{"$f":"DEC2BIN(W6_limit!A28, 9)","v":"1111000001"},{"$f":"DEC2BIN(W6_limit!B28, 9)","v":"000110111"},{"$f":"DEC2BIN(W6_limit!C28, 9)","v":"001001011"},{"$f":"DEC2BIN(W6_limit!D28, 9)","v":"1111011000"},{"$f":"DEC2BIN(W6_limit!E28, 9)","v":"000001000"},{"$f":"DEC2BIN(W6_limit!F28, 9)","v":"1100111111"},{"$f":"DEC2BIN(W6_limit!G28, 9)","v":"1111000110"},{"$f":"DEC2BIN(W6_limit!H28, 9)","v":"1110001111"},{"$f":"DEC2BIN(W6_limit!I28, 9)","v":"1101001110"},{"$f":"DEC2BIN(W6_limit!J28, 9)","v":"1110110100"},{"$f":"DEC2BIN(W6_limit!K28, 9)","v":"000000000"},{"$f":"DEC2BIN(W6_limit!L28, 9)","v":"000000000"},{"$f":"DEC2BIN(W6_limit!M28, 9)","v":"000000000"},{"$f":"DEC2BIN(W6_limit!N28, 9)","v":"000000000"},{"$f":"DEC2BIN(W6_limit!O28, 9)","v":"000000000"},{"$f":"DEC2BIN(W6_limit!P28, 9)","v":"000000000"},{"$f":"DEC2BIN(W6_limit!Q28, 9)","v":"000000000"},{"$f":"DEC2BIN(W6_limit!R28, 9)","v":"000000000"},{"$f":"DEC2BIN(W6_limit!S28, 9)","v":"000000000"},{"$f":"DEC2BIN(W6_limit!T28, 9)","v":"000000000"},{"$f":"DEC2BIN(W6_limit!U28, 9)","v":"000000000"},{"$f":"DEC2BIN(W6_limit!V28, 9)","v":"000000000"},{"$f":"DEC2BIN(W6_limit!W28, 9)","v":"000000000"},{"$f":"DEC2BIN(W6_limit!X28, 9)","v":"000000000"},{"$f":"DEC2BIN(W6_limit!Y28, 9)","v":"000000000"},{"$f":"DEC2BIN(W6_limit!Z28, 9)","v":"000000000"},{"$f":"DEC2BIN(W6_limit!AA28, 9)","v":"000000000"},{"$f":"DEC2BIN(W6_limit!AB28, 9)","v":"000000000"},{"$f":"DEC2BIN(W6_limit!AC28, 9)","v":"000000000"},{"$f":"DEC2BIN(W6_limit!AD28, 9)","v":"000000000"},{"$f":"DEC2BIN(W6_limit!AE28, 9)","v":"000000000"},{"$f":"DEC2BIN(W6_limit!AF28, 9)","v":"000000000"},{"$f":"DEC2BIN(W6_limit!AG28, 9)","v":"000000000"},{"$f":"DEC2BIN(W6_limit!AH28, 9)","v":"000000000"},{"$f":"DEC2BIN(W6_limit!AI28, 9)","v":"000000000"},{"$f":"DEC2BIN(W6_limit!AJ28, 9)","v":"000000000"},{"$f":"DEC2BIN(W6_limit!AK28, 9)","v":"000000000"},{"$f":"DEC2BIN(W6_limit!AL28, 9)","v":"000000000"},{"$f":"DEC2BIN(W6_limit!AM28, 9)","v":"000000000"},{"$f":"DEC2BIN(W6_limit!AN28, 9)","v":"000000000"},{"$f":"DEC2BIN(W6_limit!AO28, 9)","v":"000000000"},{"$f":"DEC2BIN(W6_limit!AP28, 9)","v":"000000000"},{"$f":"DEC2BIN(W6_limit!AQ28, 9)","v":"000000000"}]
[{"$f":"DEC2BIN(W6_limit!A29, 9)","v":"000010111"},{"$f":"DEC2BIN(W6_limit!B29, 9)","v":"1111110111"},{"$f":"DEC2BIN(W6_limit!C29, 9)","v":"000010011"},{"$f":"DEC2BIN(W6_limit!D29, 9)","v":"1111011011"},{"$f":"DEC2BIN(W6_limit!E29, 9)","v":"1111100101"},{"$f":"DEC2BIN(W6_limit!F29, 9)","v":"000100111"},{"$f":"DEC2BIN(W6_limit!G29, 9)","v":"000011110"},{"$f":"DEC2BIN(W6_limit!H29, 9)","v":"1111110100"},{"$f":"DEC2BIN(W6_limit!I29, 9)","v":"000000011"},{"$f":"DEC2BIN(W6_limit!J29, 9)","v":"1111100101"},{"$f":"DEC2BIN(W6_limit!K29, 9)","v":"000000000"},{"$f":"DEC2BIN(W6_limit!L29, 9)","v":"000000000"},{"$f":"DEC2BIN(W6_limit!M29, 9)","v":"000000000"},{"$f":"DEC2BIN(W6_limit!N29, 9)","v":"000000000"},{"$f":"DEC2BIN(W6_limit!O29, 9)","v":"000000000"},{"$f":"DEC2BIN(W6_limit!P29, 9)","v":"000000000"},{"$f":"DEC2BIN(W6_limit!Q29, 9)","v":"000000000"},{"$f":"DEC2BIN(W6_limit!R29, 9)","v":"000000000"},{"$f":"DEC2BIN(W6_limit!S29, 9)","v":"000000000"},{"$f":"DEC2BIN(W6_limit!T29, 9)","v":"000000000"},{"$f":"DEC2BIN(W6_limit!U29, 9)","v":"000000000"},{"$f":"DEC2BIN(W6_limit!V29, 9)","v":"000000000"},{"$f":"DEC2BIN(W6_limit!W29, 9)","v":"000000000"},{"$f":"DEC2BIN(W6_limit!X29, 9)","v":"000000000"},{"$f":"DEC2BIN(W6_limit!Y29, 9)","v":"000000000"},{"$f":"DEC2BIN(W6_limit!Z29, 9)","v":"000000000"},{"$f":"DEC2BIN(W6_limit!AA29, 9)","v":"000000000"},{"$f":"DEC2BIN(W6_limit!AB29, 9)","v":"000000000"},{"$f":"DEC2BIN(W6_limit!AC29, 9)","v":"000000000"},{"$f":"DEC2BIN(W6_limit!AD29, 9)","v":"000000000"},{"$f":"DEC2BIN(W6_limit!AE29, 9)","v":"000000000"},{"$f":"DEC2BIN(W6_limit!AF29, 9)","v":"000000000"},{"$f":"DEC2BIN(W6_limit!AG29, 9)","v":"000000000"},{"$f":"DEC2BIN(W6_limit!AH29, 9)","v":"000000000"},{"$f":"DEC2BIN(W6_limit!AI29, 9)","v":"000000000"},{"$f":"DEC2BIN(W6_limit!AJ29, 9)","v":"000000000"},{"$f":"DEC2BIN(W6_limit!AK29, 9)","v":"000000000"},{"$f":"DEC2BIN(W6_limit!AL29, 9)","v":"000000000"},{"$f":"DEC2BIN(W6_limit!AM29, 9)","v":"000000000"},{"$f":"DEC2BIN(W6_limit!AN29, 9)","v":"000000000"},{"$f":"DEC2BIN(W6_limit!AO29, 9)","v":"000000000"},{"$f":"DEC2BIN(W6_limit!AP29, 9)","v":"000000000"},{"$f":"DEC2BIN(W6_limit!AQ29, 9)","v":"000000000"}]
[{"$f":"DEC2BIN(W6_limit!A30, 9)","v":"1110101100"},{"$f":"DEC2BIN(W6_limit!B30, 9)","v":"1111111011"},{"$f":"DEC2BIN(W6_limit!C30, 9)","v":"000010111"},{"$f":"DEC2BIN(W6_limit!D30, 9)","v":"1110110100"},{"$f":"DEC2BIN(W6_limit!E30, 9)","v":"1111110100"},{"$f":"DEC2BIN(W6_limit!F30, 9)","v":"000101001"},{"$f":"DEC2BIN(W6_limit!G30, 9)","v":"1110001001"},{"$f":"DEC2BIN(W6_limit!H30, 9)","v":"1100100000"},{"$f":"DEC2BIN(W6_limit!I30, 9)","v":"000011001"},{"$f":"DEC2BIN(W6_limit!J30, 9)","v":"1101011001"},{"$f":"DEC2BIN(W6_limit!K30, 9)","v":"000000000"},{"$f":"DEC2BIN(W6_limit!L30, 9)","v":"000000000"},{"$f":"DEC2BIN(W6_limit!M30, 9)","v":"000000000"},{"$f":"DEC2BIN(W6_limit!N30, 9)","v":"000000000"},{"$f":"DEC2BIN(W6_limit!O30, 9)","v":"000000000"},{"$f":"DEC2BIN(W6_limit!P30, 9)","v":"000000000"},{"$f":"DEC2BIN(W6_limit!Q30, 9)","v":"000000000"},{"$f":"DEC2BIN(W6_limit!R30, 9)","v":"000000000"},{"$f":"DEC2BIN(W6_limit!S30, 9)","v":"000000000"},{"$f":"DEC2BIN(W6_limit!T30, 9)","v":"000000000"},{"$f":"DEC2BIN(W6_limit!U30, 9)","v":"000000000"},{"$f":"DEC2BIN(W6_limit!V30, 9)","v":"000000000"},{"$f":"DEC2BIN(W6_limit!W30, 9)","v":"000000000"},{"$f":"DEC2BIN(W6_limit!X30, 9)","v":"000000000"},{"$f":"DEC2BIN(W6_limit!Y30, 9)","v":"000000000"},{"$f":"DEC2BIN(W6_limit!Z30, 9)","v":"000000000"},{"$f":"DEC2BIN(W6_limit!AA30, 9)","v":"000000000"},{"$f":"DEC2BIN(W6_limit!AB30, 9)","v":"000000000"},{"$f":"DEC2BIN(W6_limit!AC30, 9)","v":"000000000"},{"$f":"DEC2BIN(W6_limit!AD30, 9)","v":"000000000"},{"$f":"DEC2BIN(W6_limit!AE30, 9)","v":"000000000"},{"$f":"DEC2BIN(W6_limit!AF30, 9)","v":"000000000"},{"$f":"DEC2BIN(W6_limit!AG30, 9)","v":"000000000"},{"$f":"DEC2BIN(W6_limit!AH30, 9)","v":"000000000"},{"$f":"DEC2BIN(W6_limit!AI30, 9)","v":"000000000"},{"$f":"DEC2BIN(W6_limit!AJ30, 9)","v":"000000000"},{"$f":"DEC2BIN(W6_limit!AK30, 9)","v":"000000000"},{"$f":"DEC2BIN(W6_limit!AL30, 9)","v":"000000000"},{"$f":"DEC2BIN(W6_limit!AM30, 9)","v":"000000000"},{"$f":"DEC2BIN(W6_limit!AN30, 9)","v":"000000000"},{"$f":"DEC2BIN(W6_limit!AO30, 9)","v":"000000000"},{"$f":"DEC2BIN(W6_limit!AP30, 9)","v":"000000000"},{"$f":"DEC2BIN(W6_limit!AQ30, 9)","v":"000000000"}]
[{"$f":"DEC2BIN(W6_limit!A31, 9)","v":"1111000001"},{"$f":"DEC2BIN(W6_limit!B31, 9)","v":"000110010"},{"$f":"DEC2BIN(W6_limit!C31, 9)","v":"1101100001"},{"$f":"DEC2BIN(W6_limit!D31, 9)","v":"000001011"},{"$f":"DEC2BIN(W6_limit!E31, 9)","v":"1111111110"},{"$f":"DEC2BIN(W6_limit!F31, 9)","v":"1110111010"},{"$f":"DEC2BIN(W6_limit!G31, 9)","v":"1110101001"},{"$f":"DEC2BIN(W6_limit!H31, 9)","v":"1100000000"},{"$f":"DEC2BIN(W6_limit!I31, 9)","v":"000000000"},{"$f":"DEC2BIN(W6_limit!J31, 9)","v":"1111010110"},{"$f":"DEC2BIN(W6_limit!K31, 9)","v":"000000000"},{"$f":"DEC2BIN(W6_limit!L31, 9)","v":"000000000"},{"$f":"DEC2BIN(W6_limit!M31, 9)","v":"000000000"},{"$f":"DEC2BIN(W6_limit!N31, 9)","v":"000000000"},{"$f":"DEC2BIN(W6_limit!O31, 9)","v":"000000000"},{"$f":"DEC2BIN(W6_limit!P31, 9)","v":"000000000"},{"$f":"DEC2BIN(W6_limit!Q31, 9)","v":"000000000"},{"$f":"DEC2BIN(W6_limit!R31, 9)","v":"000000000"},{"$f":"DEC2BIN(W6_limit!S31, 9)","v":"000000000"},{"$f":"DEC2BIN(W6_limit!T31, 9)","v":"000000000"},{"$f":"DEC2BIN(W6_limit!U31, 9)","v":"000000000"},{"$f":"DEC2BIN(W6_limit!V31, 9)","v":"000000000"},{"$f":"DEC2BIN(W6_limit!W31, 9)","v":"000000000"},{"$f":"DEC2BIN(W6_limit!X31, 9)","v":"000000000"},{"$f":"DEC2BIN(W6_limit!Y31, 9)","v":"000000000"},{"$f":"DEC2BIN(W6_limit!Z31, 9)","v":"000000000"},{"$f":"DEC2BIN(W6_limit!AA31, 9)","v":"000000000"},{"$f":"DEC2BIN(W6_limit!AB31, 9)","v":"000000000"},{"$f":"DEC2BIN(W6_limit!AC31, 9)","v":"000000000"},{"$f":"DEC2BIN(W6_limit!AD31, 9)","v":"000000000"},{"$f":"DEC2BIN(W6_limit!AE31, 9)","v":"000000000"},{"$f":"DEC2BIN(W6_limit!AF31, 9)","v":"000000000"},{"$f":"DEC2BIN(W6_limit!AG31, 9)","v":"000000000"},{"$f":"DEC2BIN(W6_limit!AH31, 9)","v":"000000000"},{"$f":"DEC2BIN(W6_limit!AI31, 9)","v":"000000000"},{"$f":"DEC2BIN(W6_limit!AJ31, 9)","v":"000000000"},{"$f":"DEC2BIN(W6_limit!AK31, 9)","v":"000000000"},{"$f":"DEC2BIN(W6_limit!AL31, 9)","v":"000000000"},{"$f":"DEC2BIN(W6_limit!AM31, 9)","v":"000000000"},{"$f":"DEC2BIN(W6_limit!AN31, 9)","v":"000000000"},{"$f":"DEC2BIN(W6_limit!AO31, 9)","v":"000000000"},{"$f":"DEC2BIN(W6_limit!AP31, 9)","v":"000000000"},{"$f":"DEC2BIN(W6_limit!AQ31, 9)","v":"000000000"}]
[{"$f":"DEC2BIN(W6_limit!A32, 9)","v":"000000000"},{"$f":"DEC2BIN(W6_limit!B32, 9)","v":"1111100010"},{"$f":"DEC2BIN(W6_limit!C32, 9)","v":"1100000000"},{"$f":"DEC2BIN(W6_limit!D32, 9)","v":"1101010011"},{"$f":"DEC2BIN(W6_limit!E32, 9)","v":"1111100000"},{"$f":"DEC2BIN(W6_limit!F32, 9)","v":"1110001000"},{"$f":"DEC2BIN(W6_limit!G32, 9)","v":"000000100"},{"$f":"DEC2BIN(W6_limit!H32, 9)","v":"000010010"},{"$f":"DEC2BIN(W6_limit!I32, 9)","v":"1110111110"},{"$f":"DEC2BIN(W6_limit!J32, 9)","v":"1110110111"},{"$f":"DEC2BIN(W6_limit!K32, 9)","v":"000000000"},{"$f":"DEC2BIN(W6_limit!L32, 9)","v":"000000000"},{"$f":"DEC2BIN(W6_limit!M32, 9)","v":"000000000"},{"$f":"DEC2BIN(W6_limit!N32, 9)","v":"000000000"},{"$f":"DEC2BIN(W6_limit!O32, 9)","v":"000000000"},{"$f":"DEC2BIN(W6_limit!P32, 9)","v":"000000000"},{"$f":"DEC2BIN(W6_limit!Q32, 9)","v":"000000000"},{"$f":"DEC2BIN(W6_limit!R32, 9)","v":"000000000"},{"$f":"DEC2BIN(W6_limit!S32, 9)","v":"000000000"},{"$f":"DEC2BIN(W6_limit!T32, 9)","v":"000000000"},{"$f":"DEC2BIN(W6_limit!U32, 9)","v":"000000000"},{"$f":"DEC2BIN(W6_limit!V32, 9)","v":"000000000"},{"$f":"DEC2BIN(W6_limit!W32, 9)","v":"000000000"},{"$f":"DEC2BIN(W6_limit!X32, 9)","v":"000000000"},{"$f":"DEC2BIN(W6_limit!Y32, 9)","v":"000000000"},{"$f":"DEC2BIN(W6_limit!Z32, 9)","v":"000000000"},{"$f":"DEC2BIN(W6_limit!AA32, 9)","v":"000000000"},{"$f":"DEC2BIN(W6_limit!AB32, 9)","v":"000000000"},{"$f":"DEC2BIN(W6_limit!AC32, 9)","v":"000000000"},{"$f":"DEC2BIN(W6_limit!AD32, 9)","v":"000000000"},{"$f":"DEC2BIN(W6_limit!AE32, 9)","v":"000000000"},{"$f":"DEC2BIN(W6_limit!AF32, 9)","v":"000000000"},{"$f":"DEC2BIN(W6_limit!AG32, 9)","v":"000000000"},{"$f":"DEC2BIN(W6_limit!AH32, 9)","v":"000000000"},{"$f":"DEC2BIN(W6_limit!AI32, 9)","v":"000000000"},{"$f":"DEC2BIN(W6_limit!AJ32, 9)","v":"000000000"},{"$f":"DEC2BIN(W6_limit!AK32, 9)","v":"000000000"},{"$f":"DEC2BIN(W6_limit!AL32, 9)","v":"000000000"},{"$f":"DEC2BIN(W6_limit!AM32, 9)","v":"000000000"},{"$f":"DEC2BIN(W6_limit!AN32, 9)","v":"000000000"},{"$f":"DEC2BIN(W6_limit!AO32, 9)","v":"000000000"},{"$f":"DEC2BIN(W6_limit!AP32, 9)","v":"000000000"},{"$f":"DEC2BIN(W6_limit!AQ32, 9)","v":"000000000"}]
[{"$f":"DEC2BIN(W6_limit!A33, 9)","v":"000001100"},{"$f":"DEC2BIN(W6_limit!B33, 9)","v":"000011111"},{"$f":"DEC2BIN(W6_limit!C33, 9)","v":"000011011"},{"$f":"DEC2BIN(W6_limit!D33, 9)","v":"1111011000"},{"$f":"DEC2BIN(W6_limit!E33, 9)","v":"1101101001"},{"$f":"DEC2BIN(W6_limit!F33, 9)","v":"000101111"},{"$f":"DEC2BIN(W6_limit!G33, 9)","v":"1111101100"},{"$f":"DEC2BIN(W6_limit!H33, 9)","v":"000010010"},{"$f":"DEC2BIN(W6_limit!I33, 9)","v":"1110110100"},{"$f":"DEC2BIN(W6_limit!J33, 9)","v":"1111000010"},{"$f":"DEC2BIN(W6_limit!K33, 9)","v":"000000000"},{"$f":"DEC2BIN(W6_limit!L33, 9)","v":"000000000"},{"$f":"DEC2BIN(W6_limit!M33, 9)","v":"000000000"},{"$f":"DEC2BIN(W6_limit!N33, 9)","v":"000000000"},{"$f":"DEC2BIN(W6_limit!O33, 9)","v":"000000000"},{"$f":"DEC2BIN(W6_limit!P33, 9)","v":"000000000"},{"$f":"DEC2BIN(W6_limit!Q33, 9)","v":"000000000"},{"$f":"DEC2BIN(W6_limit!R33, 9)","v":"000000000"},{"$f":"DEC2BIN(W6_limit!S33, 9)","v":"000000000"},{"$f":"DEC2BIN(W6_limit!T33, 9)","v":"000000000"},{"$f":"DEC2BIN(W6_limit!U33, 9)","v":"000000000"},{"$f":"DEC2BIN(W6_limit!V33, 9)","v":"000000000"},{"$f":"DEC2BIN(W6_limit!W33, 9)","v":"000000000"},{"$f":"DEC2BIN(W6_limit!X33, 9)","v":"000000000"},{"$f":"DEC2BIN(W6_limit!Y33, 9)","v":"000000000"},{"$f":"DEC2BIN(W6_limit!Z33, 9)","v":"000000000"},{"$f":"DEC2BIN(W6_limit!AA33, 9)","v":"000000000"},{"$f":"DEC2BIN(W6_limit!AB33, 9)","v":"000000000"},{"$f":"DEC2BIN(W6_limit!AC33, 9)","v":"000000000"},{"$f":"DEC2BIN(W6_limit!AD33, 9)","v":"000000000"},{"$f":"DEC2BIN(W6_limit!AE33, 9)","v":"000000000"},{"$f":"DEC2BIN(W6_limit!AF33, 9)","v":"000000000"},{"$f":"DEC2BIN(W6_limit!AG33, 9)","v":"000000000"},{"$f":"DEC2BIN(W6_limit!AH33, 9)","v":"000000000"},{"$f":"DEC2BIN(W6_limit!AI33, 9)","v":"000000000"},{"$f":"DEC2BIN(W6_limit!AJ33, 9)","v":"000000000"},{"$f":"DEC2BIN(W6_limit!AK33, 9)","v":"000000000"},{"$f":"DEC2BIN(W6_limit!AL33, 9)","v":"000000000"},{"$f":"DEC2BIN(W6_limit!AM33, 9)","v":"000000000"},{"$f":"DEC2BIN(W6_limit!AN33, 9)","v":"000000000"},{"$f":"DEC2BIN(W6_limit!AO33, 9)","v":"000000000"},{"$f":"DEC2BIN(W6_limit!AP33, 9)","v":"000000000"},{"$f":"DEC2BIN(W6_limit!AQ33, 9)","v":"000000000"}]
[{"$f":"DEC2BIN(W6_limit!A34, 9)","v":"1111101100"},{"$f":"DEC2BIN(W6_limit!B34, 9)","v":"000000111"},{"$f":"DEC2BIN(W6_limit!C34, 9)","v":"1100100010"},{"$f":"DEC2BIN(W6_limit!D34, 9)","v":"000000011"},{"$f":"DEC2BIN(W6_limit!E34, 9)","v":"000011000"},{"$f":"DEC2BIN(W6_limit!F34, 9)","v":"000110001"},{"$f":"DEC2BIN(W6_limit!G34, 9)","v":"1100001010"},{"$f":"DEC2BIN(W6_limit!H34, 9)","v":"1101111011"},{"$f":"DEC2BIN(W6_limit!I34, 9)","v":"1110011110"},{"$f":"DEC2BIN(W6_limit!J34, 9)","v":"000100001"},{"$f":"DEC2BIN(W6_limit!K34, 9)","v":"000000000"},{"$f":"DEC2BIN(W6_limit!L34, 9)","v":"000000000"},{"$f":"DEC2BIN(W6_limit!M34, 9)","v":"000000000"},{"$f":"DEC2BIN(W6_limit!N34, 9)","v":"000000000"},{"$f":"DEC2BIN(W6_limit!O34, 9)","v":"000000000"},{"$f":"DEC2BIN(W6_limit!P34, 9)","v":"000000000"},{"$f":"DEC2BIN(W6_limit!Q34, 9)","v":"000000000"},{"$f":"DEC2BIN(W6_limit!R34, 9)","v":"000000000"},{"$f":"DEC2BIN(W6_limit!S34, 9)","v":"000000000"},{"$f":"DEC2BIN(W6_limit!T34, 9)","v":"000000000"},{"$f":"DEC2BIN(W6_limit!U34, 9)","v":"000000000"},{"$f":"DEC2BIN(W6_limit!V34, 9)","v":"000000000"},{"$f":"DEC2BIN(W6_limit!W34, 9)","v":"000000000"},{"$f":"DEC2BIN(W6_limit!X34, 9)","v":"000000000"},{"$f":"DEC2BIN(W6_limit!Y34, 9)","v":"000000000"},{"$f":"DEC2BIN(W6_limit!Z34, 9)","v":"000000000"},{"$f":"DEC2BIN(W6_limit!AA34, 9)","v":"000000000"},{"$f":"DEC2BIN(W6_limit!AB34, 9)","v":"000000000"},{"$f":"DEC2BIN(W6_limit!AC34, 9)","v":"000000000"},{"$f":"DEC2BIN(W6_limit!AD34, 9)","v":"000000000"},{"$f":"DEC2BIN(W6_limit!AE34, 9)","v":"000000000"},{"$f":"DEC2BIN(W6_limit!AF34, 9)","v":"000000000"},{"$f":"DEC2BIN(W6_limit!AG34, 9)","v":"000000000"},{"$f":"DEC2BIN(W6_limit!AH34, 9)","v":"000000000"},{"$f":"DEC2BIN(W6_limit!AI34, 9)","v":"000000000"},{"$f":"DEC2BIN(W6_limit!AJ34, 9)","v":"000000000"},{"$f":"DEC2BIN(W6_limit!AK34, 9)","v":"000000000"},{"$f":"DEC2BIN(W6_limit!AL34, 9)","v":"000000000"},{"$f":"DEC2BIN(W6_limit!AM34, 9)","v":"000000000"},{"$f":"DEC2BIN(W6_limit!AN34, 9)","v":"000000000"},{"$f":"DEC2BIN(W6_limit!AO34, 9)","v":"000000000"},{"$f":"DEC2BIN(W6_limit!AP34, 9)","v":"000000000"},{"$f":"DEC2BIN(W6_limit!AQ34, 9)","v":"000000000"}]
[{"$f":"DEC2BIN(W6_limit!A35, 9)","v":"000010000"},{"$f":"DEC2BIN(W6_limit!B35, 9)","v":"000011110"},{"$f":"DEC2BIN(W6_limit!C35, 9)","v":"000011111"},{"$f":"DEC2BIN(W6_limit!D35, 9)","v":"000001101"},{"$f":"DEC2BIN(W6_limit!E35, 9)","v":"000000000"},{"$f":"DEC2BIN(W6_limit!F35, 9)","v":"000010111"},{"$f":"DEC2BIN(W6_limit!G35, 9)","v":"1111010011"},{"$f":"DEC2BIN(W6_limit!H35, 9)","v":"000100100"},{"$f":"DEC2BIN(W6_limit!I35, 9)","v":"000001101"},{"$f":"DEC2BIN(W6_limit!J35, 9)","v":"1111100010"},{"$f":"DEC2BIN(W6_limit!K35, 9)","v":"000000000"},{"$f":"DEC2BIN(W6_limit!L35, 9)","v":"000000000"},{"$f":"DEC2BIN(W6_limit!M35, 9)","v":"000000000"},{"$f":"DEC2BIN(W6_limit!N35, 9)","v":"000000000"},{"$f":"DEC2BIN(W6_limit!O35, 9)","v":"000000000"},{"$f":"DEC2BIN(W6_limit!P35, 9)","v":"000000000"},{"$f":"DEC2BIN(W6_limit!Q35, 9)","v":"000000000"},{"$f":"DEC2BIN(W6_limit!R35, 9)","v":"000000000"},{"$f":"DEC2BIN(W6_limit!S35, 9)","v":"000000000"},{"$f":"DEC2BIN(W6_limit!T35, 9)","v":"000000000"},{"$f":"DEC2BIN(W6_limit!U35, 9)","v":"000000000"},{"$f":"DEC2BIN(W6_limit!V35, 9)","v":"000000000"},{"$f":"DEC2BIN(W6_limit!W35, 9)","v":"000000000"},{"$f":"DEC2BIN(W6_limit!X35, 9)","v":"000000000"},{"$f":"DEC2BIN(W6_limit!Y35, 9)","v":"000000000"},{"$f":"DEC2BIN(W6_limit!Z35, 9)","v":"000000000"},{"$f":"DEC2BIN(W6_limit!AA35, 9)","v":"000000000"},{"$f":"DEC2BIN(W6_limit!AB35, 9)","v":"000000000"},{"$f":"DEC2BIN(W6_limit!AC35, 9)","v":"000000000"},{"$f":"DEC2BIN(W6_limit!AD35, 9)","v":"000000000"},{"$f":"DEC2BIN(W6_limit!AE35, 9)","v":"000000000"},{"$f":"DEC2BIN(W6_limit!AF35, 9)","v":"000000000"},{"$f":"DEC2BIN(W6_limit!AG35, 9)","v":"000000000"},{"$f":"DEC2BIN(W6_limit!AH35, 9)","v":"000000000"},{"$f":"DEC2BIN(W6_limit!AI35, 9)","v":"000000000"},{"$f":"DEC2BIN(W6_limit!AJ35, 9)","v":"000000000"},{"$f":"DEC2BIN(W6_limit!AK35, 9)","v":"000000000"},{"$f":"DEC2BIN(W6_limit!AL35, 9)","v":"000000000"},{"$f":"DEC2BIN(W6_limit!AM35, 9)","v":"000000000"},{"$f":"DEC2BIN(W6_limit!AN35, 9)","v":"000000000"},{"$f":"DEC2BIN(W6_limit!AO35, 9)","v":"000000000"},{"$f":"DEC2BIN(W6_limit!AP35, 9)","v":"000000000"},{"$f":"DEC2BIN(W6_limit!AQ35, 9)","v":"000000000"}]
[{"$f":"DEC2BIN(W6_limit!A36, 9)","v":"000100000"},{"$f":"DEC2BIN(W6_limit!B36, 9)","v":"000011111"},{"$f":"DEC2BIN(W6_limit!C36, 9)","v":"000001111"},{"$f":"DEC2BIN(W6_limit!D36, 9)","v":"1110101111"},{"$f":"DEC2BIN(W6_limit!E36, 9)","v":"1101111001"},{"$f":"DEC2BIN(W6_limit!F36, 9)","v":"000100001"},{"$f":"DEC2BIN(W6_limit!G36, 9)","v":"1101001000"},{"$f":"DEC2BIN(W6_limit!H36, 9)","v":"000101011"},{"$f":"DEC2BIN(W6_limit!I36, 9)","v":"1110011001"},{"$f":"DEC2BIN(W6_limit!J36, 9)","v":"1110111101"},{"$f":"DEC2BIN(W6_limit!K36, 9)","v":"000000000"},{"$f":"DEC2BIN(W6_limit!L36, 9)","v":"000000000"},{"$f":"DEC2BIN(W6_limit!M36, 9)","v":"000000000"},{"$f":"DEC2BIN(W6_limit!N36, 9)","v":"000000000"},{"$f":"DEC2BIN(W6_limit!O36, 9)","v":"000000000"},{"$f":"DEC2BIN(W6_limit!P36, 9)","v":"000000000"},{"$f":"DEC2BIN(W6_limit!Q36, 9)","v":"000000000"},{"$f":"DEC2BIN(W6_limit!R36, 9)","v":"000000000"},{"$f":"DEC2BIN(W6_limit!S36, 9)","v":"000000000"},{"$f":"DEC2BIN(W6_limit!T36, 9)","v":"000000000"},{"$f":"DEC2BIN(W6_limit!U36, 9)","v":"000000000"},{"$f":"DEC2BIN(W6_limit!V36, 9)","v":"000000000"},{"$f":"DEC2BIN(W6_limit!W36, 9)","v":"000000000"},{"$f":"DEC2BIN(W6_limit!X36, 9)","v":"000000000"},{"$f":"DEC2BIN(W6_limit!Y36, 9)","v":"000000000"},{"$f":"DEC2BIN(W6_limit!Z36, 9)","v":"000000000"},{"$f":"DEC2BIN(W6_limit!AA36, 9)","v":"000000000"},{"$f":"DEC2BIN(W6_limit!AB36, 9)","v":"000000000"},{"$f":"DEC2BIN(W6_limit!AC36, 9)","v":"000000000"},{"$f":"DEC2BIN(W6_limit!AD36, 9)","v":"000000000"},{"$f":"DEC2BIN(W6_limit!AE36, 9)","v":"000000000"},{"$f":"DEC2BIN(W6_limit!AF36, 9)","v":"000000000"},{"$f":"DEC2BIN(W6_limit!AG36, 9)","v":"000000000"},{"$f":"DEC2BIN(W6_limit!AH36, 9)","v":"000000000"},{"$f":"DEC2BIN(W6_limit!AI36, 9)","v":"000000000"},{"$f":"DEC2BIN(W6_limit!AJ36, 9)","v":"000000000"},{"$f":"DEC2BIN(W6_limit!AK36, 9)","v":"000000000"},{"$f":"DEC2BIN(W6_limit!AL36, 9)","v":"000000000"},{"$f":"DEC2BIN(W6_limit!AM36, 9)","v":"000000000"},{"$f":"DEC2BIN(W6_limit!AN36, 9)","v":"000000000"},{"$f":"DEC2BIN(W6_limit!AO36, 9)","v":"000000000"},{"$f":"DEC2BIN(W6_limit!AP36, 9)","v":"000000000"},{"$f":"DEC2BIN(W6_limit!AQ36, 9)","v":"000000000"}]
[{"$f":"DEC2BIN(W6_limit!A37, 9)","v":"1111000110"},{"$f":"DEC2BIN(W6_limit!B37, 9)","v":"1110111010"},{"$f":"DEC2BIN(W6_limit!C37, 9)","v":"1101000111"},{"$f":"DEC2BIN(W6_limit!D37, 9)","v":"000111001"},{"$f":"DEC2BIN(W6_limit!E37, 9)","v":"1110110101"},{"$f":"DEC2BIN(W6_limit!F37, 9)","v":"1110110011"},{"$f":"DEC2BIN(W6_limit!G37, 9)","v":"000011101"},{"$f":"DEC2BIN(W6_limit!H37, 9)","v":"1110011111"},{"$f":"DEC2BIN(W6_limit!I37, 9)","v":"000001110"},{"$f":"DEC2BIN(W6_limit!J37, 9)","v":"000101011"},{"$f":"DEC2BIN(W6_limit!K37, 9)","v":"000000000"},{"$f":"DEC2BIN(W6_limit!L37, 9)","v":"000000000"},{"$f":"DEC2BIN(W6_limit!M37, 9)","v":"000000000"},{"$f":"DEC2BIN(W6_limit!N37, 9)","v":"000000000"},{"$f":"DEC2BIN(W6_limit!O37, 9)","v":"000000000"},{"$f":"DEC2BIN(W6_limit!P37, 9)","v":"000000000"},{"$f":"DEC2BIN(W6_limit!Q37, 9)","v":"000000000"},{"$f":"DEC2BIN(W6_limit!R37, 9)","v":"000000000"},{"$f":"DEC2BIN(W6_limit!S37, 9)","v":"000000000"},{"$f":"DEC2BIN(W6_limit!T37, 9)","v":"000000000"},{"$f":"DEC2BIN(W6_limit!U37, 9)","v":"000000000"},{"$f":"DEC2BIN(W6_limit!V37, 9)","v":"000000000"},{"$f":"DEC2BIN(W6_limit!W37, 9)","v":"000000000"},{"$f":"DEC2BIN(W6_limit!X37, 9)","v":"000000000"},{"$f":"DEC2BIN(W6_limit!Y37, 9)","v":"000000000"},{"$f":"DEC2BIN(W6_limit!Z37, 9)","v":"000000000"},{"$f":"DEC2BIN(W6_limit!AA37, 9)","v":"000000000"},{"$f":"DEC2BIN(W6_limit!AB37, 9)","v":"000000000"},{"$f":"DEC2BIN(W6_limit!AC37, 9)","v":"000000000"},{"$f":"DEC2BIN(W6_limit!AD37, 9)","v":"000000000"},{"$f":"DEC2BIN(W6_limit!AE37, 9)","v":"000000000"},{"$f":"DEC2BIN(W6_limit!AF37, 9)","v":"000000000"},{"$f":"DEC2BIN(W6_limit!AG37, 9)","v":"000000000"},{"$f":"DEC2BIN(W6_limit!AH37, 9)","v":"000000000"},{"$f":"DEC2BIN(W6_limit!AI37, 9)","v":"000000000"},{"$f":"DEC2BIN(W6_limit!AJ37, 9)","v":"000000000"},{"$f":"DEC2BIN(W6_limit!AK37, 9)","v":"000000000"},{"$f":"DEC2BIN(W6_limit!AL37, 9)","v":"000000000"},{"$f":"DEC2BIN(W6_limit!AM37, 9)","v":"000000000"},{"$f":"DEC2BIN(W6_limit!AN37, 9)","v":"000000000"},{"$f":"DEC2BIN(W6_limit!AO37, 9)","v":"000000000"},{"$f":"DEC2BIN(W6_limit!AP37, 9)","v":"000000000"},{"$f":"DEC2BIN(W6_limit!AQ37, 9)","v":"000000000"}]
[{"$f":"DEC2BIN(W6_limit!A38, 9)","v":"000100011"},{"$f":"DEC2BIN(W6_limit!B38, 9)","v":"1111111001"},{"$f":"DEC2BIN(W6_limit!C38, 9)","v":"1101011010"},{"$f":"DEC2BIN(W6_limit!D38, 9)","v":"1101001110"},{"$f":"DEC2BIN(W6_limit!E38, 9)","v":"1101011011"},{"$f":"DEC2BIN(W6_limit!F38, 9)","v":"1110110011"},{"$f":"DEC2BIN(W6_limit!G38, 9)","v":"1110100111"},{"$f":"DEC2BIN(W6_limit!H38, 9)","v":"000001101"},{"$f":"DEC2BIN(W6_limit!I38, 9)","v":"000100010"},{"$f":"DEC2BIN(W6_limit!J38, 9)","v":"000100100"},{"$f":"DEC2BIN(W6_limit!K38, 9)","v":"000000000"},{"$f":"DEC2BIN(W6_limit!L38, 9)","v":"000000000"},{"$f":"DEC2BIN(W6_limit!M38, 9)","v":"000000000"},{"$f":"DEC2BIN(W6_limit!N38, 9)","v":"000000000"},{"$f":"DEC2BIN(W6_limit!O38, 9)","v":"000000000"},{"$f":"DEC2BIN(W6_limit!P38, 9)","v":"000000000"},{"$f":"DEC2BIN(W6_limit!Q38, 9)","v":"000000000"},{"$f":"DEC2BIN(W6_limit!R38, 9)","v":"000000000"},{"$f":"DEC2BIN(W6_limit!S38, 9)","v":"000000000"},{"$f":"DEC2BIN(W6_limit!T38, 9)","v":"000000000"},{"$f":"DEC2BIN(W6_limit!U38, 9)","v":"000000000"},{"$f":"DEC2BIN(W6_limit!V38, 9)","v":"000000000"},{"$f":"DEC2BIN(W6_limit!W38, 9)","v":"000000000"},{"$f":"DEC2BIN(W6_limit!X38, 9)","v":"000000000"},{"$f":"DEC2BIN(W6_limit!Y38, 9)","v":"000000000"},{"$f":"DEC2BIN(W6_limit!Z38, 9)","v":"000000000"},{"$f":"DEC2BIN(W6_limit!AA38, 9)","v":"000000000"},{"$f":"DEC2BIN(W6_limit!AB38, 9)","v":"000000000"},{"$f":"DEC2BIN(W6_limit!AC38, 9)","v":"000000000"},{"$f":"DEC2BIN(W6_limit!AD38, 9)","v":"000000000"},{"$f":"DEC2BIN(W6_limit!AE38, 9)","v":"000000000"},{"$f":"DEC2BIN(W6_limit!AF38, 9)","v":"000000000"},{"$f":"DEC2BIN(W6_limit!AG38, 9)","v":"000000000"},{"$f":"DEC2BIN(W6_limit!AH38, 9)","v":"000000000"},{"$f":"DEC2BIN(W6_limit!AI38, 9)","v":"000000000"},{"$f":"DEC2BIN(W6_limit!AJ38, 9)","v":"000000000"},{"$f":"DEC2BIN(W6_limit!AK38, 9)","v":"000000000"},{"$f":"DEC2BIN(W6_limit!AL38, 9)","v":"000000000"},{"$f":"DEC2BIN(W6_limit!AM38, 9)","v":"000000000"},{"$f":"DEC2BIN(W6_limit!AN38, 9)","v":"000000000"},{"$f":"DEC2BIN(W6_limit!AO38, 9)","v":"000000000"},{"$f":"DEC2BIN(W6_limit!AP38, 9)","v":"000000000"},{"$f":"DEC2BIN(W6_limit!AQ38, 9)","v":"000000000"}]
[{"$f":"DEC2BIN(W6_limit!A39, 9)","v":"1111010001"},{"$f":"DEC2BIN(W6_limit!B39, 9)","v":"001000011"},{"$f":"DEC2BIN(W6_limit!C39, 9)","v":"000010001"},{"$f":"DEC2BIN(W6_limit!D39, 9)","v":"000100111"},{"$f":"DEC2BIN(W6_limit!E39, 9)","v":"1110000010"},{"$f":"DEC2BIN(W6_limit!F39, 9)","v":"1100001001"},{"$f":"DEC2BIN(W6_limit!G39, 9)","v":"1100011101"},{"$f":"DEC2BIN(W6_limit!H39, 9)","v":"1100001001"},{"$f":"DEC2BIN(W6_limit!I39, 9)","v":"1100010101"},{"$f":"DEC2BIN(W6_limit!J39, 9)","v":"000000100"},{"$f":"DEC2BIN(W6_limit!K39, 9)","v":"000000000"},{"$f":"DEC2BIN(W6_limit!L39, 9)","v":"000000000"},{"$f":"DEC2BIN(W6_limit!M39, 9)","v":"000000000"},{"$f":"DEC2BIN(W6_limit!N39, 9)","v":"000000000"},{"$f":"DEC2BIN(W6_limit!O39, 9)","v":"000000000"},{"$f":"DEC2BIN(W6_limit!P39, 9)","v":"000000000"},{"$f":"DEC2BIN(W6_limit!Q39, 9)","v":"000000000"},{"$f":"DEC2BIN(W6_limit!R39, 9)","v":"000000000"},{"$f":"DEC2BIN(W6_limit!S39, 9)","v":"000000000"},{"$f":"DEC2BIN(W6_limit!T39, 9)","v":"000000000"},{"$f":"DEC2BIN(W6_limit!U39, 9)","v":"000000000"},{"$f":"DEC2BIN(W6_limit!V39, 9)","v":"000000000"},{"$f":"DEC2BIN(W6_limit!W39, 9)","v":"000000000"},{"$f":"DEC2BIN(W6_limit!X39, 9)","v":"000000000"},{"$f":"DEC2BIN(W6_limit!Y39, 9)","v":"000000000"},{"$f":"DEC2BIN(W6_limit!Z39, 9)","v":"000000000"},{"$f":"DEC2BIN(W6_limit!AA39, 9)","v":"000000000"},{"$f":"DEC2BIN(W6_limit!AB39, 9)","v":"000000000"},{"$f":"DEC2BIN(W6_limit!AC39, 9)","v":"000000000"},{"$f":"DEC2BIN(W6_limit!AD39, 9)","v":"000000000"},{"$f":"DEC2BIN(W6_limit!AE39, 9)","v":"000000000"},{"$f":"DEC2BIN(W6_limit!AF39, 9)","v":"000000000"},{"$f":"DEC2BIN(W6_limit!AG39, 9)","v":"000000000"},{"$f":"DEC2BIN(W6_limit!AH39, 9)","v":"000000000"},{"$f":"DEC2BIN(W6_limit!AI39, 9)","v":"000000000"},{"$f":"DEC2BIN(W6_limit!AJ39, 9)","v":"000000000"},{"$f":"DEC2BIN(W6_limit!AK39, 9)","v":"000000000"},{"$f":"DEC2BIN(W6_limit!AL39, 9)","v":"000000000"},{"$f":"DEC2BIN(W6_limit!AM39, 9)","v":"000000000"},{"$f":"DEC2BIN(W6_limit!AN39, 9)","v":"000000000"},{"$f":"DEC2BIN(W6_limit!AO39, 9)","v":"000000000"},{"$f":"DEC2BIN(W6_limit!AP39, 9)","v":"000000000"},{"$f":"DEC2BIN(W6_limit!AQ39, 9)","v":"000000000"}]
[{"$f":"DEC2BIN(W6_limit!A40, 9)","v":"1110111101"},{"$f":"DEC2BIN(W6_limit!B40, 9)","v":"1111110010"},{"$f":"DEC2BIN(W6_limit!C40, 9)","v":"1110010001"},{"$f":"DEC2BIN(W6_limit!D40, 9)","v":"1110000100"},{"$f":"DEC2BIN(W6_limit!E40, 9)","v":"000001111"},{"$f":"DEC2BIN(W6_limit!F40, 9)","v":"1111010010"},{"$f":"DEC2BIN(W6_limit!G40, 9)","v":"1110101110"},{"$f":"DEC2BIN(W6_limit!H40, 9)","v":"1111110001"},{"$f":"DEC2BIN(W6_limit!I40, 9)","v":"001001010"},{"$f":"DEC2BIN(W6_limit!J40, 9)","v":"1110001101"},{"$f":"DEC2BIN(W6_limit!K40, 9)","v":"000000000"},{"$f":"DEC2BIN(W6_limit!L40, 9)","v":"000000000"},{"$f":"DEC2BIN(W6_limit!M40, 9)","v":"000000000"},{"$f":"DEC2BIN(W6_limit!N40, 9)","v":"000000000"},{"$f":"DEC2BIN(W6_limit!O40, 9)","v":"000000000"},{"$f":"DEC2BIN(W6_limit!P40, 9)","v":"000000000"},{"$f":"DEC2BIN(W6_limit!Q40, 9)","v":"000000000"},{"$f":"DEC2BIN(W6_limit!R40, 9)","v":"000000000"},{"$f":"DEC2BIN(W6_limit!S40, 9)","v":"000000000"},{"$f":"DEC2BIN(W6_limit!T40, 9)","v":"000000000"},{"$f":"DEC2BIN(W6_limit!U40, 9)","v":"000000000"},{"$f":"DEC2BIN(W6_limit!V40, 9)","v":"000000000"},{"$f":"DEC2BIN(W6_limit!W40, 9)","v":"000000000"},{"$f":"DEC2BIN(W6_limit!X40, 9)","v":"000000000"},{"$f":"DEC2BIN(W6_limit!Y40, 9)","v":"000000000"},{"$f":"DEC2BIN(W6_limit!Z40, 9)","v":"000000000"},{"$f":"DEC2BIN(W6_limit!AA40, 9)","v":"000000000"},{"$f":"DEC2BIN(W6_limit!AB40, 9)","v":"000000000"},{"$f":"DEC2BIN(W6_limit!AC40, 9)","v":"000000000"},{"$f":"DEC2BIN(W6_limit!AD40, 9)","v":"000000000"},{"$f":"DEC2BIN(W6_limit!AE40, 9)","v":"000000000"},{"$f":"DEC2BIN(W6_limit!AF40, 9)","v":"000000000"},{"$f":"DEC2BIN(W6_limit!AG40, 9)","v":"000000000"},{"$f":"DEC2BIN(W6_limit!AH40, 9)","v":"000000000"},{"$f":"DEC2BIN(W6_limit!AI40, 9)","v":"000000000"},{"$f":"DEC2BIN(W6_limit!AJ40, 9)","v":"000000000"},{"$f":"DEC2BIN(W6_limit!AK40, 9)","v":"000000000"},{"$f":"DEC2BIN(W6_limit!AL40, 9)","v":"000000000"},{"$f":"DEC2BIN(W6_limit!AM40, 9)","v":"000000000"},{"$f":"DEC2BIN(W6_limit!AN40, 9)","v":"000000000"},{"$f":"DEC2BIN(W6_limit!AO40, 9)","v":"000000000"},{"$f":"DEC2BIN(W6_limit!AP40, 9)","v":"000000000"},{"$f":"DEC2BIN(W6_limit!AQ40, 9)","v":"000000000"}]
[{"$f":"DEC2BIN(W6_limit!A41, 9)","v":"1111101001"},{"$f":"DEC2BIN(W6_limit!B41, 9)","v":"1111100110"},{"$f":"DEC2BIN(W6_limit!C41, 9)","v":"000100110"},{"$f":"DEC2BIN(W6_limit!D41, 9)","v":"1111101101"},{"$f":"DEC2BIN(W6_limit!E41, 9)","v":"1111101100"},{"$f":"DEC2BIN(W6_limit!F41, 9)","v":"1111110110"},{"$f":"DEC2BIN(W6_limit!G41, 9)","v":"1111111110"},{"$f":"DEC2BIN(W6_limit!H41, 9)","v":"1111001101"},{"$f":"DEC2BIN(W6_limit!I41, 9)","v":"000000101"},{"$f":"DEC2BIN(W6_limit!J41, 9)","v":"000010111"},{"$f":"DEC2BIN(W6_limit!K41, 9)","v":"000000000"},{"$f":"DEC2BIN(W6_limit!L41, 9)","v":"000000000"},{"$f":"DEC2BIN(W6_limit!M41, 9)","v":"000000000"},{"$f":"DEC2BIN(W6_limit!N41, 9)","v":"000000000"},{"$f":"DEC2BIN(W6_limit!O41, 9)","v":"000000000"},{"$f":"DEC2BIN(W6_limit!P41, 9)","v":"000000000"},{"$f":"DEC2BIN(W6_limit!Q41, 9)","v":"000000000"},{"$f":"DEC2BIN(W6_limit!R41, 9)","v":"000000000"},{"$f":"DEC2BIN(W6_limit!S41, 9)","v":"000000000"},{"$f":"DEC2BIN(W6_limit!T41, 9)","v":"000000000"},{"$f":"DEC2BIN(W6_limit!U41, 9)","v":"000000000"},{"$f":"DEC2BIN(W6_limit!V41, 9)","v":"000000000"},{"$f":"DEC2BIN(W6_limit!W41, 9)","v":"000000000"},{"$f":"DEC2BIN(W6_limit!X41, 9)","v":"000000000"},{"$f":"DEC2BIN(W6_limit!Y41, 9)","v":"000000000"},{"$f":"DEC2BIN(W6_limit!Z41, 9)","v":"000000000"},{"$f":"DEC2BIN(W6_limit!AA41, 9)","v":"000000000"},{"$f":"DEC2BIN(W6_limit!AB41, 9)","v":"000000000"},{"$f":"DEC2BIN(W6_limit!AC41, 9)","v":"000000000"},{"$f":"DEC2BIN(W6_limit!AD41, 9)","v":"000000000"},{"$f":"DEC2BIN(W6_limit!AE41, 9)","v":"000000000"},{"$f":"DEC2BIN(W6_limit!AF41, 9)","v":"000000000"},{"$f":"DEC2BIN(W6_limit!AG41, 9)","v":"000000000"},{"$f":"DEC2BIN(W6_limit!AH41, 9)","v":"000000000"},{"$f":"DEC2BIN(W6_limit!AI41, 9)","v":"000000000"},{"$f":"DEC2BIN(W6_limit!AJ41, 9)","v":"000000000"},{"$f":"DEC2BIN(W6_limit!AK41, 9)","v":"000000000"},{"$f":"DEC2BIN(W6_limit!AL41, 9)","v":"000000000"},{"$f":"DEC2BIN(W6_limit!AM41, 9)","v":"000000000"},{"$f":"DEC2BIN(W6_limit!AN41, 9)","v":"000000000"},{"$f":"DEC2BIN(W6_limit!AO41, 9)","v":"000000000"},{"$f":"DEC2BIN(W6_limit!AP41, 9)","v":"000000000"},{"$f":"DEC2BIN(W6_limit!AQ41, 9)","v":"000000000"}]
[{"$f":"DEC2BIN(W6_limit!A42, 9)","v":"1111101001"},{"$f":"DEC2BIN(W6_limit!B42, 9)","v":"1111111010"},{"$f":"DEC2BIN(W6_limit!C42, 9)","v":"1111011001"},{"$f":"DEC2BIN(W6_limit!D42, 9)","v":"1111010010"},{"$f":"DEC2BIN(W6_limit!E42, 9)","v":"1111011000"},{"$f":"DEC2BIN(W6_limit!F42, 9)","v":"000100011"},{"$f":"DEC2BIN(W6_limit!G42, 9)","v":"000011011"},{"$f":"DEC2BIN(W6_limit!H42, 9)","v":"1111111001"},{"$f":"DEC2BIN(W6_limit!I42, 9)","v":"1111101111"},{"$f":"DEC2BIN(W6_limit!J42, 9)","v":"000001000"},{"$f":"DEC2BIN(W6_limit!K42, 9)","v":"000000000"},{"$f":"DEC2BIN(W6_limit!L42, 9)","v":"000000000"},{"$f":"DEC2BIN(W6_limit!M42, 9)","v":"000000000"},{"$f":"DEC2BIN(W6_limit!N42, 9)","v":"000000000"},{"$f":"DEC2BIN(W6_limit!O42, 9)","v":"000000000"},{"$f":"DEC2BIN(W6_limit!P42, 9)","v":"000000000"},{"$f":"DEC2BIN(W6_limit!Q42, 9)","v":"000000000"},{"$f":"DEC2BIN(W6_limit!R42, 9)","v":"000000000"},{"$f":"DEC2BIN(W6_limit!S42, 9)","v":"000000000"},{"$f":"DEC2BIN(W6_limit!T42, 9)","v":"000000000"},{"$f":"DEC2BIN(W6_limit!U42, 9)","v":"000000000"},{"$f":"DEC2BIN(W6_limit!V42, 9)","v":"000000000"},{"$f":"DEC2BIN(W6_limit!W42, 9)","v":"000000000"},{"$f":"DEC2BIN(W6_limit!X42, 9)","v":"000000000"},{"$f":"DEC2BIN(W6_limit!Y42, 9)","v":"000000000"},{"$f":"DEC2BIN(W6_limit!Z42, 9)","v":"000000000"},{"$f":"DEC2BIN(W6_limit!AA42, 9)","v":"000000000"},{"$f":"DEC2BIN(W6_limit!AB42, 9)","v":"000000000"},{"$f":"DEC2BIN(W6_limit!AC42, 9)","v":"000000000"},{"$f":"DEC2BIN(W6_limit!AD42, 9)","v":"000000000"},{"$f":"DEC2BIN(W6_limit!AE42, 9)","v":"000000000"},{"$f":"DEC2BIN(W6_limit!AF42, 9)","v":"000000000"},{"$f":"DEC2BIN(W6_limit!AG42, 9)","v":"000000000"},{"$f":"DEC2BIN(W6_limit!AH42, 9)","v":"000000000"},{"$f":"DEC2BIN(W6_limit!AI42, 9)","v":"000000000"},{"$f":"DEC2BIN(W6_limit!AJ42, 9)","v":"000000000"},{"$f":"DEC2BIN(W6_limit!AK42, 9)","v":"000000000"},{"$f":"DEC2BIN(W6_limit!AL42, 9)","v":"000000000"},{"$f":"DEC2BIN(W6_limit!AM42, 9)","v":"000000000"},{"$f":"DEC2BIN(W6_limit!AN42, 9)","v":"000000000"},{"$f":"DEC2BIN(W6_limit!AO42, 9)","v":"000000000"},{"$f":"DEC2BIN(W6_limit!AP42, 9)","v":"000000000"},{"$f":"DEC2BIN(W6_limit!AQ42, 9)","v":"000000000"}]
[{"$f":"DEC2BIN(W6_limit!A43, 9)","v":"1111011101"},{"$f":"DEC2BIN(W6_limit!B43, 9)","v":"1111100011"},{"$f":"DEC2BIN(W6_limit!C43, 9)","v":"1111000101"},{"$f":"DEC2BIN(W6_limit!D43, 9)","v":"1101010001"},{"$f":"DEC2BIN(W6_limit!E43, 9)","v":"000101010"},{"$f":"DEC2BIN(W6_limit!F43, 9)","v":"000011010"},{"$f":"DEC2BIN(W6_limit!G43, 9)","v":"1111110000"},{"$f":"DEC2BIN(W6_limit!H43, 9)","v":"1110101000"},{"$f":"DEC2BIN(W6_limit!I43, 9)","v":"000101101"},{"$f":"DEC2BIN(W6_limit!J43, 9)","v":"1111100001"},{"$f":"DEC2BIN(W6_limit!K43, 9)","v":"000000000"},{"$f":"DEC2BIN(W6_limit!L43, 9)","v":"000000000"},{"$f":"DEC2BIN(W6_limit!M43, 9)","v":"000000000"},{"$f":"DEC2BIN(W6_limit!N43, 9)","v":"000000000"},{"$f":"DEC2BIN(W6_limit!O43, 9)","v":"000000000"},{"$f":"DEC2BIN(W6_limit!P43, 9)","v":"000000000"},{"$f":"DEC2BIN(W6_limit!Q43, 9)","v":"000000000"},{"$f":"DEC2BIN(W6_limit!R43, 9)","v":"000000000"},{"$f":"DEC2BIN(W6_limit!S43, 9)","v":"000000000"},{"$f":"DEC2BIN(W6_limit!T43, 9)","v":"000000000"},{"$f":"DEC2BIN(W6_limit!U43, 9)","v":"000000000"},{"$f":"DEC2BIN(W6_limit!V43, 9)","v":"000000000"},{"$f":"DEC2BIN(W6_limit!W43, 9)","v":"000000000"},{"$f":"DEC2BIN(W6_limit!X43, 9)","v":"000000000"},{"$f":"DEC2BIN(W6_limit!Y43, 9)","v":"000000000"},{"$f":"DEC2BIN(W6_limit!Z43, 9)","v":"000000000"},{"$f":"DEC2BIN(W6_limit!AA43, 9)","v":"000000000"},{"$f":"DEC2BIN(W6_limit!AB43, 9)","v":"000000000"},{"$f":"DEC2BIN(W6_limit!AC43, 9)","v":"000000000"},{"$f":"DEC2BIN(W6_limit!AD43, 9)","v":"000000000"},{"$f":"DEC2BIN(W6_limit!AE43, 9)","v":"000000000"},{"$f":"DEC2BIN(W6_limit!AF43, 9)","v":"000000000"},{"$f":"DEC2BIN(W6_limit!AG43, 9)","v":"000000000"},{"$f":"DEC2BIN(W6_limit!AH43, 9)","v":"000000000"},{"$f":"DEC2BIN(W6_limit!AI43, 9)","v":"000000000"},{"$f":"DEC2BIN(W6_limit!AJ43, 9)","v":"000000000"},{"$f":"DEC2BIN(W6_limit!AK43, 9)","v":"000000000"},{"$f":"DEC2BIN(W6_limit!AL43, 9)","v":"000000000"},{"$f":"DEC2BIN(W6_limit!AM43, 9)","v":"000000000"},{"$f":"DEC2BIN(W6_limit!AN43, 9)","v":"000000000"},{"$f":"DEC2BIN(W6_limit!AO43, 9)","v":"000000000"},{"$f":"DEC2BIN(W6_limit!AP43, 9)","v":"000000000"},{"$f":"DEC2BIN(W6_limit!AQ43, 9)","v":"000000000"}]
[{"$f":"DEC2BIN(W6_limit!A44, 9)","v":"000000101"},{"$f":"DEC2BIN(W6_limit!B44, 9)","v":"1111000011"},{"$f":"DEC2BIN(W6_limit!C44, 9)","v":"1110101101"},{"$f":"DEC2BIN(W6_limit!D44, 9)","v":"1100011010"},{"$f":"DEC2BIN(W6_limit!E44, 9)","v":"1110110110"},{"$f":"DEC2BIN(W6_limit!F44, 9)","v":"1111001101"},{"$f":"DEC2BIN(W6_limit!G44, 9)","v":"000011100"},{"$f":"DEC2BIN(W6_limit!H44, 9)","v":"1110111100"},{"$f":"DEC2BIN(W6_limit!I44, 9)","v":"1111000000"},{"$f":"DEC2BIN(W6_limit!J44, 9)","v":"1111001011"},{"$f":"DEC2BIN(W6_limit!K44, 9)","v":"000000000"},{"$f":"DEC2BIN(W6_limit!L44, 9)","v":"000000000"},{"$f":"DEC2BIN(W6_limit!M44, 9)","v":"000000000"},{"$f":"DEC2BIN(W6_limit!N44, 9)","v":"000000000"},{"$f":"DEC2BIN(W6_limit!O44, 9)","v":"000000000"},{"$f":"DEC2BIN(W6_limit!P44, 9)","v":"000000000"},{"$f":"DEC2BIN(W6_limit!Q44, 9)","v":"000000000"},{"$f":"DEC2BIN(W6_limit!R44, 9)","v":"000000000"},{"$f":"DEC2BIN(W6_limit!S44, 9)","v":"000000000"},{"$f":"DEC2BIN(W6_limit!T44, 9)","v":"000000000"},{"$f":"DEC2BIN(W6_limit!U44, 9)","v":"000000000"},{"$f":"DEC2BIN(W6_limit!V44, 9)","v":"000000000"},{"$f":"DEC2BIN(W6_limit!W44, 9)","v":"000000000"},{"$f":"DEC2BIN(W6_limit!X44, 9)","v":"000000000"},{"$f":"DEC2BIN(W6_limit!Y44, 9)","v":"000000000"},{"$f":"DEC2BIN(W6_limit!Z44, 9)","v":"000000000"},{"$f":"DEC2BIN(W6_limit!AA44, 9)","v":"000000000"},{"$f":"DEC2BIN(W6_limit!AB44, 9)","v":"000000000"},{"$f":"DEC2BIN(W6_limit!AC44, 9)","v":"000000000"},{"$f":"DEC2BIN(W6_limit!AD44, 9)","v":"000000000"},{"$f":"DEC2BIN(W6_limit!AE44, 9)","v":"000000000"},{"$f":"DEC2BIN(W6_limit!AF44, 9)","v":"000000000"},{"$f":"DEC2BIN(W6_limit!AG44, 9)","v":"000000000"},{"$f":"DEC2BIN(W6_limit!AH44, 9)","v":"000000000"},{"$f":"DEC2BIN(W6_limit!AI44, 9)","v":"000000000"},{"$f":"DEC2BIN(W6_limit!AJ44, 9)","v":"000000000"},{"$f":"DEC2BIN(W6_limit!AK44, 9)","v":"000000000"},{"$f":"DEC2BIN(W6_limit!AL44, 9)","v":"000000000"},{"$f":"DEC2BIN(W6_limit!AM44, 9)","v":"000000000"},{"$f":"DEC2BIN(W6_limit!AN44, 9)","v":"000000000"},{"$f":"DEC2BIN(W6_limit!AO44, 9)","v":"000000000"},{"$f":"DEC2BIN(W6_limit!AP44, 9)","v":"000000000"},{"$f":"DEC2BIN(W6_limit!AQ44, 9)","v":"000000000"}]
[{"$f":"DEC2BIN(W6_limit!A45, 9)","v":"1111101110"},{"$f":"DEC2BIN(W6_limit!B45, 9)","v":"000111101"},{"$f":"DEC2BIN(W6_limit!C45, 9)","v":"1111001010"},{"$f":"DEC2BIN(W6_limit!D45, 9)","v":"1111111111"},{"$f":"DEC2BIN(W6_limit!E45, 9)","v":"1111000111"},{"$f":"DEC2BIN(W6_limit!F45, 9)","v":"1100111111"},{"$f":"DEC2BIN(W6_limit!G45, 9)","v":"1100111111"},{"$f":"DEC2BIN(W6_limit!H45, 9)","v":"1101000011"},{"$f":"DEC2BIN(W6_limit!I45, 9)","v":"1100000011"},{"$f":"DEC2BIN(W6_limit!J45, 9)","v":"000111101"},{"$f":"DEC2BIN(W6_limit!K45, 9)","v":"000000000"},{"$f":"DEC2BIN(W6_limit!L45, 9)","v":"000000000"},{"$f":"DEC2BIN(W6_limit!M45, 9)","v":"000000000"},{"$f":"DEC2BIN(W6_limit!N45, 9)","v":"000000000"},{"$f":"DEC2BIN(W6_limit!O45, 9)","v":"000000000"},{"$f":"DEC2BIN(W6_limit!P45, 9)","v":"000000000"},{"$f":"DEC2BIN(W6_limit!Q45, 9)","v":"000000000"},{"$f":"DEC2BIN(W6_limit!R45, 9)","v":"000000000"},{"$f":"DEC2BIN(W6_limit!S45, 9)","v":"000000000"},{"$f":"DEC2BIN(W6_limit!T45, 9)","v":"000000000"},{"$f":"DEC2BIN(W6_limit!U45, 9)","v":"000000000"},{"$f":"DEC2BIN(W6_limit!V45, 9)","v":"000000000"},{"$f":"DEC2BIN(W6_limit!W45, 9)","v":"000000000"},{"$f":"DEC2BIN(W6_limit!X45, 9)","v":"000000000"},{"$f":"DEC2BIN(W6_limit!Y45, 9)","v":"000000000"},{"$f":"DEC2BIN(W6_limit!Z45, 9)","v":"000000000"},{"$f":"DEC2BIN(W6_limit!AA45, 9)","v":"000000000"},{"$f":"DEC2BIN(W6_limit!AB45, 9)","v":"000000000"},{"$f":"DEC2BIN(W6_limit!AC45, 9)","v":"000000000"},{"$f":"DEC2BIN(W6_limit!AD45, 9)","v":"000000000"},{"$f":"DEC2BIN(W6_limit!AE45, 9)","v":"000000000"},{"$f":"DEC2BIN(W6_limit!AF45, 9)","v":"000000000"},{"$f":"DEC2BIN(W6_limit!AG45, 9)","v":"000000000"},{"$f":"DEC2BIN(W6_limit!AH45, 9)","v":"000000000"},{"$f":"DEC2BIN(W6_limit!AI45, 9)","v":"000000000"},{"$f":"DEC2BIN(W6_limit!AJ45, 9)","v":"000000000"},{"$f":"DEC2BIN(W6_limit!AK45, 9)","v":"000000000"},{"$f":"DEC2BIN(W6_limit!AL45, 9)","v":"000000000"},{"$f":"DEC2BIN(W6_limit!AM45, 9)","v":"000000000"},{"$f":"DEC2BIN(W6_limit!AN45, 9)","v":"000000000"},{"$f":"DEC2BIN(W6_limit!AO45, 9)","v":"000000000"},{"$f":"DEC2BIN(W6_limit!AP45, 9)","v":"000000000"},{"$f":"DEC2BIN(W6_limit!AQ45, 9)","v":"000000000"}]
[{"$f":"DEC2BIN(W6_limit!A46, 9)","v":"000000110"},{"$f":"DEC2BIN(W6_limit!B46, 9)","v":"1111010011"},{"$f":"DEC2BIN(W6_limit!C46, 9)","v":"000011101"},{"$f":"DEC2BIN(W6_limit!D46, 9)","v":"1111000111"},{"$f":"DEC2BIN(W6_limit!E46, 9)","v":"1111100100"},{"$f":"DEC2BIN(W6_limit!F46, 9)","v":"000011111"},{"$f":"DEC2BIN(W6_limit!G46, 9)","v":"000010110"},{"$f":"DEC2BIN(W6_limit!H46, 9)","v":"1111101011"},{"$f":"DEC2BIN(W6_limit!I46, 9)","v":"000011111"},{"$f":"DEC2BIN(W6_limit!J46, 9)","v":"1111101100"},{"$f":"DEC2BIN(W6_limit!K46, 9)","v":"000000000"},{"$f":"DEC2BIN(W6_limit!L46, 9)","v":"000000000"},{"$f":"DEC2BIN(W6_limit!M46, 9)","v":"000000000"},{"$f":"DEC2BIN(W6_limit!N46, 9)","v":"000000000"},{"$f":"DEC2BIN(W6_limit!O46, 9)","v":"000000000"},{"$f":"DEC2BIN(W6_limit!P46, 9)","v":"000000000"},{"$f":"DEC2BIN(W6_limit!Q46, 9)","v":"000000000"},{"$f":"DEC2BIN(W6_limit!R46, 9)","v":"000000000"},{"$f":"DEC2BIN(W6_limit!S46, 9)","v":"000000000"},{"$f":"DEC2BIN(W6_limit!T46, 9)","v":"000000000"},{"$f":"DEC2BIN(W6_limit!U46, 9)","v":"000000000"},{"$f":"DEC2BIN(W6_limit!V46, 9)","v":"000000000"},{"$f":"DEC2BIN(W6_limit!W46, 9)","v":"000000000"},{"$f":"DEC2BIN(W6_limit!X46, 9)","v":"000000000"},{"$f":"DEC2BIN(W6_limit!Y46, 9)","v":"000000000"},{"$f":"DEC2BIN(W6_limit!Z46, 9)","v":"000000000"},{"$f":"DEC2BIN(W6_limit!AA46, 9)","v":"000000000"},{"$f":"DEC2BIN(W6_limit!AB46, 9)","v":"000000000"},{"$f":"DEC2BIN(W6_limit!AC46, 9)","v":"000000000"},{"$f":"DEC2BIN(W6_limit!AD46, 9)","v":"000000000"},{"$f":"DEC2BIN(W6_limit!AE46, 9)","v":"000000000"},{"$f":"DEC2BIN(W6_limit!AF46, 9)","v":"000000000"},{"$f":"DEC2BIN(W6_limit!AG46, 9)","v":"000000000"},{"$f":"DEC2BIN(W6_limit!AH46, 9)","v":"000000000"},{"$f":"DEC2BIN(W6_limit!AI46, 9)","v":"000000000"},{"$f":"DEC2BIN(W6_limit!AJ46, 9)","v":"000000000"},{"$f":"DEC2BIN(W6_limit!AK46, 9)","v":"000000000"},{"$f":"DEC2BIN(W6_limit!AL46, 9)","v":"000000000"},{"$f":"DEC2BIN(W6_limit!AM46, 9)","v":"000000000"},{"$f":"DEC2BIN(W6_limit!AN46, 9)","v":"000000000"},{"$f":"DEC2BIN(W6_limit!AO46, 9)","v":"000000000"},{"$f":"DEC2BIN(W6_limit!AP46, 9)","v":"000000000"},{"$f":"DEC2BIN(W6_limit!AQ46, 9)","v":"000000000"}]
[{"$f":"DEC2BIN(W6_limit!A47, 9)","v":"1111000010"},{"$f":"DEC2BIN(W6_limit!B47, 9)","v":"000000111"},{"$f":"DEC2BIN(W6_limit!C47, 9)","v":"1111100111"},{"$f":"DEC2BIN(W6_limit!D47, 9)","v":"000001000"},{"$f":"DEC2BIN(W6_limit!E47, 9)","v":"000011100"},{"$f":"DEC2BIN(W6_limit!F47, 9)","v":"1110101110"},{"$f":"DEC2BIN(W6_limit!G47, 9)","v":"1111000111"},{"$f":"DEC2BIN(W6_limit!H47, 9)","v":"000100101"},{"$f":"DEC2BIN(W6_limit!I47, 9)","v":"1110110001"},{"$f":"DEC2BIN(W6_limit!J47, 9)","v":"1101100010"},{"$f":"DEC2BIN(W6_limit!K47, 9)","v":"000000000"},{"$f":"DEC2BIN(W6_limit!L47, 9)","v":"000000000"},{"$f":"DEC2BIN(W6_limit!M47, 9)","v":"000000000"},{"$f":"DEC2BIN(W6_limit!N47, 9)","v":"000000000"},{"$f":"DEC2BIN(W6_limit!O47, 9)","v":"000000000"},{"$f":"DEC2BIN(W6_limit!P47, 9)","v":"000000000"},{"$f":"DEC2BIN(W6_limit!Q47, 9)","v":"000000000"},{"$f":"DEC2BIN(W6_limit!R47, 9)","v":"000000000"},{"$f":"DEC2BIN(W6_limit!S47, 9)","v":"000000000"},{"$f":"DEC2BIN(W6_limit!T47, 9)","v":"000000000"},{"$f":"DEC2BIN(W6_limit!U47, 9)","v":"000000000"},{"$f":"DEC2BIN(W6_limit!V47, 9)","v":"000000000"},{"$f":"DEC2BIN(W6_limit!W47, 9)","v":"000000000"},{"$f":"DEC2BIN(W6_limit!X47, 9)","v":"000000000"},{"$f":"DEC2BIN(W6_limit!Y47, 9)","v":"000000000"},{"$f":"DEC2BIN(W6_limit!Z47, 9)","v":"000000000"},{"$f":"DEC2BIN(W6_limit!AA47, 9)","v":"000000000"},{"$f":"DEC2BIN(W6_limit!AB47, 9)","v":"000000000"},{"$f":"DEC2BIN(W6_limit!AC47, 9)","v":"000000000"},{"$f":"DEC2BIN(W6_limit!AD47, 9)","v":"000000000"},{"$f":"DEC2BIN(W6_limit!AE47, 9)","v":"000000000"},{"$f":"DEC2BIN(W6_limit!AF47, 9)","v":"000000000"},{"$f":"DEC2BIN(W6_limit!AG47, 9)","v":"000000000"},{"$f":"DEC2BIN(W6_limit!AH47, 9)","v":"000000000"},{"$f":"DEC2BIN(W6_limit!AI47, 9)","v":"000000000"},{"$f":"DEC2BIN(W6_limit!AJ47, 9)","v":"000000000"},{"$f":"DEC2BIN(W6_limit!AK47, 9)","v":"000000000"},{"$f":"DEC2BIN(W6_limit!AL47, 9)","v":"000000000"},{"$f":"DEC2BIN(W6_limit!AM47, 9)","v":"000000000"},{"$f":"DEC2BIN(W6_limit!AN47, 9)","v":"000000000"},{"$f":"DEC2BIN(W6_limit!AO47, 9)","v":"000000000"},{"$f":"DEC2BIN(W6_limit!AP47, 9)","v":"000000000"},{"$f":"DEC2BIN(W6_limit!AQ47, 9)","v":"000000000"}]
[{"$f":"DEC2BIN(W6_limit!A48, 9)","v":"1110101001"},{"$f":"DEC2BIN(W6_limit!B48, 9)","v":"000100001"},{"$f":"DEC2BIN(W6_limit!C48, 9)","v":"000011111"},{"$f":"DEC2BIN(W6_limit!D48, 9)","v":"1111000101"},{"$f":"DEC2BIN(W6_limit!E48, 9)","v":"000010100"},{"$f":"DEC2BIN(W6_limit!F48, 9)","v":"000000110"},{"$f":"DEC2BIN(W6_limit!G48, 9)","v":"1110000010"},{"$f":"DEC2BIN(W6_limit!H48, 9)","v":"1110000000"},{"$f":"DEC2BIN(W6_limit!I48, 9)","v":"1110011001"},{"$f":"DEC2BIN(W6_limit!J48, 9)","v":"1110100100"},{"$f":"DEC2BIN(W6_limit!K48, 9)","v":"000000000"},{"$f":"DEC2BIN(W6_limit!L48, 9)","v":"000000000"},{"$f":"DEC2BIN(W6_limit!M48, 9)","v":"000000000"},{"$f":"DEC2BIN(W6_limit!N48, 9)","v":"000000000"},{"$f":"DEC2BIN(W6_limit!O48, 9)","v":"000000000"},{"$f":"DEC2BIN(W6_limit!P48, 9)","v":"000000000"},{"$f":"DEC2BIN(W6_limit!Q48, 9)","v":"000000000"},{"$f":"DEC2BIN(W6_limit!R48, 9)","v":"000000000"},{"$f":"DEC2BIN(W6_limit!S48, 9)","v":"000000000"},{"$f":"DEC2BIN(W6_limit!T48, 9)","v":"000000000"},{"$f":"DEC2BIN(W6_limit!U48, 9)","v":"000000000"},{"$f":"DEC2BIN(W6_limit!V48, 9)","v":"000000000"},{"$f":"DEC2BIN(W6_limit!W48, 9)","v":"000000000"},{"$f":"DEC2BIN(W6_limit!X48, 9)","v":"000000000"},{"$f":"DEC2BIN(W6_limit!Y48, 9)","v":"000000000"},{"$f":"DEC2BIN(W6_limit!Z48, 9)","v":"000000000"},{"$f":"DEC2BIN(W6_limit!AA48, 9)","v":"000000000"},{"$f":"DEC2BIN(W6_limit!AB48, 9)","v":"000000000"},{"$f":"DEC2BIN(W6_limit!AC48, 9)","v":"000000000"},{"$f":"DEC2BIN(W6_limit!AD48, 9)","v":"000000000"},{"$f":"DEC2BIN(W6_limit!AE48, 9)","v":"000000000"},{"$f":"DEC2BIN(W6_limit!AF48, 9)","v":"000000000"},{"$f":"DEC2BIN(W6_limit!AG48, 9)","v":"000000000"},{"$f":"DEC2BIN(W6_limit!AH48, 9)","v":"000000000"},{"$f":"DEC2BIN(W6_limit!AI48, 9)","v":"000000000"},{"$f":"DEC2BIN(W6_limit!AJ48, 9)","v":"000000000"},{"$f":"DEC2BIN(W6_limit!AK48, 9)","v":"000000000"},{"$f":"DEC2BIN(W6_limit!AL48, 9)","v":"000000000"},{"$f":"DEC2BIN(W6_limit!AM48, 9)","v":"000000000"},{"$f":"DEC2BIN(W6_limit!AN48, 9)","v":"000000000"},{"$f":"DEC2BIN(W6_limit!AO48, 9)","v":"000000000"},{"$f":"DEC2BIN(W6_limit!AP48, 9)","v":"000000000"},{"$f":"DEC2BIN(W6_limit!AQ48, 9)","v":"000000000"}]
[{"$f":"DEC2BIN(W6_limit!A49, 9)","v":"000000000"},{"$f":"DEC2BIN(W6_limit!B49, 9)","v":"1111100001"},{"$f":"DEC2BIN(W6_limit!C49, 9)","v":"1111100111"},{"$f":"DEC2BIN(W6_limit!D49, 9)","v":"000001000"},{"$f":"DEC2BIN(W6_limit!E49, 9)","v":"1111011001"},{"$f":"DEC2BIN(W6_limit!F49, 9)","v":"000100100"},{"$f":"DEC2BIN(W6_limit!G49, 9)","v":"1111111001"},{"$f":"DEC2BIN(W6_limit!H49, 9)","v":"000001011"},{"$f":"DEC2BIN(W6_limit!I49, 9)","v":"000100001"},{"$f":"DEC2BIN(W6_limit!J49, 9)","v":"1111111100"},{"$f":"DEC2BIN(W6_limit!K49, 9)","v":"000000000"},{"$f":"DEC2BIN(W6_limit!L49, 9)","v":"000000000"},{"$f":"DEC2BIN(W6_limit!M49, 9)","v":"000000000"},{"$f":"DEC2BIN(W6_limit!N49, 9)","v":"000000000"},{"$f":"DEC2BIN(W6_limit!O49, 9)","v":"000000000"},{"$f":"DEC2BIN(W6_limit!P49, 9)","v":"000000000"},{"$f":"DEC2BIN(W6_limit!Q49, 9)","v":"000000000"},{"$f":"DEC2BIN(W6_limit!R49, 9)","v":"000000000"},{"$f":"DEC2BIN(W6_limit!S49, 9)","v":"000000000"},{"$f":"DEC2BIN(W6_limit!T49, 9)","v":"000000000"},{"$f":"DEC2BIN(W6_limit!U49, 9)","v":"000000000"},{"$f":"DEC2BIN(W6_limit!V49, 9)","v":"000000000"},{"$f":"DEC2BIN(W6_limit!W49, 9)","v":"000000000"},{"$f":"DEC2BIN(W6_limit!X49, 9)","v":"000000000"},{"$f":"DEC2BIN(W6_limit!Y49, 9)","v":"000000000"},{"$f":"DEC2BIN(W6_limit!Z49, 9)","v":"000000000"},{"$f":"DEC2BIN(W6_limit!AA49, 9)","v":"000000000"},{"$f":"DEC2BIN(W6_limit!AB49, 9)","v":"000000000"},{"$f":"DEC2BIN(W6_limit!AC49, 9)","v":"000000000"},{"$f":"DEC2BIN(W6_limit!AD49, 9)","v":"000000000"},{"$f":"DEC2BIN(W6_limit!AE49, 9)","v":"000000000"},{"$f":"DEC2BIN(W6_limit!AF49, 9)","v":"000000000"},{"$f":"DEC2BIN(W6_limit!AG49, 9)","v":"000000000"},{"$f":"DEC2BIN(W6_limit!AH49, 9)","v":"000000000"},{"$f":"DEC2BIN(W6_limit!AI49, 9)","v":"000000000"},{"$f":"DEC2BIN(W6_limit!AJ49, 9)","v":"000000000"},{"$f":"DEC2BIN(W6_limit!AK49, 9)","v":"000000000"},{"$f":"DEC2BIN(W6_limit!AL49, 9)","v":"000000000"},{"$f":"DEC2BIN(W6_limit!AM49, 9)","v":"000000000"},{"$f":"DEC2BIN(W6_limit!AN49, 9)","v":"000000000"},{"$f":"DEC2BIN(W6_limit!AO49, 9)","v":"000000000"},{"$f":"DEC2BIN(W6_limit!AP49, 9)","v":"000000000"},{"$f":"DEC2BIN(W6_limit!AQ49, 9)","v":"000000000"}]
[{"$f":"DEC2BIN(W6_limit!A50, 9)","v":"000101100"},{"$f":"DEC2BIN(W6_limit!B50, 9)","v":"000100110"},{"$f":"DEC2BIN(W6_limit!C50, 9)","v":"000101111"},{"$f":"DEC2BIN(W6_limit!D50, 9)","v":"1111101011"},{"$f":"DEC2BIN(W6_limit!E50, 9)","v":"1100101101"},{"$f":"DEC2BIN(W6_limit!F50, 9)","v":"1111011110"},{"$f":"DEC2BIN(W6_limit!G50, 9)","v":"1111001010"},{"$f":"DEC2BIN(W6_limit!H50, 9)","v":"1110001010"},{"$f":"DEC2BIN(W6_limit!I50, 9)","v":"1110100001"},{"$f":"DEC2BIN(W6_limit!J50, 9)","v":"1111111011"},{"$f":"DEC2BIN(W6_limit!K50, 9)","v":"000000000"},{"$f":"DEC2BIN(W6_limit!L50, 9)","v":"000000000"},{"$f":"DEC2BIN(W6_limit!M50, 9)","v":"000000000"},{"$f":"DEC2BIN(W6_limit!N50, 9)","v":"000000000"},{"$f":"DEC2BIN(W6_limit!O50, 9)","v":"000000000"},{"$f":"DEC2BIN(W6_limit!P50, 9)","v":"000000000"},{"$f":"DEC2BIN(W6_limit!Q50, 9)","v":"000000000"},{"$f":"DEC2BIN(W6_limit!R50, 9)","v":"000000000"},{"$f":"DEC2BIN(W6_limit!S50, 9)","v":"000000000"},{"$f":"DEC2BIN(W6_limit!T50, 9)","v":"000000000"},{"$f":"DEC2BIN(W6_limit!U50, 9)","v":"000000000"},{"$f":"DEC2BIN(W6_limit!V50, 9)","v":"000000000"},{"$f":"DEC2BIN(W6_limit!W50, 9)","v":"000000000"},{"$f":"DEC2BIN(W6_limit!X50, 9)","v":"000000000"},{"$f":"DEC2BIN(W6_limit!Y50, 9)","v":"000000000"},{"$f":"DEC2BIN(W6_limit!Z50, 9)","v":"000000000"},{"$f":"DEC2BIN(W6_limit!AA50, 9)","v":"000000000"},{"$f":"DEC2BIN(W6_limit!AB50, 9)","v":"000000000"},{"$f":"DEC2BIN(W6_limit!AC50, 9)","v":"000000000"},{"$f":"DEC2BIN(W6_limit!AD50, 9)","v":"000000000"},{"$f":"DEC2BIN(W6_limit!AE50, 9)","v":"000000000"},{"$f":"DEC2BIN(W6_limit!AF50, 9)","v":"000000000"},{"$f":"DEC2BIN(W6_limit!AG50, 9)","v":"000000000"},{"$f":"DEC2BIN(W6_limit!AH50, 9)","v":"000000000"},{"$f":"DEC2BIN(W6_limit!AI50, 9)","v":"000000000"},{"$f":"DEC2BIN(W6_limit!AJ50, 9)","v":"000000000"},{"$f":"DEC2BIN(W6_limit!AK50, 9)","v":"000000000"},{"$f":"DEC2BIN(W6_limit!AL50, 9)","v":"000000000"},{"$f":"DEC2BIN(W6_limit!AM50, 9)","v":"000000000"},{"$f":"DEC2BIN(W6_limit!AN50, 9)","v":"000000000"},{"$f":"DEC2BIN(W6_limit!AO50, 9)","v":"000000000"},{"$f":"DEC2BIN(W6_limit!AP50, 9)","v":"000000000"},{"$f":"DEC2BIN(W6_limit!AQ50, 9)","v":"000000000"}]
[{"$f":"DEC2BIN(W6_limit!A51, 9)","v":"1111101110"},{"$f":"DEC2BIN(W6_limit!B51, 9)","v":"1111110010"},{"$f":"DEC2BIN(W6_limit!C51, 9)","v":"1111001011"},{"$f":"DEC2BIN(W6_limit!D51, 9)","v":"1111101011"},{"$f":"DEC2BIN(W6_limit!E51, 9)","v":"000000011"},{"$f":"DEC2BIN(W6_limit!F51, 9)","v":"1111101110"},{"$f":"DEC2BIN(W6_limit!G51, 9)","v":"000000110"},{"$f":"DEC2BIN(W6_limit!H51, 9)","v":"000011100"},{"$f":"DEC2BIN(W6_limit!I51, 9)","v":"1111111101"},{"$f":"DEC2BIN(W6_limit!J51, 9)","v":"1111010100"},{"$f":"DEC2BIN(W6_limit!K51, 9)","v":"000000000"},{"$f":"DEC2BIN(W6_limit!L51, 9)","v":"000000000"},{"$f":"DEC2BIN(W6_limit!M51, 9)","v":"000000000"},{"$f":"DEC2BIN(W6_limit!N51, 9)","v":"000000000"},{"$f":"DEC2BIN(W6_limit!O51, 9)","v":"000000000"},{"$f":"DEC2BIN(W6_limit!P51, 9)","v":"000000000"},{"$f":"DEC2BIN(W6_limit!Q51, 9)","v":"000000000"},{"$f":"DEC2BIN(W6_limit!R51, 9)","v":"000000000"},{"$f":"DEC2BIN(W6_limit!S51, 9)","v":"000000000"},{"$f":"DEC2BIN(W6_limit!T51, 9)","v":"000000000"},{"$f":"DEC2BIN(W6_limit!U51, 9)","v":"000000000"},{"$f":"DEC2BIN(W6_limit!V51, 9)","v":"000000000"},{"$f":"DEC2BIN(W6_limit!W51, 9)","v":"000000000"},{"$f":"DEC2BIN(W6_limit!X51, 9)","v":"000000000"},{"$f":"DEC2BIN(W6_limit!Y51, 9)","v":"000000000"},{"$f":"DEC2BIN(W6_limit!Z51, 9)","v":"000000000"},{"$f":"DEC2BIN(W6_limit!AA51, 9)","v":"000000000"},{"$f":"DEC2BIN(W6_limit!AB51, 9)","v":"000000000"},{"$f":"DEC2BIN(W6_limit!AC51, 9)","v":"000000000"},{"$f":"DEC2BIN(W6_limit!AD51, 9)","v":"000000000"},{"$f":"DEC2BIN(W6_limit!AE51, 9)","v":"000000000"},{"$f":"DEC2BIN(W6_limit!AF51, 9)","v":"000000000"},{"$f":"DEC2BIN(W6_limit!AG51, 9)","v":"000000000"},{"$f":"DEC2BIN(W6_limit!AH51, 9)","v":"000000000"},{"$f":"DEC2BIN(W6_limit!AI51, 9)","v":"000000000"},{"$f":"DEC2BIN(W6_limit!AJ51, 9)","v":"000000000"},{"$f":"DEC2BIN(W6_limit!AK51, 9)","v":"000000000"},{"$f":"DEC2BIN(W6_limit!AL51, 9)","v":"000000000"},{"$f":"DEC2BIN(W6_limit!AM51, 9)","v":"000000000"},{"$f":"DEC2BIN(W6_limit!AN51, 9)","v":"000000000"},{"$f":"DEC2BIN(W6_limit!AO51, 9)","v":"000000000"},{"$f":"DEC2BIN(W6_limit!AP51, 9)","v":"000000000"},{"$f":"DEC2BIN(W6_limit!AQ51, 9)","v":"000000000"}]
[{"$f":"DEC2BIN(W6_limit!A52, 9)","v":"1111110011"},{"$f":"DEC2BIN(W6_limit!B52, 9)","v":"1111100100"},{"$f":"DEC2BIN(W6_limit!C52, 9)","v":"000001000"},{"$f":"DEC2BIN(W6_limit!D52, 9)","v":"1111101100"},{"$f":"DEC2BIN(W6_limit!E52, 9)","v":"1111100010"},{"$f":"DEC2BIN(W6_limit!F52, 9)","v":"000110001"},{"$f":"DEC2BIN(W6_limit!G52, 9)","v":"1111001101"},{"$f":"DEC2BIN(W6_limit!H52, 9)","v":"000101011"},{"$f":"DEC2BIN(W6_limit!I52, 9)","v":"1111110101"},{"$f":"DEC2BIN(W6_limit!J52, 9)","v":"000011010"},{"$f":"DEC2BIN(W6_limit!K52, 9)","v":"000000000"},{"$f":"DEC2BIN(W6_limit!L52, 9)","v":"000000000"},{"$f":"DEC2BIN(W6_limit!M52, 9)","v":"000000000"},{"$f":"DEC2BIN(W6_limit!N52, 9)","v":"000000000"},{"$f":"DEC2BIN(W6_limit!O52, 9)","v":"000000000"},{"$f":"DEC2BIN(W6_limit!P52, 9)","v":"000000000"},{"$f":"DEC2BIN(W6_limit!Q52, 9)","v":"000000000"},{"$f":"DEC2BIN(W6_limit!R52, 9)","v":"000000000"},{"$f":"DEC2BIN(W6_limit!S52, 9)","v":"000000000"},{"$f":"DEC2BIN(W6_limit!T52, 9)","v":"000000000"},{"$f":"DEC2BIN(W6_limit!U52, 9)","v":"000000000"},{"$f":"DEC2BIN(W6_limit!V52, 9)","v":"000000000"},{"$f":"DEC2BIN(W6_limit!W52, 9)","v":"000000000"},{"$f":"DEC2BIN(W6_limit!X52, 9)","v":"000000000"},{"$f":"DEC2BIN(W6_limit!Y52, 9)","v":"000000000"},{"$f":"DEC2BIN(W6_limit!Z52, 9)","v":"000000000"},{"$f":"DEC2BIN(W6_limit!AA52, 9)","v":"000000000"},{"$f":"DEC2BIN(W6_limit!AB52, 9)","v":"000000000"},{"$f":"DEC2BIN(W6_limit!AC52, 9)","v":"000000000"},{"$f":"DEC2BIN(W6_limit!AD52, 9)","v":"000000000"},{"$f":"DEC2BIN(W6_limit!AE52, 9)","v":"000000000"},{"$f":"DEC2BIN(W6_limit!AF52, 9)","v":"000000000"},{"$f":"DEC2BIN(W6_limit!AG52, 9)","v":"000000000"},{"$f":"DEC2BIN(W6_limit!AH52, 9)","v":"000000000"},{"$f":"DEC2BIN(W6_limit!AI52, 9)","v":"000000000"},{"$f":"DEC2BIN(W6_limit!AJ52, 9)","v":"000000000"},{"$f":"DEC2BIN(W6_limit!AK52, 9)","v":"000000000"},{"$f":"DEC2BIN(W6_limit!AL52, 9)","v":"000000000"},{"$f":"DEC2BIN(W6_limit!AM52, 9)","v":"000000000"},{"$f":"DEC2BIN(W6_limit!AN52, 9)","v":"000000000"},{"$f":"DEC2BIN(W6_limit!AO52, 9)","v":"000000000"},{"$f":"DEC2BIN(W6_limit!AP52, 9)","v":"000000000"},{"$f":"DEC2BIN(W6_limit!AQ52, 9)","v":"000000000"}]
[{"$f":"DEC2BIN(W6_limit!A53, 9)","v":"000000111"},{"$f":"DEC2BIN(W6_limit!B53, 9)","v":"1110101110"},{"$f":"DEC2BIN(W6_limit!C53, 9)","v":"1101100001"},{"$f":"DEC2BIN(W6_limit!D53, 9)","v":"1101110011"},{"$f":"DEC2BIN(W6_limit!E53, 9)","v":"1110100111"},{"$f":"DEC2BIN(W6_limit!F53, 9)","v":"1110101000"},{"$f":"DEC2BIN(W6_limit!G53, 9)","v":"1110101001"},{"$f":"DEC2BIN(W6_limit!H53, 9)","v":"1110010010"},{"$f":"DEC2BIN(W6_limit!I53, 9)","v":"000001100"},{"$f":"DEC2BIN(W6_limit!J53, 9)","v":"000000110"},{"$f":"DEC2BIN(W6_limit!K53, 9)","v":"000000000"},{"$f":"DEC2BIN(W6_limit!L53, 9)","v":"000000000"},{"$f":"DEC2BIN(W6_limit!M53, 9)","v":"000000000"},{"$f":"DEC2BIN(W6_limit!N53, 9)","v":"000000000"},{"$f":"DEC2BIN(W6_limit!O53, 9)","v":"000000000"},{"$f":"DEC2BIN(W6_limit!P53, 9)","v":"000000000"},{"$f":"DEC2BIN(W6_limit!Q53, 9)","v":"000000000"},{"$f":"DEC2BIN(W6_limit!R53, 9)","v":"000000000"},{"$f":"DEC2BIN(W6_limit!S53, 9)","v":"000000000"},{"$f":"DEC2BIN(W6_limit!T53, 9)","v":"000000000"},{"$f":"DEC2BIN(W6_limit!U53, 9)","v":"000000000"},{"$f":"DEC2BIN(W6_limit!V53, 9)","v":"000000000"},{"$f":"DEC2BIN(W6_limit!W53, 9)","v":"000000000"},{"$f":"DEC2BIN(W6_limit!X53, 9)","v":"000000000"},{"$f":"DEC2BIN(W6_limit!Y53, 9)","v":"000000000"},{"$f":"DEC2BIN(W6_limit!Z53, 9)","v":"000000000"},{"$f":"DEC2BIN(W6_limit!AA53, 9)","v":"000000000"},{"$f":"DEC2BIN(W6_limit!AB53, 9)","v":"000000000"},{"$f":"DEC2BIN(W6_limit!AC53, 9)","v":"000000000"},{"$f":"DEC2BIN(W6_limit!AD53, 9)","v":"000000000"},{"$f":"DEC2BIN(W6_limit!AE53, 9)","v":"000000000"},{"$f":"DEC2BIN(W6_limit!AF53, 9)","v":"000000000"},{"$f":"DEC2BIN(W6_limit!AG53, 9)","v":"000000000"},{"$f":"DEC2BIN(W6_limit!AH53, 9)","v":"000000000"},{"$f":"DEC2BIN(W6_limit!AI53, 9)","v":"000000000"},{"$f":"DEC2BIN(W6_limit!AJ53, 9)","v":"000000000"},{"$f":"DEC2BIN(W6_limit!AK53, 9)","v":"000000000"},{"$f":"DEC2BIN(W6_limit!AL53, 9)","v":"000000000"},{"$f":"DEC2BIN(W6_limit!AM53, 9)","v":"000000000"},{"$f":"DEC2BIN(W6_limit!AN53, 9)","v":"000000000"},{"$f":"DEC2BIN(W6_limit!AO53, 9)","v":"000000000"},{"$f":"DEC2BIN(W6_limit!AP53, 9)","v":"000000000"},{"$f":"DEC2BIN(W6_limit!AQ53, 9)","v":"000000000"}]
[{"$f":"DEC2BIN(W6_limit!A54, 9)","v":"1111010110"},{"$f":"DEC2BIN(W6_limit!B54, 9)","v":"000101110"},{"$f":"DEC2BIN(W6_limit!C54, 9)","v":"000101001"},{"$f":"DEC2BIN(W6_limit!D54, 9)","v":"1111110100"},{"$f":"DEC2BIN(W6_limit!E54, 9)","v":"000000111"},{"$f":"DEC2BIN(W6_limit!F54, 9)","v":"000010011"},{"$f":"DEC2BIN(W6_limit!G54, 9)","v":"000001101"},{"$f":"DEC2BIN(W6_limit!H54, 9)","v":"1111011001"},{"$f":"DEC2BIN(W6_limit!I54, 9)","v":"000010110"},{"$f":"DEC2BIN(W6_limit!J54, 9)","v":"000000010"},{"$f":"DEC2BIN(W6_limit!K54, 9)","v":"000000000"},{"$f":"DEC2BIN(W6_limit!L54, 9)","v":"000000000"},{"$f":"DEC2BIN(W6_limit!M54, 9)","v":"000000000"},{"$f":"DEC2BIN(W6_limit!N54, 9)","v":"000000000"},{"$f":"DEC2BIN(W6_limit!O54, 9)","v":"000000000"},{"$f":"DEC2BIN(W6_limit!P54, 9)","v":"000000000"},{"$f":"DEC2BIN(W6_limit!Q54, 9)","v":"000000000"},{"$f":"DEC2BIN(W6_limit!R54, 9)","v":"000000000"},{"$f":"DEC2BIN(W6_limit!S54, 9)","v":"000000000"},{"$f":"DEC2BIN(W6_limit!T54, 9)","v":"000000000"},{"$f":"DEC2BIN(W6_limit!U54, 9)","v":"000000000"},{"$f":"DEC2BIN(W6_limit!V54, 9)","v":"000000000"},{"$f":"DEC2BIN(W6_limit!W54, 9)","v":"000000000"},{"$f":"DEC2BIN(W6_limit!X54, 9)","v":"000000000"},{"$f":"DEC2BIN(W6_limit!Y54, 9)","v":"000000000"},{"$f":"DEC2BIN(W6_limit!Z54, 9)","v":"000000000"},{"$f":"DEC2BIN(W6_limit!AA54, 9)","v":"000000000"},{"$f":"DEC2BIN(W6_limit!AB54, 9)","v":"000000000"},{"$f":"DEC2BIN(W6_limit!AC54, 9)","v":"000000000"},{"$f":"DEC2BIN(W6_limit!AD54, 9)","v":"000000000"},{"$f":"DEC2BIN(W6_limit!AE54, 9)","v":"000000000"},{"$f":"DEC2BIN(W6_limit!AF54, 9)","v":"000000000"},{"$f":"DEC2BIN(W6_limit!AG54, 9)","v":"000000000"},{"$f":"DEC2BIN(W6_limit!AH54, 9)","v":"000000000"},{"$f":"DEC2BIN(W6_limit!AI54, 9)","v":"000000000"},{"$f":"DEC2BIN(W6_limit!AJ54, 9)","v":"000000000"},{"$f":"DEC2BIN(W6_limit!AK54, 9)","v":"000000000"},{"$f":"DEC2BIN(W6_limit!AL54, 9)","v":"000000000"},{"$f":"DEC2BIN(W6_limit!AM54, 9)","v":"000000000"},{"$f":"DEC2BIN(W6_limit!AN54, 9)","v":"000000000"},{"$f":"DEC2BIN(W6_limit!AO54, 9)","v":"000000000"},{"$f":"DEC2BIN(W6_limit!AP54, 9)","v":"000000000"},{"$f":"DEC2BIN(W6_limit!AQ54, 9)","v":"000000000"}]
[{"$f":"DEC2BIN(W6_limit!A55, 9)","v":"1111110010"},{"$f":"DEC2BIN(W6_limit!B55, 9)","v":"1111010000"},{"$f":"DEC2BIN(W6_limit!C55, 9)","v":"1101110110"},{"$f":"DEC2BIN(W6_limit!D55, 9)","v":"1100000000"},{"$f":"DEC2BIN(W6_limit!E55, 9)","v":"1111011110"},{"$f":"DEC2BIN(W6_limit!F55, 9)","v":"000001001"},{"$f":"DEC2BIN(W6_limit!G55, 9)","v":"1110100001"},{"$f":"DEC2BIN(W6_limit!H55, 9)","v":"1111111010"},{"$f":"DEC2BIN(W6_limit!I55, 9)","v":"1111000100"},{"$f":"DEC2BIN(W6_limit!J55, 9)","v":"1110111011"},{"$f":"DEC2BIN(W6_limit!K55, 9)","v":"000000000"},{"$f":"DEC2BIN(W6_limit!L55, 9)","v":"000000000"},{"$f":"DEC2BIN(W6_limit!M55, 9)","v":"000000000"},{"$f":"DEC2BIN(W6_limit!N55, 9)","v":"000000000"},{"$f":"DEC2BIN(W6_limit!O55, 9)","v":"000000000"},{"$f":"DEC2BIN(W6_limit!P55, 9)","v":"000000000"},{"$f":"DEC2BIN(W6_limit!Q55, 9)","v":"000000000"},{"$f":"DEC2BIN(W6_limit!R55, 9)","v":"000000000"},{"$f":"DEC2BIN(W6_limit!S55, 9)","v":"000000000"},{"$f":"DEC2BIN(W6_limit!T55, 9)","v":"000000000"},{"$f":"DEC2BIN(W6_limit!U55, 9)","v":"000000000"},{"$f":"DEC2BIN(W6_limit!V55, 9)","v":"000000000"},{"$f":"DEC2BIN(W6_limit!W55, 9)","v":"000000000"},{"$f":"DEC2BIN(W6_limit!X55, 9)","v":"000000000"},{"$f":"DEC2BIN(W6_limit!Y55, 9)","v":"000000000"},{"$f":"DEC2BIN(W6_limit!Z55, 9)","v":"000000000"},{"$f":"DEC2BIN(W6_limit!AA55, 9)","v":"000000000"},{"$f":"DEC2BIN(W6_limit!AB55, 9)","v":"000000000"},{"$f":"DEC2BIN(W6_limit!AC55, 9)","v":"000000000"},{"$f":"DEC2BIN(W6_limit!AD55, 9)","v":"000000000"},{"$f":"DEC2BIN(W6_limit!AE55, 9)","v":"000000000"},{"$f":"DEC2BIN(W6_limit!AF55, 9)","v":"000000000"},{"$f":"DEC2BIN(W6_limit!AG55, 9)","v":"000000000"},{"$f":"DEC2BIN(W6_limit!AH55, 9)","v":"000000000"},{"$f":"DEC2BIN(W6_limit!AI55, 9)","v":"000000000"},{"$f":"DEC2BIN(W6_limit!AJ55, 9)","v":"000000000"},{"$f":"DEC2BIN(W6_limit!AK55, 9)","v":"000000000"},{"$f":"DEC2BIN(W6_limit!AL55, 9)","v":"000000000"},{"$f":"DEC2BIN(W6_limit!AM55, 9)","v":"000000000"},{"$f":"DEC2BIN(W6_limit!AN55, 9)","v":"000000000"},{"$f":"DEC2BIN(W6_limit!AO55, 9)","v":"000000000"},{"$f":"DEC2BIN(W6_limit!AP55, 9)","v":"000000000"},{"$f":"DEC2BIN(W6_limit!AQ55, 9)","v":"000000000"}]
[{"$f":"DEC2BIN(W6_limit!A56, 9)","v":"000001101"},{"$f":"DEC2BIN(W6_limit!B56, 9)","v":"1110110110"},{"$f":"DEC2BIN(W6_limit!C56, 9)","v":"1101001110"},{"$f":"DEC2BIN(W6_limit!D56, 9)","v":"1100110111"},{"$f":"DEC2BIN(W6_limit!E56, 9)","v":"1100110110"},{"$f":"DEC2BIN(W6_limit!F56, 9)","v":"1111010110"},{"$f":"DEC2BIN(W6_limit!G56, 9)","v":"1111000110"},{"$f":"DEC2BIN(W6_limit!H56, 9)","v":"1101011011"},{"$f":"DEC2BIN(W6_limit!I56, 9)","v":"1111010101"},{"$f":"DEC2BIN(W6_limit!J56, 9)","v":"000001101"},{"$f":"DEC2BIN(W6_limit!K56, 9)","v":"000000000"},{"$f":"DEC2BIN(W6_limit!L56, 9)","v":"000000000"},{"$f":"DEC2BIN(W6_limit!M56, 9)","v":"000000000"},{"$f":"DEC2BIN(W6_limit!N56, 9)","v":"000000000"},{"$f":"DEC2BIN(W6_limit!O56, 9)","v":"000000000"},{"$f":"DEC2BIN(W6_limit!P56, 9)","v":"000000000"},{"$f":"DEC2BIN(W6_limit!Q56, 9)","v":"000000000"},{"$f":"DEC2BIN(W6_limit!R56, 9)","v":"000000000"},{"$f":"DEC2BIN(W6_limit!S56, 9)","v":"000000000"},{"$f":"DEC2BIN(W6_limit!T56, 9)","v":"000000000"},{"$f":"DEC2BIN(W6_limit!U56, 9)","v":"000000000"},{"$f":"DEC2BIN(W6_limit!V56, 9)","v":"000000000"},{"$f":"DEC2BIN(W6_limit!W56, 9)","v":"000000000"},{"$f":"DEC2BIN(W6_limit!X56, 9)","v":"000000000"},{"$f":"DEC2BIN(W6_limit!Y56, 9)","v":"000000000"},{"$f":"DEC2BIN(W6_limit!Z56, 9)","v":"000000000"},{"$f":"DEC2BIN(W6_limit!AA56, 9)","v":"000000000"},{"$f":"DEC2BIN(W6_limit!AB56, 9)","v":"000000000"},{"$f":"DEC2BIN(W6_limit!AC56, 9)","v":"000000000"},{"$f":"DEC2BIN(W6_limit!AD56, 9)","v":"000000000"},{"$f":"DEC2BIN(W6_limit!AE56, 9)","v":"000000000"},{"$f":"DEC2BIN(W6_limit!AF56, 9)","v":"000000000"},{"$f":"DEC2BIN(W6_limit!AG56, 9)","v":"000000000"},{"$f":"DEC2BIN(W6_limit!AH56, 9)","v":"000000000"},{"$f":"DEC2BIN(W6_limit!AI56, 9)","v":"000000000"},{"$f":"DEC2BIN(W6_limit!AJ56, 9)","v":"000000000"},{"$f":"DEC2BIN(W6_limit!AK56, 9)","v":"000000000"},{"$f":"DEC2BIN(W6_limit!AL56, 9)","v":"000000000"},{"$f":"DEC2BIN(W6_limit!AM56, 9)","v":"000000000"},{"$f":"DEC2BIN(W6_limit!AN56, 9)","v":"000000000"},{"$f":"DEC2BIN(W6_limit!AO56, 9)","v":"000000000"},{"$f":"DEC2BIN(W6_limit!AP56, 9)","v":"000000000"},{"$f":"DEC2BIN(W6_limit!AQ56, 9)","v":"000000000"}]
[{"$f":"DEC2BIN(W6_limit!A57, 9)","v":"1111110101"},{"$f":"DEC2BIN(W6_limit!B57, 9)","v":"1111000011"},{"$f":"DEC2BIN(W6_limit!C57, 9)","v":"1111100001"},{"$f":"DEC2BIN(W6_limit!D57, 9)","v":"000111001"},{"$f":"DEC2BIN(W6_limit!E57, 9)","v":"1111010011"},{"$f":"DEC2BIN(W6_limit!F57, 9)","v":"001000001"},{"$f":"DEC2BIN(W6_limit!G57, 9)","v":"1111001011"},{"$f":"DEC2BIN(W6_limit!H57, 9)","v":"1111101110"},{"$f":"DEC2BIN(W6_limit!I57, 9)","v":"1111000100"},{"$f":"DEC2BIN(W6_limit!J57, 9)","v":"1111011010"},{"$f":"DEC2BIN(W6_limit!K57, 9)","v":"000000000"},{"$f":"DEC2BIN(W6_limit!L57, 9)","v":"000000000"},{"$f":"DEC2BIN(W6_limit!M57, 9)","v":"000000000"},{"$f":"DEC2BIN(W6_limit!N57, 9)","v":"000000000"},{"$f":"DEC2BIN(W6_limit!O57, 9)","v":"000000000"},{"$f":"DEC2BIN(W6_limit!P57, 9)","v":"000000000"},{"$f":"DEC2BIN(W6_limit!Q57, 9)","v":"000000000"},{"$f":"DEC2BIN(W6_limit!R57, 9)","v":"000000000"},{"$f":"DEC2BIN(W6_limit!S57, 9)","v":"000000000"},{"$f":"DEC2BIN(W6_limit!T57, 9)","v":"000000000"},{"$f":"DEC2BIN(W6_limit!U57, 9)","v":"000000000"},{"$f":"DEC2BIN(W6_limit!V57, 9)","v":"000000000"},{"$f":"DEC2BIN(W6_limit!W57, 9)","v":"000000000"},{"$f":"DEC2BIN(W6_limit!X57, 9)","v":"000000000"},{"$f":"DEC2BIN(W6_limit!Y57, 9)","v":"000000000"},{"$f":"DEC2BIN(W6_limit!Z57, 9)","v":"000000000"},{"$f":"DEC2BIN(W6_limit!AA57, 9)","v":"000000000"},{"$f":"DEC2BIN(W6_limit!AB57, 9)","v":"000000000"},{"$f":"DEC2BIN(W6_limit!AC57, 9)","v":"000000000"},{"$f":"DEC2BIN(W6_limit!AD57, 9)","v":"000000000"},{"$f":"DEC2BIN(W6_limit!AE57, 9)","v":"000000000"},{"$f":"DEC2BIN(W6_limit!AF57, 9)","v":"000000000"},{"$f":"DEC2BIN(W6_limit!AG57, 9)","v":"000000000"},{"$f":"DEC2BIN(W6_limit!AH57, 9)","v":"000000000"},{"$f":"DEC2BIN(W6_limit!AI57, 9)","v":"000000000"},{"$f":"DEC2BIN(W6_limit!AJ57, 9)","v":"000000000"},{"$f":"DEC2BIN(W6_limit!AK57, 9)","v":"000000000"},{"$f":"DEC2BIN(W6_limit!AL57, 9)","v":"000000000"},{"$f":"DEC2BIN(W6_limit!AM57, 9)","v":"000000000"},{"$f":"DEC2BIN(W6_limit!AN57, 9)","v":"000000000"},{"$f":"DEC2BIN(W6_limit!AO57, 9)","v":"000000000"},{"$f":"DEC2BIN(W6_limit!AP57, 9)","v":"000000000"},{"$f":"DEC2BIN(W6_limit!AQ57, 9)","v":"000000000"}]
[{"$f":"DEC2BIN(W6_limit!A58, 9)","v":"1111110100"},{"$f":"DEC2BIN(W6_limit!B58, 9)","v":"1111100011"},{"$f":"DEC2BIN(W6_limit!C58, 9)","v":"1111111000"},{"$f":"DEC2BIN(W6_limit!D58, 9)","v":"000110011"},{"$f":"DEC2BIN(W6_limit!E58, 9)","v":"000011001"},{"$f":"DEC2BIN(W6_limit!F58, 9)","v":"1111111100"},{"$f":"DEC2BIN(W6_limit!G58, 9)","v":"1111100111"},{"$f":"DEC2BIN(W6_limit!H58, 9)","v":"000110011"},{"$f":"DEC2BIN(W6_limit!I58, 9)","v":"1111111100"},{"$f":"DEC2BIN(W6_limit!J58, 9)","v":"1111101101"},{"$f":"DEC2BIN(W6_limit!K58, 9)","v":"000000000"},{"$f":"DEC2BIN(W6_limit!L58, 9)","v":"000000000"},{"$f":"DEC2BIN(W6_limit!M58, 9)","v":"000000000"},{"$f":"DEC2BIN(W6_limit!N58, 9)","v":"000000000"},{"$f":"DEC2BIN(W6_limit!O58, 9)","v":"000000000"},{"$f":"DEC2BIN(W6_limit!P58, 9)","v":"000000000"},{"$f":"DEC2BIN(W6_limit!Q58, 9)","v":"000000000"},{"$f":"DEC2BIN(W6_limit!R58, 9)","v":"000000000"},{"$f":"DEC2BIN(W6_limit!S58, 9)","v":"000000000"},{"$f":"DEC2BIN(W6_limit!T58, 9)","v":"000000000"},{"$f":"DEC2BIN(W6_limit!U58, 9)","v":"000000000"},{"$f":"DEC2BIN(W6_limit!V58, 9)","v":"000000000"},{"$f":"DEC2BIN(W6_limit!W58, 9)","v":"000000000"},{"$f":"DEC2BIN(W6_limit!X58, 9)","v":"000000000"},{"$f":"DEC2BIN(W6_limit!Y58, 9)","v":"000000000"},{"$f":"DEC2BIN(W6_limit!Z58, 9)","v":"000000000"},{"$f":"DEC2BIN(W6_limit!AA58, 9)","v":"000000000"},{"$f":"DEC2BIN(W6_limit!AB58, 9)","v":"000000000"},{"$f":"DEC2BIN(W6_limit!AC58, 9)","v":"000000000"},{"$f":"DEC2BIN(W6_limit!AD58, 9)","v":"000000000"},{"$f":"DEC2BIN(W6_limit!AE58, 9)","v":"000000000"},{"$f":"DEC2BIN(W6_limit!AF58, 9)","v":"000000000"},{"$f":"DEC2BIN(W6_limit!AG58, 9)","v":"000000000"},{"$f":"DEC2BIN(W6_limit!AH58, 9)","v":"000000000"},{"$f":"DEC2BIN(W6_limit!AI58, 9)","v":"000000000"},{"$f":"DEC2BIN(W6_limit!AJ58, 9)","v":"000000000"},{"$f":"DEC2BIN(W6_limit!AK58, 9)","v":"000000000"},{"$f":"DEC2BIN(W6_limit!AL58, 9)","v":"000000000"},{"$f":"DEC2BIN(W6_limit!AM58, 9)","v":"000000000"},{"$f":"DEC2BIN(W6_limit!AN58, 9)","v":"000000000"},{"$f":"DEC2BIN(W6_limit!AO58, 9)","v":"000000000"},{"$f":"DEC2BIN(W6_limit!AP58, 9)","v":"000000000"},{"$f":"DEC2BIN(W6_limit!AQ58, 9)","v":"000000000"}]
[{"$f":"DEC2BIN(W6_limit!A59, 9)","v":"000010000"},{"$f":"DEC2BIN(W6_limit!B59, 9)","v":"000001010"},{"$f":"DEC2BIN(W6_limit!C59, 9)","v":"000010100"},{"$f":"DEC2BIN(W6_limit!D59, 9)","v":"1110011101"},{"$f":"DEC2BIN(W6_limit!E59, 9)","v":"1101100110"},{"$f":"DEC2BIN(W6_limit!F59, 9)","v":"000100000"},{"$f":"DEC2BIN(W6_limit!G59, 9)","v":"000110000"},{"$f":"DEC2BIN(W6_limit!H59, 9)","v":"1110100010"},{"$f":"DEC2BIN(W6_limit!I59, 9)","v":"1110100100"},{"$f":"DEC2BIN(W6_limit!J59, 9)","v":"1110111110"},{"$f":"DEC2BIN(W6_limit!K59, 9)","v":"000000000"},{"$f":"DEC2BIN(W6_limit!L59, 9)","v":"000000000"},{"$f":"DEC2BIN(W6_limit!M59, 9)","v":"000000000"},{"$f":"DEC2BIN(W6_limit!N59, 9)","v":"000000000"},{"$f":"DEC2BIN(W6_limit!O59, 9)","v":"000000000"},{"$f":"DEC2BIN(W6_limit!P59, 9)","v":"000000000"},{"$f":"DEC2BIN(W6_limit!Q59, 9)","v":"000000000"},{"$f":"DEC2BIN(W6_limit!R59, 9)","v":"000000000"},{"$f":"DEC2BIN(W6_limit!S59, 9)","v":"000000000"},{"$f":"DEC2BIN(W6_limit!T59, 9)","v":"000000000"},{"$f":"DEC2BIN(W6_limit!U59, 9)","v":"000000000"},{"$f":"DEC2BIN(W6_limit!V59, 9)","v":"000000000"},{"$f":"DEC2BIN(W6_limit!W59, 9)","v":"000000000"},{"$f":"DEC2BIN(W6_limit!X59, 9)","v":"000000000"},{"$f":"DEC2BIN(W6_limit!Y59, 9)","v":"000000000"},{"$f":"DEC2BIN(W6_limit!Z59, 9)","v":"000000000"},{"$f":"DEC2BIN(W6_limit!AA59, 9)","v":"000000000"},{"$f":"DEC2BIN(W6_limit!AB59, 9)","v":"000000000"},{"$f":"DEC2BIN(W6_limit!AC59, 9)","v":"000000000"},{"$f":"DEC2BIN(W6_limit!AD59, 9)","v":"000000000"},{"$f":"DEC2BIN(W6_limit!AE59, 9)","v":"000000000"},{"$f":"DEC2BIN(W6_limit!AF59, 9)","v":"000000000"},{"$f":"DEC2BIN(W6_limit!AG59, 9)","v":"000000000"},{"$f":"DEC2BIN(W6_limit!AH59, 9)","v":"000000000"},{"$f":"DEC2BIN(W6_limit!AI59, 9)","v":"000000000"},{"$f":"DEC2BIN(W6_limit!AJ59, 9)","v":"000000000"},{"$f":"DEC2BIN(W6_limit!AK59, 9)","v":"000000000"},{"$f":"DEC2BIN(W6_limit!AL59, 9)","v":"000000000"},{"$f":"DEC2BIN(W6_limit!AM59, 9)","v":"000000000"},{"$f":"DEC2BIN(W6_limit!AN59, 9)","v":"000000000"},{"$f":"DEC2BIN(W6_limit!AO59, 9)","v":"000000000"},{"$f":"DEC2BIN(W6_limit!AP59, 9)","v":"000000000"},{"$f":"DEC2BIN(W6_limit!AQ59, 9)","v":"000000000"}]
[{"$f":"DEC2BIN(W6_limit!A60, 9)","v":"1111010100"},{"$f":"DEC2BIN(W6_limit!B60, 9)","v":"000001000"},{"$f":"DEC2BIN(W6_limit!C60, 9)","v":"000000101"},{"$f":"DEC2BIN(W6_limit!D60, 9)","v":"1110110000"},{"$f":"DEC2BIN(W6_limit!E60, 9)","v":"000000000"},{"$f":"DEC2BIN(W6_limit!F60, 9)","v":"1110010110"},{"$f":"DEC2BIN(W6_limit!G60, 9)","v":"1111000011"},{"$f":"DEC2BIN(W6_limit!H60, 9)","v":"1111001010"},{"$f":"DEC2BIN(W6_limit!I60, 9)","v":"1110000110"},{"$f":"DEC2BIN(W6_limit!J60, 9)","v":"1111010110"},{"$f":"DEC2BIN(W6_limit!K60, 9)","v":"000000000"},{"$f":"DEC2BIN(W6_limit!L60, 9)","v":"000000000"},{"$f":"DEC2BIN(W6_limit!M60, 9)","v":"000000000"},{"$f":"DEC2BIN(W6_limit!N60, 9)","v":"000000000"},{"$f":"DEC2BIN(W6_limit!O60, 9)","v":"000000000"},{"$f":"DEC2BIN(W6_limit!P60, 9)","v":"000000000"},{"$f":"DEC2BIN(W6_limit!Q60, 9)","v":"000000000"},{"$f":"DEC2BIN(W6_limit!R60, 9)","v":"000000000"},{"$f":"DEC2BIN(W6_limit!S60, 9)","v":"000000000"},{"$f":"DEC2BIN(W6_limit!T60, 9)","v":"000000000"},{"$f":"DEC2BIN(W6_limit!U60, 9)","v":"000000000"},{"$f":"DEC2BIN(W6_limit!V60, 9)","v":"000000000"},{"$f":"DEC2BIN(W6_limit!W60, 9)","v":"000000000"},{"$f":"DEC2BIN(W6_limit!X60, 9)","v":"000000000"},{"$f":"DEC2BIN(W6_limit!Y60, 9)","v":"000000000"},{"$f":"DEC2BIN(W6_limit!Z60, 9)","v":"000000000"},{"$f":"DEC2BIN(W6_limit!AA60, 9)","v":"000000000"},{"$f":"DEC2BIN(W6_limit!AB60, 9)","v":"000000000"},{"$f":"DEC2BIN(W6_limit!AC60, 9)","v":"000000000"},{"$f":"DEC2BIN(W6_limit!AD60, 9)","v":"000000000"},{"$f":"DEC2BIN(W6_limit!AE60, 9)","v":"000000000"},{"$f":"DEC2BIN(W6_limit!AF60, 9)","v":"000000000"},{"$f":"DEC2BIN(W6_limit!AG60, 9)","v":"000000000"},{"$f":"DEC2BIN(W6_limit!AH60, 9)","v":"000000000"},{"$f":"DEC2BIN(W6_limit!AI60, 9)","v":"000000000"},{"$f":"DEC2BIN(W6_limit!AJ60, 9)","v":"000000000"},{"$f":"DEC2BIN(W6_limit!AK60, 9)","v":"000000000"},{"$f":"DEC2BIN(W6_limit!AL60, 9)","v":"000000000"},{"$f":"DEC2BIN(W6_limit!AM60, 9)","v":"000000000"},{"$f":"DEC2BIN(W6_limit!AN60, 9)","v":"000000000"},{"$f":"DEC2BIN(W6_limit!AO60, 9)","v":"000000000"},{"$f":"DEC2BIN(W6_limit!AP60, 9)","v":"000000000"},{"$f":"DEC2BIN(W6_limit!AQ60, 9)","v":"000000000"}]
[{"$f":"DEC2BIN(W6_limit!A61, 9)","v":"000010001"},{"$f":"DEC2BIN(W6_limit!B61, 9)","v":"1111011000"},{"$f":"DEC2BIN(W6_limit!C61, 9)","v":"1100100011"},{"$f":"DEC2BIN(W6_limit!D61, 9)","v":"000010100"},{"$f":"DEC2BIN(W6_limit!E61, 9)","v":"1111010000"},{"$f":"DEC2BIN(W6_limit!F61, 9)","v":"1110101011"},{"$f":"DEC2BIN(W6_limit!G61, 9)","v":"000110101"},{"$f":"DEC2BIN(W6_limit!H61, 9)","v":"1111000110"},{"$f":"DEC2BIN(W6_limit!I61, 9)","v":"1111100010"},{"$f":"DEC2BIN(W6_limit!J61, 9)","v":"1110111101"},{"$f":"DEC2BIN(W6_limit!K61, 9)","v":"000000000"},{"$f":"DEC2BIN(W6_limit!L61, 9)","v":"000000000"},{"$f":"DEC2BIN(W6_limit!M61, 9)","v":"000000000"},{"$f":"DEC2BIN(W6_limit!N61, 9)","v":"000000000"},{"$f":"DEC2BIN(W6_limit!O61, 9)","v":"000000000"},{"$f":"DEC2BIN(W6_limit!P61, 9)","v":"000000000"},{"$f":"DEC2BIN(W6_limit!Q61, 9)","v":"000000000"},{"$f":"DEC2BIN(W6_limit!R61, 9)","v":"000000000"},{"$f":"DEC2BIN(W6_limit!S61, 9)","v":"000000000"},{"$f":"DEC2BIN(W6_limit!T61, 9)","v":"000000000"},{"$f":"DEC2BIN(W6_limit!U61, 9)","v":"000000000"},{"$f":"DEC2BIN(W6_limit!V61, 9)","v":"000000000"},{"$f":"DEC2BIN(W6_limit!W61, 9)","v":"000000000"},{"$f":"DEC2BIN(W6_limit!X61, 9)","v":"000000000"},{"$f":"DEC2BIN(W6_limit!Y61, 9)","v":"000000000"},{"$f":"DEC2BIN(W6_limit!Z61, 9)","v":"000000000"},{"$f":"DEC2BIN(W6_limit!AA61, 9)","v":"000000000"},{"$f":"DEC2BIN(W6_limit!AB61, 9)","v":"000000000"},{"$f":"DEC2BIN(W6_limit!AC61, 9)","v":"000000000"},{"$f":"DEC2BIN(W6_limit!AD61, 9)","v":"000000000"},{"$f":"DEC2BIN(W6_limit!AE61, 9)","v":"000000000"},{"$f":"DEC2BIN(W6_limit!AF61, 9)","v":"000000000"},{"$f":"DEC2BIN(W6_limit!AG61, 9)","v":"000000000"},{"$f":"DEC2BIN(W6_limit!AH61, 9)","v":"000000000"},{"$f":"DEC2BIN(W6_limit!AI61, 9)","v":"000000000"},{"$f":"DEC2BIN(W6_limit!AJ61, 9)","v":"000000000"},{"$f":"DEC2BIN(W6_limit!AK61, 9)","v":"000000000"},{"$f":"DEC2BIN(W6_limit!AL61, 9)","v":"000000000"},{"$f":"DEC2BIN(W6_limit!AM61, 9)","v":"000000000"},{"$f":"DEC2BIN(W6_limit!AN61, 9)","v":"000000000"},{"$f":"DEC2BIN(W6_limit!AO61, 9)","v":"000000000"},{"$f":"DEC2BIN(W6_limit!AP61, 9)","v":"000000000"},{"$f":"DEC2BIN(W6_limit!AQ61, 9)","v":"000000000"}]
[{"$f":"DEC2BIN(W6_limit!A62, 9)","v":"000010110"},{"$f":"DEC2BIN(W6_limit!B62, 9)","v":"1110111111"},{"$f":"DEC2BIN(W6_limit!C62, 9)","v":"1100011011"},{"$f":"DEC2BIN(W6_limit!D62, 9)","v":"1101010010"},{"$f":"DEC2BIN(W6_limit!E62, 9)","v":"1101100101"},{"$f":"DEC2BIN(W6_limit!F62, 9)","v":"000000110"},{"$f":"DEC2BIN(W6_limit!G62, 9)","v":"1110111011"},{"$f":"DEC2BIN(W6_limit!H62, 9)","v":"1110010111"},{"$f":"DEC2BIN(W6_limit!I62, 9)","v":"1101001100"},{"$f":"DEC2BIN(W6_limit!J62, 9)","v":"000011100"},{"$f":"DEC2BIN(W6_limit!K62, 9)","v":"000000000"},{"$f":"DEC2BIN(W6_limit!L62, 9)","v":"000000000"},{"$f":"DEC2BIN(W6_limit!M62, 9)","v":"000000000"},{"$f":"DEC2BIN(W6_limit!N62, 9)","v":"000000000"},{"$f":"DEC2BIN(W6_limit!O62, 9)","v":"000000000"},{"$f":"DEC2BIN(W6_limit!P62, 9)","v":"000000000"},{"$f":"DEC2BIN(W6_limit!Q62, 9)","v":"000000000"},{"$f":"DEC2BIN(W6_limit!R62, 9)","v":"000000000"},{"$f":"DEC2BIN(W6_limit!S62, 9)","v":"000000000"},{"$f":"DEC2BIN(W6_limit!T62, 9)","v":"000000000"},{"$f":"DEC2BIN(W6_limit!U62, 9)","v":"000000000"},{"$f":"DEC2BIN(W6_limit!V62, 9)","v":"000000000"},{"$f":"DEC2BIN(W6_limit!W62, 9)","v":"000000000"},{"$f":"DEC2BIN(W6_limit!X62, 9)","v":"000000000"},{"$f":"DEC2BIN(W6_limit!Y62, 9)","v":"000000000"},{"$f":"DEC2BIN(W6_limit!Z62, 9)","v":"000000000"},{"$f":"DEC2BIN(W6_limit!AA62, 9)","v":"000000000"},{"$f":"DEC2BIN(W6_limit!AB62, 9)","v":"000000000"},{"$f":"DEC2BIN(W6_limit!AC62, 9)","v":"000000000"},{"$f":"DEC2BIN(W6_limit!AD62, 9)","v":"000000000"},{"$f":"DEC2BIN(W6_limit!AE62, 9)","v":"000000000"},{"$f":"DEC2BIN(W6_limit!AF62, 9)","v":"000000000"},{"$f":"DEC2BIN(W6_limit!AG62, 9)","v":"000000000"},{"$f":"DEC2BIN(W6_limit!AH62, 9)","v":"000000000"},{"$f":"DEC2BIN(W6_limit!AI62, 9)","v":"000000000"},{"$f":"DEC2BIN(W6_limit!AJ62, 9)","v":"000000000"},{"$f":"DEC2BIN(W6_limit!AK62, 9)","v":"000000000"},{"$f":"DEC2BIN(W6_limit!AL62, 9)","v":"000000000"},{"$f":"DEC2BIN(W6_limit!AM62, 9)","v":"000000000"},{"$f":"DEC2BIN(W6_limit!AN62, 9)","v":"000000000"},{"$f":"DEC2BIN(W6_limit!AO62, 9)","v":"000000000"},{"$f":"DEC2BIN(W6_limit!AP62, 9)","v":"000000000"},{"$f":"DEC2BIN(W6_limit!AQ62, 9)","v":"000000000"}]
[{"$f":"DEC2BIN(W6_limit!A63, 9)","v":"1110111111"},{"$f":"DEC2BIN(W6_limit!B63, 9)","v":"000110111"},{"$f":"DEC2BIN(W6_limit!C63, 9)","v":"000101110"},{"$f":"DEC2BIN(W6_limit!D63, 9)","v":"1111011001"},{"$f":"DEC2BIN(W6_limit!E63, 9)","v":"1110111101"},{"$f":"DEC2BIN(W6_limit!F63, 9)","v":"1100000000"},{"$f":"DEC2BIN(W6_limit!G63, 9)","v":"1110111010"},{"$f":"DEC2BIN(W6_limit!H63, 9)","v":"000010100"},{"$f":"DEC2BIN(W6_limit!I63, 9)","v":"1110011001"},{"$f":"DEC2BIN(W6_limit!J63, 9)","v":"1110111001"},{"$f":"DEC2BIN(W6_limit!K63, 9)","v":"000000000"},{"$f":"DEC2BIN(W6_limit!L63, 9)","v":"000000000"},{"$f":"DEC2BIN(W6_limit!M63, 9)","v":"000000000"},{"$f":"DEC2BIN(W6_limit!N63, 9)","v":"000000000"},{"$f":"DEC2BIN(W6_limit!O63, 9)","v":"000000000"},{"$f":"DEC2BIN(W6_limit!P63, 9)","v":"000000000"},{"$f":"DEC2BIN(W6_limit!Q63, 9)","v":"000000000"},{"$f":"DEC2BIN(W6_limit!R63, 9)","v":"000000000"},{"$f":"DEC2BIN(W6_limit!S63, 9)","v":"000000000"},{"$f":"DEC2BIN(W6_limit!T63, 9)","v":"000000000"},{"$f":"DEC2BIN(W6_limit!U63, 9)","v":"000000000"},{"$f":"DEC2BIN(W6_limit!V63, 9)","v":"000000000"},{"$f":"DEC2BIN(W6_limit!W63, 9)","v":"000000000"},{"$f":"DEC2BIN(W6_limit!X63, 9)","v":"000000000"},{"$f":"DEC2BIN(W6_limit!Y63, 9)","v":"000000000"},{"$f":"DEC2BIN(W6_limit!Z63, 9)","v":"000000000"},{"$f":"DEC2BIN(W6_limit!AA63, 9)","v":"000000000"},{"$f":"DEC2BIN(W6_limit!AB63, 9)","v":"000000000"},{"$f":"DEC2BIN(W6_limit!AC63, 9)","v":"000000000"},{"$f":"DEC2BIN(W6_limit!AD63, 9)","v":"000000000"},{"$f":"DEC2BIN(W6_limit!AE63, 9)","v":"000000000"},{"$f":"DEC2BIN(W6_limit!AF63, 9)","v":"000000000"},{"$f":"DEC2BIN(W6_limit!AG63, 9)","v":"000000000"},{"$f":"DEC2BIN(W6_limit!AH63, 9)","v":"000000000"},{"$f":"DEC2BIN(W6_limit!AI63, 9)","v":"000000000"},{"$f":"DEC2BIN(W6_limit!AJ63, 9)","v":"000000000"},{"$f":"DEC2BIN(W6_limit!AK63, 9)","v":"000000000"},{"$f":"DEC2BIN(W6_limit!AL63, 9)","v":"000000000"},{"$f":"DEC2BIN(W6_limit!AM63, 9)","v":"000000000"},{"$f":"DEC2BIN(W6_limit!AN63, 9)","v":"000000000"},{"$f":"DEC2BIN(W6_limit!AO63, 9)","v":"000000000"},{"$f":"DEC2BIN(W6_limit!AP63, 9)","v":"000000000"},{"$f":"DEC2BIN(W6_limit!AQ63, 9)","v":"000000000"}]
[{"$f":"DEC2BIN(W6_limit!A64, 9)","v":"000001011"},{"$f":"DEC2BIN(W6_limit!B64, 9)","v":"1111110111"},{"$f":"DEC2BIN(W6_limit!C64, 9)","v":"1100001111"},{"$f":"DEC2BIN(W6_limit!D64, 9)","v":"1100000000"},{"$f":"DEC2BIN(W6_limit!E64, 9)","v":"1100000000"},{"$f":"DEC2BIN(W6_limit!F64, 9)","v":"1101011011"},{"$f":"DEC2BIN(W6_limit!G64, 9)","v":"1110011101"},{"$f":"DEC2BIN(W6_limit!H64, 9)","v":"1101111001"},{"$f":"DEC2BIN(W6_limit!I64, 9)","v":"1111111011"},{"$f":"DEC2BIN(W6_limit!J64, 9)","v":"000010010"},{"$f":"DEC2BIN(W6_limit!K64, 9)","v":"000000000"},{"$f":"DEC2BIN(W6_limit!L64, 9)","v":"000000000"},{"$f":"DEC2BIN(W6_limit!M64, 9)","v":"000000000"},{"$f":"DEC2BIN(W6_limit!N64, 9)","v":"000000000"},{"$f":"DEC2BIN(W6_limit!O64, 9)","v":"000000000"},{"$f":"DEC2BIN(W6_limit!P64, 9)","v":"000000000"},{"$f":"DEC2BIN(W6_limit!Q64, 9)","v":"000000000"},{"$f":"DEC2BIN(W6_limit!R64, 9)","v":"000000000"},{"$f":"DEC2BIN(W6_limit!S64, 9)","v":"000000000"},{"$f":"DEC2BIN(W6_limit!T64, 9)","v":"000000000"},{"$f":"DEC2BIN(W6_limit!U64, 9)","v":"000000000"},{"$f":"DEC2BIN(W6_limit!V64, 9)","v":"000000000"},{"$f":"DEC2BIN(W6_limit!W64, 9)","v":"000000000"},{"$f":"DEC2BIN(W6_limit!X64, 9)","v":"000000000"},{"$f":"DEC2BIN(W6_limit!Y64, 9)","v":"000000000"},{"$f":"DEC2BIN(W6_limit!Z64, 9)","v":"000000000"},{"$f":"DEC2BIN(W6_limit!AA64, 9)","v":"000000000"},{"$f":"DEC2BIN(W6_limit!AB64, 9)","v":"000000000"},{"$f":"DEC2BIN(W6_limit!AC64, 9)","v":"000000000"},{"$f":"DEC2BIN(W6_limit!AD64, 9)","v":"000000000"},{"$f":"DEC2BIN(W6_limit!AE64, 9)","v":"000000000"},{"$f":"DEC2BIN(W6_limit!AF64, 9)","v":"000000000"},{"$f":"DEC2BIN(W6_limit!AG64, 9)","v":"000000000"},{"$f":"DEC2BIN(W6_limit!AH64, 9)","v":"000000000"},{"$f":"DEC2BIN(W6_limit!AI64, 9)","v":"000000000"},{"$f":"DEC2BIN(W6_limit!AJ64, 9)","v":"000000000"},{"$f":"DEC2BIN(W6_limit!AK64, 9)","v":"000000000"},{"$f":"DEC2BIN(W6_limit!AL64, 9)","v":"000000000"},{"$f":"DEC2BIN(W6_limit!AM64, 9)","v":"000000000"},{"$f":"DEC2BIN(W6_limit!AN64, 9)","v":"000000000"},{"$f":"DEC2BIN(W6_limit!AO64, 9)","v":"000000000"},{"$f":"DEC2BIN(W6_limit!AP64, 9)","v":"000000000"},{"$f":"DEC2BIN(W6_limit!AQ64, 9)","v":"000000000"}]
[{"$f":"DEC2BIN(W6_limit!A65, 9)","v":"1111011111"},{"$f":"DEC2BIN(W6_limit!B65, 9)","v":"1111110100"},{"$f":"DEC2BIN(W6_limit!C65, 9)","v":"1110100111"},{"$f":"DEC2BIN(W6_limit!D65, 9)","v":"000100010"},{"$f":"DEC2BIN(W6_limit!E65, 9)","v":"1111111111"},{"$f":"DEC2BIN(W6_limit!F65, 9)","v":"1110000000"},{"$f":"DEC2BIN(W6_limit!G65, 9)","v":"000110011"},{"$f":"DEC2BIN(W6_limit!H65, 9)","v":"1110110101"},{"$f":"DEC2BIN(W6_limit!I65, 9)","v":"1111100001"},{"$f":"DEC2BIN(W6_limit!J65, 9)","v":"1110111011"},{"$f":"DEC2BIN(W6_limit!K65, 9)","v":"000000000"},{"$f":"DEC2BIN(W6_limit!L65, 9)","v":"000000000"},{"$f":"DEC2BIN(W6_limit!M65, 9)","v":"000000000"},{"$f":"DEC2BIN(W6_limit!N65, 9)","v":"000000000"},{"$f":"DEC2BIN(W6_limit!O65, 9)","v":"000000000"},{"$f":"DEC2BIN(W6_limit!P65, 9)","v":"000000000"},{"$f":"DEC2BIN(W6_limit!Q65, 9)","v":"000000000"},{"$f":"DEC2BIN(W6_limit!R65, 9)","v":"000000000"},{"$f":"DEC2BIN(W6_limit!S65, 9)","v":"000000000"},{"$f":"DEC2BIN(W6_limit!T65, 9)","v":"000000000"},{"$f":"DEC2BIN(W6_limit!U65, 9)","v":"000000000"},{"$f":"DEC2BIN(W6_limit!V65, 9)","v":"000000000"},{"$f":"DEC2BIN(W6_limit!W65, 9)","v":"000000000"},{"$f":"DEC2BIN(W6_limit!X65, 9)","v":"000000000"},{"$f":"DEC2BIN(W6_limit!Y65, 9)","v":"000000000"},{"$f":"DEC2BIN(W6_limit!Z65, 9)","v":"000000000"},{"$f":"DEC2BIN(W6_limit!AA65, 9)","v":"000000000"},{"$f":"DEC2BIN(W6_limit!AB65, 9)","v":"000000000"},{"$f":"DEC2BIN(W6_limit!AC65, 9)","v":"000000000"},{"$f":"DEC2BIN(W6_limit!AD65, 9)","v":"000000000"},{"$f":"DEC2BIN(W6_limit!AE65, 9)","v":"000000000"},{"$f":"DEC2BIN(W6_limit!AF65, 9)","v":"000000000"},{"$f":"DEC2BIN(W6_limit!AG65, 9)","v":"000000000"},{"$f":"DEC2BIN(W6_limit!AH65, 9)","v":"000000000"},{"$f":"DEC2BIN(W6_limit!AI65, 9)","v":"000000000"},{"$f":"DEC2BIN(W6_limit!AJ65, 9)","v":"000000000"},{"$f":"DEC2BIN(W6_limit!AK65, 9)","v":"000000000"},{"$f":"DEC2BIN(W6_limit!AL65, 9)","v":"000000000"},{"$f":"DEC2BIN(W6_limit!AM65, 9)","v":"000000000"},{"$f":"DEC2BIN(W6_limit!AN65, 9)","v":"000000000"},{"$f":"DEC2BIN(W6_limit!AO65, 9)","v":"000000000"},{"$f":"DEC2BIN(W6_limit!AP65, 9)","v":"000000000"},{"$f":"DEC2BIN(W6_limit!AQ65, 9)","v":"000000000"}]
[{"$f":"DEC2BIN(W6_limit!A66, 9)","v":"1110101010"},{"$f":"DEC2BIN(W6_limit!B66, 9)","v":"001000001"},{"$f":"DEC2BIN(W6_limit!C66, 9)","v":"001001110"},{"$f":"DEC2BIN(W6_limit!D66, 9)","v":"1111100010"},{"$f":"DEC2BIN(W6_limit!E66, 9)","v":"000101101"},{"$f":"DEC2BIN(W6_limit!F66, 9)","v":"1110100001"},{"$f":"DEC2BIN(W6_limit!G66, 9)","v":"1110011111"},{"$f":"DEC2BIN(W6_limit!H66, 9)","v":"1111001101"},{"$f":"DEC2BIN(W6_limit!I66, 9)","v":"1101001010"},{"$f":"DEC2BIN(W6_limit!J66, 9)","v":"1111101010"},{"$f":"DEC2BIN(W6_limit!K66, 9)","v":"000000000"},{"$f":"DEC2BIN(W6_limit!L66, 9)","v":"000000000"},{"$f":"DEC2BIN(W6_limit!M66, 9)","v":"000000000"},{"$f":"DEC2BIN(W6_limit!N66, 9)","v":"000000000"},{"$f":"DEC2BIN(W6_limit!O66, 9)","v":"000000000"},{"$f":"DEC2BIN(W6_limit!P66, 9)","v":"000000000"},{"$f":"DEC2BIN(W6_limit!Q66, 9)","v":"000000000"},{"$f":"DEC2BIN(W6_limit!R66, 9)","v":"000000000"},{"$f":"DEC2BIN(W6_limit!S66, 9)","v":"000000000"},{"$f":"DEC2BIN(W6_limit!T66, 9)","v":"000000000"},{"$f":"DEC2BIN(W6_limit!U66, 9)","v":"000000000"},{"$f":"DEC2BIN(W6_limit!V66, 9)","v":"000000000"},{"$f":"DEC2BIN(W6_limit!W66, 9)","v":"000000000"},{"$f":"DEC2BIN(W6_limit!X66, 9)","v":"000000000"},{"$f":"DEC2BIN(W6_limit!Y66, 9)","v":"000000000"},{"$f":"DEC2BIN(W6_limit!Z66, 9)","v":"000000000"},{"$f":"DEC2BIN(W6_limit!AA66, 9)","v":"000000000"},{"$f":"DEC2BIN(W6_limit!AB66, 9)","v":"000000000"},{"$f":"DEC2BIN(W6_limit!AC66, 9)","v":"000000000"},{"$f":"DEC2BIN(W6_limit!AD66, 9)","v":"000000000"},{"$f":"DEC2BIN(W6_limit!AE66, 9)","v":"000000000"},{"$f":"DEC2BIN(W6_limit!AF66, 9)","v":"000000000"},{"$f":"DEC2BIN(W6_limit!AG66, 9)","v":"000000000"},{"$f":"DEC2BIN(W6_limit!AH66, 9)","v":"000000000"},{"$f":"DEC2BIN(W6_limit!AI66, 9)","v":"000000000"},{"$f":"DEC2BIN(W6_limit!AJ66, 9)","v":"000000000"},{"$f":"DEC2BIN(W6_limit!AK66, 9)","v":"000000000"},{"$f":"DEC2BIN(W6_limit!AL66, 9)","v":"000000000"},{"$f":"DEC2BIN(W6_limit!AM66, 9)","v":"000000000"},{"$f":"DEC2BIN(W6_limit!AN66, 9)","v":"000000000"},{"$f":"DEC2BIN(W6_limit!AO66, 9)","v":"000000000"},{"$f":"DEC2BIN(W6_limit!AP66, 9)","v":"000000000"},{"$f":"DEC2BIN(W6_limit!AQ66, 9)","v":"000000000"}]
[{"$f":"DEC2BIN(W6_limit!A67, 9)","v":"000110011"},{"$f":"DEC2BIN(W6_limit!B67, 9)","v":"1111011011"},{"$f":"DEC2BIN(W6_limit!C67, 9)","v":"1110011101"},{"$f":"DEC2BIN(W6_limit!D67, 9)","v":"1110110010"},{"$f":"DEC2BIN(W6_limit!E67, 9)","v":"1101011111"},{"$f":"DEC2BIN(W6_limit!F67, 9)","v":"1110011100"},{"$f":"DEC2BIN(W6_limit!G67, 9)","v":"1111100110"},{"$f":"DEC2BIN(W6_limit!H67, 9)","v":"1110110111"},{"$f":"DEC2BIN(W6_limit!I67, 9)","v":"1110011110"},{"$f":"DEC2BIN(W6_limit!J67, 9)","v":"000101101"},{"$f":"DEC2BIN(W6_limit!K67, 9)","v":"000000000"},{"$f":"DEC2BIN(W6_limit!L67, 9)","v":"000000000"},{"$f":"DEC2BIN(W6_limit!M67, 9)","v":"000000000"},{"$f":"DEC2BIN(W6_limit!N67, 9)","v":"000000000"},{"$f":"DEC2BIN(W6_limit!O67, 9)","v":"000000000"},{"$f":"DEC2BIN(W6_limit!P67, 9)","v":"000000000"},{"$f":"DEC2BIN(W6_limit!Q67, 9)","v":"000000000"},{"$f":"DEC2BIN(W6_limit!R67, 9)","v":"000000000"},{"$f":"DEC2BIN(W6_limit!S67, 9)","v":"000000000"},{"$f":"DEC2BIN(W6_limit!T67, 9)","v":"000000000"},{"$f":"DEC2BIN(W6_limit!U67, 9)","v":"000000000"},{"$f":"DEC2BIN(W6_limit!V67, 9)","v":"000000000"},{"$f":"DEC2BIN(W6_limit!W67, 9)","v":"000000000"},{"$f":"DEC2BIN(W6_limit!X67, 9)","v":"000000000"},{"$f":"DEC2BIN(W6_limit!Y67, 9)","v":"000000000"},{"$f":"DEC2BIN(W6_limit!Z67, 9)","v":"000000000"},{"$f":"DEC2BIN(W6_limit!AA67, 9)","v":"000000000"},{"$f":"DEC2BIN(W6_limit!AB67, 9)","v":"000000000"},{"$f":"DEC2BIN(W6_limit!AC67, 9)","v":"000000000"},{"$f":"DEC2BIN(W6_limit!AD67, 9)","v":"000000000"},{"$f":"DEC2BIN(W6_limit!AE67, 9)","v":"000000000"},{"$f":"DEC2BIN(W6_limit!AF67, 9)","v":"000000000"},{"$f":"DEC2BIN(W6_limit!AG67, 9)","v":"000000000"},{"$f":"DEC2BIN(W6_limit!AH67, 9)","v":"000000000"},{"$f":"DEC2BIN(W6_limit!AI67, 9)","v":"000000000"},{"$f":"DEC2BIN(W6_limit!AJ67, 9)","v":"000000000"},{"$f":"DEC2BIN(W6_limit!AK67, 9)","v":"000000000"},{"$f":"DEC2BIN(W6_limit!AL67, 9)","v":"000000000"},{"$f":"DEC2BIN(W6_limit!AM67, 9)","v":"000000000"},{"$f":"DEC2BIN(W6_limit!AN67, 9)","v":"000000000"},{"$f":"DEC2BIN(W6_limit!AO67, 9)","v":"000000000"},{"$f":"DEC2BIN(W6_limit!AP67, 9)","v":"000000000"},{"$f":"DEC2BIN(W6_limit!AQ67, 9)","v":"000000000"}]
[{"$f":"DEC2BIN(W6_limit!A68, 9)","v":"000000011"},{"$f":"DEC2BIN(W6_limit!B68, 9)","v":"000110000"},{"$f":"DEC2BIN(W6_limit!C68, 9)","v":"000101100"},{"$f":"DEC2BIN(W6_limit!D68, 9)","v":"000000101"},{"$f":"DEC2BIN(W6_limit!E68, 9)","v":"000000010"},{"$f":"DEC2BIN(W6_limit!F68, 9)","v":"1111111111"},{"$f":"DEC2BIN(W6_limit!G68, 9)","v":"000110001"},{"$f":"DEC2BIN(W6_limit!H68, 9)","v":"000101111"},{"$f":"DEC2BIN(W6_limit!I68, 9)","v":"1111100111"},{"$f":"DEC2BIN(W6_limit!J68, 9)","v":"1111001101"},{"$f":"DEC2BIN(W6_limit!K68, 9)","v":"000000000"},{"$f":"DEC2BIN(W6_limit!L68, 9)","v":"000000000"},{"$f":"DEC2BIN(W6_limit!M68, 9)","v":"000000000"},{"$f":"DEC2BIN(W6_limit!N68, 9)","v":"000000000"},{"$f":"DEC2BIN(W6_limit!O68, 9)","v":"000000000"},{"$f":"DEC2BIN(W6_limit!P68, 9)","v":"000000000"},{"$f":"DEC2BIN(W6_limit!Q68, 9)","v":"000000000"},{"$f":"DEC2BIN(W6_limit!R68, 9)","v":"000000000"},{"$f":"DEC2BIN(W6_limit!S68, 9)","v":"000000000"},{"$f":"DEC2BIN(W6_limit!T68, 9)","v":"000000000"},{"$f":"DEC2BIN(W6_limit!U68, 9)","v":"000000000"},{"$f":"DEC2BIN(W6_limit!V68, 9)","v":"000000000"},{"$f":"DEC2BIN(W6_limit!W68, 9)","v":"000000000"},{"$f":"DEC2BIN(W6_limit!X68, 9)","v":"000000000"},{"$f":"DEC2BIN(W6_limit!Y68, 9)","v":"000000000"},{"$f":"DEC2BIN(W6_limit!Z68, 9)","v":"000000000"},{"$f":"DEC2BIN(W6_limit!AA68, 9)","v":"000000000"},{"$f":"DEC2BIN(W6_limit!AB68, 9)","v":"000000000"},{"$f":"DEC2BIN(W6_limit!AC68, 9)","v":"000000000"},{"$f":"DEC2BIN(W6_limit!AD68, 9)","v":"000000000"},{"$f":"DEC2BIN(W6_limit!AE68, 9)","v":"000000000"},{"$f":"DEC2BIN(W6_limit!AF68, 9)","v":"000000000"},{"$f":"DEC2BIN(W6_limit!AG68, 9)","v":"000000000"},{"$f":"DEC2BIN(W6_limit!AH68, 9)","v":"000000000"},{"$f":"DEC2BIN(W6_limit!AI68, 9)","v":"000000000"},{"$f":"DEC2BIN(W6_limit!AJ68, 9)","v":"000000000"},{"$f":"DEC2BIN(W6_limit!AK68, 9)","v":"000000000"},{"$f":"DEC2BIN(W6_limit!AL68, 9)","v":"000000000"},{"$f":"DEC2BIN(W6_limit!AM68, 9)","v":"000000000"},{"$f":"DEC2BIN(W6_limit!AN68, 9)","v":"000000000"},{"$f":"DEC2BIN(W6_limit!AO68, 9)","v":"000000000"},{"$f":"DEC2BIN(W6_limit!AP68, 9)","v":"000000000"},{"$f":"DEC2BIN(W6_limit!AQ68, 9)","v":"000000000"}]
[{"$f":"DEC2BIN(W6_limit!A69, 9)","v":"000100000"},{"$f":"DEC2BIN(W6_limit!B69, 9)","v":"1111100001"},{"$f":"DEC2BIN(W6_limit!C69, 9)","v":"000100011"},{"$f":"DEC2BIN(W6_limit!D69, 9)","v":"1111110011"},{"$f":"DEC2BIN(W6_limit!E69, 9)","v":"1111110101"},{"$f":"DEC2BIN(W6_limit!F69, 9)","v":"000110010"},{"$f":"DEC2BIN(W6_limit!G69, 9)","v":"1111101101"},{"$f":"DEC2BIN(W6_limit!H69, 9)","v":"1111010000"},{"$f":"DEC2BIN(W6_limit!I69, 9)","v":"000001111"},{"$f":"DEC2BIN(W6_limit!J69, 9)","v":"000101010"},{"$f":"DEC2BIN(W6_limit!K69, 9)","v":"000000000"},{"$f":"DEC2BIN(W6_limit!L69, 9)","v":"000000000"},{"$f":"DEC2BIN(W6_limit!M69, 9)","v":"000000000"},{"$f":"DEC2BIN(W6_limit!N69, 9)","v":"000000000"},{"$f":"DEC2BIN(W6_limit!O69, 9)","v":"000000000"},{"$f":"DEC2BIN(W6_limit!P69, 9)","v":"000000000"},{"$f":"DEC2BIN(W6_limit!Q69, 9)","v":"000000000"},{"$f":"DEC2BIN(W6_limit!R69, 9)","v":"000000000"},{"$f":"DEC2BIN(W6_limit!S69, 9)","v":"000000000"},{"$f":"DEC2BIN(W6_limit!T69, 9)","v":"000000000"},{"$f":"DEC2BIN(W6_limit!U69, 9)","v":"000000000"},{"$f":"DEC2BIN(W6_limit!V69, 9)","v":"000000000"},{"$f":"DEC2BIN(W6_limit!W69, 9)","v":"000000000"},{"$f":"DEC2BIN(W6_limit!X69, 9)","v":"000000000"},{"$f":"DEC2BIN(W6_limit!Y69, 9)","v":"000000000"},{"$f":"DEC2BIN(W6_limit!Z69, 9)","v":"000000000"},{"$f":"DEC2BIN(W6_limit!AA69, 9)","v":"000000000"},{"$f":"DEC2BIN(W6_limit!AB69, 9)","v":"000000000"},{"$f":"DEC2BIN(W6_limit!AC69, 9)","v":"000000000"},{"$f":"DEC2BIN(W6_limit!AD69, 9)","v":"000000000"},{"$f":"DEC2BIN(W6_limit!AE69, 9)","v":"000000000"},{"$f":"DEC2BIN(W6_limit!AF69, 9)","v":"000000000"},{"$f":"DEC2BIN(W6_limit!AG69, 9)","v":"000000000"},{"$f":"DEC2BIN(W6_limit!AH69, 9)","v":"000000000"},{"$f":"DEC2BIN(W6_limit!AI69, 9)","v":"000000000"},{"$f":"DEC2BIN(W6_limit!AJ69, 9)","v":"000000000"},{"$f":"DEC2BIN(W6_limit!AK69, 9)","v":"000000000"},{"$f":"DEC2BIN(W6_limit!AL69, 9)","v":"000000000"},{"$f":"DEC2BIN(W6_limit!AM69, 9)","v":"000000000"},{"$f":"DEC2BIN(W6_limit!AN69, 9)","v":"000000000"},{"$f":"DEC2BIN(W6_limit!AO69, 9)","v":"000000000"},{"$f":"DEC2BIN(W6_limit!AP69, 9)","v":"000000000"},{"$f":"DEC2BIN(W6_limit!AQ69, 9)","v":"000000000"}]
[{"$f":"DEC2BIN(W6_limit!A70, 9)","v":"1111110011"},{"$f":"DEC2BIN(W6_limit!B70, 9)","v":"1111101001"},{"$f":"DEC2BIN(W6_limit!C70, 9)","v":"1100111101"},{"$f":"DEC2BIN(W6_limit!D70, 9)","v":"000111101"},{"$f":"DEC2BIN(W6_limit!E70, 9)","v":"1110100110"},{"$f":"DEC2BIN(W6_limit!F70, 9)","v":"1101001011"},{"$f":"DEC2BIN(W6_limit!G70, 9)","v":"1110001100"},{"$f":"DEC2BIN(W6_limit!H70, 9)","v":"1110010001"},{"$f":"DEC2BIN(W6_limit!I70, 9)","v":"1110000000"},{"$f":"DEC2BIN(W6_limit!J70, 9)","v":"000110001"},{"$f":"DEC2BIN(W6_limit!K70, 9)","v":"000000000"},{"$f":"DEC2BIN(W6_limit!L70, 9)","v":"000000000"},{"$f":"DEC2BIN(W6_limit!M70, 9)","v":"000000000"},{"$f":"DEC2BIN(W6_limit!N70, 9)","v":"000000000"},{"$f":"DEC2BIN(W6_limit!O70, 9)","v":"000000000"},{"$f":"DEC2BIN(W6_limit!P70, 9)","v":"000000000"},{"$f":"DEC2BIN(W6_limit!Q70, 9)","v":"000000000"},{"$f":"DEC2BIN(W6_limit!R70, 9)","v":"000000000"},{"$f":"DEC2BIN(W6_limit!S70, 9)","v":"000000000"},{"$f":"DEC2BIN(W6_limit!T70, 9)","v":"000000000"},{"$f":"DEC2BIN(W6_limit!U70, 9)","v":"000000000"},{"$f":"DEC2BIN(W6_limit!V70, 9)","v":"000000000"},{"$f":"DEC2BIN(W6_limit!W70, 9)","v":"000000000"},{"$f":"DEC2BIN(W6_limit!X70, 9)","v":"000000000"},{"$f":"DEC2BIN(W6_limit!Y70, 9)","v":"000000000"},{"$f":"DEC2BIN(W6_limit!Z70, 9)","v":"000000000"},{"$f":"DEC2BIN(W6_limit!AA70, 9)","v":"000000000"},{"$f":"DEC2BIN(W6_limit!AB70, 9)","v":"000000000"},{"$f":"DEC2BIN(W6_limit!AC70, 9)","v":"000000000"},{"$f":"DEC2BIN(W6_limit!AD70, 9)","v":"000000000"},{"$f":"DEC2BIN(W6_limit!AE70, 9)","v":"000000000"},{"$f":"DEC2BIN(W6_limit!AF70, 9)","v":"000000000"},{"$f":"DEC2BIN(W6_limit!AG70, 9)","v":"000000000"},{"$f":"DEC2BIN(W6_limit!AH70, 9)","v":"000000000"},{"$f":"DEC2BIN(W6_limit!AI70, 9)","v":"000000000"},{"$f":"DEC2BIN(W6_limit!AJ70, 9)","v":"000000000"},{"$f":"DEC2BIN(W6_limit!AK70, 9)","v":"000000000"},{"$f":"DEC2BIN(W6_limit!AL70, 9)","v":"000000000"},{"$f":"DEC2BIN(W6_limit!AM70, 9)","v":"000000000"},{"$f":"DEC2BIN(W6_limit!AN70, 9)","v":"000000000"},{"$f":"DEC2BIN(W6_limit!AO70, 9)","v":"000000000"},{"$f":"DEC2BIN(W6_limit!AP70, 9)","v":"000000000"},{"$f":"DEC2BIN(W6_limit!AQ70, 9)","v":"000000000"}]
[{"$f":"DEC2BIN(W6_limit!A71, 9)","v":"000100111"},{"$f":"DEC2BIN(W6_limit!B71, 9)","v":"000101011"},{"$f":"DEC2BIN(W6_limit!C71, 9)","v":"000011111"},{"$f":"DEC2BIN(W6_limit!D71, 9)","v":"1111001110"},{"$f":"DEC2BIN(W6_limit!E71, 9)","v":"1101011001"},{"$f":"DEC2BIN(W6_limit!F71, 9)","v":"000100100"},{"$f":"DEC2BIN(W6_limit!G71, 9)","v":"1110110011"},{"$f":"DEC2BIN(W6_limit!H71, 9)","v":"1101101110"},{"$f":"DEC2BIN(W6_limit!I71, 9)","v":"1111111110"},{"$f":"DEC2BIN(W6_limit!J71, 9)","v":"1111011010"},{"$f":"DEC2BIN(W6_limit!K71, 9)","v":"000000000"},{"$f":"DEC2BIN(W6_limit!L71, 9)","v":"000000000"},{"$f":"DEC2BIN(W6_limit!M71, 9)","v":"000000000"},{"$f":"DEC2BIN(W6_limit!N71, 9)","v":"000000000"},{"$f":"DEC2BIN(W6_limit!O71, 9)","v":"000000000"},{"$f":"DEC2BIN(W6_limit!P71, 9)","v":"000000000"},{"$f":"DEC2BIN(W6_limit!Q71, 9)","v":"000000000"},{"$f":"DEC2BIN(W6_limit!R71, 9)","v":"000000000"},{"$f":"DEC2BIN(W6_limit!S71, 9)","v":"000000000"},{"$f":"DEC2BIN(W6_limit!T71, 9)","v":"000000000"},{"$f":"DEC2BIN(W6_limit!U71, 9)","v":"000000000"},{"$f":"DEC2BIN(W6_limit!V71, 9)","v":"000000000"},{"$f":"DEC2BIN(W6_limit!W71, 9)","v":"000000000"},{"$f":"DEC2BIN(W6_limit!X71, 9)","v":"000000000"},{"$f":"DEC2BIN(W6_limit!Y71, 9)","v":"000000000"},{"$f":"DEC2BIN(W6_limit!Z71, 9)","v":"000000000"},{"$f":"DEC2BIN(W6_limit!AA71, 9)","v":"000000000"},{"$f":"DEC2BIN(W6_limit!AB71, 9)","v":"000000000"},{"$f":"DEC2BIN(W6_limit!AC71, 9)","v":"000000000"},{"$f":"DEC2BIN(W6_limit!AD71, 9)","v":"000000000"},{"$f":"DEC2BIN(W6_limit!AE71, 9)","v":"000000000"},{"$f":"DEC2BIN(W6_limit!AF71, 9)","v":"000000000"},{"$f":"DEC2BIN(W6_limit!AG71, 9)","v":"000000000"},{"$f":"DEC2BIN(W6_limit!AH71, 9)","v":"000000000"},{"$f":"DEC2BIN(W6_limit!AI71, 9)","v":"000000000"},{"$f":"DEC2BIN(W6_limit!AJ71, 9)","v":"000000000"},{"$f":"DEC2BIN(W6_limit!AK71, 9)","v":"000000000"},{"$f":"DEC2BIN(W6_limit!AL71, 9)","v":"000000000"},{"$f":"DEC2BIN(W6_limit!AM71, 9)","v":"000000000"},{"$f":"DEC2BIN(W6_limit!AN71, 9)","v":"000000000"},{"$f":"DEC2BIN(W6_limit!AO71, 9)","v":"000000000"},{"$f":"DEC2BIN(W6_limit!AP71, 9)","v":"000000000"},{"$f":"DEC2BIN(W6_limit!AQ71, 9)","v":"000000000"}]
[{"$f":"DEC2BIN(W6_limit!A72, 9)","v":"1111011010"},{"$f":"DEC2BIN(W6_limit!B72, 9)","v":"1111101010"},{"$f":"DEC2BIN(W6_limit!C72, 9)","v":"1111001110"},{"$f":"DEC2BIN(W6_limit!D72, 9)","v":"000101100"},{"$f":"DEC2BIN(W6_limit!E72, 9)","v":"000001111"},{"$f":"DEC2BIN(W6_limit!F72, 9)","v":"1111001110"},{"$f":"DEC2BIN(W6_limit!G72, 9)","v":"000101111"},{"$f":"DEC2BIN(W6_limit!H72, 9)","v":"1110111110"},{"$f":"DEC2BIN(W6_limit!I72, 9)","v":"1110110101"},{"$f":"DEC2BIN(W6_limit!J72, 9)","v":"1110111001"},{"$f":"DEC2BIN(W6_limit!K72, 9)","v":"000000000"},{"$f":"DEC2BIN(W6_limit!L72, 9)","v":"000000000"},{"$f":"DEC2BIN(W6_limit!M72, 9)","v":"000000000"},{"$f":"DEC2BIN(W6_limit!N72, 9)","v":"000000000"},{"$f":"DEC2BIN(W6_limit!O72, 9)","v":"000000000"},{"$f":"DEC2BIN(W6_limit!P72, 9)","v":"000000000"},{"$f":"DEC2BIN(W6_limit!Q72, 9)","v":"000000000"},{"$f":"DEC2BIN(W6_limit!R72, 9)","v":"000000000"},{"$f":"DEC2BIN(W6_limit!S72, 9)","v":"000000000"},{"$f":"DEC2BIN(W6_limit!T72, 9)","v":"000000000"},{"$f":"DEC2BIN(W6_limit!U72, 9)","v":"000000000"},{"$f":"DEC2BIN(W6_limit!V72, 9)","v":"000000000"},{"$f":"DEC2BIN(W6_limit!W72, 9)","v":"000000000"},{"$f":"DEC2BIN(W6_limit!X72, 9)","v":"000000000"},{"$f":"DEC2BIN(W6_limit!Y72, 9)","v":"000000000"},{"$f":"DEC2BIN(W6_limit!Z72, 9)","v":"000000000"},{"$f":"DEC2BIN(W6_limit!AA72, 9)","v":"000000000"},{"$f":"DEC2BIN(W6_limit!AB72, 9)","v":"000000000"},{"$f":"DEC2BIN(W6_limit!AC72, 9)","v":"000000000"},{"$f":"DEC2BIN(W6_limit!AD72, 9)","v":"000000000"},{"$f":"DEC2BIN(W6_limit!AE72, 9)","v":"000000000"},{"$f":"DEC2BIN(W6_limit!AF72, 9)","v":"000000000"},{"$f":"DEC2BIN(W6_limit!AG72, 9)","v":"000000000"},{"$f":"DEC2BIN(W6_limit!AH72, 9)","v":"000000000"},{"$f":"DEC2BIN(W6_limit!AI72, 9)","v":"000000000"},{"$f":"DEC2BIN(W6_limit!AJ72, 9)","v":"000000000"},{"$f":"DEC2BIN(W6_limit!AK72, 9)","v":"000000000"},{"$f":"DEC2BIN(W6_limit!AL72, 9)","v":"000000000"},{"$f":"DEC2BIN(W6_limit!AM72, 9)","v":"000000000"},{"$f":"DEC2BIN(W6_limit!AN72, 9)","v":"000000000"},{"$f":"DEC2BIN(W6_limit!AO72, 9)","v":"000000000"},{"$f":"DEC2BIN(W6_limit!AP72, 9)","v":"000000000"},{"$f":"DEC2BIN(W6_limit!AQ72, 9)","v":"000000000"}]
[{"$f":"DEC2BIN(W6_limit!A73, 9)","v":"1111100101"},{"$f":"DEC2BIN(W6_limit!B73, 9)","v":"000000010"},{"$f":"DEC2BIN(W6_limit!C73, 9)","v":"1101100110"},{"$f":"DEC2BIN(W6_limit!D73, 9)","v":"1110001111"},{"$f":"DEC2BIN(W6_limit!E73, 9)","v":"000011000"},{"$f":"DEC2BIN(W6_limit!F73, 9)","v":"1111110010"},{"$f":"DEC2BIN(W6_limit!G73, 9)","v":"1111001010"},{"$f":"DEC2BIN(W6_limit!H73, 9)","v":"1110100111"},{"$f":"DEC2BIN(W6_limit!I73, 9)","v":"1110000110"},{"$f":"DEC2BIN(W6_limit!J73, 9)","v":"1111010000"},{"$f":"DEC2BIN(W6_limit!K73, 9)","v":"000000000"},{"$f":"DEC2BIN(W6_limit!L73, 9)","v":"000000000"},{"$f":"DEC2BIN(W6_limit!M73, 9)","v":"000000000"},{"$f":"DEC2BIN(W6_limit!N73, 9)","v":"000000000"},{"$f":"DEC2BIN(W6_limit!O73, 9)","v":"000000000"},{"$f":"DEC2BIN(W6_limit!P73, 9)","v":"000000000"},{"$f":"DEC2BIN(W6_limit!Q73, 9)","v":"000000000"},{"$f":"DEC2BIN(W6_limit!R73, 9)","v":"000000000"},{"$f":"DEC2BIN(W6_limit!S73, 9)","v":"000000000"},{"$f":"DEC2BIN(W6_limit!T73, 9)","v":"000000000"},{"$f":"DEC2BIN(W6_limit!U73, 9)","v":"000000000"},{"$f":"DEC2BIN(W6_limit!V73, 9)","v":"000000000"},{"$f":"DEC2BIN(W6_limit!W73, 9)","v":"000000000"},{"$f":"DEC2BIN(W6_limit!X73, 9)","v":"000000000"},{"$f":"DEC2BIN(W6_limit!Y73, 9)","v":"000000000"},{"$f":"DEC2BIN(W6_limit!Z73, 9)","v":"000000000"},{"$f":"DEC2BIN(W6_limit!AA73, 9)","v":"000000000"},{"$f":"DEC2BIN(W6_limit!AB73, 9)","v":"000000000"},{"$f":"DEC2BIN(W6_limit!AC73, 9)","v":"000000000"},{"$f":"DEC2BIN(W6_limit!AD73, 9)","v":"000000000"},{"$f":"DEC2BIN(W6_limit!AE73, 9)","v":"000000000"},{"$f":"DEC2BIN(W6_limit!AF73, 9)","v":"000000000"},{"$f":"DEC2BIN(W6_limit!AG73, 9)","v":"000000000"},{"$f":"DEC2BIN(W6_limit!AH73, 9)","v":"000000000"},{"$f":"DEC2BIN(W6_limit!AI73, 9)","v":"000000000"},{"$f":"DEC2BIN(W6_limit!AJ73, 9)","v":"000000000"},{"$f":"DEC2BIN(W6_limit!AK73, 9)","v":"000000000"},{"$f":"DEC2BIN(W6_limit!AL73, 9)","v":"000000000"},{"$f":"DEC2BIN(W6_limit!AM73, 9)","v":"000000000"},{"$f":"DEC2BIN(W6_limit!AN73, 9)","v":"000000000"},{"$f":"DEC2BIN(W6_limit!AO73, 9)","v":"000000000"},{"$f":"DEC2BIN(W6_limit!AP73, 9)","v":"000000000"},{"$f":"DEC2BIN(W6_limit!AQ73, 9)","v":"000000000"}]
[{"$f":"DEC2BIN(W6_limit!A74, 9)","v":"1111010010"},{"$f":"DEC2BIN(W6_limit!B74, 9)","v":"1111011101"},{"$f":"DEC2BIN(W6_limit!C74, 9)","v":"1111100110"},{"$f":"DEC2BIN(W6_limit!D74, 9)","v":"000011100"},{"$f":"DEC2BIN(W6_limit!E74, 9)","v":"000001010"},{"$f":"DEC2BIN(W6_limit!F74, 9)","v":"000011111"},{"$f":"DEC2BIN(W6_limit!G74, 9)","v":"000011001"},{"$f":"DEC2BIN(W6_limit!H74, 9)","v":"000101100"},{"$f":"DEC2BIN(W6_limit!I74, 9)","v":"000000000"},{"$f":"DEC2BIN(W6_limit!J74, 9)","v":"1111010100"},{"$f":"DEC2BIN(W6_limit!K74, 9)","v":"000000000"},{"$f":"DEC2BIN(W6_limit!L74, 9)","v":"000000000"},{"$f":"DEC2BIN(W6_limit!M74, 9)","v":"000000000"},{"$f":"DEC2BIN(W6_limit!N74, 9)","v":"000000000"},{"$f":"DEC2BIN(W6_limit!O74, 9)","v":"000000000"},{"$f":"DEC2BIN(W6_limit!P74, 9)","v":"000000000"},{"$f":"DEC2BIN(W6_limit!Q74, 9)","v":"000000000"},{"$f":"DEC2BIN(W6_limit!R74, 9)","v":"000000000"},{"$f":"DEC2BIN(W6_limit!S74, 9)","v":"000000000"},{"$f":"DEC2BIN(W6_limit!T74, 9)","v":"000000000"},{"$f":"DEC2BIN(W6_limit!U74, 9)","v":"000000000"},{"$f":"DEC2BIN(W6_limit!V74, 9)","v":"000000000"},{"$f":"DEC2BIN(W6_limit!W74, 9)","v":"000000000"},{"$f":"DEC2BIN(W6_limit!X74, 9)","v":"000000000"},{"$f":"DEC2BIN(W6_limit!Y74, 9)","v":"000000000"},{"$f":"DEC2BIN(W6_limit!Z74, 9)","v":"000000000"},{"$f":"DEC2BIN(W6_limit!AA74, 9)","v":"000000000"},{"$f":"DEC2BIN(W6_limit!AB74, 9)","v":"000000000"},{"$f":"DEC2BIN(W6_limit!AC74, 9)","v":"000000000"},{"$f":"DEC2BIN(W6_limit!AD74, 9)","v":"000000000"},{"$f":"DEC2BIN(W6_limit!AE74, 9)","v":"000000000"},{"$f":"DEC2BIN(W6_limit!AF74, 9)","v":"000000000"},{"$f":"DEC2BIN(W6_limit!AG74, 9)","v":"000000000"},{"$f":"DEC2BIN(W6_limit!AH74, 9)","v":"000000000"},{"$f":"DEC2BIN(W6_limit!AI74, 9)","v":"000000000"},{"$f":"DEC2BIN(W6_limit!AJ74, 9)","v":"000000000"},{"$f":"DEC2BIN(W6_limit!AK74, 9)","v":"000000000"},{"$f":"DEC2BIN(W6_limit!AL74, 9)","v":"000000000"},{"$f":"DEC2BIN(W6_limit!AM74, 9)","v":"000000000"},{"$f":"DEC2BIN(W6_limit!AN74, 9)","v":"000000000"},{"$f":"DEC2BIN(W6_limit!AO74, 9)","v":"000000000"},{"$f":"DEC2BIN(W6_limit!AP74, 9)","v":"000000000"},{"$f":"DEC2BIN(W6_limit!AQ74, 9)","v":"000000000"}]
[{"$f":"DEC2BIN(W6_limit!A75, 9)","v":"000100010"},{"$f":"DEC2BIN(W6_limit!B75, 9)","v":"1111100010"},{"$f":"DEC2BIN(W6_limit!C75, 9)","v":"1100111001"},{"$f":"DEC2BIN(W6_limit!D75, 9)","v":"1100100011"},{"$f":"DEC2BIN(W6_limit!E75, 9)","v":"1101000110"},{"$f":"DEC2BIN(W6_limit!F75, 9)","v":"1110010111"},{"$f":"DEC2BIN(W6_limit!G75, 9)","v":"1110110101"},{"$f":"DEC2BIN(W6_limit!H75, 9)","v":"1110101011"},{"$f":"DEC2BIN(W6_limit!I75, 9)","v":"1110101000"},{"$f":"DEC2BIN(W6_limit!J75, 9)","v":"000100011"},{"$f":"DEC2BIN(W6_limit!K75, 9)","v":"000000000"},{"$f":"DEC2BIN(W6_limit!L75, 9)","v":"000000000"},{"$f":"DEC2BIN(W6_limit!M75, 9)","v":"000000000"},{"$f":"DEC2BIN(W6_limit!N75, 9)","v":"000000000"},{"$f":"DEC2BIN(W6_limit!O75, 9)","v":"000000000"},{"$f":"DEC2BIN(W6_limit!P75, 9)","v":"000000000"},{"$f":"DEC2BIN(W6_limit!Q75, 9)","v":"000000000"},{"$f":"DEC2BIN(W6_limit!R75, 9)","v":"000000000"},{"$f":"DEC2BIN(W6_limit!S75, 9)","v":"000000000"},{"$f":"DEC2BIN(W6_limit!T75, 9)","v":"000000000"},{"$f":"DEC2BIN(W6_limit!U75, 9)","v":"000000000"},{"$f":"DEC2BIN(W6_limit!V75, 9)","v":"000000000"},{"$f":"DEC2BIN(W6_limit!W75, 9)","v":"000000000"},{"$f":"DEC2BIN(W6_limit!X75, 9)","v":"000000000"},{"$f":"DEC2BIN(W6_limit!Y75, 9)","v":"000000000"},{"$f":"DEC2BIN(W6_limit!Z75, 9)","v":"000000000"},{"$f":"DEC2BIN(W6_limit!AA75, 9)","v":"000000000"},{"$f":"DEC2BIN(W6_limit!AB75, 9)","v":"000000000"},{"$f":"DEC2BIN(W6_limit!AC75, 9)","v":"000000000"},{"$f":"DEC2BIN(W6_limit!AD75, 9)","v":"000000000"},{"$f":"DEC2BIN(W6_limit!AE75, 9)","v":"000000000"},{"$f":"DEC2BIN(W6_limit!AF75, 9)","v":"000000000"},{"$f":"DEC2BIN(W6_limit!AG75, 9)","v":"000000000"},{"$f":"DEC2BIN(W6_limit!AH75, 9)","v":"000000000"},{"$f":"DEC2BIN(W6_limit!AI75, 9)","v":"000000000"},{"$f":"DEC2BIN(W6_limit!AJ75, 9)","v":"000000000"},{"$f":"DEC2BIN(W6_limit!AK75, 9)","v":"000000000"},{"$f":"DEC2BIN(W6_limit!AL75, 9)","v":"000000000"},{"$f":"DEC2BIN(W6_limit!AM75, 9)","v":"000000000"},{"$f":"DEC2BIN(W6_limit!AN75, 9)","v":"000000000"},{"$f":"DEC2BIN(W6_limit!AO75, 9)","v":"000000000"},{"$f":"DEC2BIN(W6_limit!AP75, 9)","v":"000000000"},{"$f":"DEC2BIN(W6_limit!AQ75, 9)","v":"000000000"}]
[{"$f":"DEC2BIN(W6_limit!A76, 9)","v":"1111010000"},{"$f":"DEC2BIN(W6_limit!B76, 9)","v":"1111001111"},{"$f":"DEC2BIN(W6_limit!C76, 9)","v":"1111000010"},{"$f":"DEC2BIN(W6_limit!D76, 9)","v":"1111101010"},{"$f":"DEC2BIN(W6_limit!E76, 9)","v":"1111111010"},{"$f":"DEC2BIN(W6_limit!F76, 9)","v":"1111000001"},{"$f":"DEC2BIN(W6_limit!G76, 9)","v":"1111010001"},{"$f":"DEC2BIN(W6_limit!H76, 9)","v":"000011010"},{"$f":"DEC2BIN(W6_limit!I76, 9)","v":"000100100"},{"$f":"DEC2BIN(W6_limit!J76, 9)","v":"000000010"},{"$f":"DEC2BIN(W6_limit!K76, 9)","v":"000000000"},{"$f":"DEC2BIN(W6_limit!L76, 9)","v":"000000000"},{"$f":"DEC2BIN(W6_limit!M76, 9)","v":"000000000"},{"$f":"DEC2BIN(W6_limit!N76, 9)","v":"000000000"},{"$f":"DEC2BIN(W6_limit!O76, 9)","v":"000000000"},{"$f":"DEC2BIN(W6_limit!P76, 9)","v":"000000000"},{"$f":"DEC2BIN(W6_limit!Q76, 9)","v":"000000000"},{"$f":"DEC2BIN(W6_limit!R76, 9)","v":"000000000"},{"$f":"DEC2BIN(W6_limit!S76, 9)","v":"000000000"},{"$f":"DEC2BIN(W6_limit!T76, 9)","v":"000000000"},{"$f":"DEC2BIN(W6_limit!U76, 9)","v":"000000000"},{"$f":"DEC2BIN(W6_limit!V76, 9)","v":"000000000"},{"$f":"DEC2BIN(W6_limit!W76, 9)","v":"000000000"},{"$f":"DEC2BIN(W6_limit!X76, 9)","v":"000000000"},{"$f":"DEC2BIN(W6_limit!Y76, 9)","v":"000000000"},{"$f":"DEC2BIN(W6_limit!Z76, 9)","v":"000000000"},{"$f":"DEC2BIN(W6_limit!AA76, 9)","v":"000000000"},{"$f":"DEC2BIN(W6_limit!AB76, 9)","v":"000000000"},{"$f":"DEC2BIN(W6_limit!AC76, 9)","v":"000000000"},{"$f":"DEC2BIN(W6_limit!AD76, 9)","v":"000000000"},{"$f":"DEC2BIN(W6_limit!AE76, 9)","v":"000000000"},{"$f":"DEC2BIN(W6_limit!AF76, 9)","v":"000000000"},{"$f":"DEC2BIN(W6_limit!AG76, 9)","v":"000000000"},{"$f":"DEC2BIN(W6_limit!AH76, 9)","v":"000000000"},{"$f":"DEC2BIN(W6_limit!AI76, 9)","v":"000000000"},{"$f":"DEC2BIN(W6_limit!AJ76, 9)","v":"000000000"},{"$f":"DEC2BIN(W6_limit!AK76, 9)","v":"000000000"},{"$f":"DEC2BIN(W6_limit!AL76, 9)","v":"000000000"},{"$f":"DEC2BIN(W6_limit!AM76, 9)","v":"000000000"},{"$f":"DEC2BIN(W6_limit!AN76, 9)","v":"000000000"},{"$f":"DEC2BIN(W6_limit!AO76, 9)","v":"000000000"},{"$f":"DEC2BIN(W6_limit!AP76, 9)","v":"000000000"},{"$f":"DEC2BIN(W6_limit!AQ76, 9)","v":"000000000"}]
[{"$f":"DEC2BIN(W6_limit!A77, 9)","v":"1110100001"},{"$f":"DEC2BIN(W6_limit!B77, 9)","v":"000000110"},{"$f":"DEC2BIN(W6_limit!C77, 9)","v":"1101110111"},{"$f":"DEC2BIN(W6_limit!D77, 9)","v":"000010110"},{"$f":"DEC2BIN(W6_limit!E77, 9)","v":"1111110110"},{"$f":"DEC2BIN(W6_limit!F77, 9)","v":"1110100010"},{"$f":"DEC2BIN(W6_limit!G77, 9)","v":"1110011100"},{"$f":"DEC2BIN(W6_limit!H77, 9)","v":"1100000000"},{"$f":"DEC2BIN(W6_limit!I77, 9)","v":"1101011000"},{"$f":"DEC2BIN(W6_limit!J77, 9)","v":"1110111110"},{"$f":"DEC2BIN(W6_limit!K77, 9)","v":"000000000"},{"$f":"DEC2BIN(W6_limit!L77, 9)","v":"000000000"},{"$f":"DEC2BIN(W6_limit!M77, 9)","v":"000000000"},{"$f":"DEC2BIN(W6_limit!N77, 9)","v":"000000000"},{"$f":"DEC2BIN(W6_limit!O77, 9)","v":"000000000"},{"$f":"DEC2BIN(W6_limit!P77, 9)","v":"000000000"},{"$f":"DEC2BIN(W6_limit!Q77, 9)","v":"000000000"},{"$f":"DEC2BIN(W6_limit!R77, 9)","v":"000000000"},{"$f":"DEC2BIN(W6_limit!S77, 9)","v":"000000000"},{"$f":"DEC2BIN(W6_limit!T77, 9)","v":"000000000"},{"$f":"DEC2BIN(W6_limit!U77, 9)","v":"000000000"},{"$f":"DEC2BIN(W6_limit!V77, 9)","v":"000000000"},{"$f":"DEC2BIN(W6_limit!W77, 9)","v":"000000000"},{"$f":"DEC2BIN(W6_limit!X77, 9)","v":"000000000"},{"$f":"DEC2BIN(W6_limit!Y77, 9)","v":"000000000"},{"$f":"DEC2BIN(W6_limit!Z77, 9)","v":"000000000"},{"$f":"DEC2BIN(W6_limit!AA77, 9)","v":"000000000"},{"$f":"DEC2BIN(W6_limit!AB77, 9)","v":"000000000"},{"$f":"DEC2BIN(W6_limit!AC77, 9)","v":"000000000"},{"$f":"DEC2BIN(W6_limit!AD77, 9)","v":"000000000"},{"$f":"DEC2BIN(W6_limit!AE77, 9)","v":"000000000"},{"$f":"DEC2BIN(W6_limit!AF77, 9)","v":"000000000"},{"$f":"DEC2BIN(W6_limit!AG77, 9)","v":"000000000"},{"$f":"DEC2BIN(W6_limit!AH77, 9)","v":"000000000"},{"$f":"DEC2BIN(W6_limit!AI77, 9)","v":"000000000"},{"$f":"DEC2BIN(W6_limit!AJ77, 9)","v":"000000000"},{"$f":"DEC2BIN(W6_limit!AK77, 9)","v":"000000000"},{"$f":"DEC2BIN(W6_limit!AL77, 9)","v":"000000000"},{"$f":"DEC2BIN(W6_limit!AM77, 9)","v":"000000000"},{"$f":"DEC2BIN(W6_limit!AN77, 9)","v":"000000000"},{"$f":"DEC2BIN(W6_limit!AO77, 9)","v":"000000000"},{"$f":"DEC2BIN(W6_limit!AP77, 9)","v":"000000000"},{"$f":"DEC2BIN(W6_limit!AQ77, 9)","v":"000000000"}]
[{"$f":"DEC2BIN(W6_limit!A78, 9)","v":"1111000011"},{"$f":"DEC2BIN(W6_limit!B78, 9)","v":"1111111011"},{"$f":"DEC2BIN(W6_limit!C78, 9)","v":"1111000011"},{"$f":"DEC2BIN(W6_limit!D78, 9)","v":"1110001011"},{"$f":"DEC2BIN(W6_limit!E78, 9)","v":"000100000"},{"$f":"DEC2BIN(W6_limit!F78, 9)","v":"1110110111"},{"$f":"DEC2BIN(W6_limit!G78, 9)","v":"000010010"},{"$f":"DEC2BIN(W6_limit!H78, 9)","v":"000000011"},{"$f":"DEC2BIN(W6_limit!I78, 9)","v":"000001001"},{"$f":"DEC2BIN(W6_limit!J78, 9)","v":"1110100100"},{"$f":"DEC2BIN(W6_limit!K78, 9)","v":"000000000"},{"$f":"DEC2BIN(W6_limit!L78, 9)","v":"000000000"},{"$f":"DEC2BIN(W6_limit!M78, 9)","v":"000000000"},{"$f":"DEC2BIN(W6_limit!N78, 9)","v":"000000000"},{"$f":"DEC2BIN(W6_limit!O78, 9)","v":"000000000"},{"$f":"DEC2BIN(W6_limit!P78, 9)","v":"000000000"},{"$f":"DEC2BIN(W6_limit!Q78, 9)","v":"000000000"},{"$f":"DEC2BIN(W6_limit!R78, 9)","v":"000000000"},{"$f":"DEC2BIN(W6_limit!S78, 9)","v":"000000000"},{"$f":"DEC2BIN(W6_limit!T78, 9)","v":"000000000"},{"$f":"DEC2BIN(W6_limit!U78, 9)","v":"000000000"},{"$f":"DEC2BIN(W6_limit!V78, 9)","v":"000000000"},{"$f":"DEC2BIN(W6_limit!W78, 9)","v":"000000000"},{"$f":"DEC2BIN(W6_limit!X78, 9)","v":"000000000"},{"$f":"DEC2BIN(W6_limit!Y78, 9)","v":"000000000"},{"$f":"DEC2BIN(W6_limit!Z78, 9)","v":"000000000"},{"$f":"DEC2BIN(W6_limit!AA78, 9)","v":"000000000"},{"$f":"DEC2BIN(W6_limit!AB78, 9)","v":"000000000"},{"$f":"DEC2BIN(W6_limit!AC78, 9)","v":"000000000"},{"$f":"DEC2BIN(W6_limit!AD78, 9)","v":"000000000"},{"$f":"DEC2BIN(W6_limit!AE78, 9)","v":"000000000"},{"$f":"DEC2BIN(W6_limit!AF78, 9)","v":"000000000"},{"$f":"DEC2BIN(W6_limit!AG78, 9)","v":"000000000"},{"$f":"DEC2BIN(W6_limit!AH78, 9)","v":"000000000"},{"$f":"DEC2BIN(W6_limit!AI78, 9)","v":"000000000"},{"$f":"DEC2BIN(W6_limit!AJ78, 9)","v":"000000000"},{"$f":"DEC2BIN(W6_limit!AK78, 9)","v":"000000000"},{"$f":"DEC2BIN(W6_limit!AL78, 9)","v":"000000000"},{"$f":"DEC2BIN(W6_limit!AM78, 9)","v":"000000000"},{"$f":"DEC2BIN(W6_limit!AN78, 9)","v":"000000000"},{"$f":"DEC2BIN(W6_limit!AO78, 9)","v":"000000000"},{"$f":"DEC2BIN(W6_limit!AP78, 9)","v":"000000000"},{"$f":"DEC2BIN(W6_limit!AQ78, 9)","v":"000000000"}]
[{"$f":"DEC2BIN(W6_limit!A79, 9)","v":"1111110110"},{"$f":"DEC2BIN(W6_limit!B79, 9)","v":"000101110"},{"$f":"DEC2BIN(W6_limit!C79, 9)","v":"000000000"},{"$f":"DEC2BIN(W6_limit!D79, 9)","v":"1111110000"},{"$f":"DEC2BIN(W6_limit!E79, 9)","v":"1101110111"},{"$f":"DEC2BIN(W6_limit!F79, 9)","v":"1100000000"},{"$f":"DEC2BIN(W6_limit!G79, 9)","v":"1101000110"},{"$f":"DEC2BIN(W6_limit!H79, 9)","v":"1100000000"},{"$f":"DEC2BIN(W6_limit!I79, 9)","v":"000101000"},{"$f":"DEC2BIN(W6_limit!J79, 9)","v":"000100100"},{"$f":"DEC2BIN(W6_limit!K79, 9)","v":"000000000"},{"$f":"DEC2BIN(W6_limit!L79, 9)","v":"000000000"},{"$f":"DEC2BIN(W6_limit!M79, 9)","v":"000000000"},{"$f":"DEC2BIN(W6_limit!N79, 9)","v":"000000000"},{"$f":"DEC2BIN(W6_limit!O79, 9)","v":"000000000"},{"$f":"DEC2BIN(W6_limit!P79, 9)","v":"000000000"},{"$f":"DEC2BIN(W6_limit!Q79, 9)","v":"000000000"},{"$f":"DEC2BIN(W6_limit!R79, 9)","v":"000000000"},{"$f":"DEC2BIN(W6_limit!S79, 9)","v":"000000000"},{"$f":"DEC2BIN(W6_limit!T79, 9)","v":"000000000"},{"$f":"DEC2BIN(W6_limit!U79, 9)","v":"000000000"},{"$f":"DEC2BIN(W6_limit!V79, 9)","v":"000000000"},{"$f":"DEC2BIN(W6_limit!W79, 9)","v":"000000000"},{"$f":"DEC2BIN(W6_limit!X79, 9)","v":"000000000"},{"$f":"DEC2BIN(W6_limit!Y79, 9)","v":"000000000"},{"$f":"DEC2BIN(W6_limit!Z79, 9)","v":"000000000"},{"$f":"DEC2BIN(W6_limit!AA79, 9)","v":"000000000"},{"$f":"DEC2BIN(W6_limit!AB79, 9)","v":"000000000"},{"$f":"DEC2BIN(W6_limit!AC79, 9)","v":"000000000"},{"$f":"DEC2BIN(W6_limit!AD79, 9)","v":"000000000"},{"$f":"DEC2BIN(W6_limit!AE79, 9)","v":"000000000"},{"$f":"DEC2BIN(W6_limit!AF79, 9)","v":"000000000"},{"$f":"DEC2BIN(W6_limit!AG79, 9)","v":"000000000"},{"$f":"DEC2BIN(W6_limit!AH79, 9)","v":"000000000"},{"$f":"DEC2BIN(W6_limit!AI79, 9)","v":"000000000"},{"$f":"DEC2BIN(W6_limit!AJ79, 9)","v":"000000000"},{"$f":"DEC2BIN(W6_limit!AK79, 9)","v":"000000000"},{"$f":"DEC2BIN(W6_limit!AL79, 9)","v":"000000000"},{"$f":"DEC2BIN(W6_limit!AM79, 9)","v":"000000000"},{"$f":"DEC2BIN(W6_limit!AN79, 9)","v":"000000000"},{"$f":"DEC2BIN(W6_limit!AO79, 9)","v":"000000000"},{"$f":"DEC2BIN(W6_limit!AP79, 9)","v":"000000000"},{"$f":"DEC2BIN(W6_limit!AQ79, 9)","v":"000000000"}]
[{"$f":"DEC2BIN(W6_limit!A80, 9)","v":"1111110000"},{"$f":"DEC2BIN(W6_limit!B80, 9)","v":"000000111"},{"$f":"DEC2BIN(W6_limit!C80, 9)","v":"1111100100"},{"$f":"DEC2BIN(W6_limit!D80, 9)","v":"1111010100"},{"$f":"DEC2BIN(W6_limit!E80, 9)","v":"1111011011"},{"$f":"DEC2BIN(W6_limit!F80, 9)","v":"000001001"},{"$f":"DEC2BIN(W6_limit!G80, 9)","v":"1111010101"},{"$f":"DEC2BIN(W6_limit!H80, 9)","v":"000000101"},{"$f":"DEC2BIN(W6_limit!I80, 9)","v":"000010111"},{"$f":"DEC2BIN(W6_limit!J80, 9)","v":"000001111"},{"$f":"DEC2BIN(W6_limit!K80, 9)","v":"000000000"},{"$f":"DEC2BIN(W6_limit!L80, 9)","v":"000000000"},{"$f":"DEC2BIN(W6_limit!M80, 9)","v":"000000000"},{"$f":"DEC2BIN(W6_limit!N80, 9)","v":"000000000"},{"$f":"DEC2BIN(W6_limit!O80, 9)","v":"000000000"},{"$f":"DEC2BIN(W6_limit!P80, 9)","v":"000000000"},{"$f":"DEC2BIN(W6_limit!Q80, 9)","v":"000000000"},{"$f":"DEC2BIN(W6_limit!R80, 9)","v":"000000000"},{"$f":"DEC2BIN(W6_limit!S80, 9)","v":"000000000"},{"$f":"DEC2BIN(W6_limit!T80, 9)","v":"000000000"},{"$f":"DEC2BIN(W6_limit!U80, 9)","v":"000000000"},{"$f":"DEC2BIN(W6_limit!V80, 9)","v":"000000000"},{"$f":"DEC2BIN(W6_limit!W80, 9)","v":"000000000"},{"$f":"DEC2BIN(W6_limit!X80, 9)","v":"000000000"},{"$f":"DEC2BIN(W6_limit!Y80, 9)","v":"000000000"},{"$f":"DEC2BIN(W6_limit!Z80, 9)","v":"000000000"},{"$f":"DEC2BIN(W6_limit!AA80, 9)","v":"000000000"},{"$f":"DEC2BIN(W6_limit!AB80, 9)","v":"000000000"},{"$f":"DEC2BIN(W6_limit!AC80, 9)","v":"000000000"},{"$f":"DEC2BIN(W6_limit!AD80, 9)","v":"000000000"},{"$f":"DEC2BIN(W6_limit!AE80, 9)","v":"000000000"},{"$f":"DEC2BIN(W6_limit!AF80, 9)","v":"000000000"},{"$f":"DEC2BIN(W6_limit!AG80, 9)","v":"000000000"},{"$f":"DEC2BIN(W6_limit!AH80, 9)","v":"000000000"},{"$f":"DEC2BIN(W6_limit!AI80, 9)","v":"000000000"},{"$f":"DEC2BIN(W6_limit!AJ80, 9)","v":"000000000"},{"$f":"DEC2BIN(W6_limit!AK80, 9)","v":"000000000"},{"$f":"DEC2BIN(W6_limit!AL80, 9)","v":"000000000"},{"$f":"DEC2BIN(W6_limit!AM80, 9)","v":"000000000"},{"$f":"DEC2BIN(W6_limit!AN80, 9)","v":"000000000"},{"$f":"DEC2BIN(W6_limit!AO80, 9)","v":"000000000"},{"$f":"DEC2BIN(W6_limit!AP80, 9)","v":"000000000"},{"$f":"DEC2BIN(W6_limit!AQ80, 9)","v":"000000000"}]
[{"$f":"DEC2BIN(W6_limit!A81, 9)","v":"1111111010"},{"$f":"DEC2BIN(W6_limit!B81, 9)","v":"1111110111"},{"$f":"DEC2BIN(W6_limit!C81, 9)","v":"1101100110"},{"$f":"DEC2BIN(W6_limit!D81, 9)","v":"1101001011"},{"$f":"DEC2BIN(W6_limit!E81, 9)","v":"000010011"},{"$f":"DEC2BIN(W6_limit!F81, 9)","v":"000001101"},{"$f":"DEC2BIN(W6_limit!G81, 9)","v":"1111000001"},{"$f":"DEC2BIN(W6_limit!H81, 9)","v":"000011110"},{"$f":"DEC2BIN(W6_limit!I81, 9)","v":"000010110"},{"$f":"DEC2BIN(W6_limit!J81, 9)","v":"1111000111"},{"$f":"DEC2BIN(W6_limit!K81, 9)","v":"000000000"},{"$f":"DEC2BIN(W6_limit!L81, 9)","v":"000000000"},{"$f":"DEC2BIN(W6_limit!M81, 9)","v":"000000000"},{"$f":"DEC2BIN(W6_limit!N81, 9)","v":"000000000"},{"$f":"DEC2BIN(W6_limit!O81, 9)","v":"000000000"},{"$f":"DEC2BIN(W6_limit!P81, 9)","v":"000000000"},{"$f":"DEC2BIN(W6_limit!Q81, 9)","v":"000000000"},{"$f":"DEC2BIN(W6_limit!R81, 9)","v":"000000000"},{"$f":"DEC2BIN(W6_limit!S81, 9)","v":"000000000"},{"$f":"DEC2BIN(W6_limit!T81, 9)","v":"000000000"},{"$f":"DEC2BIN(W6_limit!U81, 9)","v":"000000000"},{"$f":"DEC2BIN(W6_limit!V81, 9)","v":"000000000"},{"$f":"DEC2BIN(W6_limit!W81, 9)","v":"000000000"},{"$f":"DEC2BIN(W6_limit!X81, 9)","v":"000000000"},{"$f":"DEC2BIN(W6_limit!Y81, 9)","v":"000000000"},{"$f":"DEC2BIN(W6_limit!Z81, 9)","v":"000000000"},{"$f":"DEC2BIN(W6_limit!AA81, 9)","v":"000000000"},{"$f":"DEC2BIN(W6_limit!AB81, 9)","v":"000000000"},{"$f":"DEC2BIN(W6_limit!AC81, 9)","v":"000000000"},{"$f":"DEC2BIN(W6_limit!AD81, 9)","v":"000000000"},{"$f":"DEC2BIN(W6_limit!AE81, 9)","v":"000000000"},{"$f":"DEC2BIN(W6_limit!AF81, 9)","v":"000000000"},{"$f":"DEC2BIN(W6_limit!AG81, 9)","v":"000000000"},{"$f":"DEC2BIN(W6_limit!AH81, 9)","v":"000000000"},{"$f":"DEC2BIN(W6_limit!AI81, 9)","v":"000000000"},{"$f":"DEC2BIN(W6_limit!AJ81, 9)","v":"000000000"},{"$f":"DEC2BIN(W6_limit!AK81, 9)","v":"000000000"},{"$f":"DEC2BIN(W6_limit!AL81, 9)","v":"000000000"},{"$f":"DEC2BIN(W6_limit!AM81, 9)","v":"000000000"},{"$f":"DEC2BIN(W6_limit!AN81, 9)","v":"000000000"},{"$f":"DEC2BIN(W6_limit!AO81, 9)","v":"000000000"},{"$f":"DEC2BIN(W6_limit!AP81, 9)","v":"000000000"},{"$f":"DEC2BIN(W6_limit!AQ81, 9)","v":"000000000"}]
[{"$f":"DEC2BIN(W6_limit!A82, 9)","v":"000000011"},{"$f":"DEC2BIN(W6_limit!B82, 9)","v":"000001101"},{"$f":"DEC2BIN(W6_limit!C82, 9)","v":"1111010111"},{"$f":"DEC2BIN(W6_limit!D82, 9)","v":"000110000"},{"$f":"DEC2BIN(W6_limit!E82, 9)","v":"000101001"},{"$f":"DEC2BIN(W6_limit!F82, 9)","v":"1111011001"},{"$f":"DEC2BIN(W6_limit!G82, 9)","v":"1111101111"},{"$f":"DEC2BIN(W6_limit!H82, 9)","v":"000110001"},{"$f":"DEC2BIN(W6_limit!I82, 9)","v":"000100110"},{"$f":"DEC2BIN(W6_limit!J82, 9)","v":"000011100"},{"$f":"DEC2BIN(W6_limit!K82, 9)","v":"000000000"},{"$f":"DEC2BIN(W6_limit!L82, 9)","v":"000000000"},{"$f":"DEC2BIN(W6_limit!M82, 9)","v":"000000000"},{"$f":"DEC2BIN(W6_limit!N82, 9)","v":"000000000"},{"$f":"DEC2BIN(W6_limit!O82, 9)","v":"000000000"},{"$f":"DEC2BIN(W6_limit!P82, 9)","v":"000000000"},{"$f":"DEC2BIN(W6_limit!Q82, 9)","v":"000000000"},{"$f":"DEC2BIN(W6_limit!R82, 9)","v":"000000000"},{"$f":"DEC2BIN(W6_limit!S82, 9)","v":"000000000"},{"$f":"DEC2BIN(W6_limit!T82, 9)","v":"000000000"},{"$f":"DEC2BIN(W6_limit!U82, 9)","v":"000000000"},{"$f":"DEC2BIN(W6_limit!V82, 9)","v":"000000000"},{"$f":"DEC2BIN(W6_limit!W82, 9)","v":"000000000"},{"$f":"DEC2BIN(W6_limit!X82, 9)","v":"000000000"},{"$f":"DEC2BIN(W6_limit!Y82, 9)","v":"000000000"},{"$f":"DEC2BIN(W6_limit!Z82, 9)","v":"000000000"},{"$f":"DEC2BIN(W6_limit!AA82, 9)","v":"000000000"},{"$f":"DEC2BIN(W6_limit!AB82, 9)","v":"000000000"},{"$f":"DEC2BIN(W6_limit!AC82, 9)","v":"000000000"},{"$f":"DEC2BIN(W6_limit!AD82, 9)","v":"000000000"},{"$f":"DEC2BIN(W6_limit!AE82, 9)","v":"000000000"},{"$f":"DEC2BIN(W6_limit!AF82, 9)","v":"000000000"},{"$f":"DEC2BIN(W6_limit!AG82, 9)","v":"000000000"},{"$f":"DEC2BIN(W6_limit!AH82, 9)","v":"000000000"},{"$f":"DEC2BIN(W6_limit!AI82, 9)","v":"000000000"},{"$f":"DEC2BIN(W6_limit!AJ82, 9)","v":"000000000"},{"$f":"DEC2BIN(W6_limit!AK82, 9)","v":"000000000"},{"$f":"DEC2BIN(W6_limit!AL82, 9)","v":"000000000"},{"$f":"DEC2BIN(W6_limit!AM82, 9)","v":"000000000"},{"$f":"DEC2BIN(W6_limit!AN82, 9)","v":"000000000"},{"$f":"DEC2BIN(W6_limit!AO82, 9)","v":"000000000"},{"$f":"DEC2BIN(W6_limit!AP82, 9)","v":"000000000"},{"$f":"DEC2BIN(W6_limit!AQ82, 9)","v":"000000000"}]
[{"$f":"DEC2BIN(W6_limit!A83, 9)","v":"000101001"},{"$f":"DEC2BIN(W6_limit!B83, 9)","v":"1111101111"},{"$f":"DEC2BIN(W6_limit!C83, 9)","v":"1101111001"},{"$f":"DEC2BIN(W6_limit!D83, 9)","v":"1110100010"},{"$f":"DEC2BIN(W6_limit!E83, 9)","v":"1101111001"},{"$f":"DEC2BIN(W6_limit!F83, 9)","v":"000100101"},{"$f":"DEC2BIN(W6_limit!G83, 9)","v":"1111101110"},{"$f":"DEC2BIN(W6_limit!H83, 9)","v":"1111100111"},{"$f":"DEC2BIN(W6_limit!I83, 9)","v":"1110010100"},{"$f":"DEC2BIN(W6_limit!J83, 9)","v":"000110001"},{"$f":"DEC2BIN(W6_limit!K83, 9)","v":"000000000"},{"$f":"DEC2BIN(W6_limit!L83, 9)","v":"000000000"},{"$f":"DEC2BIN(W6_limit!M83, 9)","v":"000000000"},{"$f":"DEC2BIN(W6_limit!N83, 9)","v":"000000000"},{"$f":"DEC2BIN(W6_limit!O83, 9)","v":"000000000"},{"$f":"DEC2BIN(W6_limit!P83, 9)","v":"000000000"},{"$f":"DEC2BIN(W6_limit!Q83, 9)","v":"000000000"},{"$f":"DEC2BIN(W6_limit!R83, 9)","v":"000000000"},{"$f":"DEC2BIN(W6_limit!S83, 9)","v":"000000000"},{"$f":"DEC2BIN(W6_limit!T83, 9)","v":"000000000"},{"$f":"DEC2BIN(W6_limit!U83, 9)","v":"000000000"},{"$f":"DEC2BIN(W6_limit!V83, 9)","v":"000000000"},{"$f":"DEC2BIN(W6_limit!W83, 9)","v":"000000000"},{"$f":"DEC2BIN(W6_limit!X83, 9)","v":"000000000"},{"$f":"DEC2BIN(W6_limit!Y83, 9)","v":"000000000"},{"$f":"DEC2BIN(W6_limit!Z83, 9)","v":"000000000"},{"$f":"DEC2BIN(W6_limit!AA83, 9)","v":"000000000"},{"$f":"DEC2BIN(W6_limit!AB83, 9)","v":"000000000"},{"$f":"DEC2BIN(W6_limit!AC83, 9)","v":"000000000"},{"$f":"DEC2BIN(W6_limit!AD83, 9)","v":"000000000"},{"$f":"DEC2BIN(W6_limit!AE83, 9)","v":"000000000"},{"$f":"DEC2BIN(W6_limit!AF83, 9)","v":"000000000"},{"$f":"DEC2BIN(W6_limit!AG83, 9)","v":"000000000"},{"$f":"DEC2BIN(W6_limit!AH83, 9)","v":"000000000"},{"$f":"DEC2BIN(W6_limit!AI83, 9)","v":"000000000"},{"$f":"DEC2BIN(W6_limit!AJ83, 9)","v":"000000000"},{"$f":"DEC2BIN(W6_limit!AK83, 9)","v":"000000000"},{"$f":"DEC2BIN(W6_limit!AL83, 9)","v":"000000000"},{"$f":"DEC2BIN(W6_limit!AM83, 9)","v":"000000000"},{"$f":"DEC2BIN(W6_limit!AN83, 9)","v":"000000000"},{"$f":"DEC2BIN(W6_limit!AO83, 9)","v":"000000000"},{"$f":"DEC2BIN(W6_limit!AP83, 9)","v":"000000000"},{"$f":"DEC2BIN(W6_limit!AQ83, 9)","v":"000000000"}]
[{"$f":"DEC2BIN(W6_limit!A84, 9)","v":"000001001"},{"$f":"DEC2BIN(W6_limit!B84, 9)","v":"1111001101"},{"$f":"DEC2BIN(W6_limit!C84, 9)","v":"1101110111"},{"$f":"DEC2BIN(W6_limit!D84, 9)","v":"000010011"},{"$f":"DEC2BIN(W6_limit!E84, 9)","v":"000010111"},{"$f":"DEC2BIN(W6_limit!F84, 9)","v":"1111001101"},{"$f":"DEC2BIN(W6_limit!G84, 9)","v":"000011111"},{"$f":"DEC2BIN(W6_limit!H84, 9)","v":"000101001"},{"$f":"DEC2BIN(W6_limit!I84, 9)","v":"1111011001"},{"$f":"DEC2BIN(W6_limit!J84, 9)","v":"1111011001"},{"$f":"DEC2BIN(W6_limit!K84, 9)","v":"000000000"},{"$f":"DEC2BIN(W6_limit!L84, 9)","v":"000000000"},{"$f":"DEC2BIN(W6_limit!M84, 9)","v":"000000000"},{"$f":"DEC2BIN(W6_limit!N84, 9)","v":"000000000"},{"$f":"DEC2BIN(W6_limit!O84, 9)","v":"000000000"},{"$f":"DEC2BIN(W6_limit!P84, 9)","v":"000000000"},{"$f":"DEC2BIN(W6_limit!Q84, 9)","v":"000000000"},{"$f":"DEC2BIN(W6_limit!R84, 9)","v":"000000000"},{"$f":"DEC2BIN(W6_limit!S84, 9)","v":"000000000"},{"$f":"DEC2BIN(W6_limit!T84, 9)","v":"000000000"},{"$f":"DEC2BIN(W6_limit!U84, 9)","v":"000000000"},{"$f":"DEC2BIN(W6_limit!V84, 9)","v":"000000000"},{"$f":"DEC2BIN(W6_limit!W84, 9)","v":"000000000"},{"$f":"DEC2BIN(W6_limit!X84, 9)","v":"000000000"},{"$f":"DEC2BIN(W6_limit!Y84, 9)","v":"000000000"},{"$f":"DEC2BIN(W6_limit!Z84, 9)","v":"000000000"},{"$f":"DEC2BIN(W6_limit!AA84, 9)","v":"000000000"},{"$f":"DEC2BIN(W6_limit!AB84, 9)","v":"000000000"},{"$f":"DEC2BIN(W6_limit!AC84, 9)","v":"000000000"},{"$f":"DEC2BIN(W6_limit!AD84, 9)","v":"000000000"},{"$f":"DEC2BIN(W6_limit!AE84, 9)","v":"000000000"},{"$f":"DEC2BIN(W6_limit!AF84, 9)","v":"000000000"},{"$f":"DEC2BIN(W6_limit!AG84, 9)","v":"000000000"},{"$f":"DEC2BIN(W6_limit!AH84, 9)","v":"000000000"},{"$f":"DEC2BIN(W6_limit!AI84, 9)","v":"000000000"},{"$f":"DEC2BIN(W6_limit!AJ84, 9)","v":"000000000"},{"$f":"DEC2BIN(W6_limit!AK84, 9)","v":"000000000"},{"$f":"DEC2BIN(W6_limit!AL84, 9)","v":"000000000"},{"$f":"DEC2BIN(W6_limit!AM84, 9)","v":"000000000"},{"$f":"DEC2BIN(W6_limit!AN84, 9)","v":"000000000"},{"$f":"DEC2BIN(W6_limit!AO84, 9)","v":"000000000"},{"$f":"DEC2BIN(W6_limit!AP84, 9)","v":"000000000"},{"$f":"DEC2BIN(W6_limit!AQ84, 9)","v":"000000000"}]
[{"$f":"DEC2BIN(W6_limit!A85, 9)","v":"1111001000"},{"$f":"DEC2BIN(W6_limit!B85, 9)","v":"000101001"},{"$f":"DEC2BIN(W6_limit!C85, 9)","v":"1110000000"},{"$f":"DEC2BIN(W6_limit!D85, 9)","v":"001001011"},{"$f":"DEC2BIN(W6_limit!E85, 9)","v":"1101101101"},{"$f":"DEC2BIN(W6_limit!F85, 9)","v":"1100011010"},{"$f":"DEC2BIN(W6_limit!G85, 9)","v":"1100000000"},{"$f":"DEC2BIN(W6_limit!H85, 9)","v":"1100000000"},{"$f":"DEC2BIN(W6_limit!I85, 9)","v":"1100000000"},{"$f":"DEC2BIN(W6_limit!J85, 9)","v":"1111111111"},{"$f":"DEC2BIN(W6_limit!K85, 9)","v":"000000000"},{"$f":"DEC2BIN(W6_limit!L85, 9)","v":"000000000"},{"$f":"DEC2BIN(W6_limit!M85, 9)","v":"000000000"},{"$f":"DEC2BIN(W6_limit!N85, 9)","v":"000000000"},{"$f":"DEC2BIN(W6_limit!O85, 9)","v":"000000000"},{"$f":"DEC2BIN(W6_limit!P85, 9)","v":"000000000"},{"$f":"DEC2BIN(W6_limit!Q85, 9)","v":"000000000"},{"$f":"DEC2BIN(W6_limit!R85, 9)","v":"000000000"},{"$f":"DEC2BIN(W6_limit!S85, 9)","v":"000000000"},{"$f":"DEC2BIN(W6_limit!T85, 9)","v":"000000000"},{"$f":"DEC2BIN(W6_limit!U85, 9)","v":"000000000"},{"$f":"DEC2BIN(W6_limit!V85, 9)","v":"000000000"},{"$f":"DEC2BIN(W6_limit!W85, 9)","v":"000000000"},{"$f":"DEC2BIN(W6_limit!X85, 9)","v":"000000000"},{"$f":"DEC2BIN(W6_limit!Y85, 9)","v":"000000000"},{"$f":"DEC2BIN(W6_limit!Z85, 9)","v":"000000000"},{"$f":"DEC2BIN(W6_limit!AA85, 9)","v":"000000000"},{"$f":"DEC2BIN(W6_limit!AB85, 9)","v":"000000000"},{"$f":"DEC2BIN(W6_limit!AC85, 9)","v":"000000000"},{"$f":"DEC2BIN(W6_limit!AD85, 9)","v":"000000000"},{"$f":"DEC2BIN(W6_limit!AE85, 9)","v":"000000000"},{"$f":"DEC2BIN(W6_limit!AF85, 9)","v":"000000000"},{"$f":"DEC2BIN(W6_limit!AG85, 9)","v":"000000000"},{"$f":"DEC2BIN(W6_limit!AH85, 9)","v":"000000000"},{"$f":"DEC2BIN(W6_limit!AI85, 9)","v":"000000000"},{"$f":"DEC2BIN(W6_limit!AJ85, 9)","v":"000000000"},{"$f":"DEC2BIN(W6_limit!AK85, 9)","v":"000000000"},{"$f":"DEC2BIN(W6_limit!AL85, 9)","v":"000000000"},{"$f":"DEC2BIN(W6_limit!AM85, 9)","v":"000000000"},{"$f":"DEC2BIN(W6_limit!AN85, 9)","v":"000000000"},{"$f":"DEC2BIN(W6_limit!AO85, 9)","v":"000000000"},{"$f":"DEC2BIN(W6_limit!AP85, 9)","v":"000000000"},{"$f":"DEC2BIN(W6_limit!AQ85, 9)","v":"000000000"}]
[{"$f":"DEC2BIN(W6_limit!A86, 9)","v":"000001111"},{"$f":"DEC2BIN(W6_limit!B86, 9)","v":"1111001001"},{"$f":"DEC2BIN(W6_limit!C86, 9)","v":"1111000011"},{"$f":"DEC2BIN(W6_limit!D86, 9)","v":"1111001001"},{"$f":"DEC2BIN(W6_limit!E86, 9)","v":"000010011"},{"$f":"DEC2BIN(W6_limit!F86, 9)","v":"1111111011"},{"$f":"DEC2BIN(W6_limit!G86, 9)","v":"000000100"},{"$f":"DEC2BIN(W6_limit!H86, 9)","v":"1111000001"},{"$f":"DEC2BIN(W6_limit!I86, 9)","v":"000100111"},{"$f":"DEC2BIN(W6_limit!J86, 9)","v":"1111011101"},{"$f":"DEC2BIN(W6_limit!K86, 9)","v":"000000000"},{"$f":"DEC2BIN(W6_limit!L86, 9)","v":"000000000"},{"$f":"DEC2BIN(W6_limit!M86, 9)","v":"000000000"},{"$f":"DEC2BIN(W6_limit!N86, 9)","v":"000000000"},{"$f":"DEC2BIN(W6_limit!O86, 9)","v":"000000000"},{"$f":"DEC2BIN(W6_limit!P86, 9)","v":"000000000"},{"$f":"DEC2BIN(W6_limit!Q86, 9)","v":"000000000"},{"$f":"DEC2BIN(W6_limit!R86, 9)","v":"000000000"},{"$f":"DEC2BIN(W6_limit!S86, 9)","v":"000000000"},{"$f":"DEC2BIN(W6_limit!T86, 9)","v":"000000000"},{"$f":"DEC2BIN(W6_limit!U86, 9)","v":"000000000"},{"$f":"DEC2BIN(W6_limit!V86, 9)","v":"000000000"},{"$f":"DEC2BIN(W6_limit!W86, 9)","v":"000000000"},{"$f":"DEC2BIN(W6_limit!X86, 9)","v":"000000000"},{"$f":"DEC2BIN(W6_limit!Y86, 9)","v":"000000000"},{"$f":"DEC2BIN(W6_limit!Z86, 9)","v":"000000000"},{"$f":"DEC2BIN(W6_limit!AA86, 9)","v":"000000000"},{"$f":"DEC2BIN(W6_limit!AB86, 9)","v":"000000000"},{"$f":"DEC2BIN(W6_limit!AC86, 9)","v":"000000000"},{"$f":"DEC2BIN(W6_limit!AD86, 9)","v":"000000000"},{"$f":"DEC2BIN(W6_limit!AE86, 9)","v":"000000000"},{"$f":"DEC2BIN(W6_limit!AF86, 9)","v":"000000000"},{"$f":"DEC2BIN(W6_limit!AG86, 9)","v":"000000000"},{"$f":"DEC2BIN(W6_limit!AH86, 9)","v":"000000000"},{"$f":"DEC2BIN(W6_limit!AI86, 9)","v":"000000000"},{"$f":"DEC2BIN(W6_limit!AJ86, 9)","v":"000000000"},{"$f":"DEC2BIN(W6_limit!AK86, 9)","v":"000000000"},{"$f":"DEC2BIN(W6_limit!AL86, 9)","v":"000000000"},{"$f":"DEC2BIN(W6_limit!AM86, 9)","v":"000000000"},{"$f":"DEC2BIN(W6_limit!AN86, 9)","v":"000000000"},{"$f":"DEC2BIN(W6_limit!AO86, 9)","v":"000000000"},{"$f":"DEC2BIN(W6_limit!AP86, 9)","v":"000000000"},{"$f":"DEC2BIN(W6_limit!AQ86, 9)","v":"000000000"}]
[{"$f":"DEC2BIN(W6_limit!A87, 9)","v":"1110101010"},{"$f":"DEC2BIN(W6_limit!B87, 9)","v":"001000100"},{"$f":"DEC2BIN(W6_limit!C87, 9)","v":"000111001"},{"$f":"DEC2BIN(W6_limit!D87, 9)","v":"1110111011"},{"$f":"DEC2BIN(W6_limit!E87, 9)","v":"000011011"},{"$f":"DEC2BIN(W6_limit!F87, 9)","v":"1101001100"},{"$f":"DEC2BIN(W6_limit!G87, 9)","v":"1110011101"},{"$f":"DEC2BIN(W6_limit!H87, 9)","v":"1100000100"},{"$f":"DEC2BIN(W6_limit!I87, 9)","v":"1100000110"},{"$f":"DEC2BIN(W6_limit!J87, 9)","v":"1111010100"},{"$f":"DEC2BIN(W6_limit!K87, 9)","v":"000000000"},{"$f":"DEC2BIN(W6_limit!L87, 9)","v":"000000000"},{"$f":"DEC2BIN(W6_limit!M87, 9)","v":"000000000"},{"$f":"DEC2BIN(W6_limit!N87, 9)","v":"000000000"},{"$f":"DEC2BIN(W6_limit!O87, 9)","v":"000000000"},{"$f":"DEC2BIN(W6_limit!P87, 9)","v":"000000000"},{"$f":"DEC2BIN(W6_limit!Q87, 9)","v":"000000000"},{"$f":"DEC2BIN(W6_limit!R87, 9)","v":"000000000"},{"$f":"DEC2BIN(W6_limit!S87, 9)","v":"000000000"},{"$f":"DEC2BIN(W6_limit!T87, 9)","v":"000000000"},{"$f":"DEC2BIN(W6_limit!U87, 9)","v":"000000000"},{"$f":"DEC2BIN(W6_limit!V87, 9)","v":"000000000"},{"$f":"DEC2BIN(W6_limit!W87, 9)","v":"000000000"},{"$f":"DEC2BIN(W6_limit!X87, 9)","v":"000000000"},{"$f":"DEC2BIN(W6_limit!Y87, 9)","v":"000000000"},{"$f":"DEC2BIN(W6_limit!Z87, 9)","v":"000000000"},{"$f":"DEC2BIN(W6_limit!AA87, 9)","v":"000000000"},{"$f":"DEC2BIN(W6_limit!AB87, 9)","v":"000000000"},{"$f":"DEC2BIN(W6_limit!AC87, 9)","v":"000000000"},{"$f":"DEC2BIN(W6_limit!AD87, 9)","v":"000000000"},{"$f":"DEC2BIN(W6_limit!AE87, 9)","v":"000000000"},{"$f":"DEC2BIN(W6_limit!AF87, 9)","v":"000000000"},{"$f":"DEC2BIN(W6_limit!AG87, 9)","v":"000000000"},{"$f":"DEC2BIN(W6_limit!AH87, 9)","v":"000000000"},{"$f":"DEC2BIN(W6_limit!AI87, 9)","v":"000000000"},{"$f":"DEC2BIN(W6_limit!AJ87, 9)","v":"000000000"},{"$f":"DEC2BIN(W6_limit!AK87, 9)","v":"000000000"},{"$f":"DEC2BIN(W6_limit!AL87, 9)","v":"000000000"},{"$f":"DEC2BIN(W6_limit!AM87, 9)","v":"000000000"},{"$f":"DEC2BIN(W6_limit!AN87, 9)","v":"000000000"},{"$f":"DEC2BIN(W6_limit!AO87, 9)","v":"000000000"},{"$f":"DEC2BIN(W6_limit!AP87, 9)","v":"000000000"},{"$f":"DEC2BIN(W6_limit!AQ87, 9)","v":"000000000"}]
[{"$f":"DEC2BIN(W6_limit!A88, 9)","v":"000110011"},{"$f":"DEC2BIN(W6_limit!B88, 9)","v":"000110000"},{"$f":"DEC2BIN(W6_limit!C88, 9)","v":"000110101"},{"$f":"DEC2BIN(W6_limit!D88, 9)","v":"1111011000"},{"$f":"DEC2BIN(W6_limit!E88, 9)","v":"1101010000"},{"$f":"DEC2BIN(W6_limit!F88, 9)","v":"1101010010"},{"$f":"DEC2BIN(W6_limit!G88, 9)","v":"1110111110"},{"$f":"DEC2BIN(W6_limit!H88, 9)","v":"1110011111"},{"$f":"DEC2BIN(W6_limit!I88, 9)","v":"1110101000"},{"$f":"DEC2BIN(W6_limit!J88, 9)","v":"1111011011"},{"$f":"DEC2BIN(W6_limit!K88, 9)","v":"000000000"},{"$f":"DEC2BIN(W6_limit!L88, 9)","v":"000000000"},{"$f":"DEC2BIN(W6_limit!M88, 9)","v":"000000000"},{"$f":"DEC2BIN(W6_limit!N88, 9)","v":"000000000"},{"$f":"DEC2BIN(W6_limit!O88, 9)","v":"000000000"},{"$f":"DEC2BIN(W6_limit!P88, 9)","v":"000000000"},{"$f":"DEC2BIN(W6_limit!Q88, 9)","v":"000000000"},{"$f":"DEC2BIN(W6_limit!R88, 9)","v":"000000000"},{"$f":"DEC2BIN(W6_limit!S88, 9)","v":"000000000"},{"$f":"DEC2BIN(W6_limit!T88, 9)","v":"000000000"},{"$f":"DEC2BIN(W6_limit!U88, 9)","v":"000000000"},{"$f":"DEC2BIN(W6_limit!V88, 9)","v":"000000000"},{"$f":"DEC2BIN(W6_limit!W88, 9)","v":"000000000"},{"$f":"DEC2BIN(W6_limit!X88, 9)","v":"000000000"},{"$f":"DEC2BIN(W6_limit!Y88, 9)","v":"000000000"},{"$f":"DEC2BIN(W6_limit!Z88, 9)","v":"000000000"},{"$f":"DEC2BIN(W6_limit!AA88, 9)","v":"000000000"},{"$f":"DEC2BIN(W6_limit!AB88, 9)","v":"000000000"},{"$f":"DEC2BIN(W6_limit!AC88, 9)","v":"000000000"},{"$f":"DEC2BIN(W6_limit!AD88, 9)","v":"000000000"},{"$f":"DEC2BIN(W6_limit!AE88, 9)","v":"000000000"},{"$f":"DEC2BIN(W6_limit!AF88, 9)","v":"000000000"},{"$f":"DEC2BIN(W6_limit!AG88, 9)","v":"000000000"},{"$f":"DEC2BIN(W6_limit!AH88, 9)","v":"000000000"},{"$f":"DEC2BIN(W6_limit!AI88, 9)","v":"000000000"},{"$f":"DEC2BIN(W6_limit!AJ88, 9)","v":"000000000"},{"$f":"DEC2BIN(W6_limit!AK88, 9)","v":"000000000"},{"$f":"DEC2BIN(W6_limit!AL88, 9)","v":"000000000"},{"$f":"DEC2BIN(W6_limit!AM88, 9)","v":"000000000"},{"$f":"DEC2BIN(W6_limit!AN88, 9)","v":"000000000"},{"$f":"DEC2BIN(W6_limit!AO88, 9)","v":"000000000"},{"$f":"DEC2BIN(W6_limit!AP88, 9)","v":"000000000"},{"$f":"DEC2BIN(W6_limit!AQ88, 9)","v":"000000000"}]
[{"$f":"DEC2BIN(W6_limit!A89, 9)","v":"1111101101"},{"$f":"DEC2BIN(W6_limit!B89, 9)","v":"000110001"},{"$f":"DEC2BIN(W6_limit!C89, 9)","v":"1110010010"},{"$f":"DEC2BIN(W6_limit!D89, 9)","v":"1110110000"},{"$f":"DEC2BIN(W6_limit!E89, 9)","v":"1110000011"},{"$f":"DEC2BIN(W6_limit!F89, 9)","v":"1100000000"},{"$f":"DEC2BIN(W6_limit!G89, 9)","v":"1100000011"},{"$f":"DEC2BIN(W6_limit!H89, 9)","v":"1100000000"},{"$f":"DEC2BIN(W6_limit!I89, 9)","v":"1101001101"},{"$f":"DEC2BIN(W6_limit!J89, 9)","v":"000101011"},{"$f":"DEC2BIN(W6_limit!K89, 9)","v":"000000000"},{"$f":"DEC2BIN(W6_limit!L89, 9)","v":"000000000"},{"$f":"DEC2BIN(W6_limit!M89, 9)","v":"000000000"},{"$f":"DEC2BIN(W6_limit!N89, 9)","v":"000000000"},{"$f":"DEC2BIN(W6_limit!O89, 9)","v":"000000000"},{"$f":"DEC2BIN(W6_limit!P89, 9)","v":"000000000"},{"$f":"DEC2BIN(W6_limit!Q89, 9)","v":"000000000"},{"$f":"DEC2BIN(W6_limit!R89, 9)","v":"000000000"},{"$f":"DEC2BIN(W6_limit!S89, 9)","v":"000000000"},{"$f":"DEC2BIN(W6_limit!T89, 9)","v":"000000000"},{"$f":"DEC2BIN(W6_limit!U89, 9)","v":"000000000"},{"$f":"DEC2BIN(W6_limit!V89, 9)","v":"000000000"},{"$f":"DEC2BIN(W6_limit!W89, 9)","v":"000000000"},{"$f":"DEC2BIN(W6_limit!X89, 9)","v":"000000000"},{"$f":"DEC2BIN(W6_limit!Y89, 9)","v":"000000000"},{"$f":"DEC2BIN(W6_limit!Z89, 9)","v":"000000000"},{"$f":"DEC2BIN(W6_limit!AA89, 9)","v":"000000000"},{"$f":"DEC2BIN(W6_limit!AB89, 9)","v":"000000000"},{"$f":"DEC2BIN(W6_limit!AC89, 9)","v":"000000000"},{"$f":"DEC2BIN(W6_limit!AD89, 9)","v":"000000000"},{"$f":"DEC2BIN(W6_limit!AE89, 9)","v":"000000000"},{"$f":"DEC2BIN(W6_limit!AF89, 9)","v":"000000000"},{"$f":"DEC2BIN(W6_limit!AG89, 9)","v":"000000000"},{"$f":"DEC2BIN(W6_limit!AH89, 9)","v":"000000000"},{"$f":"DEC2BIN(W6_limit!AI89, 9)","v":"000000000"},{"$f":"DEC2BIN(W6_limit!AJ89, 9)","v":"000000000"},{"$f":"DEC2BIN(W6_limit!AK89, 9)","v":"000000000"},{"$f":"DEC2BIN(W6_limit!AL89, 9)","v":"000000000"},{"$f":"DEC2BIN(W6_limit!AM89, 9)","v":"000000000"},{"$f":"DEC2BIN(W6_limit!AN89, 9)","v":"000000000"},{"$f":"DEC2BIN(W6_limit!AO89, 9)","v":"000000000"},{"$f":"DEC2BIN(W6_limit!AP89, 9)","v":"000000000"},{"$f":"DEC2BIN(W6_limit!AQ89, 9)","v":"000000000"}]
[{"$f":"DEC2BIN(W6_limit!A90, 9)","v":"000011011"},{"$f":"DEC2BIN(W6_limit!B90, 9)","v":"1111110011"},{"$f":"DEC2BIN(W6_limit!C90, 9)","v":"1100110101"},{"$f":"DEC2BIN(W6_limit!D90, 9)","v":"001000111"},{"$f":"DEC2BIN(W6_limit!E90, 9)","v":"1101101000"},{"$f":"DEC2BIN(W6_limit!F90, 9)","v":"1111110001"},{"$f":"DEC2BIN(W6_limit!G90, 9)","v":"000011001"},{"$f":"DEC2BIN(W6_limit!H90, 9)","v":"1111010110"},{"$f":"DEC2BIN(W6_limit!I90, 9)","v":"1111011001"},{"$f":"DEC2BIN(W6_limit!J90, 9)","v":"1111111101"},{"$f":"DEC2BIN(W6_limit!K90, 9)","v":"000000000"},{"$f":"DEC2BIN(W6_limit!L90, 9)","v":"000000000"},{"$f":"DEC2BIN(W6_limit!M90, 9)","v":"000000000"},{"$f":"DEC2BIN(W6_limit!N90, 9)","v":"000000000"},{"$f":"DEC2BIN(W6_limit!O90, 9)","v":"000000000"},{"$f":"DEC2BIN(W6_limit!P90, 9)","v":"000000000"},{"$f":"DEC2BIN(W6_limit!Q90, 9)","v":"000000000"},{"$f":"DEC2BIN(W6_limit!R90, 9)","v":"000000000"},{"$f":"DEC2BIN(W6_limit!S90, 9)","v":"000000000"},{"$f":"DEC2BIN(W6_limit!T90, 9)","v":"000000000"},{"$f":"DEC2BIN(W6_limit!U90, 9)","v":"000000000"},{"$f":"DEC2BIN(W6_limit!V90, 9)","v":"000000000"},{"$f":"DEC2BIN(W6_limit!W90, 9)","v":"000000000"},{"$f":"DEC2BIN(W6_limit!X90, 9)","v":"000000000"},{"$f":"DEC2BIN(W6_limit!Y90, 9)","v":"000000000"},{"$f":"DEC2BIN(W6_limit!Z90, 9)","v":"000000000"},{"$f":"DEC2BIN(W6_limit!AA90, 9)","v":"000000000"},{"$f":"DEC2BIN(W6_limit!AB90, 9)","v":"000000000"},{"$f":"DEC2BIN(W6_limit!AC90, 9)","v":"000000000"},{"$f":"DEC2BIN(W6_limit!AD90, 9)","v":"000000000"},{"$f":"DEC2BIN(W6_limit!AE90, 9)","v":"000000000"},{"$f":"DEC2BIN(W6_limit!AF90, 9)","v":"000000000"},{"$f":"DEC2BIN(W6_limit!AG90, 9)","v":"000000000"},{"$f":"DEC2BIN(W6_limit!AH90, 9)","v":"000000000"},{"$f":"DEC2BIN(W6_limit!AI90, 9)","v":"000000000"},{"$f":"DEC2BIN(W6_limit!AJ90, 9)","v":"000000000"},{"$f":"DEC2BIN(W6_limit!AK90, 9)","v":"000000000"},{"$f":"DEC2BIN(W6_limit!AL90, 9)","v":"000000000"},{"$f":"DEC2BIN(W6_limit!AM90, 9)","v":"000000000"},{"$f":"DEC2BIN(W6_limit!AN90, 9)","v":"000000000"},{"$f":"DEC2BIN(W6_limit!AO90, 9)","v":"000000000"},{"$f":"DEC2BIN(W6_limit!AP90, 9)","v":"000000000"},{"$f":"DEC2BIN(W6_limit!AQ90, 9)","v":"000000000"}]
[{"$f":"DEC2BIN(W6_limit!A91, 9)","v":"1111001101"},{"$f":"DEC2BIN(W6_limit!B91, 9)","v":"000011010"},{"$f":"DEC2BIN(W6_limit!C91, 9)","v":"1111100010"},{"$f":"DEC2BIN(W6_limit!D91, 9)","v":"000001010"},{"$f":"DEC2BIN(W6_limit!E91, 9)","v":"1111001110"},{"$f":"DEC2BIN(W6_limit!F91, 9)","v":"1100000000"},{"$f":"DEC2BIN(W6_limit!G91, 9)","v":"1100100110"},{"$f":"DEC2BIN(W6_limit!H91, 9)","v":"1101110111"},{"$f":"DEC2BIN(W6_limit!I91, 9)","v":"1100011011"},{"$f":"DEC2BIN(W6_limit!J91, 9)","v":"000011011"},{"$f":"DEC2BIN(W6_limit!K91, 9)","v":"000000000"},{"$f":"DEC2BIN(W6_limit!L91, 9)","v":"000000000"},{"$f":"DEC2BIN(W6_limit!M91, 9)","v":"000000000"},{"$f":"DEC2BIN(W6_limit!N91, 9)","v":"000000000"},{"$f":"DEC2BIN(W6_limit!O91, 9)","v":"000000000"},{"$f":"DEC2BIN(W6_limit!P91, 9)","v":"000000000"},{"$f":"DEC2BIN(W6_limit!Q91, 9)","v":"000000000"},{"$f":"DEC2BIN(W6_limit!R91, 9)","v":"000000000"},{"$f":"DEC2BIN(W6_limit!S91, 9)","v":"000000000"},{"$f":"DEC2BIN(W6_limit!T91, 9)","v":"000000000"},{"$f":"DEC2BIN(W6_limit!U91, 9)","v":"000000000"},{"$f":"DEC2BIN(W6_limit!V91, 9)","v":"000000000"},{"$f":"DEC2BIN(W6_limit!W91, 9)","v":"000000000"},{"$f":"DEC2BIN(W6_limit!X91, 9)","v":"000000000"},{"$f":"DEC2BIN(W6_limit!Y91, 9)","v":"000000000"},{"$f":"DEC2BIN(W6_limit!Z91, 9)","v":"000000000"},{"$f":"DEC2BIN(W6_limit!AA91, 9)","v":"000000000"},{"$f":"DEC2BIN(W6_limit!AB91, 9)","v":"000000000"},{"$f":"DEC2BIN(W6_limit!AC91, 9)","v":"000000000"},{"$f":"DEC2BIN(W6_limit!AD91, 9)","v":"000000000"},{"$f":"DEC2BIN(W6_limit!AE91, 9)","v":"000000000"},{"$f":"DEC2BIN(W6_limit!AF91, 9)","v":"000000000"},{"$f":"DEC2BIN(W6_limit!AG91, 9)","v":"000000000"},{"$f":"DEC2BIN(W6_limit!AH91, 9)","v":"000000000"},{"$f":"DEC2BIN(W6_limit!AI91, 9)","v":"000000000"},{"$f":"DEC2BIN(W6_limit!AJ91, 9)","v":"000000000"},{"$f":"DEC2BIN(W6_limit!AK91, 9)","v":"000000000"},{"$f":"DEC2BIN(W6_limit!AL91, 9)","v":"000000000"},{"$f":"DEC2BIN(W6_limit!AM91, 9)","v":"000000000"},{"$f":"DEC2BIN(W6_limit!AN91, 9)","v":"000000000"},{"$f":"DEC2BIN(W6_limit!AO91, 9)","v":"000000000"},{"$f":"DEC2BIN(W6_limit!AP91, 9)","v":"000000000"},{"$f":"DEC2BIN(W6_limit!AQ91, 9)","v":"000000000"}]
[{"$f":"DEC2BIN(W6_limit!A92, 9)","v":"1111110001"},{"$f":"DEC2BIN(W6_limit!B92, 9)","v":"1111010001"},{"$f":"DEC2BIN(W6_limit!C92, 9)","v":"1111111001"},{"$f":"DEC2BIN(W6_limit!D92, 9)","v":"000101111"},{"$f":"DEC2BIN(W6_limit!E92, 9)","v":"1111010000"},{"$f":"DEC2BIN(W6_limit!F92, 9)","v":"1111111010"},{"$f":"DEC2BIN(W6_limit!G92, 9)","v":"000101111"},{"$f":"DEC2BIN(W6_limit!H92, 9)","v":"1111010000"},{"$f":"DEC2BIN(W6_limit!I92, 9)","v":"1111100111"},{"$f":"DEC2BIN(W6_limit!J92, 9)","v":"000000000"},{"$f":"DEC2BIN(W6_limit!K92, 9)","v":"000000000"},{"$f":"DEC2BIN(W6_limit!L92, 9)","v":"000000000"},{"$f":"DEC2BIN(W6_limit!M92, 9)","v":"000000000"},{"$f":"DEC2BIN(W6_limit!N92, 9)","v":"000000000"},{"$f":"DEC2BIN(W6_limit!O92, 9)","v":"000000000"},{"$f":"DEC2BIN(W6_limit!P92, 9)","v":"000000000"},{"$f":"DEC2BIN(W6_limit!Q92, 9)","v":"000000000"},{"$f":"DEC2BIN(W6_limit!R92, 9)","v":"000000000"},{"$f":"DEC2BIN(W6_limit!S92, 9)","v":"000000000"},{"$f":"DEC2BIN(W6_limit!T92, 9)","v":"000000000"},{"$f":"DEC2BIN(W6_limit!U92, 9)","v":"000000000"},{"$f":"DEC2BIN(W6_limit!V92, 9)","v":"000000000"},{"$f":"DEC2BIN(W6_limit!W92, 9)","v":"000000000"},{"$f":"DEC2BIN(W6_limit!X92, 9)","v":"000000000"},{"$f":"DEC2BIN(W6_limit!Y92, 9)","v":"000000000"},{"$f":"DEC2BIN(W6_limit!Z92, 9)","v":"000000000"},{"$f":"DEC2BIN(W6_limit!AA92, 9)","v":"000000000"},{"$f":"DEC2BIN(W6_limit!AB92, 9)","v":"000000000"},{"$f":"DEC2BIN(W6_limit!AC92, 9)","v":"000000000"},{"$f":"DEC2BIN(W6_limit!AD92, 9)","v":"000000000"},{"$f":"DEC2BIN(W6_limit!AE92, 9)","v":"000000000"},{"$f":"DEC2BIN(W6_limit!AF92, 9)","v":"000000000"},{"$f":"DEC2BIN(W6_limit!AG92, 9)","v":"000000000"},{"$f":"DEC2BIN(W6_limit!AH92, 9)","v":"000000000"},{"$f":"DEC2BIN(W6_limit!AI92, 9)","v":"000000000"},{"$f":"DEC2BIN(W6_limit!AJ92, 9)","v":"000000000"},{"$f":"DEC2BIN(W6_limit!AK92, 9)","v":"000000000"},{"$f":"DEC2BIN(W6_limit!AL92, 9)","v":"000000000"},{"$f":"DEC2BIN(W6_limit!AM92, 9)","v":"000000000"},{"$f":"DEC2BIN(W6_limit!AN92, 9)","v":"000000000"},{"$f":"DEC2BIN(W6_limit!AO92, 9)","v":"000000000"},{"$f":"DEC2BIN(W6_limit!AP92, 9)","v":"000000000"},{"$f":"DEC2BIN(W6_limit!AQ92, 9)","v":"000000000"}]
[{"$f":"DEC2BIN(W6_limit!A93, 9)","v":"1111100101"},{"$f":"DEC2BIN(W6_limit!B93, 9)","v":"1111010010"},{"$f":"DEC2BIN(W6_limit!C93, 9)","v":"1101001100"},{"$f":"DEC2BIN(W6_limit!D93, 9)","v":"000110111"},{"$f":"DEC2BIN(W6_limit!E93, 9)","v":"1111000001"},{"$f":"DEC2BIN(W6_limit!F93, 9)","v":"1101001111"},{"$f":"DEC2BIN(W6_limit!G93, 9)","v":"1101001011"},{"$f":"DEC2BIN(W6_limit!H93, 9)","v":"1101111011"},{"$f":"DEC2BIN(W6_limit!I93, 9)","v":"1101110101"},{"$f":"DEC2BIN(W6_limit!J93, 9)","v":"000100110"},{"$f":"DEC2BIN(W6_limit!K93, 9)","v":"000000000"},{"$f":"DEC2BIN(W6_limit!L93, 9)","v":"000000000"},{"$f":"DEC2BIN(W6_limit!M93, 9)","v":"000000000"},{"$f":"DEC2BIN(W6_limit!N93, 9)","v":"000000000"},{"$f":"DEC2BIN(W6_limit!O93, 9)","v":"000000000"},{"$f":"DEC2BIN(W6_limit!P93, 9)","v":"000000000"},{"$f":"DEC2BIN(W6_limit!Q93, 9)","v":"000000000"},{"$f":"DEC2BIN(W6_limit!R93, 9)","v":"000000000"},{"$f":"DEC2BIN(W6_limit!S93, 9)","v":"000000000"},{"$f":"DEC2BIN(W6_limit!T93, 9)","v":"000000000"},{"$f":"DEC2BIN(W6_limit!U93, 9)","v":"000000000"},{"$f":"DEC2BIN(W6_limit!V93, 9)","v":"000000000"},{"$f":"DEC2BIN(W6_limit!W93, 9)","v":"000000000"},{"$f":"DEC2BIN(W6_limit!X93, 9)","v":"000000000"},{"$f":"DEC2BIN(W6_limit!Y93, 9)","v":"000000000"},{"$f":"DEC2BIN(W6_limit!Z93, 9)","v":"000000000"},{"$f":"DEC2BIN(W6_limit!AA93, 9)","v":"000000000"},{"$f":"DEC2BIN(W6_limit!AB93, 9)","v":"000000000"},{"$f":"DEC2BIN(W6_limit!AC93, 9)","v":"000000000"},{"$f":"DEC2BIN(W6_limit!AD93, 9)","v":"000000000"},{"$f":"DEC2BIN(W6_limit!AE93, 9)","v":"000000000"},{"$f":"DEC2BIN(W6_limit!AF93, 9)","v":"000000000"},{"$f":"DEC2BIN(W6_limit!AG93, 9)","v":"000000000"},{"$f":"DEC2BIN(W6_limit!AH93, 9)","v":"000000000"},{"$f":"DEC2BIN(W6_limit!AI93, 9)","v":"000000000"},{"$f":"DEC2BIN(W6_limit!AJ93, 9)","v":"000000000"},{"$f":"DEC2BIN(W6_limit!AK93, 9)","v":"000000000"},{"$f":"DEC2BIN(W6_limit!AL93, 9)","v":"000000000"},{"$f":"DEC2BIN(W6_limit!AM93, 9)","v":"000000000"},{"$f":"DEC2BIN(W6_limit!AN93, 9)","v":"000000000"},{"$f":"DEC2BIN(W6_limit!AO93, 9)","v":"000000000"},{"$f":"DEC2BIN(W6_limit!AP93, 9)","v":"000000000"},{"$f":"DEC2BIN(W6_limit!AQ93, 9)","v":"000000000"}]
[{"$f":"DEC2BIN(W6_limit!A94, 9)","v":"000000110"},{"$f":"DEC2BIN(W6_limit!B94, 9)","v":"1111011110"},{"$f":"DEC2BIN(W6_limit!C94, 9)","v":"1110110000"},{"$f":"DEC2BIN(W6_limit!D94, 9)","v":"1111100100"},{"$f":"DEC2BIN(W6_limit!E94, 9)","v":"1111101110"},{"$f":"DEC2BIN(W6_limit!F94, 9)","v":"1111101101"},{"$f":"DEC2BIN(W6_limit!G94, 9)","v":"1110111011"},{"$f":"DEC2BIN(W6_limit!H94, 9)","v":"1111111000"},{"$f":"DEC2BIN(W6_limit!I94, 9)","v":"000001000"},{"$f":"DEC2BIN(W6_limit!J94, 9)","v":"1110111111"},{"$f":"DEC2BIN(W6_limit!K94, 9)","v":"000000000"},{"$f":"DEC2BIN(W6_limit!L94, 9)","v":"000000000"},{"$f":"DEC2BIN(W6_limit!M94, 9)","v":"000000000"},{"$f":"DEC2BIN(W6_limit!N94, 9)","v":"000000000"},{"$f":"DEC2BIN(W6_limit!O94, 9)","v":"000000000"},{"$f":"DEC2BIN(W6_limit!P94, 9)","v":"000000000"},{"$f":"DEC2BIN(W6_limit!Q94, 9)","v":"000000000"},{"$f":"DEC2BIN(W6_limit!R94, 9)","v":"000000000"},{"$f":"DEC2BIN(W6_limit!S94, 9)","v":"000000000"},{"$f":"DEC2BIN(W6_limit!T94, 9)","v":"000000000"},{"$f":"DEC2BIN(W6_limit!U94, 9)","v":"000000000"},{"$f":"DEC2BIN(W6_limit!V94, 9)","v":"000000000"},{"$f":"DEC2BIN(W6_limit!W94, 9)","v":"000000000"},{"$f":"DEC2BIN(W6_limit!X94, 9)","v":"000000000"},{"$f":"DEC2BIN(W6_limit!Y94, 9)","v":"000000000"},{"$f":"DEC2BIN(W6_limit!Z94, 9)","v":"000000000"},{"$f":"DEC2BIN(W6_limit!AA94, 9)","v":"000000000"},{"$f":"DEC2BIN(W6_limit!AB94, 9)","v":"000000000"},{"$f":"DEC2BIN(W6_limit!AC94, 9)","v":"000000000"},{"$f":"DEC2BIN(W6_limit!AD94, 9)","v":"000000000"},{"$f":"DEC2BIN(W6_limit!AE94, 9)","v":"000000000"},{"$f":"DEC2BIN(W6_limit!AF94, 9)","v":"000000000"},{"$f":"DEC2BIN(W6_limit!AG94, 9)","v":"000000000"},{"$f":"DEC2BIN(W6_limit!AH94, 9)","v":"000000000"},{"$f":"DEC2BIN(W6_limit!AI94, 9)","v":"000000000"},{"$f":"DEC2BIN(W6_limit!AJ94, 9)","v":"000000000"},{"$f":"DEC2BIN(W6_limit!AK94, 9)","v":"000000000"},{"$f":"DEC2BIN(W6_limit!AL94, 9)","v":"000000000"},{"$f":"DEC2BIN(W6_limit!AM94, 9)","v":"000000000"},{"$f":"DEC2BIN(W6_limit!AN94, 9)","v":"000000000"},{"$f":"DEC2BIN(W6_limit!AO94, 9)","v":"000000000"},{"$f":"DEC2BIN(W6_limit!AP94, 9)","v":"000000000"},{"$f":"DEC2BIN(W6_limit!AQ94, 9)","v":"000000000"}]
[{"$f":"DEC2BIN(W6_limit!A95, 9)","v":"1111100001"},{"$f":"DEC2BIN(W6_limit!B95, 9)","v":"000011101"},{"$f":"DEC2BIN(W6_limit!C95, 9)","v":"1101000111"},{"$f":"DEC2BIN(W6_limit!D95, 9)","v":"1110101000"},{"$f":"DEC2BIN(W6_limit!E95, 9)","v":"1111100111"},{"$f":"DEC2BIN(W6_limit!F95, 9)","v":"1100100100"},{"$f":"DEC2BIN(W6_limit!G95, 9)","v":"000011101"},{"$f":"DEC2BIN(W6_limit!H95, 9)","v":"1111001001"},{"$f":"DEC2BIN(W6_limit!I95, 9)","v":"1100110101"},{"$f":"DEC2BIN(W6_limit!J95, 9)","v":"000110111"},{"$f":"DEC2BIN(W6_limit!K95, 9)","v":"000000000"},{"$f":"DEC2BIN(W6_limit!L95, 9)","v":"000000000"},{"$f":"DEC2BIN(W6_limit!M95, 9)","v":"000000000"},{"$f":"DEC2BIN(W6_limit!N95, 9)","v":"000000000"},{"$f":"DEC2BIN(W6_limit!O95, 9)","v":"000000000"},{"$f":"DEC2BIN(W6_limit!P95, 9)","v":"000000000"},{"$f":"DEC2BIN(W6_limit!Q95, 9)","v":"000000000"},{"$f":"DEC2BIN(W6_limit!R95, 9)","v":"000000000"},{"$f":"DEC2BIN(W6_limit!S95, 9)","v":"000000000"},{"$f":"DEC2BIN(W6_limit!T95, 9)","v":"000000000"},{"$f":"DEC2BIN(W6_limit!U95, 9)","v":"000000000"},{"$f":"DEC2BIN(W6_limit!V95, 9)","v":"000000000"},{"$f":"DEC2BIN(W6_limit!W95, 9)","v":"000000000"},{"$f":"DEC2BIN(W6_limit!X95, 9)","v":"000000000"},{"$f":"DEC2BIN(W6_limit!Y95, 9)","v":"000000000"},{"$f":"DEC2BIN(W6_limit!Z95, 9)","v":"000000000"},{"$f":"DEC2BIN(W6_limit!AA95, 9)","v":"000000000"},{"$f":"DEC2BIN(W6_limit!AB95, 9)","v":"000000000"},{"$f":"DEC2BIN(W6_limit!AC95, 9)","v":"000000000"},{"$f":"DEC2BIN(W6_limit!AD95, 9)","v":"000000000"},{"$f":"DEC2BIN(W6_limit!AE95, 9)","v":"000000000"},{"$f":"DEC2BIN(W6_limit!AF95, 9)","v":"000000000"},{"$f":"DEC2BIN(W6_limit!AG95, 9)","v":"000000000"},{"$f":"DEC2BIN(W6_limit!AH95, 9)","v":"000000000"},{"$f":"DEC2BIN(W6_limit!AI95, 9)","v":"000000000"},{"$f":"DEC2BIN(W6_limit!AJ95, 9)","v":"000000000"},{"$f":"DEC2BIN(W6_limit!AK95, 9)","v":"000000000"},{"$f":"DEC2BIN(W6_limit!AL95, 9)","v":"000000000"},{"$f":"DEC2BIN(W6_limit!AM95, 9)","v":"000000000"},{"$f":"DEC2BIN(W6_limit!AN95, 9)","v":"000000000"},{"$f":"DEC2BIN(W6_limit!AO95, 9)","v":"000000000"},{"$f":"DEC2BIN(W6_limit!AP95, 9)","v":"000000000"},{"$f":"DEC2BIN(W6_limit!AQ95, 9)","v":"000000000"}]
[{"$f":"DEC2BIN(W6_limit!A96, 9)","v":"000011100"},{"$f":"DEC2BIN(W6_limit!B96, 9)","v":"000101101"},{"$f":"DEC2BIN(W6_limit!C96, 9)","v":"1111010001"},{"$f":"DEC2BIN(W6_limit!D96, 9)","v":"1111011101"},{"$f":"DEC2BIN(W6_limit!E96, 9)","v":"1100110011"},{"$f":"DEC2BIN(W6_limit!F96, 9)","v":"1101110000"},{"$f":"DEC2BIN(W6_limit!G96, 9)","v":"1101001000"},{"$f":"DEC2BIN(W6_limit!H96, 9)","v":"1100111100"},{"$f":"DEC2BIN(W6_limit!I96, 9)","v":"1101011101"},{"$f":"DEC2BIN(W6_limit!J96, 9)","v":"000100111"},{"$f":"DEC2BIN(W6_limit!K96, 9)","v":"000000000"},{"$f":"DEC2BIN(W6_limit!L96, 9)","v":"000000000"},{"$f":"DEC2BIN(W6_limit!M96, 9)","v":"000000000"},{"$f":"DEC2BIN(W6_limit!N96, 9)","v":"000000000"},{"$f":"DEC2BIN(W6_limit!O96, 9)","v":"000000000"},{"$f":"DEC2BIN(W6_limit!P96, 9)","v":"000000000"},{"$f":"DEC2BIN(W6_limit!Q96, 9)","v":"000000000"},{"$f":"DEC2BIN(W6_limit!R96, 9)","v":"000000000"},{"$f":"DEC2BIN(W6_limit!S96, 9)","v":"000000000"},{"$f":"DEC2BIN(W6_limit!T96, 9)","v":"000000000"},{"$f":"DEC2BIN(W6_limit!U96, 9)","v":"000000000"},{"$f":"DEC2BIN(W6_limit!V96, 9)","v":"000000000"},{"$f":"DEC2BIN(W6_limit!W96, 9)","v":"000000000"},{"$f":"DEC2BIN(W6_limit!X96, 9)","v":"000000000"},{"$f":"DEC2BIN(W6_limit!Y96, 9)","v":"000000000"},{"$f":"DEC2BIN(W6_limit!Z96, 9)","v":"000000000"},{"$f":"DEC2BIN(W6_limit!AA96, 9)","v":"000000000"},{"$f":"DEC2BIN(W6_limit!AB96, 9)","v":"000000000"},{"$f":"DEC2BIN(W6_limit!AC96, 9)","v":"000000000"},{"$f":"DEC2BIN(W6_limit!AD96, 9)","v":"000000000"},{"$f":"DEC2BIN(W6_limit!AE96, 9)","v":"000000000"},{"$f":"DEC2BIN(W6_limit!AF96, 9)","v":"000000000"},{"$f":"DEC2BIN(W6_limit!AG96, 9)","v":"000000000"},{"$f":"DEC2BIN(W6_limit!AH96, 9)","v":"000000000"},{"$f":"DEC2BIN(W6_limit!AI96, 9)","v":"000000000"},{"$f":"DEC2BIN(W6_limit!AJ96, 9)","v":"000000000"},{"$f":"DEC2BIN(W6_limit!AK96, 9)","v":"000000000"},{"$f":"DEC2BIN(W6_limit!AL96, 9)","v":"000000000"},{"$f":"DEC2BIN(W6_limit!AM96, 9)","v":"000000000"},{"$f":"DEC2BIN(W6_limit!AN96, 9)","v":"000000000"},{"$f":"DEC2BIN(W6_limit!AO96, 9)","v":"000000000"},{"$f":"DEC2BIN(W6_limit!AP96, 9)","v":"000000000"},{"$f":"DEC2BIN(W6_limit!AQ96, 9)","v":"000000000"}]
[{"$f":"DEC2BIN(W6_limit!A97, 9)","v":"000000101"},{"$f":"DEC2BIN(W6_limit!B97, 9)","v":"1111010011"},{"$f":"DEC2BIN(W6_limit!C97, 9)","v":"1100000000"},{"$f":"DEC2BIN(W6_limit!D97, 9)","v":"1100101010"},{"$f":"DEC2BIN(W6_limit!E97, 9)","v":"1111010101"},{"$f":"DEC2BIN(W6_limit!F97, 9)","v":"1101010100"},{"$f":"DEC2BIN(W6_limit!G97, 9)","v":"000000001"},{"$f":"DEC2BIN(W6_limit!H97, 9)","v":"000011010"},{"$f":"DEC2BIN(W6_limit!I97, 9)","v":"1110011011"},{"$f":"DEC2BIN(W6_limit!J97, 9)","v":"000000101"},{"$f":"DEC2BIN(W6_limit!K97, 9)","v":"000000000"},{"$f":"DEC2BIN(W6_limit!L97, 9)","v":"000000000"},{"$f":"DEC2BIN(W6_limit!M97, 9)","v":"000000000"},{"$f":"DEC2BIN(W6_limit!N97, 9)","v":"000000000"},{"$f":"DEC2BIN(W6_limit!O97, 9)","v":"000000000"},{"$f":"DEC2BIN(W6_limit!P97, 9)","v":"000000000"},{"$f":"DEC2BIN(W6_limit!Q97, 9)","v":"000000000"},{"$f":"DEC2BIN(W6_limit!R97, 9)","v":"000000000"},{"$f":"DEC2BIN(W6_limit!S97, 9)","v":"000000000"},{"$f":"DEC2BIN(W6_limit!T97, 9)","v":"000000000"},{"$f":"DEC2BIN(W6_limit!U97, 9)","v":"000000000"},{"$f":"DEC2BIN(W6_limit!V97, 9)","v":"000000000"},{"$f":"DEC2BIN(W6_limit!W97, 9)","v":"000000000"},{"$f":"DEC2BIN(W6_limit!X97, 9)","v":"000000000"},{"$f":"DEC2BIN(W6_limit!Y97, 9)","v":"000000000"},{"$f":"DEC2BIN(W6_limit!Z97, 9)","v":"000000000"},{"$f":"DEC2BIN(W6_limit!AA97, 9)","v":"000000000"},{"$f":"DEC2BIN(W6_limit!AB97, 9)","v":"000000000"},{"$f":"DEC2BIN(W6_limit!AC97, 9)","v":"000000000"},{"$f":"DEC2BIN(W6_limit!AD97, 9)","v":"000000000"},{"$f":"DEC2BIN(W6_limit!AE97, 9)","v":"000000000"},{"$f":"DEC2BIN(W6_limit!AF97, 9)","v":"000000000"},{"$f":"DEC2BIN(W6_limit!AG97, 9)","v":"000000000"},{"$f":"DEC2BIN(W6_limit!AH97, 9)","v":"000000000"},{"$f":"DEC2BIN(W6_limit!AI97, 9)","v":"000000000"},{"$f":"DEC2BIN(W6_limit!AJ97, 9)","v":"000000000"},{"$f":"DEC2BIN(W6_limit!AK97, 9)","v":"000000000"},{"$f":"DEC2BIN(W6_limit!AL97, 9)","v":"000000000"},{"$f":"DEC2BIN(W6_limit!AM97, 9)","v":"000000000"},{"$f":"DEC2BIN(W6_limit!AN97, 9)","v":"000000000"},{"$f":"DEC2BIN(W6_limit!AO97, 9)","v":"000000000"},{"$f":"DEC2BIN(W6_limit!AP97, 9)","v":"000000000"},{"$f":"DEC2BIN(W6_limit!AQ97, 9)","v":"000000000"}]
[{"$f":"DEC2BIN(W6_limit!A98, 9)","v":"000011111"},{"$f":"DEC2BIN(W6_limit!B98, 9)","v":"000100000"},{"$f":"DEC2BIN(W6_limit!C98, 9)","v":"000100001"},{"$f":"DEC2BIN(W6_limit!D98, 9)","v":"1110111000"},{"$f":"DEC2BIN(W6_limit!E98, 9)","v":"1101110000"},{"$f":"DEC2BIN(W6_limit!F98, 9)","v":"1101111111"},{"$f":"DEC2BIN(W6_limit!G98, 9)","v":"000101001"},{"$f":"DEC2BIN(W6_limit!H98, 9)","v":"1110101110"},{"$f":"DEC2BIN(W6_limit!I98, 9)","v":"1101111110"},{"$f":"DEC2BIN(W6_limit!J98, 9)","v":"1111011011"},{"$f":"DEC2BIN(W6_limit!K98, 9)","v":"000000000"},{"$f":"DEC2BIN(W6_limit!L98, 9)","v":"000000000"},{"$f":"DEC2BIN(W6_limit!M98, 9)","v":"000000000"},{"$f":"DEC2BIN(W6_limit!N98, 9)","v":"000000000"},{"$f":"DEC2BIN(W6_limit!O98, 9)","v":"000000000"},{"$f":"DEC2BIN(W6_limit!P98, 9)","v":"000000000"},{"$f":"DEC2BIN(W6_limit!Q98, 9)","v":"000000000"},{"$f":"DEC2BIN(W6_limit!R98, 9)","v":"000000000"},{"$f":"DEC2BIN(W6_limit!S98, 9)","v":"000000000"},{"$f":"DEC2BIN(W6_limit!T98, 9)","v":"000000000"},{"$f":"DEC2BIN(W6_limit!U98, 9)","v":"000000000"},{"$f":"DEC2BIN(W6_limit!V98, 9)","v":"000000000"},{"$f":"DEC2BIN(W6_limit!W98, 9)","v":"000000000"},{"$f":"DEC2BIN(W6_limit!X98, 9)","v":"000000000"},{"$f":"DEC2BIN(W6_limit!Y98, 9)","v":"000000000"},{"$f":"DEC2BIN(W6_limit!Z98, 9)","v":"000000000"},{"$f":"DEC2BIN(W6_limit!AA98, 9)","v":"000000000"},{"$f":"DEC2BIN(W6_limit!AB98, 9)","v":"000000000"},{"$f":"DEC2BIN(W6_limit!AC98, 9)","v":"000000000"},{"$f":"DEC2BIN(W6_limit!AD98, 9)","v":"000000000"},{"$f":"DEC2BIN(W6_limit!AE98, 9)","v":"000000000"},{"$f":"DEC2BIN(W6_limit!AF98, 9)","v":"000000000"},{"$f":"DEC2BIN(W6_limit!AG98, 9)","v":"000000000"},{"$f":"DEC2BIN(W6_limit!AH98, 9)","v":"000000000"},{"$f":"DEC2BIN(W6_limit!AI98, 9)","v":"000000000"},{"$f":"DEC2BIN(W6_limit!AJ98, 9)","v":"000000000"},{"$f":"DEC2BIN(W6_limit!AK98, 9)","v":"000000000"},{"$f":"DEC2BIN(W6_limit!AL98, 9)","v":"000000000"},{"$f":"DEC2BIN(W6_limit!AM98, 9)","v":"000000000"},{"$f":"DEC2BIN(W6_limit!AN98, 9)","v":"000000000"},{"$f":"DEC2BIN(W6_limit!AO98, 9)","v":"000000000"},{"$f":"DEC2BIN(W6_limit!AP98, 9)","v":"000000000"},{"$f":"DEC2BIN(W6_limit!AQ98, 9)","v":"000000000"}]
[{"$f":"DEC2BIN(W6_limit!A99, 9)","v":"1111101001"},{"$f":"DEC2BIN(W6_limit!B99, 9)","v":"1111001101"},{"$f":"DEC2BIN(W6_limit!C99, 9)","v":"1111011001"},{"$f":"DEC2BIN(W6_limit!D99, 9)","v":"000000010"},{"$f":"DEC2BIN(W6_limit!E99, 9)","v":"1111001111"},{"$f":"DEC2BIN(W6_limit!F99, 9)","v":"1110110010"},{"$f":"DEC2BIN(W6_limit!G99, 9)","v":"000111111"},{"$f":"DEC2BIN(W6_limit!H99, 9)","v":"1111000011"},{"$f":"DEC2BIN(W6_limit!I99, 9)","v":"000101101"},{"$f":"DEC2BIN(W6_limit!J99, 9)","v":"1111100100"},{"$f":"DEC2BIN(W6_limit!K99, 9)","v":"000000000"},{"$f":"DEC2BIN(W6_limit!L99, 9)","v":"000000000"},{"$f":"DEC2BIN(W6_limit!M99, 9)","v":"000000000"},{"$f":"DEC2BIN(W6_limit!N99, 9)","v":"000000000"},{"$f":"DEC2BIN(W6_limit!O99, 9)","v":"000000000"},{"$f":"DEC2BIN(W6_limit!P99, 9)","v":"000000000"},{"$f":"DEC2BIN(W6_limit!Q99, 9)","v":"000000000"},{"$f":"DEC2BIN(W6_limit!R99, 9)","v":"000000000"},{"$f":"DEC2BIN(W6_limit!S99, 9)","v":"000000000"},{"$f":"DEC2BIN(W6_limit!T99, 9)","v":"000000000"},{"$f":"DEC2BIN(W6_limit!U99, 9)","v":"000000000"},{"$f":"DEC2BIN(W6_limit!V99, 9)","v":"000000000"},{"$f":"DEC2BIN(W6_limit!W99, 9)","v":"000000000"},{"$f":"DEC2BIN(W6_limit!X99, 9)","v":"000000000"},{"$f":"DEC2BIN(W6_limit!Y99, 9)","v":"000000000"},{"$f":"DEC2BIN(W6_limit!Z99, 9)","v":"000000000"},{"$f":"DEC2BIN(W6_limit!AA99, 9)","v":"000000000"},{"$f":"DEC2BIN(W6_limit!AB99, 9)","v":"000000000"},{"$f":"DEC2BIN(W6_limit!AC99, 9)","v":"000000000"},{"$f":"DEC2BIN(W6_limit!AD99, 9)","v":"000000000"},{"$f":"DEC2BIN(W6_limit!AE99, 9)","v":"000000000"},{"$f":"DEC2BIN(W6_limit!AF99, 9)","v":"000000000"},{"$f":"DEC2BIN(W6_limit!AG99, 9)","v":"000000000"},{"$f":"DEC2BIN(W6_limit!AH99, 9)","v":"000000000"},{"$f":"DEC2BIN(W6_limit!AI99, 9)","v":"000000000"},{"$f":"DEC2BIN(W6_limit!AJ99, 9)","v":"000000000"},{"$f":"DEC2BIN(W6_limit!AK99, 9)","v":"000000000"},{"$f":"DEC2BIN(W6_limit!AL99, 9)","v":"000000000"},{"$f":"DEC2BIN(W6_limit!AM99, 9)","v":"000000000"},{"$f":"DEC2BIN(W6_limit!AN99, 9)","v":"000000000"},{"$f":"DEC2BIN(W6_limit!AO99, 9)","v":"000000000"},{"$f":"DEC2BIN(W6_limit!AP99, 9)","v":"000000000"},{"$f":"DEC2BIN(W6_limit!AQ99, 9)","v":"000000000"}]
[{"$f":"DEC2BIN(W6_limit!A100, 9)","v":"1111011001"},{"$f":"DEC2BIN(W6_limit!B100, 9)","v":"1111110010"},{"$f":"DEC2BIN(W6_limit!C100, 9)","v":"000001101"},{"$f":"DEC2BIN(W6_limit!D100, 9)","v":"1111110100"},{"$f":"DEC2BIN(W6_limit!E100, 9)","v":"1111001100"},{"$f":"DEC2BIN(W6_limit!F100, 9)","v":"1111100111"},{"$f":"DEC2BIN(W6_limit!G100, 9)","v":"1111111100"},{"$f":"DEC2BIN(W6_limit!H100, 9)","v":"000010011"},{"$f":"DEC2BIN(W6_limit!I100, 9)","v":"1111110010"},{"$f":"DEC2BIN(W6_limit!J100, 9)","v":"1111111001"},{"$f":"DEC2BIN(W6_limit!K100, 9)","v":"000000000"},{"$f":"DEC2BIN(W6_limit!L100, 9)","v":"000000000"},{"$f":"DEC2BIN(W6_limit!M100, 9)","v":"000000000"},{"$f":"DEC2BIN(W6_limit!N100, 9)","v":"000000000"},{"$f":"DEC2BIN(W6_limit!O100, 9)","v":"000000000"},{"$f":"DEC2BIN(W6_limit!P100, 9)","v":"000000000"},{"$f":"DEC2BIN(W6_limit!Q100, 9)","v":"000000000"},{"$f":"DEC2BIN(W6_limit!R100, 9)","v":"000000000"},{"$f":"DEC2BIN(W6_limit!S100, 9)","v":"000000000"},{"$f":"DEC2BIN(W6_limit!T100, 9)","v":"000000000"},{"$f":"DEC2BIN(W6_limit!U100, 9)","v":"000000000"},{"$f":"DEC2BIN(W6_limit!V100, 9)","v":"000000000"},{"$f":"DEC2BIN(W6_limit!W100, 9)","v":"000000000"},{"$f":"DEC2BIN(W6_limit!X100, 9)","v":"000000000"},{"$f":"DEC2BIN(W6_limit!Y100, 9)","v":"000000000"},{"$f":"DEC2BIN(W6_limit!Z100, 9)","v":"000000000"},{"$f":"DEC2BIN(W6_limit!AA100, 9)","v":"000000000"},{"$f":"DEC2BIN(W6_limit!AB100, 9)","v":"000000000"},{"$f":"DEC2BIN(W6_limit!AC100, 9)","v":"000000000"},{"$f":"DEC2BIN(W6_limit!AD100, 9)","v":"000000000"},{"$f":"DEC2BIN(W6_limit!AE100, 9)","v":"000000000"},{"$f":"DEC2BIN(W6_limit!AF100, 9)","v":"000000000"},{"$f":"DEC2BIN(W6_limit!AG100, 9)","v":"000000000"},{"$f":"DEC2BIN(W6_limit!AH100, 9)","v":"000000000"},{"$f":"DEC2BIN(W6_limit!AI100, 9)","v":"000000000"},{"$f":"DEC2BIN(W6_limit!AJ100, 9)","v":"000000000"},{"$f":"DEC2BIN(W6_limit!AK100, 9)","v":"000000000"},{"$f":"DEC2BIN(W6_limit!AL100, 9)","v":"000000000"},{"$f":"DEC2BIN(W6_limit!AM100, 9)","v":"000000000"},{"$f":"DEC2BIN(W6_limit!AN100, 9)","v":"000000000"},{"$f":"DEC2BIN(W6_limit!AO100, 9)","v":"000000000"},{"$f":"DEC2BIN(W6_limit!AP100, 9)","v":"000000000"},{"$f":"DEC2BIN(W6_limit!AQ100, 9)","v":"000000000"}]
[{"$f":"DEC2BIN(W6_limit!A101, 9)","v":"000000100"},{"$f":"DEC2BIN(W6_limit!B101, 9)","v":"1111101010"},{"$f":"DEC2BIN(W6_limit!C101, 9)","v":"000100111"},{"$f":"DEC2BIN(W6_limit!D101, 9)","v":"1111011110"},{"$f":"DEC2BIN(W6_limit!E101, 9)","v":"1111100100"},{"$f":"DEC2BIN(W6_limit!F101, 9)","v":"1111011100"},{"$f":"DEC2BIN(W6_limit!G101, 9)","v":"1111010101"},{"$f":"DEC2BIN(W6_limit!H101, 9)","v":"000101110"},{"$f":"DEC2BIN(W6_limit!I101, 9)","v":"000100001"},{"$f":"DEC2BIN(W6_limit!J101, 9)","v":"1111110011"},{"$f":"DEC2BIN(W6_limit!K101, 9)","v":"000000000"},{"$f":"DEC2BIN(W6_limit!L101, 9)","v":"000000000"},{"$f":"DEC2BIN(W6_limit!M101, 9)","v":"000000000"},{"$f":"DEC2BIN(W6_limit!N101, 9)","v":"000000000"},{"$f":"DEC2BIN(W6_limit!O101, 9)","v":"000000000"},{"$f":"DEC2BIN(W6_limit!P101, 9)","v":"000000000"},{"$f":"DEC2BIN(W6_limit!Q101, 9)","v":"000000000"},{"$f":"DEC2BIN(W6_limit!R101, 9)","v":"000000000"},{"$f":"DEC2BIN(W6_limit!S101, 9)","v":"000000000"},{"$f":"DEC2BIN(W6_limit!T101, 9)","v":"000000000"},{"$f":"DEC2BIN(W6_limit!U101, 9)","v":"000000000"},{"$f":"DEC2BIN(W6_limit!V101, 9)","v":"000000000"},{"$f":"DEC2BIN(W6_limit!W101, 9)","v":"000000000"},{"$f":"DEC2BIN(W6_limit!X101, 9)","v":"000000000"},{"$f":"DEC2BIN(W6_limit!Y101, 9)","v":"000000000"},{"$f":"DEC2BIN(W6_limit!Z101, 9)","v":"000000000"},{"$f":"DEC2BIN(W6_limit!AA101, 9)","v":"000000000"},{"$f":"DEC2BIN(W6_limit!AB101, 9)","v":"000000000"},{"$f":"DEC2BIN(W6_limit!AC101, 9)","v":"000000000"},{"$f":"DEC2BIN(W6_limit!AD101, 9)","v":"000000000"},{"$f":"DEC2BIN(W6_limit!AE101, 9)","v":"000000000"},{"$f":"DEC2BIN(W6_limit!AF101, 9)","v":"000000000"},{"$f":"DEC2BIN(W6_limit!AG101, 9)","v":"000000000"},{"$f":"DEC2BIN(W6_limit!AH101, 9)","v":"000000000"},{"$f":"DEC2BIN(W6_limit!AI101, 9)","v":"000000000"},{"$f":"DEC2BIN(W6_limit!AJ101, 9)","v":"000000000"},{"$f":"DEC2BIN(W6_limit!AK101, 9)","v":"000000000"},{"$f":"DEC2BIN(W6_limit!AL101, 9)","v":"000000000"},{"$f":"DEC2BIN(W6_limit!AM101, 9)","v":"000000000"},{"$f":"DEC2BIN(W6_limit!AN101, 9)","v":"000000000"},{"$f":"DEC2BIN(W6_limit!AO101, 9)","v":"000000000"},{"$f":"DEC2BIN(W6_limit!AP101, 9)","v":"000000000"},{"$f":"DEC2BIN(W6_limit!AQ101, 9)","v":"000000000"}]
[{"$f":"DEC2BIN(W6_limit!A102, 9)","v":"000110010"},{"$f":"DEC2BIN(W6_limit!B102, 9)","v":"000110000"},{"$f":"DEC2BIN(W6_limit!C102, 9)","v":"1111101010"},{"$f":"DEC2BIN(W6_limit!D102, 9)","v":"1111000100"},{"$f":"DEC2BIN(W6_limit!E102, 9)","v":"1101100001"},{"$f":"DEC2BIN(W6_limit!F102, 9)","v":"1110100010"},{"$f":"DEC2BIN(W6_limit!G102, 9)","v":"1101110010"},{"$f":"DEC2BIN(W6_limit!H102, 9)","v":"1110101110"},{"$f":"DEC2BIN(W6_limit!I102, 9)","v":"1111101101"},{"$f":"DEC2BIN(W6_limit!J102, 9)","v":"000010000"},{"$f":"DEC2BIN(W6_limit!K102, 9)","v":"000000000"},{"$f":"DEC2BIN(W6_limit!L102, 9)","v":"000000000"},{"$f":"DEC2BIN(W6_limit!M102, 9)","v":"000000000"},{"$f":"DEC2BIN(W6_limit!N102, 9)","v":"000000000"},{"$f":"DEC2BIN(W6_limit!O102, 9)","v":"000000000"},{"$f":"DEC2BIN(W6_limit!P102, 9)","v":"000000000"},{"$f":"DEC2BIN(W6_limit!Q102, 9)","v":"000000000"},{"$f":"DEC2BIN(W6_limit!R102, 9)","v":"000000000"},{"$f":"DEC2BIN(W6_limit!S102, 9)","v":"000000000"},{"$f":"DEC2BIN(W6_limit!T102, 9)","v":"000000000"},{"$f":"DEC2BIN(W6_limit!U102, 9)","v":"000000000"},{"$f":"DEC2BIN(W6_limit!V102, 9)","v":"000000000"},{"$f":"DEC2BIN(W6_limit!W102, 9)","v":"000000000"},{"$f":"DEC2BIN(W6_limit!X102, 9)","v":"000000000"},{"$f":"DEC2BIN(W6_limit!Y102, 9)","v":"000000000"},{"$f":"DEC2BIN(W6_limit!Z102, 9)","v":"000000000"},{"$f":"DEC2BIN(W6_limit!AA102, 9)","v":"000000000"},{"$f":"DEC2BIN(W6_limit!AB102, 9)","v":"000000000"},{"$f":"DEC2BIN(W6_limit!AC102, 9)","v":"000000000"},{"$f":"DEC2BIN(W6_limit!AD102, 9)","v":"000000000"},{"$f":"DEC2BIN(W6_limit!AE102, 9)","v":"000000000"},{"$f":"DEC2BIN(W6_limit!AF102, 9)","v":"000000000"},{"$f":"DEC2BIN(W6_limit!AG102, 9)","v":"000000000"},{"$f":"DEC2BIN(W6_limit!AH102, 9)","v":"000000000"},{"$f":"DEC2BIN(W6_limit!AI102, 9)","v":"000000000"},{"$f":"DEC2BIN(W6_limit!AJ102, 9)","v":"000000000"},{"$f":"DEC2BIN(W6_limit!AK102, 9)","v":"000000000"},{"$f":"DEC2BIN(W6_limit!AL102, 9)","v":"000000000"},{"$f":"DEC2BIN(W6_limit!AM102, 9)","v":"000000000"},{"$f":"DEC2BIN(W6_limit!AN102, 9)","v":"000000000"},{"$f":"DEC2BIN(W6_limit!AO102, 9)","v":"000000000"},{"$f":"DEC2BIN(W6_limit!AP102, 9)","v":"000000000"},{"$f":"DEC2BIN(W6_limit!AQ102, 9)","v":"000000000"}]
[{"$f":"DEC2BIN(W6_limit!A103, 9)","v":"000101101"},{"$f":"DEC2BIN(W6_limit!B103, 9)","v":"1111011010"},{"$f":"DEC2BIN(W6_limit!C103, 9)","v":"1111101000"},{"$f":"DEC2BIN(W6_limit!D103, 9)","v":"1111101000"},{"$f":"DEC2BIN(W6_limit!E103, 9)","v":"000010001"},{"$f":"DEC2BIN(W6_limit!F103, 9)","v":"000001011"},{"$f":"DEC2BIN(W6_limit!G103, 9)","v":"1111100100"},{"$f":"DEC2BIN(W6_limit!H103, 9)","v":"000100000"},{"$f":"DEC2BIN(W6_limit!I103, 9)","v":"000000001"},{"$f":"DEC2BIN(W6_limit!J103, 9)","v":"000000000"},{"$f":"DEC2BIN(W6_limit!K103, 9)","v":"000000000"},{"$f":"DEC2BIN(W6_limit!L103, 9)","v":"000000000"},{"$f":"DEC2BIN(W6_limit!M103, 9)","v":"000000000"},{"$f":"DEC2BIN(W6_limit!N103, 9)","v":"000000000"},{"$f":"DEC2BIN(W6_limit!O103, 9)","v":"000000000"},{"$f":"DEC2BIN(W6_limit!P103, 9)","v":"000000000"},{"$f":"DEC2BIN(W6_limit!Q103, 9)","v":"000000000"},{"$f":"DEC2BIN(W6_limit!R103, 9)","v":"000000000"},{"$f":"DEC2BIN(W6_limit!S103, 9)","v":"000000000"},{"$f":"DEC2BIN(W6_limit!T103, 9)","v":"000000000"},{"$f":"DEC2BIN(W6_limit!U103, 9)","v":"000000000"},{"$f":"DEC2BIN(W6_limit!V103, 9)","v":"000000000"},{"$f":"DEC2BIN(W6_limit!W103, 9)","v":"000000000"},{"$f":"DEC2BIN(W6_limit!X103, 9)","v":"000000000"},{"$f":"DEC2BIN(W6_limit!Y103, 9)","v":"000000000"},{"$f":"DEC2BIN(W6_limit!Z103, 9)","v":"000000000"},{"$f":"DEC2BIN(W6_limit!AA103, 9)","v":"000000000"},{"$f":"DEC2BIN(W6_limit!AB103, 9)","v":"000000000"},{"$f":"DEC2BIN(W6_limit!AC103, 9)","v":"000000000"},{"$f":"DEC2BIN(W6_limit!AD103, 9)","v":"000000000"},{"$f":"DEC2BIN(W6_limit!AE103, 9)","v":"000000000"},{"$f":"DEC2BIN(W6_limit!AF103, 9)","v":"000000000"},{"$f":"DEC2BIN(W6_limit!AG103, 9)","v":"000000000"},{"$f":"DEC2BIN(W6_limit!AH103, 9)","v":"000000000"},{"$f":"DEC2BIN(W6_limit!AI103, 9)","v":"000000000"},{"$f":"DEC2BIN(W6_limit!AJ103, 9)","v":"000000000"},{"$f":"DEC2BIN(W6_limit!AK103, 9)","v":"000000000"},{"$f":"DEC2BIN(W6_limit!AL103, 9)","v":"000000000"},{"$f":"DEC2BIN(W6_limit!AM103, 9)","v":"000000000"},{"$f":"DEC2BIN(W6_limit!AN103, 9)","v":"000000000"},{"$f":"DEC2BIN(W6_limit!AO103, 9)","v":"000000000"},{"$f":"DEC2BIN(W6_limit!AP103, 9)","v":"000000000"},{"$f":"DEC2BIN(W6_limit!AQ103, 9)","v":"000000000"}]
[{"$f":"DEC2BIN(W6_limit!A104, 9)","v":"1111001001"},{"$f":"DEC2BIN(W6_limit!B104, 9)","v":"000001000"},{"$f":"DEC2BIN(W6_limit!C104, 9)","v":"1111110000"},{"$f":"DEC2BIN(W6_limit!D104, 9)","v":"000010001"},{"$f":"DEC2BIN(W6_limit!E104, 9)","v":"1110111010"},{"$f":"DEC2BIN(W6_limit!F104, 9)","v":"1100000011"},{"$f":"DEC2BIN(W6_limit!G104, 9)","v":"1100000000"},{"$f":"DEC2BIN(W6_limit!H104, 9)","v":"1100000000"},{"$f":"DEC2BIN(W6_limit!I104, 9)","v":"1100010100"},{"$f":"DEC2BIN(W6_limit!J104, 9)","v":"1110110100"},{"$f":"DEC2BIN(W6_limit!K104, 9)","v":"000000000"},{"$f":"DEC2BIN(W6_limit!L104, 9)","v":"000000000"},{"$f":"DEC2BIN(W6_limit!M104, 9)","v":"000000000"},{"$f":"DEC2BIN(W6_limit!N104, 9)","v":"000000000"},{"$f":"DEC2BIN(W6_limit!O104, 9)","v":"000000000"},{"$f":"DEC2BIN(W6_limit!P104, 9)","v":"000000000"},{"$f":"DEC2BIN(W6_limit!Q104, 9)","v":"000000000"},{"$f":"DEC2BIN(W6_limit!R104, 9)","v":"000000000"},{"$f":"DEC2BIN(W6_limit!S104, 9)","v":"000000000"},{"$f":"DEC2BIN(W6_limit!T104, 9)","v":"000000000"},{"$f":"DEC2BIN(W6_limit!U104, 9)","v":"000000000"},{"$f":"DEC2BIN(W6_limit!V104, 9)","v":"000000000"},{"$f":"DEC2BIN(W6_limit!W104, 9)","v":"000000000"},{"$f":"DEC2BIN(W6_limit!X104, 9)","v":"000000000"},{"$f":"DEC2BIN(W6_limit!Y104, 9)","v":"000000000"},{"$f":"DEC2BIN(W6_limit!Z104, 9)","v":"000000000"},{"$f":"DEC2BIN(W6_limit!AA104, 9)","v":"000000000"},{"$f":"DEC2BIN(W6_limit!AB104, 9)","v":"000000000"},{"$f":"DEC2BIN(W6_limit!AC104, 9)","v":"000000000"},{"$f":"DEC2BIN(W6_limit!AD104, 9)","v":"000000000"},{"$f":"DEC2BIN(W6_limit!AE104, 9)","v":"000000000"},{"$f":"DEC2BIN(W6_limit!AF104, 9)","v":"000000000"},{"$f":"DEC2BIN(W6_limit!AG104, 9)","v":"000000000"},{"$f":"DEC2BIN(W6_limit!AH104, 9)","v":"000000000"},{"$f":"DEC2BIN(W6_limit!AI104, 9)","v":"000000000"},{"$f":"DEC2BIN(W6_limit!AJ104, 9)","v":"000000000"},{"$f":"DEC2BIN(W6_limit!AK104, 9)","v":"000000000"},{"$f":"DEC2BIN(W6_limit!AL104, 9)","v":"000000000"},{"$f":"DEC2BIN(W6_limit!AM104, 9)","v":"000000000"},{"$f":"DEC2BIN(W6_limit!AN104, 9)","v":"000000000"},{"$f":"DEC2BIN(W6_limit!AO104, 9)","v":"000000000"},{"$f":"DEC2BIN(W6_limit!AP104, 9)","v":"000000000"},{"$f":"DEC2BIN(W6_limit!AQ104, 9)","v":"000000000"}]
[{"$f":"DEC2BIN(W6_limit!A105, 9)","v":"000001001"},{"$f":"DEC2BIN(W6_limit!B105, 9)","v":"1111110010"},{"$f":"DEC2BIN(W6_limit!C105, 9)","v":"000010101"},{"$f":"DEC2BIN(W6_limit!D105, 9)","v":"000010010"},{"$f":"DEC2BIN(W6_limit!E105, 9)","v":"000001011"},{"$f":"DEC2BIN(W6_limit!F105, 9)","v":"1111001110"},{"$f":"DEC2BIN(W6_limit!G105, 9)","v":"000010101"},{"$f":"DEC2BIN(W6_limit!H105, 9)","v":"000101011"},{"$f":"DEC2BIN(W6_limit!I105, 9)","v":"000000111"},{"$f":"DEC2BIN(W6_limit!J105, 9)","v":"1111111001"},{"$f":"DEC2BIN(W6_limit!K105, 9)","v":"000000000"},{"$f":"DEC2BIN(W6_limit!L105, 9)","v":"000000000"},{"$f":"DEC2BIN(W6_limit!M105, 9)","v":"000000000"},{"$f":"DEC2BIN(W6_limit!N105, 9)","v":"000000000"},{"$f":"DEC2BIN(W6_limit!O105, 9)","v":"000000000"},{"$f":"DEC2BIN(W6_limit!P105, 9)","v":"000000000"},{"$f":"DEC2BIN(W6_limit!Q105, 9)","v":"000000000"},{"$f":"DEC2BIN(W6_limit!R105, 9)","v":"000000000"},{"$f":"DEC2BIN(W6_limit!S105, 9)","v":"000000000"},{"$f":"DEC2BIN(W6_limit!T105, 9)","v":"000000000"},{"$f":"DEC2BIN(W6_limit!U105, 9)","v":"000000000"},{"$f":"DEC2BIN(W6_limit!V105, 9)","v":"000000000"},{"$f":"DEC2BIN(W6_limit!W105, 9)","v":"000000000"},{"$f":"DEC2BIN(W6_limit!X105, 9)","v":"000000000"},{"$f":"DEC2BIN(W6_limit!Y105, 9)","v":"000000000"},{"$f":"DEC2BIN(W6_limit!Z105, 9)","v":"000000000"},{"$f":"DEC2BIN(W6_limit!AA105, 9)","v":"000000000"},{"$f":"DEC2BIN(W6_limit!AB105, 9)","v":"000000000"},{"$f":"DEC2BIN(W6_limit!AC105, 9)","v":"000000000"},{"$f":"DEC2BIN(W6_limit!AD105, 9)","v":"000000000"},{"$f":"DEC2BIN(W6_limit!AE105, 9)","v":"000000000"},{"$f":"DEC2BIN(W6_limit!AF105, 9)","v":"000000000"},{"$f":"DEC2BIN(W6_limit!AG105, 9)","v":"000000000"},{"$f":"DEC2BIN(W6_limit!AH105, 9)","v":"000000000"},{"$f":"DEC2BIN(W6_limit!AI105, 9)","v":"000000000"},{"$f":"DEC2BIN(W6_limit!AJ105, 9)","v":"000000000"},{"$f":"DEC2BIN(W6_limit!AK105, 9)","v":"000000000"},{"$f":"DEC2BIN(W6_limit!AL105, 9)","v":"000000000"},{"$f":"DEC2BIN(W6_limit!AM105, 9)","v":"000000000"},{"$f":"DEC2BIN(W6_limit!AN105, 9)","v":"000000000"},{"$f":"DEC2BIN(W6_limit!AO105, 9)","v":"000000000"},{"$f":"DEC2BIN(W6_limit!AP105, 9)","v":"000000000"},{"$f":"DEC2BIN(W6_limit!AQ105, 9)","v":"000000000"}]
[{"$f":"DEC2BIN(W6_limit!A106, 9)","v":"1111100100"},{"$f":"DEC2BIN(W6_limit!B106, 9)","v":"000101010"},{"$f":"DEC2BIN(W6_limit!C106, 9)","v":"1111001110"},{"$f":"DEC2BIN(W6_limit!D106, 9)","v":"1110001101"},{"$f":"DEC2BIN(W6_limit!E106, 9)","v":"1111010111"},{"$f":"DEC2BIN(W6_limit!F106, 9)","v":"1111000011"},{"$f":"DEC2BIN(W6_limit!G106, 9)","v":"1100000100"},{"$f":"DEC2BIN(W6_limit!H106, 9)","v":"1100111110"},{"$f":"DEC2BIN(W6_limit!I106, 9)","v":"1100000000"},{"$f":"DEC2BIN(W6_limit!J106, 9)","v":"000110011"},{"$f":"DEC2BIN(W6_limit!K106, 9)","v":"000000000"},{"$f":"DEC2BIN(W6_limit!L106, 9)","v":"000000000"},{"$f":"DEC2BIN(W6_limit!M106, 9)","v":"000000000"},{"$f":"DEC2BIN(W6_limit!N106, 9)","v":"000000000"},{"$f":"DEC2BIN(W6_limit!O106, 9)","v":"000000000"},{"$f":"DEC2BIN(W6_limit!P106, 9)","v":"000000000"},{"$f":"DEC2BIN(W6_limit!Q106, 9)","v":"000000000"},{"$f":"DEC2BIN(W6_limit!R106, 9)","v":"000000000"},{"$f":"DEC2BIN(W6_limit!S106, 9)","v":"000000000"},{"$f":"DEC2BIN(W6_limit!T106, 9)","v":"000000000"},{"$f":"DEC2BIN(W6_limit!U106, 9)","v":"000000000"},{"$f":"DEC2BIN(W6_limit!V106, 9)","v":"000000000"},{"$f":"DEC2BIN(W6_limit!W106, 9)","v":"000000000"},{"$f":"DEC2BIN(W6_limit!X106, 9)","v":"000000000"},{"$f":"DEC2BIN(W6_limit!Y106, 9)","v":"000000000"},{"$f":"DEC2BIN(W6_limit!Z106, 9)","v":"000000000"},{"$f":"DEC2BIN(W6_limit!AA106, 9)","v":"000000000"},{"$f":"DEC2BIN(W6_limit!AB106, 9)","v":"000000000"},{"$f":"DEC2BIN(W6_limit!AC106, 9)","v":"000000000"},{"$f":"DEC2BIN(W6_limit!AD106, 9)","v":"000000000"},{"$f":"DEC2BIN(W6_limit!AE106, 9)","v":"000000000"},{"$f":"DEC2BIN(W6_limit!AF106, 9)","v":"000000000"},{"$f":"DEC2BIN(W6_limit!AG106, 9)","v":"000000000"},{"$f":"DEC2BIN(W6_limit!AH106, 9)","v":"000000000"},{"$f":"DEC2BIN(W6_limit!AI106, 9)","v":"000000000"},{"$f":"DEC2BIN(W6_limit!AJ106, 9)","v":"000000000"},{"$f":"DEC2BIN(W6_limit!AK106, 9)","v":"000000000"},{"$f":"DEC2BIN(W6_limit!AL106, 9)","v":"000000000"},{"$f":"DEC2BIN(W6_limit!AM106, 9)","v":"000000000"},{"$f":"DEC2BIN(W6_limit!AN106, 9)","v":"000000000"},{"$f":"DEC2BIN(W6_limit!AO106, 9)","v":"000000000"},{"$f":"DEC2BIN(W6_limit!AP106, 9)","v":"000000000"},{"$f":"DEC2BIN(W6_limit!AQ106, 9)","v":"000000000"}]
[{"$f":"DEC2BIN(W6_limit!A107, 9)","v":"1111000100"},{"$f":"DEC2BIN(W6_limit!B107, 9)","v":"000100111"},{"$f":"DEC2BIN(W6_limit!C107, 9)","v":"000010000"},{"$f":"DEC2BIN(W6_limit!D107, 9)","v":"1111000010"},{"$f":"DEC2BIN(W6_limit!E107, 9)","v":"1111100100"},{"$f":"DEC2BIN(W6_limit!F107, 9)","v":"1101101010"},{"$f":"DEC2BIN(W6_limit!G107, 9)","v":"1100011100"},{"$f":"DEC2BIN(W6_limit!H107, 9)","v":"1100110100"},{"$f":"DEC2BIN(W6_limit!I107, 9)","v":"1100000000"},{"$f":"DEC2BIN(W6_limit!J107, 9)","v":"000110010"},{"$f":"DEC2BIN(W6_limit!K107, 9)","v":"000000000"},{"$f":"DEC2BIN(W6_limit!L107, 9)","v":"000000000"},{"$f":"DEC2BIN(W6_limit!M107, 9)","v":"000000000"},{"$f":"DEC2BIN(W6_limit!N107, 9)","v":"000000000"},{"$f":"DEC2BIN(W6_limit!O107, 9)","v":"000000000"},{"$f":"DEC2BIN(W6_limit!P107, 9)","v":"000000000"},{"$f":"DEC2BIN(W6_limit!Q107, 9)","v":"000000000"},{"$f":"DEC2BIN(W6_limit!R107, 9)","v":"000000000"},{"$f":"DEC2BIN(W6_limit!S107, 9)","v":"000000000"},{"$f":"DEC2BIN(W6_limit!T107, 9)","v":"000000000"},{"$f":"DEC2BIN(W6_limit!U107, 9)","v":"000000000"},{"$f":"DEC2BIN(W6_limit!V107, 9)","v":"000000000"},{"$f":"DEC2BIN(W6_limit!W107, 9)","v":"000000000"},{"$f":"DEC2BIN(W6_limit!X107, 9)","v":"000000000"},{"$f":"DEC2BIN(W6_limit!Y107, 9)","v":"000000000"},{"$f":"DEC2BIN(W6_limit!Z107, 9)","v":"000000000"},{"$f":"DEC2BIN(W6_limit!AA107, 9)","v":"000000000"},{"$f":"DEC2BIN(W6_limit!AB107, 9)","v":"000000000"},{"$f":"DEC2BIN(W6_limit!AC107, 9)","v":"000000000"},{"$f":"DEC2BIN(W6_limit!AD107, 9)","v":"000000000"},{"$f":"DEC2BIN(W6_limit!AE107, 9)","v":"000000000"},{"$f":"DEC2BIN(W6_limit!AF107, 9)","v":"000000000"},{"$f":"DEC2BIN(W6_limit!AG107, 9)","v":"000000000"},{"$f":"DEC2BIN(W6_limit!AH107, 9)","v":"000000000"},{"$f":"DEC2BIN(W6_limit!AI107, 9)","v":"000000000"},{"$f":"DEC2BIN(W6_limit!AJ107, 9)","v":"000000000"},{"$f":"DEC2BIN(W6_limit!AK107, 9)","v":"000000000"},{"$f":"DEC2BIN(W6_limit!AL107, 9)","v":"000000000"},{"$f":"DEC2BIN(W6_limit!AM107, 9)","v":"000000000"},{"$f":"DEC2BIN(W6_limit!AN107, 9)","v":"000000000"},{"$f":"DEC2BIN(W6_limit!AO107, 9)","v":"000000000"},{"$f":"DEC2BIN(W6_limit!AP107, 9)","v":"000000000"},{"$f":"DEC2BIN(W6_limit!AQ107, 9)","v":"000000000"}]
[{"$f":"DEC2BIN(W6_limit!A108, 9)","v":"000001011"},{"$f":"DEC2BIN(W6_limit!B108, 9)","v":"1111100101"},{"$f":"DEC2BIN(W6_limit!C108, 9)","v":"1111001110"},{"$f":"DEC2BIN(W6_limit!D108, 9)","v":"1111111010"},{"$f":"DEC2BIN(W6_limit!E108, 9)","v":"000010100"},{"$f":"DEC2BIN(W6_limit!F108, 9)","v":"1111111011"},{"$f":"DEC2BIN(W6_limit!G108, 9)","v":"1111010111"},{"$f":"DEC2BIN(W6_limit!H108, 9)","v":"000011100"},{"$f":"DEC2BIN(W6_limit!I108, 9)","v":"000100011"},{"$f":"DEC2BIN(W6_limit!J108, 9)","v":"000000000"},{"$f":"DEC2BIN(W6_limit!K108, 9)","v":"000000000"},{"$f":"DEC2BIN(W6_limit!L108, 9)","v":"000000000"},{"$f":"DEC2BIN(W6_limit!M108, 9)","v":"000000000"},{"$f":"DEC2BIN(W6_limit!N108, 9)","v":"000000000"},{"$f":"DEC2BIN(W6_limit!O108, 9)","v":"000000000"},{"$f":"DEC2BIN(W6_limit!P108, 9)","v":"000000000"},{"$f":"DEC2BIN(W6_limit!Q108, 9)","v":"000000000"},{"$f":"DEC2BIN(W6_limit!R108, 9)","v":"000000000"},{"$f":"DEC2BIN(W6_limit!S108, 9)","v":"000000000"},{"$f":"DEC2BIN(W6_limit!T108, 9)","v":"000000000"},{"$f":"DEC2BIN(W6_limit!U108, 9)","v":"000000000"},{"$f":"DEC2BIN(W6_limit!V108, 9)","v":"000000000"},{"$f":"DEC2BIN(W6_limit!W108, 9)","v":"000000000"},{"$f":"DEC2BIN(W6_limit!X108, 9)","v":"000000000"},{"$f":"DEC2BIN(W6_limit!Y108, 9)","v":"000000000"},{"$f":"DEC2BIN(W6_limit!Z108, 9)","v":"000000000"},{"$f":"DEC2BIN(W6_limit!AA108, 9)","v":"000000000"},{"$f":"DEC2BIN(W6_limit!AB108, 9)","v":"000000000"},{"$f":"DEC2BIN(W6_limit!AC108, 9)","v":"000000000"},{"$f":"DEC2BIN(W6_limit!AD108, 9)","v":"000000000"},{"$f":"DEC2BIN(W6_limit!AE108, 9)","v":"000000000"},{"$f":"DEC2BIN(W6_limit!AF108, 9)","v":"000000000"},{"$f":"DEC2BIN(W6_limit!AG108, 9)","v":"000000000"},{"$f":"DEC2BIN(W6_limit!AH108, 9)","v":"000000000"},{"$f":"DEC2BIN(W6_limit!AI108, 9)","v":"000000000"},{"$f":"DEC2BIN(W6_limit!AJ108, 9)","v":"000000000"},{"$f":"DEC2BIN(W6_limit!AK108, 9)","v":"000000000"},{"$f":"DEC2BIN(W6_limit!AL108, 9)","v":"000000000"},{"$f":"DEC2BIN(W6_limit!AM108, 9)","v":"000000000"},{"$f":"DEC2BIN(W6_limit!AN108, 9)","v":"000000000"},{"$f":"DEC2BIN(W6_limit!AO108, 9)","v":"000000000"},{"$f":"DEC2BIN(W6_limit!AP108, 9)","v":"000000000"},{"$f":"DEC2BIN(W6_limit!AQ108, 9)","v":"000000000"}]
[{"$f":"DEC2BIN(W6_limit!A109, 9)","v":"1111101000"},{"$f":"DEC2BIN(W6_limit!B109, 9)","v":"000011001"},{"$f":"DEC2BIN(W6_limit!C109, 9)","v":"000000000"},{"$f":"DEC2BIN(W6_limit!D109, 9)","v":"1111100110"},{"$f":"DEC2BIN(W6_limit!E109, 9)","v":"1111111001"},{"$f":"DEC2BIN(W6_limit!F109, 9)","v":"000100101"},{"$f":"DEC2BIN(W6_limit!G109, 9)","v":"000001000"},{"$f":"DEC2BIN(W6_limit!H109, 9)","v":"1111100101"},{"$f":"DEC2BIN(W6_limit!I109, 9)","v":"1111110000"},{"$f":"DEC2BIN(W6_limit!J109, 9)","v":"1111100101"},{"$f":"DEC2BIN(W6_limit!K109, 9)","v":"000000000"},{"$f":"DEC2BIN(W6_limit!L109, 9)","v":"000000000"},{"$f":"DEC2BIN(W6_limit!M109, 9)","v":"000000000"},{"$f":"DEC2BIN(W6_limit!N109, 9)","v":"000000000"},{"$f":"DEC2BIN(W6_limit!O109, 9)","v":"000000000"},{"$f":"DEC2BIN(W6_limit!P109, 9)","v":"000000000"},{"$f":"DEC2BIN(W6_limit!Q109, 9)","v":"000000000"},{"$f":"DEC2BIN(W6_limit!R109, 9)","v":"000000000"},{"$f":"DEC2BIN(W6_limit!S109, 9)","v":"000000000"},{"$f":"DEC2BIN(W6_limit!T109, 9)","v":"000000000"},{"$f":"DEC2BIN(W6_limit!U109, 9)","v":"000000000"},{"$f":"DEC2BIN(W6_limit!V109, 9)","v":"000000000"},{"$f":"DEC2BIN(W6_limit!W109, 9)","v":"000000000"},{"$f":"DEC2BIN(W6_limit!X109, 9)","v":"000000000"},{"$f":"DEC2BIN(W6_limit!Y109, 9)","v":"000000000"},{"$f":"DEC2BIN(W6_limit!Z109, 9)","v":"000000000"},{"$f":"DEC2BIN(W6_limit!AA109, 9)","v":"000000000"},{"$f":"DEC2BIN(W6_limit!AB109, 9)","v":"000000000"},{"$f":"DEC2BIN(W6_limit!AC109, 9)","v":"000000000"},{"$f":"DEC2BIN(W6_limit!AD109, 9)","v":"000000000"},{"$f":"DEC2BIN(W6_limit!AE109, 9)","v":"000000000"},{"$f":"DEC2BIN(W6_limit!AF109, 9)","v":"000000000"},{"$f":"DEC2BIN(W6_limit!AG109, 9)","v":"000000000"},{"$f":"DEC2BIN(W6_limit!AH109, 9)","v":"000000000"},{"$f":"DEC2BIN(W6_limit!AI109, 9)","v":"000000000"},{"$f":"DEC2BIN(W6_limit!AJ109, 9)","v":"000000000"},{"$f":"DEC2BIN(W6_limit!AK109, 9)","v":"000000000"},{"$f":"DEC2BIN(W6_limit!AL109, 9)","v":"000000000"},{"$f":"DEC2BIN(W6_limit!AM109, 9)","v":"000000000"},{"$f":"DEC2BIN(W6_limit!AN109, 9)","v":"000000000"},{"$f":"DEC2BIN(W6_limit!AO109, 9)","v":"000000000"},{"$f":"DEC2BIN(W6_limit!AP109, 9)","v":"000000000"},{"$f":"DEC2BIN(W6_limit!AQ109, 9)","v":"000000000"}]
[{"$f":"DEC2BIN(W6_limit!A110, 9)","v":"1111011001"},{"$f":"DEC2BIN(W6_limit!B110, 9)","v":"1111011110"},{"$f":"DEC2BIN(W6_limit!C110, 9)","v":"000100010"},{"$f":"DEC2BIN(W6_limit!D110, 9)","v":"000100111"},{"$f":"DEC2BIN(W6_limit!E110, 9)","v":"000010101"},{"$f":"DEC2BIN(W6_limit!F110, 9)","v":"1111110010"},{"$f":"DEC2BIN(W6_limit!G110, 9)","v":"000100110"},{"$f":"DEC2BIN(W6_limit!H110, 9)","v":"000110000"},{"$f":"DEC2BIN(W6_limit!I110, 9)","v":"1111110111"},{"$f":"DEC2BIN(W6_limit!J110, 9)","v":"1111110110"},{"$f":"DEC2BIN(W6_limit!K110, 9)","v":"000000000"},{"$f":"DEC2BIN(W6_limit!L110, 9)","v":"000000000"},{"$f":"DEC2BIN(W6_limit!M110, 9)","v":"000000000"},{"$f":"DEC2BIN(W6_limit!N110, 9)","v":"000000000"},{"$f":"DEC2BIN(W6_limit!O110, 9)","v":"000000000"},{"$f":"DEC2BIN(W6_limit!P110, 9)","v":"000000000"},{"$f":"DEC2BIN(W6_limit!Q110, 9)","v":"000000000"},{"$f":"DEC2BIN(W6_limit!R110, 9)","v":"000000000"},{"$f":"DEC2BIN(W6_limit!S110, 9)","v":"000000000"},{"$f":"DEC2BIN(W6_limit!T110, 9)","v":"000000000"},{"$f":"DEC2BIN(W6_limit!U110, 9)","v":"000000000"},{"$f":"DEC2BIN(W6_limit!V110, 9)","v":"000000000"},{"$f":"DEC2BIN(W6_limit!W110, 9)","v":"000000000"},{"$f":"DEC2BIN(W6_limit!X110, 9)","v":"000000000"},{"$f":"DEC2BIN(W6_limit!Y110, 9)","v":"000000000"},{"$f":"DEC2BIN(W6_limit!Z110, 9)","v":"000000000"},{"$f":"DEC2BIN(W6_limit!AA110, 9)","v":"000000000"},{"$f":"DEC2BIN(W6_limit!AB110, 9)","v":"000000000"},{"$f":"DEC2BIN(W6_limit!AC110, 9)","v":"000000000"},{"$f":"DEC2BIN(W6_limit!AD110, 9)","v":"000000000"},{"$f":"DEC2BIN(W6_limit!AE110, 9)","v":"000000000"},{"$f":"DEC2BIN(W6_limit!AF110, 9)","v":"000000000"},{"$f":"DEC2BIN(W6_limit!AG110, 9)","v":"000000000"},{"$f":"DEC2BIN(W6_limit!AH110, 9)","v":"000000000"},{"$f":"DEC2BIN(W6_limit!AI110, 9)","v":"000000000"},{"$f":"DEC2BIN(W6_limit!AJ110, 9)","v":"000000000"},{"$f":"DEC2BIN(W6_limit!AK110, 9)","v":"000000000"},{"$f":"DEC2BIN(W6_limit!AL110, 9)","v":"000000000"},{"$f":"DEC2BIN(W6_limit!AM110, 9)","v":"000000000"},{"$f":"DEC2BIN(W6_limit!AN110, 9)","v":"000000000"},{"$f":"DEC2BIN(W6_limit!AO110, 9)","v":"000000000"},{"$f":"DEC2BIN(W6_limit!AP110, 9)","v":"000000000"},{"$f":"DEC2BIN(W6_limit!AQ110, 9)","v":"000000000"}]
[{"$f":"DEC2BIN(W6_limit!A111, 9)","v":"000001010"},{"$f":"DEC2BIN(W6_limit!B111, 9)","v":"000010011"},{"$f":"DEC2BIN(W6_limit!C111, 9)","v":"1111111110"},{"$f":"DEC2BIN(W6_limit!D111, 9)","v":"1101111001"},{"$f":"DEC2BIN(W6_limit!E111, 9)","v":"000101101"},{"$f":"DEC2BIN(W6_limit!F111, 9)","v":"000101001"},{"$f":"DEC2BIN(W6_limit!G111, 9)","v":"1111010000"},{"$f":"DEC2BIN(W6_limit!H111, 9)","v":"1110110111"},{"$f":"DEC2BIN(W6_limit!I111, 9)","v":"000100101"},{"$f":"DEC2BIN(W6_limit!J111, 9)","v":"1111010110"},{"$f":"DEC2BIN(W6_limit!K111, 9)","v":"000000000"},{"$f":"DEC2BIN(W6_limit!L111, 9)","v":"000000000"},{"$f":"DEC2BIN(W6_limit!M111, 9)","v":"000000000"},{"$f":"DEC2BIN(W6_limit!N111, 9)","v":"000000000"},{"$f":"DEC2BIN(W6_limit!O111, 9)","v":"000000000"},{"$f":"DEC2BIN(W6_limit!P111, 9)","v":"000000000"},{"$f":"DEC2BIN(W6_limit!Q111, 9)","v":"000000000"},{"$f":"DEC2BIN(W6_limit!R111, 9)","v":"000000000"},{"$f":"DEC2BIN(W6_limit!S111, 9)","v":"000000000"},{"$f":"DEC2BIN(W6_limit!T111, 9)","v":"000000000"},{"$f":"DEC2BIN(W6_limit!U111, 9)","v":"000000000"},{"$f":"DEC2BIN(W6_limit!V111, 9)","v":"000000000"},{"$f":"DEC2BIN(W6_limit!W111, 9)","v":"000000000"},{"$f":"DEC2BIN(W6_limit!X111, 9)","v":"000000000"},{"$f":"DEC2BIN(W6_limit!Y111, 9)","v":"000000000"},{"$f":"DEC2BIN(W6_limit!Z111, 9)","v":"000000000"},{"$f":"DEC2BIN(W6_limit!AA111, 9)","v":"000000000"},{"$f":"DEC2BIN(W6_limit!AB111, 9)","v":"000000000"},{"$f":"DEC2BIN(W6_limit!AC111, 9)","v":"000000000"},{"$f":"DEC2BIN(W6_limit!AD111, 9)","v":"000000000"},{"$f":"DEC2BIN(W6_limit!AE111, 9)","v":"000000000"},{"$f":"DEC2BIN(W6_limit!AF111, 9)","v":"000000000"},{"$f":"DEC2BIN(W6_limit!AG111, 9)","v":"000000000"},{"$f":"DEC2BIN(W6_limit!AH111, 9)","v":"000000000"},{"$f":"DEC2BIN(W6_limit!AI111, 9)","v":"000000000"},{"$f":"DEC2BIN(W6_limit!AJ111, 9)","v":"000000000"},{"$f":"DEC2BIN(W6_limit!AK111, 9)","v":"000000000"},{"$f":"DEC2BIN(W6_limit!AL111, 9)","v":"000000000"},{"$f":"DEC2BIN(W6_limit!AM111, 9)","v":"000000000"},{"$f":"DEC2BIN(W6_limit!AN111, 9)","v":"000000000"},{"$f":"DEC2BIN(W6_limit!AO111, 9)","v":"000000000"},{"$f":"DEC2BIN(W6_limit!AP111, 9)","v":"000000000"},{"$f":"DEC2BIN(W6_limit!AQ111, 9)","v":"000000000"}]
[{"$f":"DEC2BIN(W6_limit!A112, 9)","v":"1110100101"},{"$f":"DEC2BIN(W6_limit!B112, 9)","v":"000100111"},{"$f":"DEC2BIN(W6_limit!C112, 9)","v":"000100101"},{"$f":"DEC2BIN(W6_limit!D112, 9)","v":"001000111"},{"$f":"DEC2BIN(W6_limit!E112, 9)","v":"1110111010"},{"$f":"DEC2BIN(W6_limit!F112, 9)","v":"1111100101"},{"$f":"DEC2BIN(W6_limit!G112, 9)","v":"1101110000"},{"$f":"DEC2BIN(W6_limit!H112, 9)","v":"000111010"},{"$f":"DEC2BIN(W6_limit!I112, 9)","v":"1110000000"},{"$f":"DEC2BIN(W6_limit!J112, 9)","v":"1101110001"},{"$f":"DEC2BIN(W6_limit!K112, 9)","v":"000000000"},{"$f":"DEC2BIN(W6_limit!L112, 9)","v":"000000000"},{"$f":"DEC2BIN(W6_limit!M112, 9)","v":"000000000"},{"$f":"DEC2BIN(W6_limit!N112, 9)","v":"000000000"},{"$f":"DEC2BIN(W6_limit!O112, 9)","v":"000000000"},{"$f":"DEC2BIN(W6_limit!P112, 9)","v":"000000000"},{"$f":"DEC2BIN(W6_limit!Q112, 9)","v":"000000000"},{"$f":"DEC2BIN(W6_limit!R112, 9)","v":"000000000"},{"$f":"DEC2BIN(W6_limit!S112, 9)","v":"000000000"},{"$f":"DEC2BIN(W6_limit!T112, 9)","v":"000000000"},{"$f":"DEC2BIN(W6_limit!U112, 9)","v":"000000000"},{"$f":"DEC2BIN(W6_limit!V112, 9)","v":"000000000"},{"$f":"DEC2BIN(W6_limit!W112, 9)","v":"000000000"},{"$f":"DEC2BIN(W6_limit!X112, 9)","v":"000000000"},{"$f":"DEC2BIN(W6_limit!Y112, 9)","v":"000000000"},{"$f":"DEC2BIN(W6_limit!Z112, 9)","v":"000000000"},{"$f":"DEC2BIN(W6_limit!AA112, 9)","v":"000000000"},{"$f":"DEC2BIN(W6_limit!AB112, 9)","v":"000000000"},{"$f":"DEC2BIN(W6_limit!AC112, 9)","v":"000000000"},{"$f":"DEC2BIN(W6_limit!AD112, 9)","v":"000000000"},{"$f":"DEC2BIN(W6_limit!AE112, 9)","v":"000000000"},{"$f":"DEC2BIN(W6_limit!AF112, 9)","v":"000000000"},{"$f":"DEC2BIN(W6_limit!AG112, 9)","v":"000000000"},{"$f":"DEC2BIN(W6_limit!AH112, 9)","v":"000000000"},{"$f":"DEC2BIN(W6_limit!AI112, 9)","v":"000000000"},{"$f":"DEC2BIN(W6_limit!AJ112, 9)","v":"000000000"},{"$f":"DEC2BIN(W6_limit!AK112, 9)","v":"000000000"},{"$f":"DEC2BIN(W6_limit!AL112, 9)","v":"000000000"},{"$f":"DEC2BIN(W6_limit!AM112, 9)","v":"000000000"},{"$f":"DEC2BIN(W6_limit!AN112, 9)","v":"000000000"},{"$f":"DEC2BIN(W6_limit!AO112, 9)","v":"000000000"},{"$f":"DEC2BIN(W6_limit!AP112, 9)","v":"000000000"},{"$f":"DEC2BIN(W6_limit!AQ112, 9)","v":"000000000"}]
[{"$f":"DEC2BIN(W6_limit!A113, 9)","v":"000101110"},{"$f":"DEC2BIN(W6_limit!B113, 9)","v":"1111100001"},{"$f":"DEC2BIN(W6_limit!C113, 9)","v":"1100000000"},{"$f":"DEC2BIN(W6_limit!D113, 9)","v":"000000001"},{"$f":"DEC2BIN(W6_limit!E113, 9)","v":"1101110001"},{"$f":"DEC2BIN(W6_limit!F113, 9)","v":"000100001"},{"$f":"DEC2BIN(W6_limit!G113, 9)","v":"1110100100"},{"$f":"DEC2BIN(W6_limit!H113, 9)","v":"000101101"},{"$f":"DEC2BIN(W6_limit!I113, 9)","v":"1111101101"},{"$f":"DEC2BIN(W6_limit!J113, 9)","v":"000101100"},{"$f":"DEC2BIN(W6_limit!K113, 9)","v":"000000000"},{"$f":"DEC2BIN(W6_limit!L113, 9)","v":"000000000"},{"$f":"DEC2BIN(W6_limit!M113, 9)","v":"000000000"},{"$f":"DEC2BIN(W6_limit!N113, 9)","v":"000000000"},{"$f":"DEC2BIN(W6_limit!O113, 9)","v":"000000000"},{"$f":"DEC2BIN(W6_limit!P113, 9)","v":"000000000"},{"$f":"DEC2BIN(W6_limit!Q113, 9)","v":"000000000"},{"$f":"DEC2BIN(W6_limit!R113, 9)","v":"000000000"},{"$f":"DEC2BIN(W6_limit!S113, 9)","v":"000000000"},{"$f":"DEC2BIN(W6_limit!T113, 9)","v":"000000000"},{"$f":"DEC2BIN(W6_limit!U113, 9)","v":"000000000"},{"$f":"DEC2BIN(W6_limit!V113, 9)","v":"000000000"},{"$f":"DEC2BIN(W6_limit!W113, 9)","v":"000000000"},{"$f":"DEC2BIN(W6_limit!X113, 9)","v":"000000000"},{"$f":"DEC2BIN(W6_limit!Y113, 9)","v":"000000000"},{"$f":"DEC2BIN(W6_limit!Z113, 9)","v":"000000000"},{"$f":"DEC2BIN(W6_limit!AA113, 9)","v":"000000000"},{"$f":"DEC2BIN(W6_limit!AB113, 9)","v":"000000000"},{"$f":"DEC2BIN(W6_limit!AC113, 9)","v":"000000000"},{"$f":"DEC2BIN(W6_limit!AD113, 9)","v":"000000000"},{"$f":"DEC2BIN(W6_limit!AE113, 9)","v":"000000000"},{"$f":"DEC2BIN(W6_limit!AF113, 9)","v":"000000000"},{"$f":"DEC2BIN(W6_limit!AG113, 9)","v":"000000000"},{"$f":"DEC2BIN(W6_limit!AH113, 9)","v":"000000000"},{"$f":"DEC2BIN(W6_limit!AI113, 9)","v":"000000000"},{"$f":"DEC2BIN(W6_limit!AJ113, 9)","v":"000000000"},{"$f":"DEC2BIN(W6_limit!AK113, 9)","v":"000000000"},{"$f":"DEC2BIN(W6_limit!AL113, 9)","v":"000000000"},{"$f":"DEC2BIN(W6_limit!AM113, 9)","v":"000000000"},{"$f":"DEC2BIN(W6_limit!AN113, 9)","v":"000000000"},{"$f":"DEC2BIN(W6_limit!AO113, 9)","v":"000000000"},{"$f":"DEC2BIN(W6_limit!AP113, 9)","v":"000000000"},{"$f":"DEC2BIN(W6_limit!AQ113, 9)","v":"000000000"}]
[{"$f":"DEC2BIN(W6_limit!A114, 9)","v":"1111101000"},{"$f":"DEC2BIN(W6_limit!B114, 9)","v":"1111111000"},{"$f":"DEC2BIN(W6_limit!C114, 9)","v":"1111001010"},{"$f":"DEC2BIN(W6_limit!D114, 9)","v":"000100100"},{"$f":"DEC2BIN(W6_limit!E114, 9)","v":"000101111"},{"$f":"DEC2BIN(W6_limit!F114, 9)","v":"1111101100"},{"$f":"DEC2BIN(W6_limit!G114, 9)","v":"1111011101"},{"$f":"DEC2BIN(W6_limit!H114, 9)","v":"1111110100"},{"$f":"DEC2BIN(W6_limit!I114, 9)","v":"000101110"},{"$f":"DEC2BIN(W6_limit!J114, 9)","v":"000110110"},{"$f":"DEC2BIN(W6_limit!K114, 9)","v":"000000000"},{"$f":"DEC2BIN(W6_limit!L114, 9)","v":"000000000"},{"$f":"DEC2BIN(W6_limit!M114, 9)","v":"000000000"},{"$f":"DEC2BIN(W6_limit!N114, 9)","v":"000000000"},{"$f":"DEC2BIN(W6_limit!O114, 9)","v":"000000000"},{"$f":"DEC2BIN(W6_limit!P114, 9)","v":"000000000"},{"$f":"DEC2BIN(W6_limit!Q114, 9)","v":"000000000"},{"$f":"DEC2BIN(W6_limit!R114, 9)","v":"000000000"},{"$f":"DEC2BIN(W6_limit!S114, 9)","v":"000000000"},{"$f":"DEC2BIN(W6_limit!T114, 9)","v":"000000000"},{"$f":"DEC2BIN(W6_limit!U114, 9)","v":"000000000"},{"$f":"DEC2BIN(W6_limit!V114, 9)","v":"000000000"},{"$f":"DEC2BIN(W6_limit!W114, 9)","v":"000000000"},{"$f":"DEC2BIN(W6_limit!X114, 9)","v":"000000000"},{"$f":"DEC2BIN(W6_limit!Y114, 9)","v":"000000000"},{"$f":"DEC2BIN(W6_limit!Z114, 9)","v":"000000000"},{"$f":"DEC2BIN(W6_limit!AA114, 9)","v":"000000000"},{"$f":"DEC2BIN(W6_limit!AB114, 9)","v":"000000000"},{"$f":"DEC2BIN(W6_limit!AC114, 9)","v":"000000000"},{"$f":"DEC2BIN(W6_limit!AD114, 9)","v":"000000000"},{"$f":"DEC2BIN(W6_limit!AE114, 9)","v":"000000000"},{"$f":"DEC2BIN(W6_limit!AF114, 9)","v":"000000000"},{"$f":"DEC2BIN(W6_limit!AG114, 9)","v":"000000000"},{"$f":"DEC2BIN(W6_limit!AH114, 9)","v":"000000000"},{"$f":"DEC2BIN(W6_limit!AI114, 9)","v":"000000000"},{"$f":"DEC2BIN(W6_limit!AJ114, 9)","v":"000000000"},{"$f":"DEC2BIN(W6_limit!AK114, 9)","v":"000000000"},{"$f":"DEC2BIN(W6_limit!AL114, 9)","v":"000000000"},{"$f":"DEC2BIN(W6_limit!AM114, 9)","v":"000000000"},{"$f":"DEC2BIN(W6_limit!AN114, 9)","v":"000000000"},{"$f":"DEC2BIN(W6_limit!AO114, 9)","v":"000000000"},{"$f":"DEC2BIN(W6_limit!AP114, 9)","v":"000000000"},{"$f":"DEC2BIN(W6_limit!AQ114, 9)","v":"000000000"}]
[{"$f":"DEC2BIN(W6_limit!A115, 9)","v":"1111100001"},{"$f":"DEC2BIN(W6_limit!B115, 9)","v":"000110011"},{"$f":"DEC2BIN(W6_limit!C115, 9)","v":"000101110"},{"$f":"DEC2BIN(W6_limit!D115, 9)","v":"1111110011"},{"$f":"DEC2BIN(W6_limit!E115, 9)","v":"000110101"},{"$f":"DEC2BIN(W6_limit!F115, 9)","v":"1101000010"},{"$f":"DEC2BIN(W6_limit!G115, 9)","v":"1110000101"},{"$f":"DEC2BIN(W6_limit!H115, 9)","v":"1110001110"},{"$f":"DEC2BIN(W6_limit!I115, 9)","v":"1100100010"},{"$f":"DEC2BIN(W6_limit!J115, 9)","v":"1111101011"},{"$f":"DEC2BIN(W6_limit!K115, 9)","v":"000000000"},{"$f":"DEC2BIN(W6_limit!L115, 9)","v":"000000000"},{"$f":"DEC2BIN(W6_limit!M115, 9)","v":"000000000"},{"$f":"DEC2BIN(W6_limit!N115, 9)","v":"000000000"},{"$f":"DEC2BIN(W6_limit!O115, 9)","v":"000000000"},{"$f":"DEC2BIN(W6_limit!P115, 9)","v":"000000000"},{"$f":"DEC2BIN(W6_limit!Q115, 9)","v":"000000000"},{"$f":"DEC2BIN(W6_limit!R115, 9)","v":"000000000"},{"$f":"DEC2BIN(W6_limit!S115, 9)","v":"000000000"},{"$f":"DEC2BIN(W6_limit!T115, 9)","v":"000000000"},{"$f":"DEC2BIN(W6_limit!U115, 9)","v":"000000000"},{"$f":"DEC2BIN(W6_limit!V115, 9)","v":"000000000"},{"$f":"DEC2BIN(W6_limit!W115, 9)","v":"000000000"},{"$f":"DEC2BIN(W6_limit!X115, 9)","v":"000000000"},{"$f":"DEC2BIN(W6_limit!Y115, 9)","v":"000000000"},{"$f":"DEC2BIN(W6_limit!Z115, 9)","v":"000000000"},{"$f":"DEC2BIN(W6_limit!AA115, 9)","v":"000000000"},{"$f":"DEC2BIN(W6_limit!AB115, 9)","v":"000000000"},{"$f":"DEC2BIN(W6_limit!AC115, 9)","v":"000000000"},{"$f":"DEC2BIN(W6_limit!AD115, 9)","v":"000000000"},{"$f":"DEC2BIN(W6_limit!AE115, 9)","v":"000000000"},{"$f":"DEC2BIN(W6_limit!AF115, 9)","v":"000000000"},{"$f":"DEC2BIN(W6_limit!AG115, 9)","v":"000000000"},{"$f":"DEC2BIN(W6_limit!AH115, 9)","v":"000000000"},{"$f":"DEC2BIN(W6_limit!AI115, 9)","v":"000000000"},{"$f":"DEC2BIN(W6_limit!AJ115, 9)","v":"000000000"},{"$f":"DEC2BIN(W6_limit!AK115, 9)","v":"000000000"},{"$f":"DEC2BIN(W6_limit!AL115, 9)","v":"000000000"},{"$f":"DEC2BIN(W6_limit!AM115, 9)","v":"000000000"},{"$f":"DEC2BIN(W6_limit!AN115, 9)","v":"000000000"},{"$f":"DEC2BIN(W6_limit!AO115, 9)","v":"000000000"},{"$f":"DEC2BIN(W6_limit!AP115, 9)","v":"000000000"},{"$f":"DEC2BIN(W6_limit!AQ115, 9)","v":"000000000"}]
[{"$f":"DEC2BIN(W6_limit!A116, 9)","v":"000010011"},{"$f":"DEC2BIN(W6_limit!B116, 9)","v":"000100010"},{"$f":"DEC2BIN(W6_limit!C116, 9)","v":"1110101101"},{"$f":"DEC2BIN(W6_limit!D116, 9)","v":"1111011111"},{"$f":"DEC2BIN(W6_limit!E116, 9)","v":"1100000000"},{"$f":"DEC2BIN(W6_limit!F116, 9)","v":"1101100101"},{"$f":"DEC2BIN(W6_limit!G116, 9)","v":"1111010100"},{"$f":"DEC2BIN(W6_limit!H116, 9)","v":"1111001100"},{"$f":"DEC2BIN(W6_limit!I116, 9)","v":"1111100101"},{"$f":"DEC2BIN(W6_limit!J116, 9)","v":"1111011101"},{"$f":"DEC2BIN(W6_limit!K116, 9)","v":"000000000"},{"$f":"DEC2BIN(W6_limit!L116, 9)","v":"000000000"},{"$f":"DEC2BIN(W6_limit!M116, 9)","v":"000000000"},{"$f":"DEC2BIN(W6_limit!N116, 9)","v":"000000000"},{"$f":"DEC2BIN(W6_limit!O116, 9)","v":"000000000"},{"$f":"DEC2BIN(W6_limit!P116, 9)","v":"000000000"},{"$f":"DEC2BIN(W6_limit!Q116, 9)","v":"000000000"},{"$f":"DEC2BIN(W6_limit!R116, 9)","v":"000000000"},{"$f":"DEC2BIN(W6_limit!S116, 9)","v":"000000000"},{"$f":"DEC2BIN(W6_limit!T116, 9)","v":"000000000"},{"$f":"DEC2BIN(W6_limit!U116, 9)","v":"000000000"},{"$f":"DEC2BIN(W6_limit!V116, 9)","v":"000000000"},{"$f":"DEC2BIN(W6_limit!W116, 9)","v":"000000000"},{"$f":"DEC2BIN(W6_limit!X116, 9)","v":"000000000"},{"$f":"DEC2BIN(W6_limit!Y116, 9)","v":"000000000"},{"$f":"DEC2BIN(W6_limit!Z116, 9)","v":"000000000"},{"$f":"DEC2BIN(W6_limit!AA116, 9)","v":"000000000"},{"$f":"DEC2BIN(W6_limit!AB116, 9)","v":"000000000"},{"$f":"DEC2BIN(W6_limit!AC116, 9)","v":"000000000"},{"$f":"DEC2BIN(W6_limit!AD116, 9)","v":"000000000"},{"$f":"DEC2BIN(W6_limit!AE116, 9)","v":"000000000"},{"$f":"DEC2BIN(W6_limit!AF116, 9)","v":"000000000"},{"$f":"DEC2BIN(W6_limit!AG116, 9)","v":"000000000"},{"$f":"DEC2BIN(W6_limit!AH116, 9)","v":"000000000"},{"$f":"DEC2BIN(W6_limit!AI116, 9)","v":"000000000"},{"$f":"DEC2BIN(W6_limit!AJ116, 9)","v":"000000000"},{"$f":"DEC2BIN(W6_limit!AK116, 9)","v":"000000000"},{"$f":"DEC2BIN(W6_limit!AL116, 9)","v":"000000000"},{"$f":"DEC2BIN(W6_limit!AM116, 9)","v":"000000000"},{"$f":"DEC2BIN(W6_limit!AN116, 9)","v":"000000000"},{"$f":"DEC2BIN(W6_limit!AO116, 9)","v":"000000000"},{"$f":"DEC2BIN(W6_limit!AP116, 9)","v":"000000000"},{"$f":"DEC2BIN(W6_limit!AQ116, 9)","v":"000000000"}]
[{"$f":"DEC2BIN(W6_limit!A117, 9)","v":"000100111"},{"$f":"DEC2BIN(W6_limit!B117, 9)","v":"1111010011"},{"$f":"DEC2BIN(W6_limit!C117, 9)","v":"1101110000"},{"$f":"DEC2BIN(W6_limit!D117, 9)","v":"1111001010"},{"$f":"DEC2BIN(W6_limit!E117, 9)","v":"1101110011"},{"$f":"DEC2BIN(W6_limit!F117, 9)","v":"1110010011"},{"$f":"DEC2BIN(W6_limit!G117, 9)","v":"000000011"},{"$f":"DEC2BIN(W6_limit!H117, 9)","v":"1110001011"},{"$f":"DEC2BIN(W6_limit!I117, 9)","v":"000110001"},{"$f":"DEC2BIN(W6_limit!J117, 9)","v":"000101000"},{"$f":"DEC2BIN(W6_limit!K117, 9)","v":"000000000"},{"$f":"DEC2BIN(W6_limit!L117, 9)","v":"000000000"},{"$f":"DEC2BIN(W6_limit!M117, 9)","v":"000000000"},{"$f":"DEC2BIN(W6_limit!N117, 9)","v":"000000000"},{"$f":"DEC2BIN(W6_limit!O117, 9)","v":"000000000"},{"$f":"DEC2BIN(W6_limit!P117, 9)","v":"000000000"},{"$f":"DEC2BIN(W6_limit!Q117, 9)","v":"000000000"},{"$f":"DEC2BIN(W6_limit!R117, 9)","v":"000000000"},{"$f":"DEC2BIN(W6_limit!S117, 9)","v":"000000000"},{"$f":"DEC2BIN(W6_limit!T117, 9)","v":"000000000"},{"$f":"DEC2BIN(W6_limit!U117, 9)","v":"000000000"},{"$f":"DEC2BIN(W6_limit!V117, 9)","v":"000000000"},{"$f":"DEC2BIN(W6_limit!W117, 9)","v":"000000000"},{"$f":"DEC2BIN(W6_limit!X117, 9)","v":"000000000"},{"$f":"DEC2BIN(W6_limit!Y117, 9)","v":"000000000"},{"$f":"DEC2BIN(W6_limit!Z117, 9)","v":"000000000"},{"$f":"DEC2BIN(W6_limit!AA117, 9)","v":"000000000"},{"$f":"DEC2BIN(W6_limit!AB117, 9)","v":"000000000"},{"$f":"DEC2BIN(W6_limit!AC117, 9)","v":"000000000"},{"$f":"DEC2BIN(W6_limit!AD117, 9)","v":"000000000"},{"$f":"DEC2BIN(W6_limit!AE117, 9)","v":"000000000"},{"$f":"DEC2BIN(W6_limit!AF117, 9)","v":"000000000"},{"$f":"DEC2BIN(W6_limit!AG117, 9)","v":"000000000"},{"$f":"DEC2BIN(W6_limit!AH117, 9)","v":"000000000"},{"$f":"DEC2BIN(W6_limit!AI117, 9)","v":"000000000"},{"$f":"DEC2BIN(W6_limit!AJ117, 9)","v":"000000000"},{"$f":"DEC2BIN(W6_limit!AK117, 9)","v":"000000000"},{"$f":"DEC2BIN(W6_limit!AL117, 9)","v":"000000000"},{"$f":"DEC2BIN(W6_limit!AM117, 9)","v":"000000000"},{"$f":"DEC2BIN(W6_limit!AN117, 9)","v":"000000000"},{"$f":"DEC2BIN(W6_limit!AO117, 9)","v":"000000000"},{"$f":"DEC2BIN(W6_limit!AP117, 9)","v":"000000000"},{"$f":"DEC2BIN(W6_limit!AQ117, 9)","v":"000000000"}]
[{"$f":"DEC2BIN(W6_limit!A118, 9)","v":"000000001"},{"$f":"DEC2BIN(W6_limit!B118, 9)","v":"1111011010"},{"$f":"DEC2BIN(W6_limit!C118, 9)","v":"000100101"},{"$f":"DEC2BIN(W6_limit!D118, 9)","v":"000011101"},{"$f":"DEC2BIN(W6_limit!E118, 9)","v":"000101000"},{"$f":"DEC2BIN(W6_limit!F118, 9)","v":"000011001"},{"$f":"DEC2BIN(W6_limit!G118, 9)","v":"000010100"},{"$f":"DEC2BIN(W6_limit!H118, 9)","v":"1111011111"},{"$f":"DEC2BIN(W6_limit!I118, 9)","v":"000011001"},{"$f":"DEC2BIN(W6_limit!J118, 9)","v":"000000101"},{"$f":"DEC2BIN(W6_limit!K118, 9)","v":"000000000"},{"$f":"DEC2BIN(W6_limit!L118, 9)","v":"000000000"},{"$f":"DEC2BIN(W6_limit!M118, 9)","v":"000000000"},{"$f":"DEC2BIN(W6_limit!N118, 9)","v":"000000000"},{"$f":"DEC2BIN(W6_limit!O118, 9)","v":"000000000"},{"$f":"DEC2BIN(W6_limit!P118, 9)","v":"000000000"},{"$f":"DEC2BIN(W6_limit!Q118, 9)","v":"000000000"},{"$f":"DEC2BIN(W6_limit!R118, 9)","v":"000000000"},{"$f":"DEC2BIN(W6_limit!S118, 9)","v":"000000000"},{"$f":"DEC2BIN(W6_limit!T118, 9)","v":"000000000"},{"$f":"DEC2BIN(W6_limit!U118, 9)","v":"000000000"},{"$f":"DEC2BIN(W6_limit!V118, 9)","v":"000000000"},{"$f":"DEC2BIN(W6_limit!W118, 9)","v":"000000000"},{"$f":"DEC2BIN(W6_limit!X118, 9)","v":"000000000"},{"$f":"DEC2BIN(W6_limit!Y118, 9)","v":"000000000"},{"$f":"DEC2BIN(W6_limit!Z118, 9)","v":"000000000"},{"$f":"DEC2BIN(W6_limit!AA118, 9)","v":"000000000"},{"$f":"DEC2BIN(W6_limit!AB118, 9)","v":"000000000"},{"$f":"DEC2BIN(W6_limit!AC118, 9)","v":"000000000"},{"$f":"DEC2BIN(W6_limit!AD118, 9)","v":"000000000"},{"$f":"DEC2BIN(W6_limit!AE118, 9)","v":"000000000"},{"$f":"DEC2BIN(W6_limit!AF118, 9)","v":"000000000"},{"$f":"DEC2BIN(W6_limit!AG118, 9)","v":"000000000"},{"$f":"DEC2BIN(W6_limit!AH118, 9)","v":"000000000"},{"$f":"DEC2BIN(W6_limit!AI118, 9)","v":"000000000"},{"$f":"DEC2BIN(W6_limit!AJ118, 9)","v":"000000000"},{"$f":"DEC2BIN(W6_limit!AK118, 9)","v":"000000000"},{"$f":"DEC2BIN(W6_limit!AL118, 9)","v":"000000000"},{"$f":"DEC2BIN(W6_limit!AM118, 9)","v":"000000000"},{"$f":"DEC2BIN(W6_limit!AN118, 9)","v":"000000000"},{"$f":"DEC2BIN(W6_limit!AO118, 9)","v":"000000000"},{"$f":"DEC2BIN(W6_limit!AP118, 9)","v":"000000000"},{"$f":"DEC2BIN(W6_limit!AQ118, 9)","v":"000000000"}]
[{"$f":"DEC2BIN(W6_limit!A119, 9)","v":"1110111011"},{"$f":"DEC2BIN(W6_limit!B119, 9)","v":"1111011101"},{"$f":"DEC2BIN(W6_limit!C119, 9)","v":"1110010001"},{"$f":"DEC2BIN(W6_limit!D119, 9)","v":"000011001"},{"$f":"DEC2BIN(W6_limit!E119, 9)","v":"000001000"},{"$f":"DEC2BIN(W6_limit!F119, 9)","v":"1111011100"},{"$f":"DEC2BIN(W6_limit!G119, 9)","v":"000000101"},{"$f":"DEC2BIN(W6_limit!H119, 9)","v":"000000110"},{"$f":"DEC2BIN(W6_limit!I119, 9)","v":"000011011"},{"$f":"DEC2BIN(W6_limit!J119, 9)","v":"1110100110"},{"$f":"DEC2BIN(W6_limit!K119, 9)","v":"000000000"},{"$f":"DEC2BIN(W6_limit!L119, 9)","v":"000000000"},{"$f":"DEC2BIN(W6_limit!M119, 9)","v":"000000000"},{"$f":"DEC2BIN(W6_limit!N119, 9)","v":"000000000"},{"$f":"DEC2BIN(W6_limit!O119, 9)","v":"000000000"},{"$f":"DEC2BIN(W6_limit!P119, 9)","v":"000000000"},{"$f":"DEC2BIN(W6_limit!Q119, 9)","v":"000000000"},{"$f":"DEC2BIN(W6_limit!R119, 9)","v":"000000000"},{"$f":"DEC2BIN(W6_limit!S119, 9)","v":"000000000"},{"$f":"DEC2BIN(W6_limit!T119, 9)","v":"000000000"},{"$f":"DEC2BIN(W6_limit!U119, 9)","v":"000000000"},{"$f":"DEC2BIN(W6_limit!V119, 9)","v":"000000000"},{"$f":"DEC2BIN(W6_limit!W119, 9)","v":"000000000"},{"$f":"DEC2BIN(W6_limit!X119, 9)","v":"000000000"},{"$f":"DEC2BIN(W6_limit!Y119, 9)","v":"000000000"},{"$f":"DEC2BIN(W6_limit!Z119, 9)","v":"000000000"},{"$f":"DEC2BIN(W6_limit!AA119, 9)","v":"000000000"},{"$f":"DEC2BIN(W6_limit!AB119, 9)","v":"000000000"},{"$f":"DEC2BIN(W6_limit!AC119, 9)","v":"000000000"},{"$f":"DEC2BIN(W6_limit!AD119, 9)","v":"000000000"},{"$f":"DEC2BIN(W6_limit!AE119, 9)","v":"000000000"},{"$f":"DEC2BIN(W6_limit!AF119, 9)","v":"000000000"},{"$f":"DEC2BIN(W6_limit!AG119, 9)","v":"000000000"},{"$f":"DEC2BIN(W6_limit!AH119, 9)","v":"000000000"},{"$f":"DEC2BIN(W6_limit!AI119, 9)","v":"000000000"},{"$f":"DEC2BIN(W6_limit!AJ119, 9)","v":"000000000"},{"$f":"DEC2BIN(W6_limit!AK119, 9)","v":"000000000"},{"$f":"DEC2BIN(W6_limit!AL119, 9)","v":"000000000"},{"$f":"DEC2BIN(W6_limit!AM119, 9)","v":"000000000"},{"$f":"DEC2BIN(W6_limit!AN119, 9)","v":"000000000"},{"$f":"DEC2BIN(W6_limit!AO119, 9)","v":"000000000"},{"$f":"DEC2BIN(W6_limit!AP119, 9)","v":"000000000"},{"$f":"DEC2BIN(W6_limit!AQ119, 9)","v":"000000000"}]
[{"$f":"DEC2BIN(W6_limit!A120, 9)","v":"000010100"},{"$f":"DEC2BIN(W6_limit!B120, 9)","v":"1111111101"},{"$f":"DEC2BIN(W6_limit!C120, 9)","v":"000011000"},{"$f":"DEC2BIN(W6_limit!D120, 9)","v":"000100010"},{"$f":"DEC2BIN(W6_limit!E120, 9)","v":"1111011000"},{"$f":"DEC2BIN(W6_limit!F120, 9)","v":"000000100"},{"$f":"DEC2BIN(W6_limit!G120, 9)","v":"000010110"},{"$f":"DEC2BIN(W6_limit!H120, 9)","v":"1111100011"},{"$f":"DEC2BIN(W6_limit!I120, 9)","v":"1111100110"},{"$f":"DEC2BIN(W6_limit!J120, 9)","v":"1111110001"},{"$f":"DEC2BIN(W6_limit!K120, 9)","v":"000000000"},{"$f":"DEC2BIN(W6_limit!L120, 9)","v":"000000000"},{"$f":"DEC2BIN(W6_limit!M120, 9)","v":"000000000"},{"$f":"DEC2BIN(W6_limit!N120, 9)","v":"000000000"},{"$f":"DEC2BIN(W6_limit!O120, 9)","v":"000000000"},{"$f":"DEC2BIN(W6_limit!P120, 9)","v":"000000000"},{"$f":"DEC2BIN(W6_limit!Q120, 9)","v":"000000000"},{"$f":"DEC2BIN(W6_limit!R120, 9)","v":"000000000"},{"$f":"DEC2BIN(W6_limit!S120, 9)","v":"000000000"},{"$f":"DEC2BIN(W6_limit!T120, 9)","v":"000000000"},{"$f":"DEC2BIN(W6_limit!U120, 9)","v":"000000000"},{"$f":"DEC2BIN(W6_limit!V120, 9)","v":"000000000"},{"$f":"DEC2BIN(W6_limit!W120, 9)","v":"000000000"},{"$f":"DEC2BIN(W6_limit!X120, 9)","v":"000000000"},{"$f":"DEC2BIN(W6_limit!Y120, 9)","v":"000000000"},{"$f":"DEC2BIN(W6_limit!Z120, 9)","v":"000000000"},{"$f":"DEC2BIN(W6_limit!AA120, 9)","v":"000000000"},{"$f":"DEC2BIN(W6_limit!AB120, 9)","v":"000000000"},{"$f":"DEC2BIN(W6_limit!AC120, 9)","v":"000000000"},{"$f":"DEC2BIN(W6_limit!AD120, 9)","v":"000000000"},{"$f":"DEC2BIN(W6_limit!AE120, 9)","v":"000000000"},{"$f":"DEC2BIN(W6_limit!AF120, 9)","v":"000000000"},{"$f":"DEC2BIN(W6_limit!AG120, 9)","v":"000000000"},{"$f":"DEC2BIN(W6_limit!AH120, 9)","v":"000000000"},{"$f":"DEC2BIN(W6_limit!AI120, 9)","v":"000000000"},{"$f":"DEC2BIN(W6_limit!AJ120, 9)","v":"000000000"},{"$f":"DEC2BIN(W6_limit!AK120, 9)","v":"000000000"},{"$f":"DEC2BIN(W6_limit!AL120, 9)","v":"000000000"},{"$f":"DEC2BIN(W6_limit!AM120, 9)","v":"000000000"},{"$f":"DEC2BIN(W6_limit!AN120, 9)","v":"000000000"},{"$f":"DEC2BIN(W6_limit!AO120, 9)","v":"000000000"},{"$f":"DEC2BIN(W6_limit!AP120, 9)","v":"000000000"},{"$f":"DEC2BIN(W6_limit!AQ120, 9)","v":"000000000"}]
[{"$f":"DEC2BIN(W6_limit!A121, 9)","v":"000011001"},{"$f":"DEC2BIN(W6_limit!B121, 9)","v":"1111110010"},{"$f":"DEC2BIN(W6_limit!C121, 9)","v":"1100101110"},{"$f":"DEC2BIN(W6_limit!D121, 9)","v":"1101010100"},{"$f":"DEC2BIN(W6_limit!E121, 9)","v":"1100101100"},{"$f":"DEC2BIN(W6_limit!F121, 9)","v":"1110101100"},{"$f":"DEC2BIN(W6_limit!G121, 9)","v":"1111101110"},{"$f":"DEC2BIN(W6_limit!H121, 9)","v":"1110010110"},{"$f":"DEC2BIN(W6_limit!I121, 9)","v":"1111010100"},{"$f":"DEC2BIN(W6_limit!J121, 9)","v":"000011100"},{"$f":"DEC2BIN(W6_limit!K121, 9)","v":"000000000"},{"$f":"DEC2BIN(W6_limit!L121, 9)","v":"000000000"},{"$f":"DEC2BIN(W6_limit!M121, 9)","v":"000000000"},{"$f":"DEC2BIN(W6_limit!N121, 9)","v":"000000000"},{"$f":"DEC2BIN(W6_limit!O121, 9)","v":"000000000"},{"$f":"DEC2BIN(W6_limit!P121, 9)","v":"000000000"},{"$f":"DEC2BIN(W6_limit!Q121, 9)","v":"000000000"},{"$f":"DEC2BIN(W6_limit!R121, 9)","v":"000000000"},{"$f":"DEC2BIN(W6_limit!S121, 9)","v":"000000000"},{"$f":"DEC2BIN(W6_limit!T121, 9)","v":"000000000"},{"$f":"DEC2BIN(W6_limit!U121, 9)","v":"000000000"},{"$f":"DEC2BIN(W6_limit!V121, 9)","v":"000000000"},{"$f":"DEC2BIN(W6_limit!W121, 9)","v":"000000000"},{"$f":"DEC2BIN(W6_limit!X121, 9)","v":"000000000"},{"$f":"DEC2BIN(W6_limit!Y121, 9)","v":"000000000"},{"$f":"DEC2BIN(W6_limit!Z121, 9)","v":"000000000"},{"$f":"DEC2BIN(W6_limit!AA121, 9)","v":"000000000"},{"$f":"DEC2BIN(W6_limit!AB121, 9)","v":"000000000"},{"$f":"DEC2BIN(W6_limit!AC121, 9)","v":"000000000"},{"$f":"DEC2BIN(W6_limit!AD121, 9)","v":"000000000"},{"$f":"DEC2BIN(W6_limit!AE121, 9)","v":"000000000"},{"$f":"DEC2BIN(W6_limit!AF121, 9)","v":"000000000"},{"$f":"DEC2BIN(W6_limit!AG121, 9)","v":"000000000"},{"$f":"DEC2BIN(W6_limit!AH121, 9)","v":"000000000"},{"$f":"DEC2BIN(W6_limit!AI121, 9)","v":"000000000"},{"$f":"DEC2BIN(W6_limit!AJ121, 9)","v":"000000000"},{"$f":"DEC2BIN(W6_limit!AK121, 9)","v":"000000000"},{"$f":"DEC2BIN(W6_limit!AL121, 9)","v":"000000000"},{"$f":"DEC2BIN(W6_limit!AM121, 9)","v":"000000000"},{"$f":"DEC2BIN(W6_limit!AN121, 9)","v":"000000000"},{"$f":"DEC2BIN(W6_limit!AO121, 9)","v":"000000000"},{"$f":"DEC2BIN(W6_limit!AP121, 9)","v":"000000000"},{"$f":"DEC2BIN(W6_limit!AQ121, 9)","v":"000000000"}]
[{"$f":"DEC2BIN(W6_limit!A122, 9)","v":"000010001"},{"$f":"DEC2BIN(W6_limit!B122, 9)","v":"000011010"},{"$f":"DEC2BIN(W6_limit!C122, 9)","v":"1110010110"},{"$f":"DEC2BIN(W6_limit!D122, 9)","v":"000011010"},{"$f":"DEC2BIN(W6_limit!E122, 9)","v":"1110110100"},{"$f":"DEC2BIN(W6_limit!F122, 9)","v":"1101000110"},{"$f":"DEC2BIN(W6_limit!G122, 9)","v":"000011011"},{"$f":"DEC2BIN(W6_limit!H122, 9)","v":"1110101010"},{"$f":"DEC2BIN(W6_limit!I122, 9)","v":"000100100"},{"$f":"DEC2BIN(W6_limit!J122, 9)","v":"1111010110"},{"$f":"DEC2BIN(W6_limit!K122, 9)","v":"000000000"},{"$f":"DEC2BIN(W6_limit!L122, 9)","v":"000000000"},{"$f":"DEC2BIN(W6_limit!M122, 9)","v":"000000000"},{"$f":"DEC2BIN(W6_limit!N122, 9)","v":"000000000"},{"$f":"DEC2BIN(W6_limit!O122, 9)","v":"000000000"},{"$f":"DEC2BIN(W6_limit!P122, 9)","v":"000000000"},{"$f":"DEC2BIN(W6_limit!Q122, 9)","v":"000000000"},{"$f":"DEC2BIN(W6_limit!R122, 9)","v":"000000000"},{"$f":"DEC2BIN(W6_limit!S122, 9)","v":"000000000"},{"$f":"DEC2BIN(W6_limit!T122, 9)","v":"000000000"},{"$f":"DEC2BIN(W6_limit!U122, 9)","v":"000000000"},{"$f":"DEC2BIN(W6_limit!V122, 9)","v":"000000000"},{"$f":"DEC2BIN(W6_limit!W122, 9)","v":"000000000"},{"$f":"DEC2BIN(W6_limit!X122, 9)","v":"000000000"},{"$f":"DEC2BIN(W6_limit!Y122, 9)","v":"000000000"},{"$f":"DEC2BIN(W6_limit!Z122, 9)","v":"000000000"},{"$f":"DEC2BIN(W6_limit!AA122, 9)","v":"000000000"},{"$f":"DEC2BIN(W6_limit!AB122, 9)","v":"000000000"},{"$f":"DEC2BIN(W6_limit!AC122, 9)","v":"000000000"},{"$f":"DEC2BIN(W6_limit!AD122, 9)","v":"000000000"},{"$f":"DEC2BIN(W6_limit!AE122, 9)","v":"000000000"},{"$f":"DEC2BIN(W6_limit!AF122, 9)","v":"000000000"},{"$f":"DEC2BIN(W6_limit!AG122, 9)","v":"000000000"},{"$f":"DEC2BIN(W6_limit!AH122, 9)","v":"000000000"},{"$f":"DEC2BIN(W6_limit!AI122, 9)","v":"000000000"},{"$f":"DEC2BIN(W6_limit!AJ122, 9)","v":"000000000"},{"$f":"DEC2BIN(W6_limit!AK122, 9)","v":"000000000"},{"$f":"DEC2BIN(W6_limit!AL122, 9)","v":"000000000"},{"$f":"DEC2BIN(W6_limit!AM122, 9)","v":"000000000"},{"$f":"DEC2BIN(W6_limit!AN122, 9)","v":"000000000"},{"$f":"DEC2BIN(W6_limit!AO122, 9)","v":"000000000"},{"$f":"DEC2BIN(W6_limit!AP122, 9)","v":"000000000"},{"$f":"DEC2BIN(W6_limit!AQ122, 9)","v":"000000000"}]
[{"$f":"DEC2BIN(W6_limit!A123, 9)","v":"1111011111"},{"$f":"DEC2BIN(W6_limit!B123, 9)","v":"1111101000"},{"$f":"DEC2BIN(W6_limit!C123, 9)","v":"1111000111"},{"$f":"DEC2BIN(W6_limit!D123, 9)","v":"1110111000"},{"$f":"DEC2BIN(W6_limit!E123, 9)","v":"000001101"},{"$f":"DEC2BIN(W6_limit!F123, 9)","v":"000111001"},{"$f":"DEC2BIN(W6_limit!G123, 9)","v":"000101111"},{"$f":"DEC2BIN(W6_limit!H123, 9)","v":"000001111"},{"$f":"DEC2BIN(W6_limit!I123, 9)","v":"000011100"},{"$f":"DEC2BIN(W6_limit!J123, 9)","v":"1110110001"},{"$f":"DEC2BIN(W6_limit!K123, 9)","v":"000000000"},{"$f":"DEC2BIN(W6_limit!L123, 9)","v":"000000000"},{"$f":"DEC2BIN(W6_limit!M123, 9)","v":"000000000"},{"$f":"DEC2BIN(W6_limit!N123, 9)","v":"000000000"},{"$f":"DEC2BIN(W6_limit!O123, 9)","v":"000000000"},{"$f":"DEC2BIN(W6_limit!P123, 9)","v":"000000000"},{"$f":"DEC2BIN(W6_limit!Q123, 9)","v":"000000000"},{"$f":"DEC2BIN(W6_limit!R123, 9)","v":"000000000"},{"$f":"DEC2BIN(W6_limit!S123, 9)","v":"000000000"},{"$f":"DEC2BIN(W6_limit!T123, 9)","v":"000000000"},{"$f":"DEC2BIN(W6_limit!U123, 9)","v":"000000000"},{"$f":"DEC2BIN(W6_limit!V123, 9)","v":"000000000"},{"$f":"DEC2BIN(W6_limit!W123, 9)","v":"000000000"},{"$f":"DEC2BIN(W6_limit!X123, 9)","v":"000000000"},{"$f":"DEC2BIN(W6_limit!Y123, 9)","v":"000000000"},{"$f":"DEC2BIN(W6_limit!Z123, 9)","v":"000000000"},{"$f":"DEC2BIN(W6_limit!AA123, 9)","v":"000000000"},{"$f":"DEC2BIN(W6_limit!AB123, 9)","v":"000000000"},{"$f":"DEC2BIN(W6_limit!AC123, 9)","v":"000000000"},{"$f":"DEC2BIN(W6_limit!AD123, 9)","v":"000000000"},{"$f":"DEC2BIN(W6_limit!AE123, 9)","v":"000000000"},{"$f":"DEC2BIN(W6_limit!AF123, 9)","v":"000000000"},{"$f":"DEC2BIN(W6_limit!AG123, 9)","v":"000000000"},{"$f":"DEC2BIN(W6_limit!AH123, 9)","v":"000000000"},{"$f":"DEC2BIN(W6_limit!AI123, 9)","v":"000000000"},{"$f":"DEC2BIN(W6_limit!AJ123, 9)","v":"000000000"},{"$f":"DEC2BIN(W6_limit!AK123, 9)","v":"000000000"},{"$f":"DEC2BIN(W6_limit!AL123, 9)","v":"000000000"},{"$f":"DEC2BIN(W6_limit!AM123, 9)","v":"000000000"},{"$f":"DEC2BIN(W6_limit!AN123, 9)","v":"000000000"},{"$f":"DEC2BIN(W6_limit!AO123, 9)","v":"000000000"},{"$f":"DEC2BIN(W6_limit!AP123, 9)","v":"000000000"},{"$f":"DEC2BIN(W6_limit!AQ123, 9)","v":"000000000"}]
[{"$f":"DEC2BIN(W6_limit!A124, 9)","v":"000010011"},{"$f":"DEC2BIN(W6_limit!B124, 9)","v":"1111011100"},{"$f":"DEC2BIN(W6_limit!C124, 9)","v":"1110010001"},{"$f":"DEC2BIN(W6_limit!D124, 9)","v":"1110100111"},{"$f":"DEC2BIN(W6_limit!E124, 9)","v":"1111100100"},{"$f":"DEC2BIN(W6_limit!F124, 9)","v":"000100101"},{"$f":"DEC2BIN(W6_limit!G124, 9)","v":"1111110111"},{"$f":"DEC2BIN(W6_limit!H124, 9)","v":"000101000"},{"$f":"DEC2BIN(W6_limit!I124, 9)","v":"1110010010"},{"$f":"DEC2BIN(W6_limit!J124, 9)","v":"1111101001"},{"$f":"DEC2BIN(W6_limit!K124, 9)","v":"000000000"},{"$f":"DEC2BIN(W6_limit!L124, 9)","v":"000000000"},{"$f":"DEC2BIN(W6_limit!M124, 9)","v":"000000000"},{"$f":"DEC2BIN(W6_limit!N124, 9)","v":"000000000"},{"$f":"DEC2BIN(W6_limit!O124, 9)","v":"000000000"},{"$f":"DEC2BIN(W6_limit!P124, 9)","v":"000000000"},{"$f":"DEC2BIN(W6_limit!Q124, 9)","v":"000000000"},{"$f":"DEC2BIN(W6_limit!R124, 9)","v":"000000000"},{"$f":"DEC2BIN(W6_limit!S124, 9)","v":"000000000"},{"$f":"DEC2BIN(W6_limit!T124, 9)","v":"000000000"},{"$f":"DEC2BIN(W6_limit!U124, 9)","v":"000000000"},{"$f":"DEC2BIN(W6_limit!V124, 9)","v":"000000000"},{"$f":"DEC2BIN(W6_limit!W124, 9)","v":"000000000"},{"$f":"DEC2BIN(W6_limit!X124, 9)","v":"000000000"},{"$f":"DEC2BIN(W6_limit!Y124, 9)","v":"000000000"},{"$f":"DEC2BIN(W6_limit!Z124, 9)","v":"000000000"},{"$f":"DEC2BIN(W6_limit!AA124, 9)","v":"000000000"},{"$f":"DEC2BIN(W6_limit!AB124, 9)","v":"000000000"},{"$f":"DEC2BIN(W6_limit!AC124, 9)","v":"000000000"},{"$f":"DEC2BIN(W6_limit!AD124, 9)","v":"000000000"},{"$f":"DEC2BIN(W6_limit!AE124, 9)","v":"000000000"},{"$f":"DEC2BIN(W6_limit!AF124, 9)","v":"000000000"},{"$f":"DEC2BIN(W6_limit!AG124, 9)","v":"000000000"},{"$f":"DEC2BIN(W6_limit!AH124, 9)","v":"000000000"},{"$f":"DEC2BIN(W6_limit!AI124, 9)","v":"000000000"},{"$f":"DEC2BIN(W6_limit!AJ124, 9)","v":"000000000"},{"$f":"DEC2BIN(W6_limit!AK124, 9)","v":"000000000"},{"$f":"DEC2BIN(W6_limit!AL124, 9)","v":"000000000"},{"$f":"DEC2BIN(W6_limit!AM124, 9)","v":"000000000"},{"$f":"DEC2BIN(W6_limit!AN124, 9)","v":"000000000"},{"$f":"DEC2BIN(W6_limit!AO124, 9)","v":"000000000"},{"$f":"DEC2BIN(W6_limit!AP124, 9)","v":"000000000"},{"$f":"DEC2BIN(W6_limit!AQ124, 9)","v":"000000000"}]
[{"$f":"DEC2BIN(W6_limit!A125, 9)","v":"000100001"},{"$f":"DEC2BIN(W6_limit!B125, 9)","v":"1111010111"},{"$f":"DEC2BIN(W6_limit!C125, 9)","v":"1100000011"},{"$f":"DEC2BIN(W6_limit!D125, 9)","v":"1101101000"},{"$f":"DEC2BIN(W6_limit!E125, 9)","v":"1100110001"},{"$f":"DEC2BIN(W6_limit!F125, 9)","v":"1110111011"},{"$f":"DEC2BIN(W6_limit!G125, 9)","v":"1110100111"},{"$f":"DEC2BIN(W6_limit!H125, 9)","v":"1110100001"},{"$f":"DEC2BIN(W6_limit!I125, 9)","v":"000011011"},{"$f":"DEC2BIN(W6_limit!J125, 9)","v":"000100011"},{"$f":"DEC2BIN(W6_limit!K125, 9)","v":"000000000"},{"$f":"DEC2BIN(W6_limit!L125, 9)","v":"000000000"},{"$f":"DEC2BIN(W6_limit!M125, 9)","v":"000000000"},{"$f":"DEC2BIN(W6_limit!N125, 9)","v":"000000000"},{"$f":"DEC2BIN(W6_limit!O125, 9)","v":"000000000"},{"$f":"DEC2BIN(W6_limit!P125, 9)","v":"000000000"},{"$f":"DEC2BIN(W6_limit!Q125, 9)","v":"000000000"},{"$f":"DEC2BIN(W6_limit!R125, 9)","v":"000000000"},{"$f":"DEC2BIN(W6_limit!S125, 9)","v":"000000000"},{"$f":"DEC2BIN(W6_limit!T125, 9)","v":"000000000"},{"$f":"DEC2BIN(W6_limit!U125, 9)","v":"000000000"},{"$f":"DEC2BIN(W6_limit!V125, 9)","v":"000000000"},{"$f":"DEC2BIN(W6_limit!W125, 9)","v":"000000000"},{"$f":"DEC2BIN(W6_limit!X125, 9)","v":"000000000"},{"$f":"DEC2BIN(W6_limit!Y125, 9)","v":"000000000"},{"$f":"DEC2BIN(W6_limit!Z125, 9)","v":"000000000"},{"$f":"DEC2BIN(W6_limit!AA125, 9)","v":"000000000"},{"$f":"DEC2BIN(W6_limit!AB125, 9)","v":"000000000"},{"$f":"DEC2BIN(W6_limit!AC125, 9)","v":"000000000"},{"$f":"DEC2BIN(W6_limit!AD125, 9)","v":"000000000"},{"$f":"DEC2BIN(W6_limit!AE125, 9)","v":"000000000"},{"$f":"DEC2BIN(W6_limit!AF125, 9)","v":"000000000"},{"$f":"DEC2BIN(W6_limit!AG125, 9)","v":"000000000"},{"$f":"DEC2BIN(W6_limit!AH125, 9)","v":"000000000"},{"$f":"DEC2BIN(W6_limit!AI125, 9)","v":"000000000"},{"$f":"DEC2BIN(W6_limit!AJ125, 9)","v":"000000000"},{"$f":"DEC2BIN(W6_limit!AK125, 9)","v":"000000000"},{"$f":"DEC2BIN(W6_limit!AL125, 9)","v":"000000000"},{"$f":"DEC2BIN(W6_limit!AM125, 9)","v":"000000000"},{"$f":"DEC2BIN(W6_limit!AN125, 9)","v":"000000000"},{"$f":"DEC2BIN(W6_limit!AO125, 9)","v":"000000000"},{"$f":"DEC2BIN(W6_limit!AP125, 9)","v":"000000000"},{"$f":"DEC2BIN(W6_limit!AQ125, 9)","v":"000000000"}]
[{"$f":"DEC2BIN(W6_limit!A126, 9)","v":"1111101001"},{"$f":"DEC2BIN(W6_limit!B126, 9)","v":"000011011"},{"$f":"DEC2BIN(W6_limit!C126, 9)","v":"1111111001"},{"$f":"DEC2BIN(W6_limit!D126, 9)","v":"1111100000"},{"$f":"DEC2BIN(W6_limit!E126, 9)","v":"1111101001"},{"$f":"DEC2BIN(W6_limit!F126, 9)","v":"1110000111"},{"$f":"DEC2BIN(W6_limit!G126, 9)","v":"1100111000"},{"$f":"DEC2BIN(W6_limit!H126, 9)","v":"1110010011"},{"$f":"DEC2BIN(W6_limit!I126, 9)","v":"1110001110"},{"$f":"DEC2BIN(W6_limit!J126, 9)","v":"1111010011"},{"$f":"DEC2BIN(W6_limit!K126, 9)","v":"000000000"},{"$f":"DEC2BIN(W6_limit!L126, 9)","v":"000000000"},{"$f":"DEC2BIN(W6_limit!M126, 9)","v":"000000000"},{"$f":"DEC2BIN(W6_limit!N126, 9)","v":"000000000"},{"$f":"DEC2BIN(W6_limit!O126, 9)","v":"000000000"},{"$f":"DEC2BIN(W6_limit!P126, 9)","v":"000000000"},{"$f":"DEC2BIN(W6_limit!Q126, 9)","v":"000000000"},{"$f":"DEC2BIN(W6_limit!R126, 9)","v":"000000000"},{"$f":"DEC2BIN(W6_limit!S126, 9)","v":"000000000"},{"$f":"DEC2BIN(W6_limit!T126, 9)","v":"000000000"},{"$f":"DEC2BIN(W6_limit!U126, 9)","v":"000000000"},{"$f":"DEC2BIN(W6_limit!V126, 9)","v":"000000000"},{"$f":"DEC2BIN(W6_limit!W126, 9)","v":"000000000"},{"$f":"DEC2BIN(W6_limit!X126, 9)","v":"000000000"},{"$f":"DEC2BIN(W6_limit!Y126, 9)","v":"000000000"},{"$f":"DEC2BIN(W6_limit!Z126, 9)","v":"000000000"},{"$f":"DEC2BIN(W6_limit!AA126, 9)","v":"000000000"},{"$f":"DEC2BIN(W6_limit!AB126, 9)","v":"000000000"},{"$f":"DEC2BIN(W6_limit!AC126, 9)","v":"000000000"},{"$f":"DEC2BIN(W6_limit!AD126, 9)","v":"000000000"},{"$f":"DEC2BIN(W6_limit!AE126, 9)","v":"000000000"},{"$f":"DEC2BIN(W6_limit!AF126, 9)","v":"000000000"},{"$f":"DEC2BIN(W6_limit!AG126, 9)","v":"000000000"},{"$f":"DEC2BIN(W6_limit!AH126, 9)","v":"000000000"},{"$f":"DEC2BIN(W6_limit!AI126, 9)","v":"000000000"},{"$f":"DEC2BIN(W6_limit!AJ126, 9)","v":"000000000"},{"$f":"DEC2BIN(W6_limit!AK126, 9)","v":"000000000"},{"$f":"DEC2BIN(W6_limit!AL126, 9)","v":"000000000"},{"$f":"DEC2BIN(W6_limit!AM126, 9)","v":"000000000"},{"$f":"DEC2BIN(W6_limit!AN126, 9)","v":"000000000"},{"$f":"DEC2BIN(W6_limit!AO126, 9)","v":"000000000"},{"$f":"DEC2BIN(W6_limit!AP126, 9)","v":"000000000"},{"$f":"DEC2BIN(W6_limit!AQ126, 9)","v":"000000000"}]
[{"$f":"DEC2BIN(W6_limit!A127, 9)","v":"000010001"},{"$f":"DEC2BIN(W6_limit!B127, 9)","v":"1111010010"},{"$f":"DEC2BIN(W6_limit!C127, 9)","v":"1110011101"},{"$f":"DEC2BIN(W6_limit!D127, 9)","v":"1100111110"},{"$f":"DEC2BIN(W6_limit!E127, 9)","v":"000001010"},{"$f":"DEC2BIN(W6_limit!F127, 9)","v":"000011111"},{"$f":"DEC2BIN(W6_limit!G127, 9)","v":"000010011"},{"$f":"DEC2BIN(W6_limit!H127, 9)","v":"1101110000"},{"$f":"DEC2BIN(W6_limit!I127, 9)","v":"1110101110"},{"$f":"DEC2BIN(W6_limit!J127, 9)","v":"1110111101"},{"$f":"DEC2BIN(W6_limit!K127, 9)","v":"000000000"},{"$f":"DEC2BIN(W6_limit!L127, 9)","v":"000000000"},{"$f":"DEC2BIN(W6_limit!M127, 9)","v":"000000000"},{"$f":"DEC2BIN(W6_limit!N127, 9)","v":"000000000"},{"$f":"DEC2BIN(W6_limit!O127, 9)","v":"000000000"},{"$f":"DEC2BIN(W6_limit!P127, 9)","v":"000000000"},{"$f":"DEC2BIN(W6_limit!Q127, 9)","v":"000000000"},{"$f":"DEC2BIN(W6_limit!R127, 9)","v":"000000000"},{"$f":"DEC2BIN(W6_limit!S127, 9)","v":"000000000"},{"$f":"DEC2BIN(W6_limit!T127, 9)","v":"000000000"},{"$f":"DEC2BIN(W6_limit!U127, 9)","v":"000000000"},{"$f":"DEC2BIN(W6_limit!V127, 9)","v":"000000000"},{"$f":"DEC2BIN(W6_limit!W127, 9)","v":"000000000"},{"$f":"DEC2BIN(W6_limit!X127, 9)","v":"000000000"},{"$f":"DEC2BIN(W6_limit!Y127, 9)","v":"000000000"},{"$f":"DEC2BIN(W6_limit!Z127, 9)","v":"000000000"},{"$f":"DEC2BIN(W6_limit!AA127, 9)","v":"000000000"},{"$f":"DEC2BIN(W6_limit!AB127, 9)","v":"000000000"},{"$f":"DEC2BIN(W6_limit!AC127, 9)","v":"000000000"},{"$f":"DEC2BIN(W6_limit!AD127, 9)","v":"000000000"},{"$f":"DEC2BIN(W6_limit!AE127, 9)","v":"000000000"},{"$f":"DEC2BIN(W6_limit!AF127, 9)","v":"000000000"},{"$f":"DEC2BIN(W6_limit!AG127, 9)","v":"000000000"},{"$f":"DEC2BIN(W6_limit!AH127, 9)","v":"000000000"},{"$f":"DEC2BIN(W6_limit!AI127, 9)","v":"000000000"},{"$f":"DEC2BIN(W6_limit!AJ127, 9)","v":"000000000"},{"$f":"DEC2BIN(W6_limit!AK127, 9)","v":"000000000"},{"$f":"DEC2BIN(W6_limit!AL127, 9)","v":"000000000"},{"$f":"DEC2BIN(W6_limit!AM127, 9)","v":"000000000"},{"$f":"DEC2BIN(W6_limit!AN127, 9)","v":"000000000"},{"$f":"DEC2BIN(W6_limit!AO127, 9)","v":"000000000"},{"$f":"DEC2BIN(W6_limit!AP127, 9)","v":"000000000"},{"$f":"DEC2BIN(W6_limit!AQ127, 9)","v":"000000000"}]
[{"$f":"DEC2BIN(W6_limit!A128, 9)","v":"1111001010"},{"$f":"DEC2BIN(W6_limit!B128, 9)","v":"1111111111"},{"$f":"DEC2BIN(W6_limit!C128, 9)","v":"1100000000"},{"$f":"DEC2BIN(W6_limit!D128, 9)","v":"000100111"},{"$f":"DEC2BIN(W6_limit!E128, 9)","v":"000011000"},{"$f":"DEC2BIN(W6_limit!F128, 9)","v":"000010110"},{"$f":"DEC2BIN(W6_limit!G128, 9)","v":"1111111101"},{"$f":"DEC2BIN(W6_limit!H128, 9)","v":"1111010100"},{"$f":"DEC2BIN(W6_limit!I128, 9)","v":"1101101001"},{"$f":"DEC2BIN(W6_limit!J128, 9)","v":"000011010"},{"$f":"DEC2BIN(W6_limit!K128, 9)","v":"000000000"},{"$f":"DEC2BIN(W6_limit!L128, 9)","v":"000000000"},{"$f":"DEC2BIN(W6_limit!M128, 9)","v":"000000000"},{"$f":"DEC2BIN(W6_limit!N128, 9)","v":"000000000"},{"$f":"DEC2BIN(W6_limit!O128, 9)","v":"000000000"},{"$f":"DEC2BIN(W6_limit!P128, 9)","v":"000000000"},{"$f":"DEC2BIN(W6_limit!Q128, 9)","v":"000000000"},{"$f":"DEC2BIN(W6_limit!R128, 9)","v":"000000000"},{"$f":"DEC2BIN(W6_limit!S128, 9)","v":"000000000"},{"$f":"DEC2BIN(W6_limit!T128, 9)","v":"000000000"},{"$f":"DEC2BIN(W6_limit!U128, 9)","v":"000000000"},{"$f":"DEC2BIN(W6_limit!V128, 9)","v":"000000000"},{"$f":"DEC2BIN(W6_limit!W128, 9)","v":"000000000"},{"$f":"DEC2BIN(W6_limit!X128, 9)","v":"000000000"},{"$f":"DEC2BIN(W6_limit!Y128, 9)","v":"000000000"},{"$f":"DEC2BIN(W6_limit!Z128, 9)","v":"000000000"},{"$f":"DEC2BIN(W6_limit!AA128, 9)","v":"000000000"},{"$f":"DEC2BIN(W6_limit!AB128, 9)","v":"000000000"},{"$f":"DEC2BIN(W6_limit!AC128, 9)","v":"000000000"},{"$f":"DEC2BIN(W6_limit!AD128, 9)","v":"000000000"},{"$f":"DEC2BIN(W6_limit!AE128, 9)","v":"000000000"},{"$f":"DEC2BIN(W6_limit!AF128, 9)","v":"000000000"},{"$f":"DEC2BIN(W6_limit!AG128, 9)","v":"000000000"},{"$f":"DEC2BIN(W6_limit!AH128, 9)","v":"000000000"},{"$f":"DEC2BIN(W6_limit!AI128, 9)","v":"000000000"},{"$f":"DEC2BIN(W6_limit!AJ128, 9)","v":"000000000"},{"$f":"DEC2BIN(W6_limit!AK128, 9)","v":"000000000"},{"$f":"DEC2BIN(W6_limit!AL128, 9)","v":"000000000"},{"$f":"DEC2BIN(W6_limit!AM128, 9)","v":"000000000"},{"$f":"DEC2BIN(W6_limit!AN128, 9)","v":"000000000"},{"$f":"DEC2BIN(W6_limit!AO128, 9)","v":"000000000"},{"$f":"DEC2BIN(W6_limit!AP128, 9)","v":"000000000"},{"$f":"DEC2BIN(W6_limit!AQ128, 9)","v":"000000000"}]

{"sheet":"W6_limit","index":4,"n_rows":132,"n_cols":10,"rows_kept":132,"cut":false,"hidden":false,"merged":[]}
[{"$f":"IF('W6'!A1 < -256, -256, 'W6'!A1)","v":8},{"$f":"IF('W6'!B1 < -256, -256, 'W6'!B1)","v":0},{"$f":"IF('W6'!C1 < -256, -256, 'W6'!C1)","v":-236},{"$f":"IF('W6'!D1 < -256, -256, 'W6'!D1)","v":-220},{"$f":"IF('W6'!E1 < -256, -256, 'W6'!E1)","v":-236},{"$f":"IF('W6'!F1 < -256, -256, 'W6'!F1)","v":-31},{"$f":"IF('W6'!G1 < -256, -256, 'W6'!G1)","v":-80},{"$f":"IF('W6'!H1 < -256, -256, 'W6'!H1)","v":-20},{"$f":"IF('W6'!I1 < -256, -256, 'W6'!I1)","v":30},{"$f":"IF('W6'!J1 < -256, -256, 'W6'!J1)","v":-33}]
[{"$f":"IF('W6'!A2 < -256, -256, 'W6'!A2)","v":35},{"$f":"IF('W6'!B2 < -256, -256, 'W6'!B2)","v":-46},{"$f":"IF('W6'!C2 < -256, -256, 'W6'!C2)","v":-55},{"$f":"IF('W6'!D2 < -256, -256, 'W6'!D2)","v":-51},{"$f":"IF('W6'!E2 < -256, -256, 'W6'!E2)","v":-34},{"$f":"IF('W6'!F2 < -256, -256, 'W6'!F2)","v":-4},{"$f":"IF('W6'!G2 < -256, -256, 'W6'!G2)","v":0},{"$f":"IF('W6'!H2 < -256, -256, 'W6'!H2)","v":-36},{"$f":"IF('W6'!I2 < -256, -256, 'W6'!I2)","v":45},{"$f":"IF('W6'!J2 < -256, -256, 'W6'!J2)","v":-32}]
[{"$f":"IF('W6'!A3 < -256, -256, 'W6'!A3)","v":-43},{"$f":"IF('W6'!B3 < -256, -256, 'W6'!B3)","v":67},{"$f":"IF('W6'!C3 < -256, -256, 'W6'!C3)","v":53},{"$f":"IF('W6'!D3 < -256, -256, 'W6'!D3)","v":-52},{"$f":"IF('W6'!E3 < -256, -256, 'W6'!E3)","v":-54},{"$f":"IF('W6'!F3 < -256, -256, 'W6'!F3)","v":-256},{"$f":"IF('W6'!G3 < -256, -256, 'W6'!G3)","v":-214},{"$f":"IF('W6'!H3 < -256, -256, 'W6'!H3)","v":-106},{"$f":"IF('W6'!I3 < -256, -256, 'W6'!I3)","v":-175},{"$f":"IF('W6'!J3 < -256, -256, 'W6'!J3)","v":-43}]
[{"$f":"IF('W6'!A4 < -256, -256, 'W6'!A4)","v":-55},{"$f":"IF('W6'!B4 < -256, -256, 'W6'!B4)","v":5},{"$f":"IF('W6'!C4 < -256, -256, 'W6'!C4)","v":-224},{"$f":"IF('W6'!D4 < -256, -256, 'W6'!D4)","v":-118},{"$f":"IF('W6'!E4 < -256, -256, 'W6'!E4)","v":21},{"$f":"IF('W6'!F4 < -256, -256, 'W6'!F4)","v":3},{"$f":"IF('W6'!G4 < -256, -256, 'W6'!G4)","v":40},{"$f":"IF('W6'!H4 < -256, -256, 'W6'!H4)","v":-48},{"$f":"IF('W6'!I4 < -256, -256, 'W6'!I4)","v":-109},{"$f":"IF('W6'!J4 < -256, -256, 'W6'!J4)","v":18}]
[{"$f":"IF('W6'!A5 < -256, -256, 'W6'!A5)","v":-65},{"$f":"IF('W6'!B5 < -256, -256, 'W6'!B5)","v":36},{"$f":"IF('W6'!C5 < -256, -256, 'W6'!C5)","v":-123},{"$f":"IF('W6'!D5 < -256, -256, 'W6'!D5)","v":-42},{"$f":"IF('W6'!E5 < -256, -256, 'W6'!E5)","v":-9},{"$f":"IF('W6'!F5 < -256, -256, 'W6'!F5)","v":-24},{"$f":"IF('W6'!G5 < -256, -256, 'W6'!G5)","v":-212},{"$f":"IF('W6'!H5 < -256, -256, 'W6'!H5)","v":-201},{"$f":"IF('W6'!I5 < -256, -256, 'W6'!I5)","v":-256},{"$f":"IF('W6'!J5 < -256, -256, 'W6'!J5)","v":40}]
[{"$f":"IF('W6'!A6 < -256, -256, 'W6'!A6)","v":57},{"$f":"IF('W6'!B6 < -256, -256, 'W6'!B6)","v":-20},{"$f":"IF('W6'!C6 < -256, -256, 'W6'!C6)","v":-169},{"$f":"IF('W6'!D6 < -256, -256, 'W6'!D6)","v":61},{"$f":"IF('W6'!E6 < -256, -256, 'W6'!E6)","v":-87},{"$f":"IF('W6'!F6 < -256, -256, 'W6'!F6)","v":-118},{"$f":"IF('W6'!G6 < -256, -256, 'W6'!G6)","v":-136},{"$f":"IF('W6'!H6 < -256, -256, 'W6'!H6)","v":-47},{"$f":"IF('W6'!I6 < -256, -256, 'W6'!I6)","v":-121},{"$f":"IF('W6'!J6 < -256, -256, 'W6'!J6)","v":-32}]
[{"$f":"IF('W6'!A7 < -256, -256, 'W6'!A7)","v":37},{"$f":"IF('W6'!B7 < -256, -256, 'W6'!B7)","v":39},{"$f":"IF('W6'!C7 < -256, -256, 'W6'!C7)","v":34},{"$f":"IF('W6'!D7 < -256, -256, 'W6'!D7)","v":-36},{"$f":"IF('W6'!E7 < -256, -256, 'W6'!E7)","v":-185},{"$f":"IF('W6'!F7 < -256, -256, 'W6'!F7)","v":-128},{"$f":"IF('W6'!G7 < -256, -256, 'W6'!G7)","v":-136},{"$f":"IF('W6'!H7 < -256, -256, 'W6'!H7)","v":-146},{"$f":"IF('W6'!I7 < -256, -256, 'W6'!I7)","v":-222},{"$f":"IF('W6'!J7 < -256, -256, 'W6'!J7)","v":-19}]
[{"$f":"IF('W6'!A8 < -256, -256, 'W6'!A8)","v":-41},{"$f":"IF('W6'!B8 < -256, -256, 'W6'!B8)","v":9},{"$f":"IF('W6'!C8 < -256, -256, 'W6'!C8)","v":-46},{"$f":"IF('W6'!D8 < -256, -256, 'W6'!D8)","v":16},{"$f":"IF('W6'!E8 < -256, -256, 'W6'!E8)","v":4},{"$f":"IF('W6'!F8 < -256, -256, 'W6'!F8)","v":34},{"$f":"IF('W6'!G8 < -256, -256, 'W6'!G8)","v":39},{"$f":"IF('W6'!H8 < -256, -256, 'W6'!H8)","v":20},{"$f":"IF('W6'!I8 < -256, -256, 'W6'!I8)","v":30},{"$f":"IF('W6'!J8 < -256, -256, 'W6'!J8)","v":16}]
[{"$f":"IF('W6'!A9 < -256, -256, 'W6'!A9)","v":-40},{"$f":"IF('W6'!B9 < -256, -256, 'W6'!B9)","v":-25},{"$f":"IF('W6'!C9 < -256, -256, 'W6'!C9)","v":16},{"$f":"IF('W6'!D9 < -256, -256, 'W6'!D9)","v":0},{"$f":"IF('W6'!E9 < -256, -256, 'W6'!E9)","v":2},{"$f":"IF('W6'!F9 < -256, -256, 'W6'!F9)","v":-40},{"$f":"IF('W6'!G9 < -256, -256, 'W6'!G9)","v":-18},{"$f":"IF('W6'!H9 < -256, -256, 'W6'!H9)","v":36},{"$f":"IF('W6'!I9 < -256, -256, 'W6'!I9)","v":-39},{"$f":"IF('W6'!J9 < -256, -256, 'W6'!J9)","v":42}]
[{"$f":"IF('W6'!A10 < -256, -256, 'W6'!A10)","v":15},{"$f":"IF('W6'!B10 < -256, -256, 'W6'!B10)","v":-18},{"$f":"IF('W6'!C10 < -256, -256, 'W6'!C10)","v":-166},{"$f":"IF('W6'!D10 < -256, -256, 'W6'!D10)","v":-115},{"$f":"IF('W6'!E10 < -256, -256, 'W6'!E10)","v":24},{"$f":"IF('W6'!F10 < -256, -256, 'W6'!F10)","v":-67},{"$f":"IF('W6'!G10 < -256, -256, 'W6'!G10)","v":36},{"$f":"IF('W6'!H10 < -256, -256, 'W6'!H10)","v":30},{"$f":"IF('W6'!I10 < -256, -256, 'W6'!I10)","v":-23},{"$f":"IF('W6'!J10 < -256, -256, 'W6'!J10)","v":-77}]
[{"$f":"IF('W6'!A11 < -256, -256, 'W6'!A11)","v":12},{"$f":"IF('W6'!B11 < -256, -256, 'W6'!B11)","v":19},{"$f":"IF('W6'!C11 < -256, -256, 'W6'!C11)","v":5},{"$f":"IF('W6'!D11 < -256, -256, 'W6'!D11)","v":-68},{"$f":"IF('W6'!E11 < -256, -256, 'W6'!E11)","v":-206},{"$f":"IF('W6'!F11 < -256, -256, 'W6'!F11)","v":-153},{"$f":"IF('W6'!G11 < -256, -256, 'W6'!G11)","v":-54},{"$f":"IF('W6'!H11 < -256, -256, 'W6'!H11)","v":-96},{"$f":"IF('W6'!I11 < -256, -256, 'W6'!I11)","v":25},{"$f":"IF('W6'!J11 < -256, -256, 'W6'!J11)","v":-59}]
[{"$f":"IF('W6'!A12 < -256, -256, 'W6'!A12)","v":28},{"$f":"IF('W6'!B12 < -256, -256, 'W6'!B12)","v":15},{"$f":"IF('W6'!C12 < -256, -256, 'W6'!C12)","v":-238},{"$f":"IF('W6'!D12 < -256, -256, 'W6'!D12)","v":-256},{"$f":"IF('W6'!E12 < -256, -256, 'W6'!E12)","v":2},{"$f":"IF('W6'!F12 < -256, -256, 'W6'!F12)","v":-111},{"$f":"IF('W6'!G12 < -256, -256, 'W6'!G12)","v":-82},{"$f":"IF('W6'!H12 < -256, -256, 'W6'!H12)","v":33},{"$f":"IF('W6'!I12 < -256, -256, 'W6'!I12)","v":-99},{"$f":"IF('W6'!J12 < -256, -256, 'W6'!J12)","v":26}]
[{"$f":"IF('W6'!A13 < -256, -256, 'W6'!A13)","v":2},{"$f":"IF('W6'!B13 < -256, -256, 'W6'!B13)","v":5},{"$f":"IF('W6'!C13 < -256, -256, 'W6'!C13)","v":16},{"$f":"IF('W6'!D13 < -256, -256, 'W6'!D13)","v":-54},{"$f":"IF('W6'!E13 < -256, -256, 'W6'!E13)","v":-99},{"$f":"IF('W6'!F13 < -256, -256, 'W6'!F13)","v":-184},{"$f":"IF('W6'!G13 < -256, -256, 'W6'!G13)","v":-75},{"$f":"IF('W6'!H13 < -256, -256, 'W6'!H13)","v":39},{"$f":"IF('W6'!I13 < -256, -256, 'W6'!I13)","v":-212},{"$f":"IF('W6'!J13 < -256, -256, 'W6'!J13)","v":-70}]
[{"$f":"IF('W6'!A14 < -256, -256, 'W6'!A14)","v":8},{"$f":"IF('W6'!B14 < -256, -256, 'W6'!B14)","v":-49},{"$f":"IF('W6'!C14 < -256, -256, 'W6'!C14)","v":-214},{"$f":"IF('W6'!D14 < -256, -256, 'W6'!D14)","v":-149},{"$f":"IF('W6'!E14 < -256, -256, 'W6'!E14)","v":20},{"$f":"IF('W6'!F14 < -256, -256, 'W6'!F14)","v":24},{"$f":"IF('W6'!G14 < -256, -256, 'W6'!G14)","v":14},{"$f":"IF('W6'!H14 < -256, -256, 'W6'!H14)","v":19},{"$f":"IF('W6'!I14 < -256, -256, 'W6'!I14)","v":16},{"$f":"IF('W6'!J14 < -256, -256, 'W6'!J14)","v":-30}]
[{"$f":"IF('W6'!A15 < -256, -256, 'W6'!A15)","v":30},{"$f":"IF('W6'!B15 < -256, -256, 'W6'!B15)","v":-18},{"$f":"IF('W6'!C15 < -256, -256, 'W6'!C15)","v":-149},{"$f":"IF('W6'!D15 < -256, -256, 'W6'!D15)","v":20},{"$f":"IF('W6'!E15 < -256, -256, 'W6'!E15)","v":-49},{"$f":"IF('W6'!F15 < -256, -256, 'W6'!F15)","v":21},{"$f":"IF('W6'!G15 < -256, -256, 'W6'!G15)","v":-17},{"$f":"IF('W6'!H15 < -256, -256, 'W6'!H15)","v":-103},{"$f":"IF('W6'!I15 < -256, -256, 'W6'!I15)","v":53},{"$f":"IF('W6'!J15 < -256, -256, 'W6'!J15)","v":-31}]
[{"$f":"IF('W6'!A16 < -256, -256, 'W6'!A16)","v":24},{"$f":"IF('W6'!B16 < -256, -256, 'W6'!B16)","v":-44},{"$f":"IF('W6'!C16 < -256, -256, 'W6'!C16)","v":23},{"$f":"IF('W6'!D16 < -256, -256, 'W6'!D16)","v":47},{"$f":"IF('W6'!E16 < -256, -256, 'W6'!E16)","v":40},{"$f":"IF('W6'!F16 < -256, -256, 'W6'!F16)","v":-14},{"$f":"IF('W6'!G16 < -256, -256, 'W6'!G16)","v":-18},{"$f":"IF('W6'!H16 < -256, -256, 'W6'!H16)","v":13},{"$f":"IF('W6'!I16 < -256, -256, 'W6'!I16)","v":17},{"$f":"IF('W6'!J16 < -256, -256, 'W6'!J16)","v":-42}]
[{"$f":"IF('W6'!A17 < -256, -256, 'W6'!A17)","v":-51},{"$f":"IF('W6'!B17 < -256, -256, 'W6'!B17)","v":40},{"$f":"IF('W6'!C17 < -256, -256, 'W6'!C17)","v":25},{"$f":"IF('W6'!D17 < -256, -256, 'W6'!D17)","v":3},{"$f":"IF('W6'!E17 < -256, -256, 'W6'!E17)","v":-64},{"$f":"IF('W6'!F17 < -256, -256, 'W6'!F17)","v":45},{"$f":"IF('W6'!G17 < -256, -256, 'W6'!G17)","v":-214},{"$f":"IF('W6'!H17 < -256, -256, 'W6'!H17)","v":48},{"$f":"IF('W6'!I17 < -256, -256, 'W6'!I17)","v":-212},{"$f":"IF('W6'!J17 < -256, -256, 'W6'!J17)","v":-19}]
[{"$f":"IF('W6'!A18 < -256, -256, 'W6'!A18)","v":20},{"$f":"IF('W6'!B18 < -256, -256, 'W6'!B18)","v":28},{"$f":"IF('W6'!C18 < -256, -256, 'W6'!C18)","v":-71},{"$f":"IF('W6'!D18 < -256, -256, 'W6'!D18)","v":-67},{"$f":"IF('W6'!E18 < -256, -256, 'W6'!E18)","v":-134},{"$f":"IF('W6'!F18 < -256, -256, 'W6'!F18)","v":-18},{"$f":"IF('W6'!G18 < -256, -256, 'W6'!G18)","v":-157},{"$f":"IF('W6'!H18 < -256, -256, 'W6'!H18)","v":-111},{"$f":"IF('W6'!I18 < -256, -256, 'W6'!I18)","v":-12},{"$f":"IF('W6'!J18 < -256, -256, 'W6'!J18)","v":33}]
[{"$f":"IF('W6'!A19 < -256, -256, 'W6'!A19)","v":15},{"$f":"IF('W6'!B19 < -256, -256, 'W6'!B19)","v":-67},{"$f":"IF('W6'!C19 < -256, -256, 'W6'!C19)","v":-173},{"$f":"IF('W6'!D19 < -256, -256, 'W6'!D19)","v":-132},{"$f":"IF('W6'!E19 < -256, -256, 'W6'!E19)","v":-140},{"$f":"IF('W6'!F19 < -256, -256, 'W6'!F19)","v":-92},{"$f":"IF('W6'!G19 < -256, -256, 'W6'!G19)","v":20},{"$f":"IF('W6'!H19 < -256, -256, 'W6'!H19)","v":-75},{"$f":"IF('W6'!I19 < -256, -256, 'W6'!I19)","v":-115},{"$f":"IF('W6'!J19 < -256, -256, 'W6'!J19)","v":18}]
[{"$f":"IF('W6'!A20 < -256, -256, 'W6'!A20)","v":69},{"$f":"IF('W6'!B20 < -256, -256, 'W6'!B20)","v":-2},{"$f":"IF('W6'!C20 < -256, -256, 'W6'!C20)","v":-160},{"$f":"IF('W6'!D20 < -256, -256, 'W6'!D20)","v":-131},{"$f":"IF('W6'!E20 < -256, -256, 'W6'!E20)","v":-61},{"$f":"IF('W6'!F20 < -256, -256, 'W6'!F20)","v":-136},{"$f":"IF('W6'!G20 < -256, -256, 'W6'!G20)","v":-67},{"$f":"IF('W6'!H20 < -256, -256, 'W6'!H20)","v":-13},{"$f":"IF('W6'!I20 < -256, -256, 'W6'!I20)","v":-98},{"$f":"IF('W6'!J20 < -256, -256, 'W6'!J20)","v":-24}]
[{"$f":"IF('W6'!A21 < -256, -256, 'W6'!A21)","v":28},{"$f":"IF('W6'!B21 < -256, -256, 'W6'!B21)","v":-45},{"$f":"IF('W6'!C21 < -256, -256, 'W6'!C21)","v":-90},{"$f":"IF('W6'!D21 < -256, -256, 'W6'!D21)","v":21},{"$f":"IF('W6'!E21 < -256, -256, 'W6'!E21)","v":-51},{"$f":"IF('W6'!F21 < -256, -256, 'W6'!F21)","v":38},{"$f":"IF('W6'!G21 < -256, -256, 'W6'!G21)","v":-98},{"$f":"IF('W6'!H21 < -256, -256, 'W6'!H21)","v":-186},{"$f":"IF('W6'!I21 < -256, -256, 'W6'!I21)","v":-92},{"$f":"IF('W6'!J21 < -256, -256, 'W6'!J21)","v":-45}]
[{"$f":"IF('W6'!A22 < -256, -256, 'W6'!A22)","v":-1},{"$f":"IF('W6'!B22 < -256, -256, 'W6'!B22)","v":-6},{"$f":"IF('W6'!C22 < -256, -256, 'W6'!C22)","v":6},{"$f":"IF('W6'!D22 < -256, -256, 'W6'!D22)","v":-150},{"$f":"IF('W6'!E22 < -256, -256, 'W6'!E22)","v":-52},{"$f":"IF('W6'!F22 < -256, -256, 'W6'!F22)","v":-164},{"$f":"IF('W6'!G22 < -256, -256, 'W6'!G22)","v":-11},{"$f":"IF('W6'!H22 < -256, -256, 'W6'!H22)","v":-128},{"$f":"IF('W6'!I22 < -256, -256, 'W6'!I22)","v":-103},{"$f":"IF('W6'!J22 < -256, -256, 'W6'!J22)","v":-84}]
[{"$f":"IF('W6'!A23 < -256, -256, 'W6'!A23)","v":11},{"$f":"IF('W6'!B23 < -256, -256, 'W6'!B23)","v":-55},{"$f":"IF('W6'!C23 < -256, -256, 'W6'!C23)","v":-183},{"$f":"IF('W6'!D23 < -256, -256, 'W6'!D23)","v":-21},{"$f":"IF('W6'!E23 < -256, -256, 'W6'!E23)","v":-69},{"$f":"IF('W6'!F23 < -256, -256, 'W6'!F23)","v":-68},{"$f":"IF('W6'!G23 < -256, -256, 'W6'!G23)","v":35},{"$f":"IF('W6'!H23 < -256, -256, 'W6'!H23)","v":22},{"$f":"IF('W6'!I23 < -256, -256, 'W6'!I23)","v":-19},{"$f":"IF('W6'!J23 < -256, -256, 'W6'!J23)","v":-28}]
[{"$f":"IF('W6'!A24 < -256, -256, 'W6'!A24)","v":-47},{"$f":"IF('W6'!B24 < -256, -256, 'W6'!B24)","v":-106},{"$f":"IF('W6'!C24 < -256, -256, 'W6'!C24)","v":-176},{"$f":"IF('W6'!D24 < -256, -256, 'W6'!D24)","v":-18},{"$f":"IF('W6'!E24 < -256, -256, 'W6'!E24)","v":-199},{"$f":"IF('W6'!F24 < -256, -256, 'W6'!F24)","v":-24},{"$f":"IF('W6'!G24 < -256, -256, 'W6'!G24)","v":-208},{"$f":"IF('W6'!H24 < -256, -256, 'W6'!H24)","v":-153},{"$f":"IF('W6'!I24 < -256, -256, 'W6'!I24)","v":-131},{"$f":"IF('W6'!J24 < -256, -256, 'W6'!J24)","v":-20}]
[{"$f":"IF('W6'!A25 < -256, -256, 'W6'!A25)","v":8},{"$f":"IF('W6'!B25 < -256, -256, 'W6'!B25)","v":-16},{"$f":"IF('W6'!C25 < -256, -256, 'W6'!C25)","v":-143},{"$f":"IF('W6'!D25 < -256, -256, 'W6'!D25)","v":91},{"$f":"IF('W6'!E25 < -256, -256, 'W6'!E25)","v":-95},{"$f":"IF('W6'!F25 < -256, -256, 'W6'!F25)","v":-145},{"$f":"IF('W6'!G25 < -256, -256, 'W6'!G25)","v":-38},{"$f":"IF('W6'!H25 < -256, -256, 'W6'!H25)","v":-23},{"$f":"IF('W6'!I25 < -256, -256, 'W6'!I25)","v":-77},{"$f":"IF('W6'!J25 < -256, -256, 'W6'!J25)","v":-28}]
[{"$f":"IF('W6'!A26 < -256, -256, 'W6'!A26)","v":39},{"$f":"IF('W6'!B26 < -256, -256, 'W6'!B26)","v":-21},{"$f":"IF('W6'!C26 < -256, -256, 'W6'!C26)","v":-172},{"$f":"IF('W6'!D26 < -256, -256, 'W6'!D26)","v":-107},{"$f":"IF('W6'!E26 < -256, -256, 'W6'!E26)","v":-50},{"$f":"IF('W6'!F26 < -256, -256, 'W6'!F26)","v":-113},{"$f":"IF('W6'!G26 < -256, -256, 'W6'!G26)","v":-50},{"$f":"IF('W6'!H26 < -256, -256, 'W6'!H26)","v":-31},{"$f":"IF('W6'!I26 < -256, -256, 'W6'!I26)","v":47},{"$f":"IF('W6'!J26 < -256, -256, 'W6'!J26)","v":-17}]
[{"$f":"IF('W6'!A27 < -256, -256, 'W6'!A27)","v":18},{"$f":"IF('W6'!B27 < -256, -256, 'W6'!B27)","v":-35},{"$f":"IF('W6'!C27 < -256, -256, 'W6'!C27)","v":-198},{"$f":"IF('W6'!D27 < -256, -256, 'W6'!D27)","v":-203},{"$f":"IF('W6'!E27 < -256, -256, 'W6'!E27)","v":16},{"$f":"IF('W6'!F27 < -256, -256, 'W6'!F27)","v":40},{"$f":"IF('W6'!G27 < -256, -256, 'W6'!G27)","v":7},{"$f":"IF('W6'!H27 < -256, -256, 'W6'!H27)","v":-84},{"$f":"IF('W6'!I27 < -256, -256, 'W6'!I27)","v":45},{"$f":"IF('W6'!J27 < -256, -256, 'W6'!J27)","v":-32}]
[{"$f":"IF('W6'!A28 < -256, -256, 'W6'!A28)","v":-63},{"$f":"IF('W6'!B28 < -256, -256, 'W6'!B28)","v":55},{"$f":"IF('W6'!C28 < -256, -256, 'W6'!C28)","v":75},{"$f":"IF('W6'!D28 < -256, -256, 'W6'!D28)","v":-40},{"$f":"IF('W6'!E28 < -256, -256, 'W6'!E28)","v":8},{"$f":"IF('W6'!F28 < -256, -256, 'W6'!F28)","v":-193},{"$f":"IF('W6'!G28 < -256, -256, 'W6'!G28)","v":-58},{"$f":"IF('W6'!H28 < -256, -256, 'W6'!H28)","v":-113},{"$f":"IF('W6'!I28 < -256, -256, 'W6'!I28)","v":-178},{"$f":"IF('W6'!J28 < -256, -256, 'W6'!J28)","v":-76}]
[{"$f":"IF('W6'!A29 < -256, -256, 'W6'!A29)","v":23},{"$f":"IF('W6'!B29 < -256, -256, 'W6'!B29)","v":-9},{"$f":"IF('W6'!C29 < -256, -256, 'W6'!C29)","v":19},{"$f":"IF('W6'!D29 < -256, -256, 'W6'!D29)","v":-37},{"$f":"IF('W6'!E29 < -256, -256, 'W6'!E29)","v":-27},{"$f":"IF('W6'!F29 < -256, -256, 'W6'!F29)","v":39},{"$f":"IF('W6'!G29 < -256, -256, 'W6'!G29)","v":30},{"$f":"IF('W6'!H29 < -256, -256, 'W6'!H29)","v":-12},{"$f":"IF('W6'!I29 < -256, -256, 'W6'!I29)","v":3},{"$f":"IF('W6'!J29 < -256, -256, 'W6'!J29)","v":-27}]
[{"$f":"IF('W6'!A30 < -256, -256, 'W6'!A30)","v":-84},{"$f":"IF('W6'!B30 < -256, -256, 'W6'!B30)","v":-5},{"$f":"IF('W6'!C30 < -256, -256, 'W6'!C30)","v":23},{"$f":"IF('W6'!D30 < -256, -256, 'W6'!D30)","v":-76},{"$f":"IF('W6'!E30 < -256, -256, 'W6'!E30)","v":-12},{"$f":"IF('W6'!F30 < -256, -256, 'W6'!F30)","v":41},{"$f":"IF('W6'!G30 < -256, -256, 'W6'!G30)","v":-119},{"$f":"IF('W6'!H30 < -256, -256, 'W6'!H30)","v":-224},{"$f":"IF('W6'!I30 < -256, -256, 'W6'!I30)","v":25},{"$f":"IF('W6'!J30 < -256, -256, 'W6'!J30)","v":-167}]
[{"$f":"IF('W6'!A31 < -256, -256, 'W6'!A31)","v":-63},{"$f":"IF('W6'!B31 < -256, -256, 'W6'!B31)","v":50},{"$f":"IF('W6'!C31 < -256, -256, 'W6'!C31)","v":-159},{"$f":"IF('W6'!D31 < -256, -256, 'W6'!D31)","v":11},{"$f":"IF('W6'!E31 < -256, -256, 'W6'!E31)","v":-2},{"$f":"IF('W6'!F31 < -256, -256, 'W6'!F31)","v":-70},{"$f":"IF('W6'!G31 < -256, -256, 'W6'!G31)","v":-87},{"$f":"IF('W6'!H31 < -256, -256, 'W6'!H31)","v":-256},{"$f":"IF('W6'!I31 < -256, -256, 'W6'!I31)","v":0},{"$f":"IF('W6'!J31 < -256, -256, 'W6'!J31)","v":-42}]
[{"$f":"IF('W6'!A32 < -256, -256, 'W6'!A32)","v":0},{"$f":"IF('W6'!B32 < -256, -256, 'W6'!B32)","v":-30},{"$f":"IF('W6'!C32 < -256, -256, 'W6'!C32)","v":-256},{"$f":"IF('W6'!D32 < -256, -256, 'W6'!D32)","v":-173},{"$f":"IF('W6'!E32 < -256, -256, 'W6'!E32)","v":-32},{"$f":"IF('W6'!F32 < -256, -256, 'W6'!F32)","v":-120},{"$f":"IF('W6'!G32 < -256, -256, 'W6'!G32)","v":4},{"$f":"IF('W6'!H32 < -256, -256, 'W6'!H32)","v":18},{"$f":"IF('W6'!I32 < -256, -256, 'W6'!I32)","v":-66},{"$f":"IF('W6'!J32 < -256, -256, 'W6'!J32)","v":-73}]
[{"$f":"IF('W6'!A33 < -256, -256, 'W6'!A33)","v":12},{"$f":"IF('W6'!B33 < -256, -256, 'W6'!B33)","v":31},{"$f":"IF('W6'!C33 < -256, -256, 'W6'!C33)","v":27},{"$f":"IF('W6'!D33 < -256, -256, 'W6'!D33)","v":-40},{"$f":"IF('W6'!E33 < -256, -256, 'W6'!E33)","v":-151},{"$f":"IF('W6'!F33 < -256, -256, 'W6'!F33)","v":47},{"$f":"IF('W6'!G33 < -256, -256, 'W6'!G33)","v":-20},{"$f":"IF('W6'!H33 < -256, -256, 'W6'!H33)","v":18},{"$f":"IF('W6'!I33 < -256, -256, 'W6'!I33)","v":-76},{"$f":"IF('W6'!J33 < -256, -256, 'W6'!J33)","v":-62}]
[{"$f":"IF('W6'!A34 < -256, -256, 'W6'!A34)","v":-20},{"$f":"IF('W6'!B34 < -256, -256, 'W6'!B34)","v":7},{"$f":"IF('W6'!C34 < -256, -256, 'W6'!C34)","v":-222},{"$f":"IF('W6'!D34 < -256, -256, 'W6'!D34)","v":3},{"$f":"IF('W6'!E34 < -256, -256, 'W6'!E34)","v":24},{"$f":"IF('W6'!F34 < -256, -256, 'W6'!F34)","v":49},{"$f":"IF('W6'!G34 < -256, -256, 'W6'!G34)","v":-246},{"$f":"IF('W6'!H34 < -256, -256, 'W6'!H34)","v":-133},{"$f":"IF('W6'!I34 < -256, -256, 'W6'!I34)","v":-98},{"$f":"IF('W6'!J34 < -256, -256, 'W6'!J34)","v":33}]
[{"$f":"IF('W6'!A35 < -256, -256, 'W6'!A35)","v":16},{"$f":"IF('W6'!B35 < -256, -256, 'W6'!B35)","v":30},{"$f":"IF('W6'!C35 < -256, -256, 'W6'!C35)","v":31},{"$f":"IF('W6'!D35 < -256, -256, 'W6'!D35)","v":13},{"$f":"IF('W6'!E35 < -256, -256, 'W6'!E35)","v":0},{"$f":"IF('W6'!F35 < -256, -256, 'W6'!F35)","v":23},{"$f":"IF('W6'!G35 < -256, -256, 'W6'!G35)","v":-45},{"$f":"IF('W6'!H35 < -256, -256, 'W6'!H35)","v":36},{"$f":"IF('W6'!I35 < -256, -256, 'W6'!I35)","v":13},{"$f":"IF('W6'!J35 < -256, -256, 'W6'!J35)","v":-30}]
[{"$f":"IF('W6'!A36 < -256, -256, 'W6'!A36)","v":32},{"$f":"IF('W6'!B36 < -256, -256, 'W6'!B36)","v":31},{"$f":"IF('W6'!C36 < -256, -256, 'W6'!C36)","v":15},{"$f":"IF('W6'!D36 < -256, -256, 'W6'!D36)","v":-81},{"$f":"IF('W6'!E36 < -256, -256, 'W6'!E36)","v":-135},{"$f":"IF('W6'!F36 < -256, -256, 'W6'!F36)","v":33},{"$f":"IF('W6'!G36 < -256, -256, 'W6'!G36)","v":-184},{"$f":"IF('W6'!H36 < -256, -256, 'W6'!H36)","v":43},{"$f":"IF('W6'!I36 < -256, -256, 'W6'!I36)","v":-103},{"$f":"IF('W6'!J36 < -256, -256, 'W6'!J36)","v":-67}]
[{"$f":"IF('W6'!A37 < -256, -256, 'W6'!A37)","v":-58},{"$f":"IF('W6'!B37 < -256, -256, 'W6'!B37)","v":-70},{"$f":"IF('W6'!C37 < -256, -256, 'W6'!C37)","v":-185},{"$f":"IF('W6'!D37 < -256, -256, 'W6'!D37)","v":57},{"$f":"IF('W6'!E37 < -256, -256, 'W6'!E37)","v":-75},{"$f":"IF('W6'!F37 < -256, -256, 'W6'!F37)","v":-77},{"$f":"IF('W6'!G37 < -256, -256, 'W6'!G37)","v":29},{"$f":"IF('W6'!H37 < -256, -256, 'W6'!H37)","v":-97},{"$f":"IF('W6'!I37 < -256, -256, 'W6'!I37)","v":14},{"$f":"IF('W6'!J37 < -256, -256, 'W6'!J37)","v":43}]
[{"$f":"IF('W6'!A38 < -256, -256, 'W6'!A38)","v":35},{"$f":"IF('W6'!B38 < -256, -256, 'W6'!B38)","v":-7},{"$f":"IF('W6'!C38 < -256, -256, 'W6'!C38)","v":-166},{"$f":"IF('W6'!D38 < -256, -256, 'W6'!D38)","v":-178},{"$f":"IF('W6'!E38 < -256, -256, 'W6'!E38)","v":-165},{"$f":"IF('W6'!F38 < -256, -256, 'W6'!F38)","v":-77},{"$f":"IF('W6'!G38 < -256, -256, 'W6'!G38)","v":-89},{"$f":"IF('W6'!H38 < -256, -256, 'W6'!H38)","v":13},{"$f":"IF('W6'!I38 < -256, -256, 'W6'!I38)","v":34},{"$f":"IF('W6'!J38 < -256, -256, 'W6'!J38)","v":36}]
[{"$f":"IF('W6'!A39 < -256, -256, 'W6'!A39)","v":-47},{"$f":"IF('W6'!B39 < -256, -256, 'W6'!B39)","v":67},{"$f":"IF('W6'!C39 < -256, -256, 'W6'!C39)","v":17},{"$f":"IF('W6'!D39 < -256, -256, 'W6'!D39)","v":39},{"$f":"IF('W6'!E39 < -256, -256, 'W6'!E39)","v":-126},{"$f":"IF('W6'!F39 < -256, -256, 'W6'!F39)","v":-247},{"$f":"IF('W6'!G39 < -256, -256, 'W6'!G39)","v":-227},{"$f":"IF('W6'!H39 < -256, -256, 'W6'!H39)","v":-247},{"$f":"IF('W6'!I39 < -256, -256, 'W6'!I39)","v":-235},{"$f":"IF('W6'!J39 < -256, -256, 'W6'!J39)","v":4}]
[{"$f":"IF('W6'!A40 < -256, -256, 'W6'!A40)","v":-67},{"$f":"IF('W6'!B40 < -256, -256, 'W6'!B40)","v":-14},{"$f":"IF('W6'!C40 < -256, -256, 'W6'!C40)","v":-111},{"$f":"IF('W6'!D40 < -256, -256, 'W6'!D40)","v":-124},{"$f":"IF('W6'!E40 < -256, -256, 'W6'!E40)","v":15},{"$f":"IF('W6'!F40 < -256, -256, 'W6'!F40)","v":-46},{"$f":"IF('W6'!G40 < -256, -256, 'W6'!G40)","v":-82},{"$f":"IF('W6'!H40 < -256, -256, 'W6'!H40)","v":-15},{"$f":"IF('W6'!I40 < -256, -256, 'W6'!I40)","v":74},{"$f":"IF('W6'!J40 < -256, -256, 'W6'!J40)","v":-115}]
[{"$f":"IF('W6'!A41 < -256, -256, 'W6'!A41)","v":-23},{"$f":"IF('W6'!B41 < -256, -256, 'W6'!B41)","v":-26},{"$f":"IF('W6'!C41 < -256, -256, 'W6'!C41)","v":38},{"$f":"IF('W6'!D41 < -256, -256, 'W6'!D41)","v":-19},{"$f":"IF('W6'!E41 < -256, -256, 'W6'!E41)","v":-20},{"$f":"IF('W6'!F41 < -256, -256, 'W6'!F41)","v":-10},{"$f":"IF('W6'!G41 < -256, -256, 'W6'!G41)","v":-2},{"$f":"IF('W6'!H41 < -256, -256, 'W6'!H41)","v":-51},{"$f":"IF('W6'!I41 < -256, -256, 'W6'!I41)","v":5},{"$f":"IF('W6'!J41 < -256, -256, 'W6'!J41)","v":23}]
[{"$f":"IF('W6'!A42 < -256, -256, 'W6'!A42)","v":-23},{"$f":"IF('W6'!B42 < -256, -256, 'W6'!B42)","v":-6},{"$f":"IF('W6'!C42 < -256, -256, 'W6'!C42)","v":-39},{"$f":"IF('W6'!D42 < -256, -256, 'W6'!D42)","v":-46},{"$f":"IF('W6'!E42 < -256, -256, 'W6'!E42)","v":-40},{"$f":"IF('W6'!F42 < -256, -256, 'W6'!F42)","v":35},{"$f":"IF('W6'!G42 < -256, -256, 'W6'!G42)","v":27},{"$f":"IF('W6'!H42 < -256, -256, 'W6'!H42)","v":-7},{"$f":"IF('W6'!I42 < -256, -256, 'W6'!I42)","v":-17},{"$f":"IF('W6'!J42 < -256, -256, 'W6'!J42)","v":8}]
[{"$f":"IF('W6'!A43 < -256, -256, 'W6'!A43)","v":-35},{"$f":"IF('W6'!B43 < -256, -256, 'W6'!B43)","v":-29},{"$f":"IF('W6'!C43 < -256, -256, 'W6'!C43)","v":-59},{"$f":"IF('W6'!D43 < -256, -256, 'W6'!D43)","v":-175},{"$f":"IF('W6'!E43 < -256, -256, 'W6'!E43)","v":42},{"$f":"IF('W6'!F43 < -256, -256, 'W6'!F43)","v":26},{"$f":"IF('W6'!G43 < -256, -256, 'W6'!G43)","v":-16},{"$f":"IF('W6'!H43 < -256, -256, 'W6'!H43)","v":-88},{"$f":"IF('W6'!I43 < -256, -256, 'W6'!I43)","v":45},{"$f":"IF('W6'!J43 < -256, -256, 'W6'!J43)","v":-31}]
[{"$f":"IF('W6'!A44 < -256, -256, 'W6'!A44)","v":5},{"$f":"IF('W6'!B44 < -256, -256, 'W6'!B44)","v":-61},{"$f":"IF('W6'!C44 < -256, -256, 'W6'!C44)","v":-83},{"$f":"IF('W6'!D44 < -256, -256, 'W6'!D44)","v":-230},{"$f":"IF('W6'!E44 < -256, -256, 'W6'!E44)","v":-74},{"$f":"IF('W6'!F44 < -256, -256, 'W6'!F44)","v":-51},{"$f":"IF('W6'!G44 < -256, -256, 'W6'!G44)","v":28},{"$f":"IF('W6'!H44 < -256, -256, 'W6'!H44)","v":-68},{"$f":"IF('W6'!I44 < -256, -256, 'W6'!I44)","v":-64},{"$f":"IF('W6'!J44 < -256, -256, 'W6'!J44)","v":-53}]
[{"$f":"IF('W6'!A45 < -256, -256, 'W6'!A45)","v":-18},{"$f":"IF('W6'!B45 < -256, -256, 'W6'!B45)","v":61},{"$f":"IF('W6'!C45 < -256, -256, 'W6'!C45)","v":-54},{"$f":"IF('W6'!D45 < -256, -256, 'W6'!D45)","v":-1},{"$f":"IF('W6'!E45 < -256, -256, 'W6'!E45)","v":-57},{"$f":"IF('W6'!F45 < -256, -256, 'W6'!F45)","v":-193},{"$f":"IF('W6'!G45 < -256, -256, 'W6'!G45)","v":-193},{"$f":"IF('W6'!H45 < -256, -256, 'W6'!H45)","v":-189},{"$f":"IF('W6'!I45 < -256, -256, 'W6'!I45)","v":-253},{"$f":"IF('W6'!J45 < -256, -256, 'W6'!J45)","v":61}]
[{"$f":"IF('W6'!A46 < -256, -256, 'W6'!A46)","v":6},{"$f":"IF('W6'!B46 < -256, -256, 'W6'!B46)","v":-45},{"$f":"IF('W6'!C46 < -256, -256, 'W6'!C46)","v":29},{"$f":"IF('W6'!D46 < -256, -256, 'W6'!D46)","v":-57},{"$f":"IF('W6'!E46 < -256, -256, 'W6'!E46)","v":-28},{"$f":"IF('W6'!F46 < -256, -256, 'W6'!F46)","v":31},{"$f":"IF('W6'!G46 < -256, -256, 'W6'!G46)","v":22},{"$f":"IF('W6'!H46 < -256, -256, 'W6'!H46)","v":-21},{"$f":"IF('W6'!I46 < -256, -256, 'W6'!I46)","v":31},{"$f":"IF('W6'!J46 < -256, -256, 'W6'!J46)","v":-20}]
[{"$f":"IF('W6'!A47 < -256, -256, 'W6'!A47)","v":-62},{"$f":"IF('W6'!B47 < -256, -256, 'W6'!B47)","v":7},{"$f":"IF('W6'!C47 < -256, -256, 'W6'!C47)","v":-25},{"$f":"IF('W6'!D47 < -256, -256, 'W6'!D47)","v":8},{"$f":"IF('W6'!E47 < -256, -256, 'W6'!E47)","v":28},{"$f":"IF('W6'!F47 < -256, -256, 'W6'!F47)","v":-82},{"$f":"IF('W6'!G47 < -256, -256, 'W6'!G47)","v":-57},{"$f":"IF('W6'!H47 < -256, -256, 'W6'!H47)","v":37},{"$f":"IF('W6'!I47 < -256, -256, 'W6'!I47)","v":-79},{"$f":"IF('W6'!J47 < -256, -256, 'W6'!J47)","v":-158}]
[{"$f":"IF('W6'!A48 < -256, -256, 'W6'!A48)","v":-87},{"$f":"IF('W6'!B48 < -256, -256, 'W6'!B48)","v":33},{"$f":"IF('W6'!C48 < -256, -256, 'W6'!C48)","v":31},{"$f":"IF('W6'!D48 < -256, -256, 'W6'!D48)","v":-59},{"$f":"IF('W6'!E48 < -256, -256, 'W6'!E48)","v":20},{"$f":"IF('W6'!F48 < -256, -256, 'W6'!F48)","v":6},{"$f":"IF('W6'!G48 < -256, -256, 'W6'!G48)","v":-126},{"$f":"IF('W6'!H48 < -256, -256, 'W6'!H48)","v":-128},{"$f":"IF('W6'!I48 < -256, -256, 'W6'!I48)","v":-103},{"$f":"IF('W6'!J48 < -256, -256, 'W6'!J48)","v":-92}]
[{"$f":"IF('W6'!A49 < -256, -256, 'W6'!A49)","v":0},{"$f":"IF('W6'!B49 < -256, -256, 'W6'!B49)","v":-31},{"$f":"IF('W6'!C49 < -256, -256, 'W6'!C49)","v":-25},{"$f":"IF('W6'!D49 < -256, -256, 'W6'!D49)","v":8},{"$f":"IF('W6'!E49 < -256, -256, 'W6'!E49)","v":-39},{"$f":"IF('W6'!F49 < -256, -256, 'W6'!F49)","v":36},{"$f":"IF('W6'!G49 < -256, -256, 'W6'!G49)","v":-7},{"$f":"IF('W6'!H49 < -256, -256, 'W6'!H49)","v":11},{"$f":"IF('W6'!I49 < -256, -256, 'W6'!I49)","v":33},{"$f":"IF('W6'!J49 < -256, -256, 'W6'!J49)","v":-4}]
[{"$f":"IF('W6'!A50 < -256, -256, 'W6'!A50)","v":44},{"$f":"IF('W6'!B50 < -256, -256, 'W6'!B50)","v":38},{"$f":"IF('W6'!C50 < -256, -256, 'W6'!C50)","v":47},{"$f":"IF('W6'!D50 < -256, -256, 'W6'!D50)","v":-21},{"$f":"IF('W6'!E50 < -256, -256, 'W6'!E50)","v":-211},{"$f":"IF('W6'!F50 < -256, -256, 'W6'!F50)","v":-34},{"$f":"IF('W6'!G50 < -256, -256, 'W6'!G50)","v":-54},{"$f":"IF('W6'!H50 < -256, -256, 'W6'!H50)","v":-118},{"$f":"IF('W6'!I50 < -256, -256, 'W6'!I50)","v":-95},{"$f":"IF('W6'!J50 < -256, -256, 'W6'!J50)","v":-5}]
[{"$f":"IF('W6'!A51 < -256, -256, 'W6'!A51)","v":-18},{"$f":"IF('W6'!B51 < -256, -256, 'W6'!B51)","v":-14},{"$f":"IF('W6'!C51 < -256, -256, 'W6'!C51)","v":-53},{"$f":"IF('W6'!D51 < -256, -256, 'W6'!D51)","v":-21},{"$f":"IF('W6'!E51 < -256, -256, 'W6'!E51)","v":3},{"$f":"IF('W6'!F51 < -256, -256, 'W6'!F51)","v":-18},{"$f":"IF('W6'!G51 < -256, -256, 'W6'!G51)","v":6},{"$f":"IF('W6'!H51 < -256, -256, 'W6'!H51)","v":28},{"$f":"IF('W6'!I51 < -256, -256, 'W6'!I51)","v":-3},{"$f":"IF('W6'!J51 < -256, -256, 'W6'!J51)","v":-44}]
[{"$f":"IF('W6'!A52 < -256, -256, 'W6'!A52)","v":-13},{"$f":"IF('W6'!B52 < -256, -256, 'W6'!B52)","v":-28},{"$f":"IF('W6'!C52 < -256, -256, 'W6'!C52)","v":8},{"$f":"IF('W6'!D52 < -256, -256, 'W6'!D52)","v":-20},{"$f":"IF('W6'!E52 < -256, -256, 'W6'!E52)","v":-30},{"$f":"IF('W6'!F52 < -256, -256, 'W6'!F52)","v":49},{"$f":"IF('W6'!G52 < -256, -256, 'W6'!G52)","v":-51},{"$f":"IF('W6'!H52 < -256, -256, 'W6'!H52)","v":43},{"$f":"IF('W6'!I52 < -256, -256, 'W6'!I52)","v":-11},{"$f":"IF('W6'!J52 < -256, -256, 'W6'!J52)","v":26}]
[{"$f":"IF('W6'!A53 < -256, -256, 'W6'!A53)","v":7},{"$f":"IF('W6'!B53 < -256, -256, 'W6'!B53)","v":-82},{"$f":"IF('W6'!C53 < -256, -256, 'W6'!C53)","v":-159},{"$f":"IF('W6'!D53 < -256, -256, 'W6'!D53)","v":-141},{"$f":"IF('W6'!E53 < -256, -256, 'W6'!E53)","v":-89},{"$f":"IF('W6'!F53 < -256, -256, 'W6'!F53)","v":-88},{"$f":"IF('W6'!G53 < -256, -256, 'W6'!G53)","v":-87},{"$f":"IF('W6'!H53 < -256, -256, 'W6'!H53)","v":-110},{"$f":"IF('W6'!I53 < -256, -256, 'W6'!I53)","v":12},{"$f":"IF('W6'!J53 < -256, -256, 'W6'!J53)","v":6}]
[{"$f":"IF('W6'!A54 < -256, -256, 'W6'!A54)","v":-42},{"$f":"IF('W6'!B54 < -256, -256, 'W6'!B54)","v":46},{"$f":"IF('W6'!C54 < -256, -256, 'W6'!C54)","v":41},{"$f":"IF('W6'!D54 < -256, -256, 'W6'!D54)","v":-12},{"$f":"IF('W6'!E54 < -256, -256, 'W6'!E54)","v":7},{"$f":"IF('W6'!F54 < -256, -256, 'W6'!F54)","v":19},{"$f":"IF('W6'!G54 < -256, -256, 'W6'!G54)","v":13},{"$f":"IF('W6'!H54 < -256, -256, 'W6'!H54)","v":-39},{"$f":"IF('W6'!I54 < -256, -256, 'W6'!I54)","v":22},{"$f":"IF('W6'!J54 < -256, -256, 'W6'!J54)","v":2}]
[{"$f":"IF('W6'!A55 < -256, -256, 'W6'!A55)","v":-14},{"$f":"IF('W6'!B55 < -256, -256, 'W6'!B55)","v":-48},{"$f":"IF('W6'!C55 < -256, -256, 'W6'!C55)","v":-138},{"$f":"IF('W6'!D55 < -256, -256, 'W6'!D55)","v":-256},{"$f":"IF('W6'!E55 < -256, -256, 'W6'!E55)","v":-34},{"$f":"IF('W6'!F55 < -256, -256, 'W6'!F55)","v":9},{"$f":"IF('W6'!G55 < -256, -256, 'W6'!G55)","v":-95},{"$f":"IF('W6'!H55 < -256, -256, 'W6'!H55)","v":-6},{"$f":"IF('W6'!I55 < -256, -256, 'W6'!I55)","v":-60},{"$f":"IF('W6'!J55 < -256, -256, 'W6'!J55)","v":-69}]
[{"$f":"IF('W6'!A56 < -256, -256, 'W6'!A56)","v":13},{"$f":"IF('W6'!B56 < -256, -256, 'W6'!B56)","v":-74},{"$f":"IF('W6'!C56 < -256, -256, 'W6'!C56)","v":-178},{"$f":"IF('W6'!D56 < -256, -256, 'W6'!D56)","v":-201},{"$f":"IF('W6'!E56 < -256, -256, 'W6'!E56)","v":-202},{"$f":"IF('W6'!F56 < -256, -256, 'W6'!F56)","v":-42},{"$f":"IF('W6'!G56 < -256, -256, 'W6'!G56)","v":-58},{"$f":"IF('W6'!H56 < -256, -256, 'W6'!H56)","v":-165},{"$f":"IF('W6'!I56 < -256, -256, 'W6'!I56)","v":-43},{"$f":"IF('W6'!J56 < -256, -256, 'W6'!J56)","v":13}]
[{"$f":"IF('W6'!A57 < -256, -256, 'W6'!A57)","v":-11},{"$f":"IF('W6'!B57 < -256, -256, 'W6'!B57)","v":-61},{"$f":"IF('W6'!C57 < -256, -256, 'W6'!C57)","v":-31},{"$f":"IF('W6'!D57 < -256, -256, 'W6'!D57)","v":57},{"$f":"IF('W6'!E57 < -256, -256, 'W6'!E57)","v":-45},{"$f":"IF('W6'!F57 < -256, -256, 'W6'!F57)","v":65},{"$f":"IF('W6'!G57 < -256, -256, 'W6'!G57)","v":-53},{"$f":"IF('W6'!H57 < -256, -256, 'W6'!H57)","v":-18},{"$f":"IF('W6'!I57 < -256, -256, 'W6'!I57)","v":-60},{"$f":"IF('W6'!J57 < -256, -256, 'W6'!J57)","v":-38}]
[{"$f":"IF('W6'!A58 < -256, -256, 'W6'!A58)","v":-12},{"$f":"IF('W6'!B58 < -256, -256, 'W6'!B58)","v":-29},{"$f":"IF('W6'!C58 < -256, -256, 'W6'!C58)","v":-8},{"$f":"IF('W6'!D58 < -256, -256, 'W6'!D58)","v":51},{"$f":"IF('W6'!E58 < -256, -256, 'W6'!E58)","v":25},{"$f":"IF('W6'!F58 < -256, -256, 'W6'!F58)","v":-4},{"$f":"IF('W6'!G58 < -256, -256, 'W6'!G58)","v":-25},{"$f":"IF('W6'!H58 < -256, -256, 'W6'!H58)","v":51},{"$f":"IF('W6'!I58 < -256, -256, 'W6'!I58)","v":-4},{"$f":"IF('W6'!J58 < -256, -256, 'W6'!J58)","v":-19}]
[{"$f":"IF('W6'!A59 < -256, -256, 'W6'!A59)","v":16},{"$f":"IF('W6'!B59 < -256, -256, 'W6'!B59)","v":10},{"$f":"IF('W6'!C59 < -256, -256, 'W6'!C59)","v":20},{"$f":"IF('W6'!D59 < -256, -256, 'W6'!D59)","v":-99},{"$f":"IF('W6'!E59 < -256, -256, 'W6'!E59)","v":-154},{"$f":"IF('W6'!F59 < -256, -256, 'W6'!F59)","v":32},{"$f":"IF('W6'!G59 < -256, -256, 'W6'!G59)","v":48},{"$f":"IF('W6'!H59 < -256, -256, 'W6'!H59)","v":-94},{"$f":"IF('W6'!I59 < -256, -256, 'W6'!I59)","v":-92},{"$f":"IF('W6'!J59 < -256, -256, 'W6'!J59)","v":-66}]
[{"$f":"IF('W6'!A60 < -256, -256, 'W6'!A60)","v":-44},{"$f":"IF('W6'!B60 < -256, -256, 'W6'!B60)","v":8},{"$f":"IF('W6'!C60 < -256, -256, 'W6'!C60)","v":5},{"$f":"IF('W6'!D60 < -256, -256, 'W6'!D60)","v":-80},{"$f":"IF('W6'!E60 < -256, -256, 'W6'!E60)","v":0},{"$f":"IF('W6'!F60 < -256, -256, 'W6'!F60)","v":-106},{"$f":"IF('W6'!G60 < -256, -256, 'W6'!G60)","v":-61},{"$f":"IF('W6'!H60 < -256, -256, 'W6'!H60)","v":-54},{"$f":"IF('W6'!I60 < -256, -256, 'W6'!I60)","v":-122},{"$f":"IF('W6'!J60 < -256, -256, 'W6'!J60)","v":-42}]
[{"$f":"IF('W6'!A61 < -256, -256, 'W6'!A61)","v":17},{"$f":"IF('W6'!B61 < -256, -256, 'W6'!B61)","v":-40},{"$f":"IF('W6'!C61 < -256, -256, 'W6'!C61)","v":-221},{"$f":"IF('W6'!D61 < -256, -256, 'W6'!D61)","v":20},{"$f":"IF('W6'!E61 < -256, -256, 'W6'!E61)","v":-48},{"$f":"IF('W6'!F61 < -256, -256, 'W6'!F61)","v":-85},{"$f":"IF('W6'!G61 < -256, -256, 'W6'!G61)","v":53},{"$f":"IF('W6'!H61 < -256, -256, 'W6'!H61)","v":-58},{"$f":"IF('W6'!I61 < -256, -256, 'W6'!I61)","v":-30},{"$f":"IF('W6'!J61 < -256, -256, 'W6'!J61)","v":-67}]
[{"$f":"IF('W6'!A62 < -256, -256, 'W6'!A62)","v":22},{"$f":"IF('W6'!B62 < -256, -256, 'W6'!B62)","v":-65},{"$f":"IF('W6'!C62 < -256, -256, 'W6'!C62)","v":-229},{"$f":"IF('W6'!D62 < -256, -256, 'W6'!D62)","v":-174},{"$f":"IF('W6'!E62 < -256, -256, 'W6'!E62)","v":-155},{"$f":"IF('W6'!F62 < -256, -256, 'W6'!F62)","v":6},{"$f":"IF('W6'!G62 < -256, -256, 'W6'!G62)","v":-69},{"$f":"IF('W6'!H62 < -256, -256, 'W6'!H62)","v":-105},{"$f":"IF('W6'!I62 < -256, -256, 'W6'!I62)","v":-180},{"$f":"IF('W6'!J62 < -256, -256, 'W6'!J62)","v":28}]
[{"$f":"IF('W6'!A63 < -256, -256, 'W6'!A63)","v":-65},{"$f":"IF('W6'!B63 < -256, -256, 'W6'!B63)","v":55},{"$f":"IF('W6'!C63 < -256, -256, 'W6'!C63)","v":46},{"$f":"IF('W6'!D63 < -256, -256, 'W6'!D63)","v":-39},{"$f":"IF('W6'!E63 < -256, -256, 'W6'!E63)","v":-67},{"$f":"IF('W6'!F63 < -256, -256, 'W6'!F63)","v":-256},{"$f":"IF('W6'!G63 < -256, -256, 'W6'!G63)","v":-70},{"$f":"IF('W6'!H63 < -256, -256, 'W6'!H63)","v":20},{"$f":"IF('W6'!I63 < -256, -256, 'W6'!I63)","v":-103},{"$f":"IF('W6'!J63 < -256, -256, 'W6'!J63)","v":-71}]
[{"$f":"IF('W6'!A64 < -256, -256, 'W6'!A64)","v":11},{"$f":"IF('W6'!B64 < -256, -256, 'W6'!B64)","v":-9},{"$f":"IF('W6'!C64 < -256, -256, 'W6'!C64)","v":-241},{"$f":"IF('W6'!D64 < -256, -256, 'W6'!D64)","v":-256},{"$f":"IF('W6'!E64 < -256, -256, 'W6'!E64)","v":-256},{"$f":"IF('W6'!F64 < -256, -256, 'W6'!F64)","v":-165},{"$f":"IF('W6'!G64 < -256, -256, 'W6'!G64)","v":-99},{"$f":"IF('W6'!H64 < -256, -256, 'W6'!H64)","v":-135},{"$f":"IF('W6'!I64 < -256, -256, 'W6'!I64)","v":-5},{"$f":"IF('W6'!J64 < -256, -256, 'W6'!J64)","v":18}]
[{"$f":"IF('W6'!A65 < -256, -256, 'W6'!A65)","v":-33},{"$f":"IF('W6'!B65 < -256, -256, 'W6'!B65)","v":-12},{"$f":"IF('W6'!C65 < -256, -256, 'W6'!C65)","v":-89},{"$f":"IF('W6'!D65 < -256, -256, 'W6'!D65)","v":34},{"$f":"IF('W6'!E65 < -256, -256, 'W6'!E65)","v":-1},{"$f":"IF('W6'!F65 < -256, -256, 'W6'!F65)","v":-128},{"$f":"IF('W6'!G65 < -256, -256, 'W6'!G65)","v":51},{"$f":"IF('W6'!H65 < -256, -256, 'W6'!H65)","v":-75},{"$f":"IF('W6'!I65 < -256, -256, 'W6'!I65)","v":-31},{"$f":"IF('W6'!J65 < -256, -256, 'W6'!J65)","v":-69}]
[{"$f":"IF('W6'!A66 < -256, -256, 'W6'!A66)","v":-86},{"$f":"IF('W6'!B66 < -256, -256, 'W6'!B66)","v":65},{"$f":"IF('W6'!C66 < -256, -256, 'W6'!C66)","v":78},{"$f":"IF('W6'!D66 < -256, -256, 'W6'!D66)","v":-30},{"$f":"IF('W6'!E66 < -256, -256, 'W6'!E66)","v":45},{"$f":"IF('W6'!F66 < -256, -256, 'W6'!F66)","v":-95},{"$f":"IF('W6'!G66 < -256, -256, 'W6'!G66)","v":-97},{"$f":"IF('W6'!H66 < -256, -256, 'W6'!H66)","v":-51},{"$f":"IF('W6'!I66 < -256, -256, 'W6'!I66)","v":-182},{"$f":"IF('W6'!J66 < -256, -256, 'W6'!J66)","v":-22}]
[{"$f":"IF('W6'!A67 < -256, -256, 'W6'!A67)","v":51},{"$f":"IF('W6'!B67 < -256, -256, 'W6'!B67)","v":-37},{"$f":"IF('W6'!C67 < -256, -256, 'W6'!C67)","v":-99},{"$f":"IF('W6'!D67 < -256, -256, 'W6'!D67)","v":-78},{"$f":"IF('W6'!E67 < -256, -256, 'W6'!E67)","v":-161},{"$f":"IF('W6'!F67 < -256, -256, 'W6'!F67)","v":-100},{"$f":"IF('W6'!G67 < -256, -256, 'W6'!G67)","v":-26},{"$f":"IF('W6'!H67 < -256, -256, 'W6'!H67)","v":-73},{"$f":"IF('W6'!I67 < -256, -256, 'W6'!I67)","v":-98},{"$f":"IF('W6'!J67 < -256, -256, 'W6'!J67)","v":45}]
[{"$f":"IF('W6'!A68 < -256, -256, 'W6'!A68)","v":3},{"$f":"IF('W6'!B68 < -256, -256, 'W6'!B68)","v":48},{"$f":"IF('W6'!C68 < -256, -256, 'W6'!C68)","v":44},{"$f":"IF('W6'!D68 < -256, -256, 'W6'!D68)","v":5},{"$f":"IF('W6'!E68 < -256, -256, 'W6'!E68)","v":2},{"$f":"IF('W6'!F68 < -256, -256, 'W6'!F68)","v":-1},{"$f":"IF('W6'!G68 < -256, -256, 'W6'!G68)","v":49},{"$f":"IF('W6'!H68 < -256, -256, 'W6'!H68)","v":47},{"$f":"IF('W6'!I68 < -256, -256, 'W6'!I68)","v":-25},{"$f":"IF('W6'!J68 < -256, -256, 'W6'!J68)","v":-51}]
[{"$f":"IF('W6'!A69 < -256, -256, 'W6'!A69)","v":32},{"$f":"IF('W6'!B69 < -256, -256, 'W6'!B69)","v":-31},{"$f":"IF('W6'!C69 < -256, -256, 'W6'!C69)","v":35},{"$f":"IF('W6'!D69 < -256, -256, 'W6'!D69)","v":-13},{"$f":"IF('W6'!E69 < -256, -256, 'W6'!E69)","v":-11},{"$f":"IF('W6'!F69 < -256, -256, 'W6'!F69)","v":50},{"$f":"IF('W6'!G69 < -256, -256, 'W6'!G69)","v":-19},{"$f":"IF('W6'!H69 < -256, -256, 'W6'!H69)","v":-48},{"$f":"IF('W6'!I69 < -256, -256, 'W6'!I69)","v":15},{"$f":"IF('W6'!J69 < -256, -256, 'W6'!J69)","v":42}]
[{"$f":"IF('W6'!A70 < -256, -256, 'W6'!A70)","v":-13},{"$f":"IF('W6'!B70 < -256, -256, 'W6'!B70)","v":-23},{"$f":"IF('W6'!C70 < -256, -256, 'W6'!C70)","v":-195},{"$f":"IF('W6'!D70 < -256, -256, 'W6'!D70)","v":61},{"$f":"IF('W6'!E70 < -256, -256, 'W6'!E70)","v":-90},{"$f":"IF('W6'!F70 < -256, -256, 'W6'!F70)","v":-181},{"$f":"IF('W6'!G70 < -256, -256, 'W6'!G70)","v":-116},{"$f":"IF('W6'!H70 < -256, -256, 'W6'!H70)","v":-111},{"$f":"IF('W6'!I70 < -256, -256, 'W6'!I70)","v":-128},{"$f":"IF('W6'!J70 < -256, -256, 'W6'!J70)","v":49}]
[{"$f":"IF('W6'!A71 < -256, -256, 'W6'!A71)","v":39},{"$f":"IF('W6'!B71 < -256, -256, 'W6'!B71)","v":43},{"$f":"IF('W6'!C71 < -256, -256, 'W6'!C71)","v":31},{"$f":"IF('W6'!D71 < -256, -256, 'W6'!D71)","v":-50},{"$f":"IF('W6'!E71 < -256, -256, 'W6'!E71)","v":-167},{"$f":"IF('W6'!F71 < -256, -256, 'W6'!F71)","v":36},{"$f":"IF('W6'!G71 < -256, -256, 'W6'!G71)","v":-77},{"$f":"IF('W6'!H71 < -256, -256, 'W6'!H71)","v":-146},{"$f":"IF('W6'!I71 < -256, -256, 'W6'!I71)","v":-2},{"$f":"IF('W6'!J71 < -256, -256, 'W6'!J71)","v":-38}]
[{"$f":"IF('W6'!A72 < -256, -256, 'W6'!A72)","v":-38},{"$f":"IF('W6'!B72 < -256, -256, 'W6'!B72)","v":-22},{"$f":"IF('W6'!C72 < -256, -256, 'W6'!C72)","v":-50},{"$f":"IF('W6'!D72 < -256, -256, 'W6'!D72)","v":44},{"$f":"IF('W6'!E72 < -256, -256, 'W6'!E72)","v":15},{"$f":"IF('W6'!F72 < -256, -256, 'W6'!F72)","v":-50},{"$f":"IF('W6'!G72 < -256, -256, 'W6'!G72)","v":47},{"$f":"IF('W6'!H72 < -256, -256, 'W6'!H72)","v":-66},{"$f":"IF('W6'!I72 < -256, -256, 'W6'!I72)","v":-75},{"$f":"IF('W6'!J72 < -256, -256, 'W6'!J72)","v":-71}]
[{"$f":"IF('W6'!A73 < -256, -256, 'W6'!A73)","v":-27},{"$f":"IF('W6'!B73 < -256, -256, 'W6'!B73)","v":2},{"$f":"IF('W6'!C73 < -256, -256, 'W6'!C73)","v":-154},{"$f":"IF('W6'!D73 < -256, -256, 'W6'!D73)","v":-113},{"$f":"IF('W6'!E73 < -256, -256, 'W6'!E73)","v":24},{"$f":"IF('W6'!F73 < -256, -256, 'W6'!F73)","v":-14},{"$f":"IF('W6'!G73 < -256, -256, 'W6'!G73)","v":-54},{"$f":"IF('W6'!H73 < -256, -256, 'W6'!H73)","v":-89},{"$f":"IF('W6'!I73 < -256, -256, 'W6'!I73)","v":-122},{"$f":"IF('W6'!J73 < -256, -256, 'W6'!J73)","v":-48}]
[{"$f":"IF('W6'!A74 < -256, -256, 'W6'!A74)","v":-46},{"$f":"IF('W6'!B74 < -256, -256, 'W6'!B74)","v":-35},{"$f":"IF('W6'!C74 < -256, -256, 'W6'!C74)","v":-26},{"$f":"IF('W6'!D74 < -256, -256, 'W6'!D74)","v":28},{"$f":"IF('W6'!E74 < -256, -256, 'W6'!E74)","v":10},{"$f":"IF('W6'!F74 < -256, -256, 'W6'!F74)","v":31},{"$f":"IF('W6'!G74 < -256, -256, 'W6'!G74)","v":25},{"$f":"IF('W6'!H74 < -256, -256, 'W6'!H74)","v":44},{"$f":"IF('W6'!I74 < -256, -256, 'W6'!I74)","v":0},{"$f":"IF('W6'!J74 < -256, -256, 'W6'!J74)","v":-44}]
[{"$f":"IF('W6'!A75 < -256, -256, 'W6'!A75)","v":34},{"$f":"IF('W6'!B75 < -256, -256, 'W6'!B75)","v":-30},{"$f":"IF('W6'!C75 < -256, -256, 'W6'!C75)","v":-199},{"$f":"IF('W6'!D75 < -256, -256, 'W6'!D75)","v":-221},{"$f":"IF('W6'!E75 < -256, -256, 'W6'!E75)","v":-186},{"$f":"IF('W6'!F75 < -256, -256, 'W6'!F75)","v":-105},{"$f":"IF('W6'!G75 < -256, -256, 'W6'!G75)","v":-75},{"$f":"IF('W6'!H75 < -256, -256, 'W6'!H75)","v":-85},{"$f":"IF('W6'!I75 < -256, -256, 'W6'!I75)","v":-88},{"$f":"IF('W6'!J75 < -256, -256, 'W6'!J75)","v":35}]
[{"$f":"IF('W6'!A76 < -256, -256, 'W6'!A76)","v":-48},{"$f":"IF('W6'!B76 < -256, -256, 'W6'!B76)","v":-49},{"$f":"IF('W6'!C76 < -256, -256, 'W6'!C76)","v":-62},{"$f":"IF('W6'!D76 < -256, -256, 'W6'!D76)","v":-22},{"$f":"IF('W6'!E76 < -256, -256, 'W6'!E76)","v":-6},{"$f":"IF('W6'!F76 < -256, -256, 'W6'!F76)","v":-63},{"$f":"IF('W6'!G76 < -256, -256, 'W6'!G76)","v":-47},{"$f":"IF('W6'!H76 < -256, -256, 'W6'!H76)","v":26},{"$f":"IF('W6'!I76 < -256, -256, 'W6'!I76)","v":36},{"$f":"IF('W6'!J76 < -256, -256, 'W6'!J76)","v":2}]
[{"$f":"IF('W6'!A77 < -256, -256, 'W6'!A77)","v":-95},{"$f":"IF('W6'!B77 < -256, -256, 'W6'!B77)","v":6},{"$f":"IF('W6'!C77 < -256, -256, 'W6'!C77)","v":-137},{"$f":"IF('W6'!D77 < -256, -256, 'W6'!D77)","v":22},{"$f":"IF('W6'!E77 < -256, -256, 'W6'!E77)","v":-10},{"$f":"IF('W6'!F77 < -256, -256, 'W6'!F77)","v":-94},{"$f":"IF('W6'!G77 < -256, -256, 'W6'!G77)","v":-100},{"$f":"IF('W6'!H77 < -256, -256, 'W6'!H77)","v":-256},{"$f":"IF('W6'!I77 < -256, -256, 'W6'!I77)","v":-168},{"$f":"IF('W6'!J77 < -256, -256, 'W6'!J77)","v":-66}]
[{"$f":"IF('W6'!A78 < -256, -256, 'W6'!A78)","v":-61},{"$f":"IF('W6'!B78 < -256, -256, 'W6'!B78)","v":-5},{"$f":"IF('W6'!C78 < -256, -256, 'W6'!C78)","v":-61},{"$f":"IF('W6'!D78 < -256, -256, 'W6'!D78)","v":-117},{"$f":"IF('W6'!E78 < -256, -256, 'W6'!E78)","v":32},{"$f":"IF('W6'!F78 < -256, -256, 'W6'!F78)","v":-73},{"$f":"IF('W6'!G78 < -256, -256, 'W6'!G78)","v":18},{"$f":"IF('W6'!H78 < -256, -256, 'W6'!H78)","v":3},{"$f":"IF('W6'!I78 < -256, -256, 'W6'!I78)","v":9},{"$f":"IF('W6'!J78 < -256, -256, 'W6'!J78)","v":-92}]
[{"$f":"IF('W6'!A79 < -256, -256, 'W6'!A79)","v":-10},{"$f":"IF('W6'!B79 < -256, -256, 'W6'!B79)","v":46},{"$f":"IF('W6'!C79 < -256, -256, 'W6'!C79)","v":0},{"$f":"IF('W6'!D79 < -256, -256, 'W6'!D79)","v":-16},{"$f":"IF('W6'!E79 < -256, -256, 'W6'!E79)","v":-137},{"$f":"IF('W6'!F79 < -256, -256, 'W6'!F79)","v":-256},{"$f":"IF('W6'!G79 < -256, -256, 'W6'!G79)","v":-186},{"$f":"IF('W6'!H79 < -256, -256, 'W6'!H79)","v":-256},{"$f":"IF('W6'!I79 < -256, -256, 'W6'!I79)","v":40},{"$f":"IF('W6'!J79 < -256, -256, 'W6'!J79)","v":36}]
[{"$f":"IF('W6'!A80 < -256, -256, 'W6'!A80)","v":-16},{"$f":"IF('W6'!B80 < -256, -256, 'W6'!B80)","v":7},{"$f":"IF('W6'!C80 < -256, -256, 'W6'!C80)","v":-28},{"$f":"IF('W6'!D80 < -256, -256, 'W6'!D80)","v":-44},{"$f":"IF('W6'!E80 < -256, -256, 'W6'!E80)","v":-37},{"$f":"IF('W6'!F80 < -256, -256, 'W6'!F80)","v":9},{"$f":"IF('W6'!G80 < -256, -256, 'W6'!G80)","v":-43},{"$f":"IF('W6'!H80 < -256, -256, 'W6'!H80)","v":5},{"$f":"IF('W6'!I80 < -256, -256, 'W6'!I80)","v":23},{"$f":"IF('W6'!J80 < -256, -256, 'W6'!J80)","v":15}]
[{"$f":"IF('W6'!A81 < -256, -256, 'W6'!A81)","v":-6},{"$f":"IF('W6'!B81 < -256, -256, 'W6'!B81)","v":-9},{"$f":"IF('W6'!C81 < -256, -256, 'W6'!C81)","v":-154},{"$f":"IF('W6'!D81 < -256, -256, 'W6'!D81)","v":-181},{"$f":"IF('W6'!E81 < -256, -256, 'W6'!E81)","v":19},{"$f":"IF('W6'!F81 < -256, -256, 'W6'!F81)","v":13},{"$f":"IF('W6'!G81 < -256, -256, 'W6'!G81)","v":-63},{"$f":"IF('W6'!H81 < -256, -256, 'W6'!H81)","v":30},{"$f":"IF('W6'!I81 < -256, -256, 'W6'!I81)","v":22},{"$f":"IF('W6'!J81 < -256, -256, 'W6'!J81)","v":-57}]
[{"$f":"IF('W6'!A82 < -256, -256, 'W6'!A82)","v":3},{"$f":"IF('W6'!B82 < -256, -256, 'W6'!B82)","v":13},{"$f":"IF('W6'!C82 < -256, -256, 'W6'!C82)","v":-41},{"$f":"IF('W6'!D82 < -256, -256, 'W6'!D82)","v":48},{"$f":"IF('W6'!E82 < -256, -256, 'W6'!E82)","v":41},{"$f":"IF('W6'!F82 < -256, -256, 'W6'!F82)","v":-39},{"$f":"IF('W6'!G82 < -256, -256, 'W6'!G82)","v":-17},{"$f":"IF('W6'!H82 < -256, -256, 'W6'!H82)","v":49},{"$f":"IF('W6'!I82 < -256, -256, 'W6'!I82)","v":38},{"$f":"IF('W6'!J82 < -256, -256, 'W6'!J82)","v":28}]
[{"$f":"IF('W6'!A83 < -256, -256, 'W6'!A83)","v":41},{"$f":"IF('W6'!B83 < -256, -256, 'W6'!B83)","v":-17},{"$f":"IF('W6'!C83 < -256, -256, 'W6'!C83)","v":-135},{"$f":"IF('W6'!D83 < -256, -256, 'W6'!D83)","v":-94},{"$f":"IF('W6'!E83 < -256, -256, 'W6'!E83)","v":-135},{"$f":"IF('W6'!F83 < -256, -256, 'W6'!F83)","v":37},{"$f":"IF('W6'!G83 < -256, -256, 'W6'!G83)","v":-18},{"$f":"IF('W6'!H83 < -256, -256, 'W6'!H83)","v":-25},{"$f":"IF('W6'!I83 < -256, -256, 'W6'!I83)","v":-108},{"$f":"IF('W6'!J83 < -256, -256, 'W6'!J83)","v":49}]
[{"$f":"IF('W6'!A84 < -256, -256, 'W6'!A84)","v":9},{"$f":"IF('W6'!B84 < -256, -256, 'W6'!B84)","v":-51},{"$f":"IF('W6'!C84 < -256, -256, 'W6'!C84)","v":-137},{"$f":"IF('W6'!D84 < -256, -256, 'W6'!D84)","v":19},{"$f":"IF('W6'!E84 < -256, -256, 'W6'!E84)","v":23},{"$f":"IF('W6'!F84 < -256, -256, 'W6'!F84)","v":-51},{"$f":"IF('W6'!G84 < -256, -256, 'W6'!G84)","v":31},{"$f":"IF('W6'!H84 < -256, -256, 'W6'!H84)","v":41},{"$f":"IF('W6'!I84 < -256, -256, 'W6'!I84)","v":-39},{"$f":"IF('W6'!J84 < -256, -256, 'W6'!J84)","v":-39}]
[{"$f":"IF('W6'!A85 < -256, -256, 'W6'!A85)","v":-56},{"$f":"IF('W6'!B85 < -256, -256, 'W6'!B85)","v":41},{"$f":"IF('W6'!C85 < -256, -256, 'W6'!C85)","v":-128},{"$f":"IF('W6'!D85 < -256, -256, 'W6'!D85)","v":75},{"$f":"IF('W6'!E85 < -256, -256, 'W6'!E85)","v":-147},{"$f":"IF('W6'!F85 < -256, -256, 'W6'!F85)","v":-230},{"$f":"IF('W6'!G85 < -256, -256, 'W6'!G85)","v":-256},{"$f":"IF('W6'!H85 < -256, -256, 'W6'!H85)","v":-256},{"$f":"IF('W6'!I85 < -256, -256, 'W6'!I85)","v":-256},{"$f":"IF('W6'!J85 < -256, -256, 'W6'!J85)","v":-1}]
[{"$f":"IF('W6'!A86 < -256, -256, 'W6'!A86)","v":15},{"$f":"IF('W6'!B86 < -256, -256, 'W6'!B86)","v":-55},{"$f":"IF('W6'!C86 < -256, -256, 'W6'!C86)","v":-61},{"$f":"IF('W6'!D86 < -256, -256, 'W6'!D86)","v":-55},{"$f":"IF('W6'!E86 < -256, -256, 'W6'!E86)","v":19},{"$f":"IF('W6'!F86 < -256, -256, 'W6'!F86)","v":-5},{"$f":"IF('W6'!G86 < -256, -256, 'W6'!G86)","v":4},{"$f":"IF('W6'!H86 < -256, -256, 'W6'!H86)","v":-63},{"$f":"IF('W6'!I86 < -256, -256, 'W6'!I86)","v":39},{"$f":"IF('W6'!J86 < -256, -256, 'W6'!J86)","v":-35}]
[{"$f":"IF('W6'!A87 < -256, -256, 'W6'!A87)","v":-86},{"$f":"IF('W6'!B87 < -256, -256, 'W6'!B87)","v":68},{"$f":"IF('W6'!C87 < -256, -256, 'W6'!C87)","v":57},{"$f":"IF('W6'!D87 < -256, -256, 'W6'!D87)","v":-69},{"$f":"IF('W6'!E87 < -256, -256, 'W6'!E87)","v":27},{"$f":"IF('W6'!F87 < -256, -256, 'W6'!F87)","v":-180},{"$f":"IF('W6'!G87 < -256, -256, 'W6'!G87)","v":-99},{"$f":"IF('W6'!H87 < -256, -256, 'W6'!H87)","v":-252},{"$f":"IF('W6'!I87 < -256, -256, 'W6'!I87)","v":-250},{"$f":"IF('W6'!J87 < -256, -256, 'W6'!J87)","v":-44}]
[{"$f":"IF('W6'!A88 < -256, -256, 'W6'!A88)","v":51},{"$f":"IF('W6'!B88 < -256, -256, 'W6'!B88)","v":48},{"$f":"IF('W6'!C88 < -256, -256, 'W6'!C88)","v":53},{"$f":"IF('W6'!D88 < -256, -256, 'W6'!D88)","v":-40},{"$f":"IF('W6'!E88 < -256, -256, 'W6'!E88)","v":-176},{"$f":"IF('W6'!F88 < -256, -256, 'W6'!F88)","v":-174},{"$f":"IF('W6'!G88 < -256, -256, 'W6'!G88)","v":-66},{"$f":"IF('W6'!H88 < -256, -256, 'W6'!H88)","v":-97},{"$f":"IF('W6'!I88 < -256, -256, 'W6'!I88)","v":-88},{"$f":"IF('W6'!J88 < -256, -256, 'W6'!J88)","v":-37}]
[{"$f":"IF('W6'!A89 < -256, -256, 'W6'!A89)","v":-19},{"$f":"IF('W6'!B89 < -256, -256, 'W6'!B89)","v":49},{"$f":"IF('W6'!C89 < -256, -256, 'W6'!C89)","v":-110},{"$f":"IF('W6'!D89 < -256, -256, 'W6'!D89)","v":-80},{"$f":"IF('W6'!E89 < -256, -256, 'W6'!E89)","v":-125},{"$f":"IF('W6'!F89 < -256, -256, 'W6'!F89)","v":-256},{"$f":"IF('W6'!G89 < -256, -256, 'W6'!G89)","v":-253},{"$f":"IF('W6'!H89 < -256, -256, 'W6'!H89)","v":-256},{"$f":"IF('W6'!I89 < -256, -256, 'W6'!I89)","v":-179},{"$f":"IF('W6'!J89 < -256, -256, 'W6'!J89)","v":43}]
[{"$f":"IF('W6'!A90 < -256, -256, 'W6'!A90)","v":27},{"$f":"IF('W6'!B90 < -256, -256, 'W6'!B90)","v":-13},{"$f":"IF('W6'!C90 < -256, -256, 'W6'!C90)","v":-203},{"$f":"IF('W6'!D90 < -256, -256, 'W6'!D90)","v":71},{"$f":"IF('W6'!E90 < -256, -256, 'W6'!E90)","v":-152},{"$f":"IF('W6'!F90 < -256, -256, 'W6'!F90)","v":-15},{"$f":"IF('W6'!G90 < -256, -256, 'W6'!G90)","v":25},{"$f":"IF('W6'!H90 < -256, -256, 'W6'!H90)","v":-42},{"$f":"IF('W6'!I90 < -256, -256, 'W6'!I90)","v":-39},{"$f":"IF('W6'!J90 < -256, -256, 'W6'!J90)","v":-3}]
[{"$f":"IF('W6'!A91 < -256, -256, 'W6'!A91)","v":-51},{"$f":"IF('W6'!B91 < -256, -256, 'W6'!B91)","v":26},{"$f":"IF('W6'!C91 < -256, -256, 'W6'!C91)","v":-30},{"$f":"IF('W6'!D91 < -256, -256, 'W6'!D91)","v":10},{"$f":"IF('W6'!E91 < -256, -256, 'W6'!E91)","v":-50},{"$f":"IF('W6'!F91 < -256, -256, 'W6'!F91)","v":-256},{"$f":"IF('W6'!G91 < -256, -256, 'W6'!G91)","v":-218},{"$f":"IF('W6'!H91 < -256, -256, 'W6'!H91)","v":-137},{"$f":"IF('W6'!I91 < -256, -256, 'W6'!I91)","v":-229},{"$f":"IF('W6'!J91 < -256, -256, 'W6'!J91)","v":27}]
[{"$f":"IF('W6'!A92 < -256, -256, 'W6'!A92)","v":-15},{"$f":"IF('W6'!B92 < -256, -256, 'W6'!B92)","v":-47},{"$f":"IF('W6'!C92 < -256, -256, 'W6'!C92)","v":-7},{"$f":"IF('W6'!D92 < -256, -256, 'W6'!D92)","v":47},{"$f":"IF('W6'!E92 < -256, -256, 'W6'!E92)","v":-48},{"$f":"IF('W6'!F92 < -256, -256, 'W6'!F92)","v":-6},{"$f":"IF('W6'!G92 < -256, -256, 'W6'!G92)","v":47},{"$f":"IF('W6'!H92 < -256, -256, 'W6'!H92)","v":-48},{"$f":"IF('W6'!I92 < -256, -256, 'W6'!I92)","v":-25},{"$f":"IF('W6'!J92 < -256, -256, 'W6'!J92)","v":0}]
[{"$f":"IF('W6'!A93 < -256, -256, 'W6'!A93)","v":-27},{"$f":"IF('W6'!B93 < -256, -256, 'W6'!B93)","v":-46},{"$f":"IF('W6'!C93 < -256, -256, 'W6'!C93)","v":-180},{"$f":"IF('W6'!D93 < -256, -256, 'W6'!D93)","v":55},{"$f":"IF('W6'!E93 < -256, -256, 'W6'!E93)","v":-63},{"$f":"IF('W6'!F93 < -256, -256, 'W6'!F93)","v":-177},{"$f":"IF('W6'!G93 < -256, -256, 'W6'!G93)","v":-181},{"$f":"IF('W6'!H93 < -256, -256, 'W6'!H93)","v":-133},{"$f":"IF('W6'!I93 < -256, -256, 'W6'!I93)","v":-139},{"$f":"IF('W6'!J93 < -256, -256, 'W6'!J93)","v":38}]
[{"$f":"IF('W6'!A94 < -256, -256, 'W6'!A94)","v":6},{"$f":"IF('W6'!B94 < -256, -256, 'W6'!B94)","v":-34},{"$f":"IF('W6'!C94 < -256, -256, 'W6'!C94)","v":-80},{"$f":"IF('W6'!D94 < -256, -256, 'W6'!D94)","v":-28},{"$f":"IF('W6'!E94 < -256, -256, 'W6'!E94)","v":-18},{"$f":"IF('W6'!F94 < -256, -256, 'W6'!F94)","v":-19},{"$f":"IF('W6'!G94 < -256, -256, 'W6'!G94)","v":-69},{"$f":"IF('W6'!H94 < -256, -256, 'W6'!H94)","v":-8},{"$f":"IF('W6'!I94 < -256, -256, 'W6'!I94)","v":8},{"$f":"IF('W6'!J94 < -256, -256, 'W6'!J94)","v":-65}]
[{"$f":"IF('W6'!A95 < -256, -256, 'W6'!A95)","v":-31},{"$f":"IF('W6'!B95 < -256, -256, 'W6'!B95)","v":29},{"$f":"IF('W6'!C95 < -256, -256, 'W6'!C95)","v":-185},{"$f":"IF('W6'!D95 < -256, -256, 'W6'!D95)","v":-88},{"$f":"IF('W6'!E95 < -256, -256, 'W6'!E95)","v":-25},{"$f":"IF('W6'!F95 < -256, -256, 'W6'!F95)","v":-220},{"$f":"IF('W6'!G95 < -256, -256, 'W6'!G95)","v":29},{"$f":"IF('W6'!H95 < -256, -256, 'W6'!H95)","v":-55},{"$f":"IF('W6'!I95 < -256, -256, 'W6'!I95)","v":-203},{"$f":"IF('W6'!J95 < -256, -256, 'W6'!J95)","v":55}]
[{"$f":"IF('W6'!A96 < -256, -256, 'W6'!A96)","v":28},{"$f":"IF('W6'!B96 < -256, -256, 'W6'!B96)","v":45},{"$f":"IF('W6'!C96 < -256, -256, 'W6'!C96)","v":-47},{"$f":"IF('W6'!D96 < -256, -256, 'W6'!D96)","v":-35},{"$f":"IF('W6'!E96 < -256, -256, 'W6'!E96)","v":-205},{"$f":"IF('W6'!F96 < -256, -256, 'W6'!F96)","v":-144},{"$f":"IF('W6'!G96 < -256, -256, 'W6'!G96)","v":-184},{"$f":"IF('W6'!H96 < -256, -256, 'W6'!H96)","v":-196},{"$f":"IF('W6'!I96 < -256, -256, 'W6'!I96)","v":-163},{"$f":"IF('W6'!J96 < -256, -256, 'W6'!J96)","v":39}]
[{"$f":"IF('W6'!A97 < -256, -256, 'W6'!A97)","v":5},{"$f":"IF('W6'!B97 < -256, -256, 'W6'!B97)","v":-45},{"$f":"IF('W6'!C97 < -256, -256, 'W6'!C97)","v":-256},{"$f":"IF('W6'!D97 < -256, -256, 'W6'!D97)","v":-214},{"$f":"IF('W6'!E97 < -256, -256, 'W6'!E97)","v":-43},{"$f":"IF('W6'!F97 < -256, -256, 'W6'!F97)","v":-172},{"$f":"IF('W6'!G97 < -256, -256, 'W6'!G97)","v":1},{"$f":"IF('W6'!H97 < -256, -256, 'W6'!H97)","v":26},{"$f":"IF('W6'!I97 < -256, -256, 'W6'!I97)","v":-101},{"$f":"IF('W6'!J97 < -256, -256, 'W6'!J97)","v":5}]
[{"$f":"IF('W6'!A98 < -256, -256, 'W6'!A98)","v":31},{"$f":"IF('W6'!B98 < -256, -256, 'W6'!B98)","v":32},{"$f":"IF('W6'!C98 < -256, -256, 'W6'!C98)","v":33},{"$f":"IF('W6'!D98 < -256, -256, 'W6'!D98)","v":-72},{"$f":"IF('W6'!E98 < -256, -256, 'W6'!E98)","v":-144},{"$f":"IF('W6'!F98 < -256, -256, 'W6'!F98)","v":-129},{"$f":"IF('W6'!G98 < -256, -256, 'W6'!G98)","v":41},{"$f":"IF('W6'!H98 < -256, -256, 'W6'!H98)","v":-82},{"$f":"IF('W6'!I98 < -256, -256, 'W6'!I98)","v":-130},{"$f":"IF('W6'!J98 < -256, -256, 'W6'!J98)","v":-37}]
[{"$f":"IF('W6'!A99 < -256, -256, 'W6'!A99)","v":-23},{"$f":"IF('W6'!B99 < -256, -256, 'W6'!B99)","v":-51},{"$f":"IF('W6'!C99 < -256, -256, 'W6'!C99)","v":-39},{"$f":"IF('W6'!D99 < -256, -256, 'W6'!D99)","v":2},{"$f":"IF('W6'!E99 < -256, -256, 'W6'!E99)","v":-49},{"$f":"IF('W6'!F99 < -256, -256, 'W6'!F99)","v":-78},{"$f":"IF('W6'!G99 < -256, -256, 'W6'!G99)","v":63},{"$f":"IF('W6'!H99 < -256, -256, 'W6'!H99)","v":-61},{"$f":"IF('W6'!I99 < -256, -256, 'W6'!I99)","v":45},{"$f":"IF('W6'!J99 < -256, -256, 'W6'!J99)","v":-28}]
[{"$f":"IF('W6'!A100 < -256, -256, 'W6'!A100)","v":-39},{"$f":"IF('W6'!B100 < -256, -256, 'W6'!B100)","v":-14},{"$f":"IF('W6'!C100 < -256, -256, 'W6'!C100)","v":13},{"$f":"IF('W6'!D100 < -256, -256, 'W6'!D100)","v":-12},{"$f":"IF('W6'!E100 < -256, -256, 'W6'!E100)","v":-52},{"$f":"IF('W6'!F100 < -256, -256, 'W6'!F100)","v":-25},{"$f":"IF('W6'!G100 < -256, -256, 'W6'!G100)","v":-4},{"$f":"IF('W6'!H100 < -256, -256, 'W6'!H100)","v":19},{"$f":"IF('W6'!I100 < -256, -256, 'W6'!I100)","v":-14},{"$f":"IF('W6'!J100 < -256, -256, 'W6'!J100)","v":-7}]
[{"$f":"IF('W6'!A101 < -256, -256, 'W6'!A101)","v":4},{"$f":"IF('W6'!B101 < -256, -256, 'W6'!B101)","v":-22},{"$f":"IF('W6'!C101 < -256, -256, 'W6'!C101)","v":39},{"$f":"IF('W6'!D101 < -256, -256, 'W6'!D101)","v":-34},{"$f":"IF('W6'!E101 < -256, -256, 'W6'!E101)","v":-28},{"$f":"IF('W6'!F101 < -256, -256, 'W6'!F101)","v":-36},{"$f":"IF('W6'!G101 < -256, -256, 'W6'!G101)","v":-43},{"$f":"IF('W6'!H101 < -256, -256, 'W6'!H101)","v":46},{"$f":"IF('W6'!I101 < -256, -256, 'W6'!I101)","v":33},{"$f":"IF('W6'!J101 < -256, -256, 'W6'!J101)","v":-13}]
[{"$f":"IF('W6'!A102 < -256, -256, 'W6'!A102)","v":50},{"$f":"IF('W6'!B102 < -256, -256, 'W6'!B102)","v":48},{"$f":"IF('W6'!C102 < -256, -256, 'W6'!C102)","v":-22},{"$f":"IF('W6'!D102 < -256, -256, 'W6'!D102)","v":-60},{"$f":"IF('W6'!E102 < -256, -256, 'W6'!E102)","v":-159},{"$f":"IF('W6'!F102 < -256, -256, 'W6'!F102)","v":-94},{"$f":"IF('W6'!G102 < -256, -256, 'W6'!G102)","v":-142},{"$f":"IF('W6'!H102 < -256, -256, 'W6'!H102)","v":-82},{"$f":"IF('W6'!I102 < -256, -256, 'W6'!I102)","v":-19},{"$f":"IF('W6'!J102 < -256, -256, 'W6'!J102)","v":16}]
[{"$f":"IF('W6'!A103 < -256, -256, 'W6'!A103)","v":45},{"$f":"IF('W6'!B103 < -256, -256, 'W6'!B103)","v":-38},{"$f":"IF('W6'!C103 < -256, -256, 'W6'!C103)","v":-24},{"$f":"IF('W6'!D103 < -256, -256, 'W6'!D103)","v":-24},{"$f":"IF('W6'!E103 < -256, -256, 'W6'!E103)","v":17},{"$f":"IF('W6'!F103 < -256, -256, 'W6'!F103)","v":11},{"$f":"IF('W6'!G103 < -256, -256, 'W6'!G103)","v":-28},{"$f":"IF('W6'!H103 < -256, -256, 'W6'!H103)","v":32},{"$f":"IF('W6'!I103 < -256, -256, 'W6'!I103)","v":1},{"$f":"IF('W6'!J103 < -256, -256, 'W6'!J103)","v":0}]
[{"$f":"IF('W6'!A104 < -256, -256, 'W6'!A104)","v":-55},{"$f":"IF('W6'!B104 < -256, -256, 'W6'!B104)","v":8},{"$f":"IF('W6'!C104 < -256, -256, 'W6'!C104)","v":-16},{"$f":"IF('W6'!D104 < -256, -256, 'W6'!D104)","v":17},{"$f":"IF('W6'!E104 < -256, -256, 'W6'!E104)","v":-70},{"$f":"IF('W6'!F104 < -256, -256, 'W6'!F104)","v":-253},{"$f":"IF('W6'!G104 < -256, -256, 'W6'!G104)","v":-256},{"$f":"IF('W6'!H104 < -256, -256, 'W6'!H104)","v":-256},{"$f":"IF('W6'!I104 < -256, -256, 'W6'!I104)","v":-236},{"$f":"IF('W6'!J104 < -256, -256, 'W6'!J104)","v":-76}]
[{"$f":"IF('W6'!A105 < -256, -256, 'W6'!A105)","v":9},{"$f":"IF('W6'!B105 < -256, -256, 'W6'!B105)","v":-14},{"$f":"IF('W6'!C105 < -256, -256, 'W6'!C105)","v":21},{"$f":"IF('W6'!D105 < -256, -256, 'W6'!D105)","v":18},{"$f":"IF('W6'!E105 < -256, -256, 'W6'!E105)","v":11},{"$f":"IF('W6'!F105 < -256, -256, 'W6'!F105)","v":-50},{"$f":"IF('W6'!G105 < -256, -256, 'W6'!G105)","v":21},{"$f":"IF('W6'!H105 < -256, -256, 'W6'!H105)","v":43},{"$f":"IF('W6'!I105 < -256, -256, 'W6'!I105)","v":7},{"$f":"IF('W6'!J105 < -256, -256, 'W6'!J105)","v":-7}]
[{"$f":"IF('W6'!A106 < -256, -256, 'W6'!A106)","v":-28},{"$f":"IF('W6'!B106 < -256, -256, 'W6'!B106)","v":42},{"$f":"IF('W6'!C106 < -256, -256, 'W6'!C106)","v":-50},{"$f":"IF('W6'!D106 < -256, -256, 'W6'!D106)","v":-115},{"$f":"IF('W6'!E106 < -256, -256, 'W6'!E106)","v":-41},{"$f":"IF('W6'!F106 < -256, -256, 'W6'!F106)","v":-61},{"$f":"IF('W6'!G106 < -256, -256, 'W6'!G106)","v":-252},{"$f":"IF('W6'!H106 < -256, -256, 'W6'!H106)","v":-194},{"$f":"IF('W6'!I106 < -256, -256, 'W6'!I106)","v":-256},{"$f":"IF('W6'!J106 < -256, -256, 'W6'!J106)","v":51}]
[{"$f":"IF('W6'!A107 < -256, -256, 'W6'!A107)","v":-60},{"$f":"IF('W6'!B107 < -256, -256, 'W6'!B107)","v":39},{"$f":"IF('W6'!C107 < -256, -256, 'W6'!C107)","v":16},{"$f":"IF('W6'!D107 < -256, -256, 'W6'!D107)","v":-62},{"$f":"IF('W6'!E107 < -256, -256, 'W6'!E107)","v":-28},{"$f":"IF('W6'!F107 < -256, -256, 'W6'!F107)","v":-150},{"$f":"IF('W6'!G107 < -256, -256, 'W6'!G107)","v":-228},{"$f":"IF('W6'!H107 < -256, -256, 'W6'!H107)","v":-204},{"$f":"IF('W6'!I107 < -256, -256, 'W6'!I107)","v":-256},{"$f":"IF('W6'!J107 < -256, -256, 'W6'!J107)","v":50}]
[{"$f":"IF('W6'!A108 < -256, -256, 'W6'!A108)","v":11},{"$f":"IF('W6'!B108 < -256, -256, 'W6'!B108)","v":-27},{"$f":"IF('W6'!C108 < -256, -256, 'W6'!C108)","v":-50},{"$f":"IF('W6'!D108 < -256, -256, 'W6'!D108)","v":-6},{"$f":"IF('W6'!E108 < -256, -256, 'W6'!E108)","v":20},{"$f":"IF('W6'!F108 < -256, -256, 'W6'!F108)","v":-5},{"$f":"IF('W6'!G108 < -256, -256, 'W6'!G108)","v":-41},{"$f":"IF('W6'!H108 < -256, -256, 'W6'!H108)","v":28},{"$f":"IF('W6'!I108 < -256, -256, 'W6'!I108)","v":35},{"$f":"IF('W6'!J108 < -256, -256, 'W6'!J108)","v":0}]
[{"$f":"IF('W6'!A109 < -256, -256, 'W6'!A109)","v":-24},{"$f":"IF('W6'!B109 < -256, -256, 'W6'!B109)","v":25},{"$f":"IF('W6'!C109 < -256, -256, 'W6'!C109)","v":0},{"$f":"IF('W6'!D109 < -256, -256, 'W6'!D109)","v":-26},{"$f":"IF('W6'!E109 < -256, -256, 'W6'!E109)","v":-7},{"$f":"IF('W6'!F109 < -256, -256, 'W6'!F109)","v":37},{"$f":"IF('W6'!G109 < -256, -256, 'W6'!G109)","v":8},{"$f":"IF('W6'!H109 < -256, -256, 'W6'!H109)","v":-27},{"$f":"IF('W6'!I109 < -256, -256, 'W6'!I109)","v":-16},{"$f":"IF('W6'!J109 < -256, -256, 'W6'!J109)","v":-27}]
[{"$f":"IF('W6'!A110 < -256, -256, 'W6'!A110)","v":-39},{"$f":"IF('W6'!B110 < -256, -256, 'W6'!B110)","v":-34},{"$f":"IF('W6'!C110 < -256, -256, 'W6'!C110)","v":34},{"$f":"IF('W6'!D110 < -256, -256, 'W6'!D110)","v":39},{"$f":"IF('W6'!E110 < -256, -256, 'W6'!E110)","v":21},{"$f":"IF('W6'!F110 < -256, -256, 'W6'!F110)","v":-14},{"$f":"IF('W6'!G110 < -256, -256, 'W6'!G110)","v":38},{"$f":"IF('W6'!H110 < -256, -256, 'W6'!H110)","v":48},{"$f":"IF('W6'!I110 < -256, -256, 'W6'!I110)","v":-9},{"$f":"IF('W6'!J110 < -256, -256, 'W6'!J110)","v":-10}]
[{"$f":"IF('W6'!A111 < -256, -256, 'W6'!A111)","v":10},{"$f":"IF('W6'!B111 < -256, -256, 'W6'!B111)","v":19},{"$f":"IF('W6'!C111 < -256, -256, 'W6'!C111)","v":-2},{"$f":"IF('W6'!D111 < -256, -256, 'W6'!D111)","v":-135},{"$f":"IF('W6'!E111 < -256, -256, 'W6'!E111)","v":45},{"$f":"IF('W6'!F111 < -256, -256, 'W6'!F111)","v":41},{"$f":"IF('W6'!G111 < -256, -256, 'W6'!G111)","v":-48},{"$f":"IF('W6'!H111 < -256, -256, 'W6'!H111)","v":-73},{"$f":"IF('W6'!I111 < -256, -256, 'W6'!I111)","v":37},{"$f":"IF('W6'!J111 < -256, -256, 'W6'!J111)","v":-42}]
[{"$f":"IF('W6'!A112 < -256, -256, 'W6'!A112)","v":-91},{"$f":"IF('W6'!B112 < -256, -256, 'W6'!B112)","v":39},{"$f":"IF('W6'!C112 < -256, -256, 'W6'!C112)","v":37},{"$f":"IF('W6'!D112 < -256, -256, 'W6'!D112)","v":71},{"$f":"IF('W6'!E112 < -256, -256, 'W6'!E112)","v":-70},{"$f":"IF('W6'!F112 < -256, -256, 'W6'!F112)","v":-27},{"$f":"IF('W6'!G112 < -256, -256, 'W6'!G112)","v":-144},{"$f":"IF('W6'!H112 < -256, -256, 'W6'!H112)","v":58},{"$f":"IF('W6'!I112 < -256, -256, 'W6'!I112)","v":-128},{"$f":"IF('W6'!J112 < -256, -256, 'W6'!J112)","v":-143}]
[{"$f":"IF('W6'!A113 < -256, -256, 'W6'!A113)","v":46},{"$f":"IF('W6'!B113 < -256, -256, 'W6'!B113)","v":-31},{"$f":"IF('W6'!C113 < -256, -256, 'W6'!C113)","v":-256},{"$f":"IF('W6'!D113 < -256, -256, 'W6'!D113)","v":1},{"$f":"IF('W6'!E113 < -256, -256, 'W6'!E113)","v":-143},{"$f":"IF('W6'!F113 < -256, -256, 'W6'!F113)","v":33},{"$f":"IF('W6'!G113 < -256, -256, 'W6'!G113)","v":-92},{"$f":"IF('W6'!H113 < -256, -256, 'W6'!H113)","v":45},{"$f":"IF('W6'!I113 < -256, -256, 'W6'!I113)","v":-19},{"$f":"IF('W6'!J113 < -256, -256, 'W6'!J113)","v":44}]
[{"$f":"IF('W6'!A114 < -256, -256, 'W6'!A114)","v":-24},{"$f":"IF('W6'!B114 < -256, -256, 'W6'!B114)","v":-8},{"$f":"IF('W6'!C114 < -256, -256, 'W6'!C114)","v":-54},{"$f":"IF('W6'!D114 < -256, -256, 'W6'!D114)","v":36},{"$f":"IF('W6'!E114 < -256, -256, 'W6'!E114)","v":47},{"$f":"IF('W6'!F114 < -256, -256, 'W6'!F114)","v":-20},{"$f":"IF('W6'!G114 < -256, -256, 'W6'!G114)","v":-35},{"$f":"IF('W6'!H114 < -256, -256, 'W6'!H114)","v":-12},{"$f":"IF('W6'!I114 < -256, -256, 'W6'!I114)","v":46},{"$f":"IF('W6'!J114 < -256, -256, 'W6'!J114)","v":54}]
[{"$f":"IF('W6'!A115 < -256, -256, 'W6'!A115)","v":-31},{"$f":"IF('W6'!B115 < -256, -256, 'W6'!B115)","v":51},{"$f":"IF('W6'!C115 < -256, -256, 'W6'!C115)","v":46},{"$f":"IF('W6'!D115 < -256, -256, 'W6'!D115)","v":-13},{"$f":"IF('W6'!E115 < -256, -256, 'W6'!E115)","v":53},{"$f":"IF('W6'!F115 < -256, -256, 'W6'!F115)","v":-190},{"$f":"IF('W6'!G115 < -256, -256, 'W6'!G115)","v":-123},{"$f":"IF('W6'!H115 < -256, -256, 'W6'!H115)","v":-114},{"$f":"IF('W6'!I115 < -256, -256, 'W6'!I115)","v":-222},{"$f":"IF('W6'!J115 < -256, -256, 'W6'!J115)","v":-21}]
[{"$f":"IF('W6'!A116 < -256, -256, 'W6'!A116)","v":19},{"$f":"IF('W6'!B116 < -256, -256, 'W6'!B116)","v":34},{"$f":"IF('W6'!C116 < -256, -256, 'W6'!C116)","v":-83},{"$f":"IF('W6'!D116 < -256, -256, 'W6'!D116)","v":-33},{"$f":"IF('W6'!E116 < -256, -256, 'W6'!E116)","v":-256},{"$f":"IF('W6'!F116 < -256, -256, 'W6'!F116)","v":-155},{"$f":"IF('W6'!G116 < -256, -256, 'W6'!G116)","v":-44},{"$f":"IF('W6'!H116 < -256, -256, 'W6'!H116)","v":-52},{"$f":"IF('W6'!I116 < -256, -256, 'W6'!I116)","v":-27},{"$f":"IF('W6'!J116 < -256, -256, 'W6'!J116)","v":-35}]
[{"$f":"IF('W6'!A117 < -256, -256, 'W6'!A117)","v":39},{"$f":"IF('W6'!B117 < -256, -256, 'W6'!B117)","v":-45},{"$f":"IF('W6'!C117 < -256, -256, 'W6'!C117)","v":-144},{"$f":"IF('W6'!D117 < -256, -256, 'W6'!D117)","v":-54},{"$f":"IF('W6'!E117 < -256, -256, 'W6'!E117)","v":-141},{"$f":"IF('W6'!F117 < -256, -256, 'W6'!F117)","v":-109},{"$f":"IF('W6'!G117 < -256, -256, 'W6'!G117)","v":3},{"$f":"IF('W6'!H117 < -256, -256, 'W6'!H117)","v":-117},{"$f":"IF('W6'!I117 < -256, -256, 'W6'!I117)","v":49},{"$f":"IF('W6'!J117 < -256, -256, 'W6'!J117)","v":40}]
[{"$f":"IF('W6'!A118 < -256, -256, 'W6'!A118)","v":1},{"$f":"IF('W6'!B118 < -256, -256, 'W6'!B118)","v":-38},{"$f":"IF('W6'!C118 < -256, -256, 'W6'!C118)","v":37},{"$f":"IF('W6'!D118 < -256, -256, 'W6'!D118)","v":29},{"$f":"IF('W6'!E118 < -256, -256, 'W6'!E118)","v":40},{"$f":"IF('W6'!F118 < -256, -256, 'W6'!F118)","v":25},{"$f":"IF('W6'!G118 < -256, -256, 'W6'!G118)","v":20},{"$f":"IF('W6'!H118 < -256, -256, 'W6'!H118)","v":-33},{"$f":"IF('W6'!I118 < -256, -256, 'W6'!I118)","v":25},{"$f":"IF('W6'!J118 < -256, -256, 'W6'!J118)","v":5}]
[{"$f":"IF('W6'!A119 < -256, -256, 'W6'!A119)","v":-69},{"$f":"IF('W6'!B119 < -256, -256, 'W6'!B119)","v":-35},{"$f":"IF('W6'!C119 < -256, -256, 'W6'!C119)","v":-111},{"$f":"IF('W6'!D119 < -256, -256, 'W6'!D119)","v":25},{"$f":"IF('W6'!E119 < -256, -256, 'W6'!E119)","v":8},{"$f":"IF('W6'!F119 < -256, -256, 'W6'!F119)","v":-36},{"$f":"IF('W6'!G119 < -256, -256, 'W6'!G119)","v":5},{"$f":"IF('W6'!H119 < -256, -256, 'W6'!H119)","v":6},{"$f":"IF('W6'!I119 < -256, -256, 'W6'!I119)","v":27},{"$f":"IF('W6'!J119 < -256, -256, 'W6'!J119)","v":-90}]
[{"$f":"IF('W6'!A120 < -256, -256, 'W6'!A120)","v":20},{"$f":"IF('W6'!B120 < -256, -256, 'W6'!B120)","v":-3},{"$f":"IF('W6'!C120 < -256, -256, 'W6'!C120)","v":24},{"$f":"IF('W6'!D120 < -256, -256, 'W6'!D120)","v":34},{"$f":"IF('W6'!E120 < -256, -256, 'W6'!E120)","v":-40},{"$f":"IF('W6'!F120 < -256, -256, 'W6'!F120)","v":4},{"$f":"IF('W6'!G120 < -256, -256, 'W6'!G120)","v":22},{"$f":"IF('W6'!H120 < -256, -256, 'W6'!H120)","v":-29},{"$f":"IF('W6'!I120 < -256, -256, 'W6'!I120)","v":-26},{"$f":"IF('W6'!J120 < -256, -256, 'W6'!J120)","v":-15}]
[{"$f":"IF('W6'!A121 < -256, -256, 'W6'!A121)","v":25},{"$f":"IF('W6'!B121 < -256, -256, 'W6'!B121)","v":-14},{"$f":"IF('W6'!C121 < -256, -256, 'W6'!C121)","v":-210},{"$f":"IF('W6'!D121 < -256, -256, 'W6'!D121)","v":-172},{"$f":"IF('W6'!E121 < -256, -256, 'W6'!E121)","v":-212},{"$f":"IF('W6'!F121 < -256, -256, 'W6'!F121)","v":-84},{"$f":"IF('W6'!G121 < -256, -256, 'W6'!G121)","v":-18},{"$f":"IF('W6'!H121 < -256, -256, 'W6'!H121)","v":-106},{"$f":"IF('W6'!I121 < -256, -256, 'W6'!I121)","v":-44},{"$f":"IF('W6'!J121 < -256, -256, 'W6'!J121)","v":28}]
[{"$f":"IF('W6'!A122 < -256, -256, 'W6'!A122)","v":17},{"$f":"IF('W6'!B122 < -256, -256, 'W6'!B122)","v":26},{"$f":"IF('W6'!C122 < -256, -256, 'W6'!C122)","v":-106},{"$f":"IF('W6'!D122 < -256, -256, 'W6'!D122)","v":26},{"$f":"IF('W6'!E122 < -256, -256, 'W6'!E122)","v":-76},{"$f":"IF('W6'!F122 < -256, -256, 'W6'!F122)","v":-186},{"$f":"IF('W6'!G122 < -256, -256, 'W6'!G122)","v":27},{"$f":"IF('W6'!H122 < -256, -256, 'W6'!H122)","v":-86},{"$f":"IF('W6'!I122 < -256, -256, 'W6'!I122)","v":36},{"$f":"IF('W6'!J122 < -256, -256, 'W6'!J122)","v":-42}]
[{"$f":"IF('W6'!A123 < -256, -256, 'W6'!A123)","v":-33},{"$f":"IF('W6'!B123 < -256, -256, 'W6'!B123)","v":-24},{"$f":"IF('W6'!C123 < -256, -256, 'W6'!C123)","v":-57},{"$f":"IF('W6'!D123 < -256, -256, 'W6'!D123)","v":-72},{"$f":"IF('W6'!E123 < -256, -256, 'W6'!E123)","v":13},{"$f":"IF('W6'!F123 < -256, -256, 'W6'!F123)","v":57},{"$f":"IF('W6'!G123 < -256, -256, 'W6'!G123)","v":47},{"$f":"IF('W6'!H123 < -256, -256, 'W6'!H123)","v":15},{"$f":"IF('W6'!I123 < -256, -256, 'W6'!I123)","v":28},{"$f":"IF('W6'!J123 < -256, -256, 'W6'!J123)","v":-79}]
[{"$f":"IF('W6'!A124 < -256, -256, 'W6'!A124)","v":19},{"$f":"IF('W6'!B124 < -256, -256, 'W6'!B124)","v":-36},{"$f":"IF('W6'!C124 < -256, -256, 'W6'!C124)","v":-111},{"$f":"IF('W6'!D124 < -256, -256, 'W6'!D124)","v":-89},{"$f":"IF('W6'!E124 < -256, -256, 'W6'!E124)","v":-28},{"$f":"IF('W6'!F124 < -256, -256, 'W6'!F124)","v":37},{"$f":"IF('W6'!G124 < -256, -256, 'W6'!G124)","v":-9},{"$f":"IF('W6'!H124 < -256, -256, 'W6'!H124)","v":40},{"$f":"IF('W6'!I124 < -256, -256, 'W6'!I124)","v":-110},{"$f":"IF('W6'!J124 < -256, -256, 'W6'!J124)","v":-23}]
[{"$f":"IF('W6'!A125 < -256, -256, 'W6'!A125)","v":33},{"$f":"IF('W6'!B125 < -256, -256, 'W6'!B125)","v":-41},{"$f":"IF('W6'!C125 < -256, -256, 'W6'!C125)","v":-253},{"$f":"IF('W6'!D125 < -256, -256, 'W6'!D125)","v":-152},{"$f":"IF('W6'!E125 < -256, -256, 'W6'!E125)","v":-207},{"$f":"IF('W6'!F125 < -256, -256, 'W6'!F125)","v":-69},{"$f":"IF('W6'!G125 < -256, -256, 'W6'!G125)","v":-89},{"$f":"IF('W6'!H125 < -256, -256, 'W6'!H125)","v":-95},{"$f":"IF('W6'!I125 < -256, -256, 'W6'!I125)","v":27},{"$f":"IF('W6'!J125 < -256, -256, 'W6'!J125)","v":35}]
[{"$f":"IF('W6'!A126 < -256, -256, 'W6'!A126)","v":-23},{"$f":"IF('W6'!B126 < -256, -256, 'W6'!B126)","v":27},{"$f":"IF('W6'!C126 < -256, -256, 'W6'!C126)","v":-7},{"$f":"IF('W6'!D126 < -256, -256, 'W6'!D126)","v":-32},{"$f":"IF('W6'!E126 < -256, -256, 'W6'!E126)","v":-23},{"$f":"IF('W6'!F126 < -256, -256, 'W6'!F126)","v":-121},{"$f":"IF('W6'!G126 < -256, -256, 'W6'!G126)","v":-200},{"$f":"IF('W6'!H126 < -256, -256, 'W6'!H126)","v":-109},{"$f":"IF('W6'!I126 < -256, -256, 'W6'!I126)","v":-114},{"$f":"IF('W6'!J126 < -256, -256, 'W6'!J126)","v":-45}]
[{"$f":"IF('W6'!A127 < -256, -256, 'W6'!A127)","v":17},{"$f":"IF('W6'!B127 < -256, -256, 'W6'!B127)","v":-46},{"$f":"IF('W6'!C127 < -256, -256, 'W6'!C127)","v":-99},{"$f":"IF('W6'!D127 < -256, -256, 'W6'!D127)","v":-194},{"$f":"IF('W6'!E127 < -256, -256, 'W6'!E127)","v":10},{"$f":"IF('W6'!F127 < -256, -256, 'W6'!F127)","v":31},{"$f":"IF('W6'!G127 < -256, -256, 'W6'!G127)","v":19},{"$f":"IF('W6'!H127 < -256, -256, 'W6'!H127)","v":-144},{"$f":"IF('W6'!I127 < -256, -256, 'W6'!I127)","v":-82},{"$f":"IF('W6'!J127 < -256, -256, 'W6'!J127)","v":-67}]
[{"$f":"IF('W6'!A128 < -256, -256, 'W6'!A128)","v":-54},{"$f":"IF('W6'!B128 < -256, -256, 'W6'!B128)","v":-1},{"$f":"IF('W6'!C128 < -256, -256, 'W6'!C128)","v":-256},{"$f":"IF('W6'!D128 < -256, -256, 'W6'!D128)","v":39},{"$f":"IF('W6'!E128 < -256, -256, 'W6'!E128)","v":24},{"$f":"IF('W6'!F128 < -256, -256, 'W6'!F128)","v":22},{"$f":"IF('W6'!G128 < -256, -256, 'W6'!G128)","v":-3},{"$f":"IF('W6'!H128 < -256, -256, 'W6'!H128)","v":-44},{"$f":"IF('W6'!I128 < -256, -256, 'W6'!I128)","v":-151},{"$f":"IF('W6'!J128 < -256, -256, 'W6'!J128)","v":26}]
[]
[]
[{"$f":"MAX(A1:J128)","v":91}]
[{"$f":"MIN(A1:J128)","v":-256}]