{"text_format":"1","workbook":"xlsx","n_sheets":7,"sheets":["confW4_Bias","im2colAll_confW4","truncate","outCh","outOffset","outAve","coeffxx"],"not_rendered":{"charts":0,"images":0,"macros":1,"external_links":0,"defined_names":0,"comments":0,"pivot_tables":0},"unopened":[],"bounds":{"document_bytes":16777216,"sheet_cells":100000,"rows_first":2000,"rows_last":500,"rows_between":2000,"halvings":0,"cell_chars":16384,"cell_head_chars":4096},"cells_cut":0,"cells_raw":0,"read":"whole","date_system":"1900"}

{"sheet":"confW4_Bias","index":0,"n_rows":2304,"n_cols":126,"rows_kept":562,"cut":true,"hidden":false,"merged":[],"bounds":{"rows_first":250,"rows_last":62,"rows_between":250,"halvings":3}}
[1,1,1,-1,1,1,-1,-1,-2,-2,1,2,-1,-1,-1,1,-1,1,-1,1,1,1,-1,-1,-1,1,-1,1,1,-1,-2,-1,1,-1,1,1,1,-2,-1,-1,-2,1,1,1,1,-1,1,1,-1,1,-2,1,-1,-1,1,-1,1,-1,1,1,-1,-1,1,1,1,1,-1,-1,1,1,1,1,-1,-1,-1,-1,1,1,1,1,-1,1,-1,-1,2,-2,1,-1,1,1,1,1,-1,1,-1,-1,-1,1,2,-1,1,-1,1,-1,1,1,2,1,1,-1,1,-1,1,-1,-1,1,1,-1,-1,2,-2,1,-1,1,1,-1]
[2,-2,-1,-1,-1,-1,-2,2,-1,-1,-2,1,-2,1,2,-1,-1,1,1,-1,-1,-1,1,-1,1,-1,-1,-1,1,1,-1,1,2,-2,2,1,-1,1,1,-1,-1,-1,1,1,-1,1,1,1,1,1,1,1,-2,2,1,1,2,1,1,2,-1,-1,-1,2,1,-1,1,-1,1,1,-1,-2,-1,-1,2,1,2,2,-1,-1,-1,-1,-2,-1,1,1,1,-1,-1,1,-1,1,1,1,1,-1,-1,1,1,1,1,1,-2,-1,-1,1,-1,2,1,1,-2,1,-1,-1,1,-1,1,-1,2,1,1,1,1,1,1,-2]
[1,1,1,2,2,1,1,1,-1,-1,-1,2,-1,-1,1,1,1,-1,-1,-1,-1,1,1,2,1,1,1,-2,1,-1,-2,-1,-1,-1,2,1,1,-1,-1,-1,-1,-1,1,-1,-1,1,2,1,-1,-1,2,-1,1,1,-2,1,1,-1,1,1,-1,-2,-1,1,1,-1,-1,1,-1,1,-1,-1,-1,-2,1,-1,1,-1,2,1,-1,1,-2,-1,2,-2,1,-1,1,1,-2,-1,1,-2,-2,1,1,1,-1,-1,1,1,1,1,-1,-1,-1,1,-1,-1,-2,1,-1,-1,1,1,1,1,1,2,2,-1,-1,-2,-1,-1]
[1,2,1,-1,2,-2,1,-1,-2,-1,1,1,-1,2,2,1,-1,-2,-2,-1,-2,-1,-1,1,-1,1,-1,-1,-1,-1,-2,1,-1,-1,-1,-1,2,-1,1,-1,-2,1,1,1,2,2,-1,-1,-2,1,-1,1,1,2,-1,1,2,1,-1,-1,-2,-1,1,2,1,1,1,-1,-1,1,1,-1,-1,-1,-1,-1,1,2,1,1,-1,-1,1,-2,1,-1,-1,-1,2,-1,-1,-1,1,-1,1,2,-1,-1,-1,2,1,-1,-1,-1,1,1,-2,1,-1,1,1,-1,-1,-1,-1,-2,-1,1,-1,-1,1,1,1,-1,-1,-1]
[4,1,2,1,-1,-2,1,-2,1,-4,-1,-1,-2,1,2,2,-1,-1,-1,-1,1,4,-1,1,2,1,-1,-2,-1,-2,-1,-1,1,-1,2,1,1,-1,1,-1,-2,1,4,-2,-1,-1,2,-2,-2,-2,1,-2,1,1,-1,1,1,1,1,-1,-1,-1,1,4,-1,1,2,1,-1,-1,-1,-2,-2,1,1,-1,1,4,-1,1,-2,-1,-1,-2,1,1,1,-1,1,-1,-2,-2,-2,1,-1,-2,-1,1,2,1,-2,-1,-1,-1,-1,4,-1,1,-1,-1,-2,1,2,-1,-1,-1,-1,-1,2,-1,1,-1,-1,-1,-1,-1]
[2,-1,-1,2,2,-1,-2,1,-1,-4,-1,-1,-1,1,1,2,1,-1,-2,-1,-1,2,-2,2,-1,-1,-1,1,-1,-1,-2,-1,-1,1,1,2,1,1,-2,-1,-1,-1,2,1,1,2,1,1,1,1,-1,-4,1,1,1,1,2,-1,1,-1,1,-1,-1,4,-2,1,1,1,-1,-1,1,-2,-2,-2,-1,-2,1,2,2,2,-1,-1,-1,1,1,1,1,1,-1,1,-1,1,-1,-2,-2,1,1,2,1,2,1,-2,1,-1,1,2,-1,-1,2,-1,1,1,-1,-1,1,-1,-1,-1,1,-1,2,1,-1,-2,-1,1]
[1,1,-1,-1,2,1,2,-1,-1,1,-1,-1,-1,-1,2,2,1,-1,1,-1,-1,-2,1,2,2,-1,2,-1,-1,-1,-1,1,1,-1,2,-1,2,-2,1,1,-1,-1,-2,-1,1,1,-1,-1,1,1,-2,1,-1,1,-1,1,2,-1,-1,-2,1,-1,-1,-1,-1,1,1,1,1,-1,-1,-2,1,-1,1,1,-1,2,-1,1,1,1,-1,-1,1,1,1,-1,1,1,-1,-1,-2,1,-1,-2,-1,1,2,2,-1,-2,-1,1,-1,1,1,-1,-1,-2,1,2,1,-1,1,1,-1,-2,1,2,-1,-1,-2,-1,-2,-1]
[-1,-1,1,2,1,1,-1,-1,-2,-1,1,-1,-1,-1,1,2,1,-1,-2,1,-2,2,-1,2,1,1,-1,1,-1,1,-2,-2,-1,-1,-1,1,1,-1,-2,1,1,-1,1,-1,1,1,1,-1,-1,-1,1,-1,-1,-2,-1,-1,-1,2,-1,1,-2,-1,-1,2,1,2,-1,2,-1,1,-1,-2,-1,-2,1,-1,1,2,1,-1,-1,-2,-1,1,2,1,1,2,-1,-1,1,-1,1,1,1,-1,1,2,2,1,-1,-2,-1,-1,-1,4,1,1,1,-1,-1,1,1,-2,-1,-1,-1,-2,-1,1,2,2,-1,-1,-2,-1]
[-1,1,1,1,-1,-1,-1,-1,-2,-1,1,1,1,1,1,-1,-1,-2,1,1,-2,-1,2,1,2,1,1,1,-1,-1,-2,-1,-1,1,2,2,-1,1,-2,-1,-1,-2,-1,1,-1,2,-1,-1,1,1,1,-2,-1,-1,-2,-1,1,1,-1,-2,1,-2,-1,1,1,1,1,1,1,-1,-1,-1,-2,-1,1,-1,-1,-1,2,2,-1,-1,1,1,-1,2,1,1,-1,-1,2,-1,-1,1,1,-2,1,1,1,2,1,-1,1,1,-1,1,-1,1,2,1,-1,-1,-2,1,-2,-1,-1,1,1,-1,-1,-1,-1,-1,1,1]
[1,-1,-1,1,-1,-1,-1,2,-1,2,-1,1,1,-1,-1,1,1,-2,-1,-1,-1,-1,1,-2,1,-1,1,-1,1,1,1,1,-1,-2,-1,-1,-1,1,1,2,2,1,-1,-1,-1,1,-1,-1,-1,-1,-1,2,2,1,-1,-1,2,-1,-1,1,-1,-1,-1,-1,1,-1,1,1,-1,1,1,-1,2,1,1,1,1,1,-1,-1,2,-1,1,1,1,1,-2,-1,-2,-1,1,2,-1,-1,1,2,-1,-1,-2,2,-1,1,-1,1,-1,1,1,1,-1,-1,2,1,-1,1,2,1,1,2,1,1,-1,-2,-1,-1,1,-2]
[-1,1,1,-2,-1,1,2,-1,1,1,-1,1,1,-1,-1,1,1,-1,1,2,-1,-1,1,-1,-1,1,-1,1,-1,-2,-1,-1,1,-2,-1,-1,-1,1,-1,-1,1,2,1,2,1,-1,1,1,2,-2,-1,-1,-1,1,-1,1,-1,-2,-1,2,-2,-2,2,1,1,-1,-1,-1,-1,1,1,1,-2,-1,-1,1,-1,-1,-1,1,-1,1,1,-1,-1,-1,1,-1,1,1,1,1,-1,1,1,1,1,-1,-1,1,1,1,-1,-1,1,2,-1,1,1,1,-2,-1,1,-1,-1,-1,1,1,1,-1,-1,-2,1,1,-1,-1]
[-1,-1,1,1,1,-1,-1,-1,1,1,-1,1,1,1,-1,1,-1,1,-1,2,-2,-2,2,-1,1,1,-1,-1,1,1,1,-2,-2,1,-1,1,1,2,1,-2,2,-2,-1,1,1,1,-1,-1,1,1,1,1,1,1,-2,1,-1,1,-1,2,-1,-1,1,-1,-1,1,-1,1,-2,-1,-1,1,1,1,-1,-1,-1,-1,1,-2,-1,1,1,-1,1,-1,1,1,1,1,-1,1,2,1,1,1,-1,2,-2,1,-1,1,-1,-2,1,-1,-1,1,1,1,1,-1,1,2,-1,1,-1,1,-1,1,2,1,-1,2,-1,-1]
[2,2,-1,1,1,-2,2,-2,2,2,1,-1,-1,1,1,1,-1,1,-1,-1,-1,-1,-1,-1,-1,1,1,-1,-1,-1,2,-1,1,-1,1,1,-1,-2,-1,2,-1,-1,1,-1,1,1,1,1,-1,-2,-1,-2,-1,1,1,-1,1,1,-1,-1,-1,-2,1,1,-1,1,-1,2,-1,2,-1,-1,2,-1,-1,1,1,-1,-1,-1,1,-1,-1,1,-1,-1,-1,1,-1,2,1,-1,1,1,2,-1,1,-1,-1,1,1,1,-1,-1,1,1,-1,1,-1,2,-1,-1,-2,-2,-1,-1,-1,1,1,-1,1,1,1,1,1,1]
[1,-1,-1,-1,2,1,1,-1,-1,-1,-2,-1,1,-1,-1,-1,1,1,1,2,1,-2,-2,1,1,1,1,-1,-1,1,1,1,-1,-2,1,-1,2,-1,-1,2,-1,-2,1,1,-1,-1,-1,-1,1,1,-1,-1,-1,-1,1,2,1,1,1,-1,1,-1,-1,1,1,-1,1,-1,2,1,-1,1,1,1,1,1,-1,-1,-1,-1,-1,1,-1,2,-1,1,1,1,-1,-1,2,-1,-1,1,1,1,1,-1,-1,1,-1,-1,-2,2,1,-2,1,-1,-2,1,1,2,2,1,2,1,1,-1,1,1,-1,1,2,-1,1,-1]
[1,1,-1,-1,1,-2,-2,-1,2,-1,-1,1,-1,1,1,-1,-1,1,1,2,-1,-1,-1,-1,1,1,2,-1,-1,-1,1,-1,-1,-1,-1,-1,1,1,1,1,-1,1,1,-1,-1,-1,1,-1,2,1,-1,-1,1,1,-1,1,-1,1,-1,1,2,-1,-1,1,-1,2,1,-1,1,-1,1,-1,1,-2,1,-1,-1,-1,1,1,-2,-1,-1,-1,-1,-1,-1,-2,1,-2,-2,1,1,2,1,-1,1,-1,-1,1,1,-1,1,-1,-1,1,2,-1,1,-1,-1,1,-1,1,-1,-1,-1,-1,-1,-1,-1,-1,1,-1,2,-1]
[-1,1,-1,-1,1,-2,-1,1,-2,1,-1,2,-1,-1,1,-1,1,-1,1,1,-1,-1,1,-1,1,2,-1,-1,-1,-1,-1,1,-1,2,1,1,-1,-1,-2,1,1,-1,-1,1,-1,-1,-1,-1,-1,-2,-1,1,-1,-1,-1,-1,1,1,1,1,1,-1,-2,1,-2,1,-1,-1,1,1,-1,1,1,-1,-1,-2,-1,1,1,-1,1,-1,-1,-1,1,-2,1,1,-1,-1,1,-1,1,1,-1,-2,1,2,-1,1,1,-1,-1,1,-1,-1,-1,-2,1,-1,1,-1,1,-1,1,1,1,1,1,1,1,1,1,2,2,-1]
[2,1,2,1,1,-1,1,1,1,-1,-1,-1,1,1,-2,-1,-1,1,1,1,1,-1,1,1,1,1,1,-1,-2,1,1,1,1,1,1,1,2,-1,1,-1,1,-1,1,1,-1,1,1,-2,-1,1,-1,2,-1,-1,-1,1,2,1,-1,1,1,-1,-1,-2,-1,-1,1,-1,1,1,-1,-1,1,-1,1,1,1,-1,-2,1,-2,2,2,1,1,1,1,1,-1,-1,1,-1,1,1,-1,1,-1,1,1,-1,-1,-1,1,1,-1,1,-2,1,1,1,2,-1,1,2,-1,-1,2,-1,2,-1,1,-1,-1,-1,1,-1]
[1,1,1,-1,1,1,-1,1,1,1,1,1,1,-1,-2,-1,-1,-1,1,-1,2,-1,-1,-1,-1,1,2,-1,1,-1,1,-1,-2,-2,2,2,-2,1,1,-2,-1,2,1,1,1,-1,1,1,1,-2,2,-1,1,-1,-1,1,2,1,1,1,-2,-1,-2,-1,1,-2,-1,-1,1,1,1,-1,1,-1,1,1,-1,1,1,1,1,-1,1,1,1,1,1,-1,-1,-1,-1,1,1,-1,-1,-1,-2,-1,1,2,-1,-1,-1,1,-1,-1,-1,2,-1,1,-1,1,1,1,2,-2,1,-1,-1,-1,-1,-1,2,-1,1,1]
[2,1,-1,1,-1,1,-2,-1,-1,-1,1,-1,1,-2,1,1,1,1,-2,-1,1,1,-1,-2,1,-1,-2,1,-2,1,1,-2,-2,-1,-2,-2,1,1,1,1,1,-1,-1,-1,-1,-1,1,-1,1,-1,-1,2,-1,1,-1,-1,-2,1,1,2,-1,-1,1,1,-1,-1,1,1,2,1,-1,1,-1,1,1,-1,1,1,1,-1,-1,1,1,1,-1,-2,1,1,-1,-1,-1,1,-1,-1,-1,2,-1,1,-1,1,1,1,-1,1,-1,1,1,-1,1,2,-2,1,-1,-1,2,-1,-2,-1,1,1,1,-1,1,-1,-1,-1]
[1,-1,-2,2,-1,1,1,-1,1,-1,-1,-1,2,-1,-1,-1,-1,1,1,-1,1,1,1,1,-1,1,-1,-1,-1,1,2,-2,-1,1,-1,-1,-1,1,1,1,-1,-1,2,-1,1,2,1,2,1,1,1,-1,1,-2,1,1,-1,2,1,1,-1,-2,1,-1,1,1,1,-1,-1,1,-1,-2,1,1,-1,-2,1,-1,1,2,-1,1,1,-1,2,-2,-1,2,1,-1,-1,-1,1,1,1,1,1,1,1,1,2,1,-1,-1,-1,1,1,1,2,1,-1,1,-1,1,1,1,-1,1,-1,-1,-1,1,2,-2,-1,-1]
[1,1,1,1,1,-1,-1,-2,-1,2,1,-2,2,1,-1,-1,1,-1,1,-1,-2,1,-1,-1,-1,-2,-1,-2,-1,-1,1,1,-2,1,1,-1,1,2,2,-1,-1,1,1,1,-2,2,1,-1,-1,-1,1,-1,-2,-1,1,-1,-1,1,-1,1,-2,-1,1,-1,-1,-1,-1,-1,-1,1,-2,1,1,1,-1,1,-1,1,2,-1,-1,1,-2,1,-1,-1,1,1,-1,1,-2,-2,1,2,-2,-1,1,-2,-1,-1,2,-1,-1,-1,-1,-1,1,1,2,-1,-2,-2,1,-1,2,1,1,2,-2,1,1,1,2,1,-1,1]
[1,-1,1,-1,1,1,1,-1,-1,-1,-2,1,-1,-2,-1,-1,1,1,-1,-2,2,2,1,1,-1,1,-1,1,1,-2,1,-1,-1,-1,-2,-1,-2,1,2,-1,1,1,1,-1,1,2,-1,-1,-2,1,-1,-1,-1,-1,-1,1,1,-1,1,1,-2,1,2,1,-1,-1,2,2,-2,-1,-1,1,1,-2,-1,-1,-2,-1,-1,1,1,-2,1,-1,1,-1,2,-1,1,1,-2,-2,2,2,1,1,1,1,-2,-1,1,2,-1,-1,1,1,-1,-2,-1,-1,1,-2,-2,1,-1,1,1,-1,1,-2,1,-1,-1,1,1,1]
[4,-2,1,1,1,-1,-1,-1,-2,-1,1,1,-2,1,1,-2,2,2,-1,1,1,1,-2,1,2,-2,1,-1,-1,1,1,-2,1,-1,-1,1,-1,1,2,-2,-1,2,2,-1,-1,1,-2,-1,-2,-1,-1,2,-1,1,-2,-1,-1,-1,4,-1,1,1,1,2,1,-1,-1,1,-2,1,-1,-1,2,-1,1,1,-1,1,-2,2,1,1,1,2,2,-1,1,1,1,-2,1,-2,-1,-1,1,-1,-1,-1,1,-1,1,-1,-2,1,1,2,1,-2,2,-1,-1,-2,-2,1,2,-1,1,-1,-1,1,-1,1,2,1,-1,1]
[1,-2,1,1,-1,-1,1,-1,1,1,1,-1,-1,-1,1,-1,-1,2,2,1,2,2,-1,1,1,-1,1,-1,-1,1,2,-1,-1,1,-1,-2,-1,1,2,-1,-2,2,2,-2,1,-1,-1,-1,-1,1,1,2,1,-1,-1,-1,-2,-1,-1,1,1,-1,1,1,-1,-1,1,1,1,-2,-1,-1,1,1,-1,-1,-2,-2,-1,1,1,2,1,2,-1,1,-1,1,-1,1,-2,1,1,1,-1,-1,1,-1,-1,-1,1,2,1,-1,-1,-1,-1,-1,1,1,-2,-1,-2,-1,-1,-2,-1,1,-1,-1,1,1,2,2,-1,2]
[1,-1,-1,1,-1,-1,-2,1,-1,1,1,-1,-1,1,1,-1,-1,1,-2,-1,1,-1,-1,1,2,-1,-2,-1,-1,2,-1,-2,1,1,2,1,-2,-1,-1,1,1,2,-1,1,-1,-1,-1,-1,-1,-1,-1,-1,1,1,-1,-1,-2,-1,2,1,1,-1,1,1,-2,-1,2,-1,-1,1,1,1,-1,1,1,2,-1,-1,1,1,1,1,1,-1,-1,-2,1,-1,-2,1,-1,-2,1,1,-1,-1,-1,2,1,-1,1,-1,-1,2,1,2,1,2,2,1,-1,1,-2,-1,-1,-1,1,-1,1,-1,1,-1,1,2,-1,1]
[-2,-2,-1,2,1,1,-1,1,-1,1,-1,-1,-1,1,-1,-2,2,2,1,1,2,-2,-1,-1,1,-2,-1,-1,1,1,1,-1,1,1,1,-2,-2,2,2,-1,1,1,-2,-1,1,1,1,1,-1,-1,1,1,-2,-1,-1,-1,-2,-1,2,1,-2,-1,2,-4,1,1,1,1,-1,-1,-1,1,-1,-2,1,-1,1,-2,-1,2,1,1,-1,2,-1,1,1,-1,-1,1,-1,1,1,2,-2,-1,-1,1,-1,-1,2,1,1,1,-1,1,-2,-1,-1,1,1,-1,1,-1,-1,-1,-1,1,1,1,2,1,2,1,1,1]
[-2,-2,-1,1,1,1,-2,1,-1,-1,-2,1,2,1,-1,1,-1,1,-1,2,1,-4,-2,-1,2,2,1,-2,-1,2,-1,-2,-1,-1,2,-2,-2,-1,1,1,1,1,1,1,-2,-1,1,1,-2,-2,2,-1,-1,-1,-1,-1,-1,1,2,2,-1,-1,2,1,1,-1,2,1,-1,-2,-2,2,1,1,-1,-1,-1,-2,2,-1,1,1,-1,1,1,-1,-1,1,-1,1,1,-2,1,2,1,-2,1,-2,1,1,1,2,-1,1,1,1,-2,-1,1,-1,-1,-1,-1,1,1,-1,1,-2,-2,-1,2,2,2,-1,1,-1]
[1,-1,-1,-1,-1,1,1,-1,1,-1,1,-1,-1,2,-2,2,-1,1,1,-1,1,4,1,1,-1,-2,1,-1,-1,1,1,-1,1,1,-1,-1,-1,1,-1,-1,-2,1,1,1,1,1,1,1,1,2,2,-1,1,-1,1,-1,1,1,-1,2,1,-1,1,2,1,-2,1,1,2,1,-1,-1,1,1,-1,1,1,1,2,1,-1,1,1,-1,2,1,-1,-1,1,1,-1,1,1,1,-1,1,1,1,1,1,1,1,-1,1,1,1,-1,1,-1,-1,-1,1,-1,1,1,-1,1,-1,-2,-1,-1,-1,1,-1,-1,1]
[4,1,-2,-1,-1,-1,-1,1,1,-1,-1,1,1,-1,-1,-1,-2,-2,1,-1,1,4,-2,-1,1,-1,1,-2,-2,1,1,-2,1,-1,-1,1,2,1,1,-1,2,-1,4,1,1,1,-1,1,-1,-1,-1,-1,2,-1,-1,-1,1,1,-2,1,1,1,-1,4,-1,-2,1,-1,-1,-1,-1,-1,-1,-1,1,-1,-2,-1,-2,-1,-1,1,1,-1,2,-1,-1,-1,1,-1,1,-1,-1,-1,2,-1,1,1,-2,-1,1,1,-1,-1,-2,4,1,1,-1,-1,-1,-1,-1,1,1,-1,-1,1,1,-1,-2,-1,-1,-1,1,-1]
[1,-1,2,-1,-1,1,-1,-2,1,1,-2,-1,-1,1,-1,-1,1,-1,-1,1,-1,8,-1,-1,-1,1,-1,-2,-2,-1,1,1,-1,-1,-1,-1,-1,-1,1,1,1,-1,1,-1,1,2,-1,1,-2,-1,-1,-1,1,1,1,-2,-1,1,-1,1,-1,-2,-1,1,-1,1,2,-1,-1,-1,1,-1,1,-1,-1,-1,1,-1,2,1,1,-1,-1,-2,2,-1,1,2,-1,1,-1,1,1,1,-1,-1,2,-2,1,1,1,1,-1,1,1,2,-1,1,1,1,2,-1,-1,-1,-1,1,-1,-1,-1,-1,1,1,1,-1,-1,-1]
[2,-1,1,1,1,1,1,1,-1,1,1,1,-2,-2,1,-1,1,1,1,-1,-1,1,-1,2,1,-2,-1,-1,1,1,-1,-1,2,-1,-1,1,-2,-1,1,1,-1,-1,2,-1,1,1,1,1,1,-2,-1,1,-2,-2,1,-1,1,-2,1,1,-2,-1,-2,2,-1,1,-1,-1,1,-1,1,-1,1,-1,-1,-1,1,1,-1,1,-1,1,-1,1,1,-2,-1,-1,1,2,1,-1,-1,1,-1,1,-1,-1,-2,1,-1,1,1,-1,-1,4,-1,1,1,-2,1,-2,-1,-1,1,-1,-1,-1,1,1,-1,-1,-1,1,1,1]
[-1,-1,-1,1,1,1,-2,1,2,1,-1,1,2,1,1,1,1,-2,-2,-2,-2,-1,-1,-1,-1,1,2,-1,1,2,-1,-1,1,2,2,1,-1,1,1,-1,-1,-1,4,1,1,1,-1,-1,-1,-1,2,-1,-1,-1,1,-1,-1,-1,2,1,1,1,1,4,-1,1,1,-1,2,1,-1,-1,-2,-1,1,2,1,2,1,1,-1,-2,1,1,4,-1,1,1,-1,-1,1,1,2,1,-2,-1,1,2,-1,-1,-1,1,-1,-1,1,-1,1,1,1,1,-1,1,-2,1,1,1,1,-1,2,1,-1,1,1,-2,1,-1]
[4,1,-2,1,-1,-1,-1,-1,-1,-1,1,2,-1,-1,-2,1,2,-1,1,-2,-2,2,2,-1,1,1,-1,-2,1,1,-1,-1,2,-1,-1,1,-4,-1,-1,1,-1,-2,8,1,1,1,1,1,-2,-1,-2,1,-1,-1,1,1,1,1,2,1,1,-1,1,2,1,-1,-1,-1,-1,-2,1,-1,-1,1,-1,1,-1,-2,1,2,1,-2,-1,1,4,-2,-1,2,1,1,1,1,-1,2,-1,1,-2,1,1,-1,1,1,-1,-2,-2,4,1,1,2,-1,1,-1,1,1,1,-1,1,1,1,-1,1,1,-1,1,-1,1]
[1,2,1,-1,1,1,-1,2,-2,1,1,-1,-1,1,1,-1,-1,-1,-2,-1,-2,4,1,-1,1,-1,-1,-1,2,-1,1,1,-1,-1,-1,1,-1,-1,1,-1,1,-2,1,1,1,2,-1,-1,-2,-1,-1,1,1,-2,1,-1,1,1,1,-1,1,-1,-1,1,-1,-1,1,1,-1,1,-1,1,1,-1,1,1,-1,-1,1,-1,1,-1,1,1,1,-1,1,1,-1,2,-1,-1,2,-1,-1,-2,-1,1,1,-1,-1,2,1,-1,-1,1,-1,-1,-1,1,-1,1,1,-1,2,-1,-1,1,-1,-2,1,-1,1,-1,-1,-2]
[-1,-1,2,2,2,-1,-2,-1,1,-2,-2,-1,1,2,2,-1,-2,1,-1,1,-1,-1,1,2,2,1,-1,-1,-2,1,-1,1,-2,1,2,2,-1,-1,-1,-2,-2,-2,2,-1,2,1,1,-1,-2,-1,1,-1,-1,-1,1,1,2,-1,1,-1,1,-2,1,4,1,1,1,-1,1,1,1,-1,1,1,-2,2,1,-1,-1,-1,-1,1,1,-2,1,-1,2,2,1,1,1,-1,-1,-1,1,-1,-1,-1,1,1,1,1,-2,1,1,1,1,-1,2,-1,-2,-1,1,-1,-2,1,1,1,-1,-1,-1,-1,-1,1,1,1]
[1,-1,1,2,1,-1,1,2,1,-1,-1,-1,-2,1,1,1,-1,-1,-1,-1,1,4,1,2,1,-1,1,-1,2,-1,-2,-1,1,1,2,-1,-1,1,-1,-1,-1,-1,1,1,2,2,1,-1,-1,-2,-2,-1,-1,-1,1,1,1,1,1,1,-1,-2,-1,2,-1,-1,1,1,-1,-1,1,-2,-1,-1,1,1,-1,1,2,1,-1,-1,-1,-1,4,-1,1,1,-1,-1,-1,-1,-1,1,-1,-1,-1,2,1,-1,1,-1,-2,1,-1,2,1,1,-1,1,1,1,-2,-1,-1,-1,1,1,-1,-1,2,1,1,-2,-2,-2]
[1,1,1,1,1,2,1,1,1,1,1,-1,1,1,1,2,1,1,-1,-2,-1,2,-1,-1,-1,-1,-1,1,-2,1,-1,-1,1,-1,-1,-1,-1,-1,1,-1,2,1,-1,-1,-1,2,1,-1,1,1,1,1,1,1,-1,-1,2,1,-1,1,-1,1,1,-1,1,-1,-1,-1,1,1,1,1,-1,1,-1,-1,1,-2,1,-1,1,-1,1,-1,-1,1,1,2,-1,1,-1,1,-2,-1,1,-1,1,1,-1,-1,-2,1,-1,-1,1,-1,-1,-1,-1,-1,1,-1,-1,1,-1,-1,-1,-1,-1,-1,-1,2,1,-1,1,1]
[1,2,-1,1,-1,1,1,-1,1,1,1,-1,1,1,-1,-1,-1,-1,-1,1,1,1,1,1,-2,-1,-2,1,2,2,-1,-1,-1,-1,2,-1,-1,1,-1,-1,1,1,1,-1,1,1,1,1,1,-1,2,1,-1,-1,2,1,1,2,-1,-2,-2,2,1,-1,-1,1,-1,2,-1,-1,1,2,1,1,1,1,1,1,1,-1,-1,1,2,-1,2,-1,-1,-1,-1,-1,1,1,1,-1,-2,-1,-1,-1,1,1,1,-1,1,-2,-1,1,1,1,-1,-1,1,1,1,1,1,1,-1,1,1,-1,-2,1,2,-2,1,2]
[4,-1,1,-1,1,-1,-1,1,-1,-1,-1,1,-1,-1,1,1,1,1,-1,1,-1,2,-1,1,-1,-1,-1,-1,2,1,-1,-1,-1,-1,1,1,-2,1,1,-1,-1,2,1,1,1,1,1,1,1,1,-1,-1,-1,-1,-2,1,-1,1,1,1,1,1,-1,1,1,1,-1,-2,-1,1,1,-1,2,-1,-1,1,-1,-2,-1,-1,-1,1,1,-1,1,-1,1,2,-1,1,-1,2,1,-1,-1,2,1,-1,1,1,-1,-2,1,-1,-1,-1,-1,1,2,-1,1,1,2,-1,-1,2,-2,1,-1,1,1,-1,1,-1,1,1]
[1,-2,-1,1,1,1,1,1,-1,1,-1,2,-1,-2,1,2,-1,-1,-1,-1,1,4,1,-1,1,-1,1,-2,1,1,-1,-1,-1,1,1,-1,-1,-1,-1,-2,1,1,-1,1,-2,-1,1,-1,2,1,-1,-2,-1,-1,-2,1,1,-1,-1,1,1,1,1,-1,2,1,1,1,-1,1,1,1,-1,-1,-1,-1,-1,-1,1,1,1,1,-1,-1,1,1,1,1,1,1,-1,-1,-2,1,1,1,-1,-1,-1,-1,1,-1,1,1,-1,2,-1,1,1,-1,1,1,1,1,1,2,1,1,1,1,1,1,-1,1,2,-1]
[-4,-1,-1,-1,-1,1,1,2,2,1,2,1,1,1,-1,-1,-1,2,1,1,1,-1,-1,1,1,1,2,1,1,-1,1,-1,1,1,1,1,1,-1,-1,1,-1,1,-4,1,-2,1,-1,-1,-1,1,-1,-2,1,-2,1,1,1,1,-1,1,1,-1,-2,-2,1,-1,-1,-1,1,1,1,-1,-1,1,2,-1,2,2,-1,-1,2,-1,1,-2,1,1,1,1,-1,-1,1,-1,-1,-1,1,1,1,-2,1,1,-1,1,1,1,-1,2,-1,1,-1,-1,1,-1,-1,-2,-1,-1,1,1,-2,1,1,-1,1,-1,-1,-1]
[-2,2,1,1,1,-1,2,2,1,-1,1,-1,1,-1,-2,-1,1,-1,-1,1,1,-1,-1,1,1,-1,-1,2,1,-1,-1,2,-1,-1,-2,-1,1,-1,-1,-1,-1,1,-8,-1,1,2,1,1,1,1,2,-2,1,-1,2,-1,2,-1,1,1,-1,-1,1,-1,1,1,1,1,-1,1,2,1,1,-1,-1,-1,-1,-1,-1,-1,1,1,-1,-1,-4,1,1,1,-1,2,1,2,-1,1,-1,1,1,1,-1,-1,1,-1,-1,2,1,2,-1,-1,1,1,1,-1,1,1,1,1,-1,-2,-1,-1,-1,-1,-1,1,-1,1]
[-1,1,-2,-1,2,-1,-1,1,1,1,1,1,1,1,2,-1,-1,-2,1,2,1,-2,-1,1,1,1,1,1,1,-1,1,-1,1,-1,1,1,1,1,1,1,2,1,-1,1,-1,-1,2,1,-1,-1,1,1,-1,1,-1,-1,-1,1,-1,-1,-1,2,1,-2,-1,1,-1,1,-1,2,-1,1,-1,-1,-1,1,1,1,-1,-1,1,-2,-1,-1,1,1,-1,1,-1,1,1,-1,1,2,-1,-2,1,1,-1,1,-1,-2,1,-1,-2,-2,-2,1,1,-1,-1,-2,1,-1,-1,-1,1,1,2,-1,1,-1,-1,-1,1,-1]
[1,1,1,-1,-1,1,1,-1,1,-1,1,1,1,-1,1,1,1,2,-1,-1,-2,2,1,2,-1,-1,-1,1,1,1,-1,-1,-1,-2,1,-1,-1,1,-2,-1,-1,-1,1,2,2,1,-1,-1,1,1,-1,-2,-1,-1,1,-2,1,-1,-1,1,-1,2,1,-2,1,-2,2,-1,2,-1,1,-1,-1,1,-1,1,-1,1,-1,1,-1,1,1,1,-1,-1,1,-1,1,2,2,-2,-1,1,1,-1,-2,1,-1,1,-2,1,-1,-1,-2,-2,1,-1,-1,-1,1,-1,1,2,-2,1,1,2,2,2,-1,1,-1,1,-1,-2]
[1,1,1,-1,-1,-1,1,-1,-1,-1,-1,1,1,-1,-1,1,-1,1,1,-1,-1,2,1,1,1,1,1,1,-1,1,-1,2,-1,-1,1,1,-1,1,1,-1,1,1,-1,2,-1,1,1,-1,2,1,1,2,-1,1,2,1,-1,1,-1,1,-1,2,1,1,1,1,1,1,1,-1,1,1,-2,-2,1,1,1,-1,1,1,-1,-2,-1,-2,1,-2,1,1,1,1,2,-1,1,-1,1,1,1,1,-1,1,-1,-1,1,1,1,1,-1,-1,1,-1,-1,-1,-1,-1,2,-1,-1,-1,-1,1,1,-1,-1,-1,-2,-1]
[1,2,-1,-1,-1,1,-2,-1,-2,2,1,-1,-1,-1,-1,2,-2,-2,-1,1,1,-1,1,1,-1,-1,2,-1,1,1,1,1,2,1,1,1,1,2,-1,1,-1,1,1,1,1,-1,-1,1,-2,1,1,2,1,-1,-1,-1,1,-1,1,1,2,-2,-1,1,-1,-1,1,1,1,1,1,1,1,1,-1,-1,-1,1,-1,-1,1,1,-2,-1,-1,1,1,-1,1,2,-1,1,-1,-1,-1,1,1,-1,2,-1,-1,-1,2,-1,1,1,1,2,-1,1,1,-1,-1,-1,-1,1,-1,-1,1,-1,1,-1,-2,-1,-1,-1]
[-1,-1,2,1,1,-1,-2,2,1,-1,1,1,-1,2,2,-1,1,-1,-1,-1,-2,-1,-1,1,1,-2,1,1,-2,1,1,-1,-1,-1,-1,1,-1,1,-1,-1,-2,-1,-1,-1,-1,1,1,-1,-1,1,-1,1,-2,1,2,1,1,1,1,-1,1,-1,-1,-2,1,1,1,1,1,-2,1,1,-1,1,2,1,2,2,-1,1,-2,-1,1,-1,-1,-1,-1,1,-1,1,-2,-1,1,-1,1,-1,2,1,2,1,1,1,1,-2,1,-1,1,1,-1,-1,2,-2,1,1,-1,1,2,2,1,-1,1,1,-1,-1,1,1]
[-1,1,1,-2,-1,-1,-2,1,-1,1,1,1,-1,1,-1,1,1,-1,1,-2,-1,-1,1,-1,2,-1,-1,-1,-1,2,-1,1,1,-1,1,1,-1,-1,-2,2,-1,-1,-1,1,-1,-1,2,1,-2,2,-2,1,1,-1,-1,2,2,1,-1,1,1,-1,1,-1,-1,1,1,-1,-1,1,-1,1,1,-1,1,-1,-1,-1,1,-1,1,1,-1,-2,1,1,1,-2,-1,-1,-1,-1,-1,-1,-1,1,-1,-1,2,1,-1,-2,-1,-2,-1,2,-1,-1,1,-2,1,-2,-1,-1,1,1,-1,1,1,1,1,1,1,-2,-1,1]
[2,-2,1,-1,-1,-1,1,-2,1,-1,-1,-1,2,-1,2,1,1,1,-1,1,1,1,-2,-1,1,1,1,1,1,-2,-1,1,-1,1,1,1,-1,1,-2,-1,-2,-1,-1,-1,-1,2,-1,-1,-2,-1,-1,-1,1,1,2,1,1,1,1,-2,2,-1,1,1,-1,-1,-1,-1,-1,1,1,-1,1,2,1,1,2,1,-1,-1,-2,1,-2,1,-1,-1,-1,1,-1,-1,1,2,-1,1,1,-1,-1,1,2,2,1,-1,2,-2,-1,1,-1,1,1,-1,1,-1,-1,1,-1,-2,2,1,-1,-1,-1,1,-2,-1,-1,-1]
[1,-1,-1,-1,-1,2,-2,-1,-1,1,-1,1,2,2,4,-1,1,-1,-1,1,-1,1,-1,1,1,-2,-1,1,-1,-2,1,-1,2,1,1,2,-1,1,-1,-1,-1,-1,-1,-1,1,1,1,-1,-1,-1,-1,-1,-1,1,2,2,2,1,2,-1,-1,-2,1,-1,-1,-1,1,-2,1,1,-1,1,-1,1,1,2,1,1,2,1,-1,-2,-1,-1,-2,-1,2,2,-1,2,-1,2,1,-1,1,1,2,-1,2,2,1,1,1,-1,-1,-1,1,2,2,-1,1,1,1,1,1,1,-1,1,-1,1,1,1,1,-1,1,1]
[2,-1,1,1,1,-1,-1,1,-1,-1,-2,1,-2,-1,-1,-1,1,-1,-1,-1,-1,2,1,1,-1,-2,1,-2,-2,1,-1,-2,1,-1,2,1,2,1,-1,1,1,-1,-1,-2,2,-1,-2,2,-1,1,1,-1,1,-1,-1,-1,1,2,1,-2,-1,-1,1,4,-1,2,-1,-2,-1,-1,1,-2,-2,-1,2,-1,-2,2,1,1,-2,-1,1,-2,-1,-1,-1,2,-1,2,-2,2,2,2,1,1,1,2,1,2,1,-2,-1,-2,1,1,-1,1,-1,1,1,-1,1,-2,1,-1,1,-1,1,-1,1,1,-1,-1,-1,-1]
[2,-1,-2,1,-1,2,-1,1,-2,1,1,-2,1,1,1,-1,1,1,-1,-1,1,-1,1,-1,2,-1,-1,1,-1,1,-1,-1,1,-1,-1,1,-1,1,-1,1,-1,1,1,1,-1,-1,-2,2,-2,-1,-1,1,-1,1,1,-1,1,1,2,-1,1,-2,1,1,-1,-1,1,1,1,1,-1,-1,-1,2,-1,-1,2,1,-1,-1,-1,-2,-2,1,1,-1,1,-1,-1,-1,1,-1,-1,1,-1,-1,-1,1,2,2,1,-1,-1,-2,1,1,1,1,-1,-1,-1,1,-1,-1,2,-1,1,1,1,-1,-1,1,-1,-1,1,-1]
[-1,1,1,1,-1,1,-1,-1,-1,1,-2,1,2,-2,2,1,2,-1,-1,-2,1,-2,1,-1,1,1,-1,-2,-1,-1,1,-1,1,-1,-2,2,2,1,-1,-1,1,1,1,-1,-1,1,-1,1,-1,-2,2,-2,1,-1,1,-1,2,-1,-1,-2,-1,-1,1,-1,2,1,2,-2,2,-1,1,-1,1,-2,1,-1,1,-1,2,1,-1,-1,-2,1,1,-1,1,-1,1,-1,-2,-2,-1,-1,1,-1,-1,-1,-1,1,-1,-1,-1,-2,-1,-1,2,1,1,-2,-1,1,-1,-2,-1,-1,-1,1,1,1,2,1,-1,-2,1,-1]
[-1,-1,1,2,1,1,-1,-1,1,-2,1,2,-1,-2,-1,-2,-1,-2,-2,-2,1,-1,2,1,1,-1,1,-1,2,-1,1,-2,1,1,1,2,1,1,-1,1,-2,-1,-1,2,-1,-1,-1,-1,-1,1,1,1,1,1,1,-1,2,1,1,1,-1,-2,1,1,2,2,1,-2,2,1,1,1,-1,1,-1,-1,-2,2,-1,2,-2,1,1,1,-1,1,-1,1,1,-1,-2,-1,1,-2,-1,1,-1,-1,1,2,-1,-1,-1,-1,-1,2,-1,1,-1,1,1,-1,1,1,2,-1,-1,-1,-1,1,-1,1,1,2,1,-1]
[-1,-1,-2,-1,-1,2,1,-1,-1,-1,1,-1,-1,1,-1,1,1,1,1,-1,1,-1,2,-1,1,-1,1,-1,-1,1,-1,-1,1,1,-1,1,1,-1,-1,-1,1,1,1,1,1,1,1,1,-1,-1,-1,1,-2,-1,-1,1,1,-1,-1,-1,2,1,-1,1,2,-2,1,2,1,2,-1,1,-1,-1,-1,-1,1,-1,1,-1,1,2,2,-1,-1,1,-1,-2,-1,2,-1,-1,1,1,-1,1,-1,-1,-2,1,1,1,-1,1,-1,1,2,-1,1,-1,1,1,-1,1,2,1,-1,-1,-1,-1,-1,1,1,-1,-1,1]
[1,1,-1,-1,1,1,2,2,1,2,-1,1,-1,-2,-1,1,1,-2,-1,1,1,-1,-1,1,-2,1,2,2,2,-1,-1,-2,1,-1,-2,1,1,-1,-1,-2,2,-2,2,1,-1,-2,-1,-1,-1,1,-1,2,-2,1,-2,-1,1,-1,1,-1,-1,2,1,2,-1,1,-2,4,1,2,1,1,-1,1,1,-1,-1,-1,1,1,1,1,1,1,1,1,-1,-1,-1,-1,1,2,1,-1,-1,-1,-2,-2,1,-1,1,1,-1,2,-1,1,2,-1,-1,1,-2,2,1,-1,-1,-1,-1,1,-1,1,-4,-1,-2,1,1,1]
[-1,2,1,-2,-1,1,2,1,-2,-1,-1,-1,1,-1,-1,-1,-1,-1,2,1,1,-1,-1,1,1,1,-1,2,1,-1,-1,1,1,-1,-2,-1,-1,-1,-1,-1,2,1,-1,1,1,1,1,-1,2,1,-1,-1,-1,-2,-1,1,-1,-1,1,1,1,1,1,2,-1,1,-1,2,-1,2,-1,1,-2,-2,2,-1,-2,1,-1,1,1,-1,1,-1,-1,1,1,-2,2,-1,-1,1,1,1,-1,-1,1,-1,1,-1,-2,-1,-1,1,2,2,1,-1,-2,1,1,-1,2,-2,-1,1,-1,-2,-2,-1,1,1,-1,-2,2,1]
[1,-1,1,-1,1,-1,2,1,1,-1,-1,-2,-1,-1,1,1,-1,-2,1,2,-1,1,-1,1,-1,2,2,1,-2,1,1,-2,-2,-2,-2,-1,1,-1,-2,-1,-1,-1,1,1,-1,-2,1,-1,1,1,-2,1,-2,-2,-2,-2,-1,1,1,-1,-2,2,1,1,1,-1,1,2,1,1,-1,-1,1,-1,1,-2,1,-2,-2,-2,1,1,2,-1,1,1,-1,-1,2,-1,-1,-1,1,-1,1,-1,-2,-1,1,1,-1,-2,1,1,-1,2,1,-1,1,2,-2,2,-1,-1,1,-1,-1,1,1,-1,1,-1,1,-1,-1,-1]
[4,1,-2,-1,2,1,1,-1,-4,-1,-1,1,-4,-2,-2,-1,1,1,-4,1,-1,4,1,-1,-2,2,1,-1,-1,-2,2,-2,4,-2,-4,-1,-1,1,1,-4,1,1,4,1,-1,-2,2,-1,1,-1,-2,-2,-2,-1,-1,-2,-2,-1,1,-1,-2,1,-1,4,-1,-1,-2,4,2,1,2,-1,-1,-2,2,-2,1,-1,-4,2,1,-2,2,2,4,-1,1,-2,1,1,1,2,-2,1,-2,1,-2,1,-1,-1,1,-1,1,1,1,4,1,1,1,1,1,-1,1,-2,1,-1,1,-4,-1,-1,-4,-1,-2,1,2,1]
[2,2,2,-1,4,2,-1,-1,-1,-1,-1,1,-1,-1,1,-2,-1,-1,-1,1,2,1,-1,1,-1,4,2,2,-1,-2,-1,-2,2,-2,-2,-1,-2,1,-1,-1,1,1,2,-1,-1,-1,2,2,-1,-1,-2,1,-1,1,-1,1,-1,-2,1,-1,-2,4,1,4,1,-2,-2,4,-1,2,-1,-1,1,-1,-1,-1,-2,-1,-4,1,1,1,2,2,1,-1,1,-2,2,-1,1,2,-1,1,-2,1,-2,-2,-1,-2,-1,1,-1,2,1,4,1,1,-1,2,-1,2,-1,-1,1,1,1,-2,1,-2,-1,1,-2,-1,1,2]
[-2,1,1,-1,1,1,1,-1,1,1,-2,1,-2,-1,1,2,-1,-1,-1,2,1,-1,2,1,1,2,-1,-1,-1,1,1,-1,1,1,1,1,1,1,-1,-1,1,-2,-1,-1,1,-1,2,1,1,1,1,1,-1,1,-1,-1,1,-1,-1,-2,-2,1,-1,-2,-1,2,-1,2,-1,1,-1,-1,1,-2,1,1,1,1,1,-1,-1,-1,-1,-1,-1,2,-1,-1,1,-1,1,-1,1,1,1,2,-1,-1,1,-2,1,-1,1,1,1,-1,-1,-1,1,1,2,2,1,-1,1,1,-1,1,1,-1,-1,-2,-1,-1,1,1]
[1,1,2,-2,1,2,-1,-1,-2,1,1,1,-4,-1,1,1,-1,-1,-4,2,-2,2,2,1,-1,1,1,1,1,-2,-2,-2,2,-2,-1,2,1,1,-1,-2,1,1,2,1,1,-1,2,-1,1,-1,1,-1,-1,2,-1,1,-1,-1,-1,-1,-2,2,1,2,1,-1,-1,2,2,2,2,-1,-1,-1,-1,-4,-2,1,-2,1,-1,-2,2,-1,4,-1,2,-2,1,-1,2,1,-1,-1,-1,1,-2,-2,1,-1,1,2,-2,2,-1,2,1,1,1,4,1,1,-1,-1,-1,-2,-1,-2,-2,1,-2,-1,-1,-2,1,1]
[-1,2,-1,1,2,1,1,1,-1,1,-1,2,-2,-1,1,-1,1,-1,-4,1,1,1,1,1,-1,2,1,1,-1,-2,1,-2,4,-4,1,1,1,-1,1,-1,2,1,-2,1,2,-1,2,-1,1,1,-1,-1,-1,4,-4,1,1,-1,-2,-1,-1,-1,-1,1,2,2,-1,2,2,1,1,-1,1,1,2,-4,1,2,-2,-1,-1,-2,1,2,-2,1,1,1,2,-1,-1,1,-2,-1,-1,1,-2,1,1,-2,2,-1,-2,2,1,-1,1,1,1,2,-1,-1,2,1,-1,-1,-1,-1,-1,1,-2,1,1,-1,2,2]
[1,1,1,-1,-1,1,1,2,-1,1,1,1,-1,2,1,-1,-1,1,-2,-1,-1,2,1,1,-1,-1,-1,1,1,-1,2,-1,1,1,1,-1,2,-1,1,-2,-1,1,1,-1,1,-1,-2,-1,-2,1,1,-1,2,1,1,1,2,2,-1,-2,1,-1,1,1,1,1,1,2,1,-1,2,-1,1,-1,-1,1,-1,-1,1,1,1,1,-1,1,1,1,1,-1,-1,-1,-1,-1,-2,1,1,-1,-1,-1,1,2,-1,1,1,-2,1,1,-2,1,1,-1,1,-2,1,1,-1,-1,2,-1,1,1,-1,1,1,1,1,-1]
[-1,1,2,-1,1,-1,1,2,-2,1,-1,-1,-1,2,2,1,-1,-1,-1,1,-2,1,-1,1,-2,-1,-1,-2,2,-2,-1,-1,1,-2,1,2,1,1,1,-2,-1,-2,1,-2,1,1,1,1,-1,-1,1,-1,1,-1,1,1,2,-1,1,-2,-1,1,-2,2,-1,1,-2,2,1,1,2,-2,2,1,-1,-1,2,2,-2,2,-2,1,-1,-2,-1,-1,1,-2,1,2,-1,2,1,-1,-1,-1,1,2,2,1,1,-2,-1,-1,1,2,2,2,1,-1,1,1,2,-1,1,-1,1,-1,1,1,2,-1,1,1,-1,-1]
[-2,1,1,-1,1,1,1,1,1,-1,-1,-1,1,2,2,-1,-2,-1,1,1,-2,-1,1,-1,-2,-2,1,-1,2,-1,-1,-1,2,-1,2,2,1,1,-2,1,-1,-2,1,-2,2,1,1,1,-1,2,2,-2,-1,1,1,-1,2,1,-1,-1,-2,1,1,-1,-1,2,1,1,1,1,1,1,1,-1,2,1,1,2,1,1,-1,1,1,-1,1,-1,2,1,1,-1,-1,1,-1,1,1,1,1,1,1,1,-1,-2,-2,1,1,1,-1,2,-1,-1,-1,-2,1,-1,1,-2,2,-1,1,2,-1,-1,-1,1,-1,-2]
[1,2,-1,-1,1,1,1,2,1,-1,1,-1,-2,-1,-1,2,-1,1,-1,1,-1,2,-2,1,1,1,1,1,1,-2,1,1,1,-2,1,-1,1,-2,1,-1,-2,-1,2,-2,1,-1,1,-1,1,-1,-1,-1,-1,1,-1,1,-1,1,-2,-1,1,-2,-2,-1,1,-1,-1,-1,1,-2,2,1,2,1,1,-1,2,-1,-1,1,-2,1,1,-2,1,-1,1,-2,1,1,-1,2,1,2,1,-1,1,-1,2,-1,-1,-2,-1,-1,-1,1,1,-1,-2,2,1,-1,1,-1,2,1,1,-1,1,1,-1,-2,1,1,-1,-1]
[1,2,2,1,-1,-1,-1,2,-2,1,1,1,-1,-1,1,2,-1,-1,-2,-1,-2,1,-1,-1,-2,1,1,-2,1,1,1,-1,1,-2,1,4,1,-1,1,1,-2,-4,1,2,1,1,-1,1,-1,-1,-1,1,-1,1,-4,1,4,-1,1,-1,1,1,1,2,-1,1,-1,-1,1,-1,2,-2,1,-1,-1,-2,1,1,2,-1,-2,-2,1,-1,4,-1,1,1,-1,2,-1,-1,-2,-2,-2,1,-2,-1,2,-1,1,1,-1,-1,1,1,1,1,-1,-1,1,-1,1,-1,-1,-1,1,-2,-1,1,1,-1,1,-2,-1,-2]
[1,1,1,-2,-1,-1,-2,2,-2,-1,-1,1,-2,1,2,-1,1,-2,-2,-1,-1,-2,-1,2,-1,2,-1,1,2,-2,1,1,-1,-1,2,2,-1,1,-2,-1,-1,-4,-1,1,1,-1,1,2,-2,2,-1,-2,-1,2,-2,1,2,1,-1,-1,1,-1,-2,-1,2,1,-1,1,-1,-1,2,-2,-1,-2,-1,-2,1,4,-2,1,-2,-1,1,-1,1,-1,2,-2,-1,-1,-1,1,-1,-1,1,-1,-2,-1,2,-1,-1,1,-1,-1,-2,2,1,2,-1,2,1,-1,2,1,1,1,1,-2,1,2,-2,-1,-1,-1,-2,-2]
[2,-1,-1,1,2,-1,-1,-1,-1,2,-1,-1,1,-1,-1,2,-2,-2,-1,-2,-1,2,-1,1,-2,-1,1,1,-1,1,-1,-1,-1,-1,-1,-1,1,-1,-1,1,-1,-1,2,-1,1,-2,1,1,-1,-1,-1,-1,1,-1,-1,1,1,2,-1,-1,-1,-1,-2,2,-1,-2,1,-1,-1,2,2,-1,1,2,1,1,1,-1,-1,1,-2,-1,1,1,-1,-1,-1,1,2,-1,1,2,-2,-2,1,1,1,-1,1,-1,1,-2,-1,-1,-1,2,2,1,1,1,1,1,1,-2,1,-1,2,1,1,2,-1,-1,-1,1,1,-2]
[-2,1,2,-1,2,-1,2,4,-1,1,1,2,-1,1,2,1,-1,-1,-1,-2,-2,-1,-1,-1,-2,-1,1,-1,2,-1,1,1,-1,-2,1,1,-1,-1,1,-2,1,-1,1,-2,-1,-1,1,-1,1,1,-1,-2,-1,1,-1,-2,1,1,-1,-2,1,-1,-2,1,2,2,1,2,-1,1,1,-1,-1,-1,-1,-4,-2,4,2,-1,-2,-1,1,-2,4,-1,-1,-1,-1,1,-1,1,1,-2,-2,2,-2,-1,2,-1,1,1,1,-1,-1,2,2,-1,-1,1,-1,-1,-1,-1,-1,-1,1,-1,-1,2,2,-2,-1,-1,1,1]
[-2,1,1,-2,1,1,1,2,-1,1,1,-1,-2,2,2,-2,1,1,-1,-1,-1,-1,1,2,-1,1,1,-1,2,1,-1,-1,1,-4,2,1,-1,-1,-2,-2,1,-1,-2,-1,1,1,-1,2,1,2,-1,-1,1,1,-1,-1,1,1,-1,1,-2,1,-1,-1,1,2,-2,-1,1,1,1,-1,-1,1,-1,-2,1,1,1,-1,-1,1,-2,1,-1,2,-1,-1,-1,-1,1,2,-2,-1,-1,1,-1,1,1,1,1,-1,-1,-2,1,-1,-1,1,-1,1,-1,1,2,-1,1,-1,1,-1,-1,4,-1,-2,-1,-2,1,-2]
[-1,2,1,1,-1,-1,-1,1,1,-1,1,-1,-1,-2,-1,-2,1,-1,1,1,-1,-1,-2,-1,1,-1,-1,-2,1,-1,1,1,-1,-1,1,1,1,-1,-2,1,-1,1,-1,1,-1,1,1,-2,-1,1,1,-1,1,1,1,1,2,-2,1,-2,2,-2,1,-2,-1,-1,-1,-1,1,1,1,-1,1,1,-1,-1,-1,1,-1,1,1,1,-1,-1,-1,-1,-2,-1,-1,-1,-2,1,-1,-1,1,1,1,-1,1,1,-1,1,-1,-1,-1,-2,-1,-1,2,-1,-1,-1,1,-1,1,2,1,-1,-1,-1,2,-1,2,-1,-1,-1]
[1,-1,1,1,-1,-1,-1,1,-1,1,2,-2,1,1,-1,4,2,-2,1,1,1,1,-1,1,-1,-2,1,1,-1,-1,1,1,1,2,1,-1,1,-1,1,1,1,-1,1,1,-1,-1,-1,1,2,1,-1,1,2,-1,1,1,2,1,1,2,-1,-1,-1,2,1,-1,1,-1,-1,1,-1,1,1,-2,1,1,1,-1,2,-1,1,-1,-1,1,1,1,1,-2,1,1,1,1,1,1,-1,2,1,-1,-1,-1,1,-2,1,-1,1,1,-1,-2,-1,-1,-2,1,1,-1,-1,-1,2,-2,1,-1,-1,1,-1,1,-1,1]
[2,-1,1,-1,1,-1,2,-1,1,1,-1,1,-2,1,1,-2,1,-1,-1,1,1,4,-1,1,-1,-1,-1,-1,1,1,-1,2,-1,1,1,1,1,1,1,-1,-2,-1,1,-1,1,1,-1,-1,1,-1,1,-2,1,1,1,1,1,-1,-1,-1,-1,1,-1,2,-1,1,1,1,-1,1,1,-1,1,1,1,1,1,1,-2,1,-1,-1,-1,-1,-1,-1,-1,1,1,1,-1,1,-1,1,1,1,2,1,1,1,-1,-1,-1,-1,-1,1,1,-1,1,-1,-2,1,1,-1,-1,1,-1,1,-1,1,-1,-1,1,-1,-1,1]
[1,-1,-1,-1,1,1,-1,-1,-1,1,1,-1,-1,1,-1,1,1,1,1,-1,-1,1,-1,-2,1,-1,-2,1,2,-1,1,1,1,-2,-1,1,1,1,1,1,1,1,2,-2,1,1,2,-1,-1,-1,-2,-2,-2,-1,1,-1,1,1,1,1,-1,1,-2,1,-1,1,-2,-1,1,1,1,-1,1,-1,1,-1,-1,-1,-1,1,-1,1,1,1,2,-1,1,-1,1,1,2,1,1,-1,1,1,1,-1,1,2,-1,-1,1,-2,-1,1,-1,-1,1,-1,1,-1,2,1,-2,-1,-1,-1,-1,-1,-1,-1,1,-1,1,-1]
[-2,-1,1,1,1,-1,1,-1,-1,1,1,1,1,2,1,4,-1,1,1,-2,1,-4,2,-2,1,1,-1,1,2,-1,-1,1,-1,-1,2,-1,4,1,-2,1,-1,1,1,-1,-2,-1,-1,-1,-1,1,1,1,2,1,-1,1,-1,1,-1,-1,1,1,-1,-2,1,-1,-1,-2,-1,1,-1,1,1,1,-1,-1,-1,-2,2,-2,-1,-1,-1,1,1,1,-2,-1,-1,-2,-2,1,-2,-1,-1,1,-1,1,1,-1,2,1,1,1,1,-2,1,1,-2,-1,-1,1,-1,-1,-1,-1,1,2,1,1,4,-1,1,1,-2,-1]
[2,1,-1,-1,2,-1,-2,1,1,-1,2,1,-2,-1,-1,-1,-2,-1,1,-1,1,-1,2,1,1,-1,1,-1,2,-1,-1,-1,1,1,1,1,1,2,-1,2,-1,1,2,-1,-1,-1,2,1,-1,1,1,1,1,1,-1,-1,-1,2,-1,-1,-1,-2,1,1,-1,1,-2,-1,-1,-1,1,-1,-1,1,-1,-1,2,-1,-2,1,1,1,1,-1,2,-1,1,1,-2,1,1,-2,1,-1,2,1,1,-1,-1,1,2,1,-2,-1,-2,2,1,1,-1,1,-2,1,-1,2,-2,2,1,1,-1,-1,1,-1,1,1,-1,-1]
[1,-1,1,-1,-1,-1,1,-1,1,2,-1,-1,1,1,-1,1,-1,1,1,-2,-1,1,1,-1,-1,1,-1,1,-1,-1,-2,-1,-1,1,1,1,1,1,1,1,1,1,2,-1,1,1,1,1,2,-1,-1,-1,-1,-1,-1,-1,-1,2,-1,-1,1,1,1,-1,2,-1,1,-1,-1,-1,1,-2,1,1,-1,1,1,1,-1,1,-1,-1,-1,1,1,-2,-2,1,-1,1,-1,1,-1,-1,1,2,1,1,1,-1,1,-1,-1,-2,1,-2,-1,1,-1,-1,-1,-1,1,-1,1,-2,-1,1,-2,-1,-1,-1,-1,-2,-1,2]
[4,1,1,-1,1,-1,1,1,-1,-2,1,1,-1,1,-1,1,-1,-1,1,1,1,-1,1,2,-1,-1,1,-1,1,1,1,2,1,2,1,1,-1,-2,1,-2,1,1,2,1,1,1,1,-1,-1,-1,-1,1,1,1,-1,-1,-1,-1,1,-1,1,-1,1,1,1,-2,1,-1,1,1,-1,1,-2,-1,-2,1,1,-1,4,1,1,1,1,2,1,2,1,-1,-1,1,1,1,-1,-1,-2,-1,-1,1,2,-1,1,1,1,1,-1,1,1,-1,1,1,1,1,-1,-1,1,-1,1,1,1,-1,2,1,1,1,-1,-1]
[1,-1,1,-1,1,1,-1,1,1,1,1,-1,1,-1,-1,-1,2,1,1,-2,1,4,-1,-1,-1,2,-2,1,1,-1,1,-1,1,1,1,1,1,-1,1,-1,1,1,4,-1,-1,1,1,2,1,-2,1,-1,1,1,-1,-1,1,-1,-1,-1,-2,-1,2,2,-1,1,1,1,2,-1,-1,-2,1,-1,1,-1,1,-1,-1,1,-1,1,-1,1,1,-1,-1,1,-1,-2,1,-1,1,-1,-1,-1,-1,-2,-1,-1,1,1,-1,1,1,1,-1,1,1,-1,1,1,1,1,1,1,-1,-2,2,-2,-1,-1,1,1,-1,1]
[-1,-1,-1,-1,1,1,-1,-2,1,1,-1,2,-1,-1,-2,2,-1,1,1,2,-1,1,-1,1,1,-2,-1,-1,1,-1,-1,1,2,-1,-1,-1,2,-1,1,2,1,-1,-1,1,-2,-1,2,1,-1,1,1,-1,-1,-1,-1,-1,-2,-1,1,1,-1,-2,1,-1,1,-1,1,-1,1,1,1,1,-1,1,1,2,1,2,1,1,1,1,1,1,-1,-1,1,-1,1,-1,1,-1,-1,1,1,1,-1,-1,-1,1,1,-1,-2,1,-1,-1,-2,-1,1,-1,-1,2,-1,2,1,1,1,1,1,-1,-1,-1,1,2,1,1]
[1,-1,-1,1,2,-1,-1,1,-1,-1,-1,-1,-1,-1,1,1,1,1,1,-1,-1,1,1,-1,1,2,-1,-1,1,-1,1,1,1,-1,1,1,-1,-1,2,-1,-1,-1,1,-1,1,-1,1,-1,1,-2,1,1,-1,1,2,1,1,1,1,1,-1,-2,-2,1,2,-1,1,-1,-1,-1,2,1,-1,-2,-1,1,-2,1,-1,-1,1,-1,-1,1,1,-2,1,-1,-1,1,1,1,-2,1,-1,1,1,-1,1,-1,-2,-1,-1,-1,-1,1,-1,-1,1,-1,-1,1,-1,2,1,2,1,1,1,-1,2,1,1,2,1,1]
[1,-1,1,-2,-1,1,-1,-1,-1,-1,1,1,-1,1,-1,-1,-1,-1,-1,1,1,-1,1,1,-1,-1,-1,-1,-1,1,-1,1,1,1,-1,-1,-1,1,1,-2,1,-1,1,1,1,-1,-1,1,-2,1,1,2,-1,2,-1,-2,-1,2,-2,-1,-1,-1,2,-1,-2,1,1,-1,1,1,1,-1,1,1,-2,-1,-1,1,1,-1,1,-1,-1,1,-1,-1,-1,1,-1,-1,1,-1,1,1,-1,-1,-1,1,-1,1,1,-2,1,1,2,-2,1,-1,1,1,1,1,1,1,-1,1,1,-1,-1,1,-1,-1,1,1,1,-1]
[-1,1,-1,1,-1,1,2,1,2,1,1,-1,-1,2,-1,-2,-1,1,1,1,-1,1,-1,1,1,1,-2,-1,1,1,-1,1,-1,-1,-1,-1,-1,-1,1,1,1,-2,-1,-1,1,-1,-1,2,2,1,-1,-1,1,-1,2,-1,-2,1,-1,-1,1,1,1,-1,1,1,-1,-1,2,-1,2,2,-1,2,-1,1,-1,2,-1,1,-1,1,1,-1,1,-1,-2,-1,1,-1,2,1,-1,-1,-1,-1,1,-1,-1,-1,-1,-1,1,-2,1,-1,-1,-1,-1,-1,-2,2,1,2,-1,-1,-1,-1,-1,1,-1,-1,-1,1,1,-1]
[-2,1,-1,-1,-1,-1,-1,1,2,-2,-1,1,1,1,1,1,-1,1,-1,-1,-1,-1,1,-1,1,1,-1,1,-2,1,-2,1,-1,-1,1,-1,1,1,1,-2,-1,1,-1,-1,-2,1,1,1,-1,2,1,1,-1,-2,-1,1,-1,2,1,1,1,-1,-1,1,-1,1,2,1,1,1,-2,-1,-1,1,-1,1,2,-1,-1,-1,-1,1,-1,-1,-1,-1,2,-1,-1,-1,-1,-1,1,-1,-1,-1,1,1,-2,-1,-1,1,2,-2,-1,-2,-1,-1,-1,1,1,1,-2,-1,1,1,1,2,1,-1,1,1,-1,-1,1,-2]
[-1,-1,1,-1,-1,2,-1,1,-1,1,-1,-1,1,-1,2,1,1,1,-1,-1,-1,1,1,2,-1,-2,1,1,-1,1,1,-1,1,-1,-2,-1,-1,1,1,1,2,1,2,1,2,1,-1,-1,-1,1,1,-1,2,1,1,1,1,-1,1,-1,-2,-1,2,1,2,1,1,-1,-2,1,-1,-2,-2,1,1,1,-1,-1,-1,1,1,1,2,1,2,1,1,1,1,1,1,1,-2,1,-1,2,-1,-1,2,1,-1,-2,-1,1,-1,-1,1,-1,-1,1,1,1,-1,1,-1,1,-1,1,-1,-1,-1,2,-1,2,1,1]
[1,-1,1,1,1,-1,2,1,1,-2,-2,-1,1,-2,-1,-1,1,-1,-1,-1,1,-1,-1,-1,1,-1,1,2,1,-1,-1,1,-1,1,2,-1,-2,1,1,1,-1,-1,-1,1,1,-1,-2,1,2,2,-1,1,-1,-1,1,-1,-1,-1,-1,1,1,1,1,-1,-1,-1,-2,1,-1,1,1,1,1,1,1,1,2,1,1,1,-1,-1,2,1,1,-1,1,-1,-1,1,-1,-1,-1,-1,1,-1,-2,-1,-1,1,1,-1,-1,1,1,1,-1,-1,-1,-1,-1,1,-1,1,1,1,-1,-1,-1,2,1,-1,-1,1,-1,-1]
[-1,-2,-2,1,1,2,2,-1,1,-2,-1,1,1,-1,1,-2,-1,-1,-2,1,-1,1,-2,1,-1,-1,1,2,-1,2,1,-1,1,-1,1,-1,1,1,1,-2,1,-1,1,1,1,-1,-1,-1,1,-1,-1,1,2,1,-2,1,-1,-2,2,-1,-1,-1,-2,-1,-1,-1,-1,-1,-1,1,1,-1,-2,1,1,-1,1,-1,-1,-1,-2,1,-1,-1,1,-1,2,-1,1,1,1,1,-1,-1,-2,1,-1,-1,-1,1,1,-1,-1,-1,1,-2,-1,1,-1,1,1,2,-1,1,-1,1,1,-1,1,-1,1,-2,-1,-1,1,1]
[-1,1,-1,-1,-1,1,2,1,1,1,1,-1,-1,1,1,1,-2,-1,-1,-1,1,2,2,1,2,-2,-1,2,-1,-1,1,1,1,1,-1,-1,1,-1,1,-1,1,-1,-1,-1,1,2,1,-1,-1,1,1,-1,2,1,2,-1,1,-1,-1,2,1,-1,1,-1,-1,-2,-1,-1,1,1,-1,1,-1,-1,1,-1,-1,1,-1,-1,-1,-1,-1,-1,-1,-1,-1,-1,-1,1,1,1,-2,-1,-1,-1,1,-1,-1,1,1,-1,1,1,2,1,-2,-1,1,1,1,1,-1,1,-1,1,1,-1,1,2,-2,-1,-1,-1,1,-1]
[1,1,1,1,-2,1,1,-1,1,2,1,-2,-1,1,1,1,1,-1,1,1,-1,-1,1,1,1,-1,-1,-1,-1,1,-1,-2,-1,1,-1,-1,-2,1,-1,2,-1,1,1,-1,-1,-1,1,1,1,-2,-2,-1,2,-1,-2,-1,-1,-1,-1,-1,1,-1,-1,-1,-2,1,-1,-1,-1,1,1,-1,-2,1,1,1,1,-1,-1,1,1,1,-1,-2,-2,1,2,-1,-2,1,-1,2,-1,1,1,-2,1,-1,-1,-2,-1,1,1,-1,-1,-2,1,1,1,2,-1,-1,-1,-1,1,1,-1,1,2,-1,1,1,-1,1,-1,-1]
[-1,1,1,-2,1,1,1,1,1,-1,-1,-1,2,-2,-1,1,-2,1,-1,-1,-1,-1,1,-1,-1,1,-1,2,1,-1,-1,2,1,-1,1,1,-1,-1,1,1,2,-1,1,-1,1,-2,1,2,-2,1,-1,1,-2,-1,1,2,1,-1,1,1,-1,1,-1,1,-1,2,1,-2,2,-1,-1,1,-1,1,-1,2,1,-2,1,1,1,-1,-1,-1,-1,-1,-1,-1,-1,-1,1,-1,1,-1,-1,-1,1,1,-1,-1,-1,-1,-2,-1,1,-1,-1,1,1,-1,1,1,1,1,-1,1,1,-1,2,1,1,2,-1,1,-1,1]
[-1,-1,1,-1,-1,1,1,2,-1,1,-1,2,-2,-1,1,-1,-2,-1,-1,-1,-1,-1,1,1,1,1,-1,2,-1,-1,1,-1,1,-1,1,-1,-1,-1,-1,1,-1,1,1,1,1,2,-1,1,1,-1,2,-1,-1,-2,1,2,-1,1,-1,-1,2,1,-1,1,1,2,1,-1,2,-1,-1,-1,1,-1,1,1,-1,-1,-2,-2,1,-1,-1,-2,1,-2,1,-1,-1,2,1,1,-1,2,-1,1,2,-1,-2,-1,2,-1,1,-1,1,1,1,-1,-1,-1,-1,1,1,1,1,1,-1,1,1,1,-1,-1,1,1,-1,-2]
[-1,-2,1,-1,1,-1,1,1,2,2,1,-1,-1,-1,2,1,-1,1,-2,-1,1,-1,-1,-1,1,1,1,-1,-2,-2,-2,1,1,-1,-1,-1,1,-1,-1,2,1,-1,-2,-1,-1,1,-2,-2,-1,-2,-1,1,1,1,1,-1,-1,-1,-2,1,1,1,1,1,-1,-1,-1,1,-1,-1,-1,2,-1,1,1,-1,-1,1,1,-1,1,1,1,1,1,1,-1,1,2,2,1,-1,1,1,-1,-1,-1,1,-1,-2,-2,1,-2,1,1,-1,1,-2,2,-2,1,1,1,1,-1,1,1,1,-1,-1,1,-1,1,1,1,-1]
[-1,-1,1,-1,1,-1,2,-1,-1,-1,1,-1,-1,1,1,2,2,1,-1,2,1,1,-1,-2,-1,-1,1,-1,1,-1,-1,-1,1,1,-1,-1,1,1,1,-2,-2,1,1,-1,-1,1,-1,-1,1,2,1,-1,1,-1,1,-1,1,-2,-1,-1,1,1,1,1,-1,-1,1,-1,1,-1,-1,-1,-1,1,-1,1,-1,1,-1,1,-1,-1,-1,1,1,1,1,1,-1,-1,-1,-1,-1,-2,-1,-1,-1,-1,-1,-1,-2,1,1,1,1,-1,-2,-1,-1,1,1,1,1,-1,-1,-1,-1,-1,1,1,-1,-1,1,-1,-1,-1]
[1,1,-1,1,-1,-1,-1,-1,1,1,1,1,1,-1,1,-1,-1,2,2,-1,-1,-1,1,2,-1,-1,1,-1,2,1,2,-1,1,-1,1,1,1,2,-1,-1,-1,-2,-1,-1,-1,1,-1,-1,-2,-1,1,-1,1,-1,-1,-1,-1,1,1,1,1,1,-1,1,-2,-1,2,1,1,2,-1,-1,1,-1,-1,-1,-1,1,-1,1,1,2,-1,2,-1,-1,1,1,-1,2,-1,-1,1,1,-1,1,1,1,-1,1,-1,1,-1,-1,-1,1,-1,1,-1,1,-1,1,1,1,-2,1,-2,-1,-1,1,-2,1,1,-1,-1,1]
[-2,-1,1,-1,1,2,-1,2,-1,-1,-1,-1,1,1,1,2,1,1,1,-1,-2,-1,-1,1,-2,1,1,1,-2,-1,-1,1,-1,-1,-2,1,-1,-1,1,1,-1,-1,1,-1,2,-1,-1,1,1,2,1,2,-1,-1,2,-2,-1,-1,1,-1,-1,-1,-2,1,-1,1,1,1,1,2,-1,-1,-1,1,-1,-1,2,1,-1,2,1,-1,-1,-1,1,-1,-1,-1,1,-1,1,1,1,-1,-1,-1,-2,-2,1,1,-1,1,1,-1,-1,1,-1,1,1,-1,-1,-1,-1,-1,1,-1,-1,-1,-1,1,-1,-1,1,-1,-1,-1]
[1,1,-1,2,-1,-1,-1,1,1,1,2,-1,1,1,1,1,-1,-1,1,1,-1,1,1,2,1,2,-1,-1,1,-2,-1,1,-1,1,-1,-2,-1,1,-2,1,1,2,-1,1,-1,1,1,1,-2,1,-1,1,1,1,1,-1,-1,1,-1,1,1,-2,2,2,-1,-2,1,-1,1,-1,1,2,-1,-1,1,1,-1,1,2,1,1,1,-2,-1,-1,-1,1,-1,1,-1,2,-1,1,-1,-1,1,1,1,2,-1,1,-2,-2,-2,-1,-1,-1,1,2,1,-1,-1,1,1,1,-1,-1,1,1,-1,-1,-1,1,-1,-1,-1]
[-2,1,-1,2,1,1,1,1,-1,-2,-1,1,-1,-1,1,1,-1,1,-1,2,1,-1,-1,1,1,1,-1,1,-1,-2,-1,-1,1,-1,1,1,-1,1,-1,-1,-1,1,-1,1,1,1,1,1,2,1,2,-1,1,-2,-1,1,-1,-1,1,-1,1,-1,-1,-1,1,-1,-1,1,-1,-1,1,-2,1,-1,1,-1,-1,-2,1,1,2,-1,-1,1,1,-1,1,-1,-2,1,-1,-1,2,1,1,1,1,-1,-1,-1,-1,-1,-1,1,-1,-2,-1,1,1,-1,1,-2,-1,1,2,-1,1,-1,1,-1,1,-1,1,-1,-1,-1]
[1,1,-1,1,1,1,1,1,-2,-1,2,1,1,1,1,1,1,1,-1,1,-1,1,-1,1,-1,1,1,-1,1,1,-1,-1,-1,-1,-1,2,1,1,-1,1,-1,-2,2,1,1,1,1,1,1,2,1,-1,-1,1,1,1,-1,1,-2,-1,1,1,1,2,1,-1,1,-1,-2,-1,1,-1,-2,-1,1,1,-1,-1,1,1,1,1,1,-1,1,1,-1,-1,-1,2,1,-1,-1,-1,1,-1,-2,2,1,-2,-1,-2,-1,1,-2,-1,2,-1,-1,2,-2,2,-1,-1,2,1,-1,-1,2,1,1,1,1,-1,1,-2]
[2,1,-1,-1,1,-1,1,-1,1,-1,1,1,-2,2,1,1,1,-2,-2,2,-1,1,-1,1,-1,1,1,-1,-1,1,-1,2,1,-2,-1,-1,1,1,-1,-1,2,-2,1,1,-1,-1,-1,1,-1,2,-1,2,1,-1,-2,1,1,-1,-2,-2,-1,2,-1,-1,-1,1,1,-1,-1,-1,-1,1,1,2,-1,-1,2,-1,1,1,-1,-1,2,-2,1,-1,1,-1,1,2,1,1,1,-1,2,1,1,-1,-1,1,-1,-1,1,2,1,-1,1,1,-1,1,1,-1,1,-1,-1,1,-1,1,2,2,1,1,-2,-2,1,1]
[-2,2,1,-2,1,1,1,1,1,2,-1,-1,1,-1,1,1,-2,-2,-1,1,-1,1,-1,1,-1,-1,1,-2,-1,-1,1,-1,1,-1,-1,1,2,-1,-1,1,2,-2,1,1,1,-1,1,1,-1,1,1,1,-1,-1,1,1,-1,1,1,-2,-1,1,-1,-2,1,1,-2,-1,1,-1,2,1,-1,-1,-1,-1,1,1,2,1,-2,1,1,1,1,2,1,-1,1,2,-1,-1,1,-1,2,1,-1,1,1,1,-1,-2,1,-1,-2,-1,1,1,-1,1,-1,1,-1,-1,-2,1,-2,1,1,2,1,-1,-1,-2,2,-2]
[1,-1,-1,-1,-1,1,-1,-1,-1,-1,-1,-2,-1,-1,2,1,-1,-2,2,1,1,1,-1,1,-2,1,2,2,1,-1,1,1,-1,-1,1,1,2,1,-1,-1,1,1,1,1,-1,-1,1,-1,1,1,-1,1,-1,1,-2,-1,-1,1,1,1,-2,2,-2,-1,1,-1,-1,-1,-1,1,2,1,-2,1,-1,-2,-1,-1,2,-1,-1,1,1,-1,-2,1,2,-1,2,-1,1,1,-2,1,2,-2,-1,1,1,1,1,1,-1,-1,1,1,-1,1,-2,1,-1,2,1,1,-1,-1,1,1,-1,1,1,-1,-2,-1,-1,1]
[-1,1,2,-2,1,1,-1,2,-1,-4,2,-1,1,2,2,-2,1,-2,-1,-1,-1,-1,1,1,-1,-1,1,1,1,-1,-1,2,-1,1,2,2,-2,-1,-1,1,-1,-2,1,1,1,-1,1,-1,2,1,-1,-1,-1,1,1,1,4,1,1,-2,-1,2,-2,-2,1,1,-1,-1,1,1,2,-1,-1,2,1,-1,2,1,-1,-1,-1,-1,2,-1,2,1,1,1,2,-1,-1,1,1,-1,1,-1,-2,2,1,-1,-1,1,-2,2,-1,-2,1,1,1,1,2,1,2,-2,-4,2,1,1,2,1,-2,-1,-1,-1,1,-2]
[1,1,2,-1,1,1,-1,2,-1,-1,1,-1,-1,-1,1,1,-1,-2,1,2,-1,1,2,1,-2,1,-1,1,2,-1,-1,-1,1,-2,1,1,-1,1,-1,-1,2,-2,1,2,2,-2,-1,1,1,2,-2,-1,-1,-2,-1,-1,-1,-1,1,-1,-1,2,-2,-1,1,1,-2,2,1,2,1,1,-2,-2,1,-2,-1,-1,1,-1,-2,1,1,-2,1,2,-1,-1,2,1,-1,1,-2,-2,-1,-1,1,1,1,-2,-1,-1,-1,1,-2,-1,2,-1,1,-1,1,2,2,-2,1,-1,1,-2,1,-1,2,1,-1,-1,1,-1]
[2,-1,-1,1,-1,1,-1,1,-1,-1,-2,-2,-2,1,-1,-1,1,1,-2,-1,-2,1,1,-1,-1,-1,2,1,2,1,-1,-2,-1,1,2,1,-1,-1,-1,1,1,-1,1,1,-1,-1,1,-1,-1,2,1,1,-1,1,1,-1,1,1,-1,1,1,1,1,2,-1,-1,-1,-1,1,1,1,-1,2,1,-2,1,1,1,1,-1,1,-2,1,-2,-1,2,-1,-1,-1,1,-1,2,1,-1,-1,-1,-1,1,1,1,-2,-1,1,-1,-2,2,-1,-1,1,-1,-1,-1,-1,-1,1,-1,-2,1,1,2,1,1,1,-1,1,1]
[2,1,2,-1,1,-1,-1,-1,-1,-2,-2,-1,-2,1,4,-1,-2,-1,-1,-1,-1,1,2,2,-2,-1,1,2,2,-1,-1,-1,-1,-1,-1,2,-1,1,-1,-1,2,-1,-1,1,2,-2,-1,-1,1,1,-1,-1,1,-1,-1,1,4,-1,-1,1,-1,1,1,-1,-1,2,-1,1,2,1,2,-2,-2,-1,1,-2,-1,1,-2,-2,1,1,1,1,2,2,1,-2,1,-1,2,-1,-1,1,2,-2,-1,-2,1,1,1,-1,1,2,1,-2,-1,2,-1,1,2,2,1,-1,-1,-1,-2,-2,1,1,-1,-1,-1,-1,-1,-1]
[-1,-1,-1,-1,1,1,-1,1,-2,-1,1,-1,-2,-1,1,1,1,-2,-1,-2,1,-1,2,-1,-1,-1,1,2,-1,-1,-1,1,-1,1,1,2,-1,-1,1,-2,1,1,-2,-1,1,-1,1,1,1,1,-1,-2,1,-1,-2,-1,1,-1,-1,-1,-1,2,-2,1,1,2,1,2,-1,2,-1,-1,-1,1,-2,1,1,2,2,-1,1,-1,-1,-1,1,2,2,-2,2,-1,2,-1,1,-1,1,-2,1,-1,1,-1,-1,-2,-1,2,-1,-1,2,1,1,-1,-1,1,-1,1,1,1,1,1,-1,2,1,-2,-2,1,-1,-1]
[1,-1,1,-2,-1,-1,-1,-1,1,2,-1,-1,1,1,-1,2,-1,-1,1,1,1,4,1,-1,1,1,-2,1,1,1,-1,-1,-1,-1,-1,1,-2,-2,-1,-1,1,1,1,1,1,1,-1,-1,1,1,1,1,-1,1,2,-1,-1,1,1,2,-1,-1,1,1,-1,-1,1,1,1,-2,1,-1,1,1,1,1,1,2,1,1,1,-1,-1,-1,-1,1,1,-1,1,1,-1,-1,-1,-1,1,1,1,1,-1,-2,1,-1,-2,-1,-2,-1,-1,-1,1,1,-1,1,-1,1,1,2,1,1,-1,1,1,1,-1,1,-1,1]
[2,1,-2,1,-1,-2,-1,-1,1,1,-1,-1,-1,-1,-1,1,2,-1,-1,1,1,1,-1,1,-1,1,-1,1,-1,1,1,1,2,-1,-1,-1,-1,-1,1,-1,2,2,1,1,-1,-1,-1,1,1,1,-1,1,2,1,1,-1,1,-1,-1,1,1,1,-1,1,-1,-1,1,1,2,-1,-1,2,1,1,1,-1,1,-1,1,1,-1,-1,1,1,-1,-1,1,-1,1,-2,-1,-1,1,-2,-1,-1,-1,1,1,-2,1,1,1,-1,-2,2,-2,-1,1,1,1,1,-1,1,-1,-1,-1,1,-2,-1,-2,2,1,1,1,-2]
[2,-1,-1,-2,-1,-2,-1,-1,-1,-1,1,-1,-1,1,-1,1,1,1,-2,-2,1,1,-1,-1,-1,-1,-1,1,1,-1,-1,1,1,-1,-1,-1,-2,1,2,1,-1,1,-1,-1,1,1,2,-1,-2,-1,-1,1,1,2,1,-2,-1,-1,-1,1,-1,-1,-1,-1,-1,-1,1,1,-2,-1,-1,-1,-1,-1,-1,-1,-1,-1,-1,-2,1,-1,-1,-1,1,1,-1,-1,-1,1,1,-1,-1,-1,-1,1,1,1,-1,1,-1,1,1,2,-1,-1,1,2,-2,-1,-1,-1,2,1,2,-2,1,-2,1,1,2,2,1,-1,1,1]
[4,1,-2,-1,-2,-2,1,2,1,-1,-2,-1,-2,1,-1,-1,1,-2,2,1,-1,4,2,-1,-1,1,1,1,-1,1,1,1,-1,-1,-2,-1,1,-1,-1,-1,-1,1,2,-1,-1,-1,1,1,2,1,1,-1,-1,-1,-2,2,1,1,1,-1,-1,1,1,1,-1,1,1,-2,1,1,1,1,1,-2,1,-2,-1,1,1,-1,-1,-1,-1,1,2,2,-2,1,-2,1,-1,1,-1,-1,1,-1,-1,-1,1,-1,-1,2,1,-2,1,2,1,1,1,-1,1,1,1,-1,-1,-1,1,-1,1,1,-1,1,-1,1,1,1]
[-1,-1,1,-1,-2,1,-1,1,-1,1,2,1,-1,2,-1,2,1,2,-1,2,1,-2,-1,1,-1,1,1,1,-2,1,-1,-1,2,1,1,1,1,-1,1,-1,1,-1,1,-1,1,1,1,1,-1,1,-2,1,-1,-1,1,2,-1,1,1,2,-1,-1,-1,-1,-2,1,-2,1,-1,-1,-1,-1,1,1,-1,-1,-1,-1,-1,1,-1,1,-1,-1,1,1,1,-1,1,1,-1,-1,-1,-2,2,-1,-1,-1,-1,-2,-2,2,-1,1,1,1,1,1,-1,1,-1,1,1,-1,-1,1,2,-1,-1,1,1,-1,2,2,-1,1]
[2,-1,1,1,-1,1,1,-1,1,1,1,-1,1,1,-1,-1,1,2,-1,1,1,2,2,-1,-1,1,-1,1,-1,1,-1,1,-1,1,-2,1,-2,1,1,1,1,1,2,-1,2,-1,-2,1,-2,1,1,-1,1,-1,1,-1,1,-1,-1,-1,1,-1,2,2,-1,2,1,1,-1,-2,-1,-1,1,-1,2,-2,-1,1,-1,-1,-2,1,-1,-1,1,1,1,-1,2,-1,-1,1,1,2,1,-2,-2,1,1,1,1,-1,1,-1,-2,1,-1,-1,-1,-1,1,-1,-1,1,1,1,1,1,-1,1,1,-1,1,1,-1,-1]
[-1,1,1,1,-1,-1,-1,-1,1,1,-1,-1,-1,1,-1,-1,-2,1,-2,2,-1,4,1,-2,1,2,1,-1,-1,-1,-2,-1,1,-1,-2,1,1,-1,1,-1,-2,1,-1,-2,-2,-2,-1,-1,-1,1,-1,1,1,-1,2,-1,-1,1,1,1,1,1,1,-1,-1,1,-1,-1,1,1,1,-1,1,-1,-1,1,1,-1,-1,1,2,1,1,1,-1,-2,-1,1,2,1,1,-2,-1,-2,2,2,-1,1,-1,-1,1,1,-1,-1,1,2,1,1,1,-1,1,-1,1,1,1,1,1,-2,-1,1,1,1,1,-1,1,1]
[4,-1,1,1,2,1,-1,1,1,-1,-1,1,-1,-1,1,1,1,-1,-1,-1,1,1,1,1,1,1,-1,1,-1,-2,-1,1,-1,-1,2,2,-1,-1,-1,1,-1,1,1,1,-2,-1,1,-1,1,1,-1,1,1,1,-1,-1,1,-1,-1,1,-1,1,1,1,1,1,1,1,1,1,1,1,-1,1,1,1,1,1,-1,1,-1,-1,-1,1,1,1,1,-1,2,1,1,1,-1,1,-1,1,-1,2,-1,-1,1,1,-2,-1,-1,4,-1,1,-1,1,1,-1,1,1,-1,1,1,-1,1,1,-1,1,-1,-1,1,1]
[1,-1,1,-1,1,1,-1,-1,-1,-1,-1,-1,-1,-1,1,-1,-1,-1,1,1,-1,1,-1,1,-1,1,-1,1,-1,-1,1,1,1,1,-1,-1,1,-1,2,1,1,-1,2,-1,-1,-1,-1,2,2,-1,-1,-1,-1,-1,1,1,-1,-1,-1,2,1,2,-1,1,2,1,1,-1,1,-1,-2,-2,1,-1,-1,1,1,1,1,-1,-1,-1,-1,-1,-1,-1,-2,-1,2,2,1,1,1,-2,1,-1,-1,2,-1,1,-1,2,-1,-1,1,-1,-1,1,1,1,-1,1,1,-1,-1,1,1,-1,1,1,-1,-1,1,1,-1,1]
[1,1,-1,-2,-2,1,1,1,1,-1,1,-1,1,2,1,1,1,-1,1,-1,1,2,-2,1,-2,-1,1,1,-2,-1,1,1,1,1,2,1,1,1,1,1,-1,1,-1,-2,1,-1,-1,-1,-1,-2,1,-1,-1,1,-1,-2,1,1,2,-1,-1,-1,1,-1,-2,1,1,-1,1,1,-1,1,-1,1,2,-2,-1,-2,-1,-1,2,1,-1,-1,2,1,1,-1,1,-1,-1,1,-2,-1,1,-1,1,1,1,-1,2,-1,-1,-1,1,-1,1,2,1,1,1,-1,1,1,-2,1,-1,-1,-1,1,2,-1,-1,-2,-1,-1]
[-1,-1,-1,1,-1,1,-1,1,-1,-1,1,1,1,1,-1,2,-1,-1,-1,1,1,-2,-2,1,1,-1,-1,1,-1,-1,1,1,-1,1,-1,1,1,-1,-2,1,1,1,2,-1,-1,-1,-2,1,-1,1,1,1,-1,-1,1,1,1,2,1,-1,2,1,-1,-2,-1,1,-1,-1,-1,1,1,1,1,-1,1,-2,1,-1,2,-1,-1,-1,-1,-2,2,-2,2,1,-1,-2,1,-1,-1,-1,2,1,-1,-2,1,-1,2,2,1,2,-1,1,-1,-1,-2,-1,1,-1,1,1,-1,-1,-2,-1,-1,1,1,1,-1,1,-1,-1]
[-1,-2,1,-1,-1,1,-1,-1,-1,-1,1,2,-1,2,-1,1,-1,-1,1,1,-1,2,-1,1,-1,-1,1,-1,1,-2,-1,1,2,-1,1,-1,1,2,-1,1,1,-1,-1,-2,-1,-1,-1,1,-1,1,-1,-1,1,-1,1,-1,-1,1,2,1,-2,1,-2,1,-1,1,-1,1,1,-1,-1,-1,-1,1,1,-1,-1,-1,1,-1,1,2,1,1,-1,-2,2,-1,1,1,1,1,-1,1,-1,1,-1,1,1,1,1,1,1,-1,1,-1,1,1,2,1,1,1,-2,-1,1,-1,-2,-1,-1,-2,2,1,-1,-1,-1,-1]
[1,-1,2,1,-1,-1,-1,-1,2,1,1,1,-2,-1,-1,1,1,1,1,1,-2,-1,1,-1,-2,-1,1,1,-1,-1,-1,-1,-1,-2,-2,-1,-1,1,1,1,-1,-1,-1,1,1,1,1,1,2,-1,1,-1,2,-1,-1,1,1,1,1,-1,-1,1,1,-1,-2,-1,1,1,-1,1,1,1,1,1,1,-2,1,1,1,1,-1,1,2,-2,-1,-1,-1,-1,1,-1,2,-1,-2,1,1,1,1,1,-1,-1,-2,1,-1,2,-1,2,2,-1,-1,-1,1,-1,-1,1,-1,-1,-1,1,-1,1,1,-1,1,-1,-2,-1]
[1,1,-1,1,2,-1,2,1,-2,1,-1,-1,-1,-1,-1,-1,-1,-1,1,-1,-1,1,-1,-1,-1,-1,2,2,-1,1,1,1,1,-2,-1,1,-2,-2,1,-1,-1,1,-4,-1,-2,1,-1,1,2,-1,-1,1,-1,-1,1,-1,1,2,-2,-1,1,1,-1,-1,1,-1,-1,1,-1,2,-1,-1,-2,1,-2,1,1,1,1,-1,1,1,1,1,-2,1,1,1,2,-1,1,-1,1,-1,1,1,1,-1,2,-1,1,1,-1,2,1,1,1,-2,1,1,-1,-1,-1,-1,1,1,1,1,-1,-1,1,1,1,-1,-1,-1]
[1,-2,1,-1,1,-1,1,-2,1,-1,1,-1,-1,2,-1,-1,1,1,-2,-1,-1,2,-1,1,-1,2,1,-1,1,1,1,-1,-1,-1,-1,1,1,-2,-1,1,2,-1,-1,-2,1,-2,2,1,2,-1,1,1,2,1,-1,-1,-1,-1,1,1,-1,2,1,-1,1,-1,1,1,-1,-1,-2,-1,1,-1,1,1,2,1,1,1,1,1,2,1,-1,-1,-2,-2,-1,-2,1,1,-1,1,2,-1,2,1,1,1,1,2,1,-1,-1,1,1,-1,-1,1,-2,-1,-1,1,-2,-1,-1,-2,1,1,-1,-2,-1,-1,1,1]
[1,-1,2,-1,1,-2,-1,-1,1,-1,1,1,1,-1,1,1,-1,1,-1,-1,-2,-1,2,1,-2,-1,1,1,1,-1,1,2,1,1,-1,-1,-1,1,1,-1,-1,-1,1,1,1,1,-1,1,1,-2,-1,-1,-1,-1,-1,1,1,-1,1,-2,-1,1,-1,1,-1,1,1,-2,1,1,-1,1,-1,1,-1,-1,1,-1,2,1,-1,1,-1,1,1,-1,-1,-1,2,1,-1,-1,1,-1,1,1,-2,1,-1,1,2,-1,-1,1,-1,1,1,1,-1,-1,-2,1,-1,1,-1,1,1,1,1,1,2,1,-2,-2,2,-1]
[-1,1,-1,-1,1,-1,-1,-1,-1,-1,-1,-1,-1,2,-1,1,-1,-1,-1,1,1,-2,-1,-1,1,-1,-1,1,1,1,-1,-1,1,1,-1,2,-1,-1,-1,-1,1,1,1,1,-1,1,2,-1,-1,-1,1,-1,1,-1,1,-1,1,1,1,1,1,1,1,-1,-1,1,-1,-2,-1,1,1,1,1,2,1,-1,1,1,-1,-1,1,1,-1,1,-1,-1,1,1,1,-1,1,1,-1,1,-1,1,-2,1,-1,-2,-2,1,2,1,-2,1,-1,-1,1,1,2,1,2,1,2,1,1,-1,-1,1,-1,-1,-1,-2,-1,-1]
[1,-1,1,-1,-1,-1,1,1,1,-2,2,1,-1,-1,-1,-1,1,1,-1,-1,-1,-1,1,-1,-1,1,-2,1,1,1,-1,1,-1,-1,1,-1,-1,-1,2,-1,2,1,1,-2,-1,-1,-1,1,-1,-1,-2,-1,1,1,1,1,1,2,1,-1,1,1,1,-1,-1,1,-1,2,-1,1,-1,-1,1,-1,1,1,-1,-1,1,1,2,-2,1,1,1,1,-1,1,2,1,1,-1,-1,1,-1,1,1,1,1,-1,1,1,-1,1,1,2,1,-1,-1,2,-2,2,2,1,-1,-1,-1,-1,-1,-1,1,1,-1,1,-1,-1]
[1,-2,2,1,-1,-1,-1,-2,1,-2,1,-1,-1,1,1,1,-2,-1,-1,-1,-1,1,-1,2,1,-2,2,1,-1,-1,1,-1,1,1,-2,1,1,-1,1,-1,1,-1,-1,1,-2,2,1,-1,1,2,1,1,1,1,1,-1,1,-1,1,-1,1,1,-2,2,1,-2,-1,1,1,1,-1,-1,-1,2,2,1,-1,-1,-2,-1,-1,1,-1,-1,1,-1,-1,-1,-1,2,-1,-1,-2,1,1,1,2,1,1,1,1,1,-1,-1,1,-1,1,-1,-1,-1,2,1,1,1,1,-2,-1,-1,1,1,1,1,-1,-1,-1,-1]
[-1,1,-2,-1,-1,2,-1,-1,-1,1,-1,1,2,-1,1,1,2,1,1,1,-2,-1,-1,1,1,1,1,1,1,1,1,1,1,-1,-1,-1,-1,2,-1,1,1,1,-1,-1,1,1,1,1,-1,-1,1,-1,-1,1,-1,-2,-2,-2,-1,1,1,-1,1,-1,-2,1,1,2,1,2,-2,-1,1,-1,-1,1,-1,-1,1,1,-1,-2,1,1,1,-1,1,1,-1,-2,-1,-1,2,2,1,-1,1,1,-1,1,-1,1,1,1,-2,2,2,-1,2,-1,1,-2,-1,-1,1,-2,1,-2,-1,1,-1,1,2,-2,1,-1]
[-2,1,-1,2,1,2,1,-2,-1,-2,-1,-1,1,-1,1,-1,2,1,1,1,1,1,-1,1,1,1,-1,1,1,-1,-1,1,1,1,-1,-2,2,1,1,-1,1,-1,-1,1,-1,1,-2,1,-1,2,1,-1,1,1,-1,-2,-1,-1,1,1,1,1,1,-2,-2,-1,2,1,2,-1,1,1,-1,-1,-1,-1,1,-1,-1,1,-1,-1,-1,-1,-1,-1,-1,1,1,1,1,2,1,1,1,-1,-1,1,-1,-1,1,-1,1,1,1,-2,-1,-2,2,-1,1,-1,1,1,-1,1,1,-1,1,-1,1,1,1,1,1,1]
[2,-1,1,-1,1,1,1,1,1,1,1,1,1,-1,-1,1,1,1,-1,1,1,-1,1,1,1,-2,1,-1,-1,1,1,1,1,-1,-2,1,-1,1,-1,-1,1,1,1,-2,-2,-1,1,1,-2,-1,-1,1,-2,-1,-1,1,-1,-1,2,1,-1,1,1,-1,1,1,1,-1,2,-1,1,1,-2,-1,1,-1,-1,-1,-1,1,-1,-1,-1,-1,-1,-1,-1,2,1,1,1,-1,-2,-1,-1,-2,1,-1,-1,2,-1,1,1,1,1,-1,-1,1,2,-1,-1,-1,-1,-1,-1,1,-1,1,1,-1,1,-1,2,1,-1,-1]
[1,-1,-2,2,1,1,-1,1,1,1,2,1,1,-1,-1,-1,2,1,1,1,1,-1,-1,-1,1,1,1,1,1,-1,-1,-1,1,-1,1,1,-1,2,1,-1,-1,-1,-1,-1,-1,1,1,-1,2,-1,2,1,-1,-2,1,-2,2,1,1,2,-1,1,-1,-1,1,1,1,-1,2,1,1,1,-1,-1,-1,-1,-1,-1,2,2,2,-1,1,-2,1,1,-1,-1,-1,-1,1,-1,-2,-1,1,-1,1,1,-1,-2,-1,2,1,1,-1,-1,-1,-1,1,-2,2,1,-1,1,-1,1,1,-1,-1,-1,1,1,-1,-1,1,1]
[-1,1,1,2,-1,2,1,-2,-1,1,-1,-2,1,1,1,-1,1,1,1,-1,1,2,-1,-1,2,-1,1,-1,1,-1,-1,1,1,1,-2,-2,-1,1,-1,-1,-2,-1,1,-1,1,-1,1,-1,-1,-1,-1,-1,1,1,-1,-2,1,1,1,2,-2,-2,1,-1,-1,1,2,1,-1,1,-2,1,1,-1,1,-1,-1,-2,-1,1,2,-1,-1,1,1,-1,-1,2,1,1,1,-1,-1,-2,1,-2,-1,1,2,2,2,-1,-2,-1,-2,-1,1,1,2,1,-1,1,1,2,-1,1,-1,2,-1,-1,1,1,1,-2,1,-2]
[1,-1,-1,1,-1,1,-1,-1,-1,1,1,-2,-1,1,-1,1,1,-1,1,1,1,-2,1,1,-1,1,1,1,-1,1,-1,-1,-2,1,1,1,-1,1,-1,-1,-1,-1,-1,1,-1,-2,-1,1,1,-1,-1,-1,1,2,-1,1,-1,-1,-1,1,1,1,-1,-1,1,1,-1,-1,-1,-1,1,-1,1,-1,-1,-1,-1,1,-1,2,-1,-1,1,1,-1,1,1,-1,2,-1,1,-2,1,-1,1,1,-1,2,-1,-1,1,-2,2,1,-1,-2,1,-1,2,-1,2,1,1,1,-2,-1,-2,-1,-1,-1,-1,1,-1,1,-1,2]
[2,-2,-1,-1,1,-1,-2,-1,-1,-1,-1,1,-1,-1,-1,-1,-1,1,-1,1,1,2,1,1,-1,-1,1,1,-1,1,1,1,1,-1,-1,1,1,1,2,1,-1,-1,1,-1,1,-1,1,1,-1,1,1,-1,-1,-2,1,-1,1,-1,1,1,-1,-1,1,-1,1,1,-1,-1,1,1,2,1,1,1,1,-1,1,2,-1,-1,1,1,-1,-1,-2,-1,-1,1,1,-1,1,2,1,-2,1,-1,1,-1,1,-1,1,1,1,2,1,-1,-2,2,1,1,-1,1,-2,2,1,1,-1,1,-1,1,2,2,1,-1,1,1]
[-1,1,-1,-1,1,-1,1,-1,1,1,1,1,1,-1,-1,-1,-1,2,-1,-1,1,1,-1,-1,-1,-1,1,1,-2,1,-2,1,1,1,-2,1,1,1,-1,2,1,-1,1,-1,-1,-1,-1,-1,-2,2,-2,1,-2,1,-1,-1,1,-1,1,1,1,-1,2,-1,-2,-1,1,-1,-1,-1,-2,1,-1,1,2,1,1,1,-1,1,-1,1,-2,-2,1,-1,1,-1,-1,-1,-1,2,-1,1,1,-1,-1,1,-2,1,1,-1,1,-2,-1,-2,-1,-1,1,1,1,1,1,-1,1,-2,-1,-1,-2,1,-1,1,-1,1,1,2]
[1,1,1,1,1,1,-1,-1,1,-1,1,1,-1,-1,-1,1,1,-1,-1,-1,1,-1,-1,1,-1,2,-1,-1,1,-1,1,1,-1,-1,2,2,1,-1,1,1,1,-1,1,1,-1,-1,1,1,-2,1,1,2,-2,-1,-1,-1,-1,-1,2,-2,-1,-1,1,1,1,-1,2,1,1,2,1,-1,1,-1,-1,-1,1,-1,-1,-1,1,1,1,-1,1,-1,-1,1,-1,-1,-1,-1,2,1,-1,1,-1,-1,-2,-1,1,-1,1,-2,1,1,-1,1,2,-1,2,-1,-2,1,-1,-1,-1,1,1,1,-2,1,2,1,-1,1]
[-1,1,1,-1,-1,-1,-2,1,-1,-1,-1,1,-1,-2,-1,1,1,-1,-1,-1,-1,1,1,-1,1,1,1,1,1,2,-1,-1,1,1,-1,-1,1,-1,1,2,-1,-1,-1,1,1,-2,-1,1,1,-1,-1,1,1,1,1,1,1,1,1,2,1,-1,1,-1,-1,1,1,1,1,-1,2,-2,1,1,1,1,1,2,1,1,-1,1,1,1,-1,1,-1,-2,1,-1,-1,-1,-1,1,-1,1,1,-2,-1,1,1,-1,-1,1,-2,1,-1,1,1,1,-1,1,1,-1,-2,1,-1,-1,1,-1,-1,-1,1,-1,1,-2]
[1,-1,-1,-1,2,1,-1,1,1,-2,-1,1,-1,1,1,-1,1,1,1,1,1,2,1,-2,-1,1,-2,-1,-1,-1,1,-1,1,-1,-1,1,-1,-2,-2,1,1,-1,-1,-1,1,1,-2,-1,-1,-1,1,1,1,-1,1,1,-1,1,1,1,1,-1,-2,-1,2,1,1,-2,-2,-2,1,-1,1,1,1,1,1,1,1,1,-1,-1,1,2,1,-1,-2,-1,-1,-1,2,-1,-2,-1,1,1,1,-2,-1,-1,1,-1,-2,1,-2,-1,1,1,-1,-1,-2,1,-1,1,1,-1,2,-1,-1,-2,1,-1,1,1,1,-2]
[1,2,-1,-1,-2,-1,1,-2,-2,1,-1,-1,-1,-2,2,-1,-1,-1,-1,1,1,2,1,-2,2,1,1,-2,1,-1,1,-2,1,-1,-1,1,1,-1,1,-1,-1,-1,-1,-1,-1,1,-1,-1,-1,-1,1,-1,-1,1,2,-1,1,1,1,-1,-1,1,1,2,-1,1,-1,1,1,-1,-1,1,-1,1,2,2,1,-2,1,1,1,1,1,2,-1,1,-1,1,-1,-1,-2,-1,-1,1,-1,1,-1,-1,-1,-1,-1,-1,-1,-2,1,1,-1,-1,1,2,1,-1,1,-1,1,-1,1,-1,-1,-1,-1,-1,1,1,-1,-1]
[-1,-1,1,1,-2,-1,1,-1,-1,-1,1,-1,-1,2,-1,-1,1,-1,1,1,-1,-1,1,-1,1,-1,-1,-1,-1,1,1,-1,1,-1,1,-1,2,-1,-1,-1,1,-2,-1,1,-1,1,1,-2,-1,1,-1,1,-1,-1,2,1,-1,-1,-1,1,1,1,1,2,1,-1,1,-1,1,-2,-1,1,-1,-1,-1,1,2,1,-1,1,1,1,-1,-1,-1,1,-1,-1,1,-1,1,-1,1,-2,-2,1,-1,-2,1,1,-1,1,1,-1,1,-1,1,1,-1,-1,1,2,1,-1,-1,1,-1,-1,1,1,-2,-2,-1,1,1,-1]
[1,2,2,1,-1,-1,2,-1,2,-1,1,-1,1,1,-1,-1,-1,1,-1,-1,1,1,-1,1,1,1,1,1,-1,1,2,1,-1,-2,-1,-1,-1,1,-1,-1,1,-1,-1,-1,2,1,1,1,1,-2,2,-1,-2,1,1,-1,1,-2,-1,1,-1,1,-1,4,1,-1,-1,2,2,1,-1,-2,1,-1,-1,-2,1,-1,-2,-2,1,-1,-1,-2,2,1,1,1,1,-1,1,-1,-1,-1,-1,-1,-1,2,1,-1,1,1,1,1,1,2,2,-1,-1,-1,-1,1,1,-2,-2,1,-1,1,1,-1,1,-1,1,-1,1,1]
[-1,-1,-1,-1,-1,2,-1,-1,-1,-1,-1,-1,-1,1,-1,-1,-1,1,-1,-1,-1,-1,-1,1,2,-1,2,-1,1,1,-1,1,-1,-1,-2,1,2,1,-1,-1,-1,-1,-1,1,1,1,-2,-1,-1,1,-1,-1,-1,-1,1,1,2,1,-1,2,-1,1,-2,-1,1,1,-1,1,1,-2,1,-1,1,1,2,1,1,-2,-1,-2,1,1,-2,2,-1,-1,-1,2,-1,-1,1,1,-1,1,1,-1,-1,1,1,1,-1,-1,1,-1,-1,1,1,-1,-1,1,-1,1,-2,1,-1,1,1,-1,-2,-1,-2,1,-1,2,1,1]
[-1,1,-2,1,1,1,-2,-2,1,2,1,1,1,-1,1,1,-1,-2,-2,1,1,1,2,1,-1,1,-1,-1,1,1,-1,-1,1,-1,-1,1,-1,-1,-1,-1,-1,-1,1,-2,1,-1,-1,1,1,-1,2,1,1,1,1,1,-2,-1,-1,-1,1,-1,1,1,-1,1,1,2,1,-2,-1,-1,1,1,-1,-1,-1,-1,1,-1,2,-1,1,1,1,-1,2,-1,-2,-1,1,-1,1,1,1,1,-1,-1,-2,-1,1,1,-1,1,1,-1,-1,2,1,1,2,-1,1,1,-1,1,-1,-1,-1,1,-1,-2,-1,-1,-1,1]
[-2,1,1,1,1,-1,2,-1,2,1,1,-1,1,2,-1,-1,1,2,1,2,1,-2,-1,1,-1,-2,-1,1,-1,-1,1,1,-1,2,-1,1,-1,-1,2,-1,1,-1,1,1,-1,-1,1,1,-1,-1,1,-1,1,-1,-1,1,1,-2,-1,-1,1,1,1,2,1,-1,1,1,-1,-1,-1,1,1,-1,1,1,1,1,-1,-1,2,-1,1,-1,1,1,1,-2,-2,-1,1,-1,-1,2,1,1,1,-1,1,1,-1,1,1,-1,-1,2,1,-2,-1,-2,1,-1,-1,1,1,1,1,-2,1,-2,1,-1,1,1,1,1]
[1,1,-1,2,1,-1,-1,2,1,2,-1,1,-2,1,1,2,-1,-1,-1,-1,1,1,-1,1,-1,2,1,-1,-2,1,1,-1,1,1,-1,1,-1,1,-1,1,-1,-1,-1,1,-1,-1,-1,-2,-1,-2,-1,-1,-1,1,1,-1,-1,1,-1,1,2,1,1,1,1,-1,1,-1,1,1,-1,1,-1,1,-2,-1,-1,1,2,1,1,-1,-1,-1,1,-1,1,-2,-1,-1,1,1,-1,1,-1,-1,-1,1,-1,1,-1,1,-1,1,1,-1,-1,1,1,1,1,-1,2,1,1,1,2,1,-1,2,-1,-1,1,2,1,-1]
[-1,-1,1,1,-1,-1,1,1,-1,1,1,-2,-1,-2,-2,-1,1,1,1,1,2,2,-2,1,1,-1,-2,-1,1,1,-1,1,2,1,2,-1,1,-2,1,-1,-1,2,-2,1,-1,-2,1,-1,1,-2,2,1,-1,-1,1,1,-1,1,-1,-1,-1,1,1,1,1,1,1,-1,-1,-1,-1,1,1,-2,2,-1,-1,-1,1,-2,-1,-1,-1,1,1,-1,-2,1,-1,2,1,2,1,-1,-1,1,1,1,-1,1,1,1,2,-2,2,-1,-1,-1,-1,-1,1,-1,-1,2,1,-1,-1,-1,-1,1,1,-1,1,1,-1,-1]
[-1,-1,-2,-1,-1,2,1,-2,2,-1,-1,1,-1,-1,-1,-1,-1,-2,-1,2,1,1,1,1,1,-1,1,1,1,-1,1,1,-1,-1,-2,-1,1,1,-1,2,-1,-1,-1,1,-1,-2,-1,-1,1,-1,-1,-1,1,-1,-1,-1,-2,-1,1,1,-1,1,1,1,1,1,-1,-2,1,2,-2,2,2,-1,-1,-2,1,-1,1,-1,1,-1,-1,1,-1,2,-2,-1,-1,-1,-1,1,1,1,-2,-1,-1,1,-1,-1,-1,-2,-1,-1,2,-1,-1,-1,1,-1,-1,1,1,2,-1,-1,1,-1,-1,-1,-1,-1,-1,-1,-1,2]
[1,-1,-1,1,1,-1,-1,2,2,1,-1,1,-1,-1,1,-1,-1,1,1,1,-1,1,1,-2,-2,-1,-2,-1,1,1,-1,-1,2,1,-1,1,-1,-2,1,1,-2,1,1,1,1,-1,-1,-1,-1,1,1,-1,-1,2,-1,-1,1,-1,-1,1,1,2,1,2,-1,-1,-2,1,-1,-1,-1,-1,1,-1,-1,-1,-1,1,2,1,1,1,1,-1,-1,1,1,-2,1,-1,2,-1,1,1,-2,1,-1,1,-1,-1,-1,-1,-1,1,1,-1,1,-1,1,2,-2,1,1,1,-1,-1,1,2,-1,-1,-1,-1,1,-1,1,-1]
[2,1,-1,-2,-2,-2,-1,1,2,-2,-1,2,-1,-2,1,-1,-1,-1,1,-2,2,1,-2,1,1,-1,-1,-1,1,2,-1,1,-1,-1,1,1,-1,1,-1,1,-1,2,-1,-1,1,-1,-2,-1,1,-1,2,-1,1,2,1,1,1,-1,1,-1,2,1,1,2,-1,-1,1,-2,-2,-1,1,-1,-2,1,2,1,1,1,-2,-2,1,1,-1,1,-2,2,1,1,-2,-2,1,1,1,2,-1,-1,1,1,-1,1,-1,1,1,1,1,1,-1,1,1,1,1,-1,1,-2,-1,1,1,-1,-1,-1,1,1,-2,-1,-1,1]
[2,-1,-1,-1,-1,-2,1,-2,-1,1,-1,1,-1,1,1,-1,1,-1,-1,-1,-1,4,1,1,1,-2,1,1,-1,-1,1,-1,1,1,1,-1,-1,1,-1,1,1,-1,-1,-1,-1,1,-1,1,1,2,2,-1,2,1,-1,-1,-1,1,-2,-1,-1,1,2,-1,-1,-1,-1,1,-1,2,-2,-1,-1,-2,1,1,1,1,-1,-2,-1,-1,-1,-1,-2,1,-1,-1,1,-1,-1,-1,2,1,-1,2,-1,-1,-1,-2,2,-1,1,-1,1,1,-1,1,-1,1,-1,1,-1,2,-1,-1,1,-1,-1,1,1,-1,-1,2,1,1]
[1,1,-1,-1,1,-1,-1,-1,1,1,1,-1,-1,-1,-1,-1,-1,-1,1,1,1,-1,-2,-1,2,1,-1,1,-1,-1,-1,1,-1,-1,-2,-1,2,1,-2,-1,-1,1,-1,-1,1,-1,1,1,-1,1,1,-1,1,1,1,-1,-1,-1,1,-2,1,-1,-1,2,1,-1,2,1,2,-1,1,2,1,-1,2,-1,1,-1,-1,-1,1,1,1,-1,-2,1,-1,-1,1,1,-1,-1,1,1,-2,2,2,-2,-1,-2,-1,1,2,-2,-1,-2,1,-1,-1,-1,2,1,1,-1,-2,1,2,-1,-1,-1,1,-1,1,-1,-1,1]
[-1,-2,1,-2,-2,1,1,1,1,-1,-2,1,1,-2,1,-2,-1,1,2,1,1,1,1,-2,1,-1,1,2,1,2,1,2,2,1,-1,1,-1,1,1,-1,-2,-1,2,2,-1,-1,2,1,-2,-1,-1,-1,1,1,-1,-1,-1,1,-1,1,-2,1,-1,2,-1,-1,2,1,1,-1,1,1,-2,-1,1,-2,-1,-2,-1,1,2,2,1,1,1,-1,1,-1,-2,-1,-1,-1,1,2,1,1,1,-1,-2,1,1,1,1,1,-1,1,1,-1,1,1,-1,-1,-1,-1,1,-2,1,-1,-1,1,-1,-2,1,2,1,-1]
[-1,-1,-2,-1,-1,1,-2,-1,-1,-1,-1,2,-1,-1,1,1,-1,-1,1,-2,-1,-1,-1,-1,-1,1,-1,1,-1,-1,1,-1,-1,1,1,-1,1,1,-1,1,1,1,1,1,-1,1,-1,1,1,1,-1,1,-1,1,-1,-1,-1,-1,-1,-1,1,2,-2,2,-1,-2,1,-2,1,-1,-1,-1,-1,1,-1,-1,-1,1,1,2,-1,-1,1,-1,-1,-1,1,-1,1,-1,1,1,-2,-1,-2,2,1,-1,2,-1,1,1,1,2,-1,-2,1,-2,-1,-1,-1,-1,-1,1,1,-2,-1,1,-1,-1,-1,-1,1,-1,1,-1]
[-1,-1,1,-2,-1,-1,1,-1,-1,-1,-2,-1,2,1,-1,-1,1,-1,1,1,-1,1,-1,-1,1,1,1,-1,-1,1,-1,-1,-1,-1,-1,-1,-1,-1,1,-1,1,-2,1,-1,-1,1,1,-1,-1,-1,2,1,1,2,-2,-1,1,-1,1,-2,-1,-1,1,-1,1,1,1,-2,-2,-1,1,-1,1,1,1,1,-1,1,-2,1,-1,-1,1,1,1,-2,-1,1,-1,-1,-1,-1,1,1,-1,-2,-1,-1,1,1,1,-1,-2,-1,1,2,-1,-1,1,1,1,-1,-2,2,1,-1,-1,1,-1,1,-1,1,-1,2,1,-1]
[-1,1,-1,1,2,-1,1,-2,-1,1,-1,1,-1,2,1,2,1,1,-2,1,1,-1,-2,2,-1,1,2,-1,1,-1,1,1,-1,-1,-1,1,1,1,2,-1,-1,2,-1,2,1,2,-1,-1,1,-1,1,-2,-1,-1,1,1,2,-1,-1,-2,1,-1,-2,1,1,-1,1,2,-1,-1,1,-1,1,-1,-1,1,-1,-1,-1,-1,-2,-1,-1,1,-1,1,1,1,-1,1,1,1,-1,-2,-1,-2,1,-2,-1,-1,-1,-1,1,-1,2,-2,-1,1,2,-1,2,1,-1,1,-1,1,-1,-2,1,1,1,-1,-1,-1,1,-1]
[1,-1,1,-1,-1,1,-1,1,-1,1,1,1,2,-1,-2,-1,1,-1,-1,1,2,1,2,-1,-1,1,1,-1,-1,-1,1,1,1,-1,-1,1,-1,-2,1,1,1,-1,1,1,1,1,-1,-2,-1,-2,1,-1,-1,-1,-1,2,1,1,1,-1,2,-1,1,-1,2,1,-1,-1,1,1,1,1,-1,-2,-1,1,-1,-1,-1,1,2,1,-1,-1,2,1,1,-1,-1,1,1,-2,2,1,1,1,1,2,-1,1,2,1,-1,-1,1,-2,1,1,-1,-1,2,-2,2,-1,-1,1,-1,-1,1,-2,1,1,-1,-1,-1,-2]
[1,-1,-1,1,-2,-1,-1,-2,-1,-1,1,1,-1,1,-2,-1,-1,-1,1,1,-1,1,1,-1,1,1,-1,1,-1,2,2,-1,1,-1,-2,1,1,-1,-1,1,1,-1,-1,-1,-1,-1,-1,1,2,1,1,1,-1,-2,1,1,1,-2,-1,1,-1,2,1,-1,-1,-1,-1,-1,-2,1,-1,-1,1,1,1,-1,-1,-2,-1,-2,-1,1,-1,-1,2,1,2,1,1,-1,-1,-1,-1,-1,-1,-1,-1,2,1,1,1,1,-1,1,-1,1,-1,1,1,-2,1,1,-1,-1,1,1,1,-1,1,1,1,-1,1,2,2,-1]
[-1,1,1,-2,-1,-2,-1,-1,-1,-1,2,1,1,1,1,-1,1,2,1,1,-1,1,1,1,1,-1,1,1,1,-1,-1,1,-1,1,-1,1,1,1,-1,2,-1,1,1,1,-1,1,-2,-1,2,1,-1,-1,2,1,-1,1,-1,-1,2,1,-1,2,1,-1,1,1,-1,1,1,1,-1,-1,-1,2,2,-1,-1,-1,-2,-1,-1,2,-1,-1,-1,1,-1,-1,1,-1,1,1,1,-2,1,-1,1,-1,-2,2,-1,2,1,-1,1,-1,1,-2,-1,-2,2,1,1,1,-1,-1,1,1,-1,1,-1,2,1,1,-1,1]
[-2,1,1,2,-1,1,-1,-1,1,-1,-1,1,2,-2,2,1,1,-1,-1,-1,-2,-1,-1,1,1,2,-1,-1,-2,-1,-1,1,-1,1,1,-1,-1,1,-2,1,2,-1,-1,1,2,2,1,-1,-1,1,1,1,-1,1,-1,2,-1,-1,-1,-2,1,1,1,2,2,1,1,-1,-1,-1,1,1,-1,2,-1,-1,-1,-2,1,2,1,1,1,-1,-1,-1,-1,2,-1,-1,1,-1,-1,1,-1,2,1,-1,-1,-1,2,2,1,1,-1,-1,-1,1,-1,1,1,-1,1,-1,-1,1,1,2,-1,-2,1,1,1,-1,1,1]
[-1,1,1,-1,-1,-1,1,-1,1,1,-1,-1,2,2,2,-1,-1,1,-2,1,1,-2,-1,-1,-1,1,-1,-1,-1,1,2,2,1,1,-1,1,1,-2,1,-1,-1,1,1,-1,-1,-1,1,1,1,1,-1,1,1,-1,-1,1,1,-1,1,2,-1,1,-1,1,1,-1,-1,1,1,1,-1,1,-1,1,2,-1,1,1,1,-1,1,2,1,-1,-1,1,1,1,-2,1,-2,-2,-1,1,-1,-1,-1,1,1,2,-1,1,1,1,-1,-1,-1,-1,-2,1,1,1,1,-2,-1,-1,-1,-1,1,1,-1,1,-1,1,1,-1]
[-1,-1,-2,1,1,-1,-1,1,-1,1,1,1,-1,-1,-1,-1,1,-1,1,-1,-2,-1,1,1,1,-1,-1,1,1,1,-1,1,1,1,-1,2,1,1,-1,2,-1,-1,-1,1,-1,-1,1,-1,1,1,-1,2,-1,1,1,-2,1,1,1,-1,1,2,2,1,1,-1,-1,-1,1,-1,1,-1,-2,2,-1,2,1,-1,1,-1,1,2,1,1,1,-1,-1,1,-1,1,-1,-2,1,1,-1,1,-1,-2,1,1,-1,1,-2,-1,1,1,2,-1,1,-1,1,2,1,1,-1,1,1,-1,1,-1,-1,1,-1,2,1,-1]
[1,-1,-1,-1,-1,1,2,1,1,2,-1,1,-1,-1,2,-1,-1,1,-1,-1,-1,1,1,-1,-2,2,-1,1,-1,2,2,1,1,1,2,-1,-1,1,2,1,1,1,1,-1,-1,-1,1,1,1,-1,1,1,-1,1,1,-2,2,-1,-1,-1,1,1,2,1,1,1,1,-1,-2,1,-2,-1,-1,-1,-1,-1,1,1,1,-1,-1,-1,1,-2,-2,-1,1,1,-1,-1,1,1,-1,1,-2,-1,1,-1,-1,1,-2,-1,1,1,1,1,1,1,-2,-1,-1,-1,1,2,-1,1,-1,-1,1,2,1,1,-1,-1,2,1]
[1,-1,-1,-1,-1,-1,-1,1,1,1,-1,1,1,-1,1,-1,1,1,1,1,1,-1,1,-1,1,-1,1,1,2,-1,1,1,1,-1,-1,1,1,1,1,-1,1,1,-1,2,1,1,1,1,1,-1,1,-1,-1,1,-1,1,-1,-1,1,-1,-1,-1,1,-1,1,-1,1,-1,1,-1,-1,1,1,1,1,2,1,-1,-1,-1,1,1,1,1,-1,-1,-1,-1,-1,1,1,-1,-1,-1,1,-1,-1,1,-1,1,1,1,-1,-2,1,-1,-1,-1,-1,-1,1,1,2,-1,1,-1,-1,1,1,-1,-1,-2,1,-2,-2,-1]
[-1,-1,1,1,1,-1,-1,-1,1,1,-1,1,2,-2,1,-1,1,1,-1,-2,-1,-2,1,-1,-1,1,1,-1,1,1,-1,-1,-1,1,-2,-1,1,1,1,-1,1,1,-2,1,-1,2,-1,1,-1,1,1,1,1,-1,-2,-1,-1,1,1,1,-2,-1,1,1,-1,-1,1,1,-1,1,-2,1,-1,1,-1,1,-1,-1,2,2,-1,-1,-1,-1,-1,-1,-1,1,-1,1,-2,-1,-1,1,-1,1,-1,-2,1,-1,1,2,1,1,1,1,1,-1,-1,-1,2,-2,-2,-1,-2,-2,1,-1,1,2,1,1,-1,-2,-1,1]
[-2,1,-1,1,1,2,-1,1,1,1,1,-1,-1,1,2,1,-1,-1,-1,-1,-1,1,-1,1,1,1,-1,-2,-1,-1,-1,-1,-1,-1,1,2,1,-1,1,-2,-2,1,-1,-2,1,2,-1,2,1,-1,-1,1,1,-1,-1,-1,2,-1,1,1,-2,1,-1,-1,-2,-1,1,1,2,-2,-1,1,1,1,-1,1,-1,-1,-1,2,1,-2,1,1,-1,-2,1,-1,-1,1,-1,1,1,1,1,2,-1,1,-1,-1,1,-1,-1,1,-1,-1,2,1,1,-1,1,-1,-2,1,1,1,1,1,1,-1,2,1,-1,-2,-1,-1]
[1,1,-1,1,-2,2,1,1,1,-1,2,-1,-1,-1,1,-1,-1,1,-1,-1,1,-1,-2,-1,-1,-1,-1,-1,-2,-1,-1,-1,2,-1,-1,1,1,-1,-1,-2,-1,1,1,1,-1,1,1,1,1,-1,-1,-1,1,-1,-1,-2,1,-1,-1,1,-1,-1,1,-1,1,-1,-1,1,2,-1,1,-1,-1,1,2,-1,1,1,2,-1,1,-2,-1,-1,-1,1,-1,-1,-1,-1,-1,-1,1,1,1,2,-1,-1,1,1,1,-1,1,-1,1,1,-1,-1,1,1,-1,-1,1,-1,-1,-1,-1,-2,1,-1,-1,1,-1,1,-2,1]
[4,1,-2,2,-1,2,-1,1,1,-2,2,2,-2,1,-1,2,2,1,-2,-2,1,4,1,-1,1,-1,1,1,-2,-1,-2,1,-1,-1,1,-2,2,1,-1,-4,-1,-1,1,-1,1,1,1,-1,-2,-1,1,-1,1,1,-1,-2,-1,1,1,-1,-1,-2,1,2,1,1,2,-1,2,1,-1,1,-2,-1,1,-2,-2,1,-1,2,-1,1,-1,1,1,-1,-1,-1,-1,2,-2,-2,1,-1,-1,1,-1,-2,-1,-1,2,-1,1,1,-1,-1,-1,-1,1,2,4,-2,1,1,-2,-1,-1,1,-1,2,-1,2,1,-1,-2,1]
[-1,-1,2,-1,1,2,-1,-2,1,1,-2,-1,-1,1,-1,1,1,-1,-1,-1,1,2,-1,1,1,1,2,-2,-1,-1,-1,1,-1,-2,-2,-1,2,1,-1,-2,-2,1,4,-2,1,1,1,1,-1,-1,1,-1,1,-1,-2,-1,-1,-1,1,1,-1,1,-1,-1,-1,1,-1,1,1,-1,-2,2,-1,1,1,-1,1,2,1,-1,1,-2,1,1,1,-1,-1,1,1,2,1,-1,1,1,1,-1,-2,1,-1,-1,1,-2,-1,-2,1,1,1,-1,1,1,1,-2,-2,1,-1,1,-1,1,-1,1,2,-1,-1,-1,1,1]
[1,1,1,1,-2,2,-2,-1,1,-1,1,1,1,-2,1,-1,2,-1,-2,1,-1,-1,1,2,-1,-1,-1,2,1,-1,-2,-1,1,1,-2,-1,-2,-1,2,1,-1,1,-2,-2,-1,-1,1,-1,1,1,1,-1,1,1,-1,-2,-1,1,-1,-1,-1,-1,1,1,1,-1,-1,1,1,-2,-1,-1,1,1,-2,1,-1,1,-1,-1,-1,-2,-1,1,-2,-1,1,-1,-1,2,-2,-1,2,1,1,-1,1,1,-1,1,-1,-1,1,-1,1,1,1,-2,-1,1,2,-1,-1,-1,1,-1,1,1,-1,1,1,2,-1,1,-1,-1]
[-1,-1,1,-1,-2,2,-2,-1,-1,-1,1,2,-1,1,-1,-1,1,1,-2,-1,-2,1,-1,1,-1,1,2,-1,-1,-1,-1,-1,2,1,-1,1,2,1,1,-1,1,2,1,-1,-1,2,1,2,-1,-2,1,1,1,-1,1,-1,1,-2,2,-1,1,-1,1,1,-1,-1,1,1,-1,-1,1,-2,-1,1,-1,-2,-1,-1,-1,-1,1,1,1,2,1,-1,-1,-1,1,2,1,1,-2,1,-1,1,1,1,-2,1,2,2,-1,1,-1,1,-1,2,1,1,2,1,-1,1,-1,-1,-1,-1,-1,-1,1,2,1,-1,1,-1]
[-2,1,1,2,2,2,1,1,1,-1,1,1,-2,-1,1,2,2,1,-1,-2,1,-1,1,1,2,1,2,1,-1,-2,-1,1,-1,-1,1,1,2,2,-1,-2,-2,1,1,1,1,-1,-1,2,-1,1,-1,1,1,-1,1,-2,-2,1,2,1,-1,1,-1,1,-2,2,1,2,1,-1,1,-1,1,1,1,-1,1,1,2,1,-1,-2,-2,2,-2,-1,1,1,1,-1,-1,-1,-1,-1,1,2,-1,1,-1,1,-1,1,-1,1,2,-1,-1,-1,1,1,2,-1,1,-1,1,-1,-1,-1,-1,-1,1,-1,2,-2,-1,2]
[2,-1,-1,-2,1,1,1,-1,-2,-1,-1,-1,1,2,1,-1,1,-1,1,1,1,1,1,-1,1,-1,1,-1,2,1,-1,1,1,-1,-1,1,-1,-1,1,1,-1,-2,-1,1,-1,1,-1,-2,1,-1,-2,-1,-1,1,1,-1,-1,-1,1,1,1,-1,1,2,-1,1,2,-1,-1,-1,-1,1,-1,1,-1,-1,1,1,1,-2,-1,-1,1,-1,1,-2,-1,2,1,-2,-2,1,1,-1,1,1,-1,1,1,1,-1,1,1,-1,-1,-1,-2,1,2,-2,2,-1,1,-1,1,1,-1,-1,-1,-1,-1,1,1,1,-1,1]
[-1,-2,-1,1,1,-1,1,1,-1,1,-1,1,2,2,2,-1,-1,-1,2,-2,-1,-1,-2,1,1,-1,-1,-2,1,-1,-1,1,-2,2,2,-1,1,-1,1,2,-2,-2,-2,-1,-1,1,1,-1,-2,-1,-1,-1,2,-1,2,2,-1,-1,1,2,1,-1,-2,-2,-1,2,-1,-1,1,1,-1,-2,1,-1,-1,2,2,-1,1,1,-1,1,1,-1,-2,-1,-1,1,1,-2,-1,-2,-2,1,2,-1,2,1,1,1,-1,-1,-1,-1,-1,2,-2,1,1,-2,-1,-1,-1,1,-1,-1,-1,1,2,-1,1,-2,1,1,1,1]
[1,1,1,1,-1,-1,-2,-1,-1,2,-1,-1,2,1,2,-1,-1,-1,1,1,-2,-1,-1,-1,2,-1,1,-1,2,-2,-1,-1,-1,2,1,1,2,-1,1,1,-1,-2,-1,1,-1,1,1,-1,1,1,1,1,1,2,1,1,1,1,1,1,1,1,1,-2,-1,2,-1,1,1,-1,-1,-1,-1,2,1,-1,1,1,1,-1,1,-1,-1,-1,-1,-1,-1,-1,1,-1,-1,2,-1,2,-1,1,-1,1,1,-1,-1,-1,1,-2,-2,1,1,2,-1,-1,-2,1,1,-1,-1,2,1,2,1,2,-1,-1,1,-1,1,-2]
[1,1,2,1,1,1,-1,-1,1,2,2,-2,-1,-1,1,2,-1,2,-1,1,-1,1,-2,1,-1,1,-1,-1,1,-2,-1,-2,-1,-1,1,2,1,1,1,1,1,-1,-1,-1,1,-1,1,-1,-2,-2,1,-1,1,1,1,1,2,1,1,2,1,2,-2,1,1,-1,-2,-1,1,1,-1,1,1,1,1,-2,2,1,-1,1,1,1,1,-1,-2,1,2,-1,-1,1,1,2,-2,-1,1,1,-1,2,-1,1,1,1,2,1,1,1,-1,-2,1,-1,1,-2,-1,-1,2,2,-1,1,2,1,2,-2,-2,-1,1,-1]
[1,-2,1,-1,-2,-2,-2,-2,-2,2,1,-2,1,1,1,2,1,-1,1,-2,-2,2,-2,2,2,-1,-2,-1,-1,1,1,1,-2,-1,2,-1,-1,-1,1,1,1,-1,-1,-2,2,1,-1,1,-1,-1,-1,1,-1,-4,1,1,2,1,1,1,-1,-1,-2,2,-2,1,1,1,-1,-1,-2,-2,1,2,1,1,2,1,-1,-1,1,1,1,-1,2,-2,2,-1,-1,-1,-2,-2,-2,2,1,-2,1,-1,1,1,-1,-1,1,2,-1,4,-1,1,1,-1,-2,1,1,-1,1,1,1,1,1,1,-1,-1,1,-1,1,1]
[4,1,-1,1,1,1,-1,-2,-1,1,1,-2,2,2,-1,2,-1,-1,1,1,-2,1,-1,-1,-1,-1,-2,-2,-2,-2,1,-1,-1,2,1,-1,1,-1,-1,1,-1,1,2,-1,2,1,1,-1,1,-1,-2,-1,1,-2,4,-1,2,1,-2,1,-1,1,-2,-1,1,2,-1,-1,-1,-2,-1,-2,2,1,-1,2,2,-1,2,-2,1,1,1,-1,-2,-1,-1,1,-2,-2,1,1,-1,1,1,-1,1,1,2,1,-2,1,-1,2,-2,1,1,2,2,-2,1,-1,1,1,1,-1,1,-1,2,1,2,-1,1,1,1,-2]
[-2,-1,-1,1,-2,-1,-1,-1,-1,-1,1,2,-1,2,-1,-1,1,1,1,1,-1,1,-1,1,1,1,-1,1,-1,-2,-1,2,-1,-1,2,1,-1,1,1,-1,-1,-1,-1,1,-1,2,-2,-2,-1,-1,1,2,1,1,-1,2,-1,-1,1,-1,1,1,-2,-1,-1,1,-1,-2,-2,-2,1,1,-2,-1,-1,-1,-1,-1,-1,-1,1,-1,-1,1,-1,1,1,-2,-1,-1,-1,-1,-2,-1,2,1,-1,1,-1,1,-2,-2,-1,-1,-1,-1,1,2,1,1,-1,-1,-2,-1,-1,-1,1,1,-1,-1,-1,1,1,1,-2,-1]
[1,1,2,1,-2,-1,-1,-1,-2,1,1,1,2,2,-2,1,-1,1,1,1,-2,1,1,2,-1,-1,-2,-1,-1,-1,2,1,-1,1,1,1,1,-2,-1,-2,1,1,1,-1,-1,-1,1,-2,1,-1,-2,1,1,-1,-1,2,-1,1,1,-1,-2,1,1,1,-1,2,1,-2,-1,-1,-1,1,2,-1,-1,-1,2,-1,1,1,-2,1,-1,1,2,1,1,-1,-1,-1,1,1,-1,1,-1,1,1,-1,1,1,-1,1,-1,1,-1,2,-1,1,-1,-1,-1,-1,-2,-1,2,2,-1,2,-1,1,1,-2,1,1,1,-1]
[-1,1,1,1,-2,-1,-1,-2,-1,2,2,-2,1,2,1,1,1,-2,-1,-1,-1,1,1,1,-1,-2,-2,-1,-1,-1,1,1,1,2,1,-2,1,-2,1,-1,-1,-1,1,1,1,1,-1,-1,-2,-2,-2,1,2,1,2,2,1,1,-1,1,1,-1,1,-2,-1,-1,2,-2,-2,1,-1,1,1,-1,-1,4,2,-1,2,-1,-1,1,-1,-1,-2,-1,1,-1,-2,-2,-1,1,-2,1,-1,-1,1,1,-1,1,1,-1,-2,-1,1,-1,1,2,-1,-2,-1,-1,-1,-2,1,2,-1,2,2,-1,1,-1,-1,-1,-1,-1]
[-1,1,1,-1,1,1,1,1,1,1,1,1,1,-1,-1,-1,-1,1,1,-1,1,-1,1,-1,1,-1,-1,2,-1,-1,-2,-1,-1,-1,-1,1,1,-1,1,-1,-2,1,-1,-1,-1,-1,1,-1,1,1,-1,-1,-1,-1,-2,-1,1,-1,-1,1,-1,-2,-1,-1,1,-1,1,-1,1,1,1,-2,-1,-1,-1,-1,1,-1,1,1,1,1,-1,1,-1,-1,1,1,1,-1,1,-2,1,-2,1,1,-1,1,-1,1,-1,1,-1,1,-1,1,-1,2,1,-1,1,-1,2,1,1,-1,-2,2,2,-1,1,-1,2,-1,-1,1]
[1,1,-1,1,-1,2,-1,-2,-1,1,1,1,1,-1,1,-1,-1,2,1,1,1,-1,1,-1,1,1,1,-1,-1,-2,1,-1,-1,-1,1,-1,1,1,1,1,-1,-2,1,-1,-1,-1,1,1,-1,-1,1,-1,2,-1,-1,1,-1,-1,-1,2,1,-1,-1,1,-2,-1,-1,-1,1,-1,1,-1,2,1,-1,1,-1,-1,-1,1,-1,1,-2,1,-2,-1,-1,-2,-1,-1,-1,1,-1,1,-2,1,-1,1,1,1,1,1,-1,1,-1,-1,1,1,1,1,1,-1,-1,1,1,1,-1,1,1,-1,2,-1,1,1,1,1]
[-1,-2,-1,-1,-2,-2,-1,2,-1,-1,1,-1,-1,1,-1,-1,-1,1,2,1,-1,-1,-1,1,1,1,1,2,-1,1,1,2,2,2,1,-1,-2,-1,1,-1,-1,-1,-1,-1,-1,1,-1,1,-1,-1,1,-2,-1,1,1,1,1,1,-2,-1,-1,-1,1,1,-1,-1,-1,-1,-2,-1,1,2,1,1,1,1,1,2,-1,1,-1,-1,-1,1,1,-2,2,1,-1,-1,-1,1,-2,1,-1,1,-1,-1,1,1,1,-1,-1,-1,-1,-1,-2,-1,-1,1,2,-1,1,1,1,1,1,-1,1,1,1,-2,1,-1,1,2]
[2,-1,-1,1,-1,-1,2,-1,1,1,2,-1,-1,-1,-1,1,-1,-1,-1,1,2,-2,-1,-1,-1,-2,1,-1,1,-1,-1,-2,1,1,-1,-1,-2,-1,1,-1,-1,-2,-1,-1,-1,-1,1,-1,-1,-1,1,-1,-2,1,-1,-1,1,1,-1,1,-1,1,2,-1,1,-1,-1,-1,2,-1,-1,-1,1,1,1,-1,1,-1,1,1,-2,-1,-1,-1,-1,1,-1,-1,2,-1,-1,1,-1,1,-2,1,1,1,-1,-2,1,2,1,-1,-1,-1,-1,1,1,1,1,-1,1,-2,1,-1,-1,1,2,-1,-1,1,-2,1,1,-1]
[-1,1,-1,-1,-1,-1,1,-1,1,-2,-1,1,1,-1,1,2,1,-1,-1,-2,1,1,1,1,-1,-2,1,-1,-1,1,-1,1,-2,1,1,1,-1,1,2,-1,2,1,-1,2,2,1,-1,-1,1,-1,1,-1,-1,-1,1,1,1,1,1,-1,-1,1,1,-2,-1,-1,1,1,1,-1,2,-1,1,1,-1,1,1,1,1,-1,-1,-1,-1,-1,1,1,2,-1,-1,1,-2,-1,1,-1,1,1,-1,1,-1,1,1,-2,-1,-2,2,-1,-1,-1,-1,-1,-1,1,-1,-2,-1,-1,2,-1,-1,-1,-2,-2,-1,1,1,2]
[-1,-1,-1,-1,1,-1,-1,1,-1,1,-1,1,1,2,-1,-1,1,-1,1,-1,-1,-1,-1,1,-1,1,1,1,-1,-2,1,1,-1,1,-1,1,1,1,1,-2,2,1,1,1,1,-1,1,-1,-1,1,1,-1,2,1,2,-1,-1,-1,-1,-1,1,-1,-1,-1,1,-1,-1,2,1,1,-1,-2,1,-1,-2,1,-1,-1,1,1,-1,-2,-1,-1,-1,-1,1,-1,1,1,-1,1,-1,-1,-1,1,1,1,1,1,1,-1,1,-1,1,-1,1,1,1,1,1,-2,-1,1,-1,-1,1,1,-1,1,1,-1,-1,-2,1,1]
[-1,-1,-1,-1,-1,-1,-1,1,1,-2,1,-2,1,1,1,1,-1,-2,-1,-1,-1,-2,1,1,2,1,-1,-1,-1,2,-1,-1,-1,-1,1,-2,1,2,1,-2,-1,1,1,-1,-1,2,-1,1,1,-1,-1,2,-1,-1,2,1,-1,1,1,1,-1,-1,-1,1,-1,1,1,1,-2,-1,2,-1,1,-1,-1,-2,-2,-1,-1,-1,1,2,-1,1,-1,-1,1,1,-1,1,1,-1,-1,1,-1,-1,2,-1,-1,1,1,-1,-1,1,1,1,-1,-1,-1,-2,1,1,-1,1,2,-1,-1,-1,1,-1,-1,1,-1,-1,1,-1]
[1,-2,-1,-1,-1,1,1,1,-1,-1,1,1,1,-1,1,-1,-1,-1,2,1,1,-1,-1,-2,1,1,2,1,1,1,2,1,-1,1,-1,-1,-1,-1,1,1,2,-1,1,-1,1,1,1,-1,1,-2,1,1,-2,-1,-1,-1,1,1,-1,-1,-1,-1,-2,1,1,-1,-1,-1,1,-1,-1,2,-1,1,-1,-1,-1,-1,1,-1,1,1,-1,1,-1,-1,1,2,1,2,-1,-1,-2,1,1,1,1,1,2,1,-1,-2,1,-1,1,1,2,-1,-1,-1,1,1,-2,-1,-1,-2,-1,1,-1,1,-1,1,-1,-1,1,-1]
[1,1,1,-1,-1,-1,-1,1,1,-1,1,-2,1,1,-1,1,1,1,-1,1,1,1,-1,-1,-1,-1,-1,-1,1,-1,1,1,-1,1,-1,-1,2,-1,1,-1,1,1,-1,1,-1,-1,-1,2,1,1,1,-1,-1,1,1,-1,1,-1,-2,1,-1,-1,1,-1,1,2,1,-1,1,1,-1,1,-1,1,-1,-1,-1,1,-1,-1,-2,1,-1,-1,1,1,-1,-1,-1,1,1,2,1,-1,-1,1,1,-1,-2,1,2,1,1,-1,-1,1,1,-1,-1,-1,1,1,1,1,-1,-2,-1,1,-1,1,1,1,-1,1,1,1]
[1,1,1,1,-2,-1,1,1,1,-1,1,-1,1,2,-1,1,1,-1,1,-1,1,-1,-1,1,1,-1,-2,-1,1,2,-2,-1,-1,1,-2,1,2,-1,-1,-1,2,-2,-1,1,-1,-1,1,-1,1,1,1,1,-2,-1,1,1,1,-1,1,2,1,-1,1,1,1,-1,1,-1,-1,2,-1,1,-1,1,-1,-1,1,1,-1,-1,1,-1,1,-1,1,-1,-2,1,1,-1,2,-1,1,1,1,-1,-1,1,2,2,1,1,-1,1,1,-2,-1,-1,1,1,2,1,1,2,-1,-1,-1,1,-1,-1,-1,-1,-1,1,-1,1]
[2,-1,-1,-1,1,1,-1,-2,-1,-1,1,1,-1,1,-2,-1,1,1,-1,1,1,-2,1,1,1,-2,-1,-1,1,1,1,1,-1,2,-1,2,-1,2,-1,1,1,2,1,1,1,-1,-1,-1,1,-1,1,-1,1,1,1,1,1,1,-1,2,1,1,-1,-1,-1,1,1,1,-1,1,-1,-1,1,1,-2,-1,-2,-1,-1,-1,1,1,-1,2,-2,-1,-2,-1,1,-1,-1,-1,-2,2,-1,-1,1,1,1,1,-1,-2,-1,1,2,1,1,1,-1,1,1,1,1,1,1,1,-1,1,1,1,-1,-1,-1,1,1,1]
[-1,1,-1,2,1,1,-1,-2,1,-2,-1,1,-1,1,-1,-1,2,-2,-2,-2,-1,-2,-1,1,1,1,1,-1,-2,-1,-1,1,1,1,-1,1,1,1,-2,-2,2,2,-1,1,1,-2,2,-1,-2,2,-1,-1,-1,1,-1,1,1,-1,-1,1,-1,-1,-1,2,-2,2,-1,1,1,-1,1,-1,1,1,-1,1,-1,-1,-1,1,-1,-1,-1,1,-1,-1,-1,2,1,-1,1,-1,-1,1,-1,1,1,2,-1,-1,1,-1,2,1,-2,1,1,-1,-1,-1,-1,-1,1,2,-1,-1,1,1,-1,-1,1,-1,2,1,-1,-1]
[2,1,1,-2,-1,1,-1,-2,-2,1,1,-2,1,-1,1,-1,2,1,1,1,-1,1,1,1,1,-1,-1,-1,-1,-1,1,-1,-2,1,-1,-1,1,-1,1,-1,-1,-1,1,-1,-2,1,-2,1,1,-1,-1,-2,1,1,2,2,-2,-1,1,1,1,-2,2,1,2,1,1,-1,-1,-2,1,-1,1,-1,2,1,1,1,1,-1,-1,-2,-1,-1,-1,-1,-1,-1,1,2,-1,1,1,-1,1,1,-1,1,-1,-1,-1,-1,-1,-1,-1,-1,-1,-1,2,-2,1,-1,-2,1,1,-1,-1,-1,1,-1,1,-1,1,-1,2,1]
[-2,-2,-2,2,2,1,-1,2,-1,-1,1,1,-2,1,1,-1,2,1,-1,1,-1,-1,1,1,-2,1,-1,-1,-2,1,-1,1,1,-2,1,1,1,-2,-2,-1,-1,1,1,1,1,1,2,1,-1,-1,-2,-1,-1,-1,1,-1,1,-1,-1,-1,1,-1,-1,-1,-1,1,1,1,1,1,-1,1,-1,1,1,1,1,1,-2,-2,1,-1,1,-2,1,-1,1,1,-1,2,2,1,-2,-1,1,-1,-2,1,-1,1,2,1,2,-1,-1,-1,1,2,-2,1,-1,2,1,1,-1,-1,2,-1,1,-1,-1,2,-1,1,-1,1]
[-2,-1,1,-1,-1,1,2,-1,1,1,-1,2,1,-1,-1,-1,1,1,-1,1,-1,-1,-1,1,-1,1,-1,1,1,1,1,1,-1,1,-1,-1,-1,-2,1,-1,-1,-1,-1,-1,-1,-1,1,1,2,1,1,2,-1,-1,-1,-1,1,-2,1,-1,-1,-1,-1,1,-1,-1,-1,-1,2,1,-1,-1,-1,-2,2,1,-1,-1,-1,1,-1,1,-1,1,-1,1,-1,1,-1,1,1,1,-1,1,-1,1,-1,2,-1,-1,-1,-1,1,-1,1,1,-1,-1,-1,-1,-1,-2,1,1,-2,1,1,1,-1,1,1,-1,1,1,1,1]
[1,1,-1,1,1,-1,1,-1,1,-1,-1,1,-1,1,1,-1,1,1,-1,1,-1,1,1,1,1,1,2,-1,-2,1,1,1,1,1,1,-1,2,-1,1,-2,-1,-1,-1,-1,-1,-1,-1,-2,1,-2,-1,1,1,-1,1,-1,-1,2,1,-1,-2,-1,-2,-2,-1,-1,-1,1,1,-1,-1,-1,2,1,-1,-1,-1,2,-1,-1,2,-1,-1,-1,1,1,1,1,1,1,1,-1,1,-1,1,1,-1,-1,-1,-2,-1,1,1,-1,-1,1,-1,2,-1,1,-1,1,1,-2,-1,1,1,-2,-1,-1,-1,2,1,-1,-1,-2]
[-1,-1,-1,1,-1,-1,1,1,-1,1,-1,-1,1,1,1,-1,-2,-1,1,-2,-1,-1,1,1,-1,-1,2,-1,1,-1,1,-1,1,-1,1,1,-1,-1,1,1,-2,-1,1,-1,2,1,-1,1,-1,-1,1,-1,-2,-2,1,-1,1,2,-2,2,-1,1,-1,1,1,-1,-1,-2,1,1,1,-1,1,-2,-1,-1,-1,-1,-1,-1,1,1,1,-1,1,1,-1,1,-1,1,-1,-1,-1,-1,-1,-1,-1,1,1,-1,-1,-1,1,-2,1,1,-1,-1,2,-2,1,-1,1,1,1,1,-1,1,1,1,1,1,1,1,1,1]
[1,-1,1,1,-1,1,1,1,1,1,1,2,-1,1,2,2,2,-1,-1,1,-1,1,-1,1,1,-1,1,-1,-1,2,-1,1,-2,1,1,-1,-1,1,-1,1,1,-2,1,-1,1,1,-1,-1,-1,-1,-2,1,1,-1,1,-1,1,1,1,-1,1,-1,1,1,1,1,1,1,-1,-1,2,-1,-1,1,-1,-1,-1,-1,1,-1,1,-1,-1,1,1,-1,-1,1,1,-1,-1,-1,2,-1,-1,1,-1,-1,-1,1,-1,-1,-1,1,-1,1,-1,-1,1,-1,1,-1,-1,-2,-1,-1,-1,1,-1,-2,1,1,1,-1,-1,1]
[1,-1,2,2,-1,-1,-2,-1,-1,-1,-1,1,1,-1,-1,-2,-1,-1,-1,1,-1,-2,-1,-1,-1,2,-1,1,-1,-2,-2,1,-1,1,2,-1,-1,-1,1,2,1,1,-2,2,-1,-1,2,2,1,-1,-1,1,-1,1,-1,-1,1,-1,1,-2,1,2,1,-1,1,1,-1,-1,-1,-1,1,-2,1,1,1,-1,-1,-1,-1,1,-1,1,-1,1,-1,2,-1,1,-1,2,-1,1,-1,-1,-2,1,-1,2,2,-1,1,1,1,-1,1,-1,1,-1,2,1,-1,-1,-1,-1,-1,1,-1,1,1,-1,-1,-1,1,1,1,1]
[1,-1,-1,2,2,-1,-2,-1,-1,1,-2,-2,-1,1,1,1,-1,-2,-1,-1,1,-1,2,1,1,2,1,-1,1,1,-2,1,-2,-2,1,-1,2,2,1,-1,-1,1,-1,-1,1,2,1,1,-2,-1,-1,-1,1,1,-1,1,-1,-1,1,-1,2,2,1,-1,2,1,-1,-1,1,-2,-1,-1,-2,1,1,-2,1,-1,1,-1,1,-2,1,1,1,1,1,-1,1,1,-1,1,-1,-2,1,1,1,2,1,-1,1,-1,1,-1,-1,1,1,1,1,2,-1,-1,-1,-1,1,1,-1,-1,1,-1,4,-1,1,-1,1,2]
[1,1,-2,1,-1,2,-1,1,-1,1,-1,1,1,1,-1,-1,-2,-2,1,-1,1,1,2,1,1,-1,1,-2,1,-1,-1,-1,-1,1,-1,-2,2,1,1,2,1,1,-2,1,-2,2,-1,-1,1,-1,1,-1,1,-1,1,1,1,-1,1,1,-1,2,1,-1,2,-1,2,-1,1,1,-1,1,1,2,-2,1,1,-1,2,1,-1,1,-1,-1,-2,1,-1,2,2,2,-1,1,1,1,1,1,1,-1,-1,2,-1,-1,1,1,-1,-1,1,-1,2,-1,-1,-2,-1,1,-2,-1,1,-1,1,-1,2,2,-2,-1,-1,-1]
[-1,1,-2,-1,-1,2,1,1,1,1,1,1,-1,1,1,1,-1,1,-1,-1,-1,-1,1,-1,2,-1,-1,-1,-1,-1,-2,1,-2,-1,-1,-1,2,1,-2,-1,-1,1,1,4,-1,1,-1,-1,-1,-1,-1,-1,1,-2,1,-1,-1,2,-1,1,-2,-2,1,-1,1,1,-1,-1,2,-1,-1,1,1,1,-2,-1,-1,-1,1,1,-1,-1,1,-1,2,2,-1,1,1,1,1,1,1,-2,1,-1,1,-2,-1,2,-1,-2,-2,1,1,2,2,-1,2,-1,1,-1,1,1,-1,-1,-2,-1,-1,-1,2,1,-1,-1,1,2]
[4,2,-2,-1,-1,-2,-1,-1,1,-1,-1,-1,-1,1,-1,4,-2,-2,-2,-1,1,4,2,-1,2,1,-1,1,1,1,-2,-1,1,2,-1,-1,1,1,1,-1,-1,-1,4,2,-1,1,1,1,-1,-2,1,-1,1,1,1,1,-2,1,-1,-2,-2,-2,-1,4,1,-2,2,-2,-1,1,-1,1,-2,-2,1,1,-2,1,2,1,-2,1,-1,-1,4,2,-2,1,-1,1,-2,1,-1,-2,1,-1,-2,1,-1,1,-1,1,-1,1,-1,4,1,-1,2,1,-1,-2,-2,1,-2,1,-1,1,-1,1,2,1,1,-1,-1,-2]
[2,1,-1,-1,-2,-1,1,-1,2,-2,-1,1,1,1,1,1,1,1,-2,-1,1,2,-1,-1,1,1,-2,-2,-1,1,-1,1,1,1,-1,-1,4,1,-1,-1,1,-1,4,1,1,-1,1,1,-2,-2,-1,-2,-1,-2,-2,-1,-1,2,1,-2,-1,1,-1,1,1,-1,1,-1,1,1,-2,-1,-2,1,-1,1,1,1,1,1,-1,-1,-1,-1,4,2,1,-1,-1,-2,-2,-2,1,-2,-1,-1,-1,-1,-1,1,-1,-1,-2,1,-1,2,2,-1,-1,1,-1,1,1,-1,-2,-1,-2,-1,2,1,1,2,1,1,1,1]
[1,1,1,1,-1,1,-1,-1,-1,-1,1,1,-1,1,-1,-1,1,1,-2,1,-2,1,-1,-2,-1,-1,1,-1,-1,2,1,1,1,1,-1,1,1,-1,1,1,-1,1,-1,2,1,1,2,1,1,2,1,1,1,1,-1,1,-1,-1,1,-2,-1,1,2,-1,2,-2,1,-1,-1,-1,-1,1,1,-1,-1,-1,1,-2,-1,-1,1,1,-1,-2,-1,-1,1,-1,1,-2,-1,-1,1,-2,2,-1,1,1,1,1,1,-1,-1,-2,1,-1,2,-2,-1,-1,-1,1,1,1,-1,-1,-1,1,-1,1,1,-1,-2,-2,1,1]
[2,2,-1,1,-1,-1,-1,-1,1,-2,-1,1,1,1,1,1,-1,1,-2,-1,-1,2,2,-1,2,1,1,-1,-1,1,1,1,1,-1,-1,1,1,1,-2,-1,-1,1,1,4,-1,1,-1,1,1,-2,2,-1,1,-2,-1,1,-1,1,1,1,-1,-1,1,4,-1,-1,-1,-1,1,1,-2,2,-1,-1,-1,-1,1,-1,-1,-1,-1,-1,-2,1,1,1,-2,1,1,1,-1,1,-1,-1,1,-1,2,-1,-1,1,-1,1,1,-1,-1,1,1,-1,2,-2,-1,-1,-2,-1,1,1,-2,-2,-1,1,2,-1,-1,-1,1,-1]
[-2,2,-1,1,1,-1,-1,-1,-1,-1,1,-1,1,-1,-1,-1,1,-1,-1,-1,-1,-2,1,1,-1,1,1,-1,1,-1,-2,2,-2,1,-1,2,-1,-1,-1,-1,-2,-1,-2,4,-2,2,-1,-1,1,-1,-1,-1,1,-2,1,1,1,2,-1,-1,1,1,-1,-1,-1,-2,2,1,1,1,1,-1,-1,-1,-2,-1,1,-1,-1,1,-1,-2,1,-1,-1,2,1,1,1,1,-1,-2,-1,1,-1,-1,1,1,-1,-1,1,-1,-1,-1,-1,2,2,-1,1,-1,1,-1,1,2,1,2,-1,1,1,1,-1,1,-1,1,1,-1]
[-1,1,1,-1,-1,2,-1,1,-1,-1,1,-1,-1,1,-2,-1,1,1,-2,-1,1,-1,1,-1,2,-1,-1,-1,-1,-2,1,-1,-1,-1,1,-1,1,-1,-1,1,-1,1,1,-1,-1,1,1,-1,-1,1,2,1,2,2,-1,-1,-1,-1,1,1,-1,-1,-1,-1,-1,-2,-1,2,1,-2,1,-1,-1,2,-1,1,-1,-1,-1,1,-1,2,1,-1,1,-1,2,-1,1,1,1,-2,1,1,1,-1,1,2,1,1,-1,-1,-1,1,1,1,-1,1,-1,-2,-1,1,-1,1,-1,1,-1,1,1,1,-1,-1,1,1,-1,-1]
[-1,-1,1,2,1,1,-1,-1,-1,1,1,1,-1,-1,-1,-1,1,1,1,1,1,-1,1,-1,-1,1,1,1,-1,1,-2,1,-1,1,-1,-1,-1,-1,-1,-1,2,-1,2,-1,2,1,-2,1,1,2,1,1,1,1,1,-1,-1,-1,1,1,-1,-1,1,1,1,-1,-1,1,-1,1,1,-1,-1,1,1,1,1,1,2,-1,1,1,-1,1,2,1,1,1,1,-1,-1,1,2,-1,2,-1,1,-1,1,2,1,-1,1,-1,-2,-1,1,-1,2,2,2,-1,-1,2,1,1,-1,1,-1,-1,-1,1,-1,1,1,1]
[-1,1,-2,-1,1,1,1,-1,2,1,-1,-1,1,-1,1,-1,-1,-1,-1,1,1,1,1,2,-1,1,-2,1,1,-1,-1,1,-1,1,-1,-2,1,2,-1,2,1,-1,-1,1,1,1,1,-1,-1,-1,1,-1,2,2,1,1,1,2,1,2,-2,1,2,1,1,1,1,-1,1,-1,1,1,1,1,1,-1,-1,-1,1,-1,-1,-1,-1,1,-2,-1,1,-1,2,-1,-1,-1,1,1,-1,-1,1,-1,-1,1,1,1,-1,-1,1,1,1,1,1,1,2,2,-1,-2,-1,-1,1,1,2,-1,-1,-1,-1,-1,-2,-1]
[1,1,1,-1,1,1,1,-1,1,1,-1,-1,-1,-2,-1,-1,-1,1,-1,1,2,-1,1,-1,-2,-1,1,-1,-1,1,1,2,-1,-1,-2,-1,1,2,-1,-1,1,1,1,-2,-1,-1,-1,-1,1,-2,1,2,-1,1,1,-1,-1,-2,1,-1,1,1,2,1,1,1,-1,1,-1,-2,1,-2,-1,1,1,-1,1,1,-1,-1,-1,-1,1,1,1,-1,1,-1,-1,1,1,-1,1,-2,1,-1,1,1,-1,-1,2,1,1,-2,-1,-1,-1,-1,-1,-1,-1,1,-1,1,1,-1,-1,-1,-1,1,1,-1,1,-1,-1,1]
[1,1,1,-1,2,-2,1,1,1,-1,-1,1,-1,-1,1,-1,1,1,-2,1,-1,-1,1,-1,-1,-2,-2,-2,-2,1,1,1,1,1,-1,-1,1,2,-1,1,-1,1,-1,-1,-2,-1,1,-1,-1,-1,-1,1,-1,-1,-1,-1,1,-1,-1,-1,1,-2,-1,-1,-2,1,-1,1,1,1,-1,1,1,-2,-1,-1,-1,1,1,-2,-1,-1,-1,-1,2,2,-2,1,-1,2,1,-1,-1,1,-1,-1,1,1,1,-1,-1,-1,-1,-1,1,1,-1,1,-1,1,1,1,1,-1,1,1,2,1,1,-1,1,2,-1,1,1,-1]
[-1,2,1,-1,1,1,-2,-1,-1,1,1,1,1,-2,-1,-1,1,-1,-1,-1,2,2,1,1,2,-1,-1,1,1,-1,-1,-1,-1,-1,-2,1,1,1,-2,1,1,-1,-1,-1,-2,-1,-1,1,-1,-1,2,1,-1,-2,1,-1,2,-1,-1,-1,1,1,-1,1,-1,-2,1,2,-1,-1,1,1,-1,-1,-2,1,-2,-1,-1,1,-1,1,1,1,-1,1,1,-1,1,2,-1,-2,1,2,2,-2,-1,1,1,1,-1,1,2,-2,-1,1,-1,-1,-1,-1,1,-1,-1,1,-1,-1,1,1,1,-1,1,-1,-1,2,-2,-1]
[1,1,-1,1,-1,1,1,-1,1,1,-2,2,1,-1,1,-2,1,1,-1,2,-1,-1,-1,-1,1,-1,-1,1,1,1,2,1,1,-1,-1,1,2,-1,1,-1,2,1,1,1,1,2,1,-2,1,1,-1,1,-1,1,-1,-1,1,1,1,-1,1,2,1,1,1,1,1,-1,1,1,1,-1,-1,-1,-1,1,1,2,1,-1,1,2,1,-1,2,-1,-2,2,1,1,1,-1,-1,-1,1,1,1,1,1,1,-1,1,-1,-1,1,1,-1,1,1,-1,1,1,-1,-1,-1,1,-2,-1,1,-1,1,1,1,-1,-1,-1]
[-1,1,-2,1,1,-1,2,1,1,-1,-1,-2,-1,1,-1,-1,1,-1,-1,1,-1,-1,-1,1,1,1,-1,2,-2,-1,1,1,1,1,-2,2,-1,-1,1,-1,1,1,1,1,-1,-1,-1,-1,1,-1,-1,-1,1,-1,1,-1,2,1,1,-1,1,2,-1,-1,-1,-1,1,-2,-1,-1,-1,1,-2,1,-1,-1,1,1,1,1,1,-1,-1,-1,-1,-1,-1,2,-1,2,1,-1,-1,1,-1,-2,2,1,-1,1,-1,-1,-1,1,-2,-1,2,-1,-1,2,1,-1,1,-1,1,-1,-1,-2,1,2,-1,-1,1,-1,-1,-1]
[-1,-1,-1,-1,1,-1,-1,1,1,1,1,-1,1,-2,1,-1,-1,1,-1,1,1,-1,1,1,-1,-1,-1,-1,1,1,1,1,-1,1,1,1,1,-1,1,-1,-2,-1,1,1,-2,-1,-1,-1,-2,-1,1,-1,-1,1,-1,1,-1,2,1,-2,1,-1,-1,-1,-1,-1,1,2,1,-1,-1,-1,-1,-2,1,1,1,1,1,-1,-1,2,-1,-1,-1,-1,-1,2,1,-1,-1,-1,-1,1,1,-1,-1,1,-2,-1,-1,1,1,2,-1,-1,1,1,1,-1,-1,1,-1,-1,-1,-1,1,-1,-1,-1,1,-1,1,1,-1,-1]
[1,-1,1,1,-1,2,1,-1,2,-1,-1,1,-1,1,-1,-1,-1,-1,-1,-2,1,-1,-2,-1,1,2,-1,-1,-1,-1,-1,-1,2,1,1,2,-4,1,1,-1,-1,-1,-1,-2,1,1,-1,-1,-2,-1,2,-1,1,-1,-1,-1,-1,-2,-1,2,1,-1,-1,1,-1,-1,-1,-1,-1,-1,-2,1,1,-1,1,-1,-1,1,-2,-1,1,-2,-1,-1,-1,1,1,-2,-1,1,-1,1,1,1,-1,2,2,-1,-1,-1,1,1,1,-1,-1,1,-1,1,1,1,1,-1,2,-2,2,-1,-1,-1,2,1,-2,1,-1,1,-1,-1]
[-2,1,2,-1,-1,-1,-2,2,2,2,-2,1,-1,1,-1,1,1,-2,1,-2,1,-2,-1,1,-1,1,1,-1,-1,-1,2,-1,2,1,1,1,2,-2,-1,1,-1,-1,1,1,1,-2,2,-2,-2,-2,-1,1,1,2,1,2,1,1,1,2,-1,-2,-1,-2,-1,1,-1,-2,2,1,1,1,1,-1,1,2,-1,-1,1,1,-1,1,-2,-1,1,-1,1,-1,1,1,-1,-1,-1,-1,-1,-1,-1,1,1,1,-2,1,1,1,-2,-2,-1,2,-1,-1,-1,1,2,2,-1,-1,-1,-1,-1,1,-1,-1,-2,1,1,-1]
[-1,1,2,-1,-1,1,-1,2,-1,2,-1,1,-1,1,2,-1,-2,1,-1,1,-2,-1,-1,1,-1,-1,-1,-2,2,1,2,1,1,1,-1,1,-1,-1,-1,1,-2,-1,-1,-1,1,-2,1,1,-1,-1,1,2,-2,1,1,-1,1,1,-1,1,-1,-1,1,-1,1,-1,-2,1,1,-1,1,-1,2,1,-1,-1,1,-1,1,-1,-1,2,-1,-1,-1,-1,1,1,-1,1,-1,1,-1,-1,1,2,1,1,1,2,-2,1,-1,1,-1,2,-1,2,-1,1,2,-1,1,2,1,-1,-2,1,1,-1,1,1,-2,-1,-1,-1]
[1,1,1,1,-2,-1,-2,1,1,1,-1,1,-1,1,1,-1,-2,1,-1,-1,1,2,-2,1,1,-1,-1,-1,1,1,2,-2,2,-1,1,2,-1,-1,-1,1,-1,-1,2,-2,1,1,1,-1,-2,2,-2,1,-1,-1,-1,2,-1,-1,1,-1,2,-1,-1,1,-1,1,1,-1,1,1,-1,-1,1,-2,2,-1,-1,1,-1,-2,-1,1,1,-1,-1,1,-1,-1,1,1,-1,-1,1,1,1,-1,1,-1,-1,1,-2,-1,1,1,-1,1,-1,1,1,1,-1,-1,-1,1,-1,1,1,-1,1,-1,1,-1,2,1,1,1]
[2,-1,1,1,-1,-1,-2,-1,-1,4,-1,-1,1,-1,-1,4,-2,-1,1,-2,-1,2,1,-1,-1,-1,1,-1,2,1,4,1,-1,1,1,-1,4,-4,-4,-1,-2,-1,-1,1,-2,1,-1,2,-2,2,-1,2,-2,-4,-1,1,-1,4,-2,-1,2,-2,-1,1,-1,1,-1,-1,2,-2,1,-1,2,1,-1,2,-1,2,2,-1,-2,2,1,-1,1,-1,-1,-1,-1,-1,-2,-1,-1,2,-1,-2,1,1,1,4,-1,-2,1,-1,1,2,-2,1,-1,-2,-1,-2,-1,-1,1,-1,1,2,-1,-1,1,-2,-1,1,-1,1]
[4,1,-2,1,-2,2,1,4,-1,2,-2,1,-1,-1,1,2,-2,-1,-1,1,1,4,-2,1,-2,1,1,-2,2,-1,2,1,1,1,-1,1,2,-2,-1,1,-1,-1,1,-1,-1,-1,-1,2,-2,2,2,1,1,-2,1,1,-2,2,-2,-2,1,-2,-1,4,-1,1,-1,-2,-1,-1,-1,1,1,-1,1,1,1,1,2,-1,-2,2,-1,-1,-1,-2,1,-1,-1,1,-2,2,-1,-1,1,-2,-1,1,1,2,1,-2,2,1,1,4,1,1,1,-1,-1,-1,-1,1,2,-1,-2,-1,-2,-1,1,-2,-2,1,-1,-1]
[1,1,-1,-2,-1,1,-1,1,-2,-1,-1,2,1,1,-1,1,1,-1,2,-2,1,1,1,-1,-1,1,1,2,1,1,-1,-1,-1,-1,-1,1,-1,1,-2,1,-2,2,2,-1,-1,-1,1,1,2,-1,1,-1,1,2,1,-2,2,-2,1,-1,1,-2,-1,-1,-1,-1,-1,1,-2,-1,-1,1,1,-1,2,1,-1,-1,-1,1,1,1,-1,1,1,1,-1,-1,-1,-1,1,2,-1,-1,-1,-2,2,1,1,-1,1,-2,2,-2,-1,1,-1,-1,-2,1,-1,-1,1,1,1,-1,2,-1,1,-1,-1,1,-1,-1,-1,-1]
[1,-1,-2,-2,-1,-1,-1,-1,-1,1,1,-2,1,-1,1,2,-2,-4,1,-1,1,-1,-1,1,1,-2,1,1,-1,1,2,-1,-1,2,-1,-1,4,-2,-1,-1,-1,-1,1,1,-1,-1,1,2,1,1,1,1,-1,-1,1,-2,-1,2,-2,-2,-1,-2,1,-1,-1,1,-1,1,2,1,-1,-1,2,-1,-1,1,-1,2,2,-2,-2,2,-2,1,1,-2,1,-1,1,2,-1,-1,-1,2,1,-1,2,-1,-1,2,-1,-1,1,1,2,1,1,-1,1,1,-1,1,2,2,1,-1,1,-1,-1,-1,2,-2,-2,1,1,1]
[4,-1,-2,-2,1,1,-1,-1,-1,2,1,2,1,-1,1,2,-1,-1,2,-2,1,2,-1,-1,-2,-1,1,-1,1,-1,1,-2,-2,1,-2,-1,-1,1,-2,1,-1,-1,4,1,-1,-1,-2,2,1,2,-1,1,-1,-1,1,-1,-1,2,-1,-2,2,1,2,4,-1,-1,-2,-1,1,-2,1,1,2,1,-2,-1,-1,-1,2,-1,-2,1,1,-1,1,-1,-1,-1,-1,1,1,2,-1,-1,1,-2,1,-2,1,2,1,1,-1,-1,1,4,-1,1,-2,-1,2,-1,-1,-1,-1,-1,-1,2,-2,-1,1,-2,-2,1,-1,-1]
[1,-1,-1,1,1,-1,-1,1,1,-1,-1,1,-1,-1,-2,-1,1,1,-2,-1,-1,1,1,-1,2,1,-1,1,1,1,1,-2,1,1,1,-1,1,1,1,-1,1,-1,1,-2,1,-2,-1,1,1,1,-2,-1,1,1,1,-2,-1,1,-1,-1,-1,1,2,1,1,2,1,-1,-1,1,-2,-2,1,1,-1,2,-2,1,1,1,-1,1,2,1,-1,2,-1,1,1,1,1,1,1,1,1,2,-1,2,1,-1,-2,2,1,-1,-1,-1,-1,1,-1,1,-1,1,1,-1,-1,-1,-1,-1,1,1,1,-1,-1,1,-1,2]
[-2,1,-1,-1,-1,1,-1,1,-1,2,1,-1,1,-1,-1,1,1,-1,-1,-1,-1,1,-1,1,2,-1,-1,-1,1,-2,1,1,-2,1,-1,-1,1,1,-1,1,1,1,-1,1,1,2,-2,1,2,1,-1,2,-1,1,-2,1,1,-1,1,-2,-1,-1,2,1,1,-1,-1,1,-1,1,-1,1,1,-2,-1,1,1,1,-1,1,-1,-1,-1,1,-2,-2,1,-2,-2,-1,2,1,-2,1,1,2,-1,1,-1,1,-1,1,2,-2,1,1,1,1,1,1,1,-1,-1,1,-1,1,2,-2,1,1,1,1,-1,-1,1,-1]
[1,1,2,1,-1,1,-1,-1,1,-1,-1,1,-1,-1,1,-1,2,-2,1,-2,1,-2,1,1,1,-1,-1,-2,-1,1,1,1,-1,1,-2,2,-1,-2,1,1,1,-1,1,-1,1,-2,-1,2,-1,1,-1,-1,-1,1,1,-1,-2,-1,-1,1,1,-2,1,1,1,1,1,-1,1,1,-1,-1,-1,2,-1,1,1,-2,-1,-1,-2,1,1,-1,-1,-1,-1,1,-1,1,-1,1,-1,-1,1,-1,1,1,1,1,-1,-1,-1,-1,1,-1,-2,2,-1,-1,-1,-1,1,-1,-1,-1,2,-1,1,1,-1,1,1,-1,-1,-1]
[2,2,-2,1,1,1,2,-1,-1,1,2,-1,1,-1,-1,2,-2,1,1,-1,1,1,1,-1,1,1,-2,-1,-1,-2,1,-1,-1,1,-1,2,1,-1,1,-1,1,-1,1,1,-1,1,1,-1,-1,1,-2,-1,-2,1,-1,1,1,1,1,-1,1,2,-1,2,1,-2,-1,-1,1,-1,-1,-1,1,-1,-1,-1,1,-1,-1,1,1,1,-1,1,-1,1,1,-1,1,-1,-1,-1,-1,2,2,1,1,-1,-1,-2,1,-1,-1,2,1,1,-1,1,-1,-1,-1,1,-1,-1,2,1,-1,1,1,-1,-2,-1,1,1,-1,-2]
[1,1,1,2,1,-1,1,1,-1,-1,-1,-2,1,2,1,-1,1,1,1,1,-1,-1,-1,1,-1,-1,-1,1,-1,1,-2,1,1,-1,1,-1,2,-1,2,-1,1,2,1,1,-2,-1,1,1,1,-1,-1,-1,1,-1,1,1,-1,-1,1,2,1,-1,2,1,1,-1,-1,1,-1,1,1,1,1,-1,-1,-1,-1,1,1,1,2,-1,-2,-1,1,-1,-1,1,1,2,-1,-1,-1,1,1,1,-1,-2,-1,-2,2,-1,-1,1,-1,2,1,2,1,-1,2,1,2,-1,-1,-1,-1,-1,-1,1,-1,1,1,-1,-1,-1]
[1,1,-1,1,1,1,-1,-1,-1,-1,1,1,-1,-1,1,1,-1,-1,-1,1,1,-2,-1,2,1,1,1,-2,-1,-1,-1,-1,-1,-1,1,2,-1,1,1,1,-1,-1,-1,1,-1,-1,1,1,1,-1,-2,-1,1,-1,-1,1,-1,-1,-1,1,1,-1,-1,-2,-1,1,1,1,1,-2,-1,1,-1,1,-1,1,1,1,-2,1,-2,1,-1,1,1,-1,-1,2,1,-1,-1,1,-2,1,1,-1,1,-1,-1,2,1,-1,-2,-1,1,1,1,-1,-1,-1,2,-1,1,1,-2,-1,-1,1,1,1,-1,1,-2,-1,-1,2]
[-1,1,1,1,1,-1,-1,-1,1,1,1,1,-2,-1,-2,-1,-1,-2,1,-1,-1,-1,1,-1,-2,-1,1,2,-1,1,-1,1,1,1,-1,1,-1,1,-1,-1,-2,-1,1,1,1,1,-2,1,1,-2,-1,1,1,-2,-1,2,-1,1,-1,-2,-1,-1,1,1,-1,1,-1,-1,-1,1,1,-1,1,1,2,-1,1,-1,1,-1,-1,-1,1,1,2,-1,1,-1,-1,-1,-1,2,-1,1,1,1,-2,-1,-1,-1,-1,1,1,-2,1,-1,-1,1,1,1,1,1,-1,-2,-1,-1,1,1,1,-1,1,-1,1,-2,-1,-1]
[-1,-1,-1,-1,1,1,1,1,1,1,-1,1,-1,1,-2,1,1,1,-1,1,1,1,2,1,1,2,1,1,-1,-1,1,1,1,1,1,-1,1,-1,1,1,1,-2,-1,-1,1,1,-2,1,-2,-1,-1,-1,1,-1,1,1,-1,1,1,1,1,-1,-1,1,-1,-1,2,1,1,-1,-2,1,-1,-2,-2,1,2,-2,-2,-1,1,1,2,-1,1,1,2,1,1,1,1,1,1,-1,-2,1,-1,-1,1,1,1,-1,1,-1,1,1,1,1,-1,-2,-1,-1,-1,1,1,-1,1,-1,-2,-1,-1,-1,1,2,-1,1]
[1,1,1,2,1,-1,-2,1,2,1,-1,-1,-1,-1,-1,1,-1,1,-1,-1,1,-1,-1,-1,1,1,1,1,-1,1,1,1,-1,-2,1,1,-2,1,1,-1,-2,2,-1,-2,-1,1,-1,-2,-1,1,-1,1,-1,1,-2,2,-1,1,-1,1,1,1,-1,-1,-1,-1,1,1,-1,1,-1,1,2,-2,-1,-1,-1,-1,1,-1,1,-2,1,2,1,1,-1,1,1,1,-1,2,1,1,1,1,2,1,-1,-1,1,1,1,1,-1,-1,-1,2,-1,2,1,-1,-1,-1,-1,1,1,-1,-2,1,1,1,-1,-1,1,-1]
[1,1,2,1,1,-1,-1,-1,1,1,-1,2,1,1,1,-1,-1,1,-1,-1,-2,-2,-1,1,-1,1,-2,-2,-2,1,-1,-2,-1,1,1,1,1,-1,1,-1,-2,1,-1,1,1,-1,-2,1,1,-1,-1,-1,-1,1,-1,1,1,1,-1,-1,1,1,1,1,1,1,-1,-1,-1,1,-1,1,-1,-1,1,-1,-1,2,-1,-1,1,-1,1,1,-1,1,-1,-1,-2,-1,-1,-1,1,2,2,1,1,1,1,1,-1,1,1,-2,-1,-1,1,1,1,1,-1,-2,-1,-1,-1,2,-1,1,1,-1,-1,-1,1,1,-1,1]
[-1,-1,1,1,-1,-1,-2,-1,-1,1,-2,-1,1,1,-1,1,-1,1,-1,-1,1,-1,1,1,-1,-2,-1,1,1,1,1,-1,1,-1,1,1,1,1,-1,-1,-1,1,1,-1,-1,1,-1,-2,-2,-1,1,-2,-1,1,-1,-1,1,-1,1,1,1,-2,1,2,1,2,-1,-1,-1,1,-1,2,-1,-1,-1,1,2,1,2,1,-2,1,1,-1,-1,1,-2,1,-1,-1,-1,-1,-1,1,-1,-1,1,-1,1,-1,1,1,-1,-1,1,-1,-2,-1,1,-2,-2,-1,-1,1,-1,-1,1,1,1,-1,-1,2,1,1,1,2]
[1,-1,2,1,-2,-1,-1,-1,2,2,-1,1,-1,1,-1,1,2,1,-1,-1,1,1,1,-1,-2,1,1,-2,-1,2,2,-2,-1,1,-1,-1,2,1,-2,-1,-2,2,1,-1,-1,-1,1,-1,-1,-1,-1,1,1,2,2,1,1,2,-1,-1,-1,-1,-1,1,-1,2,-1,-1,1,1,-1,1,1,-2,1,1,-1,1,2,1,1,-1,-2,-1,2,1,2,-1,1,1,1,1,-1,-1,1,1,2,-1,-1,-1,-1,1,1,-2,2,1,1,-1,1,-2,-1,-1,-1,-1,1,1,-1,-1,-1,1,1,-1,1,1,-1,1]
[-1,-1,-1,-1,1,1,1,1,2,-1,-1,-1,1,-1,1,1,1,-2,1,1,2,-1,-2,1,1,-1,1,-1,-1,1,1,1,1,2,-1,-1,-1,-1,-1,1,1,-1,2,-1,1,-2,-1,-2,-2,1,1,1,1,2,-1,-1,1,2,-2,-1,2,-1,1,-1,-1,-1,-1,1,1,1,-1,-1,-1,1,1,1,-1,-1,1,1,1,1,-2,1,-1,1,-1,-1,-1,1,-1,1,-1,-1,-2,1,2,-1,2,-1,-1,2,2,-1,1,-2,-1,-1,-2,-2,-1,1,1,-1,2,1,-1,-1,-1,-1,-1,1,1,1,-2,-1]
[2,1,2,-2,1,1,-2,1,1,2,-1,-2,2,1,-1,2,1,1,2,1,1,1,-2,1,-1,-1,-2,-1,-1,-1,1,1,-1,1,2,-1,2,-1,-1,1,-1,2,1,-2,1,-1,-1,-1,1,-1,-1,1,1,1,2,1,1,-1,-1,-1,-1,-1,-1,2,-2,1,-2,-2,1,-1,-2,1,2,1,-2,2,-1,1,2,1,1,1,1,2,-1,-1,2,1,1,1,-1,-1,-1,2,-1,-1,1,-1,-1,1,-2,1,-1,-1,1,-1,-1,-2,-1,-1,-1,-2,1,-1,1,1,-1,1,-1,1,1,-1,1,2,1,1]
[1,-1,1,-1,-1,-2,1,-1,1,1,-2,1,1,1,1,-1,1,1,1,-1,1,2,-1,2,-1,1,-1,1,-1,-1,2,1,1,-1,-1,-2,1,-2,-2,1,1,1,2,-1,-1,1,-2,-1,-1,1,2,1,-2,2,-1,1,-1,-1,-1,-1,4,-2,-1,2,-1,-1,-2,-1,-1,-1,-1,-1,4,-2,1,-1,-2,-1,2,-1,1,-1,-1,-1,1,-1,2,-1,1,-1,-1,1,-1,1,-1,2,2,-1,-1,-1,1,-2,1,-1,-1,-1,1,-1,-2,-2,-2,1,-1,1,2,1,2,-1,-1,-1,1,-1,-1,1,1,1]
[1,-1,1,-1,1,-1,-1,-1,1,-1,-1,2,1,1,-1,-1,-1,-1,-1,-1,2,-1,-1,-1,-2,-1,-1,-1,1,1,1,1,-1,1,1,1,-1,-1,1,-1,1,1,1,-2,1,-1,1,-1,-1,2,-1,1,1,1,2,-1,-1,1,1,-1,2,-1,-1,1,-1,-1,-2,1,1,1,1,1,-1,-1,-1,-1,-1,-2,1,-1,-1,1,1,-2,2,1,1,1,-1,-2,-1,-1,-1,1,1,-1,1,1,1,-1,-2,-1,1,2,-1,-1,-2,-1,-1,-1,-1,-1,-1,-1,-1,-1,1,-1,-1,-1,1,1,-1,1,1,-1]
[-1,1,-1,-2,-1,-2,-1,-1,1,1,-1,1,1,-1,1,-1,1,-1,2,-1,-1,-1,-2,1,-1,1,-2,-2,2,1,1,-1,-2,1,-2,-1,-1,1,1,2,-1,1,1,-2,1,-2,1,-2,-1,2,1,2,1,-1,-1,-2,-1,1,-1,-1,2,1,-1,-1,1,-1,-2,-1,-1,-2,1,-1,-1,-1,-2,2,1,1,-1,1,1,1,-1,-1,1,-2,1,-2,1,-2,-2,1,1,2,-1,-1,1,1,1,2,2,1,2,-1,1,1,1,1,-2,-2,-1,-1,1,2,2,-2,-1,2,1,-2,1,2,-1,2,-1,2]
[1,1,1,-2,-1,-1,-1,2,-1,2,1,1,-2,-2,1,1,-1,1,2,-1,1,2,-1,-2,-2,2,-2,-2,-1,1,2,-1,1,1,-1,-2,1,1,1,2,1,1,1,-2,-1,-2,1,1,-2,1,-1,1,-1,1,1,-2,-2,-1,-1,-1,1,-1,1,1,-2,1,-1,-1,-1,-1,-1,1,2,-1,2,1,-1,1,1,1,1,1,1,1,1,1,1,-2,1,1,-1,1,-1,2,-1,-1,-1,-2,-1,-1,2,-1,1,2,-1,1,-1,-1,1,1,-1,1,1,1,4,-2,2,-1,-1,-1,1,1,-1,2,-1,-1]
[1,-1,2,1,-2,1,-1,-1,-1,2,-1,1,-1,1,1,1,1,-1,1,2,1,-2,1,1,-1,2,-1,1,-1,-1,1,-1,1,-1,-1,-1,-1,-1,-2,2,1,2,1,1,-1,1,-1,-2,-1,-1,-1,-2,-1,-1,-1,-1,1,1,-1,-1,1,-1,-1,-1,1,1,-1,1,1,-1,1,-1,1,-1,1,1,-1,2,2,1,-1,1,1,1,1,-1,1,-1,1,-2,-1,-1,1,-1,-1,1,-1,-1,1,1,-1,-1,1,1,-1,-1,2,1,1,1,-1,2,2,1,1,1,-1,-1,1,-1,-1,1,1,1,1,-1]
[1,1,2,1,-1,1,1,-1,-1,-2,1,-1,1,1,-1,1,-1,-2,2,-1,1,1,-1,-1,1,1,-1,-1,-1,-2,1,2,-1,-1,1,-2,1,1,1,-2,1,1,-1,-1,-1,1,2,1,1,1,-1,2,-1,-1,1,-1,2,1,-2,1,1,-1,1,1,1,2,1,-1,-1,-2,-1,-1,-1,1,-1,-1,-2,-1,-2,-1,-1,-1,-2,1,-1,-1,-1,1,-1,1,-1,1,-2,1,1,1,1,-1,1,1,-1,1,-1,-1,-2,-1,-1,1,1,1,2,1,1,-1,-1,1,2,-1,-1,-1,1,1,-1,1,-2,1]
[1,1,1,1,-1,1,1,-1,-1,-1,2,-1,-1,1,1,1,-1,1,1,-2,1,1,-1,-1,1,-2,-1,1,-1,-1,-1,1,1,2,-1,1,-2,-1,2,-1,1,1,1,-1,1,-1,1,-1,-1,1,2,-1,-1,-2,1,1,1,-1,-1,1,1,1,-1,-1,-1,-1,1,1,1,1,1,-1,-1,1,-1,-1,2,-2,1,1,1,1,1,-1,1,1,2,1,-2,-1,2,-2,-2,1,1,1,-1,-2,1,-1,1,1,-2,1,-1,-1,-1,-1,-1,-1,-1,-1,1,2,-1,1,-1,-1,1,2,-2,-1,1,1,-1,-1]
[-1,-1,1,1,-1,-1,-2,-2,-1,1,-1,-1,-1,-2,-1,1,-1,1,-1,1,-1,1,-1,1,-1,-1,1,-1,1,-1,-1,-1,1,-1,1,-1,-1,1,-1,1,1,-1,2,1,-1,1,-1,-1,-1,1,-1,2,2,1,1,1,-2,-1,-1,1,2,-1,1,1,1,-1,1,2,1,-1,-1,-1,2,-1,-1,-1,1,1,-2,1,2,1,-1,1,-1,-1,-1,1,-1,-1,-1,1,1,-1,-1,-1,-1,1,-1,-1,-2,1,1,-1,1,-2,-1,-1,1,-1,1,-1,1,2,-2,-1,-2,-1,2,-1,2,1,-2,-1,1,-2]
[-1,-1,1,-1,-1,1,1,-1,1,-1,1,-1,1,-1,1,-1,1,1,1,-1,1,-1,-2,-1,1,1,2,2,-1,1,-1,-1,1,1,-1,-1,2,1,-1,-1,-1,-2,1,1,-1,1,2,-1,-1,1,1,1,-1,-1,-1,-1,1,-1,1,-1,1,2,-1,1,1,1,1,2,-1,-1,-1,1,-1,-2,1,-1,1,-1,2,2,-1,1,2,1,1,1,1,-2,2,1,-2,-1,1,1,1,1,-2,1,-1,1,-1,-1,-1,1,-1,2,1,-1,-1,1,-1,1,1,1,1,1,-1,1,1,1,-1,1,-1,1,-1,-1]
[-1,-1,2,2,1,1,1,-1,-1,-1,1,1,-1,-1,1,1,1,-1,1,1,1,1,-1,-1,1,-1,-1,2,1,1,-1,-1,-1,1,1,1,1,-1,1,-1,-1,-1,2,1,2,1,-2,1,-1,-2,1,-1,-2,-2,-1,1,-1,-1,-1,-1,-1,-1,1,-1,1,-1,-1,1,-1,-1,1,-1,-1,-1,-1,1,-1,1,-1,-1,-1,1,-2,-1,-2,-1,1,-1,1,-1,1,-2,1,-1,-1,1,1,-1,-1,1,1,-1,1,-2,1,1,2,1,-1,-1,-1,-1,-1,1,1,-1,-1,1,1,1,-1,1,1,1,2,1]
[1,-1,-1,1,1,1,-1,-1,-1,1,1,-1,1,-1,1,-1,-2,1,2,-1,1,1,-2,-1,-1,-1,-2,1,-1,1,1,1,-1,1,1,-1,1,1,1,2,2,1,-1,1,1,2,2,1,1,1,1,1,-2,-1,-1,-1,1,-1,-1,1,-1,-1,-2,1,2,1,-1,1,1,1,1,-1,2,2,-1,-1,1,-1,2,-1,-1,2,-1,2,1,-1,1,-2,-1,-1,1,-2,-1,-1,-1,-1,1,-1,-1,-1,1,1,-2,1,-2,1,1,1,-1,1,-1,-2,1,1,-1,-1,-1,2,1,-1,1,-1,1,1,1,1]
[1,-1,1,-2,1,2,-2,1,1,2,1,-1,2,1,1,1,-1,1,1,-1,1,-1,-1,1,1,1,1,-1,1,-1,1,-2,1,-1,1,-1,-1,1,1,-1,-1,-1,1,1,2,-1,-1,2,-1,2,1,-1,-1,1,-1,2,-1,-1,-1,1,2,-1,1,-1,1,1,1,-1,1,1,-1,-1,1,-1,1,-1,1,1,1,-2,-1,-1,1,-1,1,1,-1,1,1,1,-1,-1,-1,1,-2,1,1,-1,-1,-1,-1,1,1,1,1,-1,1,-1,1,-1,-1,1,2,-1,2,-2,-1,1,2,1,1,1,-1,1,-1,1]
[2,-1,1,-1,2,1,-1,1,-1,2,-2,1,-1,-1,1,1,-1,1,-2,-2,-1,2,-2,1,1,1,1,1,2,-1,1,-1,-1,-1,-1,1,1,1,-1,-2,-1,-2,2,-1,-1,-1,-1,1,1,1,-1,-1,-1,-1,-2,1,2,1,2,1,1,-1,1,4,1,1,-1,2,1,1,1,-2,-2,-1,-1,-2,-2,-1,1,1,-1,-2,-2,1,2,-1,-2,1,-1,1,-1,2,-1,1,1,-1,-2,-1,1,-1,-2,-1,1,-1,2,4,-2,-1,-1,1,2,2,2,-1,-2,-1,-1,-1,1,-1,-1,1,-1,1,-2,-1]
[2,-1,1,-2,-1,1,2,1,-1,-1,2,2,-2,-1,-1,-2,-2,-1,-2,1,-1,-1,1,1,1,-1,-2,2,2,1,-2,1,-1,-1,1,1,2,-1,-1,-1,1,2,2,-1,1,-1,2,1,2,1,-1,1,1,2,-1,1,1,1,1,-1,1,2,-1,-1,1,-1,-1,-2,-1,1,1,-1,-1,2,1,-2,1,1,1,-1,1,1,1,2,2,-1,1,1,-1,-1,1,-1,1,-2,-1,-1,1,-1,1,-2,-1,1,-1,2,-1,-1,1,-1,-2,-1,-1,1,2,-2,-1,-1,-1,-2,-2,-1,-1,-1,1,-1,2,2]
[-1,-2,1,1,1,-1,1,-1,1,-2,-1,1,-1,-1,-2,-1,1,2,-1,1,1,-1,-1,-1,1,1,1,1,1,2,-1,2,-1,-1,1,-2,1,2,-1,1,1,-1,2,-2,2,-1,-1,-1,1,-1,1,-2,1,1,-1,-1,-1,-1,1,2,-1,-1,-1,-4,-1,2,2,1,1,-1,1,-1,-2,2,1,-1,1,-2,-1,1,1,-1,-1,1,2,1,-2,-1,1,-1,-1,1,-1,-2,1,1,-1,2,-2,1,1,2,-2,-1,-1,1,-1,-1,2,1,1,-1,-1,1,1,-1,-2,-1,1,-2,-1,1,1,-1,1,1]
[-2,1,-1,-1,2,1,2,1,-1,1,-1,-1,-2,1,-1,1,1,-1,1,1,1,1,-1,2,-1,-1,-1,-1,1,-1,-1,-1,2,1,-1,-1,-1,-1,-1,-2,-1,1,1,-1,1,1,1,1,-1,-1,1,1,-1,1,-2,1,-1,-1,1,2,1,-1,1,-2,-1,-1,1,1,1,-1,1,-2,1,-1,-1,-2,-1,1,1,-1,-1,-1,-2,-1,2,1,2,-1,-1,-1,1,-1,1,-1,1,1,-2,-2,-1,-1,1,-1,-2,1,1,-1,1,-1,1,2,1,-1,-1,-1,1,1,-1,-1,2,-1,-1,-2,-2,-1,1,1]
[-1,-1,-2,1,-1,1,-1,-2,-2,-1,1,1,-1,1,-2,-1,1,1,2,1,1,1,1,1,-1,1,1,1,-1,1,-1,-2,2,1,1,-1,-2,1,-1,1,-1,2,2,-2,-2,1,1,1,-1,-1,1,1,1,2,1,-1,1,1,-1,-1,2,-2,-1,-1,-1,1,-2,-1,1,-1,1,1,1,-1,2,-1,1,1,-1,1,1,-2,2,-1,2,-2,1,-1,1,1,2,1,-1,-2,-1,1,-2,1,1,-1,1,-1,-1,1,1,1,-2,-1,-1,1,1,1,-1,1,-1,-1,2,-2,-1,-1,-1,-1,-1,2,-1,2]
[-1,-2,-2,1,-1,-2,1,1,-1,-1,-1,-1,-2,-2,-1,1,-1,-1,1,1,1,1,-1,2,-1,-1,-1,-1,-2,1,-1,1,-1,1,-1,1,-1,1,1,1,1,1,-1,-1,-1,-2,-1,2,1,-1,1,-1,1,1,-1,-1,-1,1,-1,-1,-1,-1,1,2,1,1,1,-1,2,-2,1,-1,1,1,1,2,-1,-1,-1,-1,1,1,-1,2,-1,1,1,1,2,1,-2,1,-1,1,-1,1,-1,-1,-1,1,-1,-1,2,1,-1,1,1,1,1,-1,1,1,-1,-1,-1,1,-1,1,1,1,-1,1,1,-1,1,1]
[-1,2,1,1,-2,-1,1,1,1,-1,-1,-1,-1,-1,-1,-1,1,-1,-1,1,1,2,-1,-1,1,-1,1,-1,1,1,-1,-1,1,1,2,-1,-2,2,1,-1,-1,1,1,-2,1,-1,-1,1,-1,1,-1,2,2,-1,1,-1,1,2,1,-1,1,-1,-1,1,1,1,1,-1,1,2,1,-1,1,1,-1,1,-1,1,1,-1,1,-1,1,-1,1,-2,-1,-1,-1,1,-1,-1,-1,1,-1,1,-1,1,1,-2,-1,-1,1,1,1,1,1,-2,1,1,-1,-1,-1,-1,1,1,2,-1,2,1,-1,-1,2,-1,1,-1]
[-1,1,1,1,-2,-1,-1,1,1,-1,1,-1,1,-1,-1,1,1,1,2,1,1,1,-1,-2,1,-1,-2,-1,-2,2,-1,-2,1,-1,-1,-2,2,1,-1,2,-1,2,2,-2,-2,-2,-2,-1,1,-1,-1,1,-1,1,-1,-1,1,-1,2,2,2,1,2,-2,1,-1,-2,-1,1,1,-2,-1,-1,1,1,1,1,-1,1,1,1,2,2,1,1,-2,-2,-1,-1,-2,1,-1,1,2,-2,1,2,-1,-2,-1,1,1,2,-1,-1,1,-1,-1,-1,1,1,-1,-1,1,1,-1,2,1,1,1,-1,-1,1,1,1,2]
[1,1,1,-2,1,2,-1,-1,-1,-2,1,4,-1,-4,2,2,1,-1,-1,-2,1,1,1,-1,-1,-1,2,2,1,1,1,-2,2,1,-2,1,2,2,-2,-1,-1,2,1,-1,-2,1,2,2,2,-1,-1,-1,-2,2,-1,1,2,1,-1,-2,-1,-2,-1,1,-2,-1,-1,1,1,1,-1,-1,1,-1,1,-2,-2,1,-1,2,-2,1,-1,-1,-2,-1,-1,-2,-1,2,2,-1,-1,1,1,4,1,1,1,-1,-1,-2,-1,-2,1,2,-2,1,-1,2,2,-1,-1,-1,-1,-1,-1,1,-1,2,1,1,-1,1,-2,-1]
[-1,1,-1,1,-1,2,-1,2,1,-2,1,-1,-1,-1,-1,-1,1,2,1,1,-1,1,-2,1,-2,-2,2,-2,2,-1,2,1,2,-1,-2,-1,-1,2,-1,1,-1,-1,-1,1,-2,1,-1,1,-1,2,1,-1,1,1,2,-2,-1,-1,2,2,1,-2,-1,1,-2,1,-2,-1,1,-1,-1,1,1,1,-2,-1,-2,-1,-1,1,1,-1,1,-2,1,-2,-1,-1,-2,-1,1,1,-1,-1,2,1,-1,1,1,1,-1,1,1,-2,2,2,-2,1,1,-1,-1,-1,2,-1,-1,1,1,1,-1,1,-1,1,1,1,-1,1]
[1,-1,-1,-1,-1,-1,2,1,-2,1,1,-1,-1,1,-1,1,1,1,1,1,-1,2,-1,2,-1,-1,-1,1,-1,1,-1,-1,2,-1,1,1,2,-1,-1,1,-1,-1,1,2,2,1,-1,1,1,-1,1,1,-1,-1,-2,-1,-2,1,-1,1,1,-1,-1,1,1,-1,-2,1,-2,2,1,1,1,1,1,-1,-1,-1,-1,-1,1,-1,1,-1,1,2,1,-1,1,-1,1,-1,1,-1,-1,-1,-1,1,2,-1,-2,-2,1,1,1,-1,1,1,1,2,-1,-1,1,1,1,-1,1,1,2,-1,-1,-1,-2,1,1,-1]
[-2,2,1,-1,1,1,-1,1,-1,2,1,-1,2,1,2,-1,-1,1,-2,2,-1,-4,1,2,2,1,1,-1,1,2,1,-1,-1,1,1,2,-2,1,1,-2,2,-1,1,1,2,-1,-1,-1,-1,1,1,-1,1,1,-1,1,-1,-2,-2,1,1,1,1,-4,1,2,-1,1,-1,-1,-1,1,-1,1,-2,-1,1,1,-2,-1,-1,-1,-1,-2,-1,1,1,1,-1,1,-2,-1,-2,-2,-1,-1,-1,2,2,-2,1,-1,-2,1,-1,-2,2,1,-1,1,1,1,1,1,2,2,-1,-1,1,1,1,1,1,1,1,-2]
[2,1,-1,-1,1,-1,-1,1,-2,-1,2,-1,1,-1,-1,2,1,-1,1,1,1,-2,-1,1,1,-1,-1,1,1,2,-1,-1,2,2,1,1,1,-1,-1,1,1,-1,-1,1,1,-1,1,-1,-1,-1,1,2,1,1,1,1,-1,1,-1,-1,1,-1,-2,1,1,-1,1,1,-1,1,-1,1,2,1,-1,2,-1,-2,2,-1,-1,1,1,1,-1,1,1,1,1,1,-2,1,2,1,2,1,2,2,-2,1,-1,1,1,1,1,-1,-1,-1,-1,-2,-1,-1,1,1,-1,1,-1,1,-1,-2,1,1,1,1,-1,-1]
[2,1,-1,1,1,-1,-2,-1,-1,1,-1,1,-1,-1,1,1,-1,2,1,1,-1,2,-1,-1,-1,1,1,1,1,-1,1,1,1,1,1,1,-1,1,1,1,1,1,1,1,1,1,1,-1,-1,1,-1,-1,-1,-1,-1,-1,-1,1,-1,-1,-1,1,1,1,2,2,-1,1,1,-1,1,-1,-2,-2,-1,1,1,-1,1,1,1,-2,-1,1,1,-1,2,1,-2,1,1,1,-1,-2,-1,1,1,-1,-1,1,1,1,2,1,-1,-1,1,1,-1,1,-1,-1,-1,-1,-1,1,1,1,1,1,1,1,1,1,1,1]
[1,1,1,-2,1,-1,1,1,1,-1,-1,1,-1,1,-1,-1,-1,-2,1,1,1,1,1,1,1,1,1,-1,-2,1,-1,2,1,1,-1,1,1,1,1,-1,-1,-1,-1,-1,1,1,-2,-1,-1,-2,2,1,1,-2,1,1,-1,-1,-1,-1,1,1,-1,2,1,1,2,-1,1,1,1,-1,-1,2,-1,-1,1,1,1,1,-1,-1,2,-1,1,-1,-1,1,1,1,-1,-2,-1,-1,-1,1,1,1,-1,1,1,-1,1,2,-1,-1,1,1,-1,1,-1,-1,1,-1,2,1,1,2,1,1,2,-1,1,1,1,1]
[1,1,-1,1,-1,-1,1,1,1,1,-1,1,1,2,1,-1,-1,2,1,-1,1,-2,1,-2,1,-1,1,1,1,2,1,1,-1,-1,1,-2,1,-1,-1,-1,1,1,1,2,-1,-1,-1,1,1,-2,1,-1,-1,-1,-2,-1,-2,-2,1,1,-1,1,-1,1,1,1,1,2,2,1,-1,1,2,1,-1,-1,1,-1,1,1,1,1,1,-1,2,-1,1,1,-1,1,1,1,-1,-1,1,-1,1,1,-1,2,1,1,1,-1,1,1,-1,-1,-2,1,-1,1,1,1,-2,-1,-1,-2,2,-1,1,-1,-1,-2,-1,-1]
[-1,1,1,-2,1,1,-1,1,-1,-1,1,1,-1,1,-1,1,1,-1,-2,-2,-1,-1,-1,2,-1,1,1,-1,1,1,-1,1,1,-1,-1,-1,2,-2,-1,2,-2,-2,1,-1,-1,1,1,1,-1,1,1,1,2,-1,1,2,1,-1,1,1,-2,1,-1,1,-2,2,1,-1,-1,-2,2,-1,1,2,1,1,1,2,2,1,-1,-1,1,1,1,-1,1,-2,-1,1,-1,-1,1,-2,1,1,-2,2,2,1,1,-1,-2,-1,-1,-1,1,-1,-2,1,1,-2,-1,1,-1,-1,-1,1,2,2,-1,1,-2,-1,1,-1]
[1,-2,1,1,2,1,1,1,1,-1,-1,-2,-1,1,-1,1,-1,1,1,1,1,-1,1,-1,1,-1,1,-1,1,1,1,-1,1,-1,-1,1,1,1,-1,2,1,1,1,1,1,-1,1,1,1,1,1,1,-1,-1,1,1,-1,-1,1,-1,1,1,-2,2,1,1,-1,2,-1,-2,1,1,1,-1,1,-1,-1,1,1,1,-1,1,-1,-1,1,-1,1,-1,1,-1,-1,-1,1,1,1,1,-1,-1,2,1,2,2,1,2,-1,1,1,-1,-1,-1,1,-1,-1,1,-1,-1,-1,-2,1,1,1,-1,-1,1,-1,1]
[1,1,-1,-1,-1,-1,1,-2,1,1,-2,-1,1,-1,1,-2,1,1,1,1,-1,-1,-2,1,-1,-2,-1,-1,-1,-2,-1,1,-1,-1,1,-1,-2,-1,1,1,1,-1,1,1,2,-1,1,-1,1,1,-2,1,-1,2,2,-1,-1,-1,1,-1,1,-1,-1,-1,-1,-1,1,-1,1,-1,-1,-1,1,-1,-1,2,2,-1,1,-1,1,1,-2,1,1,1,-1,-1,-1,2,-1,1,1,-1,-1,1,-1,-1,-1,-1,2,1,1,-1,1,1,-1,1,1,-1,-1,1,1,2,1,1,-2,1,1,1,1,-1,1,1,-1,-1]
[1,-1,-1,1,-1,-1,1,-1,-2,-1,-1,-1,-1,1,-1,1,1,1,-1,-1,1,-1,-1,1,1,1,2,1,-1,1,-1,2,-2,-2,1,2,1,1,1,-1,1,1,-1,1,1,1,-1,-1,-1,1,1,1,1,2,1,1,-1,-1,1,1,-1,-1,1,-1,1,1,1,1,-1,-1,-1,-1,1,1,1,1,2,1,2,-2,-1,1,-1,-2,-1,-1,-1,1,-1,-1,1,2,-2,1,-2,1,-1,-1,2,1,-1,-1,-1,2,1,1,-1,1,1,1,-1,-2,-2,-1,-1,-1,1,-2,-1,1,1,-1,2,1,1,-1]
[1,-1,-1,-2,-1,-2,1,1,-1,-2,1,-1,-1,-1,-1,1,2,1,-1,1,-1,2,-1,-1,-1,-1,-2,1,1,-1,2,1,-1,1,-2,1,1,1,-1,-1,1,1,2,-1,1,2,-1,1,2,1,-1,-1,-2,1,-1,1,1,-2,-1,-1,1,2,-2,-1,-2,-2,-1,1,1,-1,-1,2,1,1,-1,1,1,1,1,1,-1,1,-1,1,2,1,1,1,-1,2,-1,1,-1,1,-2,-1,-1,1,-1,-1,1,1,-1,-1,2,1,-1,1,1,-1,1,1,-1,1,-1,-2,-1,-1,2,1,1,1,1,1,-2,-1]
[1,1,2,-1,1,-1,-1,-1,-1,2,-2,1,1,2,-1,1,-1,-1,1,-1,-1,1,-2,-1,1,-1,-2,1,-1,-1,1,-2,-1,1,-1,-1,-1,2,1,1,-2,-1,-2,-1,-1,1,1,-1,-2,1,-1,-1,-1,-1,1,-1,1,1,-1,-1,-1,-1,-2,1,1,2,1,1,1,1,1,-1,-1,-1,1,-1,2,2,1,1,-1,-1,1,-1,-1,1,-1,1,-1,1,-1,-1,1,1,-1,1,2,1,-1,1,1,-1,-1,1,1,-1,-1,1,-1,1,1,-1,-1,1,-1,1,2,1,-1,-2,2,1,2,-1,-1,-1]
[2,-2,1,1,-1,-1,1,-2,-2,1,-1,1,-1,1,1,-1,2,1,1,1,-2,1,1,-1,1,1,-1,1,-1,-2,2,-2,2,-1,1,1,-2,-1,1,-1,1,-1,-2,-2,1,-1,-1,-2,2,-1,-1,1,1,-1,1,1,1,1,-1,-1,1,-1,1,1,1,-1,-1,1,-1,-1,1,1,1,-1,1,-1,-1,1,-2,-1,1,1,1,1,-2,-1,1,1,1,-1,1,1,2,1,-1,1,2,2,1,1,1,1,1,1,-1,-2,1,1,-2,-1,1,-1,-1,1,-1,1,-1,2,-1,1,1,-1,-1,1,-1,-1]
[-1,1,-1,-1,-1,-1,-1,-1,2,1,1,1,-2,-1,1,-1,-1,-1,-1,1,1,-1,1,-1,-1,1,-2,-1,-1,1,-1,1,2,1,1,1,-2,-1,-1,-1,2,1,1,-1,-1,1,-2,-1,-1,1,-1,1,1,1,-2,-1,1,1,-1,-1,1,-1,-1,1,-2,1,1,1,1,-1,1,1,-1,-1,1,1,1,-1,1,1,1,2,-1,-1,-1,2,-1,-1,1,1,1,-1,-1,1,1,-2,1,1,-1,-1,-1,-1,-1,-1,-2,-1,-1,-2,1,1,1,1,1,1,-1,-1,2,-1,-1,1,-2,-1,2,-1,1,1]
[-1,-1,-1,2,-1,1,-1,-1,1,1,1,-1,-1,-1,-1,-1,1,1,1,-1,-1,-1,1,1,-1,-2,-1,-1,-2,-1,-1,1,-1,-1,1,1,-2,1,-1,1,1,-2,1,-1,1,-1,1,-1,-1,1,1,2,-1,2,1,1,-1,1,2,-1,-1,-1,-2,-2,-1,2,-2,1,-1,1,-1,2,-2,1,-1,2,-1,2,1,1,-1,1,1,-1,1,-2,-2,1,1,1,-1,-1,-1,-1,-1,2,-1,1,-1,-1,-1,1,-1,1,2,1,-1,1,-1,-1,2,1,-2,-1,-1,-2,-1,1,1,1,-1,-1,1,-1,-1,1]
[1,1,-2,-2,1,1,-1,1,-2,1,1,-1,-1,-1,1,1,1,-1,1,1,-1,2,-1,-1,-1,1,-1,1,-1,-1,-2,-1,1,-1,2,-1,1,1,-1,1,2,1,1,-2,-1,-1,1,1,2,-1,2,-1,1,1,2,-1,-1,1,-1,-1,-1,-1,1,1,-1,2,1,-1,1,1,1,-1,-1,-1,-1,2,1,-1,2,-2,1,-1,1,1,-1,1,-1,1,1,1,2,-1,-1,1,-1,-1,-1,-2,-1,-1,1,-1,-1,-1,1,1,1,2,1,-1,1,1,-2,1,1,1,1,-1,-1,1,1,1,1,1,1,-1]
[2,2,-2,1,1,1,-1,-1,1,1,1,1,1,-1,-1,-2,-1,1,-1,-1,-1,1,1,1,1,1,-1,-1,-2,2,2,1,1,-2,-2,-1,-2,-1,2,1,-2,-1,1,1,1,1,-1,-1,-1,1,1,-1,1,1,-1,1,-2,-1,1,-1,-1,-1,1,-4,1,1,-1,1,-1,-1,2,2,1,1,1,1,-1,1,1,1,-1,1,-2,1,-1,-1,1,-1,-2,1,-1,-2,1,1,1,1,1,-2,-2,1,-1,-1,1,-1,2,1,-1,1,-1,1,1,1,-1,-1,1,-2,-1,1,-1,-2,-2,1,-1,2,-1,1]
[-2,-2,1,1,1,-1,1,-1,-1,1,1,-1,2,-1,-1,2,-2,1,-1,-1,-2,-2,1,-1,1,-2,-1,-2,-1,2,1,-2,1,2,-2,-1,1,-2,1,-1,-1,1,1,-1,2,-1,1,1,-1,2,1,1,-1,1,1,1,1,1,-1,-2,-1,-1,1,1,-1,-1,1,-2,-1,1,2,-1,1,-1,1,1,-1,-1,1,-1,1,-1,-1,1,-1,-1,2,1,1,1,-1,1,1,-1,1,2,-2,-1,2,1,-1,-2,1,1,1,-1,-1,-2,-1,-1,2,-2,1,-1,-1,1,1,-1,1,1,-1,-1,1,1,1,-1]
[2,-1,1,-1,-1,-1,-1,2,-1,1,-1,-1,1,1,-1,1,-1,1,-1,-1,-1,2,1,-1,1,1,1,-1,-1,1,-1,1,1,-1,1,-1,-2,-2,2,1,-2,-1,1,-1,-1,1,2,1,1,-1,1,-1,-2,1,1,-1,-1,1,-1,1,2,-1,1,-1,-1,2,-1,2,-1,-1,1,1,1,1,-1,1,-1,1,1,-1,1,-1,1,1,1,-1,1,1,-1,1,-1,-1,-1,-1,1,-1,-1,1,-1,1,1,-1,-1,1,1,-1,-1,1,-1,1,1,-1,1,1,1,-1,1,-1,-1,-1,-1,1,-1,1,-1,-1]
[-1,1,1,1,1,1,-1,2,-1,1,1,-1,-1,2,1,-1,2,1,1,-1,1,-1,1,1,2,1,-1,1,1,2,-1,-1,1,-1,2,-2,1,-1,1,1,-1,1,1,1,-2,-1,2,1,-1,1,-1,-1,1,-1,-1,-1,-1,-1,1,-1,1,1,-1,1,-1,1,-1,2,-1,-1,-2,1,2,-1,-1,-1,-2,-1,1,1,-2,-1,-1,-1,-1,1,1,1,-1,2,1,2,-1,-1,-1,-1,1,1,-1,1,1,1,-1,-1,-1,1,1,-1,1,1,1,-1,2,-1,1,-1,-1,-1,1,-1,-1,-2,1,-2,-2,1]
[-1,2,1,2,-1,-1,1,2,-1,-1,1,-1,1,1,-1,-1,1,-2,-1,1,-1,1,1,-1,2,-2,-1,1,1,1,-2,1,1,1,1,1,1,-2,1,1,1,-1,-1,-1,1,1,-1,1,-1,-1,1,-1,1,-1,-1,1,1,1,1,1,1,-2,-1,-1,-1,1,1,1,1,-1,1,-1,-1,-1,2,-2,-2,-1,1,-1,1,1,-1,1,1,1,-1,-1,-2,1,1,2,1,-1,-1,-2,-2,-1,-1,1,1,1,-2,-1,1,1,1,1,-1,-1,1,1,1,1,2,-1,1,-1,1,2,1,-1,1,-1,-1,-2]
[1,-1,1,-1,1,2,-1,-1,1,2,-1,-1,1,-1,2,-1,1,1,-1,1,1,2,-1,2,-1,2,-1,1,-2,1,2,1,2,-1,1,2,1,-1,-1,-1,1,1,1,-1,1,1,-1,-1,-2,-1,1,1,1,-1,1,1,2,1,-1,-2,1,-2,-1,1,-1,2,-1,-2,-1,-1,-1,1,2,-2,1,-1,1,1,-2,2,1,1,1,-1,-1,-1,1,-1,-1,1,-1,1,-1,-1,-2,-1,1,2,1,-1,1,-2,-2,-1,-1,1,1,2,1,1,1,-2,-1,1,2,1,1,-2,1,1,-2,-1,-2,-1,-1,1]
[1,-1,-2,-2,1,1,1,1,-1,1,1,1,-1,-1,1,1,-1,1,-1,1,-1,2,1,-1,-1,1,1,-1,-1,-1,1,-1,-1,-2,-2,-1,1,1,-1,1,-1,1,1,1,-1,-2,-1,1,1,1,-1,-1,-1,1,1,1,-2,1,-1,-2,1,1,-1,-1,-1,1,-1,1,-1,2,-1,1,-1,-1,-1,-2,1,1,1,1,-2,-1,1,-1,-1,1,-1,-1,-1,-1,-1,-2,-1,-1,-1,-1,1,1,1,-1,-1,-1,2,1,1,1,-1,-2,1,1,1,-1,-1,1,1,-1,-1,-1,1,-2,-1,-1,2,2,-1,1]
[1,2,1,-1,1,1,1,-1,-2,1,-1,2,1,-1,-1,2,-1,-1,1,-1,1,1,1,1,1,2,-1,1,1,1,-2,1,-1,-1,1,1,-1,-2,-2,-1,-1,-1,-1,-1,-1,1,-1,1,-1,1,1,-1,1,1,-1,-1,1,-1,1,2,1,2,1,-1,2,-1,1,1,-1,1,1,-1,1,2,-2,-1,1,-1,1,1,1,1,2,1,-1,1,-1,1,-2,-1,-2,-1,-1,-1,-1,-1,1,-1,-1,1,1,1,1,-1,-1,-1,2,-1,-1,-2,1,-1,1,-1,1,-1,2,-1,-1,-1,1,1,1,-1,-1,-1]
[1,1,-1,-1,1,1,1,2,-2,1,-2,-2,-2,2,-1,1,-1,1,-1,2,-1,-1,1,-1,-1,-1,1,2,-1,1,-1,1,-1,1,1,-1,1,1,2,1,-2,1,1,-2,-1,1,-1,-2,2,-1,1,1,1,-1,2,-1,1,1,1,-1,-2,1,-2,1,1,-1,-1,1,-2,1,1,-1,-1,1,-1,-1,1,-2,1,-1,-1,1,-1,-1,-1,-1,1,-2,1,-1,1,1,1,1,-2,-1,1,1,1,-1,-2,-2,-2,-1,1,-1,-1,-1,-1,-1,-1,-1,-1,1,-1,-2,-1,1,-1,1,2,-1,1,-1,1,-1]
[1,-1,-1,1,-2,-1,1,1,2,-2,-1,1,-1,-1,-2,-2,-1,1,-1,-1,-2,1,-1,-1,-1,1,1,-1,-1,-1,-2,-1,1,1,1,-1,-1,-1,-1,-2,2,-1,1,1,-1,1,-1,-1,2,1,1,-1,2,-1,-2,1,1,-1,1,-2,-1,-1,1,-1,-1,2,1,1,1,-1,2,1,-1,1,-1,-1,1,-1,-1,2,1,1,1,-1,2,-1,-2,1,-1,-1,-1,1,-1,1,1,-1,-1,-1,-1,-1,1,1,1,1,-1,1,-1,2,1,-1,2,1,1,-2,1,1,-1,1,-1,-1,-1,-1,-1,1,-1,1]
[1,1,1,2,1,-1,-1,1,-1,1,1,1,1,2,1,-1,1,1,1,-1,1,1,-2,-1,1,-1,1,-1,-1,-1,-2,-1,-2,1,1,-1,1,1,-1,-2,1,1,-1,1,1,1,1,1,-1,1,1,1,1,1,-1,1,-1,-1,1,1,1,2,-1,-1,-1,-1,-1,1,1,1,-2,-1,-1,-1,2,1,1,1,-1,1,-1,2,1,1,1,1,1,-1,1,-1,1,-1,-2,-1,-1,-1,-1,-1,1,-1,1,-1,1,-2,1,1,2,1,1,-1,1,-1,1,-1,-2,-1,1,1,2,-1,-1,1,1,-1,1,1]
[1,-2,-1,1,1,1,1,-1,1,-1,-2,1,-1,-2,1,-1,1,2,-2,1,1,-1,-1,1,-1,1,1,-1,-1,1,-1,-1,1,1,1,1,-1,-1,1,-1,-1,1,-1,-1,2,1,-1,1,-1,1,-1,1,1,1,1,-1,-1,1,-1,1,-1,-2,1,1,-1,-2,-1,-2,1,-1,1,1,1,1,-1,-2,-1,-2,1,1,1,1,-1,-2,-1,-1,1,-1,-1,-1,-1,-1,-1,2,-1,-1,-1,-1,2,-1,1,1,2,-1,-1,-1,1,-1,-1,2,-1,-1,-1,1,-1,1,1,1,-1,-1,-1,1,1,1,-1,1]
[-1,-1,-1,1,-1,2,1,-1,-1,1,1,-1,-1,-1,2,-1,1,-1,1,1,1,-1,-2,1,-1,-1,1,1,-1,2,-1,-1,1,1,1,2,-1,-1,-2,1,-1,-1,-1,-1,2,-1,1,-2,1,-1,-1,-1,-1,-1,-1,1,1,1,1,-2,1,-1,1,2,-1,-1,-1,1,-1,-1,-1,-1,-1,1,1,1,-1,-1,-1,1,-1,-1,-1,1,-2,1,1,1,-1,-1,2,1,-1,2,-1,-1,1,2,1,-1,-2,1,-1,1,1,-1,-1,1,1,1,-1,-1,-1,1,-2,-1,-1,-1,-1,-1,-1,2,1,-1,-1,1]
[1,-1,-1,-1,1,1,1,-1,1,2,-1,-1,2,1,1,1,-1,-1,1,1,1,-1,2,2,1,1,1,-1,1,1,-1,1,-1,1,1,-1,1,-2,1,1,1,1,-1,1,-1,1,-2,-2,1,-1,-2,-1,-1,-1,1,-1,-2,1,2,-1,1,1,-1,1,2,2,-1,-1,-1,-1,-1,1,-1,1,-1,1,1,1,2,-2,-2,1,-1,1,-2,1,1,1,-1,1,1,1,-2,-1,1,-2,1,-1,1,-1,2,-1,2,2,-1,-1,-1,-1,1,-1,1,-1,1,1,-2,-1,1,-1,-1,-1,-1,-1,1,1,-2,-1]
[-1,1,1,1,1,1,1,1,-1,-2,1,-2,1,-1,1,1,-1,-2,2,-1,-1,1,-1,1,-1,-2,-1,-1,-1,1,2,-1,1,-1,-2,-1,-1,-1,1,1,2,1,1,1,-1,-1,2,-1,1,1,-1,-1,-1,1,1,-1,-1,1,-1,-1,1,1,1,1,1,-2,1,-1,-2,-1,-1,-2,1,-1,-1,1,1,2,1,-1,2,-1,-1,2,1,2,-1,1,1,1,-1,-1,-2,-1,1,-1,1,1,1,1,2,-1,-2,1,1,-1,1,-1,1,-1,1,1,-1,1,-1,1,-1,2,1,-2,1,-1,1,1,1,-1]
[-2,1,-1,-1,-1,1,-1,2,-1,-1,-1,-1,1,-2,-1,-2,-1,-1,1,1,1,-2,1,2,1,-2,2,1,2,2,1,1,-1,-1,1,1,-1,-1,-1,-1,1,-1,1,-1,-1,-1,-2,2,-1,1,-1,1,-1,1,-1,1,1,-1,-2,-1,-1,1,2,-1,2,1,1,1,1,-1,2,1,1,-2,1,1,1,1,-2,-1,1,-1,1,2,-1,-1,1,1,-1,-1,-1,1,1,-1,-2,-1,-1,-1,1,2,-1,-2,1,-1,1,-2,-1,-1,-2,1,2,-1,2,-1,1,-1,-1,-1,-1,2,-2,1,-2,1,-1,2]
[-1,1,-1,-2,1,-1,2,1,-1,-1,-1,1,-1,1,2,1,-2,-1,2,1,1,-1,-1,-2,-2,-1,1,2,1,-1,-1,1,1,1,-1,-1,1,-1,-1,-1,1,1,-1,1,-1,-2,-1,-1,1,-1,-2,-1,-1,-1,1,1,2,-1,-1,-2,1,2,1,2,1,-1,-1,1,-1,1,2,-1,-1,1,1,-2,1,1,1,-2,1,1,1,-1,1,-1,1,-2,1,-1,-1,2,-1,1,-1,-1,-1,1,1,-1,-2,1,-1,-1,1,1,-1,-1,-2,-2,1,2,1,-1,-2,-1,-1,-2,1,1,1,-2,-1,2,1,1]
[-1,-1,-1,1,1,2,-1,-1,1,-1,1,1,2,1,2,-1,1,1,1,1,1,1,1,-1,1,-1,-1,1,1,1,1,-2,1,1,-1,-1,-1,1,-1,-1,1,1,1,1,-1,1,1,-1,-1,2,1,-1,1,-2,-1,1,-2,1,1,-1,-1,2,-1,1,1,1,2,1,-1,1,-1,-2,-1,-2,1,1,-1,1,-1,1,-1,-1,-1,-1,1,-1,-1,-1,1,1,1,2,-2,-1,-1,1,1,-2,1,2,-1,1,-1,1,-1,-1,1,-1,-1,1,-1,1,-1,1,1,2,-1,1,-1,-1,-1,1,-2,1,1,-1]
[-1,-1,1,-1,-1,-1,1,-1,2,1,-1,2,2,1,-2,1,-1,2,1,-1,1,-2,-1,1,1,-1,-1,1,1,1,1,1,2,-1,-1,1,1,1,-1,1,-1,1,-1,1,-1,-1,-2,-1,-1,2,-1,-1,1,1,-1,-1,1,1,-2,1,-1,-1,-1,1,1,1,1,-1,1,1,1,-1,-1,-1,1,-1,-1,-1,1,1,-1,1,1,-1,-2,1,-2,-1,-1,1,-2,1,1,-1,-1,2,1,-1,-2,-1,-1,-1,-1,-1,2,1,1,1,1,-1,-2,1,2,1,1,1,-1,1,-1,1,-1,1,2,1,-1,1]
[2,-1,1,-1,-2,-1,-1,-2,-1,2,-1,-1,1,1,1,-1,-1,2,-1,1,1,-1,1,1,1,-1,-1,-1,1,-2,1,-1,-1,1,-2,-1,-1,-2,1,-1,1,-1,2,1,-1,-2,-1,-1,-1,1,1,-1,-1,-2,1,1,1,-1,-1,-1,-1,1,1,4,-1,-1,-1,1,1,-1,-1,1,1,-1,-1,1,-1,-1,1,1,1,-2,-1,1,-1,-1,-1,1,1,1,1,-1,1,1,-1,1,1,1,-2,-1,1,1,1,2,-1,-1,1,-2,-1,2,-1,-1,-1,-2,1,1,1,-2,-1,-1,1,-2,-2,1,1,-2]
[1,1,1,1,1,-1,1,1,2,1,-1,-1,-1,1,1,-1,1,1,1,1,-1,1,1,1,1,-2,1,2,-1,1,-1,1,2,1,1,1,-2,-1,2,-1,-1,2,1,1,-1,-2,1,1,-2,-1,2,-1,-1,1,-1,2,1,1,-1,1,1,1,1,-1,1,-1,2,-1,1,2,-1,1,-1,1,-1,1,1,-2,1,-2,1,-1,-1,1,1,-1,1,-1,-1,1,-1,1,-1,1,1,-1,-1,1,-1,-1,1,1,-1,2,1,1,-1,-2,1,-2,-2,1,-1,1,-1,1,1,1,1,1,1,2,1,1,-1,-1]
[-2,-1,2,1,1,-1,-1,1,1,-1,1,1,-2,1,-1,1,-1,-1,-1,1,1,-2,-1,-1,-2,2,-1,1,2,1,1,1,1,-1,2,-1,1,-1,-1,-1,2,-1,-1,1,1,-2,1,1,-1,-1,-2,-1,1,1,-2,-1,2,-1,-1,-2,2,1,1,1,-1,2,-2,1,-1,1,-1,1,2,-1,1,1,2,-1,1,-1,-1,-2,1,1,1,1,-1,1,-1,-1,2,2,-2,-1,1,2,-1,1,2,-2,1,-1,1,1,1,1,2,1,1,1,-1,1,2,-2,2,1,-1,-1,1,2,1,-1,-1,1,1,1]
[1,1,1,1,1,1,1,1,1,-1,-2,1,-1,1,1,-1,1,-1,1,2,1,1,2,-1,2,1,-2,-1,-1,-1,-1,-1,1,1,1,1,-2,1,-2,1,1,1,2,-1,1,-1,-1,1,-1,1,1,-1,-1,2,-2,-1,-1,-2,1,1,2,1,1,4,2,1,1,1,-2,1,-1,1,-1,-1,-1,-1,-1,-2,-1,1,-1,1,1,-1,4,1,2,1,1,-2,1,-1,1,1,-1,1,-1,-1,-1,-2,1,1,-1,-1,1,4,-2,1,1,-1,-1,-1,-2,-1,1,-1,-1,1,-1,1,-2,2,1,2,2,-1]
[-2,-1,1,1,-1,1,1,2,1,1,1,-1,1,-1,1,-1,1,1,1,1,-1,-1,1,2,-2,1,-1,1,1,-1,-1,-2,2,2,1,-1,-1,1,-2,1,1,1,1,1,-1,-1,-1,2,1,2,2,-2,1,1,-1,-1,2,-2,-1,-1,-1,1,-1,-1,-1,1,-2,-1,-1,1,-1,-1,1,-1,-1,1,-1,1,1,-1,-1,1,-2,2,2,-1,2,1,1,2,-1,1,1,1,-1,-1,-1,-1,1,-2,-2,1,-1,1,1,1,1,1,-1,-1,1,1,-1,-2,-2,-1,-1,-1,-1,-1,-1,-1,1,1,-1,-1]
[-1,-1,1,1,1,-1,-1,2,1,1,1,-1,1,-1,1,-2,-1,-2,-1,1,1,1,-1,-1,1,1,-1,-1,2,-1,2,1,-1,-2,-1,1,1,-1,1,-1,1,2,1,-2,1,-1,1,1,2,-1,-2,1,1,1,1,-2,-1,-2,-1,-1,1,-1,2,1,1,1,1,-1,1,1,-1,-1,1,1,-1,-1,1,-1,-1,-2,-1,1,-1,-1,-1,-1,2,-1,1,-1,-1,1,-2,2,-2,-1,-1,1,-1,1,-1,1,-1,2,2,2,-1,-1,1,-1,1,-2,-1,1,-1,-1,1,2,-1,2,1,1,1,-2,1,-2]
[2,-1,1,-1,-2,-2,-1,1,-1,-1,1,2,-1,2,-2,1,-1,1,-1,1,-1,1,-1,-1,1,-2,-1,-2,-1,1,1,1,1,-1,-2,1,1,1,1,1,1,-1,-1,-1,2,1,1,-1,-1,-1,1,1,-1,-1,-1,-1,1,-1,-1,-1,2,1,-2,1,1,1,-1,1,1,1,-1,-1,-1,-1,2,1,1,1,1,1,-1,2,-1,-2,1,1,1,-1,-1,1,-1,-1,-1,2,-1,-1,-2,1,-2,1,2,-1,1,2,-1,1,1,-1,-1,-2,1,-1,1,-1,-1,-1,-1,2,-2,-1,-1,-1,-2,2,-2,1]
[-1,-1,1,-1,-1,-1,-1,-1,-1,1,-1,2,1,-1,-2,-1,1,-1,-1,-1,-2,-2,-1,1,1,-1,-1,-1,-1,1,-1,-1,1,1,2,1,-1,-1,2,-1,-1,-1,1,1,-1,-1,-1,-1,-1,-2,-2,-1,-1,1,1,-2,-1,-1,1,1,1,1,-1,-1,-2,-2,1,-1,-2,1,-1,1,-1,-1,1,1,-1,-1,1,-1,1,-1,-1,1,-1,1,1,-1,-1,1,-2,-1,1,2,-2,-1,1,-1,1,1,1,1,1,-1,-1,1,2,-1,1,1,-1,-1,-2,1,-1,1,-1,-1,1,-1,1,1,-1,2,-1,1]
[-1,1,2,-1,2,-1,-1,1,1,-1,-1,1,1,-1,2,-1,-1,-1,-1,-1,-1,1,1,1,-1,1,-1,-1,1,-1,-1,-1,-1,-1,1,-1,1,1,1,1,-1,1,1,1,-1,-1,-1,2,1,-1,1,1,-1,-1,-1,1,1,-1,1,-1,1,1,-2,-1,1,1,-2,1,-1,1,-1,-1,-1,-1,-1,1,1,-1,1,1,-1,-1,2,-1,-1,-1,2,-1,-1,1,-2,-2,1,-1,1,1,-1,-1,2,1,-1,-1,1,-2,-1,1,1,-1,1,1,-1,-1,1,-1,-1,1,-2,1,1,1,1,-1,-1,1,2,-1]
[-1,-1,-1,1,2,-1,-1,-1,-1,1,1,1,1,-1,2,-1,2,-2,-2,1,-1,1,1,2,-1,2,-1,-1,1,-1,-1,-2,-1,-1,-1,2,-1,1,-2,-1,-1,1,-1,-1,-1,1,-1,2,-2,-1,1,-1,1,1,1,-2,2,-1,1,-1,-1,-1,1,1,-1,1,-2,-1,1,1,-2,-1,1,1,2,-1,1,1,-2,4,1,1,-1,-1,1,-1,2,-1,1,-1,-1,-1,-1,1,-2,2,1,-1,1,-1,1,-1,1,-1,-1,-1,1,-1,1,1,1,1,-2,-2,-1,-2,2,1,-1,-1,1,1,-1,-1,1,-1]
[1,-1,1,-2,1,1,-2,-2,-2,1,-1,1,-1,1,1,2,1,-2,1,2,-1,1,-1,-1,1,-1,-1,-1,1,-1,-1,1,-1,-1,1,-1,-1,-1,1,-1,-1,1,-1,1,2,-1,1,-1,1,1,-2,-1,-1,-1,1,1,-1,1,1,-1,-1,2,-1,1,1,1,-1,-1,1,1,1,-2,1,-1,1,-1,-1,1,-1,1,1,-1,2,-1,2,-1,1,-1,1,-1,1,-1,-1,-2,1,1,-1,-2,-1,1,2,1,-1,1,-1,1,1,1,-1,1,1,-2,-1,1,1,-1,-1,-1,-1,1,1,1,1,1,1,1]
[1,-1,-2,2,-1,-1,-2,1,-1,-4,4,-1,2,2,1,-2,-1,2,-2,-1,-1,2,4,-2,-1,1,1,-1,1,1,-1,4,1,2,-1,-1,1,-2,2,-2,-1,-1,4,2,-2,2,-1,-1,-1,1,-2,-2,4,1,1,1,-2,-2,-1,1,1,2,-2,1,2,-1,1,-1,1,1,1,-2,-2,1,-1,2,2,-1,-1,-1,1,-1,1,-1,2,1,-4,-1,-2,1,1,-1,-2,-1,4,-1,-1,1,-1,-1,-2,1,-2,2,-2,2,2,-1,-1,-1,-2,1,2,-1,-1,2,1,-1,1,-1,-1,-2,1,-1,1,-2]
[1,2,-1,-1,-1,-1,-1,1,-1,-2,1,-1,1,2,1,1,1,1,-1,1,-1,1,-1,1,-2,1,2,-1,-1,-1,1,-1,-1,-1,1,-1,1,1,-2,-2,-1,-1,1,-1,1,-1,-1,-1,1,-2,-1,1,-2,1,-1,1,-1,1,-1,-1,1,1,-1,-1,-1,-1,2,-1,-1,1,-1,-1,1,-1,1,1,-1,-1,-1,1,2,1,-2,-1,-1,1,-1,1,-1,-1,1,1,1,1,2,-1,-1,1,-1,-2,1,1,2,1,-1,-1,-1,1,-2,1,-1,2,-1,1,-2,1,1,2,1,-1,1,-1,1,-1,1,-1]
[-1,-1,-1,-1,-1,2,-2,-1,1,-1,1,2,2,-1,1,-2,1,-1,1,-1,1,-2,-2,-1,-2,-1,-1,-1,1,2,2,1,-1,1,1,-1,-1,-2,1,1,1,-2,2,1,1,1,1,2,-2,-1,1,2,-2,2,1,-2,-2,-2,1,-1,-1,1,-2,-2,1,-1,-1,-1,1,-2,-1,2,-1,1,1,1,-1,1,-1,-2,-1,-1,-1,1,1,-1,-1,-2,-1,-1,-1,-1,-1,2,-1,-1,1,-1,-2,1,1,-1,1,-1,1,-1,1,-1,-1,-1,1,1,1,1,2,-1,1,-1,-1,1,-1,-1,-2,2,-1,2]
[-1,-1,1,2,-2,2,-1,1,2,-1,-1,1,-1,1,1,-1,1,1,1,1,1,-2,-1,-2,1,-1,-1,1,-1,1,1,-1,-1,-1,-1,2,-1,1,-1,-1,1,-1,2,1,-1,1,-1,-1,1,2,1,-1,1,1,1,1,-1,1,1,-1,1,-1,-1,-1,-1,-2,1,1,1,1,-1,-1,-1,-1,-1,1,-1,1,1,1,2,-1,-1,1,-1,1,-1,1,-1,1,-2,-1,1,1,-1,-1,1,-1,-1,-1,-1,-1,-1,-1,-1,-4,1,-1,-1,1,1,-1,-1,1,-2,1,-2,2,-1,2,-1,-2,-1,1,2,-1]
[4,-2,-1,2,-1,-1,-1,-2,1,-1,2,-1,4,1,-2,-1,1,1,2,1,-2,4,-2,1,2,-1,-2,1,-1,-1,-2,2,-1,2,1,-1,2,1,-1,-1,-2,-2,4,-1,-1,2,-1,-1,-2,-2,2,-2,1,-1,4,2,-2,2,-2,1,1,-1,-1,4,-1,-1,2,-1,-1,-1,-1,-1,-1,1,-1,4,1,-1,2,-2,-1,1,-2,1,4,-1,-2,-1,-1,-1,-1,-1,1,-2,1,-1,4,2,1,-1,-1,-1,1,-1,1,2,-1,1,1,-2,-1,1,-2,1,-2,-1,-1,2,2,-1,2,-2,-1,1,1,-2]
[4,-2,-2,-1,1,-1,1,1,1,-2,1,-2,4,1,-1,-1,1,-1,-1,1,-1,4,-2,1,-2,-1,1,-1,-1,-1,-2,2,-2,2,1,-1,1,1,-1,-1,1,-1,1,-1,-1,2,-1,-1,-2,-1,2,1,2,-1,1,2,1,1,1,1,1,-1,1,4,-2,-2,1,-2,1,-1,1,-2,1,1,1,2,1,-2,-1,-1,-1,-1,-1,-1,1,1,1,1,-1,-1,1,-1,-1,1,1,1,2,2,1,2,1,2,1,1,1,2,-1,-2,2,-1,-1,-2,-1,1,-1,-1,1,2,-1,-1,1,-1,-1,1,-1,1]
[4,1,1,-1,1,2,2,2,-2,1,-2,4,-1,-1,2,-2,-1,-2,1,1,2,2,-1,1,-2,1,1,1,1,-2,2,-1,2,-4,-1,-1,-1,-1,-2,1,1,2,2,-2,-1,-2,1,-1,1,4,-1,1,1,1,-1,-1,-1,-2,1,-2,-1,1,2,2,-1,-1,-1,1,-1,2,1,-1,-1,-1,2,-4,-1,1,2,-1,-2,1,-1,2,2,-1,-1,-1,-1,1,2,1,1,-1,-1,2,-1,1,1,1,-2,-2,1,-1,-1,1,1,-2,-1,-1,1,1,2,-1,-1,1,2,1,-2,1,-1,-1,-2,-1,-1,1]
[4,1,-1,-2,2,-2,-1,2,-1,-2,-2,2,-1,1,1,-4,1,1,1,2,-1,2,-1,1,1,2,1,-2,2,-2,-1,1,4,-1,-1,1,-1,-1,-1,-1,1,1,2,-1,1,-1,1,1,-1,1,-2,-1,1,2,1,-1,-2,-2,1,-1,1,-1,1,1,1,-1,1,1,1,1,-1,-1,1,1,2,-2,-1,-1,-2,1,-1,1,-2,-1,2,1,-1,1,2,1,-1,2,-2,1,-1,1,-1,1,1,-2,-1,1,1,-1,-1,1,-2,-1,-1,2,1,2,2,-1,1,1,1,1,-1,2,-2,-1,-1,1,1,2]
[1,1,-1,1,1,-1,2,-1,1,-1,-1,-1,-2,-1,1,-2,1,1,-2,2,1,1,-2,1,1,1,-1,2,1,1,1,-1,-1,1,1,-1,1,1,1,1,-1,1,-1,1,-2,1,-1,1,1,-1,-2,-1,-1,1,-1,-2,1,-1,1,-1,-2,1,2,1,2,-1,-1,-1,-1,-1,1,-1,1,-1,1,1,1,-1,2,-1,1,-2,1,1,1,-1,-1,-1,-1,1,-1,-1,-1,1,-1,-1,1,-2,1,-1,-1,-1,1,1,1,-2,1,-1,-1,-1,-2,-1,1,1,-1,1,-1,-1,1,1,1,-1,-2,-2,-1,-1]
[-2,1,1,1,1,-1,-1,-1,1,1,1,-1,-1,-1,1,-1,-2,-1,1,-1,-1,1,1,2,-1,1,1,1,-2,1,-1,-1,-1,1,1,2,-2,-1,-1,-1,1,-1,1,1,-1,1,-1,-1,-1,1,1,-1,-1,-1,-2,1,2,1,-1,-1,1,1,1,1,1,1,-2,1,1,1,-2,-1,-1,1,1,-1,1,1,1,-1,2,1,1,1,-1,1,-1,-1,2,-1,-1,-1,-1,-2,1,1,-1,1,1,-1,1,-2,1,-2,-2,-2,1,1,2,1,-2,1,1,2,1,-1,-1,1,-1,1,-1,-1,1,-1,1,-1]
[1,1,-2,-1,1,1,-2,1,-1,-1,1,-1,1,-1,1,-1,-1,1,-2,-1,1,-1,-1,-2,1,1,-1,1,1,-1,1,-1,-1,2,-1,-1,1,1,-1,-1,2,1,1,-1,1,1,-1,-1,-1,-1,-1,-1,-1,2,-2,1,-1,1,-1,-1,-1,-1,-2,1,2,1,-1,-1,-1,-1,-1,-1,1,-1,-1,-1,-1,1,-2,1,2,1,-1,-2,4,-1,-1,-1,-1,-2,1,-1,-1,-1,1,-2,-1,2,1,-2,1,1,1,1,1,1,1,1,1,-1,-1,1,1,1,1,-1,1,-1,1,-1,1,1,2,1,-1,-1]
[-1,-1,-1,-2,-1,1,-1,2,-1,-1,-2,2,1,-1,1,-2,-1,1,2,-1,-1,-1,1,1,-2,1,-1,-1,1,1,1,1,1,2,2,1,1,-2,1,2,-2,-1,-4,-1,1,-1,-1,1,1,4,1,-1,-2,-1,-1,1,-1,-2,-1,1,1,1,-1,4,-1,1,1,-1,-1,-2,1,-1,-1,-1,2,1,-2,-1,-1,1,1,1,-2,-1,-2,1,-1,-2,1,-1,-2,2,1,1,-2,-1,2,1,-1,1,-2,-1,1,1,1,4,1,-1,-1,1,-1,1,2,-2,-1,-1,2,1,1,-1,-1,-1,1,1,-1,1]
[-4,1,-2,-1,1,1,1,1,1,-1,1,-1,1,-1,1,1,1,1,-1,1,-1,-2,-2,-1,-1,-1,-1,2,-1,-1,-1,1,1,2,-1,1,-1,-1,-1,1,-1,1,2,-1,1,-1,1,-2,-2,1,-1,1,1,1,-1,1,1,1,1,-1,-2,-1,1,-2,1,1,1,-1,1,-1,2,2,1,1,1,1,-1,1,-2,-1,-1,1,-2,1,-1,-2,2,1,-2,1,-1,1,2,-1,-1,-1,-1,-2,1,-2,-1,1,-1,1,-1,1,-2,-1,1,-1,-2,-2,1,2,1,-1,-2,1,-1,-2,1,1,-1,-2,1,-1]
[-1,1,-1,1,1,2,-1,-1,-2,1,1,1,-1,1,1,-1,-1,-1,-1,-2,1,1,-1,-2,1,-1,1,-1,1,1,1,1,1,-1,2,1,-1,1,1,-1,-2,1,2,2,-1,1,-1,1,1,1,1,-1,1,1,-1,2,2,1,-1,-1,1,-1,-2,-2,2,1,-1,-1,1,-1,-1,-1,-2,-1,-1,-1,1,2,-1,-1,2,-2,1,1,2,-1,-1,-1,1,-1,1,1,1,1,1,-1,1,-1,-1,-2,1,1,2,1,1,-1,-2,1,-1,-2,1,1,-2,1,1,1,-1,1,1,-1,-1,-1,2,1,-1,-1]
[1,1,1,-1,1,-1,2,-2,-1,-1,-1,-1,-2,-1,-1,1,-1,-2,1,2,-1,2,-1,1,-1,1,1,-1,-1,1,1,1,1,2,-1,-2,1,-1,1,-1,2,-1,-1,1,1,-1,1,-1,1,-1,1,-1,-1,1,-2,-1,1,-1,-1,-1,-2,1,-2,1,1,1,1,-1,-1,1,1,1,1,1,1,1,-1,-1,1,1,2,1,-1,-2,-1,1,-1,-2,1,-1,1,1,-1,1,-1,-2,2,1,-1,-1,-1,-2,1,-1,1,1,-1,1,-1,-2,1,-1,1,1,1,1,-1,-1,-1,1,1,-1,2,1,2,1]
[2,2,1,-2,2,1,-1,1,-1,1,-1,2,-1,-1,1,-1,1,-1,-1,-1,1,-1,1,1,-1,1,-1,2,1,-1,1,-1,1,-2,1,1,-1,-1,1,-1,1,1,-2,1,1,-1,1,1,1,1,-2,1,-1,2,-2,1,1,1,2,-1,-1,-1,-1,1,1,-1,1,-1,1,1,1,-1,-1,-1,-1,-2,-2,-1,2,-1,-1,1,1,-1,-2,-2,-1,-2,-1,2,1,2,-1,-1,-1,1,-2,-1,-1,1,-1,1,1,2,1,1,1,1,-1,1,2,-1,1,-1,1,1,2,-2,-1,-1,4,1,1,-2,2,-1]
[1,1,2,-1,1,-1,1,-2,1,-1,1,1,-1,-1,-1,-1,-1,-2,-1,-1,-2,2,-1,1,1,1,-1,1,-1,-1,-1,-2,2,-2,2,1,-1,1,-1,-1,-1,-1,1,2,2,1,2,-1,-1,-1,-1,-1,-2,-2,-2,2,1,1,1,1,1,-1,-2,4,1,2,-1,1,-1,-1,1,-2,-1,-1,-1,-1,2,2,1,1,-2,-1,1,-1,4,1,2,1,-1,-1,1,-1,-1,-1,1,1,-1,-1,1,-1,1,-1,-2,-1,-1,1,2,-1,1,-1,1,-1,-1,1,1,-1,1,1,-1,2,1,1,-1,-2,1,-2]
[4,2,-1,-1,1,1,1,-1,2,1,1,-2,-1,-1,-1,1,1,-1,-2,-1,1,2,1,1,1,-1,2,1,-1,4,1,-1,-2,1,-1,1,-2,1,1,1,-1,-1,2,1,-2,2,1,1,1,-1,4,-2,1,-1,1,-1,1,-1,1,-2,-2,1,-1,2,1,-2,-1,2,-1,-1,-1,-1,-2,1,-1,1,-2,-1,-1,1,1,1,-1,-1,1,-1,-1,1,-1,-1,1,-1,2,1,-2,1,-1,-2,-2,-2,1,2,-2,1,2,2,-1,-1,2,1,1,1,-1,2,1,-1,-1,1,1,-2,-1,1,1,-2,1,1]
[1,-1,-1,-1,1,1,1,-1,1,-1,-1,2,-2,-1,1,-2,-1,1,1,-1,-1,-2,1,-1,-1,-1,-1,-1,1,1,1,1,-1,1,1,2,-2,-1,-1,2,-1,1,-1,1,2,2,-1,-1,-2,1,1,2,-1,-1,-1,1,1,1,1,-2,1,-1,-1,1,1,1,2,-1,1,-2,-2,-1,1,1,1,-1,1,1,-1,-1,1,1,1,-1,2,-1,1,-1,1,-1,1,-1,1,1,-1,1,1,1,-1,1,1,1,-1,1,1,1,1,2,1,-1,-1,-1,-2,-2,1,1,-2,-1,-2,1,1,-1,1,1,-1,1]
[2,-1,-1,-2,-1,-1,-1,-2,1,2,1,-1,-1,-1,-1,-1,-2,1,1,2,1,-1,-1,1,2,1,-1,-1,1,-1,-1,1,1,1,-1,-1,1,-1,-1,1,-1,1,-1,-2,-1,1,1,1,-1,-1,-1,-1,-1,-1,-1,-1,-1,1,-1,1,1,-1,-1,-1,-1,1,1,-1,-1,1,1,1,-1,1,1,1,2,-2,2,-1,-1,-1,1,1,1,-1,-1,-1,1,-1,1,2,1,2,1,-1,1,-2,1,-1,1,-1,1,-1,1,-1,-2,-1,-1,1,1,-1,-1,1,1,-1,1,-1,-1,-1,1,-1,-1,-1,1,-1]
[1,-2,2,-2,-2,-1,1,-1,-1,-1,-2,2,-1,1,2,1,2,-2,-1,1,1,2,-2,1,-1,-2,-1,-1,1,-1,1,-2,1,-1,2,-1,2,1,-1,-2,1,-1,2,1,1,1,-1,1,-2,1,-1,-1,1,1,-1,-1,1,-1,1,1,-1,1,1,2,1,-1,-2,-1,-1,-1,-1,1,1,1,-1,1,1,1,2,1,1,-1,-1,1,2,1,-1,-2,1,2,2,-1,1,-1,1,1,-1,1,1,-1,2,1,-1,1,1,1,-1,-1,1,-2,-1,1,-2,1,-1,-1,-1,1,-2,1,4,-1,-1,-2,1,1]
[2,1,1,1,2,1,2,-1,-2,-1,-1,-2,-2,-1,-1,-2,-1,-1,-1,-1,1,4,-1,1,1,2,1,-1,2,-1,-1,1,1,-2,2,-2,-2,1,-1,1,-1,-2,-2,1,-1,-1,2,2,-1,1,1,-1,-1,-1,-1,1,-1,-1,-2,-1,1,1,1,4,1,1,-1,2,-1,-1,1,1,1,1,1,-2,1,-1,1,-1,-2,-1,2,-1,-4,2,1,2,2,1,1,2,-1,-1,1,1,-2,1,2,1,-1,1,1,1,-1,1,-1,-1,1,1,1,2,1,1,1,1,-1,-1,-1,1,-1,-1,1,1,-1,2]
[1,2,-1,-1,-1,1,-1,1,-2,1,2,1,1,-1,1,1,1,-2,1,-1,-1,2,1,-1,-1,-1,-1,1,-1,-1,-1,-1,-1,-1,2,1,-2,1,1,-1,1,-1,2,1,-1,-1,-1,1,2,1,-1,1,-1,-2,-2,-1,2,-1,-1,-1,1,-1,1,1,2,1,1,1,1,-1,-1,1,1,1,1,1,1,1,-1,1,1,-1,1,-1,2,2,-1,2,2,1,2,-1,-2,1,2,1,-1,1,1,-2,-1,1,1,1,1,2,2,-1,1,1,1,-2,1,1,-1,1,-2,-1,1,1,1,-1,1,1,1,1]
[1,-1,2,1,-1,1,1,-1,-1,1,-1,1,-2,1,-1,1,-1,-2,-1,-1,1,1,-1,1,-2,2,1,1,-1,1,1,1,-1,-2,1,-1,1,1,-2,1,-1,1,-1,1,-1,-1,-1,-1,-1,1,-2,1,-1,1,1,1,2,-1,2,1,-1,-1,-1,1,1,-1,1,-1,-1,-1,1,-1,1,-1,-2,-1,1,-2,-1,-1,1,-1,2,2,-1,1,-1,-1,1,1,2,-1,-1,-1,1,1,-1,2,-1,1,-1,-1,2,-1,-1,2,1,1,1,-1,-1,-1,2,1,1,-2,2,-2,2,1,-2,2,-1,2,-1,1]
[-1,2,-2,-1,-1,-1,-1,1,1,1,-1,-1,1,-1,1,-1,-1,1,1,-1,1,-1,1,1,2,1,2,2,-1,-1,1,1,1,1,1,-1,1,-1,-1,-1,1,1,1,-1,-1,1,-1,1,1,-1,-1,1,1,-1,-1,-1,1,-1,1,-1,2,-1,-2,1,1,-1,2,-1,-1,-1,1,-1,-1,2,1,-2,1,-1,-1,-1,-2,-2,1,1,1,1,1,-1,1,2,1,2,1,1,2,1,1,-1,-1,-2,-2,1,-1,-1,1,-1,-2,1,-2,-1,1,1,-1,1,1,-1,2,-1,-1,1,-1,-1,-1,-1,-1,2]
[-1,1,1,-1,-1,1,-1,1,-1,1,1,2,1,1,1,1,-1,1,1,-1,1,-1,-1,1,-1,-1,-1,1,-1,1,1,1,-1,-1,1,-1,1,-2,-1,-1,-1,1,-2,2,1,1,1,1,1,1,1,1,1,2,2,-2,-1,-2,1,-1,1,-2,1,-2,-2,1,1,1,1,-1,-1,1,-1,1,-1,-1,1,-1,-2,1,2,2,-1,1,-1,1,-1,1,2,1,1,-1,-1,-1,1,-1,-2,2,1,-1,1,-1,1,2,-1,-1,-1,1,1,-1,-1,-2,1,1,1,-1,-1,1,1,1,-1,1,-1,1,1,-2]
[2,1,-1,2,-1,-1,-1,1,-1,-1,1,-2,-1,1,-1,-1,1,-1,1,-1,-1,-1,2,1,1,1,-1,-1,2,1,-1,-1,-1,-1,1,1,1,1,-1,1,1,2,-1,-1,1,1,1,1,1,1,-1,1,1,-1,1,1,1,-1,1,-2,1,-2,1,-1,-2,-1,1,-1,-1,-1,1,1,1,1,1,1,1,1,2,1,-1,-1,1,-2,-2,-1,1,-1,1,-1,1,1,1,1,1,1,1,-2,2,-1,1,-1,-1,1,2,1,-1,-1,2,-1,1,1,1,1,-1,-1,1,-1,-1,1,-1,-2,-1,-1,1,1]
[1,1,1,1,-1,-1,1,-1,1,1,1,1,-1,1,1,1,1,1,1,1,2,-2,-1,1,2,-1,1,2,-1,-1,2,2,2,1,1,-1,-1,-1,-2,-1,-2,1,-1,-1,1,-2,2,1,1,1,-1,1,-1,2,-1,-2,1,1,1,2,1,-1,2,-1,-1,-1,1,1,1,1,2,1,-1,1,-1,-1,-1,1,1,1,1,1,-1,2,-1,1,2,-1,-2,-1,1,1,1,-1,1,-1,1,-1,1,1,1,1,1,2,1,-1,1,1,-1,2,1,-1,-1,1,1,1,1,2,-1,-2,1,2,-1,1,-1,1]
[-1,1,-1,1,-1,1,1,1,-1,1,-1,1,1,-1,2,-1,2,1,1,-2,-1,1,1,1,-1,1,1,1,-1,-1,1,-1,1,1,-1,-1,1,1,-2,1,-1,1,1,1,-1,-1,2,1,1,-1,-2,1,-1,-1,1,1,2,-2,-1,1,1,-1,-1,1,-2,-1,-1,2,-1,1,-1,-1,1,-1,-1,-1,-1,2,-2,2,-1,-2,1,-1,2,1,1,-2,2,-1,1,-1,-1,1,1,-1,-2,-1,-1,1,-1,1,-1,-1,2,-1,1,-1,-1,-1,1,2,1,1,-2,-1,-1,-2,1,1,1,-1,-1,1,1,-1]
[-1,-1,1,-1,1,-1,1,1,-1,-1,1,-2,-1,1,1,1,-1,1,1,2,1,-2,-1,-1,-1,1,1,1,-1,-2,-2,-1,-2,2,1,1,-2,-2,-1,-1,1,-2,1,2,-1,-1,1,-1,2,1,-1,-2,2,-1,-1,-1,1,-1,1,-2,1,1,-1,1,1,-2,2,-1,-1,2,-1,1,-2,2,1,1,2,2,1,-2,-1,1,2,-2,-1,1,1,1,1,-1,1,-1,1,1,1,-2,-1,1,-1,-1,1,1,1,1,-2,-1,1,-1,-1,-1,-2,2,1,-2,-1,-1,-1,1,2,1,1,1,-2,1,1,1]
[8,-2,-1,1,1,-2,-2,1,-1,1,-1,1,-1,2,2,2,-1,-1,-1,-1,1,4,-1,2,-1,-2,1,1,-1,-1,-2,1,-2,-2,1,-1,2,-1,-1,1,-1,1,-1,1,2,1,2,1,-1,1,-1,-1,1,1,-1,2,2,2,-1,1,-1,1,1,4,-1,-1,-1,1,-2,1,-1,1,-2,-1,1,-1,1,1,2,-1,-1,-2,-1,-1,-1,-1,-1,-1,1,-1,-1,-1,1,1,-1,1,-1,1,-1,-1,-1,-2,1,-1,1,1,-2,1,-1,1,-2,1,-1,-2,-2,-1,-1,-1,1,-1,-1,1,1,1,-2,1]
[1,1,-1,-1,-1,1,-2,1,-1,-1,1,-2,-1,-1,1,-1,1,2,-1,-1,1,1,-2,-2,1,2,1,-1,-1,-1,-1,2,-1,-2,1,1,-1,1,1,1,-2,-1,1,-1,1,1,1,-1,-2,1,1,1,1,-2,-1,-1,-1,-2,1,1,-1,-1,1,1,1,-1,-1,-1,-1,-2,1,-2,-2,1,-2,1,-1,-1,1,2,-1,1,1,1,-2,1,1,1,-1,1,-2,1,-1,-2,-1,-1,1,-1,1,-1,-1,1,1,-1,2,-1,1,1,-1,-1,1,1,1,-2,1,-2,-1,-2,1,-1,2,1,2,-1,1,-1]
[1,-1,2,1,1,-1,-2,1,-1,2,1,-1,1,2,-1,-1,1,-1,1,1,-1,1,1,1,-1,1,1,1,-1,-1,-1,-1,1,-1,-1,2,-1,-1,-1,-1,1,1,-1,-1,1,-1,1,-1,-2,1,1,1,-1,-1,2,1,-1,1,-1,-2,1,-1,1,1,1,2,2,1,1,-1,-1,1,-1,1,-1,1,1,1,-1,-1,-1,2,-2,-1,-1,1,-1,1,1,1,-2,-2,1,1,1,-1,-2,-1,1,1,-1,-1,-2,1,1,1,-1,-1,1,1,-1,1,1,-1,1,1,2,1,-1,-1,1,1,-2,-1,-1,1]
[2,-2,-1,-2,1,-1,1,-1,-1,-1,2,-1,-1,1,-2,2,-1,2,-2,1,1,2,-1,-1,1,1,-2,1,-1,-1,1,1,-1,-1,1,1,2,1,2,-1,1,-1,2,-1,-1,-2,1,-1,1,2,-1,-2,1,1,-1,-1,1,1,1,2,1,2,-2,4,-1,-1,-1,1,-1,-1,-1,-1,1,1,-1,-2,1,-1,-1,-1,2,1,1,-1,4,-1,-1,-2,1,-1,-1,-1,1,-2,1,-1,-1,-1,-2,1,-1,2,1,2,1,4,-1,-1,-1,-1,-1,-1,1,-2,-1,1,-1,-2,-1,-1,-1,2,-1,-1,2,1]
[1,-1,1,2,-1,2,-1,-2,1,1,-1,-2,1,-1,1,-1,-1,-1,-1,-2,-1,1,2,-1,1,1,1,-2,-1,1,1,1,-1,1,2,-1,-1,-2,-1,-1,-1,1,2,2,1,1,-1,-1,-1,-2,1,-1,1,1,1,1,1,-1,1,1,-1,1,1,1,-1,1,-1,2,1,1,-1,-1,-1,1,-1,-1,1,1,1,1,-2,-1,1,-2,2,1,-1,1,1,-1,-1,-2,-2,-1,-1,1,-1,1,1,-1,1,-2,-2,-2,-1,-1,1,-1,2,1,1,-1,-1,1,1,-1,-1,1,1,1,1,-1,-1,-1,-1,1]
[2,-1,1,1,-2,1,-1,-1,1,-1,-1,1,1,-1,1,2,-2,1,-1,-2,-1,4,1,1,-2,1,1,-1,2,1,-1,-1,1,1,-1,2,1,1,-1,1,-1,1,1,1,1,-1,1,-1,1,1,1,-1,-1,2,1,-2,1,2,-2,-1,1,-1,-1,1,1,-2,1,-1,1,1,1,-1,1,-1,1,1,1,1,1,-1,-1,1,-1,-2,1,1,1,-1,-2,1,1,2,1,-1,1,1,1,1,2,-1,1,-1,1,-1,1,1,-1,-2,-1,-1,-1,-1,1,1,-1,1,-1,1,1,-1,1,-2,-1,-2,-2,-2]
[1,-2,-2,-1,1,2,1,-2,1,-1,-1,-1,-1,-1,-1,-1,2,2,-1,-1,1,4,-1,-2,1,-2,-1,1,1,1,-1,-2,1,-2,-1,-2,-1,4,1,-1,2,4,1,-1,-1,1,1,-1,2,-2,1,1,-1,-1,-1,-2,-1,-2,-1,-1,-2,1,4,-1,-1,-1,-1,-1,-1,-1,-2,-1,-2,1,-1,-2,-1,-2,-1,1,2,-1,-1,1,-1,1,-1,1,1,-1,-2,1,-1,1,-1,-1,1,1,1,1,2,1,1,-1,1,-2,1,-1,2,1,2,1,-2,1,1,-1,-1,-1,-2,-2,-1,2,1,1,1,2]
[-2,-2,-1,1,1,1,-1,2,1,1,-1,1,-2,-1,1,1,1,1,-1,-1,2,-1,-2,1,-2,-1,2,1,2,-1,1,-1,1,-2,-1,-1,-1,-1,1,1,1,1,1,-2,-1,-1,-1,-1,1,2,-1,1,-2,1,-1,1,1,1,-1,-1,1,1,1,-1,-2,-1,1,-1,2,2,2,1,1,-2,-1,1,-2,1,1,-1,-1,1,-2,-1,-2,-1,1,1,-1,1,-1,1,-1,-2,-1,1,-1,-2,2,1,1,-2,1,-1,-1,1,-2,-1,-1,-1,-1,2,-1,-2,1,1,1,1,1,1,1,-2,1,1,-1,1]
[-1,-1,-1,-1,-1,2,2,2,-2,-1,1,2,-1,-2,2,-1,-1,1,1,-2,-1,-1,1,-1,-1,-1,2,2,1,-1,1,-1,2,-2,-4,2,-1,-1,-2,1,1,1,1,-2,-2,-1,-1,2,2,-1,-2,-1,1,1,-2,-1,2,-1,1,-2,1,-1,1,1,-1,1,-2,1,4,-1,2,-2,-1,-2,2,-2,-4,2,-1,-2,-1,-1,-2,1,-1,-2,-2,1,1,2,2,1,1,1,1,2,-1,-1,2,1,1,-2,-2,-2,1,1,-1,1,1,-2,4,2,2,1,2,1,1,-1,-4,2,-1,-2,-1,-1,1,-1]
[1,2,-1,1,2,1,1,-1,-1,-1,-1,-1,-1,-1,1,1,2,-2,-1,1,-1,1,-1,2,2,1,-1,-1,-1,-2,-4,1,1,-2,-2,2,-1,-1,1,-2,-2,1,1,1,1,1,1,2,-1,-1,-2,-1,-2,-1,1,-1,-1,1,2,-2,-2,-2,1,-1,2,1,2,1,1,-1,-2,-2,-2,-1,-2,1,1,2,1,2,-2,1,-2,-1,-1,1,1,4,2,-1,-1,-1,-1,-1,-1,-2,1,1,2,1,2,1,1,1,-1,-1,1,2,1,2,1,-1,-2,-1,1,1,-1,-1,2,2,1,-1,1,-1,1,-1]
[2,-1,1,1,-2,1,-1,1,1,1,2,-2,2,-1,-1,-1,-1,1,-1,-1,-2,4,1,-2,-2,1,1,1,1,-2,-2,2,1,-1,-1,1,1,1,1,-1,-1,-1,-1,1,1,-1,1,-1,-1,-1,-1,2,-1,-1,-1,2,1,1,-1,1,-2,-1,-1,-1,-2,-1,-1,1,-1,-1,-1,1,1,-1,-2,2,1,-1,1,-2,1,-1,-1,-1,2,-1,1,-1,1,1,-1,1,1,-2,-1,-1,-1,-1,-1,1,1,1,1,1,-2,1,1,-1,-1,-2,-2,1,1,1,-1,2,-1,2,2,2,1,-1,1,1,1,-2]
[4,1,-1,-1,1,1,1,1,2,1,1,1,1,-1,-1,-1,2,-1,1,-2,2,4,-1,-2,-2,-1,-1,-1,-1,-1,2,1,-1,-2,-1,-1,1,1,1,1,-1,1,1,2,-2,-1,1,1,1,1,1,-2,-1,-1,-1,1,1,2,2,1,-1,-1,1,4,1,-2,-1,-1,1,-2,1,2,1,1,2,-1,-2,1,-1,2,-2,1,-1,-1,-1,1,1,1,-1,2,1,2,1,1,1,1,-1,1,-1,-1,1,-1,-1,1,1,4,-1,-1,-1,1,1,1,1,2,-1,-1,1,-2,-2,-2,-1,-1,1,-1,-1,-1]
[1,-2,-1,-1,-2,1,-1,-1,1,2,-2,-1,-1,1,1,-1,2,-1,2,1,2,-1,-2,-1,-2,-2,1,-1,1,1,2,1,1,1,-1,-2,1,-1,-1,2,1,2,4,-1,1,-2,-2,-1,-2,-2,-1,2,-1,2,-1,-1,-1,-1,-1,-1,1,2,-1,1,-1,2,-1,-2,-1,-1,-1,-1,1,-2,1,1,-2,-1,-1,-1,-1,-1,2,1,4,1,-1,-1,1,-1,-1,-2,-1,2,-2,2,-2,-2,-1,-2,1,-1,1,2,1,-2,1,2,-2,-2,-2,1,-1,-1,2,-2,-1,1,-1,1,-1,1,-1,1,2,1]
[2,-1,-1,1,1,1,2,-1,-1,1,-1,1,1,1,-1,1,1,-1,-1,-1,2,2,-1,-1,1,-2,2,1,-1,1,1,-1,1,1,-1,-1,-2,1,-1,1,1,1,2,1,-1,1,-1,1,1,1,-1,-2,1,1,-1,1,1,-1,1,-2,-2,1,-1,1,-1,1,1,-1,-1,1,-1,-1,-1,-1,1,-1,1,1,1,-1,1,-2,-1,2,-1,-1,-2,-2,-2,-1,2,-2,-1,1,1,1,-1,-2,-2,-2,1,-2,-2,2,1,-1,-2,-1,1,2,-1,2,2,-2,-2,-1,1,-1,1,-2,-1,1,-1,-1,-1,2]
[4,-2,-2,1,1,1,-2,-2,2,2,-2,1,-1,1,-1,1,1,1,-1,-1,1,2,-2,1,1,-2,-2,-1,-1,2,2,-1,-1,-1,1,-1,1,2,-1,-1,-1,1,-1,-1,1,-1,-1,-1,-1,1,1,1,-2,-1,-1,-1,-1,2,2,1,-1,-2,1,2,-2,1,-1,-1,1,-1,-1,2,1,-1,-1,1,1,-1,2,1,-1,1,-2,-1,-1,1,-1,1,-1,-1,-1,-1,1,1,1,2,1,1,-1,1,2,-1,1,-2,1,-1,-2,2,1,1,-1,-1,-2,1,2,-1,-1,-1,-2,-1,-1,1,1,-1,-2,-1]
[1,2,1,-1,-1,1,-2,1,1,1,-2,1,-1,-1,-1,-1,-1,1,-1,1,-1,1,-1,2,-1,-1,-1,1,-1,1,1,-1,-1,-1,1,1,1,1,-1,-1,-1,-1,-2,-1,-1,-1,1,1,1,1,-1,-1,1,-1,-2,-1,-1,1,1,-1,1,-1,2,-1,1,-2,1,1,-1,1,1,-2,-1,-2,-1,-1,1,-1,1,1,1,-1,-2,-1,-1,-1,-1,-1,-1,2,-1,-1,-1,1,2,-1,1,-1,-1,-2,-1,2,1,-1,2,1,-1,1,2,-1,2,1,2,-2,1,1,-1,1,-1,-1,1,-1,-1,-1,-1,1]
[1,-1,2,1,-1,1,-1,-1,1,1,-1,-1,1,-1,1,1,1,2,-1,1,-1,1,-2,-1,1,-1,1,1,-1,-1,1,1,1,-1,-1,-2,1,1,1,2,1,1,-1,-1,1,-1,-1,-1,-1,-1,1,-1,-1,2,-1,1,-1,-1,1,-1,1,-2,-1,-2,1,-1,-2,-2,-1,-1,-1,-1,-1,1,1,1,1,1,1,-1,-2,-1,1,-1,-1,1,1,2,-1,-2,-1,2,-1,1,-1,1,2,-1,1,1,1,-1,-1,-2,-2,1,1,-1,1,1,1,-1,-1,-1,1,1,-1,-1,2,1,-1,-1,-1,2,1,1]
[1,1,-1,-1,-1,-2,1,-2,2,1,1,1,1,1,1,-1,-1,2,-1,2,1,4,-1,1,-1,-2,-2,-2,-1,1,-2,1,1,1,-1,1,-1,1,1,1,1,-2,2,1,-1,1,1,-2,1,1,2,1,1,-1,2,2,-1,1,-2,2,2,-1,-1,-2,1,1,-1,1,-2,1,1,2,-2,2,1,2,1,1,1,-1,2,1,1,-1,-1,1,1,-1,-2,-1,-1,1,1,1,1,-1,1,1,-2,1,-1,1,-1,-1,1,-1,2,-1,-1,1,-2,-2,-2,1,-1,1,-2,4,2,1,-1,-1,-1,-1,1,-2]
[4,-1,-1,-2,2,1,1,-1,1,1,-1,1,-1,-1,-1,1,-1,1,1,1,-1,2,1,1,1,2,1,-2,-1,-1,-1,-1,-2,-2,-2,-1,1,-1,1,1,-1,1,2,-2,-1,1,-1,1,-1,1,-1,-1,1,-1,-1,-1,1,1,1,-2,-2,-2,-1,1,-1,-1,-1,-1,-1,2,-1,1,-1,-2,1,1,1,1,1,2,1,1,1,-2,2,1,1,-1,1,-2,-1,1,1,1,-1,1,-2,1,-1,1,2,-1,-1,1,1,-1,-1,-1,-1,1,-1,2,1,-1,2,1,-1,1,1,-1,-1,-1,-1,-1,1,-1]
[-2,-1,-2,1,-2,1,-1,-1,1,1,2,-1,-1,2,-1,-1,-1,1,2,-1,-1,-2,-1,1,-2,1,-2,-2,2,1,1,1,-1,2,4,1,-2,-2,1,1,1,1,2,-2,-2,-1,-2,-2,1,-1,1,-1,-1,1,-1,2,-2,1,-1,1,1,-1,1,-4,2,1,-1,-1,-2,-1,-1,-1,1,2,-1,1,1,-2,1,-1,2,1,2,-1,2,1,1,-1,-1,1,-1,1,1,1,1,-1,1,1,-1,-1,-1,-1,2,-1,1,-1,-1,-1,-2,-1,-1,1,2,1,-2,2,-2,1,2,-1,-1,-1,1,-1,1,-2]
[-2,-1,-2,-2,-2,1,1,2,1,1,1,1,1,-2,-2,1,-1,-1,1,1,1,-1,1,-2,-1,-1,1,1,1,2,2,-1,2,1,1,1,2,-1,-1,2,1,-1,1,1,-2,1,1,-2,1,1,-1,2,1,2,2,-1,-2,1,1,-1,2,-1,1,-2,-1,-2,-2,-2,1,-1,1,1,1,-1,1,2,-2,-1,1,1,-2,1,-1,2,-1,1,-2,-2,1,-1,1,1,-1,2,1,1,-1,-2,-2,1,-1,1,1,1,1,-1,-1,-1,-1,1,2,-1,-1,2,2,1,-1,2,-1,-1,2,-1,-1,1,-2,1]
[1,1,1,-4,-1,-2,1,1,1,1,1,2,1,1,-2,1,1,1,2,1,-1,1,1,-1,-1,1,1,-1,1,1,1,2,-2,2,-1,1,1,-1,2,1,1,2,-1,1,-2,1,1,-2,-1,1,1,1,1,1,2,-1,-1,2,1,1,1,-1,1,1,1,-1,-2,-1,1,-1,1,1,1,1,1,2,-1,1,-1,1,1,1,1,1,-1,-1,-1,-2,-1,-1,1,-1,2,-1,2,-1,1,-2,-1,-1,1,1,1,2,-1,-2,-1,-2,-1,-1,1,1,-1,-1,1,1,1,2,-1,-1,1,2,1,-1,-1,1]
[2,2,1,-1,1,-1,-1,-2,-1,1,2,-1,1,-1,-2,-1,1,-2,-1,-1,1,4,-1,-1,-1,-1,-1,-1,-1,-1,1,1,-1,-2,-1,1,4,1,-2,1,-2,-1,2,1,1,-1,-1,-1,-1,1,-1,1,1,1,-2,1,-1,-1,1,-1,-1,1,-1,-1,1,-1,-2,-2,-1,-1,-1,1,-1,1,-1,-1,-1,1,4,-1,-1,-1,-1,-2,4,-1,-1,-2,1,1,-1,-1,-1,-2,1,-2,-1,-1,1,-1,-1,1,1,1,1,-2,-1,-2,1,-1,-2,1,2,-1,-1,2,1,-1,-1,1,2,1,-1,-1,1,1]
[-2,1,-1,2,2,-1,2,-2,1,1,1,-1,-1,1,1,1,1,1,1,1,2,-4,2,1,2,2,-1,-1,-1,-2,-1,-1,-1,-2,1,1,1,1,-1,1,-1,1,-2,1,-2,2,2,-1,1,-2,-1,-1,-1,-1,1,2,2,1,-1,1,1,1,-2,-1,1,-1,1,2,1,1,-1,-1,-1,1,1,1,1,-1,-1,-1,1,-1,-1,1,-1,2,1,-1,2,-1,2,-2,-1,-2,1,1,1,-1,-1,-1,1,-1,-1,2,-1,-1,1,-2,1,1,-2,1,-1,-1,1,-2,1,1,1,1,2,-2,1,1,-1,-2]
[-1,-1,1,-1,-1,1,1,-2,-1,1,-1,1,1,2,2,1,-1,-1,1,-2,-1,1,-1,-1,1,-1,-2,-2,-1,-1,1,-2,1,-1,1,-1,-1,-1,1,-1,-1,-2,1,-1,2,1,-1,1,-1,-2,-2,-1,-1,-1,-1,2,-1,1,1,1,1,1,-1,-1,-1,1,-1,-1,1,-1,1,-2,-1,-2,1,1,-1,1,-1,1,-2,2,-2,1,-1,-1,2,1,-1,1,1,-1,1,-1,-1,2,-1,-1,1,-1,-2,-1,1,-1,1,1,-1,1,1,-1,-1,-2,-1,1,1,1,-1,-1,-1,1,1,1,1,-1,-1,1]
[-1,2,1,1,1,-1,1,-1,-1,1,-1,-1,2,1,1,1,1,-1,-1,1,-1,-2,1,1,-2,1,1,-1,1,-1,-1,-1,-1,-2,-1,1,-2,1,-1,-1,-1,1,-1,1,-1,-1,1,-1,1,2,1,-1,1,1,-1,1,-2,1,1,-1,-1,-1,1,-1,1,-1,-2,-1,-1,1,1,1,1,2,1,-1,-1,-1,1,1,-1,-1,1,-1,2,1,-1,-1,-1,1,-1,-1,-1,2,-1,-2,1,-1,1,-2,-2,2,1,2,1,-1,-1,1,-1,2,1,-1,-1,1,-1,-1,2,-1,-1,1,1,1,-2,1,-1,-1]
[-1,-1,1,-1,2,1,-1,-1,1,-1,1,1,1,1,-1,1,-1,1,1,-1,-2,-2,-1,-1,-1,2,-1,-1,1,-1,1,1,-1,2,1,1,-1,1,-1,1,1,1,-2,-2,-1,-1,1,1,1,2,1,-1,-1,1,-1,2,2,-1,-1,1,-1,-2,1,1,1,1,2,-1,1,1,1,-2,1,-1,-1,-2,-1,-1,2,1,2,1,1,-1,1,1,1,1,2,-1,-1,1,-1,1,1,-1,-2,2,-1,-1,-1,-1,1,-1,-2,-1,-1,1,-1,2,1,-2,-1,1,1,-1,-1,-1,1,1,1,1,2,-2,1,1]
[-1,-1,1,1,1,1,-2,1,-1,1,-1,-1,1,1,-1,2,-2,-2,1,-2,-1,-2,1,1,-1,1,-1,-1,-1,-1,-1,1,-1,-1,2,-1,2,-1,1,-1,-1,-1,-1,1,-1,1,-1,-1,-1,1,-1,-1,-1,-2,-1,-1,-1,-1,1,1,-2,1,1,-2,2,-1,2,-1,2,-2,-1,1,-1,-1,1,-1,2,-1,1,1,-2,1,-2,-1,-1,1,-1,1,-1,1,-1,-1,-2,-1,2,1,1,1,-1,1,-2,-2,1,2,-1,-1,1,2,1,1,-1,-1,-1,2,1,-2,-1,-1,1,1,1,1,-1,-1,-1,1]
[-1,-1,1,-1,-1,-2,-1,1,1,1,-1,2,-1,1,1,-1,2,-1,1,1,1,1,1,-1,-1,-1,1,-1,-2,1,1,1,2,2,-2,-1,-2,-1,1,-1,-2,-1,-1,-1,1,-2,-2,1,-1,1,2,2,1,2,-1,-1,1,1,1,-1,1,-2,-1,1,-1,1,-1,-1,-1,1,1,1,1,-1,2,1,-1,-1,-1,1,1,1,1,1,1,-1,1,-1,-1,-1,-1,-1,1,1,1,1,1,1,-1,-1,2,1,-1,-2,-1,1,-1,-1,-1,1,-2,-2,-2,2,1,-1,2,-1,-1,1,-1,-1,-1,-1,-1,1]
[-2,-1,1,2,1,1,1,1,1,1,-1,1,-1,-1,1,-1,-1,-1,1,-1,1,-2,2,1,1,1,1,1,2,-1,1,-1,1,-1,1,-1,-1,1,1,-1,-1,-1,1,-2,-1,-1,1,1,1,-1,-1,-1,1,-1,-1,-1,-1,1,1,1,1,-1,-1,-1,1,1,-1,-1,-1,1,1,1,1,-1,-1,1,-1,-1,1,1,-2,1,-1,1,-1,1,1,1,1,1,-1,1,1,-1,1,1,-1,1,1,1,-1,1,1,1,-1,-1,-1,1,-2,1,-1,-1,1,1,1,1,1,-1,1,-1,1,-1,-1,-1,1,-1]
[-2,-1,-1,1,-1,-1,-1,-1,1,-1,-1,-1,1,-1,1,1,-1,1,-1,1,-1,-2,1,1,1,1,1,1,-1,-1,1,-1,1,1,1,-2,1,1,-1,-1,1,1,-1,1,1,1,1,1,1,-1,1,1,2,-1,1,-2,-1,-1,-1,-1,-1,1,-1,-1,-1,-1,-1,-1,1,1,1,1,-1,1,-1,1,1,1,1,-1,1,-2,1,1,1,-1,-1,1,1,1,-1,-2,-2,-1,1,-2,-1,1,1,-1,2,-2,1,1,-2,-2,-1,1,1,2,2,1,2,1,1,2,2,2,2,-1,-1,1,1,1,-2,1]
[1,1,1,-1,-1,-1,-1,-1,1,-1,1,1,-1,1,2,2,1,-1,1,-1,1,-1,1,-2,-1,2,-1,1,-2,1,-1,-2,2,1,1,-1,-2,-1,1,2,-2,1,1,-1,1,1,-1,1,1,1,-1,-1,1,1,-1,1,-2,1,1,-1,1,-2,-1,1,-1,1,-1,1,-1,-1,-1,-1,1,1,1,2,1,1,1,1,-1,-1,1,-1,-1,1,1,1,1,1,-1,-1,1,-1,1,-1,1,2,1,1,1,-1,1,-2,-1,1,-1,1,-1,1,1,1,-1,1,1,1,1,-1,-1,1,1,2,1,-1,-1,-1]
[-1,1,-1,1,1,2,1,-1,-1,1,-1,-1,-1,-1,1,-2,-1,1,1,-1,-1,-1,1,-1,-1,-2,2,2,-1,-1,-2,1,1,-1,2,-1,-1,1,1,1,-1,-1,1,-1,-1,1,-1,1,2,-2,-1,1,1,1,-1,1,-1,2,-2,1,1,-1,1,1,1,1,-1,-2,-1,1,-1,1,-1,-1,1,1,-1,-2,1,1,1,1,-1,-1,-1,1,1,-1,-1,1,-1,2,2,-1,1,1,2,1,1,1,1,1,-1,1,-1,1,-2,1,-1,1,1,1,1,1,-1,1,-1,-1,1,-1,2,1,1,1,2,-1]
[1,1,2,-1,-1,1,-1,-1,-1,2,-1,-1,1,1,2,1,1,-1,-1,1,2,-2,-1,1,-1,1,-1,1,-1,1,-1,-1,-1,-1,1,-1,-1,2,-1,-2,-1,1,2,-1,-1,2,2,1,-2,1,-1,1,-1,1,1,-1,-1,1,1,-1,1,-1,1,1,1,1,1,-1,1,1,1,1,2,1,1,-1,1,1,1,2,-1,-2,1,1,2,-1,-1,-1,1,-1,1,-2,1,1,-1,1,-2,-1,1,-1,1,2,1,-1,1,1,1,1,1,1,1,-1,-1,1,2,-1,-2,1,-1,-1,2,-1,1,-2,1,1]
[2,-2,2,-1,-2,1,-1,-1,-2,1,2,1,2,2,-1,-1,-1,1,-1,-2,-1,-1,-1,2,1,1,1,1,-1,1,2,1,-1,1,2,-1,-1,2,-1,-2,-2,-2,2,-1,2,1,-1,-1,1,-1,1,1,-1,2,-1,-1,1,1,1,2,-1,-2,1,1,-1,1,1,1,1,-1,-1,-1,2,-1,1,1,2,1,-1,-1,-2,1,1,-2,1,-2,1,1,-1,-2,-1,-1,1,1,-1,1,-1,1,-1,-1,2,1,-1,-1,-2,2,1,2,-1,1,-2,1,-2,-1,1,1,-1,2,-1,1,-1,-1,-1,1,1,-1]
[-2,1,-1,1,-1,-1,-2,1,1,-1,-1,1,1,-1,1,2,-1,-1,-1,-2,-1,-1,1,-1,-1,2,-1,-1,-2,-1,-1,-2,-1,1,-1,1,2,2,1,-2,-1,-1,1,-1,-1,1,2,1,1,1,1,1,-2,1,1,-1,-1,-1,-1,-1,1,2,1,-1,-1,1,2,2,-1,-1,-2,1,-1,1,1,1,1,1,2,1,-1,1,1,1,2,-1,1,2,1,1,1,1,1,1,-2,-1,-1,1,1,1,1,1,2,1,-1,-1,1,-1,2,-1,1,1,-1,-1,1,-1,-2,-2,-1,2,1,2,-1,-1,1,1]
[1,-1,-1,-1,1,1,-1,2,1,-1,-1,-1,-2,1,-1,-1,-1,1,-2,1,-1,2,-1,-1,-1,1,-1,-1,-2,-1,-1,-1,-1,-1,-1,-1,-1,-1,1,1,-1,1,1,2,-1,-1,1,-1,-1,-1,-1,-1,-1,-1,1,-1,-1,-2,-1,1,-2,1,-1,-1,1,1,2,-2,1,-2,-2,-2,-1,1,1,1,-1,-1,-1,-1,1,1,-1,1,-2,1,1,1,-1,1,1,1,-1,-1,-2,1,-1,-1,-1,-1,-2,-1,1,-1,-1,-1,-1,-2,-1,1,1,1,-1,-1,1,-1,-1,-1,1,1,1,-2,1,-1,-2,2]
[1,-1,1,-1,-1,1,-1,-1,-2,-1,1,-2,-1,2,1,-1,-1,-1,1,1,1,-1,-1,-1,-1,2,1,-1,-1,1,-1,2,-1,-1,2,-1,-1,-1,-1,2,1,-1,1,-2,1,1,2,1,1,2,-1,-1,2,-1,-2,-2,1,1,-1,-1,-2,1,-2,1,-1,-2,-1,1,1,-1,1,1,-1,1,-1,1,1,-1,-1,-1,-1,1,1,-1,-1,1,1,1,-1,1,1,-1,1,-1,1,-1,1,1,1,-1,-1,-1,-1,-1,1,-2,1,2,-1,-1,-1,2,1,2,-1,1,-1,1,-2,1,-1,-1,1,1,-1,-1]
[2,-1,1,2,2,-1,-1,1,-1,1,1,-1,1,1,1,-2,2,2,-1,1,1,2,1,-1,1,1,-1,1,-1,-2,-1,1,1,1,2,-1,-2,-1,-2,1,1,-1,-2,-1,-1,1,-1,-2,1,-1,1,2,-2,1,-1,-1,-1,1,2,1,-1,-2,-1,1,-1,-1,1,-1,2,-1,-1,-1,1,-2,1,-2,-1,-1,1,1,2,-1,1,2,-2,1,1,1,-1,-1,-1,1,2,1,1,-1,1,1,1,2,1,1,-1,-1,-1,1,-1,-2,1,-1,2,1,-2,1,-2,-1,-1,-1,-1,-1,1,1,1,-1,1,1]
[1,-2,1,1,-1,-1,2,1,1,1,-1,-1,-1,1,1,1,2,1,-1,1,-1,-1,-1,-1,-2,2,-2,-1,-1,-1,-1,-1,-1,1,-1,1,1,-1,1,1,1,1,-1,-1,-1,-1,-1,-1,-2,-1,1,1,-1,-2,-1,-1,1,-1,2,-1,1,1,1,-1,-1,2,1,-1,-1,-1,1,1,-1,-1,-1,1,1,1,1,-1,1,-1,-1,-1,2,1,1,1,1,1,-1,1,1,1,-2,-1,-1,1,1,-1,1,1,1,-1,1,-1,-2,2,-2,2,-1,1,-2,-1,-1,-2,1,-1,-2,1,2,1,-1,-2,1,1]
[-1,1,-1,-1,1,-1,-1,-1,1,1,1,-1,-1,1,-1,1,2,-1,1,-1,2,-1,-1,-1,1,1,1,2,-1,1,2,1,-2,-1,-1,-1,1,2,-1,-2,1,-1,-1,1,1,-2,2,1,-1,1,1,1,-1,2,1,1,-1,1,2,1,1,1,-1,-1,-1,1,1,-1,-2,-1,1,1,2,1,-2,1,1,-1,-1,1,1,-2,1,1,1,-2,2,1,-1,1,2,-1,1,1,-1,1,-1,1,2,-1,1,-1,-2,-2,-1,1,-1,2,-2,-1,-2,-1,1,-2,2,1,1,-1,1,-1,1,2,-1,-1,1,1]
[1,-1,1,-1,-1,-1,2,-2,1,1,-1,1,1,1,-1,1,1,1,1,1,2,1,-1,-2,-1,1,-1,2,-1,1,-1,-1,-1,-1,1,-1,-1,1,-1,-1,-1,2,-1,-2,1,-2,-1,-1,1,-1,1,1,-1,-2,1,-1,-2,2,1,-1,1,1,-1,1,1,-2,-2,-1,-1,1,1,-1,1,1,-2,2,-1,-1,2,-1,2,1,1,2,-1,-1,1,-1,1,1,2,1,1,2,1,1,-1,-1,-1,-1,-1,2,2,1,2,1,1,1,-2,1,-1,1,-1,1,1,-1,1,1,-2,1,4,-1,2,1,1,1]
[2,1,-1,-1,-2,-1,1,1,-1,-1,1,2,-1,-1,-1,-1,-1,1,-1,-1,1,2,-1,1,-1,-1,-1,-1,-1,-1,-1,1,-1,1,-2,-2,1,-1,1,2,-2,2,1,1,1,-1,-1,1,1,-2,2,1,-2,1,1,-1,-1,-1,-1,2,-1,-2,-1,2,1,-1,1,-2,-2,-1,1,2,1,-1,1,1,-2,-2,1,1,2,2,-1,-1,2,-1,-2,-1,1,1,-1,-2,1,1,1,1,2,-2,-1,2,-1,-1,2,-2,1,-1,-1,-1,-1,-1,-1,2,-2,1,1,-2,1,1,-2,-1,-1,-1,-1,-1,-1,2]
[1,-1,-2,-1,-1,1,-1,-2,-1,1,-1,2,1,-2,2,-1,1,-1,-1,-1,1,2,-1,1,-2,-1,-1,1,1,1,-1,-1,-1,-1,-1,1,-1,1,-1,-2,-2,-1,2,1,-1,2,-1,-1,-1,1,-1,-1,-1,1,-1,-1,-1,1,-1,-1,1,1,2,-1,-1,1,-1,2,1,-1,-1,-1,2,1,-1,1,1,1,-1,1,1,-1,-1,2,-1,-1,1,-1,-1,-1,1,2,1,1,1,-1,-1,1,2,-1,1,1,-1,-1,-1,-1,1,-1,1,2,-1,1,1,2,-1,1,-1,1,-1,1,-1,1,1,1,2,-1]
[-1,1,1,-1,-2,-1,1,-1,1,-1,1,1,-2,1,1,1,-1,1,1,2,-2,1,-1,-1,1,1,1,1,-1,-1,-1,-1,2,-1,-1,-1,-1,1,1,-1,-1,1,2,-1,-2,-1,1,1,1,1,1,-1,-1,-2,1,1,-1,-1,1,-1,1,-1,-1,-1,2,2,-1,-1,-2,-2,-1,1,-1,1,2,-1,-1,-1,-1,1,1,-1,-1,1,-1,1,1,-2,-1,-1,-1,-1,-1,1,1,1,-2,-1,-1,-1,1,-2,-1,1,-1,1,-1,-1,1,2,1,-1,1,2,-2,-2,2,-2,-2,-1,-1,2,1,1,-1,-1]
[-2,1,1,1,1,1,-1,1,1,-2,2,1,1,1,-1,-1,1,-1,1,1,-1,-1,1,-2,-1,-1,-2,1,1,-1,1,2,-1,1,2,-1,-1,1,1,1,1,-2,-2,-1,-1,-1,-1,1,-1,-1,1,-2,1,-1,1,1,2,-1,-2,-1,1,2,-1,2,1,1,-1,-2,2,-1,1,1,1,2,1,-1,-1,-1,1,-1,1,-1,-1,-1,1,-1,-1,1,-1,1,1,1,1,-2,-1,1,1,-1,-1,-2,-1,-1,1,-1,-1,-1,1,1,1,-1,1,-1,1,1,-1,1,1,1,2,-1,2,-1,-2,-1,-1,-1]
[-1,1,1,-1,-1,1,-1,-1,-1,2,-1,1,-1,-1,-1,1,1,-1,-1,-1,2,1,-1,-2,-1,-1,1,-1,-1,1,2,1,-1,1,1,-1,-1,-1,2,1,1,-1,2,1,1,-2,-1,-1,1,1,1,2,-1,1,-1,2,-1,1,1,-1,-2,1,2,2,1,1,-1,2,2,-1,-2,1,2,-1,1,-1,1,1,-1,1,-1,1,-1,-1,1,-2,1,1,1,2,2,1,1,-1,-1,-1,1,1,1,-1,1,-1,1,-1,-1,-1,1,-1,1,2,2,-1,1,-1,1,1,1,-1,-2,-1,-1,-1,-1,1,2,1]
[-2,-1,-1,-1,-1,-1,1,-1,-1,1,2,-2,-1,-2,-1,2,1,-1,1,1,1,-2,-1,-1,1,1,-1,2,1,-1,-2,1,-1,-1,1,-2,1,1,1,-1,1,2,-1,-1,-1,1,-1,-1,2,1,-1,-1,-1,-1,1,-1,1,-1,-1,1,1,1,-1,-1,-1,-2,2,-1,-1,2,-1,1,1,-1,1,1,-1,1,4,1,-1,-1,1,1,-1,-1,2,1,1,1,1,1,1,1,-1,-1,1,-1,1,-1,-2,2,2,1,2,-1,1,1,1,1,1,-1,1,1,-1,2,1,-1,-2,-1,-1,1,-1,1,1,1]
[-1,-1,1,-1,1,-1,1,1,-1,2,2,-2,-1,-2,-2,2,-1,1,-2,1,2,-1,-2,-1,1,-1,-1,-1,-1,1,1,1,-4,1,-1,1,1,-1,-1,-1,2,2,-1,-1,-1,2,-2,1,1,1,-2,2,-1,-2,1,-2,-1,1,-1,1,-1,1,1,1,-1,1,2,-1,1,2,1,2,-1,2,-2,1,-2,-1,2,1,1,-2,2,2,1,1,1,-1,1,-1,-1,-1,1,1,1,-1,-1,1,-1,-1,-1,-1,-1,-1,-1,-1,-1,-1,1,1,1,2,-1,1,-1,2,1,-1,1,-1,-1,1,1,1,2,2]
[1,1,1,2,-2,1,-1,-1,1,-1,1,-2,1,1,1,2,-1,1,1,2,1,-1,1,1,1,-2,-1,1,-1,2,-2,2,-2,-1,-1,-1,1,-1,2,-1,-1,1,1,1,-2,1,1,-1,1,-1,1,-1,2,1,-2,-1,-1,2,1,-1,-1,-1,1,-1,1,1,2,-2,-1,-2,-1,2,-2,2,-2,1,1,-2,1,-2,1,-1,2,-1,2,-1,1,-1,-2,1,-1,1,1,-1,1,-1,-1,-1,-1,1,-2,2,-1,1,1,-1,2,1,-1,-1,-1,1,-1,1,-2,2,-1,-1,-2,-2,-1,1,2,-1,-1,-2]
[1,1,-1,-1,1,-1,1,-2,-1,-1,-2,1,-1,2,-1,-1,1,-2,1,1,-2,-1,-1,2,1,-2,-1,1,2,2,1,1,-1,1,-1,-1,1,1,-1,-1,-1,2,-1,1,-1,-1,2,1,-1,1,-1,2,1,1,1,-1,-1,1,1,-1,-1,2,1,-1,1,1,1,-1,-1,-1,-1,-1,-1,-1,1,2,-1,-1,2,-1,-1,1,1,1,1,-1,1,2,1,-1,-1,1,1,1,1,-1,-1,-1,2,1,1,1,-1,1,1,-1,1,-1,1,-2,-2,-1,2,-1,1,1,2,1,1,1,-2,2,-2,1,1,1]
[1,-1,1,-2,-1,1,1,2,-1,1,1,-1,1,1,-1,2,-2,1,1,-1,-1,-1,-1,-1,1,-1,-2,-1,1,1,1,1,-1,1,-1,1,-1,-1,1,-1,1,1,1,-1,1,1,-2,-1,1,-1,-2,-1,1,-1,1,1,-1,-1,-1,1,-1,-1,-1,-1,1,-1,1,-2,1,1,-1,1,-1,1,-1,1,-1,1,2,1,1,2,1,1,1,1,-2,-1,1,-1,-1,-1,1,1,-1,1,-1,-1,1,1,1,-1,-2,-2,-1,1,-1,1,-1,-1,1,-1,1,1,1,1,1,-1,1,1,-1,-1,1,1,2,-2]
[2,-1,1,1,1,-2,-1,-1,1,1,1,1,-1,1,-1,2,1,-2,-2,1,-1,1,1,1,1,1,1,-1,-1,1,-1,-1,2,2,-1,-1,1,-1,-1,-1,-1,-2,1,1,-1,-1,-1,-2,-1,1,1,-1,-2,1,1,-1,-1,1,2,-1,1,2,-1,1,-1,-2,1,1,1,-1,-1,-1,1,-1,-1,-1,2,-1,-1,-1,-1,-1,-1,-2,-1,2,1,1,-1,1,-2,-1,-1,-1,-2,-2,2,-1,2,2,-1,1,-1,-1,-2,-1,-1,1,1,-1,2,-1,1,-1,-1,-1,-1,-1,-1,2,1,1,-1,1,-1,-1]
[-2,1,-1,-1,-1,-1,1,-1,1,1,-1,-1,-1,-1,-1,-1,-1,1,-1,-1,-1,-1,-2,-1,-1,1,1,-2,1,1,1,-1,-1,1,2,1,1,1,-1,1,-1,2,2,-1,-1,1,1,1,-1,-1,1,-1,1,-1,-1,1,1,-1,-1,-1,-1,-1,-2,1,-2,1,1,-1,1,1,-1,2,1,1,-1,1,-1,-1,-1,-1,1,-1,2,2,1,1,-1,2,-1,1,-1,1,-1,1,-1,1,-1,-1,-1,1,-1,1,-1,-1,2,-1,-1,1,2,-1,1,1,1,2,-1,-2,1,-1,-1,1,-1,-1,-2,1,-1,1]
[1,1,-1,1,2,2,-2,-2,-1,-1,-2,1,-1,1,-1,1,2,1,1,-2,1,-1,1,-2,-1,-1,2,-1,-1,-1,-1,1,1,1,1,-1,1,2,-1,-1,-1,-1,1,-1,-1,-1,1,2,-1,-2,-1,-1,-2,-1,-1,-2,-1,1,1,-1,-2,1,2,-2,2,-2,-1,2,2,-2,-1,-2,1,-1,1,-1,-1,1,1,2,1,-1,1,1,-1,-1,-2,2,2,2,-1,-2,1,1,-1,1,-2,1,-2,1,2,-1,-1,-1,-1,-4,2,-1,1,-1,2,-1,-1,2,1,-2,-1,1,-2,1,1,1,2,1,-1,-1]
[-1,1,-1,1,-1,-1,2,1,-1,-2,1,-1,1,1,1,1,1,-1,1,1,-2,1,1,-2,-1,-1,2,-2,-1,-1,2,-1,1,1,-1,-1,1,1,-1,-1,-1,1,-1,1,-1,1,1,-1,-1,2,2,-1,-1,-1,1,1,-1,-1,2,1,1,-1,-1,2,-1,1,-1,-1,-1,-1,1,1,1,-1,1,1,1,-2,1,-1,-2,1,-1,1,1,1,-1,-1,1,-1,-1,1,1,-1,1,1,1,1,-2,2,1,-1,2,1,-2,1,1,1,1,-1,-2,2,-2,-1,-1,-1,1,1,1,1,-1,-1,-2,1,1,1]
[1,1,2,1,-1,1,1,1,1,-1,1,1,1,-1,1,1,-2,1,-1,-1,1,-2,2,-2,-1,1,1,-1,-1,1,-2,-1,2,-1,-1,-1,-2,-1,-1,1,-1,1,-2,1,-1,-1,1,-2,1,-1,1,1,-1,1,-1,-1,-1,1,-2,-1,-1,-1,1,2,-1,-1,1,1,-1,-1,1,-1,1,1,1,-1,1,1,1,2,1,-1,1,-1,-2,-1,1,-2,-1,-1,-1,1,2,1,-1,1,1,-1,1,-1,1,-1,1,-1,-1,1,1,1,-1,1,-1,-1,1,-1,-1,-1,-2,-2,-1,-1,-1,1,1,-1,1,1]
[-1,-1,-1,-1,1,1,-1,1,-1,1,1,1,1,2,-1,-1,-2,1,1,1,-1,-1,-1,1,-1,1,-1,-1,1,-1,2,1,1,-1,-1,-1,-1,1,-1,1,-1,-1,-2,1,-1,-1,1,1,2,-1,-1,-1,-1,-2,-1,-1,-1,1,-2,2,-1,-1,1,1,-1,-1,1,-2,-1,1,-1,-1,-1,1,1,1,1,-1,1,-1,2,1,1,-1,1,-1,-1,1,-1,-2,-1,1,-2,-1,1,-2,2,-1,2,2,-1,1,-1,2,1,2,2,-1,2,1,1,1,1,-1,1,2,1,-1,-1,2,2,-1,2,1,-1,-1]
[1,-2,1,2,-1,1,-1,-1,1,-1,1,2,1,-1,-1,-1,1,1,1,-1,-1,-1,1,1,1,-1,-1,-1,1,-1,-1,-1,1,-1,-1,-2,1,-1,1,1,1,-1,-1,1,1,-1,1,1,1,1,2,-2,-1,1,2,-1,-2,1,-1,-1,1,-1,-1,-1,1,1,1,-1,-1,1,1,-1,1,-2,1,1,-2,-2,-1,2,1,-1,-1,1,1,-2,1,1,1,-1,-2,1,-1,-1,-1,2,1,-1,1,-1,2,1,1,1,1,1,1,1,1,-1,-1,1,-2,-1,2,-2,1,1,-1,-1,-1,-1,1,-2,-1,-1]
[2,-2,-1,-1,-1,1,-1,-1,-1,2,1,1,-1,1,-2,1,-1,-1,-1,-1,1,1,-1,-1,-2,1,1,1,-2,-1,2,1,-1,-2,-1,-1,1,2,-1,-1,-1,1,-1,-2,-2,1,2,-1,-1,1,-1,-2,1,-1,-2,1,-2,-1,-1,1,-1,-1,1,2,-1,1,2,1,-1,2,-1,1,2,-2,-1,1,1,-1,1,2,-1,-2,-1,1,1,2,-2,-1,-1,2,1,-1,1,1,-1,1,-1,-1,-2,2,1,1,-1,1,2,-1,-1,-1,1,1,1,2,-2,1,-1,-2,1,-1,1,-2,1,-1,1,1,1,1]
[-1,1,-1,2,-1,1,-1,-2,-1,1,1,-1,-1,1,1,1,-2,1,-1,-1,1,1,1,-1,2,-1,1,1,1,-1,-1,-1,2,-1,-2,-1,-1,-1,1,2,1,1,-1,1,1,1,1,-1,-2,-1,1,-1,-1,-2,1,2,1,1,1,-2,-1,-1,1,-1,-1,1,1,1,-1,-1,1,1,-1,-2,1,-1,-1,1,1,-1,2,2,-1,-1,-1,1,1,1,1,-1,1,2,-1,-2,1,-1,-1,1,2,-2,-1,-1,-1,-2,2,1,-1,1,1,-1,-1,1,1,-1,1,-1,2,-1,1,2,1,-1,-1,-1,-1,1]
[1,-1,2,1,-1,-1,-1,1,1,1,1,2,1,-1,2,-1,-1,-1,2,-1,2,1,2,-1,1,-1,1,1,-1,1,1,-1,-2,1,-1,-1,1,-1,1,-1,1,1,-2,-1,-1,1,1,1,-1,1,-2,1,1,2,1,-1,1,1,1,-1,1,-1,1,-2,-1,1,-2,-1,-1,-1,-1,-2,-1,-1,-1,2,-2,-1,1,-2,-1,-1,-1,1,1,1,1,1,-1,1,-2,1,1,-1,-1,1,-2,1,-2,1,-1,-1,1,1,-1,-1,-1,-1,-1,1,-1,1,-1,-1,1,1,1,1,-1,-1,1,-1,1,1,1,-1]
[-1,1,1,1,1,1,-1,1,2,2,1,-2,1,1,1,-1,-2,-2,1,2,2,-4,2,-1,-1,-2,1,-1,2,1,-1,-1,-1,-1,-1,-2,-1,1,1,-1,1,-1,-2,1,2,2,1,-1,1,1,2,1,1,1,-1,-2,-1,1,1,1,-1,2,-1,1,1,1,-1,-1,1,-1,-1,1,2,1,-1,1,1,-1,-1,1,-1,-1,1,-2,-4,1,-1,-1,-1,1,-2,1,1,-2,-2,-1,-1,1,-1,-1,-1,1,1,1,-1,1,2,1,1,-1,1,-1,1,1,2,1,1,-2,-1,-2,2,1,-1,1,-2,-1]
[1,1,-1,-2,-1,-1,1,1,-2,-1,1,1,-2,1,-2,1,1,-1,1,1,2,1,-1,1,1,1,-2,1,-1,1,-1,1,-1,-2,1,-2,1,-2,-1,-2,1,-1,1,-1,-1,1,2,-2,-1,2,1,-1,1,1,2,1,1,-1,-1,-2,1,-1,2,2,1,1,-2,-1,-1,-1,-1,-2,1,-1,-1,-1,1,-1,2,1,1,1,1,-1,-1,1,-2,-1,-1,-1,-1,2,1,-1,-1,-2,1,1,-1,1,-1,1,-1,-2,1,-1,1,-1,-2,-1,1,2,1,-1,1,2,-2,1,1,-1,1,-1,1,-1,-1,-1]
[4,-1,1,1,-1,-1,-2,-1,-2,-2,-1,-1,1,1,-1,1,-2,1,1,1,-1,4,1,-2,-2,-1,-1,1,-1,1,-1,2,-1,-1,1,-1,1,-1,-2,-1,1,1,4,1,-1,1,-1,-1,1,1,-1,-1,1,-2,1,2,-1,1,-2,1,1,1,-1,4,-1,1,1,-2,1,1,1,-1,-1,-1,-2,-1,1,-1,4,1,-2,1,1,1,1,1,-1,-2,-1,1,1,-1,-1,-1,-1,-2,1,1,1,2,1,-2,1,1,-1,2,-1,-1,2,-2,-1,-1,-1,-2,1,-1,-2,1,-1,-1,4,-2,1,1,1,1]
[-1,1,2,-1,-1,1,-2,1,1,1,-1,2,-1,-2,1,1,-1,-1,2,1,1,1,1,-1,-1,-1,1,1,-1,-1,1,-1,1,-1,-2,1,-1,-1,-1,1,-1,2,-1,1,1,-1,1,1,1,-1,-1,-1,-1,1,1,1,-1,1,-1,-1,-1,-1,-1,-2,-1,1,1,1,1,-1,2,1,-2,-1,-2,2,-2,1,2,1,1,-1,1,-1,1,1,1,1,-1,-1,1,1,-2,1,-1,-1,2,-1,1,1,-1,-2,-1,-1,-1,-1,1,-1,-1,1,-1,-1,1,1,-1,-1,2,-2,-2,1,2,-1,1,-1,1,1]
[4,1,1,4,1,1,-1,-4,1,-2,1,-2,4,-1,-2,1,-1,-1,-2,-4,-2,4,-1,-2,2,1,1,-2,-2,-1,-1,-1,-1,2,-1,-2,-1,-1,-1,-4,-2,-2,4,-1,-1,4,-1,-1,-1,-2,1,-4,-2,-2,2,2,-1,2,-1,1,-4,-2,-2,4,1,-2,4,-1,2,-2,-2,1,-4,-1,-1,4,1,1,-1,1,2,-4,-2,-1,4,1,-1,2,-1,-1,1,-1,1,-2,1,-1,2,2,-1,-1,1,-1,-1,-1,-2,4,-1,-1,4,-2,1,-2,1,1,-2,1,1,2,2,-2,-1,1,-1,-1,-2,-2]
[-1,-1,1,-1,-2,-1,-1,1,1,1,1,-1,-1,-1,-1,-1,-1,1,1,-1,1,-1,-1,-1,1,-1,-1,-1,1,1,-1,1,-1,-1,-1,1,-1,1,-1,2,-1,-2,2,2,-1,-1,-2,1,1,-2,2,-1,-1,1,1,1,1,-2,2,-1,1,-1,1,1,1,1,1,-1,-1,1,-1,-2,-2,2,1,-1,-1,-2,-1,1,-1,1,1,-2,-1,-2,-1,-1,-2,-1,-1,-1,-1,-1,-1,1,1,-1,-1,-1,1,-1,-1,-1,1,1,-1,1,-1,-1,-1,-1,-1,-1,1,-1,-2,-1,-1,1,-2,2,-1,1,-1,1]
[-1,-1,1,-2,-1,2,-2,-1,1,2,-1,1,-1,-1,-1,1,-1,1,1,-1,-1,-1,1,1,1,1,1,-1,1,1,1,1,1,-1,2,-1,-1,-1,-1,1,1,1,1,1,-1,-1,-1,-1,1,1,1,-1,1,-1,-1,2,-2,2,1,1,-2,1,1,1,-1,-1,1,1,-1,-1,-1,-1,1,-1,-1,1,-1,2,2,1,-1,1,1,-1,-1,-1,1,1,1,-1,1,1,2,-1,1,1,-1,-1,1,2,-2,1,1,-1,-1,1,-1,-2,1,1,1,1,1,-1,1,-1,2,1,-1,-1,-1,1,1,-1,-1,2]
[-1,-1,1,-2,1,-1,2,1,1,-1,1,-1,1,2,-1,-1,-1,-1,-1,-1,1,-2,-1,-1,1,1,-1,-1,-1,-1,-1,1,1,1,-1,1,-1,-1,1,1,1,1,1,1,1,1,1,-2,-1,-1,2,-1,1,-1,-1,-2,1,1,1,2,1,-1,-1,1,-1,-1,-1,1,1,2,-2,-1,-2,2,-2,1,1,1,-1,1,-1,-1,1,-1,-1,2,-1,-1,-1,1,1,-2,-1,-1,-1,1,1,1,1,-1,-1,1,1,1,1,1,-1,-2,1,1,-1,-2,1,1,-1,1,1,1,1,-2,2,-1,-1,1,-1,-1]
[1,2,-1,-1,-2,-2,1,-1,1,1,1,-1,-1,-1,-1,-1,1,-1,-2,-1,1,1,-2,1,1,1,-2,-1,-1,1,1,1,-1,-1,1,1,-2,-1,-1,-1,-1,-1,-1,2,1,2,-1,-2,1,-1,1,1,1,1,1,1,-1,2,-1,-2,-2,-1,-1,1,1,-1,-2,1,-1,1,1,-1,-2,2,-1,2,-1,-1,1,1,-2,-1,-1,-1,-1,1,-1,-1,-1,1,1,-1,1,1,2,-1,-1,2,-2,2,-2,-1,-2,-1,1,1,-1,2,-1,2,1,-1,-1,1,1,-1,1,-2,1,-1,-1,1,1,1,-2,1]
[1,-1,1,-1,-1,1,2,1,-1,-1,1,-1,-1,-1,-1,-2,-1,-1,-1,1,2,4,-2,-1,-1,-1,2,2,-1,-2,-1,-1,1,-1,-1,1,-2,1,1,1,2,-2,1,-2,-1,1,1,-1,1,1,1,-2,1,-1,1,1,1,-1,1,-1,2,1,1,-2,-1,-2,1,1,-1,-1,2,-2,2,-1,-2,-1,1,1,1,-1,1,1,1,1,1,-1,1,1,2,1,1,1,-1,1,1,-1,-2,-2,-1,1,2,-1,1,-1,1,-1,-2,1,1,1,-1,1,2,1,2,-1,-1,1,-1,1,-1,-1,1,-1,-1,1]
[-2,-2,-2,-2,1,-2,-1,-2,-1,1,-1,-2,1,1,-1,1,4,2,1,1,1,-2,-2,-1,-1,2,-1,-1,-2,1,-1,1,-2,-2,-1,1,2,2,1,-1,1,-1,1,-2,-2,1,-1,-1,-1,1,-1,2,1,1,-1,1,-1,-1,2,1,-1,-1,1,-1,-2,-2,-2,1,1,1,-1,1,-1,2,-1,-2,1,-1,1,1,1,1,2,1,-1,-1,-1,-1,-1,-1,-2,1,-1,-1,-1,-1,-1,1,1,2,1,1,2,-1,1,-2,-1,1,1,2,1,1,-1,1,1,2,-1,-2,-1,-1,-1,-1,2,-1,2,2]
[2,1,1,-1,-1,1,1,2,-1,1,-1,-1,1,-1,2,4,-4,-1,2,-1,1,4,-1,-1,-1,1,-2,1,1,1,2,1,-1,1,1,2,4,-1,-1,1,1,1,4,-2,1,-1,-1,-1,1,1,-1,-1,-2,1,-1,-2,-1,1,-2,-1,1,-1,-2,2,1,-1,-1,-1,1,1,1,-1,2,-1,-1,-1,-1,1,4,-4,-2,1,1,-2,4,-1,-1,1,1,1,-1,1,-1,2,-1,2,-1,1,1,1,-1,1,2,-1,-1,2,-2,-1,-2,1,1,-2,1,-1,1,1,2,1,1,1,1,-2,-1,-1,-2,-1]
[-1,2,-2,2,2,-1,1,-2,-1,2,1,-1,-1,1,2,-1,-1,1,1,-1,-1,1,-1,-1,-1,1,-1,1,-1,1,1,1,1,-1,1,2,-2,1,1,2,-1,-1,-2,-1,-2,-1,-1,-1,-1,1,-1,-1,1,-1,-1,-2,2,1,1,-1,-1,1,2,2,-1,2,1,1,2,1,-1,1,-1,1,1,-1,1,2,-1,1,1,-1,1,-1,-1,-1,1,-1,-1,2,1,1,-2,1,1,-1,-1,1,1,1,-1,-2,-1,2,1,1,-1,-2,1,1,2,-1,-2,-1,1,2,1,1,2,1,-1,-1,1,-2,-1,-1]
[2,-1,-1,-1,2,1,1,1,-1,1,-1,2,2,-2,-1,-1,-1,1,-1,1,-1,2,-1,1,1,1,1,-1,-1,-1,-1,1,1,1,-1,1,-1,1,1,-1,-1,-1,-1,-2,1,1,-1,1,-1,-1,1,-2,1,2,2,-1,-1,-1,-2,1,1,-1,-1,2,2,-2,2,-1,1,1,-1,1,-1,1,2,-1,1,-1,-1,-1,-1,1,-2,-1,-1,1,-1,1,-1,-1,-2,1,1,-1,-2,-1,-2,-1,1,-1,1,1,1,-1,1,-2,-1,-1,-2,1,-2,-1,1,2,-1,-1,1,1,1,1,-1,-1,1,1,2,-1]
[1,1,2,-1,-1,-1,-1,-1,-1,1,1,-1,1,1,1,-1,-1,-1,-1,2,1,2,1,-2,-1,2,2,-1,-1,-1,1,-2,1,1,-1,1,1,-1,-1,1,-2,-1,1,2,-1,-1,-1,-1,1,-1,-1,1,1,-1,-1,-2,-1,-2,1,1,1,-2,-1,-1,1,1,1,1,1,1,-1,1,1,-1,1,-1,1,-2,1,-1,-2,1,1,1,2,-1,2,-1,-2,-1,1,2,1,-1,-1,1,-1,-1,-1,1,-1,-2,1,-1,1,1,-1,1,-1,-1,1,1,-1,1,1,1,-2,-1,1,-1,-1,2,1,2,-2,-1]
[4,1,2,-1,-1,1,-1,-1,1,2,-1,1,-2,-1,-2,2,1,-1,1,1,1,4,-2,1,-1,1,-2,1,-2,-1,2,-2,2,1,-2,-2,1,1,-2,1,1,-1,4,-2,-1,2,-1,-1,-1,-1,1,1,-1,2,-1,-2,-1,2,2,1,-1,1,1,2,-2,1,1,-1,-1,-1,1,1,2,-1,1,-1,-2,-2,4,1,-1,1,1,-2,1,1,-1,1,2,-2,-2,-2,-2,2,1,1,-1,-2,-2,1,-1,1,1,2,1,2,1,1,-1,1,-2,1,1,1,1,1,1,-1,1,-1,2,1,-2,1,1,-1]
[-2,1,-2,1,-1,2,1,-1,4,-2,1,-2,2,-1,-1,1,-1,2,1,-1,1,1,1,-2,-1,-1,2,1,-1,2,1,-1,-1,1,-1,1,1,1,-1,1,-1,-1,-1,1,1,1,1,-1,1,-1,2,1,-1,-2,1,1,-1,-1,1,1,1,1,1,-2,-1,1,-1,-1,2,1,1,1,-1,1,-1,1,-1,-1,-1,-1,-1,1,-2,-1,-1,1,-1,1,-2,2,1,1,2,1,-1,-2,-1,-2,1,1,-1,-1,-1,-1,1,-1,1,-1,-1,1,1,-1,-1,1,-1,2,-1,2,1,-2,-2,1,1,1,-1,2]
[-2,2,-2,-1,1,2,-2,2,1,-2,-2,-1,-1,-1,1,-1,-1,-1,-1,-2,1,1,-1,1,1,1,2,-1,1,1,1,-1,-1,1,-1,2,-1,-2,-2,-2,-1,1,1,-1,1,1,1,2,1,1,-1,-1,-1,1,-2,1,1,1,-1,-1,-2,-2,-1,-1,1,-1,-1,1,2,1,2,1,-1,-1,-1,-1,1,4,-2,-2,-1,-1,-2,1,-1,1,1,-1,-1,1,1,1,1,1,-1,-1,-2,-2,1,-1,-2,-1,-1,-1,1,-1,1,1,-1,2,2,-1,1,1,-2,1,1,-1,-1,2,1,1,1,-1,-1,-2]
[-1,-1,-1,1,2,2,-1,2,-1,1,1,1,-1,-2,2,1,-1,-2,-2,-1,-1,1,1,-1,-2,1,1,-2,1,1,2,-1,-2,-2,-1,1,1,-1,1,-1,-2,-2,-2,1,-1,2,1,2,-1,4,1,1,-1,1,-1,-1,2,1,-1,-1,1,-1,-1,1,1,-1,-1,2,2,-1,-1,-1,2,-2,2,-1,1,1,2,-1,1,-2,-1,-1,-2,1,-1,-1,1,1,1,2,1,-1,-1,-1,-2,1,-1,1,-1,-1,-1,-2,-2,-1,-1,1,-1,-1,-1,-1,1,1,1,-1,1,-1,1,1,2,-1,1,-1,-1,-2]
[1,-1,-2,1,-1,1,-1,-1,2,4,-1,2,-1,-2,-1,-1,1,1,2,-1,-1,-1,-2,-2,-1,-2,2,-2,1,2,1,-2,2,-1,1,-1,-1,-1,2,1,1,1,1,-1,-2,-1,-2,1,-2,2,-1,4,1,2,-1,-1,-1,-1,-1,1,2,-1,1,1,-2,-1,-2,-2,2,-1,2,-1,2,-1,2,-1,-1,-2,-2,1,1,1,-1,1,-2,-2,-1,-2,-1,2,1,1,1,1,-2,1,-1,-1,1,-2,1,2,2,-2,-1,2,1,-1,-1,-2,2,1,-1,1,1,-1,2,1,-2,-2,-2,-1,2,2,2,2]
[1,1,1,2,1,-1,-1,1,-1,-1,1,-2,2,-1,-2,-2,-1,1,-1,1,-1,-2,-1,1,1,-1,1,-1,2,-1,-1,2,2,2,1,-1,1,1,-1,-2,2,-1,-1,-1,1,1,2,-1,1,1,-1,-1,1,1,1,1,-1,1,-1,-1,-1,-1,-1,-1,2,-1,1,1,1,-1,1,1,2,2,-1,-1,-1,-1,-1,-1,2,1,1,1,1,-1,-1,-1,-1,-1,1,-2,-1,-1,-1,1,1,1,-2,1,1,-1,1,-1,1,-1,1,-1,2,-1,-1,-2,1,-1,1,-1,-1,2,-1,-1,1,1,2,-1,-1,-1]
[-1,1,-1,-1,1,-1,1,-1,1,1,-1,2,1,-1,-2,1,-1,1,1,-1,-1,-1,1,-1,-1,-1,2,1,-1,1,-1,1,2,1,-1,-1,-1,1,1,1,1,1,2,-2,-1,1,1,1,-2,-1,1,1,1,1,1,1,-1,-1,-1,-1,-1,1,-1,-4,-1,1,1,-1,2,-1,1,1,1,1,1,1,1,-1,1,2,-1,-1,-1,-1,-1,1,1,-1,-1,1,-2,1,-1,-1,-1,1,-2,-1,1,-1,1,1,-2,-1,1,-8,-1,1,-1,1,1,1,1,-1,1,1,1,1,1,1,1,-1,-1,-2,2,-1]
[-2,2,1,1,1,-1,1,1,-1,-1,-1,-1,1,1,1,2,1,1,-1,-1,1,-1,-1,-2,-1,-1,1,-1,1,1,1,1,1,-1,-1,-1,2,1,-2,-1,-2,-1,-1,1,-1,-1,1,-1,1,1,1,2,-1,-1,-1,1,1,-1,-1,-1,1,1,-1,-2,1,1,-1,-1,1,-1,-1,1,-1,-1,1,1,1,2,2,-1,-1,-1,-1,1,-1,1,1,1,-1,1,-1,1,1,-1,-1,-2,-1,-1,1,1,-1,2,-1,-1,2,1,-1,-1,1,-1,1,1,1,-1,-1,1,-1,-1,1,-1,1,-1,1,1,-1,1]
[-1,-2,-1,2,-1,-2,1,-2,4,1,-1,-1,4,1,-1,-1,1,1,-1,-2,-2,-1,1,1,2,-4,-2,1,-1,1,-1,-1,-1,4,-1,-2,1,1,-1,1,1,-2,2,-2,1,2,-1,1,1,-2,4,1,1,-1,4,1,-1,-1,1,-1,1,-2,-2,1,-1,1,2,-2,-1,-1,-2,2,-1,-2,1,2,-1,1,-1,1,1,-1,1,-1,4,1,-1,1,1,1,-2,-1,4,1,-1,-1,1,-1,1,1,-1,2,-1,-2,-1,1,-1,-1,2,-1,-1,1,-1,1,-1,-1,1,2,-1,-1,2,1,1,2,-2,-1]
[-2,1,1,-2,2,1,1,-1,-2,-1,-2,1,-2,1,-1,-1,2,-1,-1,1,1,-2,-2,1,1,1,1,1,1,1,1,1,2,-1,-1,1,-1,1,-1,-1,1,1,4,1,2,-1,2,1,1,1,-1,1,1,-1,-2,-1,1,1,2,1,-1,-1,1,-2,1,2,1,1,1,1,-1,1,-1,1,2,-2,-1,-1,-1,2,1,1,-1,1,4,-1,1,1,1,-1,-1,-2,-2,-1,-1,-1,-1,-1,1,-1,2,-1,-1,-1,-1,-2,-1,-1,1,1,1,1,-1,1,1,-2,1,-1,-1,1,1,-1,-1,-1,-1,2]
[4,2,1,1,2,1,-1,2,-2,-1,1,-1,-2,-1,1,-2,-1,-2,-1,1,-1,2,2,-1,-1,-1,-1,2,-1,-2,-1,-1,-2,-2,-2,-1,-1,1,-1,-1,1,1,2,2,1,-1,1,-1,1,1,-1,-1,1,1,-2,1,-1,-2,1,-1,-2,1,-1,1,2,2,-2,1,-1,1,1,-2,-2,-1,1,-2,-2,2,-2,-1,-2,-2,1,1,2,2,-1,1,1,2,2,1,-2,-2,-2,1,-1,-1,1,-1,1,-1,-1,1,-1,-1,2,-1,-1,4,1,2,2,-2,-1,1,-1,-4,1,-1,1,-1,1,1,1,1]
[-1,2,1,1,1,-1,-1,-1,1,1,-1,1,-2,1,-1,2,-2,2,-2,1,1,-1,1,-1,1,1,-1,1,-1,-2,1,-2,-2,-2,1,-1,2,-1,1,1,1,1,-1,2,2,-1,1,-1,-1,1,-2,1,-2,-2,-1,-1,-1,1,1,1,1,1,-1,1,1,-2,2,2,1,1,1,-1,-1,-1,1,-1,1,-1,2,-1,-1,-1,-1,-1,-2,2,1,2,1,1,1,2,-1,-2,1,1,-1,-1,1,-1,1,-1,-1,1,-1,1,1,-1,2,1,1,-1,-1,1,-1,-2,-2,-2,-1,-2,2,-1,-2,1,1,-1]
[1,1,-1,-1,-1,-1,-1,-1,-1,-1,-1,1,1,1,1,1,-1,-1,1,1,1,-1,1,-1,-1,1,1,-2,-1,1,-1,1,2,-2,1,1,1,-1,-1,1,1,1,1,2,1,2,-1,1,-1,1,-1,1,1,-1,1,2,-1,-1,1,-2,1,1,-1,2,-1,1,1,1,2,-1,-1,-2,1,1,-1,-1,1,-1,1,-1,-1,-1,2,-1,-1,-2,-1,1,-1,1,2,2,2,-1,1,1,1,1,1,-1,-2,-2,1,1,-1,1,-1,1,-1,-1,-1,1,-1,-1,-1,-1,1,1,1,1,-1,1,1,1,-1,-1]
[-1,-1,-1,-1,-1,-1,-1,1,-1,-1,1,-1,1,2,-1,-1,1,-1,1,-1,-1,-1,-1,-1,1,-1,-1,-1,-1,1,1,-1,-1,-1,-2,1,-1,1,1,-1,1,-1,1,1,1,1,-2,1,-1,-1,1,1,-2,1,-1,-2,-1,-1,-1,-1,-1,1,-1,1,-1,1,-1,1,1,1,1,2,-1,-1,1,-1,1,-1,1,2,1,-1,-2,-1,1,-1,1,1,1,1,1,-2,2,1,1,1,1,-1,-1,-1,-1,-1,-1,2,-1,-1,-2,1,-1,1,1,1,-1,1,1,1,-1,-1,1,-2,-1,1,1,1,1,1]
[-1,1,1,1,-1,-1,1,-1,-1,1,1,-1,-2,-1,1,-1,1,2,1,1,-1,1,-1,1,1,2,1,-2,-2,-1,-1,1,-1,1,-1,-1,-1,2,-1,-1,-1,-1,1,1,-1,2,1,1,2,-1,1,1,1,1,1,-1,1,-1,1,1,-1,-1,-1,1,-1,-1,-1,-1,1,-1,-1,-1,1,-1,-2,-1,1,-1,-1,1,1,1,1,-2,-1,1,1,1,-1,-1,1,-2,1,-1,-1,-2,-1,2,1,-1,1,-1,-1,-1,-1,-2,-1,-1,-1,-1,-2,-1,1,-1,-2,2,-1,-1,1,-1,1,-1,1,1,1,1]
[-2,-2,1,1,1,1,1,1,-1,-1,1,1,1,-1,-1,-1,1,1,-1,1,1,-4,-1,-1,2,-1,-1,-1,1,2,1,1,2,2,-1,1,-1,1,1,-2,-1,1,-2,-1,-1,-1,-1,-1,-1,1,-1,-1,1,-1,1,-2,-1,-1,1,-1,1,-1,1,-1,1,2,1,1,1,-1,1,2,1,1,1,-1,-1,-1,-1,-1,1,1,2,1,-2,1,-1,2,1,2,1,-1,2,-2,-2,-1,-1,-1,1,-1,-1,1,-1,1,-1,-1,-1,1,1,-1,1,-1,1,-1,1,-1,1,2,2,1,-1,-1,-1,-2,1,-1]
[4,-1,-2,1,-1,-1,-1,1,-2,1,1,1,-1,-1,1,1,-1,1,-1,-1,1,4,-1,-1,1,1,1,1,-1,1,-1,1,1,1,2,1,1,1,1,1,1,1,4,-1,1,-1,1,-1,1,-1,1,2,1,-1,1,1,-2,1,-1,-1,-1,1,1,1,-1,1,-1,1,1,-1,1,1,1,1,-1,-1,1,1,2,1,-1,-2,-1,-1,-1,-1,1,-1,2,-2,-1,-1,1,2,1,1,2,-1,-1,1,-1,-1,-1,-2,-2,1,-1,-1,1,-1,-1,-1,1,-1,2,-1,-1,-1,1,1,1,1,2,1,-2,1]
[1,1,-1,1,-2,1,-2,-1,-1,-1,-1,-1,1,1,1,-1,-2,-1,-1,1,-1,-1,2,-1,1,-1,1,1,-1,-1,-1,-1,1,1,-1,1,-1,1,2,-1,1,1,1,-1,1,-1,-1,2,-2,1,1,-1,-1,-1,-1,-1,1,-1,-1,1,-1,1,-2,-2,-1,-1,-1,-1,-1,-2,-1,-1,-2,1,1,-2,2,-1,1,-1,-1,1,1,-1,-1,-1,1,2,2,1,1,-1,-2,-1,-1,1,1,1,1,1,-1,-1,2,-1,1,1,2,2,1,-1,1,1,1,1,-1,-1,1,-1,1,-1,-1,1,1,1,2,-1]
[-2,-1,1,2,1,1,-1,-1,1,-1,1,1,1,1,-1,1,-1,-1,1,-2,-1,1,2,-1,-1,1,-1,1,-1,-1,1,1,2,1,1,1,1,-1,1,1,-1,2,1,1,-1,-1,-1,1,1,2,1,2,-1,2,-2,1,2,-2,1,1,-1,1,1,-2,-2,-2,-1,-2,2,-1,1,1,-1,1,-1,-1,-1,-1,1,1,1,1,1,1,1,-1,-2,-1,-2,1,-1,1,1,1,-1,2,-2,-1,1,-2,-1,1,-1,1,1,1,1,-1,-1,-1,-1,1,-1,1,1,-1,-2,1,-1,1,1,1,-1,1,1,1]
[-1,-1,1,1,-2,-1,1,-1,1,2,1,-2,-1,2,-1,2,1,-1,-1,-2,1,1,1,1,1,-1,2,-2,-1,-1,1,2,1,1,1,-1,1,1,-1,1,-1,1,1,-2,-1,-1,1,2,-1,1,1,1,1,-1,1,1,-1,1,-1,-1,1,-1,-2,-1,-2,1,1,1,1,1,-1,1,1,-1,-1,-1,-1,-1,-1,-2,-2,-1,1,-1,1,1,1,1,-1,1,-1,-1,1,-1,-1,1,-1,-1,-1,2,-1,-2,-2,-2,-2,-2,1,2,1,-1,1,-2,-2,1,1,1,1,1,1,2,1,-1,1,1,-2,-1]
[-1,-2,-1,-1,-1,-2,1,-1,2,1,1,1,1,1,-1,-1,1,-1,-1,-2,-1,-2,-2,-1,-1,-1,1,-1,-1,-1,-2,1,2,2,1,1,1,-1,-1,1,-2,-1,1,-1,-1,-1,2,1,1,-1,-1,1,-1,1,1,-1,-1,-1,1,1,-1,-1,1,-1,-2,-2,-1,-1,-1,-1,-1,-1,-1,1,1,2,-1,-1,-1,2,1,-1,-1,1,1,-1,-2,1,1,-1,1,1,1,1,2,-1,2,-1,-1,-1,1,-1,1,-1,1,1,1,-1,-2,1,1,-1,1,-1,1,1,1,1,1,1,-1,1,-1,-1,1,-2]
[4,-1,1,1,1,-1,2,-1,-2,-2,-1,1,-2,1,2,-1,-1,-1,-2,2,-1,2,2,2,1,-1,-2,-1,-1,-2,-1,1,-1,-2,1,2,-1,-1,-2,-2,-1,-2,-1,-1,1,-1,1,-1,1,1,1,-1,1,-2,-1,1,-1,-1,-2,1,-1,-1,1,1,1,2,1,2,1,1,1,-2,-1,1,-1,-1,-1,1,-2,-1,-1,-1,-1,-2,1,-1,1,-1,-1,1,-1,-2,-1,1,-1,-2,-2,1,-1,-1,1,-2,-2,1,1,-1,-1,1,1,2,1,2,1,-1,1,-1,-1,-2,-1,1,-1,-2,1,-2,-1,-1]
[-1,-1,-1,1,-2,-2,-1,-1,-1,1,-1,-1,2,2,-4,1,1,2,-1,1,1,-1,-1,-2,2,1,-2,-4,-2,-1,2,-1,-2,2,2,-4,-1,-1,1,-1,-1,1,-1,-2,1,1,-1,-1,-1,-2,1,-2,-1,-2,4,1,-2,-1,1,2,1,1,1,1,1,-2,1,1,-2,-1,1,-2,1,1,-1,2,1,-1,-1,1,2,2,2,-1,-2,1,1,-1,1,1,-2,-2,1,1,2,-1,-1,1,-2,-1,1,-1,1,-1,-1,2,-1,-1,-1,1,-2,-2,-1,1,-1,1,1,2,-1,1,-2,-1,1,2,-2,1]
[1,1,-2,2,-1,-2,-1,-2,1,1,1,-2,-2,-1,-1,2,2,1,1,-1,-2,1,1,1,1,-1,-2,-1,-2,-1,1,1,-1,1,2,-1,2,-1,1,-1,1,-1,2,-1,1,1,1,1,-1,-2,-1,2,1,1,-1,1,1,-1,-1,1,-1,-1,1,2,-1,-1,1,-1,-1,-2,1,-1,1,1,-1,-2,-2,1,2,1,2,1,1,-1,2,1,1,1,1,2,-1,-1,-1,1,-1,-2,1,2,-2,1,-1,2,-2,1,1,2,1,1,2,2,-2,-2,-1,1,-2,1,1,-1,-1,1,1,1,1,1,1,-1]
[1,1,-1,-1,1,-1,1,-1,1,-1,1,1,-1,-1,-2,1,-1,-1,-1,1,-2,1,-1,2,-1,-1,-1,-1,-1,-1,-1,-1,1,1,1,-1,-1,1,1,-1,1,1,1,-1,-1,-1,1,-1,-2,-1,1,-2,1,-1,-1,1,1,1,1,-1,-1,1,-1,1,-2,-1,1,-2,-1,1,1,1,1,1,-1,1,1,-1,1,-1,1,1,1,1,-2,1,1,1,-1,-2,-1,-1,1,2,1,1,-1,-1,-1,1,-1,1,-1,1,1,1,1,-1,-1,-1,1,1,1,1,1,1,-2,1,1,-1,1,1,-2,2,1,-1]
[1,1,1,-2,-1,-1,1,-1,1,-1,1,2,-2,1,-1,1,-1,-1,1,-1,2,1,-1,-2,-1,1,1,-2,-1,-1,-1,-1,2,-1,1,1,1,-1,-1,2,-1,1,-1,-2,1,-1,-2,1,-1,1,-1,-1,-2,1,-1,-1,1,-1,1,-1,1,1,1,-1,-2,-1,-1,1,1,-2,-2,1,-1,1,1,1,-1,-1,-1,-1,-1,1,1,1,-2,-2,-1,-1,-1,2,1,-1,2,1,1,1,-1,1,1,1,2,-1,1,-1,-1,-1,-2,1,-1,-2,1,1,1,-1,-1,-1,2,1,-1,-2,-2,2,-1,1,1,1]
[2,-1,1,-1,1,-1,-2,1,-1,1,1,-1,-1,1,-1,-2,-1,-1,1,-1,-1,-1,1,-1,-1,-1,-1,1,1,1,1,-1,-1,-1,1,-1,-2,-1,1,1,-1,1,-1,-1,2,2,-1,-1,-1,-1,2,1,-1,1,-1,2,2,-1,-2,-2,1,1,-2,1,2,-1,1,1,-1,-1,1,-1,1,2,-1,1,-1,1,-1,1,-1,-1,-1,-1,-2,2,2,-1,1,2,1,-1,1,1,1,1,1,1,-1,-2,1,2,-1,1,-2,1,1,1,-1,1,-1,-1,1,1,-1,1,-1,1,1,-1,-2,1,1,-1,-2,1]
[1,1,2,1,-1,-1,1,1,2,1,-1,-1,2,2,2,-1,-2,-1,-2,-1,-2,-2,1,2,-1,-1,-1,1,2,1,1,-1,1,2,2,-1,-1,-1,1,-2,-1,-2,-1,1,2,-1,1,-1,1,1,2,1,1,1,2,2,1,-2,-1,2,1,-1,1,4,2,-1,-1,-1,-2,-2,-1,-1,-2,-1,-1,1,1,1,-2,-1,1,-1,1,-1,1,2,1,-1,-2,-1,1,2,-1,1,1,-1,2,2,-1,1,-1,-1,1,-1,-2,4,1,2,-1,-1,-1,-2,-1,-1,-1,1,2,-2,-1,-1,1,1,-1,-1,-1,-1]
[2,1,-2,1,2,1,-1,2,-1,-2,-1,-1,-1,1,1,-2,-2,-1,-1,-1,2,-1,1,1,1,1,1,1,1,-1,1,1,1,1,1,1,-1,-2,2,1,-2,1,2,2,-2,1,-1,-1,1,1,2,-2,-1,-1,1,-1,-1,-1,1,1,-1,2,1,1,1,-2,-1,-1,-1,2,-1,2,-2,1,-2,-1,1,1,-4,-2,1,-1,-1,1,1,2,1,1,1,-1,1,-1,-1,-1,1,-2,1,1,1,-1,1,1,1,-1,1,1,1,-2,2,1,1,1,1,-1,-2,2,-1,1,-1,2,-4,-1,1,1,2,1]
[1,1,1,-1,-1,-1,-1,1,-1,-1,-1,-1,1,1,1,-4,-1,2,-2,2,-1,-1,1,2,-1,-1,1,1,1,-1,1,-1,1,-1,2,-1,-4,-1,1,1,2,1,-1,1,-1,-1,-1,-1,1,1,-1,1,-1,-1,-1,1,-1,-2,-2,-1,-2,-1,1,-2,-1,1,1,-1,-1,1,2,-1,1,1,-2,1,2,-1,-4,-1,2,-1,2,1,-1,-1,1,1,-1,-1,1,1,1,-1,2,1,-1,1,1,-1,-2,-1,-1,2,-1,-1,2,2,1,-1,-1,2,-1,-1,-1,1,-1,-1,-1,-1,-1,1,1,-1,1,-1]
[1,-2,1,1,-1,1,2,-1,1,-1,-1,1,-4,1,-2,-1,1,-1,2,-1,2,1,-1,-2,1,1,-2,1,1,-1,-1,1,2,-1,-2,-2,-2,1,1,1,-1,1,1,-1,-1,1,2,-1,1,1,-1,1,1,1,-2,-1,-2,1,-1,-1,-1,2,2,2,-1,1,1,1,1,1,1,1,1,-1,-1,-2,-1,1,1,2,1,1,-1,2,1,1,1,-1,-1,-2,1,1,-1,1,1,1,-2,-1,-1,-1,-1,1,2,-1,1,1,1,-2,-2,-1,-1,-1,-1,1,1,-1,-1,-1,-1,-1,1,2,-2,-1,-1,2]
[2,1,-2,1,-1,-2,1,1,-1,1,-1,1,1,-1,1,2,-1,-2,1,-2,-1,1,1,-1,-1,1,-1,1,2,-1,1,1,-1,-2,1,-1,1,-1,-2,2,-2,2,-1,1,-2,1,-1,1,1,1,1,-1,1,-1,2,-1,-1,2,1,-1,1,-2,1,4,1,-4,-1,-1,-1,-1,1,-2,-1,-2,1,-1,-2,-1,2,-1,-1,1,-1,1,-1,1,-2,-1,2,-1,2,-1,-2,-1,1,-1,-1,-1,1,2,1,-2,-1,1,2,2,-2,-2,-1,1,1,-1,1,-2,-1,-1,1,-1,-1,1,2,-1,-1,1,-2,1]
[-1,1,-1,-1,1,1,2,2,-1,-2,1,-1,-1,-2,2,1,1,-2,1,-1,-2,1,1,-1,-2,-1,-1,1,1,2,-2,1,1,-2,-2,1,1,1,-2,2,1,-1,1,1,-2,1,1,1,2,1,-1,-2,1,-2,-2,1,1,1,1,-2,-1,-2,-2,1,-1,-2,-2,2,1,1,2,1,-1,1,-1,-1,-1,-1,-1,-2,1,1,1,-1,1,-1,1,1,2,-1,2,1,-1,-1,-1,-1,-1,-1,-1,1,1,-2,-2,-2,-1,-1,1,-1,2,-2,1,2,2,1,-2,-1,1,-2,-1,1,2,-2,-1,1,-1,1]
[1,1,2,-1,2,-1,1,-1,-1,1,-1,-1,1,-1,2,-1,1,1,1,1,-1,1,-1,2,1,2,1,1,-1,-1,-1,1,-1,-1,-2,1,-1,1,-1,-1,-1,-2,-1,-1,1,-1,-1,1,1,1,-1,-1,1,-2,-1,-1,1,1,-1,-2,-1,1,1,1,2,1,-1,-1,2,2,2,-1,1,1,1,1,-1,-1,1,-1,-1,-1,1,-2,-1,-1,1,1,-1,-1,-1,1,-1,1,-1,-1,1,1,-1,1,2,1,1,-1,-1,-2,1,2,1,2,-1,-1,1,-1,-2,-1,-1,1,-1,1,-1,2,-1,-1,1,-1]
[2,1,1,1,-1,1,1,-1,1,-1,-1,-1,1,-1,1,-2,-1,-1,1,1,1,1,-2,1,-1,-1,1,-1,-1,-1,1,-1,1,-1,-2,1,-2,1,-1,1,-2,1,-1,-1,1,1,1,-1,1,1,-1,-1,-2,2,1,1,1,1,1,2,1,-1,1,-1,1,-1,-1,1,2,1,1,-1,-1,1,-1,1,-2,-2,-1,1,-1,1,-2,-2,1,1,-2,1,1,1,1,-1,1,-2,2,1,2,1,-1,-1,1,-2,1,1,1,-4,1,-1,1,1,2,1,2,1,1,2,-1,1,1,-1,4,-1,1,-2,-1,-1]
[1,1,1,-1,-1,-1,2,1,-2,-1,-1,2,-1,-1,-1,-1,1,-1,1,-1,1,1,-2,-2,1,-1,1,2,1,-2,2,-1,2,-1,-1,-2,-1,-1,1,-1,1,-1,-1,1,1,1,1,-1,1,1,1,-2,-1,1,1,-1,1,2,1,1,2,-1,-1,1,1,1,-1,2,1,2,-1,-1,2,-1,-1,-1,1,-2,-1,1,-1,-1,-1,1,-1,1,-2,1,1,-1,1,-1,-1,1,-1,1,-1,-2,-1,-1,-1,1,-1,-1,-1,1,1,1,1,1,1,1,2,1,1,-2,1,-2,1,1,-2,1,2,1,-1,2]
[2,-1,-2,1,1,-2,1,1,-1,-1,2,-1,-2,1,1,-1,-2,-1,1,1,1,2,-2,1,-1,1,-1,2,-1,-1,-1,1,-1,1,-1,-1,1,1,1,1,1,1,1,-1,-2,2,-2,2,-2,-1,-1,-1,-1,1,-1,1,-1,-1,-1,-1,-1,-1,1,1,1,-1,-1,1,1,1,1,-1,-1,1,1,2,1,-1,-1,2,-1,-1,-1,-1,-1,-2,1,-2,-1,-1,-2,-1,-1,-1,-2,-1,-2,1,1,2,1,-1,2,1,1,-1,-1,1,-1,1,-1,-1,1,2,-1,-1,-1,-1,1,-1,1,-1,-1,2,-1,-2]
[-2,1,-2,-2,1,-1,2,1,-1,-1,1,-1,-1,1,-1,1,-1,1,-1,1,1,-2,-1,-1,-2,1,-2,-1,-1,-1,-2,1,-1,1,-1,-2,1,2,-1,2,-1,2,-1,-1,-2,-2,-2,-1,1,1,1,-2,2,-1,-1,-1,1,-1,1,-1,-1,2,1,1,-2,1,1,-1,1,-1,1,1,1,-1,2,-1,-2,-1,-1,2,-1,2,-1,1,-1,-2,-1,-1,-1,-1,2,-1,2,-1,-1,1,1,-1,-1,1,1,1,2,-2,2,-2,-1,-1,-2,-2,-1,-1,2,-1,1,1,2,-1,-1,-1,1,1,-2,1,-1,1]
[-2,1,1,1,-1,1,-1,-1,-1,1,2,1,-1,-1,1,1,1,2,2,-2,-1,1,-1,-1,1,-2,-2,-1,1,1,-1,1,1,1,1,-1,2,1,1,-1,-2,2,-1,-1,-1,-1,-2,-1,-2,-2,2,-1,1,1,-1,-1,1,1,-1,1,-1,2,-2,1,-1,1,-1,-1,1,-1,1,-2,-2,1,1,1,-1,-1,1,1,-1,1,-1,-1,-2,-1,-1,2,1,-2,-1,2,-2,-1,-1,1,-1,1,-1,-2,2,-1,1,1,-1,1,1,2,1,-1,-2,-1,1,1,1,-1,1,-1,-1,2,1,-1,-1,-1,1,-1]
[1,-1,2,-2,1,1,1,-1,-1,1,-1,-1,-1,1,-2,-1,-1,-1,-2,2,2,-1,-1,-1,2,-2,-1,-1,-1,-2,-1,1,-2,-1,-1,-1,1,-1,1,-1,1,-1,1,-1,2,2,-1,1,2,1,-1,-2,1,-1,-1,-1,-1,1,1,1,-1,1,-1,1,1,-1,1,-1,-1,-1,-1,1,2,1,2,-1,-1,-1,2,-1,1,1,1,-1,-1,-1,-1,-1,-2,1,1,-2,-1,1,1,-1,1,-1,1,1,1,-2,1,-1,1,-1,-1,-1,1,-1,-1,2,-2,-1,-1,-1,-1,-1,1,1,-1,-1,1,-1,2,-2]
[-4,2,1,4,-1,1,-2,-1,1,-1,1,1,-1,1,-1,2,1,1,-2,2,-1,-4,2,1,2,1,-1,-1,-1,1,1,1,-1,1,1,-1,1,-2,2,-2,-1,-1,-2,1,-1,1,1,1,-2,1,-1,-1,1,1,-1,-1,1,-1,1,2,-2,-1,1,-2,-1,2,1,1,1,-1,-1,1,1,-2,-1,1,2,1,1,1,1,-1,2,-1,-1,1,1,-1,2,1,-2,1,1,2,-1,2,1,1,1,1,-1,1,1,2,-2,-1,1,1,2,2,1,1,-1,1,-1,-2,2,-2,1,1,1,-1,2,-2,-1,-1]
[1,-1,1,1,-1,1,1,1,-1,-1,-1,-1,2,-1,-1,-1,2,-1,1,1,1,-1,-1,-1,2,-2,1,-1,1,-1,1,-1,1,1,1,1,1,1,-1,1,-1,1,-2,-1,-2,-1,-1,-1,-1,1,1,1,-2,1,-1,1,1,2,1,-1,2,1,1,-1,1,1,-1,2,-1,-1,1,1,1,-1,1,1,-1,2,1,-1,-1,-1,1,-1,-1,-1,-1,-1,-1,-2,-1,1,-2,1,1,-1,-1,1,1,-1,-2,-1,1,1,-1,1,1,1,-1,-1,2,1,2,-2,-1,-2,-1,-1,1,-1,-1,1,2,-1,-2,1]
[-1,1,2,1,-1,-1,-1,-2,1,2,-2,-1,-1,-1,-2,1,1,-1,-2,-1,-1,1,-1,4,1,2,-1,-2,-2,-1,-1,1,1,-1,-1,-1,2,1,-1,-1,2,1,2,1,1,-1,2,-1,1,-1,1,1,-1,-1,-2,-2,-1,1,1,1,-1,-1,1,-1,2,2,1,-1,1,-2,1,-1,2,-2,2,-1,1,-1,-2,1,2,-1,2,-1,1,1,2,1,1,1,-2,-1,-2,2,-1,2,-1,1,-1,-2,1,-1,-2,1,1,-2,1,2,1,-1,-1,-1,-1,-2,1,-1,1,-2,1,1,-2,1,2,-1,1,-1]
[-1,-1,-1,-1,1,-2,2,-1,-2,-1,1,-1,-1,-1,1,1,-1,-1,-2,2,-2,2,1,-2,1,2,-1,-1,1,-1,1,1,1,-1,-2,-1,-1,1,-1,2,-1,-1,1,1,1,-1,-2,-1,1,-1,2,1,-1,1,-1,1,1,1,1,1,-1,-1,-1,-1,-2,1,-1,1,-1,-1,1,-1,1,-1,1,1,1,-1,-2,-1,1,-2,1,1,1,1,-1,-2,-2,-1,1,1,-1,1,-1,-1,-1,1,1,1,-1,1,-1,1,-1,2,-1,1,-1,-1,1,2,-1,1,1,-1,1,-1,1,1,1,-1,-1,-1,-1,-1]
[1,-1,1,-2,2,1,1,2,2,-1,2,1,1,1,-1,-1,1,2,1,1,1,1,-1,1,-1,-1,1,-1,-2,2,-1,-1,1,2,1,-1,2,-1,1,1,1,-1,1,1,1,1,1,-1,1,1,-1,-2,2,-1,-1,-2,-1,1,-1,-1,2,-2,-2,1,1,-1,1,-1,1,1,-1,1,-1,1,1,-1,2,2,1,-1,1,1,-1,1,2,2,-1,-1,1,-1,-1,-1,1,-1,1,-1,-1,-1,1,-1,-1,1,-1,-1,1,1,1,-1,-1,-1,1,2,2,1,-1,-1,-2,-1,-1,1,-1,-1,-1,-1,1,1]
[-2,1,1,2,-1,1,-1,-1,-1,1,-1,1,1,1,-1,1,-1,1,1,1,2,-2,1,-1,-2,1,1,-2,-1,-1,-1,-1,2,1,-1,-1,1,-1,1,1,-1,-1,1,-1,1,-1,-1,-2,-1,-2,-1,-2,-1,-1,1,1,1,-1,-1,2,-1,1,1,-1,1,1,-1,1,-1,-1,1,1,-1,-1,-1,2,-1,-1,-1,-1,2,-1,1,-1,2,1,1,-1,-1,-2,-1,-2,-1,1,-1,2,1,-1,-1,1,-1,-1,1,1,-1,-2,-1,-1,-1,-1,1,1,1,-1,-1,-1,-1,2,-1,-1,1,1,1,1,-1,-2]
[1,-1,-1,1,-1,-1,1,-1,1,1,1,-1,-1,1,-2,2,-1,-1,-1,1,2,1,-1,1,1,-1,1,1,-1,-2,-1,1,-1,1,1,1,1,1,-1,1,1,1,-1,1,-1,-1,-1,-1,1,1,-1,-1,-1,-1,1,-1,1,1,-1,-1,2,-1,-1,1,1,-1,1,1,-1,1,-1,1,1,-1,-1,1,2,1,1,-2,-1,-1,1,1,-1,1,-1,1,-1,-1,1,1,-1,-1,-1,-1,-1,-2,1,-1,-2,1,1,1,-1,1,-1,1,1,1,-2,-2,-1,-1,-1,-2,1,1,1,-1,1,1,-1,-1,2,-2]
[-1,1,1,1,-1,-1,1,-1,-1,1,1,-1,1,-1,-1,-1,1,-2,1,1,1,1,2,1,1,2,1,1,1,-1,-1,1,-1,1,1,-1,1,1,1,1,1,-1,1,1,-1,-1,1,-1,1,-1,-1,-1,-1,-2,-1,2,-1,-1,1,-1,1,2,1,1,-1,-1,-1,1,2,-1,1,-1,1,1,-1,1,1,-1,1,-1,-1,-1,2,1,-1,-1,-1,-1,2,1,1,1,-1,-2,-1,-1,-1,1,-1,1,1,1,-1,1,1,-2,1,-1,1,-1,1,2,-1,2,-1,1,-1,2,2,1,1,-1,1,1,1,1]
[1,1,1,-2,1,1,-1,1,-1,1,2,-1,2,1,1,1,-1,2,-2,-1,-2,1,-2,1,1,1,-1,-2,1,2,-1,-1,1,1,-1,2,2,1,-1,-1,-1,1,1,-2,-1,1,-1,1,-1,-1,-1,1,2,-1,1,1,1,1,-2,-1,1,-1,-1,-1,-1,-1,-1,1,-1,-1,-1,-1,1,-1,1,-1,1,2,-1,1,-1,-1,-1,1,1,-1,-1,-2,1,1,1,1,1,-1,2,2,1,1,1,-1,-1,-1,1,1,1,1,-2,-1,-1,-2,-1,-1,-1,1,-1,1,1,-1,1,1,1,1,-1,1,-1,1]
[-1,-1,-1,2,-1,-1,1,2,1,-1,1,-1,1,-1,1,-1,1,-1,1,1,1,-1,-1,-1,1,-1,1,-1,-1,1,-1,-2,-1,-1,1,1,1,-1,-2,1,1,1,-1,-1,1,1,1,-1,2,-1,-1,1,1,1,1,2,1,-1,1,-1,-1,1,-2,-1,-1,-1,1,1,-1,2,-1,-1,-1,1,1,-1,-1,-1,2,-1,-1,1,-1,-1,-1,2,-1,-1,1,-1,-2,1,1,1,-2,-1,1,2,-1,2,-1,1,-1,-1,-1,2,1,-1,2,-1,-2,-1,-1,2,2,1,1,1,-1,1,-1,-1,-1,-2,1,-2]
[1,-1,-1,-1,1,-1,1,-1,1,1,1,1,-1,-2,1,1,-1,-1,2,1,-1,-1,1,-1,-1,-1,-1,1,-1,-1,-1,-1,1,-1,1,1,1,1,-2,-1,-1,-2,1,1,-1,-1,-1,-1,-1,-1,1,1,-1,1,2,1,-2,2,1,-2,-1,1,1,-2,1,-1,1,-1,-2,1,1,-1,-1,1,1,-1,-2,-1,-1,-1,1,-1,1,1,2,1,-1,1,1,-1,-1,1,1,1,-1,1,-2,1,-1,1,-1,1,-2,2,-1,-2,1,1,1,1,1,1,2,-2,1,-1,1,1,1,-1,1,1,1,2,-1,-1]
[1,1,-1,-2,-1,1,-1,-1,1,-1,1,-1,1,2,1,1,-2,-1,-1,1,1,1,-1,1,-2,1,-1,2,2,-1,-1,1,1,1,-1,-1,1,-2,1,-2,2,1,1,-1,-1,1,-1,-1,-1,1,-1,-1,1,1,1,-1,2,-1,-1,-2,-1,1,-1,1,-1,1,-1,-1,-2,1,-1,-1,1,2,1,-2,1,1,1,-1,1,1,-1,-1,2,1,-1,1,-1,-2,2,1,-2,1,-1,-1,-1,1,-2,1,-2,-2,1,2,1,2,1,-1,1,-1,1,2,-1,-1,1,1,1,-1,-1,-1,1,-1,-1,-1,1,-1]
[-1,1,1,1,-1,1,-1,1,1,1,2,1,1,-1,-2,1,1,2,-1,-1,-1,-1,-1,1,2,1,-1,-1,1,1,-1,-1,-1,-1,-1,-1,1,1,-1,1,1,-1,2,-1,-1,1,2,-1,1,1,-1,-1,-1,1,-1,-1,-1,1,-1,-1,-1,2,-1,-1,1,2,-1,1,1,-1,-1,-1,-1,1,-1,-1,2,1,-1,-1,1,1,1,-1,1,1,1,-1,-1,-1,1,-1,1,-1,1,1,-1,-1,1,1,-1,1,1,-1,-1,-1,-1,-1,1,-1,-1,1,1,1,-1,1,-1,-1,-1,-1,-1,1,-1,1,-1,1]
[-1,-1,2,2,1,-1,1,1,2,1,-1,1,1,1,-2,1,-1,1,-1,1,1,-1,-1,1,-1,-1,1,2,1,-1,1,1,1,-1,2,1,-1,-2,-1,-1,-1,-2,2,1,-1,1,-1,1,-1,2,-1,-2,2,-1,-1,1,-1,-1,1,1,-2,-1,1,1,-2,2,-1,1,-1,-1,1,-2,-1,1,-1,1,-1,-1,-2,1,1,-1,1,-2,-1,-1,1,1,-1,2,1,-1,-1,1,1,-1,-1,1,-1,-1,1,1,-1,-1,-1,2,-1,1,1,-1,-1,-1,1,-1,1,-1,1,1,1,2,1,2,-1,-1,1,1]
[-1,1,1,1,-1,1,-1,-1,-1,1,-1,1,-1,1,1,1,1,1,1,2,1,-1,-1,-1,-2,1,1,1,1,-2,-1,1,-1,-1,-1,2,-1,2,1,2,1,1,1,-1,-1,-1,1,-1,1,-1,1,1,-1,1,1,-1,1,1,1,-1,2,1,1,1,-2,-1,-1,-1,-1,2,-1,1,-2,2,1,-1,1,-1,-1,1,-1,-1,1,-1,-1,-1,-2,-1,-1,-1,-2,1,-2,-1,-1,-1,1,1,-1,-1,1,-1,1,-1,-1,-1,-1,-1,1,-1,-1,-1,-1,1,-1,-1,-1,-1,-2,-1,-1,-1,1,-1,-1,1]
[-1,-1,-1,-1,-1,-1,1,1,2,1,2,2,-1,2,1,1,-1,2,1,1,-1,1,-1,1,-1,-1,1,1,-1,2,-1,1,1,1,-1,2,-1,2,-1,1,1,-1,-1,-1,1,1,1,1,-1,1,1,2,-1,-2,1,1,-1,1,1,-1,1,-1,-1,-1,-1,1,1,-1,1,2,-1,1,-2,1,-2,1,-1,-1,-1,1,-1,-2,-2,-1,1,1,1,1,-1,1,-1,-2,1,2,-1,1,-1,2,-1,1,-1,-2,-1,-1,2,1,2,-2,-2,1,1,1,-1,-1,-2,1,1,-1,-1,-1,-1,-1,2,-1,1,-1]
[1,1,1,-1,1,2,2,-2,1,1,-1,1,-2,-2,-1,1,1,-1,-1,-1,2,-1,1,-2,1,1,-1,-1,-1,-1,1,2,-2,-1,1,1,1,-1,-1,1,-1,-2,-1,1,1,1,1,1,-1,-1,-1,1,1,-1,1,1,1,1,2,1,-1,-1,-1,-1,-1,-2,1,1,-1,1,2,2,2,-1,1,1,-2,-1,1,1,1,1,-1,1,-1,1,-1,1,-1,1,-1,-1,-1,1,-1,1,-2,1,1,1,1,-1,1,-1,-1,-1,2,-1,-1,-1,-1,1,1,2,-2,1,1,-1,1,1,-1,1,1,-2,2,1]
[-1,-1,-1,1,-1,1,-1,-1,-2,1,-1,-1,1,1,-2,-1,-1,-1,-1,1,-2,1,1,-1,1,-1,-1,-1,1,-1,-1,2,1,-1,1,-1,1,1,-1,-1,1,1,-1,-1,1,-1,-1,-2,2,-1,1,-1,2,-1,1,1,1,2,1,-1,1,-1,-1,-1,1,1,1,-1,1,1,1,1,1,1,-2,2,-1,-1,-1,-1,-1,-2,-1,-1,-2,-1,-1,1,-1,-1,-1,-2,2,-2,1,-1,-1,-1,-1,-1,-1,1,1,-1,-2,-1,-1,1,-1,-2,-1,1,-1,1,-1,-1,-1,1,1,-1,2,1,1,-1,1,1]
[1,1,-1,1,1,-1,-1,-2,-1,1,-1,1,-1,-1,-1,-1,1,-1,2,1,1,-1,-1,-2,1,-1,1,-1,2,-1,1,-2,1,-1,-1,1,-1,1,-2,1,-2,2,-1,-1,-1,1,1,2,2,-1,1,-1,-1,1,1,1,-1,-2,2,2,1,-1,-1,1,-1,-1,1,2,-1,-1,-1,-1,-1,2,1,1,-1,2,-2,-1,-1,1,1,1,2,-1,-1,1,1,1,1,1,1,-1,-1,1,-2,-1,1,1,-1,1,-1,-1,-1,1,1,-2,-1,-1,-2,-1,2,-1,-1,1,1,1,-1,2,1,-1,-1,1,-1,1]
[-1,-1,-1,-1,2,-1,-2,2,1,-1,2,-1,-1,-1,1,-1,1,-1,-1,-1,1,1,1,-1,-1,1,-2,2,1,-1,-2,1,-1,-2,1,1,1,-1,2,1,1,1,1,-1,-1,1,-1,1,1,-1,1,-1,-1,1,1,1,-1,1,-1,-1,-1,1,1,1,1,1,1,-1,-1,-2,-1,-1,1,-2,1,2,-1,1,1,-1,1,-1,1,1,1,1,1,1,1,-1,1,-1,1,1,-1,1,1,-1,1,1,1,1,1,1,1,1,-1,1,-1,-1,1,1,1,1,1,-1,1,1,-1,1,1,-1,1,2,-1,1]
[2,-1,-1,1,-1,-2,-2,1,-1,-1,-2,1,-1,-1,-1,2,2,1,1,-2,1,4,-2,1,1,-1,-1,-1,-2,1,1,-2,-1,1,1,-2,1,1,-1,-1,-1,-1,1,1,1,1,1,1,-2,1,1,2,-2,1,-1,-1,1,1,1,2,1,-1,-1,1,-1,-1,1,-1,-1,1,-1,-1,2,-1,1,-1,2,1,-1,1,-2,1,-1,1,1,-2,-1,1,-1,1,-1,1,1,1,1,1,-1,1,-1,1,2,-1,1,1,1,-1,1,-1,2,-2,-1,1,-2,1,1,1,1,-1,1,2,-2,-1,-1,1,-1,1]
[-1,1,-1,-1,-1,1,1,1,1,1,-1,-1,-2,-2,-1,1,-1,1,-2,1,-1,-1,-1,1,-1,1,-1,1,-1,1,1,-1,1,-1,-1,1,2,1,1,-1,-1,-1,-1,1,-1,-1,-1,2,-1,-1,1,-1,-1,-1,1,-1,-2,2,-1,-1,-1,-1,1,1,-1,-1,1,-1,1,-1,1,-2,-2,1,-1,1,-1,-2,-1,1,-2,1,1,1,-1,1,-1,-1,-1,1,-1,-1,1,1,-1,1,1,1,1,2,1,-2,1,-1,-2,1,-1,-1,1,-1,-1,-1,-1,1,-2,1,-1,1,-1,1,-2,-1,-1,-1,-1,-1]
[-1,-1,2,-1,-1,1,1,-2,-1,1,1,1,1,-1,2,1,-1,1,2,-1,-2,1,-1,2,1,-1,1,-1,-1,-1,-1,1,2,-1,1,1,2,1,1,-1,-1,-2,-1,-1,-1,1,-1,1,-1,-1,-1,-1,-1,1,-1,1,-1,1,-1,1,-2,1,-2,4,-2,2,-1,1,1,-1,-1,-2,2,-1,2,-1,1,1,-1,1,1,2,-1,1,1,-1,1,-1,1,-2,-2,-1,-1,-1,-1,1,1,-1,-1,1,-1,-1,-1,-2,1,2,-1,2,1,1,1,-2,-1,-1,2,1,2,-1,-1,1,-1,1,1,2,1,-1]
[-1,1,-1,-1,-1,1,-2,-1,1,-1,-2,-1,-1,1,-1,-1,-2,1,-1,-1,1,1,-1,1,1,1,1,1,-1,1,-1,1,-1,2,1,-1,2,1,1,-1,1,1,1,1,-1,-1,-1,1,1,1,1,-1,-1,1,1,-1,-1,-1,-1,-1,-1,-1,-1,1,-1,2,2,-1,1,-2,-2,-1,-2,2,1,2,2,1,2,1,-1,-1,-2,-1,-1,1,1,1,-1,-1,-2,-1,-2,1,1,2,-1,1,1,1,1,-2,-1,-1,-2,2,1,-2,2,1,-1,-1,1,1,1,1,-1,1,2,-1,2,-2,-1,1,1,-2]
[1,-1,2,-1,1,-1,-1,-1,1,1,-1,-1,-1,2,1,1,-1,1,-1,-2,-2,1,1,1,1,1,1,-1,-2,-1,1,1,-2,-1,2,1,1,2,-1,-2,-1,-1,-1,-1,-1,-1,-1,-1,1,1,1,1,1,-1,1,1,1,2,-1,1,1,-1,1,1,-1,2,1,1,1,-2,1,-1,1,1,1,1,2,2,1,-1,-1,1,-1,-1,1,-1,-1,2,1,1,1,-1,1,-1,1,-1,1,2,-1,2,1,1,1,1,1,2,1,1,-1,-2,-1,1,-2,1,-2,-1,-1,-2,1,1,-1,-1,1,1,-2,-1]
[1,2,1,1,-1,-1,1,1,-1,-1,-1,1,1,1,1,1,2,1,2,1,1,-1,1,-1,-1,1,-1,1,1,-1,1,-1,1,-1,1,-1,-1,1,-1,-2,-2,-1,1,1,1,-1,-1,1,2,1,1,-2,1,-1,1,1,1,-1,1,1,2,-1,-1,-1,1,1,1,-1,-1,1,-1,1,-2,1,-1,-1,1,-1,1,1,-1,1,1,1,1,-1,-1,1,2,-1,-1,-1,-1,-1,1,-1,1,-1,-1,-1,-1,1,1,-1,1,-2,1,-2,2,-1,1,1,1,-1,1,-1,1,1,-1,1,1,1,-1,-1,-1,1]
[-1,1,1,-2,1,1,-1,-1,1,1,1,1,-1,-1,1,1,-1,1,1,-1,-1,1,-1,1,1,-2,-1,2,-2,1,-1,-1,2,-1,-1,1,-2,-2,-1,1,2,1,1,2,1,1,1,1,1,1,-1,1,1,-1,1,-1,1,1,1,-1,-1,1,-1,-1,-1,-1,-1,-1,1,-1,1,1,-2,1,-1,-1,-2,-2,-1,-1,-2,-1,-1,-1,1,-1,1,-2,-1,1,1,-1,1,-1,-1,-1,1,-1,1,1,1,-1,-1,1,2,-1,1,1,1,-1,1,-1,1,-1,-1,1,-2,1,-2,-1,-1,-1,-1,-1,1,-1]
[2,1,-2,-1,1,1,-1,-1,1,-1,-1,2,-1,-1,-1,-2,1,1,1,1,1,-1,1,1,-2,1,-1,-1,-1,2,2,1,-1,-2,-1,-1,1,-1,1,-1,-1,-2,2,-1,-1,1,2,-1,2,-2,-1,1,1,2,-1,1,1,1,-1,-1,-1,2,-1,-1,-2,1,-1,-1,1,1,-1,-1,2,1,1,1,-1,1,-1,-1,2,1,-1,1,-1,-1,-1,-1,1,-1,-1,-1,1,1,-1,1,1,-1,1,1,1,-1,-2,1,1,1,1,1,1,-1,-1,-1,-1,1,1,-1,1,-1,2,-1,1,1,-1,2,1,-1]
[1,-1,-1,-1,-2,-1,1,-1,-1,1,2,1,-1,1,2,2,-2,1,1,1,1,1,-1,-2,-1,2,1,-2,-2,-1,-1,1,1,1,2,1,2,-2,1,2,-1,1,-1,-1,1,1,1,1,-1,1,1,-1,1,-1,2,-1,1,-1,-1,-1,2,1,-1,1,1,-1,-1,-2,-1,-2,1,1,1,1,2,1,-1,2,2,-1,1,-1,-1,-1,-2,1,1,-1,-1,-1,1,1,-1,1,-1,1,-1,1,-1,1,-1,1,1,2,-1,-2,1,-1,-1,-2,-1,1,-1,1,-1,-1,1,-1,1,1,2,-1,-1,2,1,-1]
[1,-1,1,-1,-2,-1,-2,-2,-1,2,-1,1,-1,1,1,-2,2,-2,1,-1,1,2,-2,2,-2,1,1,-1,1,1,-1,-1,-1,1,1,-1,-1,2,-1,-2,-1,-2,-1,2,-1,1,1,1,1,1,-1,-1,-1,1,-1,-1,1,-1,-1,-2,1,1,2,2,2,-1,2,1,1,1,1,-1,1,-2,-2,-1,1,-1,-2,2,-1,1,1,-2,-4,-1,-1,-1,-1,1,-1,-1,-1,-1,1,-1,1,1,1,1,2,2,1,1,1,2,1,-1,-1,1,-1,-1,1,2,-1,1,1,1,-2,-2,-1,1,-1,-2,-1,-2]
[1,-1,-2,-2,1,-1,-1,1,1,2,-2,1,1,1,1,1,1,-1,-1,1,1,1,-1,-1,-2,1,1,4,-1,-1,1,-2,1,-1,-1,-2,-1,1,-2,-1,2,1,1,1,2,-1,1,2,1,-1,-1,2,1,1,1,-1,1,-1,1,1,1,1,1,1,1,-1,-1,1,-2,2,2,-1,1,-1,-1,-1,-2,1,-1,1,1,1,1,2,-2,2,-1,1,2,-1,1,2,1,-2,1,-2,-2,1,1,1,1,1,-1,2,1,-1,-1,-2,-1,2,-2,2,1,-2,-1,1,-1,1,-1,1,-1,-1,1,1,2,1]
[-2,1,-1,1,2,-1,1,-1,1,1,-1,1,-1,2,1,-1,1,-1,1,-1,-1,-1,1,1,2,-1,1,-1,-1,1,-1,1,1,-1,-2,-1,-2,-1,2,1,-1,-1,-1,1,-1,-2,-1,1,1,-1,-1,-1,-2,-2,-1,-1,1,1,-1,-1,1,-1,-1,-1,2,1,1,-2,1,2,-1,1,-1,-1,1,1,-1,-1,-1,1,2,-1,-1,-2,-1,-1,-1,-1,2,1,1,-1,1,1,-2,-1,1,1,2,-1,-1,-2,-2,1,-1,-1,-2,1,-1,-1,1,1,1,1,-1,2,1,-1,-2,-1,1,-1,-2,-1,1,-1]
[2,-1,1,1,-1,-2,-1,-1,1,-1,-1,1,2,1,-1,2,1,-2,-1,1,1,1,1,2,-1,-1,-1,-1,-1,1,-1,-1,-1,1,1,-1,-2,1,-2,-1,-1,-1,-1,1,-2,2,2,1,-1,1,1,-1,-1,-1,1,-1,1,-1,-2,1,-1,1,-1,1,-1,-1,2,1,-1,1,1,-1,1,-1,1,1,-1,2,1,2,1,-2,-1,-1,-2,1,-1,-1,1,-1,-1,-1,1,-1,-1,-1,-2,1,-1,-1,-1,-1,-1,2,1,-1,-1,-1,1,1,1,-1,1,1,-1,1,1,1,1,-1,1,1,-1,-1,1,1]
[1,-1,-1,1,-2,-1,1,-1,-1,1,1,1,-1,-1,2,-1,1,-1,-2,1,1,-1,-1,-1,-2,1,1,-1,1,1,-2,-1,-1,1,1,1,-1,1,1,-1,-1,-1,1,-1,1,-1,1,1,-2,-1,-2,1,1,1,1,-1,1,1,-1,-1,-1,1,-1,1,2,1,1,-1,1,-1,-1,1,1,-2,1,2,2,1,-1,2,-2,1,1,1,1,-1,1,1,-1,1,-2,-1,-1,1,-1,1,-1,1,2,2,1,1,1,1,-2,1,1,1,-1,-1,-1,-1,-1,-1,1,1,1,-1,1,2,-2,-2,-1,-1,-1,1]
[-2,-2,1,-1,-1,2,1,2,2,-1,-1,-1,-1,-2,-1,-1,-1,-1,-1,1,1,1,-1,1,1,1,1,-2,-1,1,1,-1,-1,-1,-1,-1,-1,-1,1,-2,-2,-1,-1,-1,2,-1,-1,2,-1,-2,-1,-1,-1,-1,-1,-1,-1,1,1,1,-1,1,-1,-1,1,1,-1,1,1,1,1,1,1,1,-1,-1,1,1,-1,-1,-1,1,-1,-1,1,-2,1,1,-1,-1,2,-1,-1,1,1,1,1,-1,1,-1,-1,2,1,-1,2,1,1,-1,1,-1,1,-1,-1,1,2,-1,1,-1,1,1,-2,2,2,-2,1,-1]
[1,1,-1,1,2,1,1,1,-1,1,-2,-1,2,1,-1,1,1,1,-2,-1,1,1,-1,1,1,-1,1,-1,1,1,1,-1,-1,1,-1,-1,-1,-1,-1,-2,-1,-1,-1,-1,-1,1,2,1,1,-1,1,1,1,1,-1,1,-1,1,1,-2,-1,-1,1,-1,1,1,-1,-1,-1,1,-1,1,1,1,-1,-1,2,-1,-1,-1,-2,-1,-1,1,4,-1,-1,1,1,-1,1,-1,-2,2,-1,1,1,-2,1,-1,-1,-1,1,-2,-1,-1,-1,1,2,2,-1,1,1,1,1,-1,-1,2,1,1,1,1,2,-1,1,-1]
[-1,-1,-1,-1,-1,-1,-1,1,1,1,1,-1,-1,-1,1,-1,-1,1,-2,-1,1,1,-1,1,1,-1,1,-1,2,2,-1,-1,1,-2,-1,-1,1,-1,1,1,2,1,1,-1,-2,-1,-1,1,1,-1,-1,1,-1,-1,-1,-1,-1,1,-1,1,1,1,2,1,-2,1,1,1,1,1,1,2,1,2,1,-1,-1,-1,1,-1,-1,2,-1,1,-2,1,1,1,-1,-1,1,1,1,-1,1,-1,-1,-1,-1,1,1,1,1,1,-1,2,-1,-2,-1,1,-1,-1,1,-2,-1,-1,1,1,1,1,-1,-1,1,-1,-1,-2]
[-1,-1,-1,1,1,-1,-1,2,-2,1,1,-1,-1,-1,1,1,-2,1,-1,1,1,1,1,1,1,1,2,1,1,-2,-1,1,-1,-1,-1,1,2,-2,-1,-1,1,1,-2,-1,-1,-1,-1,-1,-1,1,-1,1,1,2,1,1,2,1,-2,-1,-1,1,-1,1,-1,-1,-1,1,1,-1,1,-1,1,1,1,-1,-1,1,-1,-1,-1,1,-1,1,-2,-1,1,1,2,-1,1,1,1,1,1,1,-1,-1,2,1,-2,1,1,-1,-2,1,-1,1,1,-1,1,-2,1,-1,-1,-1,-1,1,2,1,-1,-1,1,-1,-1,-1]
[1,1,1,-1,1,-1,2,-1,1,-1,-2,-1,-1,1,1,1,-1,-1,1,1,-1,2,1,1,-1,2,1,2,-2,1,1,1,1,-1,1,1,1,-1,-1,-1,-1,1,2,1,-1,-2,-1,1,1,-1,1,1,1,1,-2,-1,-2,1,-1,-1,-1,1,1,2,-1,-1,-2,1,1,-1,1,-1,-2,-1,1,-1,1,-1,-1,-1,1,1,1,-1,4,-2,-1,1,-1,-1,2,-2,1,-1,1,-1,-1,-1,1,-1,1,-1,1,-1,2,-1,1,1,-1,-1,-2,1,1,-1,1,-1,2,1,1,-1,-1,1,-2,-2,1,-1]
[-2,-1,-1,1,-1,1,-1,1,-1,1,-1,1,-1,1,-1,-1,1,-1,1,2,1,-1,1,2,1,1,1,-1,1,-1,-1,1,-1,-1,2,1,1,1,-1,-1,-1,1,1,1,-2,-1,1,1,-1,-1,-1,1,-1,1,1,1,1,2,1,-1,-1,-1,1,-1,1,1,-1,-1,-1,1,1,1,1,-1,-1,-1,-1,-1,2,1,1,1,-1,1,2,1,1,-1,-2,1,-1,-1,1,-1,1,-1,1,1,1,-1,-1,-1,-1,-2,1,-2,-1,1,1,1,2,-1,-1,-1,-1,-1,-1,1,-1,-1,-1,1,1,1,2,2]
[1,-2,-1,2,1,1,1,-1,2,-1,-1,-1,-1,2,-1,-1,1,1,-1,-1,-1,2,-1,-1,1,-2,-1,1,-1,-1,1,-1,1,1,2,1,-2,1,1,1,-1,-1,-1,-1,-1,-1,1,-1,1,1,1,1,-1,1,-1,-1,-2,1,-1,2,1,1,1,-1,2,-1,-1,-1,-1,1,-1,-1,-1,2,1,-1,-1,-1,-1,1,-1,1,1,-1,-1,2,-1,-1,1,2,-1,1,1,-1,1,-1,1,1,1,-1,-1,1,1,-1,-1,-1,1,-1,1,-1,2,-1,-1,1,1,-1,-1,-1,-1,-1,1,1,1,-1,1,-1]
[1,-1,2,-1,-1,2,-1,-1,1,1,1,-1,-2,-2,-1,1,-1,-2,-1,1,-1,1,2,1,1,-2,1,-1,-1,1,1,1,-1,-2,1,1,1,1,-1,-2,1,1,-2,2,-1,1,-2,1,-2,2,2,1,-1,1,1,1,-2,1,-1,1,-1,-1,1,-1,2,-1,2,1,-1,-1,1,1,1,2,1,-1,1,-1,2,-1,1,1,-1,2,-2,-1,1,1,-1,-1,-1,1,2,1,-2,-1,-1,1,1,-2,-2,-1,-1,1,1,1,-1,-2,1,-2,1,-1,2,-1,1,-1,1,1,-2,1,1,1,1,-1,-1,-2]
[2,2,1,1,1,1,-1,-2,-1,1,1,1,1,-1,-1,1,-1,1,1,-1,1,1,1,1,-1,1,2,1,1,1,1,-1,1,1,-1,-1,2,-1,1,1,-1,1,2,-1,2,-2,1,-1,1,2,1,-1,1,-1,-1,1,-2,-1,-1,1,-1,1,1,-1,1,-1,-1,-1,-1,2,1,1,-1,-2,-1,1,-2,-1,1,-2,-1,-1,1,-1,1,-1,-1,-2,-1,-1,-1,1,1,1,-1,-1,-1,-1,-1,1,1,-1,1,1,1,-1,1,1,1,-1,-1,-1,-1,1,-1,-2,-1,-1,1,1,1,1,-1,1,-1,-1]
[2,-1,1,-1,1,-1,2,1,-1,-1,-2,1,1,1,1,-1,-1,-1,1,-1,1,1,-1,1,2,-1,1,-1,-2,2,1,-2,-1,-1,-2,-2,1,1,-1,1,-1,1,-1,-1,-1,-1,1,1,-1,1,-1,1,1,-1,2,1,-1,2,-1,-1,-1,-1,-2,-2,1,2,1,1,1,-1,1,-1,2,-1,1,-1,-1,-1,1,1,1,-2,1,1,2,-1,2,-1,-1,1,-1,-1,-1,-1,1,-1,2,1,-1,-1,-1,-1,1,-1,-1,-1,1,-1,1,-1,-2,1,1,-1,-1,-1,-1,2,-1,1,-1,1,1,1,1,1]
[-1,-1,-1,-2,1,-1,1,-2,1,1,1,-2,1,-1,-1,1,-1,1,1,1,1,-1,1,-1,-1,1,-2,-1,-1,1,-1,2,1,1,1,-2,1,1,2,2,1,1,1,1,1,-1,1,1,-2,-1,1,-1,1,1,-1,-1,-1,1,-1,1,-1,-1,-1,-1,1,1,-1,-1,-2,-1,-1,-2,-1,1,1,1,-1,1,-1,-1,-1,1,-1,1,1,1,-1,-2,-1,-1,1,1,1,-1,2,2,1,-1,1,1,1,-1,-1,2,1,1,-1,-1,1,-1,-1,1,1,1,1,-1,-1,1,-1,-1,1,-1,1,1,-1,1]
[1,-1,-1,-1,-2,-1,-2,1,-1,-1,1,-1,1,1,-1,-1,-1,-1,-1,2,-1,2,1,-2,-1,-1,-1,1,1,-1,-1,-2,1,1,1,-1,1,1,-1,1,1,-1,4,-2,-1,-1,1,1,-1,1,1,-1,1,-2,1,1,-1,1,1,-1,-2,1,2,2,2,1,-1,-1,1,1,1,2,1,-1,1,-1,-1,1,2,-1,1,-1,1,1,4,-1,-1,-2,1,1,-1,-1,1,-1,1,-1,1,1,-2,-1,-1,-1,-2,-1,1,2,-2,-1,1,-1,2,-1,-1,2,-1,1,-1,-1,-2,1,4,-1,1,-1,1,1]
[-1,1,-2,1,-1,-1,1,1,2,1,-1,-1,-1,-1,-1,1,-1,-1,-1,2,-1,1,1,-1,-1,1,2,-1,1,2,1,1,-1,1,-2,-1,-2,1,1,-1,1,-1,-1,-1,1,1,-1,-2,-1,-2,-1,1,-1,1,1,-1,1,1,2,-2,-1,-1,1,-1,1,1,-1,2,-1,-1,-1,1,1,1,1,1,1,-1,-1,1,1,1,1,1,1,-1,-1,2,2,1,-2,1,1,-1,1,2,-1,-1,1,-1,-1,-2,2,-1,1,-1,-1,2,-2,1,-1,1,-1,2,1,1,-2,1,-2,1,1,2,-2,-1,1,-1]
[1,1,-2,-1,1,1,2,1,-1,1,-2,-1,-1,1,-1,1,2,-1,1,1,1,1,1,-2,1,-1,-1,1,-1,1,1,1,-1,1,-1,1,-2,1,1,-1,-1,2,1,-1,1,-1,-1,1,1,-1,1,-1,-1,-1,-1,-2,-1,1,1,-1,-1,-2,1,1,-1,1,-1,-1,-1,-1,1,2,1,-2,-2,2,1,-2,-1,2,1,-1,1,1,1,-1,-1,-1,-1,1,2,-2,1,-1,-1,-1,1,-1,1,1,1,2,1,-1,1,-1,1,-1,1,-1,2,1,1,2,-1,-1,-1,-1,-1,-1,1,2,-2,-1,-1,1]
[4,-1,-1,-1,1,1,1,-1,-1,2,-1,-1,-1,-2,1,-1,1,-1,2,1,-1,4,1,1,1,-2,2,-1,-2,1,-1,-2,1,-1,1,1,2,1,-1,-1,1,-1,1,-1,1,-2,-1,-1,-2,1,-2,-1,-2,1,-2,1,-1,-2,1,-1,1,-2,-1,2,1,-2,1,1,1,-1,-1,1,-1,-2,-1,-1,1,1,1,1,1,-1,1,1,2,-1,-1,2,1,-1,-1,-1,1,-1,1,1,1,-1,1,1,2,-1,1,1,-1,2,-2,-1,1,-1,-1,-1,1,-2,2,-1,1,1,-2,-1,-1,-1,-1,-1,1,1]
[-1,-1,1,-2,1,-1,1,1,-1,-2,-1,1,-2,1,-1,2,1,-1,-1,-1,-1,-2,2,-1,1,-1,-1,-1,1,1,-1,-1,2,-1,-1,-1,1,1,-1,-1,1,1,2,1,-1,-1,2,2,-1,1,2,-1,-1,-1,-2,-1,-2,-1,1,-1,-1,-1,-1,1,-1,-1,-1,-1,2,1,-1,1,-1,-1,2,1,-2,-2,-1,2,-1,-1,-1,-1,1,2,1,1,-1,-1,1,-1,-1,1,1,-1,1,1,-1,1,2,-1,1,2,-1,1,1,1,-1,1,2,-1,-1,-1,1,1,-1,1,1,-1,-1,2,1,-1,1,1]
[2,2,1,2,-1,-1,-1,-1,-1,-1,1,2,1,1,1,-2,-1,-1,-1,1,1,2,1,-1,-1,-1,-1,-2,-2,1,-1,-2,1,-1,-1,-2,1,-1,1,-1,-1,-1,1,-1,-2,-1,1,1,2,1,2,-1,-2,1,1,-1,1,-1,2,1,-1,2,-1,-1,1,-2,1,-1,1,-1,-1,2,1,-1,1,-1,-1,-1,-1,2,-1,1,1,-1,4,-1,-1,-1,2,-1,-1,-2,-1,-1,1,2,-2,-1,1,-2,1,1,-1,-1,-1,-1,-1,1,2,2,1,-1,-1,1,1,-1,-1,1,1,-2,-2,-1,1,-1,-1,1]
[2,2,1,-1,-1,1,1,-2,1,2,-1,-1,-1,-2,-2,2,1,-2,1,1,1,4,1,1,2,1,-1,1,1,1,1,-1,1,-1,-1,-1,-1,-1,-1,1,-2,1,2,1,1,2,-2,-1,-1,-1,-1,-1,-1,1,-1,-2,1,1,1,-1,1,-1,1,1,-1,1,1,2,-2,1,2,1,1,1,-1,-1,-1,-1,-1,1,-1,1,1,2,-1,2,-1,2,1,1,-2,1,-2,-1,-1,-1,1,-2,-2,-1,2,2,1,-1,-1,1,-2,1,-1,-1,2,1,-2,1,1,1,1,1,-1,-1,-1,1,1,-1,1,1]
[-1,1,1,-1,1,-1,-1,-2,1,-1,1,2,1,1,-1,1,-1,1,-1,1,1,-2,1,2,-1,-1,1,-1,1,-1,-1,-1,1,1,1,1,1,-1,1,-1,-1,-1,-1,1,-1,1,-1,2,-1,-1,1,1,-1,2,-1,-2,-1,-1,1,1,1,-1,1,-2,-1,1,1,1,1,1,-1,1,-1,-2,2,-1,-2,1,-1,2,-1,-1,1,1,1,1,-1,1,-1,1,-1,-1,1,-1,1,1,-2,-1,1,1,1,1,1,1,1,-1,1,-1,-1,1,1,-2,1,-1,-1,-1,2,-1,-1,1,-1,1,-2,1,-1,-1]
[-1,1,1,2,-1,-1,-1,1,-1,1,-1,1,-2,1,-1,-1,-1,-2,-1,-1,-1,-1,1,-1,1,-1,2,1,-2,-1,-1,-1,-1,-2,-2,-1,-1,1,-2,-1,-1,2,2,-1,1,1,-1,1,-1,-1,-1,2,-1,-1,-2,1,1,1,-1,-2,1,-1,1,-4,1,-1,1,1,2,-1,-1,2,1,-1,1,-1,1,-1,-2,1,-1,-1,2,1,-1,1,1,1,-1,-1,1,-1,-1,-1,1,1,1,-2,1,1,1,-1,-1,1,1,-2,-1,1,-1,1,2,-1,1,2,-1,1,1,-1,-1,1,-1,-1,-2,-1,-1,2]
[-1,2,-2,1,1,-1,-1,-1,-1,-1,2,1,-1,-1,1,-1,-1,1,1,1,-2,2,-1,1,-1,1,-1,-1,-2,1,-1,-2,-1,-1,1,1,-2,1,-1,-1,2,-1,-1,-2,-1,1,1,-1,1,1,2,-1,1,-1,1,-1,1,1,-1,-2,1,-1,-1,-1,-1,1,-1,1,-1,1,1,1,1,-1,1,-1,-1,-1,-1,2,1,2,1,1,2,2,-1,-1,-1,2,-1,1,1,1,-1,2,-1,1,1,2,-1,2,1,1,1,-1,1,-2,1,-1,-2,1,-1,1,1,1,-1,1,-1,-1,-1,1,1,1,1,-1]
[-1,1,-1,1,1,-1,-1,1,1,1,-1,1,-1,1,-1,1,-2,-2,2,1,-1,-1,-2,1,-1,-1,1,-1,1,1,-2,1,1,-1,1,-1,1,-1,-1,1,1,1,1,-1,-1,-1,1,-1,-1,1,2,1,1,1,1,-1,1,-1,1,-1,-1,1,1,1,1,-1,-1,1,-2,-1,-1,-1,-1,-1,2,-1,1,-1,-1,-1,1,1,-1,1,-1,1,-1,-1,1,1,-1,-1,-1,1,1,1,1,1,-1,-2,1,1,-1,-1,1,-2,-1,-1,1,1,1,2,1,-1,1,1,1,-1,1,1,-1,1,1,1,1,1]
[1,-1,1,1,-1,-1,1,1,-1,-1,1,1,-1,-1,1,1,-1,-1,2,-1,-1,1,-1,-1,1,-1,-1,-1,-1,2,-1,1,1,1,1,-1,-1,1,-1,-1,1,1,-1,1,-1,-1,-1,-2,1,1,-1,1,1,-1,2,1,1,1,-1,1,1,-2,-1,-1,-1,1,-1,1,-1,-1,-1,-1,2,-1,-1,-1,-1,1,2,-1,-1,-1,-2,1,-1,1,1,2,1,-1,1,-2,1,-1,-1,1,1,2,1,-1,1,1,1,1,1,1,1,-2,1,-1,1,1,1,1,-2,2,1,1,1,2,1,1,-1,1,-1,-2]
[1,1,-1,1,1,-1,1,1,-1,-1,1,1,1,1,1,1,2,-1,2,1,1,-1,1,2,-1,-1,1,-1,1,1,1,1,2,-1,1,-1,1,-1,1,1,-1,-1,-1,1,1,1,2,1,1,1,-1,1,-2,1,1,-1,2,1,1,1,1,-1,1,1,-1,1,1,1,1,-1,1,-1,1,1,-1,-1,-1,-1,2,-1,-1,1,1,-1,1,1,-1,-1,1,-1,1,-1,-1,-1,1,1,-2,1,1,1,1,2,1,1,-1,-2,-1,1,1,-1,-2,-1,1,2,-1,1,-1,-1,-1,-1,1,-1,1,1,1,1]
[2,1,1,-1,-1,2,1,-1,-1,1,-2,-1,-1,-1,-1,-1,-1,-1,-2,1,1,1,1,-1,-1,-2,-1,-1,-1,-1,1,1,-1,-1,1,2,-2,1,-1,-1,-1,-1,1,1,-1,1,-1,-1,1,-2,1,-1,1,1,1,2,-1,-1,1,1,-2,1,-1,-1,-1,1,1,-2,1,-1,2,1,1,-1,1,-1,-1,-1,1,1,-1,-1,-1,2,1,-1,-2,2,1,1,-1,-1,1,-1,1,2,-1,-1,-1,1,-2,-1,-1,-1,2,-1,-2,-1,1,-1,-1,2,1,-1,-1,1,-1,-1,-1,-1,-1,-1,-1,2,1,-1]
[1,1,-1,2,-1,-1,2,1,-1,-1,1,2,-1,1,1,-1,-1,1,-1,-1,-1,-1,-1,-1,1,-1,1,-1,-1,1,1,1,-1,-1,1,-1,-2,-1,-1,-1,1,-1,-1,1,-1,-1,-2,2,-2,1,1,1,-1,1,-1,-1,1,1,2,-1,1,-1,2,-1,-1,1,1,-1,1,-2,1,1,1,1,-1,1,-1,1,1,1,2,-1,-1,-1,1,-1,2,2,-1,1,1,1,-1,1,-1,-2,1,1,-1,-1,-1,1,-1,-1,-1,-1,2,-1,-2,-1,1,1,-1,-1,1,2,1,-1,1,1,1,-1,1,-1,1,-2]
[1,1,1,1,-1,-1,-1,1,1,-1,2,-2,-1,-1,1,2,2,1,-1,-1,2,1,1,-1,2,1,2,-2,1,-1,1,-1,-1,-1,2,-1,-1,1,-1,-1,1,-1,1,-1,-1,1,-1,-1,1,-1,-1,1,-2,1,-1,1,2,-1,1,1,-1,1,-1,1,-1,-1,-1,1,1,2,1,-1,1,-1,-2,2,1,1,-1,-1,1,-1,1,1,-1,1,1,1,1,1,-1,1,1,2,1,-1,1,1,-1,2,-1,1,1,-1,-1,2,-1,-1,2,-2,-1,1,1,-2,-1,-1,-1,1,1,2,-2,2,1,1,1,-1]
[1,-1,1,-1,-1,-1,-1,-1,-1,-1,-1,2,-1,-1,1,1,-1,-1,-1,-1,-1,-1,-1,-1,-1,1,-2,2,-1,-1,-2,-1,1,-1,1,1,-1,-1,2,1,1,-1,-1,-1,1,-1,1,-2,-1,-2,-1,-1,-1,-1,-1,1,1,1,1,-1,-2,1,1,-1,-1,1,-2,1,-1,1,-1,1,-2,-1,1,-1,1,1,1,2,2,-1,-1,-1,1,1,1,1,-2,1,1,1,-1,-2,1,1,1,-1,1,-2,-1,-1,1,-1,2,-1,1,-1,1,-1,1,-1,-1,1,1,1,-1,1,1,-1,-1,1,-1,2,1,1]
[-2,1,-1,1,-2,-2,2,1,-1,-1,-2,1,-1,-1,-1,2,-2,2,-1,-1,1,-2,-1,-1,-1,-1,-1,-1,-1,1,1,-1,-1,-1,-1,-1,1,-2,-1,-1,-2,-1,-1,1,-1,-2,1,-1,1,1,1,1,1,1,-1,-1,-2,-1,-2,2,-1,1,1,1,-1,1,-1,1,2,1,-1,1,2,-1,2,-2,-1,1,1,1,-1,-2,1,1,1,-1,1,1,1,1,1,1,-1,2,-1,-1,-1,1,1,2,-1,1,-1,-1,1,-1,1,-1,1,1,-1,-1,1,1,1,-1,-1,-1,1,2,-1,-1,-1,1,2,1]
[1,2,-1,1,1,-1,-1,1,-1,-1,1,-1,-2,-2,2,-1,-1,1,-1,-1,-1,-1,-1,1,1,-2,1,1,1,1,2,1,1,2,-1,1,1,1,1,-1,1,-1,1,-1,1,1,1,-1,1,-2,2,1,1,2,1,1,1,1,-1,-1,1,-1,-1,-1,1,1,-1,1,-1,-1,-1,-1,1,1,1,-1,1,-1,-1,-1,1,-1,-1,1,-2,-1,1,-1,1,1,1,1,-1,2,-1,-1,1,1,-1,-1,-1,1,1,2,-1,-1,1,2,1,-1,1,1,1,-2,1,-1,-1,1,1,1,-1,-1,1,-1,-2,-1]
[1,-1,1,-1,1,-1,-1,-1,1,-1,-1,-1,1,-2,1,-1,-1,-1,1,-1,1,2,2,-1,-1,-1,1,2,-1,1,-1,-1,1,-1,-1,1,-2,1,1,2,-1,1,1,-1,2,-1,2,1,-2,-1,1,-1,2,-1,-1,-1,-1,2,1,1,2,1,-1,-4,1,-1,-1,-1,-1,1,1,-1,-1,-1,-1,1,1,1,1,-1,-1,2,-1,-1,-1,1,1,1,1,-1,1,-1,1,-1,-1,-1,-1,1,2,1,-1,2,-1,-1,1,-2,-1,1,1,-1,-1,-1,-2,1,1,1,1,-1,-1,-2,1,1,2,1,1,-1]
[1,-1,1,-1,1,1,-1,-1,-2,-1,2,1,1,-1,-1,-1,-1,1,1,-1,1,2,1,-1,1,1,-1,2,-1,1,2,2,-1,1,1,2,1,-1,1,-1,1,1,-1,1,-1,-1,1,1,1,-2,1,1,1,-1,-1,-2,1,-1,-1,1,1,1,1,-1,1,1,1,1,-1,1,-2,-1,1,-2,1,-1,-1,1,-1,1,1,-1,1,1,-1,-1,-1,1,-2,-1,1,-1,1,-1,1,1,1,-2,1,1,1,-1,-1,2,-1,1,1,1,-1,-1,1,1,-1,-2,-1,2,1,1,-1,-1,-1,-1,-1,1,1,1]
[1,-1,1,-1,1,-1,-1,1,-1,1,-1,1,-1,-1,-1,-1,2,2,-1,-2,1,1,1,1,-1,-2,1,-1,-1,1,-1,1,-2,-1,-2,-1,1,1,1,1,-1,-1,-1,-1,1,1,1,1,-1,1,1,1,2,-1,1,2,1,-2,1,2,-1,-1,-1,-2,1,1,1,-1,-2,-1,2,1,-2,1,-2,2,1,-1,1,-2,2,1,1,-1,-2,-1,-1,1,1,-1,1,1,-1,-1,-1,1,1,1,1,1,1,-1,1,-1,-1,1,-1,1,-1,-1,-1,-1,-1,1,1,-1,-1,1,1,1,-1,-1,-1,1,1,2]
[-2,-2,1,-1,-1,1,1,-1,2,1,2,1,2,-1,-1,-2,2,1,2,-1,1,-1,1,-1,1,1,-1,-1,1,1,1,1,-1,-1,-1,-1,-1,-1,2,1,-1,-1,-2,-1,-1,2,1,1,1,2,2,-2,-1,-2,2,-1,-2,-1,-1,-1,1,1,-1,-1,-1,1,2,-1,-1,-1,1,2,1,-1,1,2,-1,1,1,-1,-1,1,-2,-1,-1,-1,-1,1,-1,1,1,1,1,1,1,-1,2,-1,1,1,-1,2,1,-1,2,-2,1,1,-2,1,-1,1,2,1,-1,-1,1,2,1,-1,1,2,-1,2,1,-1]
[2,1,1,-2,1,-2,1,-1,1,-1,-1,1,-1,-1,1,1,1,1,2,1,1,2,1,1,1,1,-1,-1,-1,1,-1,1,-1,1,1,2,1,-1,-1,1,1,1,-1,-2,-2,-1,-1,-2,2,-1,1,-1,-1,-1,1,-1,-1,-2,1,2,1,1,1,2,-1,1,-1,1,-1,-1,-2,1,-1,1,1,-1,-1,-1,2,-1,1,1,1,1,-2,1,1,-1,-1,1,-1,-1,-1,-2,-1,-2,1,-1,-2,-1,-1,1,2,-1,1,1,1,1,-1,1,-1,1,1,1,-2,1,1,-1,-2,1,1,-1,2,-1,-1,1]
[-1,-2,1,-1,-1,1,-1,-1,-1,-1,1,-1,1,1,1,2,1,2,-1,-1,1,1,-2,1,2,1,1,1,1,-2,1,-1,-1,1,1,-2,-1,-1,-1,-1,-1,1,-1,-1,1,-2,1,1,-1,1,-1,1,1,-1,-1,1,1,-1,1,-1,1,-1,2,-1,-1,1,1,1,-1,-1,-1,1,-1,-1,2,2,-1,1,1,-1,-1,1,1,-2,1,-1,-1,-1,-1,1,-1,-2,-1,-1,-1,-1,1,-1,-1,2,-1,-1,-1,-1,-2,1,-1,1,1,-1,1,-1,1,1,2,-1,1,-1,1,1,-1,-1,1,-1,-1,-1]
[4,1,-2,1,1,1,-1,1,1,-1,-1,-1,-1,-1,1,1,-1,1,-1,1,-1,2,-1,1,-2,1,-1,1,1,1,-1,-1,-1,1,-1,1,-1,-1,1,1,1,-1,-1,2,1,-2,-1,-1,-2,2,-2,1,1,1,-1,-1,1,1,-1,-1,-1,1,1,-1,-1,-1,-2,-1,1,1,1,2,-2,1,1,1,-1,1,1,1,2,1,1,-1,1,1,-1,1,1,1,1,-1,-1,1,-1,-1,1,-1,2,-1,1,-1,1,2,1,-4,-1,2,-1,-1,1,-1,-1,2,2,2,-1,1,1,-2,-1,1,-1,1,2,-1]
[-1,-1,-1,-1,-2,1,-1,1,1,1,1,-1,1,-2,-1,1,1,2,2,1,-1,-2,-1,-1,-2,1,1,-2,-1,-2,-2,1,2,1,-2,1,1,1,2,1,-1,-1,-1,-1,1,-1,-1,-1,-1,-2,1,1,1,1,-2,-1,-2,-1,1,1,-1,-1,1,-1,-1,1,-1,-1,-1,-1,-1,-1,1,1,1,2,-1,1,-1,2,-1,-1,2,1,1,1,1,1,-2,1,1,-1,-1,-1,-1,-1,-2,-1,-1,1,-1,1,1,1,1,-1,-2,2,-1,1,1,-1,-2,-1,-1,1,-1,1,-1,1,-1,1,-1,-2,-1,-1]
[1,1,-1,-1,-1,1,2,1,2,2,1,1,1,1,-1,-1,-1,-1,1,-1,-1,-1,2,1,1,-1,1,1,1,-1,1,-1,-1,-1,1,-2,1,1,1,1,1,1,-1,1,2,1,1,-1,1,2,1,1,-1,-1,1,1,1,2,-1,1,-1,-1,-1,-1,-1,-1,1,-1,2,2,1,-1,-1,-1,1,-1,1,-1,-1,1,1,2,1,-1,-1,1,-1,1,1,-1,1,-1,-1,1,1,1,1,-1,-1,1,2,1,-1,1,1,-1,1,2,1,2,-1,1,-1,2,-1,-1,-1,-1,-2,-1,1,1,-1,-1,1,-1]
[-1,2,1,-1,-1,1,1,-1,2,-1,1,-1,2,-1,1,2,1,-1,1,1,1,-1,2,1,-1,-1,1,1,1,1,1,-1,1,2,1,1,2,-1,-1,1,1,2,-1,1,1,1,-2,-1,1,-1,2,-1,-1,1,1,-1,1,1,-1,-1,1,-1,1,4,-2,-2,1,1,1,-2,-2,-1,1,1,-1,1,-1,1,1,1,1,1,-1,-1,-2,-1,-1,-1,1,1,2,-1,-1,-1,-1,1,1,1,2,1,1,-1,-1,1,2,2,1,-1,-1,1,1,-2,2,-1,1,-1,1,-1,1,-2,-2,1,1,-1,1,1]
[-1,2,-2,-2,1,1,1,-1,1,-1,1,-1,-1,-1,-1,-1,2,-1,-1,1,-1,-2,1,-1,1,-1,1,2,2,-1,1,1,1,-1,-1,-1,-1,-1,1,-1,2,2,1,2,1,-1,1,-1,1,-1,1,1,-2,1,-1,1,-1,1,1,-1,1,-1,1,1,2,-2,1,-1,-1,-1,1,1,1,-1,-1,-1,1,-2,-1,-1,-1,1,-1,1,-1,2,1,-1,1,1,-1,-1,2,1,-2,1,-1,-1,1,-1,1,-1,1,1,2,2,1,-1,1,-1,-1,-2,1,2,-1,-2,1,-1,1,1,-2,1,-2,2,-1,1]
[1,1,-1,-1,-1,-1,-2,-1,1,1,2,1,1,-1,1,1,-1,1,-2,1,1,1,1,-1,1,1,1,-1,1,-1,1,-1,1,-1,1,1,2,1,1,-1,1,1,4,1,1,1,-1,-2,-1,-1,-1,2,1,-1,1,-1,-1,-1,1,1,-1,-1,-1,-4,-1,-1,2,-1,-1,1,2,2,-1,-1,-1,2,1,-1,-1,-1,-1,1,-1,2,2,-2,-1,-2,-1,-2,-1,-2,-1,1,-1,1,-1,-1,1,-1,1,-1,1,1,1,1,-1,-1,1,-2,1,1,1,-1,-1,1,-1,2,-1,1,-1,-1,1,-1,-1,-1]
[4,1,1,-1,1,-1,2,-2,-1,-1,1,2,1,-1,1,1,-1,1,-1,1,-2,4,-1,-1,-2,2,-1,-1,-1,-1,-1,-1,-1,1,1,1,-1,-1,-1,1,1,1,4,-2,1,-1,-1,-1,-2,-2,-1,1,-1,1,-1,1,-1,-1,1,-1,-1,-1,1,1,-2,-1,-1,1,1,1,-2,1,-1,-2,1,1,1,-1,-1,1,1,1,-1,1,4,-2,1,-1,2,-1,1,1,-1,1,1,1,1,1,1,-1,1,1,1,-1,-1,-1,-2,-1,1,1,1,-1,-1,1,2,-2,1,-1,2,1,1,2,-1,-1,-1,-1]
[4,-1,1,1,-1,1,-2,-1,-1,1,1,1,-1,-1,-2,-2,-1,1,1,1,-1,4,-1,-2,1,1,-2,1,-1,2,1,-2,-1,1,1,-1,-1,-2,1,1,-1,1,1,-1,-2,-1,1,-2,1,-2,-1,1,-2,1,-1,-1,1,-2,1,1,2,-1,2,2,-1,-1,1,-1,-2,-1,1,1,1,-1,-1,1,1,1,-1,-1,2,1,-2,1,-2,-1,1,-1,-1,-1,1,2,2,-1,-1,-1,2,1,-1,1,1,-1,-1,1,2,4,1,-1,-1,-1,-1,-2,-1,1,1,-1,1,1,-1,1,-1,-1,-1,1,1,2]
[4,2,1,1,1,-1,-1,-1,1,1,-2,1,1,-1,1,-1,1,1,1,1,1,2,-1,-1,1,1,2,-1,1,1,-1,-1,1,-1,1,1,-1,2,-2,1,-1,1,1,-1,-1,1,-1,1,-2,-1,1,1,1,-1,-1,-1,1,-1,-1,1,1,1,1,1,1,2,-2,1,-1,-1,-1,-1,1,1,1,1,-1,1,-1,1,1,-1,-1,1,2,2,-1,-1,1,-2,1,-2,2,1,1,-1,-1,-1,-2,-1,1,1,-1,1,1,-2,1,2,-1,1,1,1,-1,1,1,-1,1,-1,-1,1,1,-1,-1,-1,1,2]
[-4,-1,1,2,1,-1,2,-1,1,1,-1,-1,2,1,-1,-1,-1,2,-1,2,2,-2,-1,1,1,-2,2,-1,-1,2,-1,-1,1,2,-1,-1,-1,1,1,1,1,-1,-4,-1,1,1,1,1,-1,-1,1,-2,1,1,2,2,1,-1,1,1,-1,1,2,8,1,1,-1,1,-1,-2,1,-2,-1,-2,1,-1,1,-1,1,-1,1,-1,-2,-1,-2,-1,1,1,1,1,-1,2,2,1,-1,1,2,-1,-1,1,2,-1,-1,1,-1,4,1,-1,1,-1,-1,1,1,-1,-1,-1,1,-1,-1,-2,1,2,-2,-1,-1,2]
[-1,1,-1,-1,-1,1,-1,1,1,-1,-2,1,1,2,-1,1,-1,-1,1,1,-1,1,-1,-2,1,1,-1,-2,-1,2,-1,1,-1,1,-1,-1,-1,1,1,1,-1,1,-4,1,1,-1,1,-1,1,1,2,-1,-1,1,1,1,-1,-1,1,-1,-1,1,-1,2,1,-1,-1,1,-1,-1,-1,1,-1,1,1,1,-1,1,1,-1,-1,2,-1,-1,-2,1,1,1,-1,-1,-1,-1,2,-2,2,-1,1,-1,1,1,-2,-1,1,-1,1,2,1,1,-1,-1,1,-1,1,1,1,1,-1,-1,-1,1,-1,1,-1,-1,1,-1]
[1,-1,2,2,1,-1,-2,-1,1,2,1,2,1,-1,-1,-1,1,-1,1,-1,1,-1,1,1,-1,1,1,-1,1,1,2,2,-1,-1,1,-1,1,1,-1,-1,-1,-1,-1,-1,-1,1,-1,-1,-1,1,-1,1,2,1,1,2,1,-1,1,1,-1,-1,1,-1,-1,-1,2,-1,-1,-2,-1,-1,1,-2,-1,-1,1,-1,1,-1,2,1,-1,-2,-2,-1,1,1,-1,-1,-1,1,1,-1,-2,-1,-1,-1,-1,-1,1,1,-1,-1,1,-1,-2,-1,-1,-2,-1,1,1,1,1,2,1,-1,-2,1,1,1,1,1,1,2]
[1,-2,-1,1,-1,-1,-1,-2,-2,1,1,-2,-1,-1,-1,1,1,1,1,-2,1,2,-1,1,2,-1,-1,-1,-2,-1,-1,-1,1,1,-1,1,1,-1,1,1,-1,-1,1,-1,-1,2,-1,-1,-2,1,-1,2,-1,-1,-2,2,-1,2,-2,2,1,1,1,-1,-1,1,4,1,1,1,1,-1,1,2,-1,-1,-1,-1,1,1,2,-2,1,-1,1,-2,1,2,1,-1,-1,1,2,1,1,-1,1,1,-1,1,-2,1,1,-1,-1,2,-1,-1,1,1,-1,-1,1,-1,-2,1,-1,2,-1,-1,1,-1,1,1,-1,-2]
[-1,-2,-1,1,1,1,-1,1,2,1,1,1,2,1,-1,-2,-2,-1,1,1,-1,1,1,-1,2,1,1,-2,1,2,-2,1,-1,1,-1,1,-2,-2,-1,1,1,1,2,-2,-1,-1,1,1,-1,1,2,-2,-1,2,2,1,1,1,1,1,-1,-1,1,1,1,1,1,-1,1,-1,-2,1,2,-1,1,2,-1,1,-1,1,-1,-1,1,-1,-1,-2,1,-1,1,1,1,-1,1,-2,1,-1,1,1,-1,2,1,-1,-1,-2,1,-1,-1,-2,2,-1,-1,1,-1,-1,-1,2,-2,2,2,1,-1,-1,1,-2,1,-1]
[2,-2,1,2,-1,-1,-2,-1,-2,1,1,1,2,1,1,-1,1,-1,1,1,1,2,-2,1,1,-1,-1,-1,-2,-1,2,1,-1,-1,1,1,1,2,1,-1,-2,1,1,1,-1,1,-1,1,1,-1,1,1,2,2,-1,1,-1,1,1,1,-2,-1,1,-1,1,-2,1,-1,-1,-2,-1,1,-2,1,1,1,-1,1,1,-1,1,1,-2,1,-1,-1,-2,-1,-2,-1,1,-1,-1,1,1,-2,2,-1,1,1,-1,1,1,-2,-1,-1,-2,-1,2,-1,1,1,-2,-2,1,1,1,2,1,-1,2,1,-1,-1,1,-1]
[2,-2,-2,2,-1,-1,-1,-1,1,1,-1,-2,1,2,1,2,1,-1,-1,-2,-1,4,-1,1,1,-1,-1,-2,-2,-1,-1,1,-2,4,2,-2,1,-1,2,-1,-2,1,2,-2,1,1,1,1,-2,1,-2,-2,-1,-2,2,1,1,1,-1,-1,1,-2,-1,2,1,-2,2,-1,-1,-1,-2,-1,-1,1,1,1,-1,-1,4,-1,-1,-2,-1,1,1,-2,-2,1,1,1,-1,1,1,-1,1,-1,2,2,1,1,-1,1,-1,-1,1,2,-1,-1,2,-1,2,-1,-1,1,-2,2,-2,1,2,-1,1,1,1,1,-2,-1]
[1,-1,-2,2,-2,1,-2,-1,2,-1,1,-2,2,1,1,2,-1,1,1,-1,-1,2,-1,-2,2,-1,-2,-1,-1,2,1,1,-1,4,1,1,-1,-1,2,-2,-2,1,2,-1,-1,4,1,-1,-1,-2,-1,-1,-1,-2,1,2,-1,-1,1,-1,-1,-2,-1,-1,-2,-1,-1,-1,1,-1,1,1,-1,1,1,2,1,1,-1,-1,2,-1,-2,-1,1,-2,-1,1,-1,-2,-1,-1,-1,-1,2,1,2,2,1,1,-1,-1,-1,1,-1,-1,1,-1,1,1,-1,-1,1,-1,-1,2,-1,2,1,-1,-1,-2,2,-2,-2,-1]
[1,1,-1,2,1,-1,1,1,1,-1,1,1,1,1,1,2,-1,1,-1,-1,2,2,-2,-1,1,1,2,-1,-1,-1,1,2,1,-1,1,-2,1,1,1,-2,-2,-1,-2,-1,-2,1,-1,1,-1,1,1,-2,1,2,2,1,-2,-1,-1,2,1,1,1,1,-1,1,1,-1,-1,1,1,-1,1,1,1,-1,1,1,2,-1,1,-1,-2,-1,-2,1,-2,1,1,1,-1,1,1,-1,2,1,1,2,1,-1,-1,-1,1,1,1,1,-1,-1,-1,-1,-1,1,-2,1,-1,2,1,1,1,-2,-1,-1,2,-1,1,1]
[-1,1,-2,1,-2,-1,-2,-2,-1,1,1,-1,1,2,-1,1,1,-1,-2,-2,1,-1,1,-2,2,1,-1,-1,-1,-1,-1,1,-2,2,1,-1,2,1,1,-1,-1,-1,1,1,-1,4,1,-1,1,-1,-1,-1,1,1,1,1,-1,-1,1,1,-1,-2,-1,1,-1,1,1,1,-1,-1,-2,-1,1,1,-1,1,-1,-2,2,1,1,-2,-2,-2,1,-1,-1,1,-1,2,-2,1,-2,1,2,1,-1,1,-1,2,-1,-1,-2,-1,-1,1,-1,-2,2,1,-1,-1,-1,1,1,-1,-1,2,1,-1,1,1,1,-1,1,-1]
[-2,1,1,4,-2,1,-1,1,1,1,2,-1,1,2,-2,1,-1,1,-2,-2,2,-1,-1,-2,2,1,1,-1,1,-1,-2,1,-1,2,2,-2,1,-1,1,-1,1,1,2,-1,-1,2,-1,2,1,-1,1,1,1,-1,1,2,-1,2,-1,1,-1,1,-1,-1,-2,1,2,-1,-1,-1,-2,-1,-2,2,1,-1,2,1,-2,2,2,1,-1,1,2,-1,-1,2,-1,1,1,1,1,-1,2,-1,-1,2,-1,1,-2,-1,-1,-1,1,1,-1,-1,2,-1,1,-1,-1,1,1,-1,-1,2,-1,-1,1,1,1,1,-1,-2]
[1,1,-1,-1,1,-1,-2,-1,-1,1,-1,-1,1,1,-1,1,-1,1,-1,-1,1,1,-1,1,1,1,-1,1,-1,1,-1,-1,1,1,2,1,1,1,-1,-1,1,-2,2,-1,1,1,-1,1,-2,1,-2,-1,-1,-1,1,-1,-1,1,1,-2,2,-1,1,2,1,1,-1,-1,1,-2,-1,-1,1,1,1,-1,2,-1,1,-1,-2,-1,1,-1,-1,1,1,1,-1,2,-2,-2,1,1,-2,2,-2,-1,1,1,-2,-1,-1,-2,1,-1,2,-1,2,1,1,-2,1,-1,-1,1,-1,1,1,1,-1,2,1,-1,1,1]
[2,2,2,-2,-1,-1,-1,-1,1,-1,-1,1,-1,2,1,-1,-1,-1,1,-1,-1,2,2,1,2,2,1,-1,1,1,-1,-1,2,-1,-1,2,-1,1,1,-1,-1,1,1,-1,-1,1,1,-1,1,-2,-1,-1,-1,2,1,-1,2,1,-1,1,-1,-2,-2,2,-1,-1,1,1,1,-2,-1,-1,-2,-2,1,-1,2,2,1,-1,-1,1,-2,-2,2,2,1,2,2,-1,-1,-2,1,-2,1,1,1,1,2,1,-1,-1,-1,1,-2,-1,-1,-1,-1,-2,1,-1,1,1,-1,-1,2,1,1,2,2,1,-2,1,1,-1]
[1,1,-1,-1,-2,-1,-2,-1,-1,1,1,2,-1,1,1,2,1,1,-1,-2,-2,1,1,-1,1,-1,-1,-2,-2,-1,-1,-1,4,-1,2,1,-1,1,1,1,1,-2,1,1,-1,2,-1,-1,-4,-2,1,-1,-2,1,-1,1,1,-1,-2,-1,-1,-2,1,1,-1,-1,2,1,1,-2,1,1,1,-1,2,1,1,1,-1,1,1,1,-1,-1,1,2,2,1,2,1,1,-1,-1,-1,1,1,1,1,-1,2,1,1,1,-2,-2,1,2,-1,1,2,1,-1,1,-1,-1,-1,1,2,-1,1,-1,-1,-2,1,-1,1]
[2,-1,-1,1,-1,1,-1,1,-1,2,-1,2,-1,1,1,1,1,1,1,-2,1,2,1,-1,-1,-1,1,-1,-1,-1,-2,1,1,1,-1,-1,1,1,-1,-1,-2,-1,-1,-1,1,-1,1,-1,-1,1,-1,-2,-1,1,-1,2,-1,2,-1,1,-2,-1,-1,1,1,1,1,-1,-2,-1,-1,1,1,-1,-1,1,1,-1,1,1,1,-1,-2,-1,2,2,1,1,2,-1,-1,-1,-2,-1,-1,1,1,-1,2,1,1,-2,1,-2,1,-1,-1,1,1,1,-1,1,1,-1,-1,-1,-1,1,1,-1,1,1,1,-1,-1,1]
[1,2,-1,2,1,1,-1,-2,-1,-2,-2,2,-1,1,1,2,-1,-1,-2,-4,-2,2,1,1,1,-2,1,-2,-2,1,-2,-2,1,-1,2,1,2,1,-1,-1,-4,1,2,2,-1,-1,1,1,-2,-2,-2,-1,-1,1,1,1,1,2,-1,-1,-2,-4,-2,-1,2,1,-1,1,1,-2,-1,1,-1,1,-1,1,-1,2,2,-1,-1,-2,-1,-1,2,2,-1,1,-1,2,-1,-2,1,-2,-2,-1,-1,1,2,1,1,-1,-2,-1,-2,1,1,1,-1,-1,2,-2,-2,1,-1,1,-1,1,2,4,1,-1,-1,1,1,-1]
[4,2,1,2,1,1,-1,-1,1,-2,-1,2,1,1,1,1,1,1,-1,-2,-2,2,1,1,1,1,-1,-2,-2,1,-2,-2,1,1,1,2,1,1,-1,-1,-2,-1,1,2,1,1,2,2,-1,-1,1,-1,-2,2,1,-1,2,1,1,-1,-1,-2,-1,1,1,1,-1,1,1,-2,-1,-1,-1,-2,1,-1,-1,-1,2,1,-1,1,-1,-2,1,4,-1,-1,1,-1,1,1,-1,-1,-1,1,-2,-1,1,2,1,1,-1,-2,-2,1,1,1,1,1,1,-2,1,-1,-1,-1,-1,-1,2,1,-1,1,1,-1,-2,-2]
[-1,-1,-1,1,-1,-1,1,-1,-1,-1,-1,1,-1,2,2,-1,1,-2,1,-1,1,-2,2,-1,1,1,1,-1,-1,1,1,-1,1,1,1,1,-2,-1,1,1,-1,-1,-1,-1,-1,1,1,-1,-1,-1,1,-1,1,1,1,2,2,-1,1,-2,-1,-2,1,1,1,-1,-1,1,1,1,1,1,-1,1,-1,-1,1,2,1,-2,-2,1,1,-1,1,1,1,2,-2,2,1,2,-1,1,-1,-1,-2,1,1,1,-1,1,1,-2,-1,1,2,-1,1,-1,1,-1,1,-1,-1,-1,1,1,2,-1,1,-2,1,1,-2,-1]
[-1,1,1,-1,-1,1,-2,-2,1,-2,1,1,-1,1,4,1,-1,-1,1,-1,-1,1,2,1,-1,-1,1,-1,-1,2,-1,1,-1,1,-1,4,2,-1,-2,1,-2,-2,4,2,1,-1,1,-1,-1,-1,1,1,1,1,1,1,4,1,1,-2,-1,-1,1,-1,1,2,2,1,-1,-2,-1,2,-1,-2,1,1,-1,1,2,-1,-2,-1,1,-2,4,-1,-1,2,1,1,-1,1,-1,-1,-1,1,-2,-1,1,-1,-1,-2,1,-1,-1,-4,2,-1,2,1,2,-1,1,2,-1,-2,-1,1,-1,2,4,-2,-2,-1,-1,-2]
[2,2,1,1,-1,1,-1,-2,-1,1,-1,1,1,1,2,-1,1,-2,1,1,1,2,4,-1,2,1,1,1,1,-1,1,-2,-1,1,-2,1,1,1,-1,-1,-1,1,-1,1,1,-1,-1,1,-1,-1,-1,-2,-2,1,-2,2,2,-1,1,1,1,-2,-2,-2,-1,1,1,1,1,-2,-1,-1,-1,1,-1,-1,1,1,1,-1,-2,1,1,-1,1,2,-1,1,-2,2,-2,1,1,-1,1,1,1,1,2,-1,1,-2,-1,-2,-2,-1,-1,-2,1,1,1,-1,-2,-1,1,-2,-1,-1,-2,2,2,1,-1,-2,-2,-1]
[2,1,1,1,1,1,1,-1,-1,-1,-1,-1,-1,1,1,1,1,-1,1,-1,1,-1,-1,-1,-1,-2,1,1,-1,-1,-1,-1,2,1,1,-1,1,1,-2,2,-1,1,2,-1,2,-1,-1,1,-1,-1,1,-1,-1,-1,1,-1,-1,-1,1,-2,-2,-1,1,-1,2,1,1,-2,1,-1,-1,1,-1,1,-1,1,1,1,1,1,2,1,1,-1,1,2,1,1,1,-1,-1,1,1,1,-2,-1,-1,1,-1,-2,1,1,-1,-2,-1,1,-1,1,-1,-1,-1,-1,-1,1,-2,-1,1,1,-2,-1,1,-1,-1,-1,1,1]
[1,-1,1,-1,-2,1,-1,2,-1,-1,-1,-1,1,-1,1,-1,-1,-1,-1,1,-1,-1,1,-2,1,-1,-1,-2,-1,1,-1,-1,1,-1,-1,1,-1,1,1,-1,-1,1,2,1,1,2,-1,1,1,2,1,-2,1,-1,-1,-1,-1,-2,1,-1,2,-1,1,-1,1,-1,1,1,-2,-1,1,1,2,-1,1,1,1,1,1,1,1,-2,1,-1,1,1,1,-1,-1,-1,2,-1,2,-2,-1,-1,1,-1,1,-1,1,-1,1,1,-1,1,1,1,-1,1,1,-1,1,-1,1,-1,1,1,-1,1,-1,-1,2,1,-1,-1]
[2,1,1,1,1,-1,-1,1,-1,-1,1,-1,1,-1,-1,-1,1,1,-1,-1,-1,1,-1,1,1,1,-2,-1,1,2,1,1,1,-1,1,-1,1,-1,-1,-1,-2,-1,2,1,1,1,-1,-2,-1,1,-2,1,-1,-1,-1,-1,-2,1,1,1,1,-1,-1,-1,1,1,1,2,1,-1,2,-1,-1,-1,-1,-1,-1,-1,-1,1,1,1,1,2,-1,1,1,-1,1,2,1,1,-1,1,2,-1,-2,-1,1,-1,1,1,-1,-1,1,2,1,1,2,1,-1,-2,-1,1,-1,-1,-1,2,1,2,2,-1,-1,1,-1,-1]
[-1,2,-1,1,1,1,-1,2,2,1,-1,1,1,1,1,-1,-1,1,1,1,1,-1,-1,1,1,-1,-1,-1,-1,-1,1,-2,-1,1,2,-1,-1,2,-1,-1,1,-1,1,1,-1,-2,2,1,-1,-1,-1,-1,1,1,1,-1,1,1,-2,1,-1,1,-1,-1,-1,-2,-1,-1,2,1,1,1,2,2,1,-1,1,1,-1,1,1,1,1,1,1,-1,-2,-1,1,-1,1,1,1,-1,-1,-1,-1,-2,-2,1,1,-1,-2,1,-1,1,-1,-1,1,1,-1,-1,-1,1,1,1,1,1,1,-2,-1,-2,-1,1,1,1]
[-1,-1,2,1,-1,1,1,-1,1,-1,1,1,-1,-1,-1,1,2,1,-1,-1,-1,-1,-2,-1,-1,-1,-1,2,-1,1,2,1,1,1,2,-1,1,1,-2,1,1,1,1,1,-1,1,2,-1,-2,2,-1,1,1,1,-2,1,-1,-1,-1,1,-2,-1,-1,2,-1,-2,-1,-2,-1,-1,-1,-1,-2,-1,-1,-1,-1,1,-1,-1,1,-1,-1,1,2,-2,1,-1,-1,-1,-1,-1,-1,1,-2,-1,1,-2,1,1,2,-1,1,-1,2,2,-1,2,-1,-1,1,1,1,1,1,1,2,2,-1,-1,1,1,-1,1,-1,-1]
[-2,-1,-1,1,1,1,-1,1,1,-1,-1,1,-1,2,-2,-2,-1,-1,2,-2,1,1,-1,1,-1,-1,1,-2,-1,1,1,1,1,-1,1,1,1,1,1,1,-1,-1,-1,-1,1,1,1,1,1,1,-1,-1,2,-1,1,1,-1,-2,-1,-2,1,1,-1,1,1,-1,2,1,1,-1,1,-1,1,1,-1,-1,-1,1,1,-1,1,-1,-1,1,-1,1,1,-1,1,1,-2,1,1,2,1,-1,1,-1,1,-1,-1,-1,-1,-1,-1,2,1,-1,1,1,1,-1,1,1,1,1,1,-2,-1,-1,-1,1,-1,1,-1,-2]
[1,1,2,-1,1,-1,-1,1,-2,-1,1,1,-1,-1,2,-1,1,1,-2,-2,1,2,1,1,-1,-1,-1,-1,1,-1,1,-1,1,1,1,-1,-1,-1,2,-1,1,1,1,-1,-1,1,1,1,2,-1,1,1,-1,-1,-1,1,1,2,1,-2,-2,1,-1,1,-1,1,1,1,-1,-1,1,-1,-1,-1,-1,2,-1,1,-1,1,-2,2,1,-1,-1,-1,1,1,-1,1,1,-1,2,1,1,-1,1,2,-1,2,-1,1,1,1,1,-1,2,1,-1,-1,1,-1,-1,1,-1,-2,1,1,1,-1,-1,1,1,-1,1,-1]
[-1,2,1,-1,-1,2,-1,-1,-1,1,1,1,-1,-2,1,-2,2,1,1,-1,2,2,1,-2,2,1,1,-1,1,-1,1,1,2,-1,1,1,-1,1,2,-1,-1,1,1,-1,-1,1,-1,1,2,-1,-1,-1,1,1,2,-1,-1,-1,1,2,-2,1,-1,1,-1,1,-1,-2,1,1,-1,1,-1,1,-1,-1,-1,1,-1,-1,-1,-1,1,2,-2,2,1,1,1,-1,-1,1,-2,1,1,-1,-1,1,-1,1,1,2,-2,-1,1,2,-1,1,-1,1,1,-1,1,1,-1,-1,2,-1,1,-1,-1,-1,-1,1,-1,1]
[2,-1,-1,1,1,1,-2,-1,-1,-1,-1,1,-2,-1,-2,-1,1,1,-1,1,-1,2,-1,-1,1,-2,1,1,-1,-1,-1,1,1,1,-1,-1,-1,1,-1,-1,-1,-1,1,1,-1,2,-1,-2,-1,-1,2,1,1,1,1,1,1,1,-1,1,1,-1,-1,2,-1,-1,1,-1,-2,-1,-1,1,-1,1,1,-1,-1,-1,1,1,1,-1,-2,-2,-1,2,1,1,1,1,1,1,-1,-1,-1,-1,-2,1,1,2,-1,-1,-1,-1,2,-1,1,1,-1,-1,1,-1,1,1,-1,-1,1,1,1,1,-1,1,1,1,-1,1]

{"sheet":"im2colAll_confW4","index":1,"n_rows":25,"n_cols":126,"rows_kept":25,"cut":false,"hidden":false,"merged":[]}
[1783,253,118,26,139,-115,-26,-109,-402,-96,-69,185,-168,156,76,528,20,-485,-12,-132,-191,1754,148,-56,-76,142,-324,-59,4,-659,-70,-101,-38,-220,116,-30,662,102,-411,-62,-171,-286,1700,128,-200,-129,41,-342,-84,30,-641,-298,-40,-94,-231,64,-26,508,20,-372,-62,-89,-78,1751,-172,-16,-54,50,-270,-23,-28,-480,-162,-226,-86,-346,107,113,521,47,-238,-92,-182,-274,1738,111,-104,-2,56,-214,-222,-10,-443,-244,-16,37,-247,50,69,308,-9,-398,-131,94,-268,1742,-182,-73,-171,185,-209,-153,-28,-369,6,-178,-203,-406,115,150,483,57,-175,-43,-148,-217]
[3041,210,-117,-187,55,-467,84,11,-694,71,-27,145,-16,49,131,1360,-118,-793,334,-308,-181,2972,-171,-327,-127,190,-620,-171,127,-1119,-99,28,-26,-95,99,-237,1455,188,-813,127,-428,-516,2726,54,-559,-274,-21,-542,-143,124,-1003,-356,-186,-3,-180,-67,-25,1248,24,-632,80,-291,-78,2837,-514,-283,-102,-214,-356,18,16,-760,-79,-188,-135,-51,-6,61,1192,-19,-550,34,-570,-224,2938,-59,-323,-143,-53,-349,-56,-41,-698,-233,-89,17,-336,-45,64,779,-20,-678,99,-64,-296,2562,-321,-347,-417,-57,-430,-453,-110,-494,165,-278,-295,-192,114,131,1081,35,-467,121,-490,-404]
[4056,126,-546,-456,23,-625,0,55,-960,192,193,100,35,-41,-41,1763,-271,-1140,527,-506,-168,3802,-393,-507,-388,193,-872,-293,131,-1435,-160,-37,-106,-162,-61,-234,1685,-28,-1182,345,-486,-386,3611,-153,-785,-359,-90,-719,-142,53,-1145,-258,-142,-6,-221,-304,-133,1612,-171,-842,397,-333,18,3528,-602,-599,-221,-335,-565,-264,48,-709,-77,-177,-189,148,-60,-299,1962,-249,-934,20,-846,-120,3280,-189,-328,-223,-44,-478,-357,80,-711,-154,19,-73,-280,8,87,1146,-139,-1072,254,-113,75,3050,-562,-583,-490,-135,-395,-421,104,-395,279,-262,-284,-5,-11,-177,1819,-200,-673,179,-451,-308]
[3066,-192,-532,-593,21,-592,40,76,-850,61,-9,434,-123,-148,-287,1237,-64,-884,525,-408,33,2872,-519,-399,-238,-83,-799,-485,43,-1202,-39,167,52,-373,-37,-300,1343,-22,-938,329,-311,-330,2860,-258,-637,-335,-80,-780,-158,178,-907,-220,-81,69,-189,-147,-237,1184,36,-782,347,-300,10,2720,-458,-467,-141,-360,-452,-409,2,-600,-73,3,-119,-37,-104,-236,1249,97,-810,81,-575,-42,2783,-226,-178,-178,-45,-551,-294,282,-570,-44,-33,-132,-127,209,-43,976,-153,-803,467,-78,-12,2474,-305,-609,-345,-166,-411,-437,-243,-398,212,-103,-200,-214,4,-192,1246,139,-482,238,-409,-394]
[1481,-129,-264,-124,39,-257,-86,109,-374,182,-13,96,65,-39,5,588,-25,-329,84,-253,-88,1540,-304,-60,-81,-21,-313,-343,115,-448,-108,95,16,-37,8,-115,548,-87,-610,80,-206,-275,1771,-122,-195,-263,-41,-497,-139,32,-355,-25,-64,145,-44,-152,-60,538,38,-324,214,-110,-175,1746,-258,-112,78,-249,-186,-491,51,-220,-24,50,78,176,-38,-251,497,44,-426,-131,-265,29,1790,-73,72,-141,-110,-406,-213,87,-350,-111,-236,-119,-151,134,6,437,-49,-486,175,6,-5,1478,-137,-305,-87,-174,-252,-367,-117,-250,-58,-77,-38,8,-34,-127,393,42,-184,-26,-229,-466]
[2152,-4,154,-193,91,-317,-212,90,-555,-43,-250,79,-125,296,125,843,-136,-547,171,-160,-350,2090,-59,13,-219,215,-462,-228,78,-726,-29,-93,104,-198,254,-49,898,31,-457,62,-258,-445,2019,-114,-81,-305,153,-332,-271,83,-703,-208,-177,42,-249,195,99,794,-73,-325,10,-286,-160,2063,-105,102,-172,-44,-363,-9,16,-619,32,-273,17,-217,240,-57,957,44,-269,7,-165,-434,1983,-246,-13,-208,179,-351,-394,105,-483,-105,-87,182,-119,239,192,596,-57,-327,-6,86,-176,2052,-396,57,-313,2,-353,-205,116,-489,113,-211,-44,-288,229,84,710,-42,-195,-6,-150,-168]
[3884,-156,-55,-494,2,-826,-296,355,-1023,230,-279,119,164,343,180,2099,-556,-901,495,-501,-522,3793,-582,4,-514,177,-1078,-829,435,-1391,-202,102,297,97,468,-96,1988,-74,-975,401,-659,-756,3311,-471,-193,-813,-38,-762,-478,220,-1289,-539,-286,414,-206,226,275,1673,-338,-614,310,-885,-283,3563,-612,-88,-378,-645,-614,-506,215,-1071,203,-235,-27,217,261,-64,1987,-3,-795,194,-744,-802,3493,-579,-89,-573,-78,-531,-513,156,-744,-53,-226,302,51,481,533,1277,-184,-796,377,-222,-252,3078,-589,101,-472,-517,-832,-455,175,-874,350,-83,24,48,369,106,1388,-440,-534,190,-664,-703]
[3599,89,100,-849,-57,-1004,-383,241,-1257,226,-155,-48,349,712,363,2774,-1148,-1055,896,-626,-802,3536,-791,202,-547,-10,-1317,-810,650,-1517,-215,-36,-68,331,670,423,2306,-598,-1156,714,-809,-885,3686,-749,-93,-881,-154,-1013,-598,245,-1548,-600,-147,23,30,649,345,1948,-806,-932,603,-711,-657,3373,-389,5,-642,-823,-746,-914,247,-1055,-33,-149,-212,627,417,-77,3231,-645,-813,488,-907,-630,3671,-598,241,-833,-13,-736,-817,267,-880,69,227,393,-74,748,618,1464,-354,-824,717,-696,-327,3233,-571,1,-457,-877,-706,-595,183,-790,458,-254,-7,375,472,76,2973,-807,-659,406,-545,-722]
[3794,-517,-49,-950,-279,-983,-679,263,-1106,490,56,252,64,446,45,2100,-589,-841,806,-773,-573,3617,-730,54,-716,-118,-1155,-764,348,-1511,-235,236,282,65,321,122,1849,-231,-1110,315,-548,-700,3143,-806,-216,-958,-296,-1015,-662,264,-1285,-420,-56,197,-68,481,150,1819,-710,-785,678,-710,-581,3468,-734,122,-639,-569,-707,-846,401,-1066,194,77,-318,367,273,-147,2155,-127,-854,156,-751,-538,3078,-495,83,-604,-11,-594,-664,338,-697,123,198,509,9,628,369,1443,-518,-693,771,-327,-490,3156,-488,-403,-597,-710,-851,-607,322,-960,158,116,-108,90,510,-80,1882,-250,-546,284,-622,-707]
[2041,-288,-92,-464,-29,-482,-301,188,-470,368,-43,29,178,148,-225,1012,-170,-356,256,-468,-150,2133,-582,-119,-338,-64,-708,-486,238,-743,-79,34,49,186,38,-130,1189,87,-349,1,-458,-504,1863,-534,-102,-673,-147,-589,-426,22,-706,-138,-88,336,-44,217,151,704,-253,-384,274,-372,-512,1896,-470,20,-199,-389,-33,-575,93,-547,156,44,-203,423,70,-141,803,70,-544,-32,-413,-86,2130,-215,112,-428,-28,-210,-408,275,-438,57,-111,372,-71,363,265,783,-197,-412,424,-40,-411,1708,-229,-105,-67,-494,-220,-335,88,-400,41,242,12,103,316,-123,688,-218,-252,71,-293,-521]
[1714,-87,304,-128,-35,-359,-442,60,-421,-10,-220,17,-3,455,104,777,-219,-379,201,-98,-487,1700,-167,143,-162,34,-600,-378,11,-611,17,-84,196,26,372,82,939,-132,-242,68,-216,-571,1724,-224,71,-322,35,-433,-387,44,-633,-87,-224,8,-91,274,87,661,-225,-178,22,-318,-373,1710,-209,128,-235,-169,-489,-174,-63,-417,44,-186,-56,-7,285,-82,1023,-54,-107,-15,-128,-455,1765,-463,139,-203,191,-400,-554,-20,-308,-55,-52,171,85,361,216,484,-98,-188,92,-52,-299,1788,-434,61,-243,-126,-343,-188,-94,-446,207,-117,-40,-84,308,79,865,-124,-148,26,-137,-135]
[3170,-368,708,-621,-212,-771,-943,269,-706,209,-104,236,336,1018,221,1540,-849,-261,470,-404,-951,2640,-424,558,-458,-74,-1167,-1101,605,-1102,-72,115,475,417,1120,536,1463,-584,-416,231,-453,-985,2953,-654,275,-785,-327,-828,-711,159,-1233,-271,-293,184,15,767,370,950,-809,-225,277,-667,-799,2984,-412,274,-610,-785,-1031,-906,-32,-678,210,-130,129,445,543,-96,1933,-324,-589,107,-640,-1161,3082,-825,610,-550,-102,-451,-992,20,-597,-24,-140,318,455,966,481,619,-286,-411,289,-293,-857,2887,-633,398,-390,-776,-915,-391,12,-759,408,25,129,272,673,222,1647,-730,-401,132,-304,-855]
[877,-18,1092,-469,-336,-959,-1068,673,-706,-22,295,-197,685,2146,834,1470,-1561,-40,571,-218,-1354,272,-381,823,-399,-413,-1416,-849,1043,-798,-126,533,-238,916,1956,1071,1615,-1185,-227,534,-174,-1364,1932,-761,548,-718,-504,-1033,-734,69,-1019,-467,-10,-221,260,1691,411,767,-1194,-219,184,-595,-1067,1640,-373,571,-651,-987,-1336,-1373,72,-366,175,251,-334,638,1486,203,2218,-1317,-242,410,-613,-1232,2952,-539,864,-457,-285,-852,-1544,163,-496,-62,238,153,438,1515,308,554,-708,-273,442,-347,-1151,2490,-163,476,-339,-810,-1096,-434,-5,-762,457,-2,-112,473,1125,344,2821,-1202,-557,195,-246,-1196]
[2752,-586,524,-703,-543,-940,-1293,286,-810,253,411,110,545,1386,39,1470,-1013,-281,422,-118,-1389,1852,-579,283,-728,-573,-1303,-1171,657,-919,-235,536,188,675,1308,402,1250,-513,-146,478,-67,-1362,2693,-706,-10,-829,-441,-867,-881,73,-983,-252,238,90,374,1247,-122,831,-983,-140,454,-417,-1038,2921,-647,582,-756,-1056,-974,-1319,402,-637,87,284,-167,819,1165,218,1627,-715,-219,33,-532,-944,2570,-465,452,-744,-263,-263,-1115,286,-298,40,339,366,372,1011,300,755,-696,62,433,-102,-984,3143,-451,140,-379,-951,-1088,-966,-27,-942,39,63,-98,194,786,-196,1873,-793,-528,311,-418,-1316]
[1846,-401,208,-674,-227,-499,-471,170,-334,410,15,136,275,525,-250,1078,-625,-378,153,-300,-749,1718,-498,33,-299,-296,-825,-777,319,-474,-139,229,218,362,519,-183,1247,-59,-93,-68,-354,-851,2053,-545,-55,-667,-297,-279,-580,-177,-738,23,-55,294,-30,648,44,264,-509,-144,147,-270,-467,1622,-328,244,-309,-666,-385,-969,172,-479,179,255,-219,560,279,-14,928,-44,-115,20,-455,-240,2139,-278,295,-609,13,44,-885,141,-297,162,279,399,35,442,321,571,-267,-140,430,-4,-582,1391,-222,135,-142,-677,-218,-653,-188,-359,57,189,150,127,305,-39,836,-350,-210,17,-253,-491]
[1762,-47,252,55,-39,-424,-425,-50,-302,-61,-65,-147,122,499,-7,785,-202,-223,175,-185,-501,1690,-213,78,-41,0,-624,-449,-148,-508,-50,16,-54,135,430,-26,863,-203,-173,112,-260,-608,1613,-232,12,-135,-36,-478,-329,-15,-447,-214,-57,-119,201,268,-17,670,-190,-35,-54,-261,-346,1667,-218,61,-95,-226,-555,-252,-177,-268,-77,-61,-109,21,250,-97,953,-113,-12,-11,-200,-462,1631,-371,53,-21,80,-395,-406,-196,-157,-136,112,1,194,382,20,442,-120,-115,-70,-156,-368,1695,-390,49,-110,-239,-386,-231,-103,-287,184,-39,-116,21,289,25,800,-122,-50,-9,-121,-251]
[3282,-283,407,-152,-322,-792,-702,-411,-443,118,-125,-114,438,831,-162,1193,-514,26,252,-129,-1054,2951,-479,525,-25,-187,-1369,-937,-202,-899,77,79,20,504,760,-23,1191,-383,-194,207,-444,-1108,2804,-542,157,-293,-400,-947,-701,-112,-699,-313,232,-26,569,537,-74,884,-135,124,80,-292,-703,3019,-452,270,-12,-729,-1010,-769,-211,-680,50,3,-93,583,424,-229,1471,-297,-174,-111,-437,-1041,2645,-491,348,-192,-207,-535,-711,-256,-281,-275,225,76,295,736,178,548,-15,-80,121,-121,-850,2783,-399,216,-48,-835,-1115,-786,-147,-364,159,47,-351,271,543,-108,1470,-489,-212,18,-336,-775]
[1897,36,513,120,-442,-914,-1006,-34,-232,-197,321,-419,796,1677,19,901,-963,375,66,-65,-1401,1279,-173,650,312,-374,-1459,-981,336,-436,5,434,-508,987,1448,7,1071,-811,-102,155,-192,-1533,2329,-508,416,72,-260,-1039,-1110,-277,-351,-419,427,-348,780,1424,-295,637,-526,351,235,-328,-1066,2371,-376,584,-6,-747,-1227,-1003,-335,-182,-213,308,-596,720,1258,-109,1079,-864,16,110,-302,-1184,2832,-526,476,-47,-391,-800,-1097,-297,-260,-150,471,-75,578,1240,21,391,-198,198,166,-17,-867,2806,-65,165,-187,-698,-1191,-1025,-258,-351,181,240,-225,454,929,10,1417,-748,-245,-49,-201,-984]
[3107,-50,389,-237,-605,-1014,-1310,-471,-492,-18,363,-149,720,1058,-242,950,-596,147,63,-336,-1602,2575,-504,418,-37,-429,-1359,-1401,-66,-645,-118,136,-303,596,1004,-198,991,-331,-55,180,-275,-1369,3069,-718,95,-23,-421,-877,-870,-721,-567,-216,118,-168,676,1040,-78,735,-216,182,167,-135,-962,3103,-387,226,-105,-886,-848,-1214,-276,-420,-430,236,-612,926,951,-206,1203,-567,-202,-188,-812,-1138,2884,-214,301,-147,-401,-583,-1127,-397,-242,48,572,-105,371,818,17,593,-104,293,274,-218,-814,2924,4,11,-122,-615,-1024,-1030,-239,-309,-213,77,-271,48,615,-567,1304,-402,-184,52,-193,-936]
[2129,-151,204,-350,-224,-569,-594,-182,-330,419,104,71,390,459,-255,943,-364,-78,0,-239,-893,2075,-644,169,7,-289,-852,-914,-82,-461,-49,56,36,240,506,-288,983,93,-229,-15,-474,-639,2293,-529,39,-216,-70,-376,-658,-781,-428,148,1,144,222,369,-33,637,-30,1,-217,-289,-321,1990,-425,-16,-225,-560,-312,-913,-72,-375,-53,118,-439,526,264,-336,924,131,-283,-321,-476,-548,2245,-321,517,-226,-154,-401,-739,-285,-228,73,314,-59,68,330,150,454,-38,79,265,-328,-278,1600,-214,59,-108,-406,-247,-663,-298,-279,-136,11,-48,72,90,-352,862,-2,-94,-15,-157,-426]
[1484,-55,185,172,-60,-329,-400,-102,-214,-195,-163,-134,161,236,82,407,-243,-186,50,-61,-496,1439,-216,97,75,75,-498,-398,-167,-306,-78,2,11,183,233,-24,528,-182,-94,13,-294,-476,1321,-232,92,-5,12,-158,-447,-97,-353,-145,-121,-39,136,197,-41,374,-157,-10,-74,-232,-394,1496,34,61,162,-156,-377,-120,-192,-223,-108,-30,-67,63,147,-83,682,-16,86,-25,-81,-365,1430,-272,-30,67,111,-373,-320,-172,-56,-97,54,52,172,253,141,219,-111,49,-81,-42,-314,1480,-258,111,96,-144,-371,-261,-156,-158,-40,39,-139,-16,171,-101,446,-154,64,-7,-29,-289]
[2618,-269,349,74,-97,-529,-760,-510,-363,114,-182,-190,322,494,-78,677,-408,-69,198,-127,-921,2509,-379,236,115,-80,-974,-684,-382,-569,-9,83,-51,376,311,-89,684,-127,71,80,-411,-725,2243,-545,36,-58,-314,-490,-641,-435,-645,-272,-88,165,356,232,-277,531,-105,15,-52,-396,-528,2425,-91,43,299,-326,-624,-431,-224,-512,-10,28,-186,336,228,-207,872,9,39,121,-216,-452,2356,-418,70,60,34,-314,-469,-398,-157,-207,85,151,97,367,123,302,85,161,-35,-102,-512,2238,-554,197,231,-434,-904,-511,-202,-251,-60,36,-281,98,314,-305,500,-218,123,-48,-222,-657]
[2529,-84,327,186,-166,-818,-801,-442,-268,-152,54,-384,436,734,-132,500,-334,308,180,-227,-1100,2381,-247,272,309,-229,-1113,-804,-285,-364,-26,206,-122,456,655,-118,706,-158,-37,136,-324,-817,2680,-464,384,131,-356,-411,-949,-527,-443,-473,-10,81,400,496,-311,506,-84,113,-200,-432,-611,2854,-78,25,344,-455,-838,-507,-454,-572,-83,4,-244,390,423,-213,484,12,-55,160,-155,-551,2590,-617,24,59,89,-292,-519,-481,-17,-154,224,611,330,548,124,155,79,126,114,-43,-484,2689,-550,204,119,-319,-929,-645,-510,-197,-232,260,-133,273,391,-304,221,-292,115,-152,-275,-856]
[2724,32,447,-33,-151,-707,-1145,-522,-326,-19,-30,-302,244,556,7,644,-429,272,9,-360,-1137,2784,-283,140,136,-188,-1038,-1107,-611,-479,-88,-68,-326,332,395,-245,721,110,156,-6,-593,-957,2456,-394,216,120,-308,-469,-599,-458,-546,-255,-273,-94,435,506,-185,736,-56,227,-142,-407,-730,2899,-47,43,413,-324,-520,-824,-454,-397,-149,-81,-556,497,365,-189,774,-74,-12,-88,-436,-898,2497,-297,296,171,143,-430,-700,-525,-57,-222,58,339,375,643,115,288,104,123,74,-211,-459,2486,-153,19,130,-238,-670,-500,-253,-211,-171,-215,0,196,420,-319,480,-60,187,63,-58,-659]
[1619,-8,163,-123,107,-299,-720,-277,-271,233,-16,-94,250,292,-159,656,-275,117,-31,-227,-639,1688,-320,82,125,-75,-572,-632,-258,-463,-12,-209,-108,281,344,-180,635,249,-62,-23,-541,-499,1589,-303,243,-114,-132,-298,-479,-647,-476,-62,-224,-40,257,387,-64,605,-103,139,-242,-399,-600,1668,-297,251,200,-242,14,-617,-170,-434,-23,-43,-397,396,156,-221,643,160,11,-100,-286,-402,1629,-174,325,-33,130,-219,-473,-313,-197,-157,2,177,89,279,270,167,47,-133,124,-330,-341,1616,-305,5,-8,-122,-324,-311,-170,-298,-78,-228,-15,175,206,-104,543,134,-66,-91,0,-354]

{"sheet":"truncate","index":2,"n_rows":25,"n_cols":126,"rows_kept":25,"cut":false,"hidden":false,"merged":[]}
[{"$f":"IF(im2colAll_confW4!A1:DV25 > 0, ROUNDDOWN(im2colAll_confW4!A1:DV25/2^4, 0), ROUNDUP(im2colAll_confW4!A1:DV25/2^4, 0))","v":111},{"$f":"IF(im2colAll_confW4!B1:DW25 > 0, ROUNDDOWN(im2colAll_confW4!B1:DW25/2^4, 0), ROUNDUP(im2colAll_confW4!B1:DW25/2^4, 0))","v":15},{"$f":"IF(im2colAll_confW4!C1:DX25 > 0, ROUNDDOWN(im2colAll_confW4!C1:DX25/2^4, 0), ROUNDUP(im2colAll_confW4!C1:DX25/2^4, 0))","v":7},{"$f":"IF(im2colAll_confW4!D1:DY25 > 0, ROUNDDOWN(im2colAll_confW4!D1:DY25/2^4, 0), ROUNDUP(im2colAll_confW4!D1:DY25/2^4, 0))","v":1},{"$f":"IF(im2colAll_confW4!E1:DZ25 > 0, ROUNDDOWN(im2colAll_confW4!E1:DZ25/2^4, 0), ROUNDUP(im2colAll_confW4!E1:DZ25/2^4, 0))","v":8},{"$f":"IF(im2colAll_confW4!F1:EA25 > 0, ROUNDDOWN(im2colAll_confW4!F1:EA25/2^4, 0), ROUNDUP(im2colAll_confW4!F1:EA25/2^4, 0))","v":-8},{"$f":"IF(im2colAll_confW4!G1:EB25 > 0, ROUNDDOWN(im2colAll_confW4!G1:EB25/2^4, 0), ROUNDUP(im2colAll_confW4!G1:EB25/2^4, 0))","v":-2},{"$f":"IF(im2colAll_confW4!H1:EC25 > 0, ROUNDDOWN(im2colAll_confW4!H1:EC25/2^4, 0), ROUNDUP(im2colAll_confW4!H1:EC25/2^4, 0))","v":-7},{"$f":"IF(im2colAll_confW4!I1:ED25 > 0, ROUNDDOWN(im2colAll_confW4!I1:ED25/2^4, 0), ROUNDUP(im2colAll_confW4!I1:ED25/2^4, 0))","v":-26},{"$f":"IF(im2colAll_confW4!J1:EE25 > 0, ROUNDDOWN(im2colAll_confW4!J1:EE25/2^4, 0), ROUNDUP(im2colAll_confW4!J1:EE25/2^4, 0))","v":-6},{"$f":"IF(im2colAll_confW4!K1:EF25 > 0, ROUNDDOWN(im2colAll_confW4!K1:EF25/2^4, 0), ROUNDUP(im2colAll_confW4!K1:EF25/2^4, 0))","v":-5},{"$f":"IF(im2colAll_confW4!L1:EG25 > 0, ROUNDDOWN(im2colAll_confW4!L1:EG25/2^4, 0), ROUNDUP(im2colAll_confW4!L1:EG25/2^4, 0))","v":11},{"$f":"IF(im2colAll_confW4!M1:EH25 > 0, ROUNDDOWN(im2colAll_confW4!M1:EH25/2^4, 0), ROUNDUP(im2colAll_confW4!M1:EH25/2^4, 0))","v":-11},{"$f":"IF(im2colAll_confW4!N1:EI25 > 0, ROUNDDOWN(im2colAll_confW4!N1:EI25/2^4, 0), ROUNDUP(im2colAll_confW4!N1:EI25/2^4, 0))","v":9},{"$f":"IF(im2colAll_confW4!O1:EJ25 > 0, ROUNDDOWN(im2colAll_confW4!O1:EJ25/2^4, 0), ROUNDUP(im2colAll_confW4!O1:EJ25/2^4, 0))","v":4},{"$f":"IF(im2colAll_confW4!P1:EK25 > 0, ROUNDDOWN(im2colAll_confW4!P1:EK25/2^4, 0), ROUNDUP(im2colAll_confW4!P1:EK25/2^4, 0))","v":33},{"$f":"IF(im2colAll_confW4!Q1:EL25 > 0, ROUNDDOWN(im2colAll_confW4!Q1:EL25/2^4, 0), ROUNDUP(im2colAll_confW4!Q1:EL25/2^4, 0))","v":1},{"$f":"IF(im2colAll_confW4!R1:EM25 > 0, ROUNDDOWN(im2colAll_confW4!R1:EM25/2^4, 0), ROUNDUP(im2colAll_confW4!R1:EM25/2^4, 0))","v":-31},{"$f":"IF(im2colAll_confW4!S1:EN25 > 0, ROUNDDOWN(im2colAll_confW4!S1:EN25/2^4, 0), ROUNDUP(im2colAll_confW4!S1:EN25/2^4, 0))","v":-1},{"$f":"IF(im2colAll_confW4!T1:EO25 > 0, ROUNDDOWN(im2colAll_confW4!T1:EO25/2^4, 0), ROUNDUP(im2colAll_confW4!T1:EO25/2^4, 0))","v":-9},{"$f":"IF(im2colAll_confW4!U1:EP25 > 0, ROUNDDOWN(im2colAll_confW4!U1:EP25/2^4, 0), ROUNDUP(im2colAll_confW4!U1:EP25/2^4, 0))","v":-12},{"$f":"IF(im2colAll_confW4!V1:EQ25 > 0, ROUNDDOWN(im2colAll_confW4!V1:EQ25/2^4, 0), ROUNDUP(im2colAll_confW4!V1:EQ25/2^4, 0))","v":109},{"$f":"IF(im2colAll_confW4!W1:ER25 > 0, ROUNDDOWN(im2colAll_confW4!W1:ER25/2^4, 0), ROUNDUP(im2colAll_confW4!W1:ER25/2^4, 0))","v":9},{"$f":"IF(im2colAll_confW4!X1:ES25 > 0, ROUNDDOWN(im2colAll_confW4!X1:ES25/2^4, 0), ROUNDUP(im2colAll_confW4!X1:ES25/2^4, 0))","v":-4},{"$f":"IF(im2colAll_confW4!Y1:ET25 > 0, ROUNDDOWN(im2colAll_confW4!Y1:ET25/2^4, 0), ROUNDUP(im2colAll_confW4!Y1:ET25/2^4, 0))","v":-5},{"$f":"IF(im2colAll_confW4!Z1:EU25 > 0, ROUNDDOWN(im2colAll_confW4!Z1:EU25/2^4, 0), ROUNDUP(im2colAll_confW4!Z1:EU25/2^4, 0))","v":8},{"$f":"IF(im2colAll_confW4!AA1:EV25 > 0, ROUNDDOWN(im2colAll_confW4!AA1:EV25/2^4, 0), ROUNDUP(im2colAll_confW4!AA1:EV25/2^4, 0))","v":-21},{"$f":"IF(im2colAll_confW4!AB1:EW25 > 0, ROUNDDOWN(im2colAll_confW4!AB1:EW25/2^4, 0), ROUNDUP(im2colAll_confW4!AB1:EW25/2^4, 0))","v":-4},{"$f":"IF(im2colAll_confW4!AC1:EX25 > 0, ROUNDDOWN(im2colAll_confW4!AC1:EX25/2^4, 0), ROUNDUP(im2colAll_confW4!AC1:EX25/2^4, 0))","v":0},{"$f":"IF(im2colAll_confW4!AD1:EY25 > 0, ROUNDDOWN(im2colAll_confW4!AD1:EY25/2^4, 0), ROUNDUP(im2colAll_confW4!AD1:EY25/2^4, 0))","v":-42},{"$f":"IF(im2colAll_confW4!AE1:EZ25 > 0, ROUNDDOWN(im2colAll_confW4!AE1:EZ25/2^4, 0), ROUNDUP(im2colAll_confW4!AE1:EZ25/2^4, 0))","v":-5},{"$f":"IF(im2colAll_confW4!AF1:FA25 > 0, ROUNDDOWN(im2colAll_confW4!AF1:FA25/2^4, 0), ROUNDUP(im2colAll_confW4!AF1:FA25/2^4, 0))","v":-7},{"$f":"IF(im2colAll_confW4!AG1:FB25 > 0, ROUNDDOWN(im2colAll_confW4!AG1:FB25/2^4, 0), ROUNDUP(im2colAll_confW4!AG1:FB25/2^4, 0))","v":-3},{"$f":"IF(im2colAll_confW4!AH1:FC25 > 0, ROUNDDOWN(im2colAll_confW4!AH1:FC25/2^4, 0), ROUNDUP(im2colAll_confW4!AH1:FC25/2^4, 0))","v":-14},{"$f":"IF(im2colAll_confW4!AI1:FD25 > 0, ROUNDDOWN(im2colAll_confW4!AI1:FD25/2^4, 0), ROUNDUP(im2colAll_confW4!AI1:FD25/2^4, 0))","v":7},{"$f":"IF(im2colAll_confW4!AJ1:FE25 > 0, ROUNDDOWN(im2colAll_confW4!AJ1:FE25/2^4, 0), ROUNDUP(im2colAll_confW4!AJ1:FE25/2^4, 0))","v":-2},{"$f":"IF(im2colAll_confW4!AK1:FF25 > 0, ROUNDDOWN(im2colAll_confW4!AK1:FF25/2^4, 0), ROUNDUP(im2colAll_confW4!AK1:FF25/2^4, 0))","v":41},{"$f":"IF(im2colAll_confW4!AL1:FG25 > 0, ROUNDDOWN(im2colAll_confW4!AL1:FG25/2^4, 0), ROUNDUP(im2colAll_confW4!AL1:FG25/2^4, 0))","v":6},{"$f":"IF(im2colAll_confW4!AM1:FH25 > 0, ROUNDDOWN(im2colAll_confW4!AM1:FH25/2^4, 0), ROUNDUP(im2colAll_confW4!AM1:FH25/2^4, 0))","v":-26},{"$f":"IF(im2colAll_confW4!AN1:FI25 > 0, ROUNDDOWN(im2colAll_confW4!AN1:FI25/2^4, 0), ROUNDUP(im2colAll_confW4!AN1:FI25/2^4, 0))","v":-4},{"$f":"IF(im2colAll_confW4!AO1:FJ25 > 0, ROUNDDOWN(im2colAll_confW4!AO1:FJ25/2^4, 0), ROUNDUP(im2colAll_confW4!AO1:FJ25/2^4, 0))","v":-11},{"$f":"IF(im2colAll_confW4!AP1:FK25 > 0, ROUNDDOWN(im2colAll_confW4!AP1:FK25/2^4, 0), ROUNDUP(im2colAll_confW4!AP1:FK25/2^4, 0))","v":-18},{"$f":"IF(im2colAll_confW4!AQ1:FL25 > 0, ROUNDDOWN(im2colAll_confW4!AQ1:FL25/2^4, 0), ROUNDUP(im2colAll_confW4!AQ1:FL25/2^4, 0))","v":106},{"$f":"IF(im2colAll_confW4!AR1:FM25 > 0, ROUNDDOWN(im2colAll_confW4!AR1:FM25/2^4, 0), ROUNDUP(im2colAll_confW4!AR1:FM25/2^4, 0))","v":8},{"$f":"IF(im2colAll_confW4!AS1:FN25 > 0, ROUNDDOWN(im2colAll_confW4!AS1:FN25/2^4, 0), ROUNDUP(im2colAll_confW4!AS1:FN25/2^4, 0))","v":-13},{"$f":"IF(im2colAll_confW4!AT1:FO25 > 0, ROUNDDOWN(im2colAll_confW4!AT1:FO25/2^4, 0), ROUNDUP(im2colAll_confW4!AT1:FO25/2^4, 0))","v":-9},{"$f":"IF(im2colAll_confW4!AU1:FP25 > 0, ROUNDDOWN(im2colAll_confW4!AU1:FP25/2^4, 0), ROUNDUP(im2colAll_confW4!AU1:FP25/2^4, 0))","v":2},{"$f":"IF(im2colAll_confW4!AV1:FQ25 > 0, ROUNDDOWN(im2colAll_confW4!AV1:FQ25/2^4, 0), ROUNDUP(im2colAll_confW4!AV1:FQ25/2^4, 0))","v":-22},{"$f":"IF(im2colAll_confW4!AW1:FR25 > 0, ROUNDDOWN(im2colAll_confW4!AW1:FR25/2^4, 0), ROUNDUP(im2colAll_confW4!AW1:FR25/2^4, 0))","v":-6},{"$f":"IF(im2colAll_confW4!AX1:FS25 > 0, ROUNDDOWN(im2colAll_confW4!AX1:FS25/2^4, 0), ROUNDUP(im2colAll_confW4!AX1:FS25/2^4, 0))","v":1},{"$f":"IF(im2colAll_confW4!AY1:FT25 > 0, ROUNDDOWN(im2colAll_confW4!AY1:FT25/2^4, 0), ROUNDUP(im2colAll_confW4!AY1:FT25/2^4, 0))","v":-41},{"$f":"IF(im2colAll_confW4!AZ1:FU25 > 0, ROUNDDOWN(im2colAll_confW4!AZ1:FU25/2^4, 0), ROUNDUP(im2colAll_confW4!AZ1:FU25/2^4, 0))","v":-19},{"$f":"IF(im2colAll_confW4!BA1:FV25 > 0, ROUNDDOWN(im2colAll_confW4!BA1:FV25/2^4, 0), ROUNDUP(im2colAll_confW4!BA1:FV25/2^4, 0))","v":-3},{"$f":"IF(im2colAll_confW4!BB1:FW25 > 0, ROUNDDOWN(im2colAll_confW4!BB1:FW25/2^4, 0), ROUNDUP(im2colAll_confW4!BB1:FW25/2^4, 0))","v":-6},{"$f":"IF(im2colAll_confW4!BC1:FX25 > 0, ROUNDDOWN(im2colAll_confW4!BC1:FX25/2^4, 0), ROUNDUP(im2colAll_confW4!BC1:FX25/2^4, 0))","v":-15},{"$f":"IF(im2colAll_confW4!BD1:FY25 > 0, ROUNDDOWN(im2colAll_confW4!BD1:FY25/2^4, 0), ROUNDUP(im2colAll_confW4!BD1:FY25/2^4, 0))","v":4},{"$f":"IF(im2colAll_confW4!BE1:FZ25 > 0, ROUNDDOWN(im2colAll_confW4!BE1:FZ25/2^4, 0), ROUNDUP(im2colAll_confW4!BE1:FZ25/2^4, 0))","v":-2},{"$f":"IF(im2colAll_confW4!BF1:GA25 > 0, ROUNDDOWN(im2colAll_confW4!BF1:GA25/2^4, 0), ROUNDUP(im2colAll_confW4!BF1:GA25/2^4, 0))","v":31},{"$f":"IF(im2colAll_confW4!BG1:GB25 > 0, ROUNDDOWN(im2colAll_confW4!BG1:GB25/2^4, 0), ROUNDUP(im2colAll_confW4!BG1:GB25/2^4, 0))","v":1},{"$f":"IF(im2colAll_confW4!BH1:GC25 > 0, ROUNDDOWN(im2colAll_confW4!BH1:GC25/2^4, 0), ROUNDUP(im2colAll_confW4!BH1:GC25/2^4, 0))","v":-24},{"$f":"IF(im2colAll_confW4!BI1:GD25 > 0, ROUNDDOWN(im2colAll_confW4!BI1:GD25/2^4, 0), ROUNDUP(im2colAll_confW4!BI1:GD25/2^4, 0))","v":-4},{"$f":"IF(im2colAll_confW4!BJ1:GE25 > 0, ROUNDDOWN(im2colAll_confW4!BJ1:GE25/2^4, 0), ROUNDUP(im2colAll_confW4!BJ1:GE25/2^4, 0))","v":-6},{"$f":"IF(im2colAll_confW4!BK1:GF25 > 0, ROUNDDOWN(im2colAll_confW4!BK1:GF25/2^4, 0), ROUNDUP(im2colAll_confW4!BK1:GF25/2^4, 0))","v":-5},{"$f":"IF(im2colAll_confW4!BL1:GG25 > 0, ROUNDDOWN(im2colAll_confW4!BL1:GG25/2^4, 0), ROUNDUP(im2colAll_confW4!BL1:GG25/2^4, 0))","v":109},{"$f":"IF(im2colAll_confW4!BM1:GH25 > 0, ROUNDDOWN(im2colAll_confW4!BM1:GH25/2^4, 0), ROUNDUP(im2colAll_confW4!BM1:GH25/2^4, 0))","v":-11},{"$f":"IF(im2colAll_confW4!BN1:GI25 > 0, ROUNDDOWN(im2colAll_confW4!BN1:GI25/2^4, 0), ROUNDUP(im2colAll_confW4!BN1:GI25/2^4, 0))","v":-1},{"$f":"IF(im2colAll_confW4!BO1:GJ25 > 0, ROUNDDOWN(im2colAll_confW4!BO1:GJ25/2^4, 0), ROUNDUP(im2colAll_confW4!BO1:GJ25/2^4, 0))","v":-4},{"$f":"IF(im2colAll_confW4!BP1:GK25 > 0, ROUNDDOWN(im2colAll_confW4!BP1:GK25/2^4, 0), ROUNDUP(im2colAll_confW4!BP1:GK25/2^4, 0))","v":3},{"$f":"IF(im2colAll_confW4!BQ1:GL25 > 0, ROUNDDOWN(im2colAll_confW4!BQ1:GL25/2^4, 0), ROUNDUP(im2colAll_confW4!BQ1:GL25/2^4, 0))","v":-17},{"$f":"IF(im2colAll_confW4!BR1:GM25 > 0, ROUNDDOWN(im2colAll_confW4!BR1:GM25/2^4, 0), ROUNDUP(im2colAll_confW4!BR1:GM25/2^4, 0))","v":-2},{"$f":"IF(im2colAll_confW4!BS1:GN25 > 0, ROUNDDOWN(im2colAll_confW4!BS1:GN25/2^4, 0), ROUNDUP(im2colAll_confW4!BS1:GN25/2^4, 0))","v":-2},{"$f":"IF(im2colAll_confW4!BT1:GO25 > 0, ROUNDDOWN(im2colAll_confW4!BT1:GO25/2^4, 0), ROUNDUP(im2colAll_confW4!BT1:GO25/2^4, 0))","v":-30},{"$f":"IF(im2colAll_confW4!BU1:GP25 > 0, ROUNDDOWN(im2colAll_confW4!BU1:GP25/2^4, 0), ROUNDUP(im2colAll_confW4!BU1:GP25/2^4, 0))","v":-11},{"$f":"IF(im2colAll_confW4!BV1:GQ25 > 0, ROUNDDOWN(im2colAll_confW4!BV1:GQ25/2^4, 0), ROUNDUP(im2colAll_confW4!BV1:GQ25/2^4, 0))","v":-15},{"$f":"IF(im2colAll_confW4!BW1:GR25 > 0, ROUNDDOWN(im2colAll_confW4!BW1:GR25/2^4, 0), ROUNDUP(im2colAll_confW4!BW1:GR25/2^4, 0))","v":-6},{"$f":"IF(im2colAll_confW4!BX1:GS25 > 0, ROUNDDOWN(im2colAll_confW4!BX1:GS25/2^4, 0), ROUNDUP(im2colAll_confW4!BX1:GS25/2^4, 0))","v":-22},{"$f":"IF(im2colAll_confW4!BY1:GT25 > 0, ROUNDDOWN(im2colAll_confW4!BY1:GT25/2^4, 0), ROUNDUP(im2colAll_confW4!BY1:GT25/2^4, 0))","v":6},{"$f":"IF(im2colAll_confW4!BZ1:GU25 > 0, ROUNDDOWN(im2colAll_confW4!BZ1:GU25/2^4, 0), ROUNDUP(im2colAll_confW4!BZ1:GU25/2^4, 0))","v":7},{"$f":"IF(im2colAll_confW4!CA1:GV25 > 0, ROUNDDOWN(im2colAll_confW4!CA1:GV25/2^4, 0), ROUNDUP(im2colAll_confW4!CA1:GV25/2^4, 0))","v":32},{"$f":"IF(im2colAll_confW4!CB1:GW25 > 0, ROUNDDOWN(im2colAll_confW4!CB1:GW25/2^4, 0), ROUNDUP(im2colAll_confW4!CB1:GW25/2^4, 0))","v":2},{"$f":"IF(im2colAll_confW4!CC1:GX25 > 0, ROUNDDOWN(im2colAll_confW4!CC1:GX25/2^4, 0), ROUNDUP(im2colAll_confW4!CC1:GX25/2^4, 0))","v":-15},{"$f":"IF(im2colAll_confW4!CD1:GY25 > 0, ROUNDDOWN(im2colAll_confW4!CD1:GY25/2^4, 0), ROUNDUP(im2colAll_confW4!CD1:GY25/2^4, 0))","v":-6},{"$f":"IF(im2colAll_confW4!CE1:GZ25 > 0, ROUNDDOWN(im2colAll_confW4!CE1:GZ25/2^4, 0), ROUNDUP(im2colAll_confW4!CE1:GZ25/2^4, 0))","v":-12},{"$f":"IF(im2colAll_confW4!CF1:HA25 > 0, ROUNDDOWN(im2colAll_confW4!CF1:HA25/2^4, 0), ROUNDUP(im2colAll_confW4!CF1:HA25/2^4, 0))","v":-18},{"$f":"IF(im2colAll_confW4!CG1:HB25 > 0, ROUNDDOWN(im2colAll_confW4!CG1:HB25/2^4, 0), ROUNDUP(im2colAll_confW4!CG1:HB25/2^4, 0))","v":108},{"$f":"IF(im2colAll_confW4!CH1:HC25 > 0, ROUNDDOWN(im2colAll_confW4!CH1:HC25/2^4, 0), ROUNDUP(im2colAll_confW4!CH1:HC25/2^4, 0))","v":6},{"$f":"IF(im2colAll_confW4!CI1:HD25 > 0, ROUNDDOWN(im2colAll_confW4!CI1:HD25/2^4, 0), ROUNDUP(im2colAll_confW4!CI1:HD25/2^4, 0))","v":-7},{"$f":"IF(im2colAll_confW4!CJ1:HE25 > 0, ROUNDDOWN(im2colAll_confW4!CJ1:HE25/2^4, 0), ROUNDUP(im2colAll_confW4!CJ1:HE25/2^4, 0))","v":-1},{"$f":"IF(im2colAll_confW4!CK1:HF25 > 0, ROUNDDOWN(im2colAll_confW4!CK1:HF25/2^4, 0), ROUNDUP(im2colAll_confW4!CK1:HF25/2^4, 0))","v":3},{"$f":"IF(im2colAll_confW4!CL1:HG25 > 0, ROUNDDOWN(im2colAll_confW4!CL1:HG25/2^4, 0), ROUNDUP(im2colAll_confW4!CL1:HG25/2^4, 0))","v":-14},{"$f":"IF(im2colAll_confW4!CM1:HH25 > 0, ROUNDDOWN(im2colAll_confW4!CM1:HH25/2^4, 0), ROUNDUP(im2colAll_confW4!CM1:HH25/2^4, 0))","v":-14},{"$f":"IF(im2colAll_confW4!CN1:HI25 > 0, ROUNDDOWN(im2colAll_confW4!CN1:HI25/2^4, 0), ROUNDUP(im2colAll_confW4!CN1:HI25/2^4, 0))","v":-1},{"$f":"IF(im2colAll_confW4!CO1:HJ25 > 0, ROUNDDOWN(im2colAll_confW4!CO1:HJ25/2^4, 0), ROUNDUP(im2colAll_confW4!CO1:HJ25/2^4, 0))","v":-28},{"$f":"IF(im2colAll_confW4!CP1:HK25 > 0, ROUNDDOWN(im2colAll_confW4!CP1:HK25/2^4, 0), ROUNDUP(im2colAll_confW4!CP1:HK25/2^4, 0))","v":-16},{"$f":"IF(im2colAll_confW4!CQ1:HL25 > 0, ROUNDDOWN(im2colAll_confW4!CQ1:HL25/2^4, 0), ROUNDUP(im2colAll_confW4!CQ1:HL25/2^4, 0))","v":-1},{"$f":"IF(im2colAll_confW4!CR1:HM25 > 0, ROUNDDOWN(im2colAll_confW4!CR1:HM25/2^4, 0), ROUNDUP(im2colAll_confW4!CR1:HM25/2^4, 0))","v":2},{"$f":"IF(im2colAll_confW4!CS1:HN25 > 0, ROUNDDOWN(im2colAll_confW4!CS1:HN25/2^4, 0), ROUNDUP(im2colAll_confW4!CS1:HN25/2^4, 0))","v":-16},{"$f":"IF(im2colAll_confW4!CT1:HO25 > 0, ROUNDDOWN(im2colAll_confW4!CT1:HO25/2^4, 0), ROUNDUP(im2colAll_confW4!CT1:HO25/2^4, 0))","v":3},{"$f":"IF(im2colAll_confW4!CU1:HP25 > 0, ROUNDDOWN(im2colAll_confW4!CU1:HP25/2^4, 0), ROUNDUP(im2colAll_confW4!CU1:HP25/2^4, 0))","v":4},{"$f":"IF(im2colAll_confW4!CV1:HQ25 > 0, ROUNDDOWN(im2colAll_confW4!CV1:HQ25/2^4, 0), ROUNDUP(im2colAll_confW4!CV1:HQ25/2^4, 0))","v":19},{"$f":"IF(im2colAll_confW4!CW1:HR25 > 0, ROUNDDOWN(im2colAll_confW4!CW1:HR25/2^4, 0), ROUNDUP(im2colAll_confW4!CW1:HR25/2^4, 0))","v":-1},{"$f":"IF(im2colAll_confW4!CX1:HS25 > 0, ROUNDDOWN(im2colAll_confW4!CX1:HS25/2^4, 0), ROUNDUP(im2colAll_confW4!CX1:HS25/2^4, 0))","v":-25},{"$f":"IF(im2colAll_confW4!CY1:HT25 > 0, ROUNDDOWN(im2colAll_confW4!CY1:HT25/2^4, 0), ROUNDUP(im2colAll_confW4!CY1:HT25/2^4, 0))","v":-9},{"$f":"IF(im2colAll_confW4!CZ1:HU25 > 0, ROUNDDOWN(im2colAll_confW4!CZ1:HU25/2^4, 0), ROUNDUP(im2colAll_confW4!CZ1:HU25/2^4, 0))","v":5},{"$f":"IF(im2colAll_confW4!DA1:HV25 > 0, ROUNDDOWN(im2colAll_confW4!DA1:HV25/2^4, 0), ROUNDUP(im2colAll_confW4!DA1:HV25/2^4, 0))","v":-17},{"$f":"IF(im2colAll_confW4!DB1:HW25 > 0, ROUNDDOWN(im2colAll_confW4!DB1:HW25/2^4, 0), ROUNDUP(im2colAll_confW4!DB1:HW25/2^4, 0))","v":108},{"$f":"IF(im2colAll_confW4!DC1:HX25 > 0, ROUNDDOWN(im2colAll_confW4!DC1:HX25/2^4, 0), ROUNDUP(im2colAll_confW4!DC1:HX25/2^4, 0))","v":-12},{"$f":"IF(im2colAll_confW4!DD1:HY25 > 0, ROUNDDOWN(im2colAll_confW4!DD1:HY25/2^4, 0), ROUNDUP(im2colAll_confW4!DD1:HY25/2^4, 0))","v":-5},{"$f":"IF(im2colAll_confW4!DE1:HZ25 > 0, ROUNDDOWN(im2colAll_confW4!DE1:HZ25/2^4, 0), ROUNDUP(im2colAll_confW4!DE1:HZ25/2^4, 0))","v":-11},{"$f":"IF(im2colAll_confW4!DF1:IA25 > 0, ROUNDDOWN(im2colAll_confW4!DF1:IA25/2^4, 0), ROUNDUP(im2colAll_confW4!DF1:IA25/2^4, 0))","v":11},{"$f":"IF(im2colAll_confW4!DG1:IB25 > 0, ROUNDDOWN(im2colAll_confW4!DG1:IB25/2^4, 0), ROUNDUP(im2colAll_confW4!DG1:IB25/2^4, 0))","v":-14},{"$f":"IF(im2colAll_confW4!DH1:IC25 > 0, ROUNDDOWN(im2colAll_confW4!DH1:IC25/2^4, 0), ROUNDUP(im2colAll_confW4!DH1:IC25/2^4, 0))","v":-10},{"$f":"IF(im2colAll_confW4!DI1:ID25 > 0, ROUNDDOWN(im2colAll_confW4!DI1:ID25/2^4, 0), ROUNDUP(im2colAll_confW4!DI1:ID25/2^4, 0))","v":-2},{"$f":"IF(im2colAll_confW4!DJ1:IE25 > 0, ROUNDDOWN(im2colAll_confW4!DJ1:IE25/2^4, 0), ROUNDUP(im2colAll_confW4!DJ1:IE25/2^4, 0))","v":-24},{"$f":"IF(im2colAll_confW4!DK1:IF25 > 0, ROUNDDOWN(im2colAll_confW4!DK1:IF25/2^4, 0), ROUNDUP(im2colAll_confW4!DK1:IF25/2^4, 0))","v":0},{"$f":"IF(im2colAll_confW4!DL1:IG25 > 0, ROUNDDOWN(im2colAll_confW4!DL1:IG25/2^4, 0), ROUNDUP(im2colAll_confW4!DL1:IG25/2^4, 0))","v":-12},{"$f":"IF(im2colAll_confW4!DM1:IH25 > 0, ROUNDDOWN(im2colAll_confW4!DM1:IH25/2^4, 0), ROUNDUP(im2colAll_confW4!DM1:IH25/2^4, 0))","v":-13},{"$f":"IF(im2colAll_confW4!DN1:II25 > 0, ROUNDDOWN(im2colAll_confW4!DN1:II25/2^4, 0), ROUNDUP(im2colAll_confW4!DN1:II25/2^4, 0))","v":-26},{"$f":"IF(im2colAll_confW4!DO1:IJ25 > 0, ROUNDDOWN(im2colAll_confW4!DO1:IJ25/2^4, 0), ROUNDUP(im2colAll_confW4!DO1:IJ25/2^4, 0))","v":7},{"$f":"IF(im2colAll_confW4!DP1:IK25 > 0, ROUNDDOWN(im2colAll_confW4!DP1:IK25/2^4, 0), ROUNDUP(im2colAll_confW4!DP1:IK25/2^4, 0))","v":9},{"$f":"IF(im2colAll_confW4!DQ1:IL25 > 0, ROUNDDOWN(im2colAll_confW4!DQ1:IL25/2^4, 0), ROUNDUP(im2colAll_confW4!DQ1:IL25/2^4, 0))","v":30},{"$f":"IF(im2colAll_confW4!DR1:IM25 > 0, ROUNDDOWN(im2colAll_confW4!DR1:IM25/2^4, 0), ROUNDUP(im2colAll_confW4!DR1:IM25/2^4, 0))","v":3},{"$f":"IF(im2colAll_confW4!DS1:IN25 > 0, ROUNDDOWN(im2colAll_confW4!DS1:IN25/2^4, 0), ROUNDUP(im2colAll_confW4!DS1:IN25/2^4, 0))","v":-11},{"$f":"IF(im2colAll_confW4!DT1:IO25 > 0, ROUNDDOWN(im2colAll_confW4!DT1:IO25/2^4, 0), ROUNDUP(im2colAll_confW4!DT1:IO25/2^4, 0))","v":-3},{"$f":"IF(im2colAll_confW4!DU1:IP25 > 0, ROUNDDOWN(im2colAll_confW4!DU1:IP25/2^4, 0), ROUNDUP(im2colAll_confW4!DU1:IP25/2^4, 0))","v":-10},{"$f":"IF(im2colAll_confW4!DV1:IQ25 > 0, ROUNDDOWN(im2colAll_confW4!DV1:IQ25/2^4, 0), ROUNDUP(im2colAll_confW4!DV1:IQ25/2^4, 0))","v":-14}]
[{"$f":"IF(im2colAll_confW4!A2:DV26 > 0, ROUNDDOWN(im2colAll_confW4!A2:DV26/2^4, 0), ROUNDUP(im2colAll_confW4!A2:DV26/2^4, 0))","v":190},{"$f":"IF(im2colAll_confW4!B2:DW26 > 0, ROUNDDOWN(im2colAll_confW4!B2:DW26/2^4, 0), ROUNDUP(im2colAll_confW4!B2:DW26/2^4, 0))","v":13},{"$f":"IF(im2colAll_confW4!C2:DX26 > 0, ROUNDDOWN(im2colAll_confW4!C2:DX26/2^4, 0), ROUNDUP(im2colAll_confW4!C2:DX26/2^4, 0))","v":-8},{"$f":"IF(im2colAll_confW4!D2:DY26 > 0, ROUNDDOWN(im2colAll_confW4!D2:DY26/2^4, 0), ROUNDUP(im2colAll_confW4!D2:DY26/2^4, 0))","v":-12},{"$f":"IF(im2colAll_confW4!E2:DZ26 > 0, ROUNDDOWN(im2colAll_confW4!E2:DZ26/2^4, 0), ROUNDUP(im2colAll_confW4!E2:DZ26/2^4, 0))","v":3},{"$f":"IF(im2colAll_confW4!F2:EA26 > 0, ROUNDDOWN(im2colAll_confW4!F2:EA26/2^4, 0), ROUNDUP(im2colAll_confW4!F2:EA26/2^4, 0))","v":-30},{"$f":"IF(im2colAll_confW4!G2:EB26 > 0, ROUNDDOWN(im2colAll_confW4!G2:EB26/2^4, 0), ROUNDUP(im2colAll_confW4!G2:EB26/2^4, 0))","v":5},{"$f":"IF(im2colAll_confW4!H2:EC26 > 0, ROUNDDOWN(im2colAll_confW4!H2:EC26/2^4, 0), ROUNDUP(im2colAll_confW4!H2:EC26/2^4, 0))","v":0},{"$f":"IF(im2colAll_confW4!I2:ED26 > 0, ROUNDDOWN(im2colAll_confW4!I2:ED26/2^4, 0), ROUNDUP(im2colAll_confW4!I2:ED26/2^4, 0))","v":-44},{"$f":"IF(im2colAll_confW4!J2:EE26 > 0, ROUNDDOWN(im2colAll_confW4!J2:EE26/2^4, 0), ROUNDUP(im2colAll_confW4!J2:EE26/2^4, 0))","v":4},{"$f":"IF(im2colAll_confW4!K2:EF26 > 0, ROUNDDOWN(im2colAll_confW4!K2:EF26/2^4, 0), ROUNDUP(im2colAll_confW4!K2:EF26/2^4, 0))","v":-2},{"$f":"IF(im2colAll_confW4!L2:EG26 > 0, ROUNDDOWN(im2colAll_confW4!L2:EG26/2^4, 0), ROUNDUP(im2colAll_confW4!L2:EG26/2^4, 0))","v":9},{"$f":"IF(im2colAll_confW4!M2:EH26 > 0, ROUNDDOWN(im2colAll_confW4!M2:EH26/2^4, 0), ROUNDUP(im2colAll_confW4!M2:EH26/2^4, 0))","v":-1},{"$f":"IF(im2colAll_confW4!N2:EI26 > 0, ROUNDDOWN(im2colAll_confW4!N2:EI26/2^4, 0), ROUNDUP(im2colAll_confW4!N2:EI26/2^4, 0))","v":3},{"$f":"IF(im2colAll_confW4!O2:EJ26 > 0, ROUNDDOWN(im2colAll_confW4!O2:EJ26/2^4, 0), ROUNDUP(im2colAll_confW4!O2:EJ26/2^4, 0))","v":8},{"$f":"IF(im2colAll_confW4!P2:EK26 > 0, ROUNDDOWN(im2colAll_confW4!P2:EK26/2^4, 0), ROUNDUP(im2colAll_confW4!P2:EK26/2^4, 0))","v":85},{"$f":"IF(im2colAll_confW4!Q2:EL26 > 0, ROUNDDOWN(im2colAll_confW4!Q2:EL26/2^4, 0), ROUNDUP(im2colAll_confW4!Q2:EL26/2^4, 0))","v":-8},{"$f":"IF(im2colAll_confW4!R2:EM26 > 0, ROUNDDOWN(im2colAll_confW4!R2:EM26/2^4, 0), ROUNDUP(im2colAll_confW4!R2:EM26/2^4, 0))","v":-50},{"$f":"IF(im2colAll_confW4!S2:EN26 > 0, ROUNDDOWN(im2colAll_confW4!S2:EN26/2^4, 0), ROUNDUP(im2colAll_confW4!S2:EN26/2^4, 0))","v":20},{"$f":"IF(im2colAll_confW4!T2:EO26 > 0, ROUNDDOWN(im2colAll_confW4!T2:EO26/2^4, 0), ROUNDUP(im2colAll_confW4!T2:EO26/2^4, 0))","v":-20},{"$f":"IF(im2colAll_confW4!U2:EP26 > 0, ROUNDDOWN(im2colAll_confW4!U2:EP26/2^4, 0), ROUNDUP(im2colAll_confW4!U2:EP26/2^4, 0))","v":-12},{"$f":"IF(im2colAll_confW4!V2:EQ26 > 0, ROUNDDOWN(im2colAll_confW4!V2:EQ26/2^4, 0), ROUNDUP(im2colAll_confW4!V2:EQ26/2^4, 0))","v":185},{"$f":"IF(im2colAll_confW4!W2:ER26 > 0, ROUNDDOWN(im2colAll_confW4!W2:ER26/2^4, 0), ROUNDUP(im2colAll_confW4!W2:ER26/2^4, 0))","v":-11},{"$f":"IF(im2colAll_confW4!X2:ES26 > 0, ROUNDDOWN(im2colAll_confW4!X2:ES26/2^4, 0), ROUNDUP(im2colAll_confW4!X2:ES26/2^4, 0))","v":-21},{"$f":"IF(im2colAll_confW4!Y2:ET26 > 0, ROUNDDOWN(im2colAll_confW4!Y2:ET26/2^4, 0), ROUNDUP(im2colAll_confW4!Y2:ET26/2^4, 0))","v":-8},{"$f":"IF(im2colAll_confW4!Z2:EU26 > 0, ROUNDDOWN(im2colAll_confW4!Z2:EU26/2^4, 0), ROUNDUP(im2colAll_confW4!Z2:EU26/2^4, 0))","v":11},{"$f":"IF(im2colAll_confW4!AA2:EV26 > 0, ROUNDDOWN(im2colAll_confW4!AA2:EV26/2^4, 0), ROUNDUP(im2colAll_confW4!AA2:EV26/2^4, 0))","v":-39},{"$f":"IF(im2colAll_confW4!AB2:EW26 > 0, ROUNDDOWN(im2colAll_confW4!AB2:EW26/2^4, 0), ROUNDUP(im2colAll_confW4!AB2:EW26/2^4, 0))","v":-11},{"$f":"IF(im2colAll_confW4!AC2:EX26 > 0, ROUNDDOWN(im2colAll_confW4!AC2:EX26/2^4, 0), ROUNDUP(im2colAll_confW4!AC2:EX26/2^4, 0))","v":7},{"$f":"IF(im2colAll_confW4!AD2:EY26 > 0, ROUNDDOWN(im2colAll_confW4!AD2:EY26/2^4, 0), ROUNDUP(im2colAll_confW4!AD2:EY26/2^4, 0))","v":-70},{"$f":"IF(im2colAll_confW4!AE2:EZ26 > 0, ROUNDDOWN(im2colAll_confW4!AE2:EZ26/2^4, 0), ROUNDUP(im2colAll_confW4!AE2:EZ26/2^4, 0))","v":-7},{"$f":"IF(im2colAll_confW4!AF2:FA26 > 0, ROUNDDOWN(im2colAll_confW4!AF2:FA26/2^4, 0), ROUNDUP(im2colAll_confW4!AF2:FA26/2^4, 0))","v":1},{"$f":"IF(im2colAll_confW4!AG2:FB26 > 0, ROUNDDOWN(im2colAll_confW4!AG2:FB26/2^4, 0), ROUNDUP(im2colAll_confW4!AG2:FB26/2^4, 0))","v":-2},{"$f":"IF(im2colAll_confW4!AH2:FC26 > 0, ROUNDDOWN(im2colAll_confW4!AH2:FC26/2^4, 0), ROUNDUP(im2colAll_confW4!AH2:FC26/2^4, 0))","v":-6},{"$f":"IF(im2colAll_confW4!AI2:FD26 > 0, ROUNDDOWN(im2colAll_confW4!AI2:FD26/2^4, 0), ROUNDUP(im2colAll_confW4!AI2:FD26/2^4, 0))","v":6},{"$f":"IF(im2colAll_confW4!AJ2:FE26 > 0, ROUNDDOWN(im2colAll_confW4!AJ2:FE26/2^4, 0), ROUNDUP(im2colAll_confW4!AJ2:FE26/2^4, 0))","v":-15},{"$f":"IF(im2colAll_confW4!AK2:FF26 > 0, ROUNDDOWN(im2colAll_confW4!AK2:FF26/2^4, 0), ROUNDUP(im2colAll_confW4!AK2:FF26/2^4, 0))","v":90},{"$f":"IF(im2colAll_confW4!AL2:FG26 > 0, ROUNDDOWN(im2colAll_confW4!AL2:FG26/2^4, 0), ROUNDUP(im2colAll_confW4!AL2:FG26/2^4, 0))","v":11},{"$f":"IF(im2colAll_confW4!AM2:FH26 > 0, ROUNDDOWN(im2colAll_confW4!AM2:FH26/2^4, 0), ROUNDUP(im2colAll_confW4!AM2:FH26/2^4, 0))","v":-51},{"$f":"IF(im2colAll_confW4!AN2:FI26 > 0, ROUNDDOWN(im2colAll_confW4!AN2:FI26/2^4, 0), ROUNDUP(im2colAll_confW4!AN2:FI26/2^4, 0))","v":7},{"$f":"IF(im2colAll_confW4!AO2:FJ26 > 0, ROUNDDOWN(im2colAll_confW4!AO2:FJ26/2^4, 0), ROUNDUP(im2colAll_confW4!AO2:FJ26/2^4, 0))","v":-27},{"$f":"IF(im2colAll_confW4!AP2:FK26 > 0, ROUNDDOWN(im2colAll_confW4!AP2:FK26/2^4, 0), ROUNDUP(im2colAll_confW4!AP2:FK26/2^4, 0))","v":-33},{"$f":"IF(im2colAll_confW4!AQ2:FL26 > 0, ROUNDDOWN(im2colAll_confW4!AQ2:FL26/2^4, 0), ROUNDUP(im2colAll_confW4!AQ2:FL26/2^4, 0))","v":170},{"$f":"IF(im2colAll_confW4!AR2:FM26 > 0, ROUNDDOWN(im2colAll_confW4!AR2:FM26/2^4, 0), ROUNDUP(im2colAll_confW4!AR2:FM26/2^4, 0))","v":3},{"$f":"IF(im2colAll_confW4!AS2:FN26 > 0, ROUNDDOWN(im2colAll_confW4!AS2:FN26/2^4, 0), ROUNDUP(im2colAll_confW4!AS2:FN26/2^4, 0))","v":-35},{"$f":"IF(im2colAll_confW4!AT2:FO26 > 0, ROUNDDOWN(im2colAll_confW4!AT2:FO26/2^4, 0), ROUNDUP(im2colAll_confW4!AT2:FO26/2^4, 0))","v":-18},{"$f":"IF(im2colAll_confW4!AU2:FP26 > 0, ROUNDDOWN(im2colAll_confW4!AU2:FP26/2^4, 0), ROUNDUP(im2colAll_confW4!AU2:FP26/2^4, 0))","v":-2},{"$f":"IF(im2colAll_confW4!AV2:FQ26 > 0, ROUNDDOWN(im2colAll_confW4!AV2:FQ26/2^4, 0), ROUNDUP(im2colAll_confW4!AV2:FQ26/2^4, 0))","v":-34},{"$f":"IF(im2colAll_confW4!AW2:FR26 > 0, ROUNDDOWN(im2colAll_confW4!AW2:FR26/2^4, 0), ROUNDUP(im2colAll_confW4!AW2:FR26/2^4, 0))","v":-9},{"$f":"IF(im2colAll_confW4!AX2:FS26 > 0, ROUNDDOWN(im2colAll_confW4!AX2:FS26/2^4, 0), ROUNDUP(im2colAll_confW4!AX2:FS26/2^4, 0))","v":7},{"$f":"IF(im2colAll_confW4!AY2:FT26 > 0, ROUNDDOWN(im2colAll_confW4!AY2:FT26/2^4, 0), ROUNDUP(im2colAll_confW4!AY2:FT26/2^4, 0))","v":-63},{"$f":"IF(im2colAll_confW4!AZ2:FU26 > 0, ROUNDDOWN(im2colAll_confW4!AZ2:FU26/2^4, 0), ROUNDUP(im2colAll_confW4!AZ2:FU26/2^4, 0))","v":-23},{"$f":"IF(im2colAll_confW4!BA2:FV26 > 0, ROUNDDOWN(im2colAll_confW4!BA2:FV26/2^4, 0), ROUNDUP(im2colAll_confW4!BA2:FV26/2^4, 0))","v":-12},{"$f":"IF(im2colAll_confW4!BB2:FW26 > 0, ROUNDDOWN(im2colAll_confW4!BB2:FW26/2^4, 0), ROUNDUP(im2colAll_confW4!BB2:FW26/2^4, 0))","v":-1},{"$f":"IF(im2colAll_confW4!BC2:FX26 > 0, ROUNDDOWN(im2colAll_confW4!BC2:FX26/2^4, 0), ROUNDUP(im2colAll_confW4!BC2:FX26/2^4, 0))","v":-12},{"$f":"IF(im2colAll_confW4!BD2:FY26 > 0, ROUNDDOWN(im2colAll_confW4!BD2:FY26/2^4, 0), ROUNDUP(im2colAll_confW4!BD2:FY26/2^4, 0))","v":-5},{"$f":"IF(im2colAll_confW4!BE2:FZ26 > 0, ROUNDDOWN(im2colAll_confW4!BE2:FZ26/2^4, 0), ROUNDUP(im2colAll_confW4!BE2:FZ26/2^4, 0))","v":-2},{"$f":"IF(im2colAll_confW4!BF2:GA26 > 0, ROUNDDOWN(im2colAll_confW4!BF2:GA26/2^4, 0), ROUNDUP(im2colAll_confW4!BF2:GA26/2^4, 0))","v":78},{"$f":"IF(im2colAll_confW4!BG2:GB26 > 0, ROUNDDOWN(im2colAll_confW4!BG2:GB26/2^4, 0), ROUNDUP(im2colAll_confW4!BG2:GB26/2^4, 0))","v":1},{"$f":"IF(im2colAll_confW4!BH2:GC26 > 0, ROUNDDOWN(im2colAll_confW4!BH2:GC26/2^4, 0), ROUNDUP(im2colAll_confW4!BH2:GC26/2^4, 0))","v":-40},{"$f":"IF(im2colAll_confW4!BI2:GD26 > 0, ROUNDDOWN(im2colAll_confW4!BI2:GD26/2^4, 0), ROUNDUP(im2colAll_confW4!BI2:GD26/2^4, 0))","v":5},{"$f":"IF(im2colAll_confW4!BJ2:GE26 > 0, ROUNDDOWN(im2colAll_confW4!BJ2:GE26/2^4, 0), ROUNDUP(im2colAll_confW4!BJ2:GE26/2^4, 0))","v":-19},{"$f":"IF(im2colAll_confW4!BK2:GF26 > 0, ROUNDDOWN(im2colAll_confW4!BK2:GF26/2^4, 0), ROUNDUP(im2colAll_confW4!BK2:GF26/2^4, 0))","v":-5},{"$f":"IF(im2colAll_confW4!BL2:GG26 > 0, ROUNDDOWN(im2colAll_confW4!BL2:GG26/2^4, 0), ROUNDUP(im2colAll_confW4!BL2:GG26/2^4, 0))","v":177},{"$f":"IF(im2colAll_confW4!BM2:GH26 > 0, ROUNDDOWN(im2colAll_confW4!BM2:GH26/2^4, 0), ROUNDUP(im2colAll_confW4!BM2:GH26/2^4, 0))","v":-33},{"$f":"IF(im2colAll_confW4!BN2:GI26 > 0, ROUNDDOWN(im2colAll_confW4!BN2:GI26/2^4, 0), ROUNDUP(im2colAll_confW4!BN2:GI26/2^4, 0))","v":-18},{"$f":"IF(im2colAll_confW4!BO2:GJ26 > 0, ROUNDDOWN(im2colAll_confW4!BO2:GJ26/2^4, 0), ROUNDUP(im2colAll_confW4!BO2:GJ26/2^4, 0))","v":-7},{"$f":"IF(im2colAll_confW4!BP2:GK26 > 0, ROUNDDOWN(im2colAll_confW4!BP2:GK26/2^4, 0), ROUNDUP(im2colAll_confW4!BP2:GK26/2^4, 0))","v":-14},{"$f":"IF(im2colAll_confW4!BQ2:GL26 > 0, ROUNDDOWN(im2colAll_confW4!BQ2:GL26/2^4, 0), ROUNDUP(im2colAll_confW4!BQ2:GL26/2^4, 0))","v":-23},{"$f":"IF(im2colAll_confW4!BR2:GM26 > 0, ROUNDDOWN(im2colAll_confW4!BR2:GM26/2^4, 0), ROUNDUP(im2colAll_confW4!BR2:GM26/2^4, 0))","v":1},{"$f":"IF(im2colAll_confW4!BS2:GN26 > 0, ROUNDDOWN(im2colAll_confW4!BS2:GN26/2^4, 0), ROUNDUP(im2colAll_confW4!BS2:GN26/2^4, 0))","v":1},{"$f":"IF(im2colAll_confW4!BT2:GO26 > 0, ROUNDDOWN(im2colAll_confW4!BT2:GO26/2^4, 0), ROUNDUP(im2colAll_confW4!BT2:GO26/2^4, 0))","v":-48},{"$f":"IF(im2colAll_confW4!BU2:GP26 > 0, ROUNDDOWN(im2colAll_confW4!BU2:GP26/2^4, 0), ROUNDUP(im2colAll_confW4!BU2:GP26/2^4, 0))","v":-5},{"$f":"IF(im2colAll_confW4!BV2:GQ26 > 0, ROUNDDOWN(im2colAll_confW4!BV2:GQ26/2^4, 0), ROUNDUP(im2colAll_confW4!BV2:GQ26/2^4, 0))","v":-12},{"$f":"IF(im2colAll_confW4!BW2:GR26 > 0, ROUNDDOWN(im2colAll_confW4!BW2:GR26/2^4, 0), ROUNDUP(im2colAll_confW4!BW2:GR26/2^4, 0))","v":-9},{"$f":"IF(im2colAll_confW4!BX2:GS26 > 0, ROUNDDOWN(im2colAll_confW4!BX2:GS26/2^4, 0), ROUNDUP(im2colAll_confW4!BX2:GS26/2^4, 0))","v":-4},{"$f":"IF(im2colAll_confW4!BY2:GT26 > 0, ROUNDDOWN(im2colAll_confW4!BY2:GT26/2^4, 0), ROUNDUP(im2colAll_confW4!BY2:GT26/2^4, 0))","v":-1},{"$f":"IF(im2colAll_confW4!BZ2:GU26 > 0, ROUNDDOWN(im2colAll_confW4!BZ2:GU26/2^4, 0), ROUNDUP(im2colAll_confW4!BZ2:GU26/2^4, 0))","v":3},{"$f":"IF(im2colAll_confW4!CA2:GV26 > 0, ROUNDDOWN(im2colAll_confW4!CA2:GV26/2^4, 0), ROUNDUP(im2colAll_confW4!CA2:GV26/2^4, 0))","v":74},{"$f":"IF(im2colAll_confW4!CB2:GW26 > 0, ROUNDDOWN(im2colAll_confW4!CB2:GW26/2^4, 0), ROUNDUP(im2colAll_confW4!CB2:GW26/2^4, 0))","v":-2},{"$f":"IF(im2colAll_confW4!CC2:GX26 > 0, ROUNDDOWN(im2colAll_confW4!CC2:GX26/2^4, 0), ROUNDUP(im2colAll_confW4!CC2:GX26/2^4, 0))","v":-35},{"$f":"IF(im2colAll_confW4!CD2:GY26 > 0, ROUNDDOWN(im2colAll_confW4!CD2:GY26/2^4, 0), ROUNDUP(im2colAll_confW4!CD2:GY26/2^4, 0))","v":2},{"$f":"IF(im2colAll_confW4!CE2:GZ26 > 0, ROUNDDOWN(im2colAll_confW4!CE2:GZ26/2^4, 0), ROUNDUP(im2colAll_confW4!CE2:GZ26/2^4, 0))","v":-36},{"$f":"IF(im2colAll_confW4!CF2:HA26 > 0, ROUNDDOWN(im2colAll_confW4!CF2:HA26/2^4, 0), ROUNDUP(im2colAll_confW4!CF2:HA26/2^4, 0))","v":-14},{"$f":"IF(im2colAll_confW4!CG2:HB26 > 0, ROUNDDOWN(im2colAll_confW4!CG2:HB26/2^4, 0), ROUNDUP(im2colAll_confW4!CG2:HB26/2^4, 0))","v":183},{"$f":"IF(im2colAll_confW4!CH2:HC26 > 0, ROUNDDOWN(im2colAll_confW4!CH2:HC26/2^4, 0), ROUNDUP(im2colAll_confW4!CH2:HC26/2^4, 0))","v":-4},{"$f":"IF(im2colAll_confW4!CI2:HD26 > 0, ROUNDDOWN(im2colAll_confW4!CI2:HD26/2^4, 0), ROUNDUP(im2colAll_confW4!CI2:HD26/2^4, 0))","v":-21},{"$f":"IF(im2colAll_confW4!CJ2:HE26 > 0, ROUNDDOWN(im2colAll_confW4!CJ2:HE26/2^4, 0), ROUNDUP(im2colAll_confW4!CJ2:HE26/2^4, 0))","v":-9},{"$f":"IF(im2colAll_confW4!CK2:HF26 > 0, ROUNDDOWN(im2colAll_confW4!CK2:HF26/2^4, 0), ROUNDUP(im2colAll_confW4!CK2:HF26/2^4, 0))","v":-4},{"$f":"IF(im2colAll_confW4!CL2:HG26 > 0, ROUNDDOWN(im2colAll_confW4!CL2:HG26/2^4, 0), ROUNDUP(im2colAll_confW4!CL2:HG26/2^4, 0))","v":-22},{"$f":"IF(im2colAll_confW4!CM2:HH26 > 0, ROUNDDOWN(im2colAll_confW4!CM2:HH26/2^4, 0), ROUNDUP(im2colAll_confW4!CM2:HH26/2^4, 0))","v":-4},{"$f":"IF(im2colAll_confW4!CN2:HI26 > 0, ROUNDDOWN(im2colAll_confW4!CN2:HI26/2^4, 0), ROUNDUP(im2colAll_confW4!CN2:HI26/2^4, 0))","v":-3},{"$f":"IF(im2colAll_confW4!CO2:HJ26 > 0, ROUNDDOWN(im2colAll_confW4!CO2:HJ26/2^4, 0), ROUNDUP(im2colAll_confW4!CO2:HJ26/2^4, 0))","v":-44},{"$f":"IF(im2colAll_confW4!CP2:HK26 > 0, ROUNDDOWN(im2colAll_confW4!CP2:HK26/2^4, 0), ROUNDUP(im2colAll_confW4!CP2:HK26/2^4, 0))","v":-15},{"$f":"IF(im2colAll_confW4!CQ2:HL26 > 0, ROUNDDOWN(im2colAll_confW4!CQ2:HL26/2^4, 0), ROUNDUP(im2colAll_confW4!CQ2:HL26/2^4, 0))","v":-6},{"$f":"IF(im2colAll_confW4!CR2:HM26 > 0, ROUNDDOWN(im2colAll_confW4!CR2:HM26/2^4, 0), ROUNDUP(im2colAll_confW4!CR2:HM26/2^4, 0))","v":1},{"$f":"IF(im2colAll_confW4!CS2:HN26 > 0, ROUNDDOWN(im2colAll_confW4!CS2:HN26/2^4, 0), ROUNDUP(im2colAll_confW4!CS2:HN26/2^4, 0))","v":-21},{"$f":"IF(im2colAll_confW4!CT2:HO26 > 0, ROUNDDOWN(im2colAll_confW4!CT2:HO26/2^4, 0), ROUNDUP(im2colAll_confW4!CT2:HO26/2^4, 0))","v":-3},{"$f":"IF(im2colAll_confW4!CU2:HP26 > 0, ROUNDDOWN(im2colAll_confW4!CU2:HP26/2^4, 0), ROUNDUP(im2colAll_confW4!CU2:HP26/2^4, 0))","v":4},{"$f":"IF(im2colAll_confW4!CV2:HQ26 > 0, ROUNDDOWN(im2colAll_confW4!CV2:HQ26/2^4, 0), ROUNDUP(im2colAll_confW4!CV2:HQ26/2^4, 0))","v":48},{"$f":"IF(im2colAll_confW4!CW2:HR26 > 0, ROUNDDOWN(im2colAll_confW4!CW2:HR26/2^4, 0), ROUNDUP(im2colAll_confW4!CW2:HR26/2^4, 0))","v":-2},{"$f":"IF(im2colAll_confW4!CX2:HS26 > 0, ROUNDDOWN(im2colAll_confW4!CX2:HS26/2^4, 0), ROUNDUP(im2colAll_confW4!CX2:HS26/2^4, 0))","v":-43},{"$f":"IF(im2colAll_confW4!CY2:HT26 > 0, ROUNDDOWN(im2colAll_confW4!CY2:HT26/2^4, 0), ROUNDUP(im2colAll_confW4!CY2:HT26/2^4, 0))","v":6},{"$f":"IF(im2colAll_confW4!CZ2:HU26 > 0, ROUNDDOWN(im2colAll_confW4!CZ2:HU26/2^4, 0), ROUNDUP(im2colAll_confW4!CZ2:HU26/2^4, 0))","v":-4},{"$f":"IF(im2colAll_confW4!DA2:HV26 > 0, ROUNDDOWN(im2colAll_confW4!DA2:HV26/2^4, 0), ROUNDUP(im2colAll_confW4!DA2:HV26/2^4, 0))","v":-19},{"$f":"IF(im2colAll_confW4!DB2:HW26 > 0, ROUNDDOWN(im2colAll_confW4!DB2:HW26/2^4, 0), ROUNDUP(im2colAll_confW4!DB2:HW26/2^4, 0))","v":160},{"$f":"IF(im2colAll_confW4!DC2:HX26 > 0, ROUNDDOWN(im2colAll_confW4!DC2:HX26/2^4, 0), ROUNDUP(im2colAll_confW4!DC2:HX26/2^4, 0))","v":-21},{"$f":"IF(im2colAll_confW4!DD2:HY26 > 0, ROUNDDOWN(im2colAll_confW4!DD2:HY26/2^4, 0), ROUNDUP(im2colAll_confW4!DD2:HY26/2^4, 0))","v":-22},{"$f":"IF(im2colAll_confW4!DE2:HZ26 > 0, ROUNDDOWN(im2colAll_confW4!DE2:HZ26/2^4, 0), ROUNDUP(im2colAll_confW4!DE2:HZ26/2^4, 0))","v":-27},{"$f":"IF(im2colAll_confW4!DF2:IA26 > 0, ROUNDDOWN(im2colAll_confW4!DF2:IA26/2^4, 0), ROUNDUP(im2colAll_confW4!DF2:IA26/2^4, 0))","v":-4},{"$f":"IF(im2colAll_confW4!DG2:IB26 > 0, ROUNDDOWN(im2colAll_confW4!DG2:IB26/2^4, 0), ROUNDUP(im2colAll_confW4!DG2:IB26/2^4, 0))","v":-27},{"$f":"IF(im2colAll_confW4!DH2:IC26 > 0, ROUNDDOWN(im2colAll_confW4!DH2:IC26/2^4, 0), ROUNDUP(im2colAll_confW4!DH2:IC26/2^4, 0))","v":-29},{"$f":"IF(im2colAll_confW4!DI2:ID26 > 0, ROUNDDOWN(im2colAll_confW4!DI2:ID26/2^4, 0), ROUNDUP(im2colAll_confW4!DI2:ID26/2^4, 0))","v":-7},{"$f":"IF(im2colAll_confW4!DJ2:IE26 > 0, ROUNDDOWN(im2colAll_confW4!DJ2:IE26/2^4, 0), ROUNDUP(im2colAll_confW4!DJ2:IE26/2^4, 0))","v":-31},{"$f":"IF(im2colAll_confW4!DK2:IF26 > 0, ROUNDDOWN(im2colAll_confW4!DK2:IF26/2^4, 0), ROUNDUP(im2colAll_confW4!DK2:IF26/2^4, 0))","v":10},{"$f":"IF(im2colAll_confW4!DL2:IG26 > 0, ROUNDDOWN(im2colAll_confW4!DL2:IG26/2^4, 0), ROUNDUP(im2colAll_confW4!DL2:IG26/2^4, 0))","v":-18},{"$f":"IF(im2colAll_confW4!DM2:IH26 > 0, ROUNDDOWN(im2colAll_confW4!DM2:IH26/2^4, 0), ROUNDUP(im2colAll_confW4!DM2:IH26/2^4, 0))","v":-19},{"$f":"IF(im2colAll_confW4!DN2:II26 > 0, ROUNDDOWN(im2colAll_confW4!DN2:II26/2^4, 0), ROUNDUP(im2colAll_confW4!DN2:II26/2^4, 0))","v":-12},{"$f":"IF(im2colAll_confW4!DO2:IJ26 > 0, ROUNDDOWN(im2colAll_confW4!DO2:IJ26/2^4, 0), ROUNDUP(im2colAll_confW4!DO2:IJ26/2^4, 0))","v":7},{"$f":"IF(im2colAll_confW4!DP2:IK26 > 0, ROUNDDOWN(im2colAll_confW4!DP2:IK26/2^4, 0), ROUNDUP(im2colAll_confW4!DP2:IK26/2^4, 0))","v":8},{"$f":"IF(im2colAll_confW4!DQ2:IL26 > 0, ROUNDDOWN(im2colAll_confW4!DQ2:IL26/2^4, 0), ROUNDUP(im2colAll_confW4!DQ2:IL26/2^4, 0))","v":67},{"$f":"IF(im2colAll_confW4!DR2:IM26 > 0, ROUNDDOWN(im2colAll_confW4!DR2:IM26/2^4, 0), ROUNDUP(im2colAll_confW4!DR2:IM26/2^4, 0))","v":2},{"$f":"IF(im2colAll_confW4!DS2:IN26 > 0, ROUNDDOWN(im2colAll_confW4!DS2:IN26/2^4, 0), ROUNDUP(im2colAll_confW4!DS2:IN26/2^4, 0))","v":-30},{"$f":"IF(im2colAll_confW4!DT2:IO26 > 0, ROUNDDOWN(im2colAll_confW4!DT2:IO26/2^4, 0), ROUNDUP(im2colAll_confW4!DT2:IO26/2^4, 0))","v":7},{"$f":"IF(im2colAll_confW4!DU2:IP26 > 0, ROUNDDOWN(im2colAll_confW4!DU2:IP26/2^4, 0), ROUNDUP(im2colAll_confW4!DU2:IP26/2^4, 0))","v":-31},{"$f":"IF(im2colAll_confW4!DV2:IQ26 > 0, ROUNDDOWN(im2colAll_confW4!DV2:IQ26/2^4, 0), ROUNDUP(im2colAll_confW4!DV2:IQ26/2^4, 0))","v":-26}]
[{"$f":"IF(im2colAll_confW4!A3:DV27 > 0, ROUNDDOWN(im2colAll_confW4!A3:DV27/2^4, 0), ROUNDUP(im2colAll_confW4!A3:DV27/2^4, 0))","v":253},{"$f":"IF(im2colAll_confW4!B3:DW27 > 0, ROUNDDOWN(im2colAll_confW4!B3:DW27/2^4, 0), ROUNDUP(im2colAll_confW4!B3:DW27/2^4, 0))","v":7},{"$f":"IF(im2colAll_confW4!C3:DX27 > 0, ROUNDDOWN(im2colAll_confW4!C3:DX27/2^4, 0), ROUNDUP(im2colAll_confW4!C3:DX27/2^4, 0))","v":-35},{"$f":"IF(im2colAll_confW4!D3:DY27 > 0, ROUNDDOWN(im2colAll_confW4!D3:DY27/2^4, 0), ROUNDUP(im2colAll_confW4!D3:DY27/2^4, 0))","v":-29},{"$f":"IF(im2colAll_confW4!E3:DZ27 > 0, ROUNDDOWN(im2colAll_confW4!E3:DZ27/2^4, 0), ROUNDUP(im2colAll_confW4!E3:DZ27/2^4, 0))","v":1},{"$f":"IF(im2colAll_confW4!F3:EA27 > 0, ROUNDDOWN(im2colAll_confW4!F3:EA27/2^4, 0), ROUNDUP(im2colAll_confW4!F3:EA27/2^4, 0))","v":-40},{"$f":"IF(im2colAll_confW4!G3:EB27 > 0, ROUNDDOWN(im2colAll_confW4!G3:EB27/2^4, 0), ROUNDUP(im2colAll_confW4!G3:EB27/2^4, 0))","v":0},{"$f":"IF(im2colAll_confW4!H3:EC27 > 0, ROUNDDOWN(im2colAll_confW4!H3:EC27/2^4, 0), ROUNDUP(im2colAll_confW4!H3:EC27/2^4, 0))","v":3},{"$f":"IF(im2colAll_confW4!I3:ED27 > 0, ROUNDDOWN(im2colAll_confW4!I3:ED27/2^4, 0), ROUNDUP(im2colAll_confW4!I3:ED27/2^4, 0))","v":-60},{"$f":"IF(im2colAll_confW4!J3:EE27 > 0, ROUNDDOWN(im2colAll_confW4!J3:EE27/2^4, 0), ROUNDUP(im2colAll_confW4!J3:EE27/2^4, 0))","v":12},{"$f":"IF(im2colAll_confW4!K3:EF27 > 0, ROUNDDOWN(im2colAll_confW4!K3:EF27/2^4, 0), ROUNDUP(im2colAll_confW4!K3:EF27/2^4, 0))","v":12},{"$f":"IF(im2colAll_confW4!L3:EG27 > 0, ROUNDDOWN(im2colAll_confW4!L3:EG27/2^4, 0), ROUNDUP(im2colAll_confW4!L3:EG27/2^4, 0))","v":6},{"$f":"IF(im2colAll_confW4!M3:EH27 > 0, ROUNDDOWN(im2colAll_confW4!M3:EH27/2^4, 0), ROUNDUP(im2colAll_confW4!M3:EH27/2^4, 0))","v":2},{"$f":"IF(im2colAll_confW4!N3:EI27 > 0, ROUNDDOWN(im2colAll_confW4!N3:EI27/2^4, 0), ROUNDUP(im2colAll_confW4!N3:EI27/2^4, 0))","v":-3},{"$f":"IF(im2colAll_confW4!O3:EJ27 > 0, ROUNDDOWN(im2colAll_confW4!O3:EJ27/2^4, 0), ROUNDUP(im2colAll_confW4!O3:EJ27/2^4, 0))","v":-3},{"$f":"IF(im2colAll_confW4!P3:EK27 > 0, ROUNDDOWN(im2colAll_confW4!P3:EK27/2^4, 0), ROUNDUP(im2colAll_confW4!P3:EK27/2^4, 0))","v":110},{"$f":"IF(im2colAll_confW4!Q3:EL27 > 0, ROUNDDOWN(im2colAll_confW4!Q3:EL27/2^4, 0), ROUNDUP(im2colAll_confW4!Q3:EL27/2^4, 0))","v":-17},{"$f":"IF(im2colAll_confW4!R3:EM27 > 0, ROUNDDOWN(im2colAll_confW4!R3:EM27/2^4, 0), ROUNDUP(im2colAll_confW4!R3:EM27/2^4, 0))","v":-72},{"$f":"IF(im2colAll_confW4!S3:EN27 > 0, ROUNDDOWN(im2colAll_confW4!S3:EN27/2^4, 0), ROUNDUP(im2colAll_confW4!S3:EN27/2^4, 0))","v":32},{"$f":"IF(im2colAll_confW4!T3:EO27 > 0, ROUNDDOWN(im2colAll_confW4!T3:EO27/2^4, 0), ROUNDUP(im2colAll_confW4!T3:EO27/2^4, 0))","v":-32},{"$f":"IF(im2colAll_confW4!U3:EP27 > 0, ROUNDDOWN(im2colAll_confW4!U3:EP27/2^4, 0), ROUNDUP(im2colAll_confW4!U3:EP27/2^4, 0))","v":-11},{"$f":"IF(im2colAll_confW4!V3:EQ27 > 0, ROUNDDOWN(im2colAll_confW4!V3:EQ27/2^4, 0), ROUNDUP(im2colAll_confW4!V3:EQ27/2^4, 0))","v":237},{"$f":"IF(im2colAll_confW4!W3:ER27 > 0, ROUNDDOWN(im2colAll_confW4!W3:ER27/2^4, 0), ROUNDUP(im2colAll_confW4!W3:ER27/2^4, 0))","v":-25},{"$f":"IF(im2colAll_confW4!X3:ES27 > 0, ROUNDDOWN(im2colAll_confW4!X3:ES27/2^4, 0), ROUNDUP(im2colAll_confW4!X3:ES27/2^4, 0))","v":-32},{"$f":"IF(im2colAll_confW4!Y3:ET27 > 0, ROUNDDOWN(im2colAll_confW4!Y3:ET27/2^4, 0), ROUNDUP(im2colAll_confW4!Y3:ET27/2^4, 0))","v":-25},{"$f":"IF(im2colAll_confW4!Z3:EU27 > 0, ROUNDDOWN(im2colAll_confW4!Z3:EU27/2^4, 0), ROUNDUP(im2colAll_confW4!Z3:EU27/2^4, 0))","v":12},{"$f":"IF(im2colAll_confW4!AA3:EV27 > 0, ROUNDDOWN(im2colAll_confW4!AA3:EV27/2^4, 0), ROUNDUP(im2colAll_confW4!AA3:EV27/2^4, 0))","v":-55},{"$f":"IF(im2colAll_confW4!AB3:EW27 > 0, ROUNDDOWN(im2colAll_confW4!AB3:EW27/2^4, 0), ROUNDUP(im2colAll_confW4!AB3:EW27/2^4, 0))","v":-19},{"$f":"IF(im2colAll_confW4!AC3:EX27 > 0, ROUNDDOWN(im2colAll_confW4!AC3:EX27/2^4, 0), ROUNDUP(im2colAll_confW4!AC3:EX27/2^4, 0))","v":8},{"$f":"IF(im2colAll_confW4!AD3:EY27 > 0, ROUNDDOWN(im2colAll_confW4!AD3:EY27/2^4, 0), ROUNDUP(im2colAll_confW4!AD3:EY27/2^4, 0))","v":-90},{"$f":"IF(im2colAll_confW4!AE3:EZ27 > 0, ROUNDDOWN(im2colAll_confW4!AE3:EZ27/2^4, 0), ROUNDUP(im2colAll_confW4!AE3:EZ27/2^4, 0))","v":-10},{"$f":"IF(im2colAll_confW4!AF3:FA27 > 0, ROUNDDOWN(im2colAll_confW4!AF3:FA27/2^4, 0), ROUNDUP(im2colAll_confW4!AF3:FA27/2^4, 0))","v":-3},{"$f":"IF(im2colAll_confW4!AG3:FB27 > 0, ROUNDDOWN(im2colAll_confW4!AG3:FB27/2^4, 0), ROUNDUP(im2colAll_confW4!AG3:FB27/2^4, 0))","v":-7},{"$f":"IF(im2colAll_confW4!AH3:FC27 > 0, ROUNDDOWN(im2colAll_confW4!AH3:FC27/2^4, 0), ROUNDUP(im2colAll_confW4!AH3:FC27/2^4, 0))","v":-11},{"$f":"IF(im2colAll_confW4!AI3:FD27 > 0, ROUNDDOWN(im2colAll_confW4!AI3:FD27/2^4, 0), ROUNDUP(im2colAll_confW4!AI3:FD27/2^4, 0))","v":-4},{"$f":"IF(im2colAll_confW4!AJ3:FE27 > 0, ROUNDDOWN(im2colAll_confW4!AJ3:FE27/2^4, 0), ROUNDUP(im2colAll_confW4!AJ3:FE27/2^4, 0))","v":-15},{"$f":"IF(im2colAll_confW4!AK3:FF27 > 0, ROUNDDOWN(im2colAll_confW4!AK3:FF27/2^4, 0), ROUNDUP(im2colAll_confW4!AK3:FF27/2^4, 0))","v":105},{"$f":"IF(im2colAll_confW4!AL3:FG27 > 0, ROUNDDOWN(im2colAll_confW4!AL3:FG27/2^4, 0), ROUNDUP(im2colAll_confW4!AL3:FG27/2^4, 0))","v":-2},{"$f":"IF(im2colAll_confW4!AM3:FH27 > 0, ROUNDDOWN(im2colAll_confW4!AM3:FH27/2^4, 0), ROUNDUP(im2colAll_confW4!AM3:FH27/2^4, 0))","v":-74},{"$f":"IF(im2colAll_confW4!AN3:FI27 > 0, ROUNDDOWN(im2colAll_confW4!AN3:FI27/2^4, 0), ROUNDUP(im2colAll_confW4!AN3:FI27/2^4, 0))","v":21},{"$f":"IF(im2colAll_confW4!AO3:FJ27 > 0, ROUNDDOWN(im2colAll_confW4!AO3:FJ27/2^4, 0), ROUNDUP(im2colAll_confW4!AO3:FJ27/2^4, 0))","v":-31},{"$f":"IF(im2colAll_confW4!AP3:FK27 > 0, ROUNDDOWN(im2colAll_confW4!AP3:FK27/2^4, 0), ROUNDUP(im2colAll_confW4!AP3:FK27/2^4, 0))","v":-25},{"$f":"IF(im2colAll_confW4!AQ3:FL27 > 0, ROUNDDOWN(im2colAll_confW4!AQ3:FL27/2^4, 0), ROUNDUP(im2colAll_confW4!AQ3:FL27/2^4, 0))","v":225},{"$f":"IF(im2colAll_confW4!AR3:FM27 > 0, ROUNDDOWN(im2colAll_confW4!AR3:FM27/2^4, 0), ROUNDUP(im2colAll_confW4!AR3:FM27/2^4, 0))","v":-10},{"$f":"IF(im2colAll_confW4!AS3:FN27 > 0, ROUNDDOWN(im2colAll_confW4!AS3:FN27/2^4, 0), ROUNDUP(im2colAll_confW4!AS3:FN27/2^4, 0))","v":-50},{"$f":"IF(im2colAll_confW4!AT3:FO27 > 0, ROUNDDOWN(im2colAll_confW4!AT3:FO27/2^4, 0), ROUNDUP(im2colAll_confW4!AT3:FO27/2^4, 0))","v":-23},{"$f":"IF(im2colAll_confW4!AU3:FP27 > 0, ROUNDDOWN(im2colAll_confW4!AU3:FP27/2^4, 0), ROUNDUP(im2colAll_confW4!AU3:FP27/2^4, 0))","v":-6},{"$f":"IF(im2colAll_confW4!AV3:FQ27 > 0, ROUNDDOWN(im2colAll_confW4!AV3:FQ27/2^4, 0), ROUNDUP(im2colAll_confW4!AV3:FQ27/2^4, 0))","v":-45},{"$f":"IF(im2colAll_confW4!AW3:FR27 > 0, ROUNDDOWN(im2colAll_confW4!AW3:FR27/2^4, 0), ROUNDUP(im2colAll_confW4!AW3:FR27/2^4, 0))","v":-9},{"$f":"IF(im2colAll_confW4!AX3:FS27 > 0, ROUNDDOWN(im2colAll_confW4!AX3:FS27/2^4, 0), ROUNDUP(im2colAll_confW4!AX3:FS27/2^4, 0))","v":3},{"$f":"IF(im2colAll_confW4!AY3:FT27 > 0, ROUNDDOWN(im2colAll_confW4!AY3:FT27/2^4, 0), ROUNDUP(im2colAll_confW4!AY3:FT27/2^4, 0))","v":-72},{"$f":"IF(im2colAll_confW4!AZ3:FU27 > 0, ROUNDDOWN(im2colAll_confW4!AZ3:FU27/2^4, 0), ROUNDUP(im2colAll_confW4!AZ3:FU27/2^4, 0))","v":-17},{"$f":"IF(im2colAll_confW4!BA3:FV27 > 0, ROUNDDOWN(im2colAll_confW4!BA3:FV27/2^4, 0), ROUNDUP(im2colAll_confW4!BA3:FV27/2^4, 0))","v":-9},{"$f":"IF(im2colAll_confW4!BB3:FW27 > 0, ROUNDDOWN(im2colAll_confW4!BB3:FW27/2^4, 0), ROUNDUP(im2colAll_confW4!BB3:FW27/2^4, 0))","v":-1},{"$f":"IF(im2colAll_confW4!BC3:FX27 > 0, ROUNDDOWN(im2colAll_confW4!BC3:FX27/2^4, 0), ROUNDUP(im2colAll_confW4!BC3:FX27/2^4, 0))","v":-14},{"$f":"IF(im2colAll_confW4!BD3:FY27 > 0, ROUNDDOWN(im2colAll_confW4!BD3:FY27/2^4, 0), ROUNDUP(im2colAll_confW4!BD3:FY27/2^4, 0))","v":-19},{"$f":"IF(im2colAll_confW4!BE3:FZ27 > 0, ROUNDDOWN(im2colAll_confW4!BE3:FZ27/2^4, 0), ROUNDUP(im2colAll_confW4!BE3:FZ27/2^4, 0))","v":-9},{"$f":"IF(im2colAll_confW4!BF3:GA27 > 0, ROUNDDOWN(im2colAll_confW4!BF3:GA27/2^4, 0), ROUNDUP(im2colAll_confW4!BF3:GA27/2^4, 0))","v":100},{"$f":"IF(im2colAll_confW4!BG3:GB27 > 0, ROUNDDOWN(im2colAll_confW4!BG3:GB27/2^4, 0), ROUNDUP(im2colAll_confW4!BG3:GB27/2^4, 0))","v":-11},{"$f":"IF(im2colAll_confW4!BH3:GC27 > 0, ROUNDDOWN(im2colAll_confW4!BH3:GC27/2^4, 0), ROUNDUP(im2colAll_confW4!BH3:GC27/2^4, 0))","v":-53},{"$f":"IF(im2colAll_confW4!BI3:GD27 > 0, ROUNDDOWN(im2colAll_confW4!BI3:GD27/2^4, 0), ROUNDUP(im2colAll_confW4!BI3:GD27/2^4, 0))","v":24},{"$f":"IF(im2colAll_confW4!BJ3:GE27 > 0, ROUNDDOWN(im2colAll_confW4!BJ3:GE27/2^4, 0), ROUNDUP(im2colAll_confW4!BJ3:GE27/2^4, 0))","v":-21},{"$f":"IF(im2colAll_confW4!BK3:GF27 > 0, ROUNDDOWN(im2colAll_confW4!BK3:GF27/2^4, 0), ROUNDUP(im2colAll_confW4!BK3:GF27/2^4, 0))","v":1},{"$f":"IF(im2colAll_confW4!BL3:GG27 > 0, ROUNDDOWN(im2colAll_confW4!BL3:GG27/2^4, 0), ROUNDUP(im2colAll_confW4!BL3:GG27/2^4, 0))","v":220},{"$f":"IF(im2colAll_confW4!BM3:GH27 > 0, ROUNDDOWN(im2colAll_confW4!BM3:GH27/2^4, 0), ROUNDUP(im2colAll_confW4!BM3:GH27/2^4, 0))","v":-38},{"$f":"IF(im2colAll_confW4!BN3:GI27 > 0, ROUNDDOWN(im2colAll_confW4!BN3:GI27/2^4, 0), ROUNDUP(im2colAll_confW4!BN3:GI27/2^4, 0))","v":-38},{"$f":"IF(im2colAll_confW4!BO3:GJ27 > 0, ROUNDDOWN(im2colAll_confW4!BO3:GJ27/2^4, 0), ROUNDUP(im2colAll_confW4!BO3:GJ27/2^4, 0))","v":-14},{"$f":"IF(im2colAll_confW4!BP3:GK27 > 0, ROUNDDOWN(im2colAll_confW4!BP3:GK27/2^4, 0), ROUNDUP(im2colAll_confW4!BP3:GK27/2^4, 0))","v":-21},{"$f":"IF(im2colAll_confW4!BQ3:GL27 > 0, ROUNDDOWN(im2colAll_confW4!BQ3:GL27/2^4, 0), ROUNDUP(im2colAll_confW4!BQ3:GL27/2^4, 0))","v":-36},{"$f":"IF(im2colAll_confW4!BR3:GM27 > 0, ROUNDDOWN(im2colAll_confW4!BR3:GM27/2^4, 0), ROUNDUP(im2colAll_confW4!BR3:GM27/2^4, 0))","v":-17},{"$f":"IF(im2colAll_confW4!BS3:GN27 > 0, ROUNDDOWN(im2colAll_confW4!BS3:GN27/2^4, 0), ROUNDUP(im2colAll_confW4!BS3:GN27/2^4, 0))","v":3},{"$f":"IF(im2colAll_confW4!BT3:GO27 > 0, ROUNDDOWN(im2colAll_confW4!BT3:GO27/2^4, 0), ROUNDUP(im2colAll_confW4!BT3:GO27/2^4, 0))","v":-45},{"$f":"IF(im2colAll_confW4!BU3:GP27 > 0, ROUNDDOWN(im2colAll_confW4!BU3:GP27/2^4, 0), ROUNDUP(im2colAll_confW4!BU3:GP27/2^4, 0))","v":-5},{"$f":"IF(im2colAll_confW4!BV3:GQ27 > 0, ROUNDDOWN(im2colAll_confW4!BV3:GQ27/2^4, 0), ROUNDUP(im2colAll_confW4!BV3:GQ27/2^4, 0))","v":-12},{"$f":"IF(im2colAll_confW4!BW3:GR27 > 0, ROUNDDOWN(im2colAll_confW4!BW3:GR27/2^4, 0), ROUNDUP(im2colAll_confW4!BW3:GR27/2^4, 0))","v":-12},{"$f":"IF(im2colAll_confW4!BX3:GS27 > 0, ROUNDDOWN(im2colAll_confW4!BX3:GS27/2^4, 0), ROUNDUP(im2colAll_confW4!BX3:GS27/2^4, 0))","v":9},{"$f":"IF(im2colAll_confW4!BY3:GT27 > 0, ROUNDDOWN(im2colAll_confW4!BY3:GT27/2^4, 0), ROUNDUP(im2colAll_confW4!BY3:GT27/2^4, 0))","v":-4},{"$f":"IF(im2colAll_confW4!BZ3:GU27 > 0, ROUNDDOWN(im2colAll_confW4!BZ3:GU27/2^4, 0), ROUNDUP(im2colAll_confW4!BZ3:GU27/2^4, 0))","v":-19},{"$f":"IF(im2colAll_confW4!CA3:GV27 > 0, ROUNDDOWN(im2colAll_confW4!CA3:GV27/2^4, 0), ROUNDUP(im2colAll_confW4!CA3:GV27/2^4, 0))","v":122},{"$f":"IF(im2colAll_confW4!CB3:GW27 > 0, ROUNDDOWN(im2colAll_confW4!CB3:GW27/2^4, 0), ROUNDUP(im2colAll_confW4!CB3:GW27/2^4, 0))","v":-16},{"$f":"IF(im2colAll_confW4!CC3:GX27 > 0, ROUNDDOWN(im2colAll_confW4!CC3:GX27/2^4, 0), ROUNDUP(im2colAll_confW4!CC3:GX27/2^4, 0))","v":-59},{"$f":"IF(im2colAll_confW4!CD3:GY27 > 0, ROUNDDOWN(im2colAll_confW4!CD3:GY27/2^4, 0), ROUNDUP(im2colAll_confW4!CD3:GY27/2^4, 0))","v":1},{"$f":"IF(im2colAll_confW4!CE3:GZ27 > 0, ROUNDDOWN(im2colAll_confW4!CE3:GZ27/2^4, 0), ROUNDUP(im2colAll_confW4!CE3:GZ27/2^4, 0))","v":-53},{"$f":"IF(im2colAll_confW4!CF3:HA27 > 0, ROUNDDOWN(im2colAll_confW4!CF3:HA27/2^4, 0), ROUNDUP(im2colAll_confW4!CF3:HA27/2^4, 0))","v":-8},{"$f":"IF(im2colAll_confW4!CG3:HB27 > 0, ROUNDDOWN(im2colAll_confW4!CG3:HB27/2^4, 0), ROUNDUP(im2colAll_confW4!CG3:HB27/2^4, 0))","v":205},{"$f":"IF(im2colAll_confW4!CH3:HC27 > 0, ROUNDDOWN(im2colAll_confW4!CH3:HC27/2^4, 0), ROUNDUP(im2colAll_confW4!CH3:HC27/2^4, 0))","v":-12},{"$f":"IF(im2colAll_confW4!CI3:HD27 > 0, ROUNDDOWN(im2colAll_confW4!CI3:HD27/2^4, 0), ROUNDUP(im2colAll_confW4!CI3:HD27/2^4, 0))","v":-21},{"$f":"IF(im2colAll_confW4!CJ3:HE27 > 0, ROUNDDOWN(im2colAll_confW4!CJ3:HE27/2^4, 0), ROUNDUP(im2colAll_confW4!CJ3:HE27/2^4, 0))","v":-14},{"$f":"IF(im2colAll_confW4!CK3:HF27 > 0, ROUNDDOWN(im2colAll_confW4!CK3:HF27/2^4, 0), ROUNDUP(im2colAll_confW4!CK3:HF27/2^4, 0))","v":-3},{"$f":"IF(im2colAll_confW4!CL3:HG27 > 0, ROUNDDOWN(im2colAll_confW4!CL3:HG27/2^4, 0), ROUNDUP(im2colAll_confW4!CL3:HG27/2^4, 0))","v":-30},{"$f":"IF(im2colAll_confW4!CM3:HH27 > 0, ROUNDDOWN(im2colAll_confW4!CM3:HH27/2^4, 0), ROUNDUP(im2colAll_confW4!CM3:HH27/2^4, 0))","v":-23},{"$f":"IF(im2colAll_confW4!CN3:HI27 > 0, ROUNDDOWN(im2colAll_confW4!CN3:HI27/2^4, 0), ROUNDUP(im2colAll_confW4!CN3:HI27/2^4, 0))","v":5},{"$f":"IF(im2colAll_confW4!CO3:HJ27 > 0, ROUNDDOWN(im2colAll_confW4!CO3:HJ27/2^4, 0), ROUNDUP(im2colAll_confW4!CO3:HJ27/2^4, 0))","v":-45},{"$f":"IF(im2colAll_confW4!CP3:HK27 > 0, ROUNDDOWN(im2colAll_confW4!CP3:HK27/2^4, 0), ROUNDUP(im2colAll_confW4!CP3:HK27/2^4, 0))","v":-10},{"$f":"IF(im2colAll_confW4!CQ3:HL27 > 0, ROUNDDOWN(im2colAll_confW4!CQ3:HL27/2^4, 0), ROUNDUP(im2colAll_confW4!CQ3:HL27/2^4, 0))","v":1},{"$f":"IF(im2colAll_confW4!CR3:HM27 > 0, ROUNDDOWN(im2colAll_confW4!CR3:HM27/2^4, 0), ROUNDUP(im2colAll_confW4!CR3:HM27/2^4, 0))","v":-5},{"$f":"IF(im2colAll_confW4!CS3:HN27 > 0, ROUNDDOWN(im2colAll_confW4!CS3:HN27/2^4, 0), ROUNDUP(im2colAll_confW4!CS3:HN27/2^4, 0))","v":-18},{"$f":"IF(im2colAll_confW4!CT3:HO27 > 0, ROUNDDOWN(im2colAll_confW4!CT3:HO27/2^4, 0), ROUNDUP(im2colAll_confW4!CT3:HO27/2^4, 0))","v":0},{"$f":"IF(im2colAll_confW4!CU3:HP27 > 0, ROUNDDOWN(im2colAll_confW4!CU3:HP27/2^4, 0), ROUNDUP(im2colAll_confW4!CU3:HP27/2^4, 0))","v":5},{"$f":"IF(im2colAll_confW4!CV3:HQ27 > 0, ROUNDDOWN(im2colAll_confW4!CV3:HQ27/2^4, 0), ROUNDUP(im2colAll_confW4!CV3:HQ27/2^4, 0))","v":71},{"$f":"IF(im2colAll_confW4!CW3:HR27 > 0, ROUNDDOWN(im2colAll_confW4!CW3:HR27/2^4, 0), ROUNDUP(im2colAll_confW4!CW3:HR27/2^4, 0))","v":-9},{"$f":"IF(im2colAll_confW4!CX3:HS27 > 0, ROUNDDOWN(im2colAll_confW4!CX3:HS27/2^4, 0), ROUNDUP(im2colAll_confW4!CX3:HS27/2^4, 0))","v":-67},{"$f":"IF(im2colAll_confW4!CY3:HT27 > 0, ROUNDDOWN(im2colAll_confW4!CY3:HT27/2^4, 0), ROUNDUP(im2colAll_confW4!CY3:HT27/2^4, 0))","v":15},{"$f":"IF(im2colAll_confW4!CZ3:HU27 > 0, ROUNDDOWN(im2colAll_confW4!CZ3:HU27/2^4, 0), ROUNDUP(im2colAll_confW4!CZ3:HU27/2^4, 0))","v":-8},{"$f":"IF(im2colAll_confW4!DA3:HV27 > 0, ROUNDDOWN(im2colAll_confW4!DA3:HV27/2^4, 0), ROUNDUP(im2colAll_confW4!DA3:HV27/2^4, 0))","v":4},{"$f":"IF(im2colAll_confW4!DB3:HW27 > 0, ROUNDDOWN(im2colAll_confW4!DB3:HW27/2^4, 0), ROUNDUP(im2colAll_confW4!DB3:HW27/2^4, 0))","v":190},{"$f":"IF(im2colAll_confW4!DC3:HX27 > 0, ROUNDDOWN(im2colAll_confW4!DC3:HX27/2^4, 0), ROUNDUP(im2colAll_confW4!DC3:HX27/2^4, 0))","v":-36},{"$f":"IF(im2colAll_confW4!DD3:HY27 > 0, ROUNDDOWN(im2colAll_confW4!DD3:HY27/2^4, 0), ROUNDUP(im2colAll_confW4!DD3:HY27/2^4, 0))","v":-37},{"$f":"IF(im2colAll_confW4!DE3:HZ27 > 0, ROUNDDOWN(im2colAll_confW4!DE3:HZ27/2^4, 0), ROUNDUP(im2colAll_confW4!DE3:HZ27/2^4, 0))","v":-31},{"$f":"IF(im2colAll_confW4!DF3:IA27 > 0, ROUNDDOWN(im2colAll_confW4!DF3:IA27/2^4, 0), ROUNDUP(im2colAll_confW4!DF3:IA27/2^4, 0))","v":-9},{"$f":"IF(im2colAll_confW4!DG3:IB27 > 0, ROUNDDOWN(im2colAll_confW4!DG3:IB27/2^4, 0), ROUNDUP(im2colAll_confW4!DG3:IB27/2^4, 0))","v":-25},{"$f":"IF(im2colAll_confW4!DH3:IC27 > 0, ROUNDDOWN(im2colAll_confW4!DH3:IC27/2^4, 0), ROUNDUP(im2colAll_confW4!DH3:IC27/2^4, 0))","v":-27},{"$f":"IF(im2colAll_confW4!DI3:ID27 > 0, ROUNDDOWN(im2colAll_confW4!DI3:ID27/2^4, 0), ROUNDUP(im2colAll_confW4!DI3:ID27/2^4, 0))","v":6},{"$f":"IF(im2colAll_confW4!DJ3:IE27 > 0, ROUNDDOWN(im2colAll_confW4!DJ3:IE27/2^4, 0), ROUNDUP(im2colAll_confW4!DJ3:IE27/2^4, 0))","v":-25},{"$f":"IF(im2colAll_confW4!DK3:IF27 > 0, ROUNDDOWN(im2colAll_confW4!DK3:IF27/2^4, 0), ROUNDUP(im2colAll_confW4!DK3:IF27/2^4, 0))","v":17},{"$f":"IF(im2colAll_confW4!DL3:IG27 > 0, ROUNDDOWN(im2colAll_confW4!DL3:IG27/2^4, 0), ROUNDUP(im2colAll_confW4!DL3:IG27/2^4, 0))","v":-17},{"$f":"IF(im2colAll_confW4!DM3:IH27 > 0, ROUNDDOWN(im2colAll_confW4!DM3:IH27/2^4, 0), ROUNDUP(im2colAll_confW4!DM3:IH27/2^4, 0))","v":-18},{"$f":"IF(im2colAll_confW4!DN3:II27 > 0, ROUNDDOWN(im2colAll_confW4!DN3:II27/2^4, 0), ROUNDUP(im2colAll_confW4!DN3:II27/2^4, 0))","v":-1},{"$f":"IF(im2colAll_confW4!DO3:IJ27 > 0, ROUNDDOWN(im2colAll_confW4!DO3:IJ27/2^4, 0), ROUNDUP(im2colAll_confW4!DO3:IJ27/2^4, 0))","v":-1},{"$f":"IF(im2colAll_confW4!DP3:IK27 > 0, ROUNDDOWN(im2colAll_confW4!DP3:IK27/2^4, 0), ROUNDUP(im2colAll_confW4!DP3:IK27/2^4, 0))","v":-12},{"$f":"IF(im2colAll_confW4!DQ3:IL27 > 0, ROUNDDOWN(im2colAll_confW4!DQ3:IL27/2^4, 0), ROUNDUP(im2colAll_confW4!DQ3:IL27/2^4, 0))","v":113},{"$f":"IF(im2colAll_confW4!DR3:IM27 > 0, ROUNDDOWN(im2colAll_confW4!DR3:IM27/2^4, 0), ROUNDUP(im2colAll_confW4!DR3:IM27/2^4, 0))","v":-13},{"$f":"IF(im2colAll_confW4!DS3:IN27 > 0, ROUNDDOWN(im2colAll_confW4!DS3:IN27/2^4, 0), ROUNDUP(im2colAll_confW4!DS3:IN27/2^4, 0))","v":-43},{"$f":"IF(im2colAll_confW4!DT3:IO27 > 0, ROUNDDOWN(im2colAll_confW4!DT3:IO27/2^4, 0), ROUNDUP(im2colAll_confW4!DT3:IO27/2^4, 0))","v":11},{"$f":"IF(im2colAll_confW4!DU3:IP27 > 0, ROUNDDOWN(im2colAll_confW4!DU3:IP27/2^4, 0), ROUNDUP(im2colAll_confW4!DU3:IP27/2^4, 0))","v":-29},{"$f":"IF(im2colAll_confW4!DV3:IQ27 > 0, ROUNDDOWN(im2colAll_confW4!DV3:IQ27/2^4, 0), ROUNDUP(im2colAll_confW4!DV3:IQ27/2^4, 0))","v":-20}]
[{"$f":"IF(im2colAll_confW4!A4:DV28 > 0, ROUNDDOWN(im2colAll_confW4!A4:DV28/2^4, 0), ROUNDUP(im2colAll_confW4!A4:DV28/2^4, 0))","v":191},{"$f":"IF(im2colAll_confW4!B4:DW28 > 0, ROUNDDOWN(im2colAll_confW4!B4:DW28/2^4, 0), ROUNDUP(im2colAll_confW4!B4:DW28/2^4, 0))","v":-12},{"$f":"IF(im2colAll_confW4!C4:DX28 > 0, ROUNDDOWN(im2colAll_confW4!C4:DX28/2^4, 0), ROUNDUP(im2colAll_confW4!C4:DX28/2^4, 0))","v":-34},{"$f":"IF(im2colAll_confW4!D4:DY28 > 0, ROUNDDOWN(im2colAll_confW4!D4:DY28/2^4, 0), ROUNDUP(im2colAll_confW4!D4:DY28/2^4, 0))","v":-38},{"$f":"IF(im2colAll_confW4!E4:DZ28 > 0, ROUNDDOWN(im2colAll_confW4!E4:DZ28/2^4, 0), ROUNDUP(im2colAll_confW4!E4:DZ28/2^4, 0))","v":1},{"$f":"IF(im2colAll_confW4!F4:EA28 > 0, ROUNDDOWN(im2colAll_confW4!F4:EA28/2^4, 0), ROUNDUP(im2colAll_confW4!F4:EA28/2^4, 0))","v":-37},{"$f":"IF(im2colAll_confW4!G4:EB28 > 0, ROUNDDOWN(im2colAll_confW4!G4:EB28/2^4, 0), ROUNDUP(im2colAll_confW4!G4:EB28/2^4, 0))","v":2},{"$f":"IF(im2colAll_confW4!H4:EC28 > 0, ROUNDDOWN(im2colAll_confW4!H4:EC28/2^4, 0), ROUNDUP(im2colAll_confW4!H4:EC28/2^4, 0))","v":4},{"$f":"IF(im2colAll_confW4!I4:ED28 > 0, ROUNDDOWN(im2colAll_confW4!I4:ED28/2^4, 0), ROUNDUP(im2colAll_confW4!I4:ED28/2^4, 0))","v":-54},{"$f":"IF(im2colAll_confW4!J4:EE28 > 0, ROUNDDOWN(im2colAll_confW4!J4:EE28/2^4, 0), ROUNDUP(im2colAll_confW4!J4:EE28/2^4, 0))","v":3},{"$f":"IF(im2colAll_confW4!K4:EF28 > 0, ROUNDDOWN(im2colAll_confW4!K4:EF28/2^4, 0), ROUNDUP(im2colAll_confW4!K4:EF28/2^4, 0))","v":-1},{"$f":"IF(im2colAll_confW4!L4:EG28 > 0, ROUNDDOWN(im2colAll_confW4!L4:EG28/2^4, 0), ROUNDUP(im2colAll_confW4!L4:EG28/2^4, 0))","v":27},{"$f":"IF(im2colAll_confW4!M4:EH28 > 0, ROUNDDOWN(im2colAll_confW4!M4:EH28/2^4, 0), ROUNDUP(im2colAll_confW4!M4:EH28/2^4, 0))","v":-8},{"$f":"IF(im2colAll_confW4!N4:EI28 > 0, ROUNDDOWN(im2colAll_confW4!N4:EI28/2^4, 0), ROUNDUP(im2colAll_confW4!N4:EI28/2^4, 0))","v":-10},{"$f":"IF(im2colAll_confW4!O4:EJ28 > 0, ROUNDDOWN(im2colAll_confW4!O4:EJ28/2^4, 0), ROUNDUP(im2colAll_confW4!O4:EJ28/2^4, 0))","v":-18},{"$f":"IF(im2colAll_confW4!P4:EK28 > 0, ROUNDDOWN(im2colAll_confW4!P4:EK28/2^4, 0), ROUNDUP(im2colAll_confW4!P4:EK28/2^4, 0))","v":77},{"$f":"IF(im2colAll_confW4!Q4:EL28 > 0, ROUNDDOWN(im2colAll_confW4!Q4:EL28/2^4, 0), ROUNDUP(im2colAll_confW4!Q4:EL28/2^4, 0))","v":-4},{"$f":"IF(im2colAll_confW4!R4:EM28 > 0, ROUNDDOWN(im2colAll_confW4!R4:EM28/2^4, 0), ROUNDUP(im2colAll_confW4!R4:EM28/2^4, 0))","v":-56},{"$f":"IF(im2colAll_confW4!S4:EN28 > 0, ROUNDDOWN(im2colAll_confW4!S4:EN28/2^4, 0), ROUNDUP(im2colAll_confW4!S4:EN28/2^4, 0))","v":32},{"$f":"IF(im2colAll_confW4!T4:EO28 > 0, ROUNDDOWN(im2colAll_confW4!T4:EO28/2^4, 0), ROUNDUP(im2colAll_confW4!T4:EO28/2^4, 0))","v":-26},{"$f":"IF(im2colAll_confW4!U4:EP28 > 0, ROUNDDOWN(im2colAll_confW4!U4:EP28/2^4, 0), ROUNDUP(im2colAll_confW4!U4:EP28/2^4, 0))","v":2},{"$f":"IF(im2colAll_confW4!V4:EQ28 > 0, ROUNDDOWN(im2colAll_confW4!V4:EQ28/2^4, 0), ROUNDUP(im2colAll_confW4!V4:EQ28/2^4, 0))","v":179},{"$f":"IF(im2colAll_confW4!W4:ER28 > 0, ROUNDDOWN(im2colAll_confW4!W4:ER28/2^4, 0), ROUNDUP(im2colAll_confW4!W4:ER28/2^4, 0))","v":-33},{"$f":"IF(im2colAll_confW4!X4:ES28 > 0, ROUNDDOWN(im2colAll_confW4!X4:ES28/2^4, 0), ROUNDUP(im2colAll_confW4!X4:ES28/2^4, 0))","v":-25},{"$f":"IF(im2colAll_confW4!Y4:ET28 > 0, ROUNDDOWN(im2colAll_confW4!Y4:ET28/2^4, 0), ROUNDUP(im2colAll_confW4!Y4:ET28/2^4, 0))","v":-15},{"$f":"IF(im2colAll_confW4!Z4:EU28 > 0, ROUNDDOWN(im2colAll_confW4!Z4:EU28/2^4, 0), ROUNDUP(im2colAll_confW4!Z4:EU28/2^4, 0))","v":-6},{"$f":"IF(im2colAll_confW4!AA4:EV28 > 0, ROUNDDOWN(im2colAll_confW4!AA4:EV28/2^4, 0), ROUNDUP(im2colAll_confW4!AA4:EV28/2^4, 0))","v":-50},{"$f":"IF(im2colAll_confW4!AB4:EW28 > 0, ROUNDDOWN(im2colAll_confW4!AB4:EW28/2^4, 0), ROUNDUP(im2colAll_confW4!AB4:EW28/2^4, 0))","v":-31},{"$f":"IF(im2colAll_confW4!AC4:EX28 > 0, ROUNDDOWN(im2colAll_confW4!AC4:EX28/2^4, 0), ROUNDUP(im2colAll_confW4!AC4:EX28/2^4, 0))","v":2},{"$f":"IF(im2colAll_confW4!AD4:EY28 > 0, ROUNDDOWN(im2colAll_confW4!AD4:EY28/2^4, 0), ROUNDUP(im2colAll_confW4!AD4:EY28/2^4, 0))","v":-76},{"$f":"IF(im2colAll_confW4!AE4:EZ28 > 0, ROUNDDOWN(im2colAll_confW4!AE4:EZ28/2^4, 0), ROUNDUP(im2colAll_confW4!AE4:EZ28/2^4, 0))","v":-3},{"$f":"IF(im2colAll_confW4!AF4:FA28 > 0, ROUNDDOWN(im2colAll_confW4!AF4:FA28/2^4, 0), ROUNDUP(im2colAll_confW4!AF4:FA28/2^4, 0))","v":10},{"$f":"IF(im2colAll_confW4!AG4:FB28 > 0, ROUNDDOWN(im2colAll_confW4!AG4:FB28/2^4, 0), ROUNDUP(im2colAll_confW4!AG4:FB28/2^4, 0))","v":3},{"$f":"IF(im2colAll_confW4!AH4:FC28 > 0, ROUNDDOWN(im2colAll_confW4!AH4:FC28/2^4, 0), ROUNDUP(im2colAll_confW4!AH4:FC28/2^4, 0))","v":-24},{"$f":"IF(im2colAll_confW4!AI4:FD28 > 0, ROUNDDOWN(im2colAll_confW4!AI4:FD28/2^4, 0), ROUNDUP(im2colAll_confW4!AI4:FD28/2^4, 0))","v":-3},{"$f":"IF(im2colAll_confW4!AJ4:FE28 > 0, ROUNDDOWN(im2colAll_confW4!AJ4:FE28/2^4, 0), ROUNDUP(im2colAll_confW4!AJ4:FE28/2^4, 0))","v":-19},{"$f":"IF(im2colAll_confW4!AK4:FF28 > 0, ROUNDDOWN(im2colAll_confW4!AK4:FF28/2^4, 0), ROUNDUP(im2colAll_confW4!AK4:FF28/2^4, 0))","v":83},{"$f":"IF(im2colAll_confW4!AL4:FG28 > 0, ROUNDDOWN(im2colAll_confW4!AL4:FG28/2^4, 0), ROUNDUP(im2colAll_confW4!AL4:FG28/2^4, 0))","v":-2},{"$f":"IF(im2colAll_confW4!AM4:FH28 > 0, ROUNDDOWN(im2colAll_confW4!AM4:FH28/2^4, 0), ROUNDUP(im2colAll_confW4!AM4:FH28/2^4, 0))","v":-59},{"$f":"IF(im2colAll_confW4!AN4:FI28 > 0, ROUNDDOWN(im2colAll_confW4!AN4:FI28/2^4, 0), ROUNDUP(im2colAll_confW4!AN4:FI28/2^4, 0))","v":20},{"$f":"IF(im2colAll_confW4!AO4:FJ28 > 0, ROUNDDOWN(im2colAll_confW4!AO4:FJ28/2^4, 0), ROUNDUP(im2colAll_confW4!AO4:FJ28/2^4, 0))","v":-20},{"$f":"IF(im2colAll_confW4!AP4:FK28 > 0, ROUNDDOWN(im2colAll_confW4!AP4:FK28/2^4, 0), ROUNDUP(im2colAll_confW4!AP4:FK28/2^4, 0))","v":-21},{"$f":"IF(im2colAll_confW4!AQ4:FL28 > 0, ROUNDDOWN(im2colAll_confW4!AQ4:FL28/2^4, 0), ROUNDUP(im2colAll_confW4!AQ4:FL28/2^4, 0))","v":178},{"$f":"IF(im2colAll_confW4!AR4:FM28 > 0, ROUNDDOWN(im2colAll_confW4!AR4:FM28/2^4, 0), ROUNDUP(im2colAll_confW4!AR4:FM28/2^4, 0))","v":-17},{"$f":"IF(im2colAll_confW4!AS4:FN28 > 0, ROUNDDOWN(im2colAll_confW4!AS4:FN28/2^4, 0), ROUNDUP(im2colAll_confW4!AS4:FN28/2^4, 0))","v":-40},{"$f":"IF(im2colAll_confW4!AT4:FO28 > 0, ROUNDDOWN(im2colAll_confW4!AT4:FO28/2^4, 0), ROUNDUP(im2colAll_confW4!AT4:FO28/2^4, 0))","v":-21},{"$f":"IF(im2colAll_confW4!AU4:FP28 > 0, ROUNDDOWN(im2colAll_confW4!AU4:FP28/2^4, 0), ROUNDUP(im2colAll_confW4!AU4:FP28/2^4, 0))","v":-5},{"$f":"IF(im2colAll_confW4!AV4:FQ28 > 0, ROUNDDOWN(im2colAll_confW4!AV4:FQ28/2^4, 0), ROUNDUP(im2colAll_confW4!AV4:FQ28/2^4, 0))","v":-49},{"$f":"IF(im2colAll_confW4!AW4:FR28 > 0, ROUNDDOWN(im2colAll_confW4!AW4:FR28/2^4, 0), ROUNDUP(im2colAll_confW4!AW4:FR28/2^4, 0))","v":-10},{"$f":"IF(im2colAll_confW4!AX4:FS28 > 0, ROUNDDOWN(im2colAll_confW4!AX4:FS28/2^4, 0), ROUNDUP(im2colAll_confW4!AX4:FS28/2^4, 0))","v":11},{"$f":"IF(im2colAll_confW4!AY4:FT28 > 0, ROUNDDOWN(im2colAll_confW4!AY4:FT28/2^4, 0), ROUNDUP(im2colAll_confW4!AY4:FT28/2^4, 0))","v":-57},{"$f":"IF(im2colAll_confW4!AZ4:FU28 > 0, ROUNDDOWN(im2colAll_confW4!AZ4:FU28/2^4, 0), ROUNDUP(im2colAll_confW4!AZ4:FU28/2^4, 0))","v":-14},{"$f":"IF(im2colAll_confW4!BA4:FV28 > 0, ROUNDDOWN(im2colAll_confW4!BA4:FV28/2^4, 0), ROUNDUP(im2colAll_confW4!BA4:FV28/2^4, 0))","v":-6},{"$f":"IF(im2colAll_confW4!BB4:FW28 > 0, ROUNDDOWN(im2colAll_confW4!BB4:FW28/2^4, 0), ROUNDUP(im2colAll_confW4!BB4:FW28/2^4, 0))","v":4},{"$f":"IF(im2colAll_confW4!BC4:FX28 > 0, ROUNDDOWN(im2colAll_confW4!BC4:FX28/2^4, 0), ROUNDUP(im2colAll_confW4!BC4:FX28/2^4, 0))","v":-12},{"$f":"IF(im2colAll_confW4!BD4:FY28 > 0, ROUNDDOWN(im2colAll_confW4!BD4:FY28/2^4, 0), ROUNDUP(im2colAll_confW4!BD4:FY28/2^4, 0))","v":-10},{"$f":"IF(im2colAll_confW4!BE4:FZ28 > 0, ROUNDDOWN(im2colAll_confW4!BE4:FZ28/2^4, 0), ROUNDUP(im2colAll_confW4!BE4:FZ28/2^4, 0))","v":-15},{"$f":"IF(im2colAll_confW4!BF4:GA28 > 0, ROUNDDOWN(im2colAll_confW4!BF4:GA28/2^4, 0), ROUNDUP(im2colAll_confW4!BF4:GA28/2^4, 0))","v":74},{"$f":"IF(im2colAll_confW4!BG4:GB28 > 0, ROUNDDOWN(im2colAll_confW4!BG4:GB28/2^4, 0), ROUNDUP(im2colAll_confW4!BG4:GB28/2^4, 0))","v":2},{"$f":"IF(im2colAll_confW4!BH4:GC28 > 0, ROUNDDOWN(im2colAll_confW4!BH4:GC28/2^4, 0), ROUNDUP(im2colAll_confW4!BH4:GC28/2^4, 0))","v":-49},{"$f":"IF(im2colAll_confW4!BI4:GD28 > 0, ROUNDDOWN(im2colAll_confW4!BI4:GD28/2^4, 0), ROUNDUP(im2colAll_confW4!BI4:GD28/2^4, 0))","v":21},{"$f":"IF(im2colAll_confW4!BJ4:GE28 > 0, ROUNDDOWN(im2colAll_confW4!BJ4:GE28/2^4, 0), ROUNDUP(im2colAll_confW4!BJ4:GE28/2^4, 0))","v":-19},{"$f":"IF(im2colAll_confW4!BK4:GF28 > 0, ROUNDDOWN(im2colAll_confW4!BK4:GF28/2^4, 0), ROUNDUP(im2colAll_confW4!BK4:GF28/2^4, 0))","v":0},{"$f":"IF(im2colAll_confW4!BL4:GG28 > 0, ROUNDDOWN(im2colAll_confW4!BL4:GG28/2^4, 0), ROUNDUP(im2colAll_confW4!BL4:GG28/2^4, 0))","v":170},{"$f":"IF(im2colAll_confW4!BM4:GH28 > 0, ROUNDDOWN(im2colAll_confW4!BM4:GH28/2^4, 0), ROUNDUP(im2colAll_confW4!BM4:GH28/2^4, 0))","v":-29},{"$f":"IF(im2colAll_confW4!BN4:GI28 > 0, ROUNDDOWN(im2colAll_confW4!BN4:GI28/2^4, 0), ROUNDUP(im2colAll_confW4!BN4:GI28/2^4, 0))","v":-30},{"$f":"IF(im2colAll_confW4!BO4:GJ28 > 0, ROUNDDOWN(im2colAll_confW4!BO4:GJ28/2^4, 0), ROUNDUP(im2colAll_confW4!BO4:GJ28/2^4, 0))","v":-9},{"$f":"IF(im2colAll_confW4!BP4:GK28 > 0, ROUNDDOWN(im2colAll_confW4!BP4:GK28/2^4, 0), ROUNDUP(im2colAll_confW4!BP4:GK28/2^4, 0))","v":-23},{"$f":"IF(im2colAll_confW4!BQ4:GL28 > 0, ROUNDDOWN(im2colAll_confW4!BQ4:GL28/2^4, 0), ROUNDUP(im2colAll_confW4!BQ4:GL28/2^4, 0))","v":-29},{"$f":"IF(im2colAll_confW4!BR4:GM28 > 0, ROUNDDOWN(im2colAll_confW4!BR4:GM28/2^4, 0), ROUNDUP(im2colAll_confW4!BR4:GM28/2^4, 0))","v":-26},{"$f":"IF(im2colAll_confW4!BS4:GN28 > 0, ROUNDDOWN(im2colAll_confW4!BS4:GN28/2^4, 0), ROUNDUP(im2colAll_confW4!BS4:GN28/2^4, 0))","v":0},{"$f":"IF(im2colAll_confW4!BT4:GO28 > 0, ROUNDDOWN(im2colAll_confW4!BT4:GO28/2^4, 0), ROUNDUP(im2colAll_confW4!BT4:GO28/2^4, 0))","v":-38},{"$f":"IF(im2colAll_confW4!BU4:GP28 > 0, ROUNDDOWN(im2colAll_confW4!BU4:GP28/2^4, 0), ROUNDUP(im2colAll_confW4!BU4:GP28/2^4, 0))","v":-5},{"$f":"IF(im2colAll_confW4!BV4:GQ28 > 0, ROUNDDOWN(im2colAll_confW4!BV4:GQ28/2^4, 0), ROUNDUP(im2colAll_confW4!BV4:GQ28/2^4, 0))","v":0},{"$f":"IF(im2colAll_confW4!BW4:GR28 > 0, ROUNDDOWN(im2colAll_confW4!BW4:GR28/2^4, 0), ROUNDUP(im2colAll_confW4!BW4:GR28/2^4, 0))","v":-8},{"$f":"IF(im2colAll_confW4!BX4:GS28 > 0, ROUNDDOWN(im2colAll_confW4!BX4:GS28/2^4, 0), ROUNDUP(im2colAll_confW4!BX4:GS28/2^4, 0))","v":-3},{"$f":"IF(im2colAll_confW4!BY4:GT28 > 0, ROUNDDOWN(im2colAll_confW4!BY4:GT28/2^4, 0), ROUNDUP(im2colAll_confW4!BY4:GT28/2^4, 0))","v":-7},{"$f":"IF(im2colAll_confW4!BZ4:GU28 > 0, ROUNDDOWN(im2colAll_confW4!BZ4:GU28/2^4, 0), ROUNDUP(im2colAll_confW4!BZ4:GU28/2^4, 0))","v":-15},{"$f":"IF(im2colAll_confW4!CA4:GV28 > 0, ROUNDDOWN(im2colAll_confW4!CA4:GV28/2^4, 0), ROUNDUP(im2colAll_confW4!CA4:GV28/2^4, 0))","v":78},{"$f":"IF(im2colAll_confW4!CB4:GW28 > 0, ROUNDDOWN(im2colAll_confW4!CB4:GW28/2^4, 0), ROUNDUP(im2colAll_confW4!CB4:GW28/2^4, 0))","v":6},{"$f":"IF(im2colAll_confW4!CC4:GX28 > 0, ROUNDDOWN(im2colAll_confW4!CC4:GX28/2^4, 0), ROUNDUP(im2colAll_confW4!CC4:GX28/2^4, 0))","v":-51},{"$f":"IF(im2colAll_confW4!CD4:GY28 > 0, ROUNDDOWN(im2colAll_confW4!CD4:GY28/2^4, 0), ROUNDUP(im2colAll_confW4!CD4:GY28/2^4, 0))","v":5},{"$f":"IF(im2colAll_confW4!CE4:GZ28 > 0, ROUNDDOWN(im2colAll_confW4!CE4:GZ28/2^4, 0), ROUNDUP(im2colAll_confW4!CE4:GZ28/2^4, 0))","v":-36},{"$f":"IF(im2colAll_confW4!CF4:HA28 > 0, ROUNDDOWN(im2colAll_confW4!CF4:HA28/2^4, 0), ROUNDUP(im2colAll_confW4!CF4:HA28/2^4, 0))","v":-3},{"$f":"IF(im2colAll_confW4!CG4:HB28 > 0, ROUNDDOWN(im2colAll_confW4!CG4:HB28/2^4, 0), ROUNDUP(im2colAll_confW4!CG4:HB28/2^4, 0))","v":173},{"$f":"IF(im2colAll_confW4!CH4:HC28 > 0, ROUNDDOWN(im2colAll_confW4!CH4:HC28/2^4, 0), ROUNDUP(im2colAll_confW4!CH4:HC28/2^4, 0))","v":-15},{"$f":"IF(im2colAll_confW4!CI4:HD28 > 0, ROUNDDOWN(im2colAll_confW4!CI4:HD28/2^4, 0), ROUNDUP(im2colAll_confW4!CI4:HD28/2^4, 0))","v":-12},{"$f":"IF(im2colAll_confW4!CJ4:HE28 > 0, ROUNDDOWN(im2colAll_confW4!CJ4:HE28/2^4, 0), ROUNDUP(im2colAll_confW4!CJ4:HE28/2^4, 0))","v":-12},{"$f":"IF(im2colAll_confW4!CK4:HF28 > 0, ROUNDDOWN(im2colAll_confW4!CK4:HF28/2^4, 0), ROUNDUP(im2colAll_confW4!CK4:HF28/2^4, 0))","v":-3},{"$f":"IF(im2colAll_confW4!CL4:HG28 > 0, ROUNDDOWN(im2colAll_confW4!CL4:HG28/2^4, 0), ROUNDUP(im2colAll_confW4!CL4:HG28/2^4, 0))","v":-35},{"$f":"IF(im2colAll_confW4!CM4:HH28 > 0, ROUNDDOWN(im2colAll_confW4!CM4:HH28/2^4, 0), ROUNDUP(im2colAll_confW4!CM4:HH28/2^4, 0))","v":-19},{"$f":"IF(im2colAll_confW4!CN4:HI28 > 0, ROUNDDOWN(im2colAll_confW4!CN4:HI28/2^4, 0), ROUNDUP(im2colAll_confW4!CN4:HI28/2^4, 0))","v":17},{"$f":"IF(im2colAll_confW4!CO4:HJ28 > 0, ROUNDDOWN(im2colAll_confW4!CO4:HJ28/2^4, 0), ROUNDUP(im2colAll_confW4!CO4:HJ28/2^4, 0))","v":-36},{"$f":"IF(im2colAll_confW4!CP4:HK28 > 0, ROUNDDOWN(im2colAll_confW4!CP4:HK28/2^4, 0), ROUNDUP(im2colAll_confW4!CP4:HK28/2^4, 0))","v":-3},{"$f":"IF(im2colAll_confW4!CQ4:HL28 > 0, ROUNDDOWN(im2colAll_confW4!CQ4:HL28/2^4, 0), ROUNDUP(im2colAll_confW4!CQ4:HL28/2^4, 0))","v":-3},{"$f":"IF(im2colAll_confW4!CR4:HM28 > 0, ROUNDDOWN(im2colAll_confW4!CR4:HM28/2^4, 0), ROUNDUP(im2colAll_confW4!CR4:HM28/2^4, 0))","v":-9},{"$f":"IF(im2colAll_confW4!CS4:HN28 > 0, ROUNDDOWN(im2colAll_confW4!CS4:HN28/2^4, 0), ROUNDUP(im2colAll_confW4!CS4:HN28/2^4, 0))","v":-8},{"$f":"IF(im2colAll_confW4!CT4:HO28 > 0, ROUNDDOWN(im2colAll_confW4!CT4:HO28/2^4, 0), ROUNDUP(im2colAll_confW4!CT4:HO28/2^4, 0))","v":13},{"$f":"IF(im2colAll_confW4!CU4:HP28 > 0, ROUNDDOWN(im2colAll_confW4!CU4:HP28/2^4, 0), ROUNDUP(im2colAll_confW4!CU4:HP28/2^4, 0))","v":-3},{"$f":"IF(im2colAll_confW4!CV4:HQ28 > 0, ROUNDDOWN(im2colAll_confW4!CV4:HQ28/2^4, 0), ROUNDUP(im2colAll_confW4!CV4:HQ28/2^4, 0))","v":61},{"$f":"IF(im2colAll_confW4!CW4:HR28 > 0, ROUNDDOWN(im2colAll_confW4!CW4:HR28/2^4, 0), ROUNDUP(im2colAll_confW4!CW4:HR28/2^4, 0))","v":-10},{"$f":"IF(im2colAll_confW4!CX4:HS28 > 0, ROUNDDOWN(im2colAll_confW4!CX4:HS28/2^4, 0), ROUNDUP(im2colAll_confW4!CX4:HS28/2^4, 0))","v":-51},{"$f":"IF(im2colAll_confW4!CY4:HT28 > 0, ROUNDDOWN(im2colAll_confW4!CY4:HT28/2^4, 0), ROUNDUP(im2colAll_confW4!CY4:HT28/2^4, 0))","v":29},{"$f":"IF(im2colAll_confW4!CZ4:HU28 > 0, ROUNDDOWN(im2colAll_confW4!CZ4:HU28/2^4, 0), ROUNDUP(im2colAll_confW4!CZ4:HU28/2^4, 0))","v":-5},{"$f":"IF(im2colAll_confW4!DA4:HV28 > 0, ROUNDDOWN(im2colAll_confW4!DA4:HV28/2^4, 0), ROUNDUP(im2colAll_confW4!DA4:HV28/2^4, 0))","v":-1},{"$f":"IF(im2colAll_confW4!DB4:HW28 > 0, ROUNDDOWN(im2colAll_confW4!DB4:HW28/2^4, 0), ROUNDUP(im2colAll_confW4!DB4:HW28/2^4, 0))","v":154},{"$f":"IF(im2colAll_confW4!DC4:HX28 > 0, ROUNDDOWN(im2colAll_confW4!DC4:HX28/2^4, 0), ROUNDUP(im2colAll_confW4!DC4:HX28/2^4, 0))","v":-20},{"$f":"IF(im2colAll_confW4!DD4:HY28 > 0, ROUNDDOWN(im2colAll_confW4!DD4:HY28/2^4, 0), ROUNDUP(im2colAll_confW4!DD4:HY28/2^4, 0))","v":-39},{"$f":"IF(im2colAll_confW4!DE4:HZ28 > 0, ROUNDDOWN(im2colAll_confW4!DE4:HZ28/2^4, 0), ROUNDUP(im2colAll_confW4!DE4:HZ28/2^4, 0))","v":-22},{"$f":"IF(im2colAll_confW4!DF4:IA28 > 0, ROUNDDOWN(im2colAll_confW4!DF4:IA28/2^4, 0), ROUNDUP(im2colAll_confW4!DF4:IA28/2^4, 0))","v":-11},{"$f":"IF(im2colAll_confW4!DG4:IB28 > 0, ROUNDDOWN(im2colAll_confW4!DG4:IB28/2^4, 0), ROUNDUP(im2colAll_confW4!DG4:IB28/2^4, 0))","v":-26},{"$f":"IF(im2colAll_confW4!DH4:IC28 > 0, ROUNDDOWN(im2colAll_confW4!DH4:IC28/2^4, 0), ROUNDUP(im2colAll_confW4!DH4:IC28/2^4, 0))","v":-28},{"$f":"IF(im2colAll_confW4!DI4:ID28 > 0, ROUNDDOWN(im2colAll_confW4!DI4:ID28/2^4, 0), ROUNDUP(im2colAll_confW4!DI4:ID28/2^4, 0))","v":-16},{"$f":"IF(im2colAll_confW4!DJ4:IE28 > 0, ROUNDDOWN(im2colAll_confW4!DJ4:IE28/2^4, 0), ROUNDUP(im2colAll_confW4!DJ4:IE28/2^4, 0))","v":-25},{"$f":"IF(im2colAll_confW4!DK4:IF28 > 0, ROUNDDOWN(im2colAll_confW4!DK4:IF28/2^4, 0), ROUNDUP(im2colAll_confW4!DK4:IF28/2^4, 0))","v":13},{"$f":"IF(im2colAll_confW4!DL4:IG28 > 0, ROUNDDOWN(im2colAll_confW4!DL4:IG28/2^4, 0), ROUNDUP(im2colAll_confW4!DL4:IG28/2^4, 0))","v":-7},{"$f":"IF(im2colAll_confW4!DM4:IH28 > 0, ROUNDDOWN(im2colAll_confW4!DM4:IH28/2^4, 0), ROUNDUP(im2colAll_confW4!DM4:IH28/2^4, 0))","v":-13},{"$f":"IF(im2colAll_confW4!DN4:II28 > 0, ROUNDDOWN(im2colAll_confW4!DN4:II28/2^4, 0), ROUNDUP(im2colAll_confW4!DN4:II28/2^4, 0))","v":-14},{"$f":"IF(im2colAll_confW4!DO4:IJ28 > 0, ROUNDDOWN(im2colAll_confW4!DO4:IJ28/2^4, 0), ROUNDUP(im2colAll_confW4!DO4:IJ28/2^4, 0))","v":0},{"$f":"IF(im2colAll_confW4!DP4:IK28 > 0, ROUNDDOWN(im2colAll_confW4!DP4:IK28/2^4, 0), ROUNDUP(im2colAll_confW4!DP4:IK28/2^4, 0))","v":-12},{"$f":"IF(im2colAll_confW4!DQ4:IL28 > 0, ROUNDDOWN(im2colAll_confW4!DQ4:IL28/2^4, 0), ROUNDUP(im2colAll_confW4!DQ4:IL28/2^4, 0))","v":77},{"$f":"IF(im2colAll_confW4!DR4:IM28 > 0, ROUNDDOWN(im2colAll_confW4!DR4:IM28/2^4, 0), ROUNDUP(im2colAll_confW4!DR4:IM28/2^4, 0))","v":8},{"$f":"IF(im2colAll_confW4!DS4:IN28 > 0, ROUNDDOWN(im2colAll_confW4!DS4:IN28/2^4, 0), ROUNDUP(im2colAll_confW4!DS4:IN28/2^4, 0))","v":-31},{"$f":"IF(im2colAll_confW4!DT4:IO28 > 0, ROUNDDOWN(im2colAll_confW4!DT4:IO28/2^4, 0), ROUNDUP(im2colAll_confW4!DT4:IO28/2^4, 0))","v":14},{"$f":"IF(im2colAll_confW4!DU4:IP28 > 0, ROUNDDOWN(im2colAll_confW4!DU4:IP28/2^4, 0), ROUNDUP(im2colAll_confW4!DU4:IP28/2^4, 0))","v":-26},{"$f":"IF(im2colAll_confW4!DV4:IQ28 > 0, ROUNDDOWN(im2colAll_confW4!DV4:IQ28/2^4, 0), ROUNDUP(im2colAll_confW4!DV4:IQ28/2^4, 0))","v":-25}]
[{"$f":"IF(im2colAll_confW4!A5:DV29 > 0, ROUNDDOWN(im2colAll_confW4!A5:DV29/2^4, 0), ROUNDUP(im2colAll_confW4!A5:DV29/2^4, 0))","v":92},{"$f":"IF(im2colAll_confW4!B5:DW29 > 0, ROUNDDOWN(im2colAll_confW4!B5:DW29/2^4, 0), ROUNDUP(im2colAll_confW4!B5:DW29/2^4, 0))","v":-9},{"$f":"IF(im2colAll_confW4!C5:DX29 > 0, ROUNDDOWN(im2colAll_confW4!C5:DX29/2^4, 0), ROUNDUP(im2colAll_confW4!C5:DX29/2^4, 0))","v":-17},{"$f":"IF(im2colAll_confW4!D5:DY29 > 0, ROUNDDOWN(im2colAll_confW4!D5:DY29/2^4, 0), ROUNDUP(im2colAll_confW4!D5:DY29/2^4, 0))","v":-8},{"$f":"IF(im2colAll_confW4!E5:DZ29 > 0, ROUNDDOWN(im2colAll_confW4!E5:DZ29/2^4, 0), ROUNDUP(im2colAll_confW4!E5:DZ29/2^4, 0))","v":2},{"$f":"IF(im2colAll_confW4!F5:EA29 > 0, ROUNDDOWN(im2colAll_confW4!F5:EA29/2^4, 0), ROUNDUP(im2colAll_confW4!F5:EA29/2^4, 0))","v":-17},{"$f":"IF(im2colAll_confW4!G5:EB29 > 0, ROUNDDOWN(im2colAll_confW4!G5:EB29/2^4, 0), ROUNDUP(im2colAll_confW4!G5:EB29/2^4, 0))","v":-6},{"$f":"IF(im2colAll_confW4!H5:EC29 > 0, ROUNDDOWN(im2colAll_confW4!H5:EC29/2^4, 0), ROUNDUP(im2colAll_confW4!H5:EC29/2^4, 0))","v":6},{"$f":"IF(im2colAll_confW4!I5:ED29 > 0, ROUNDDOWN(im2colAll_confW4!I5:ED29/2^4, 0), ROUNDUP(im2colAll_confW4!I5:ED29/2^4, 0))","v":-24},{"$f":"IF(im2colAll_confW4!J5:EE29 > 0, ROUNDDOWN(im2colAll_confW4!J5:EE29/2^4, 0), ROUNDUP(im2colAll_confW4!J5:EE29/2^4, 0))","v":11},{"$f":"IF(im2colAll_confW4!K5:EF29 > 0, ROUNDDOWN(im2colAll_confW4!K5:EF29/2^4, 0), ROUNDUP(im2colAll_confW4!K5:EF29/2^4, 0))","v":-1},{"$f":"IF(im2colAll_confW4!L5:EG29 > 0, ROUNDDOWN(im2colAll_confW4!L5:EG29/2^4, 0), ROUNDUP(im2colAll_confW4!L5:EG29/2^4, 0))","v":6},{"$f":"IF(im2colAll_confW4!M5:EH29 > 0, ROUNDDOWN(im2colAll_confW4!M5:EH29/2^4, 0), ROUNDUP(im2colAll_confW4!M5:EH29/2^4, 0))","v":4},{"$f":"IF(im2colAll_confW4!N5:EI29 > 0, ROUNDDOWN(im2colAll_confW4!N5:EI29/2^4, 0), ROUNDUP(im2colAll_confW4!N5:EI29/2^4, 0))","v":-3},{"$f":"IF(im2colAll_confW4!O5:EJ29 > 0, ROUNDDOWN(im2colAll_confW4!O5:EJ29/2^4, 0), ROUNDUP(im2colAll_confW4!O5:EJ29/2^4, 0))","v":0},{"$f":"IF(im2colAll_confW4!P5:EK29 > 0, ROUNDDOWN(im2colAll_confW4!P5:EK29/2^4, 0), ROUNDUP(im2colAll_confW4!P5:EK29/2^4, 0))","v":36},{"$f":"IF(im2colAll_confW4!Q5:EL29 > 0, ROUNDDOWN(im2colAll_confW4!Q5:EL29/2^4, 0), ROUNDUP(im2colAll_confW4!Q5:EL29/2^4, 0))","v":-2},{"$f":"IF(im2colAll_confW4!R5:EM29 > 0, ROUNDDOWN(im2colAll_confW4!R5:EM29/2^4, 0), ROUNDUP(im2colAll_confW4!R5:EM29/2^4, 0))","v":-21},{"$f":"IF(im2colAll_confW4!S5:EN29 > 0, ROUNDDOWN(im2colAll_confW4!S5:EN29/2^4, 0), ROUNDUP(im2colAll_confW4!S5:EN29/2^4, 0))","v":5},{"$f":"IF(im2colAll_confW4!T5:EO29 > 0, ROUNDDOWN(im2colAll_confW4!T5:EO29/2^4, 0), ROUNDUP(im2colAll_confW4!T5:EO29/2^4, 0))","v":-16},{"$f":"IF(im2colAll_confW4!U5:EP29 > 0, ROUNDDOWN(im2colAll_confW4!U5:EP29/2^4, 0), ROUNDUP(im2colAll_confW4!U5:EP29/2^4, 0))","v":-6},{"$f":"IF(im2colAll_confW4!V5:EQ29 > 0, ROUNDDOWN(im2colAll_confW4!V5:EQ29/2^4, 0), ROUNDUP(im2colAll_confW4!V5:EQ29/2^4, 0))","v":96},{"$f":"IF(im2colAll_confW4!W5:ER29 > 0, ROUNDDOWN(im2colAll_confW4!W5:ER29/2^4, 0), ROUNDUP(im2colAll_confW4!W5:ER29/2^4, 0))","v":-19},{"$f":"IF(im2colAll_confW4!X5:ES29 > 0, ROUNDDOWN(im2colAll_confW4!X5:ES29/2^4, 0), ROUNDUP(im2colAll_confW4!X5:ES29/2^4, 0))","v":-4},{"$f":"IF(im2colAll_confW4!Y5:ET29 > 0, ROUNDDOWN(im2colAll_confW4!Y5:ET29/2^4, 0), ROUNDUP(im2colAll_confW4!Y5:ET29/2^4, 0))","v":-6},{"$f":"IF(im2colAll_confW4!Z5:EU29 > 0, ROUNDDOWN(im2colAll_confW4!Z5:EU29/2^4, 0), ROUNDUP(im2colAll_confW4!Z5:EU29/2^4, 0))","v":-2},{"$f":"IF(im2colAll_confW4!AA5:EV29 > 0, ROUNDDOWN(im2colAll_confW4!AA5:EV29/2^4, 0), ROUNDUP(im2colAll_confW4!AA5:EV29/2^4, 0))","v":-20},{"$f":"IF(im2colAll_confW4!AB5:EW29 > 0, ROUNDDOWN(im2colAll_confW4!AB5:EW29/2^4, 0), ROUNDUP(im2colAll_confW4!AB5:EW29/2^4, 0))","v":-22},{"$f":"IF(im2colAll_confW4!AC5:EX29 > 0, ROUNDDOWN(im2colAll_confW4!AC5:EX29/2^4, 0), ROUNDUP(im2colAll_confW4!AC5:EX29/2^4, 0))","v":7},{"$f":"IF(im2colAll_confW4!AD5:EY29 > 0, ROUNDDOWN(im2colAll_confW4!AD5:EY29/2^4, 0), ROUNDUP(im2colAll_confW4!AD5:EY29/2^4, 0))","v":-28},{"$f":"IF(im2colAll_confW4!AE5:EZ29 > 0, ROUNDDOWN(im2colAll_confW4!AE5:EZ29/2^4, 0), ROUNDUP(im2colAll_confW4!AE5:EZ29/2^4, 0))","v":-7},{"$f":"IF(im2colAll_confW4!AF5:FA29 > 0, ROUNDDOWN(im2colAll_confW4!AF5:FA29/2^4, 0), ROUNDUP(im2colAll_confW4!AF5:FA29/2^4, 0))","v":5},{"$f":"IF(im2colAll_confW4!AG5:FB29 > 0, ROUNDDOWN(im2colAll_confW4!AG5:FB29/2^4, 0), ROUNDUP(im2colAll_confW4!AG5:FB29/2^4, 0))","v":1},{"$f":"IF(im2colAll_confW4!AH5:FC29 > 0, ROUNDDOWN(im2colAll_confW4!AH5:FC29/2^4, 0), ROUNDUP(im2colAll_confW4!AH5:FC29/2^4, 0))","v":-3},{"$f":"IF(im2colAll_confW4!AI5:FD29 > 0, ROUNDDOWN(im2colAll_confW4!AI5:FD29/2^4, 0), ROUNDUP(im2colAll_confW4!AI5:FD29/2^4, 0))","v":0},{"$f":"IF(im2colAll_confW4!AJ5:FE29 > 0, ROUNDDOWN(im2colAll_confW4!AJ5:FE29/2^4, 0), ROUNDUP(im2colAll_confW4!AJ5:FE29/2^4, 0))","v":-8},{"$f":"IF(im2colAll_confW4!AK5:FF29 > 0, ROUNDDOWN(im2colAll_confW4!AK5:FF29/2^4, 0), ROUNDUP(im2colAll_confW4!AK5:FF29/2^4, 0))","v":34},{"$f":"IF(im2colAll_confW4!AL5:FG29 > 0, ROUNDDOWN(im2colAll_confW4!AL5:FG29/2^4, 0), ROUNDUP(im2colAll_confW4!AL5:FG29/2^4, 0))","v":-6},{"$f":"IF(im2colAll_confW4!AM5:FH29 > 0, ROUNDDOWN(im2colAll_confW4!AM5:FH29/2^4, 0), ROUNDUP(im2colAll_confW4!AM5:FH29/2^4, 0))","v":-39},{"$f":"IF(im2colAll_confW4!AN5:FI29 > 0, ROUNDDOWN(im2colAll_confW4!AN5:FI29/2^4, 0), ROUNDUP(im2colAll_confW4!AN5:FI29/2^4, 0))","v":5},{"$f":"IF(im2colAll_confW4!AO5:FJ29 > 0, ROUNDDOWN(im2colAll_confW4!AO5:FJ29/2^4, 0), ROUNDUP(im2colAll_confW4!AO5:FJ29/2^4, 0))","v":-13},{"$f":"IF(im2colAll_confW4!AP5:FK29 > 0, ROUNDDOWN(im2colAll_confW4!AP5:FK29/2^4, 0), ROUNDUP(im2colAll_confW4!AP5:FK29/2^4, 0))","v":-18},{"$f":"IF(im2colAll_confW4!AQ5:FL29 > 0, ROUNDDOWN(im2colAll_confW4!AQ5:FL29/2^4, 0), ROUNDUP(im2colAll_confW4!AQ5:FL29/2^4, 0))","v":110},{"$f":"IF(im2colAll_confW4!AR5:FM29 > 0, ROUNDDOWN(im2colAll_confW4!AR5:FM29/2^4, 0), ROUNDUP(im2colAll_confW4!AR5:FM29/2^4, 0))","v":-8},{"$f":"IF(im2colAll_confW4!AS5:FN29 > 0, ROUNDDOWN(im2colAll_confW4!AS5:FN29/2^4, 0), ROUNDUP(im2colAll_confW4!AS5:FN29/2^4, 0))","v":-13},{"$f":"IF(im2colAll_confW4!AT5:FO29 > 0, ROUNDDOWN(im2colAll_confW4!AT5:FO29/2^4, 0), ROUNDUP(im2colAll_confW4!AT5:FO29/2^4, 0))","v":-17},{"$f":"IF(im2colAll_confW4!AU5:FP29 > 0, ROUNDDOWN(im2colAll_confW4!AU5:FP29/2^4, 0), ROUNDUP(im2colAll_confW4!AU5:FP29/2^4, 0))","v":-3},{"$f":"IF(im2colAll_confW4!AV5:FQ29 > 0, ROUNDDOWN(im2colAll_confW4!AV5:FQ29/2^4, 0), ROUNDUP(im2colAll_confW4!AV5:FQ29/2^4, 0))","v":-32},{"$f":"IF(im2colAll_confW4!AW5:FR29 > 0, ROUNDDOWN(im2colAll_confW4!AW5:FR29/2^4, 0), ROUNDUP(im2colAll_confW4!AW5:FR29/2^4, 0))","v":-9},{"$f":"IF(im2colAll_confW4!AX5:FS29 > 0, ROUNDDOWN(im2colAll_confW4!AX5:FS29/2^4, 0), ROUNDUP(im2colAll_confW4!AX5:FS29/2^4, 0))","v":2},{"$f":"IF(im2colAll_confW4!AY5:FT29 > 0, ROUNDDOWN(im2colAll_confW4!AY5:FT29/2^4, 0), ROUNDUP(im2colAll_confW4!AY5:FT29/2^4, 0))","v":-23},{"$f":"IF(im2colAll_confW4!AZ5:FU29 > 0, ROUNDDOWN(im2colAll_confW4!AZ5:FU29/2^4, 0), ROUNDUP(im2colAll_confW4!AZ5:FU29/2^4, 0))","v":-2},{"$f":"IF(im2colAll_confW4!BA5:FV29 > 0, ROUNDDOWN(im2colAll_confW4!BA5:FV29/2^4, 0), ROUNDUP(im2colAll_confW4!BA5:FV29/2^4, 0))","v":-4},{"$f":"IF(im2colAll_confW4!BB5:FW29 > 0, ROUNDDOWN(im2colAll_confW4!BB5:FW29/2^4, 0), ROUNDUP(im2colAll_confW4!BB5:FW29/2^4, 0))","v":9},{"$f":"IF(im2colAll_confW4!BC5:FX29 > 0, ROUNDDOWN(im2colAll_confW4!BC5:FX29/2^4, 0), ROUNDUP(im2colAll_confW4!BC5:FX29/2^4, 0))","v":-3},{"$f":"IF(im2colAll_confW4!BD5:FY29 > 0, ROUNDDOWN(im2colAll_confW4!BD5:FY29/2^4, 0), ROUNDUP(im2colAll_confW4!BD5:FY29/2^4, 0))","v":-10},{"$f":"IF(im2colAll_confW4!BE5:FZ29 > 0, ROUNDDOWN(im2colAll_confW4!BE5:FZ29/2^4, 0), ROUNDUP(im2colAll_confW4!BE5:FZ29/2^4, 0))","v":-4},{"$f":"IF(im2colAll_confW4!BF5:GA29 > 0, ROUNDDOWN(im2colAll_confW4!BF5:GA29/2^4, 0), ROUNDUP(im2colAll_confW4!BF5:GA29/2^4, 0))","v":33},{"$f":"IF(im2colAll_confW4!BG5:GB29 > 0, ROUNDDOWN(im2colAll_confW4!BG5:GB29/2^4, 0), ROUNDUP(im2colAll_confW4!BG5:GB29/2^4, 0))","v":2},{"$f":"IF(im2colAll_confW4!BH5:GC29 > 0, ROUNDDOWN(im2colAll_confW4!BH5:GC29/2^4, 0), ROUNDUP(im2colAll_confW4!BH5:GC29/2^4, 0))","v":-21},{"$f":"IF(im2colAll_confW4!BI5:GD29 > 0, ROUNDDOWN(im2colAll_confW4!BI5:GD29/2^4, 0), ROUNDUP(im2colAll_confW4!BI5:GD29/2^4, 0))","v":13},{"$f":"IF(im2colAll_confW4!BJ5:GE29 > 0, ROUNDDOWN(im2colAll_confW4!BJ5:GE29/2^4, 0), ROUNDUP(im2colAll_confW4!BJ5:GE29/2^4, 0))","v":-7},{"$f":"IF(im2colAll_confW4!BK5:GF29 > 0, ROUNDDOWN(im2colAll_confW4!BK5:GF29/2^4, 0), ROUNDUP(im2colAll_confW4!BK5:GF29/2^4, 0))","v":-11},{"$f":"IF(im2colAll_confW4!BL5:GG29 > 0, ROUNDDOWN(im2colAll_confW4!BL5:GG29/2^4, 0), ROUNDUP(im2colAll_confW4!BL5:GG29/2^4, 0))","v":109},{"$f":"IF(im2colAll_confW4!BM5:GH29 > 0, ROUNDDOWN(im2colAll_confW4!BM5:GH29/2^4, 0), ROUNDUP(im2colAll_confW4!BM5:GH29/2^4, 0))","v":-17},{"$f":"IF(im2colAll_confW4!BN5:GI29 > 0, ROUNDDOWN(im2colAll_confW4!BN5:GI29/2^4, 0), ROUNDUP(im2colAll_confW4!BN5:GI29/2^4, 0))","v":-7},{"$f":"IF(im2colAll_confW4!BO5:GJ29 > 0, ROUNDDOWN(im2colAll_confW4!BO5:GJ29/2^4, 0), ROUNDUP(im2colAll_confW4!BO5:GJ29/2^4, 0))","v":4},{"$f":"IF(im2colAll_confW4!BP5:GK29 > 0, ROUNDDOWN(im2colAll_confW4!BP5:GK29/2^4, 0), ROUNDUP(im2colAll_confW4!BP5:GK29/2^4, 0))","v":-16},{"$f":"IF(im2colAll_confW4!BQ5:GL29 > 0, ROUNDDOWN(im2colAll_confW4!BQ5:GL29/2^4, 0), ROUNDUP(im2colAll_confW4!BQ5:GL29/2^4, 0))","v":-12},{"$f":"IF(im2colAll_confW4!BR5:GM29 > 0, ROUNDDOWN(im2colAll_confW4!BR5:GM29/2^4, 0), ROUNDUP(im2colAll_confW4!BR5:GM29/2^4, 0))","v":-31},{"$f":"IF(im2colAll_confW4!BS5:GN29 > 0, ROUNDDOWN(im2colAll_confW4!BS5:GN29/2^4, 0), ROUNDUP(im2colAll_confW4!BS5:GN29/2^4, 0))","v":3},{"$f":"IF(im2colAll_confW4!BT5:GO29 > 0, ROUNDDOWN(im2colAll_confW4!BT5:GO29/2^4, 0), ROUNDUP(im2colAll_confW4!BT5:GO29/2^4, 0))","v":-14},{"$f":"IF(im2colAll_confW4!BU5:GP29 > 0, ROUNDDOWN(im2colAll_confW4!BU5:GP29/2^4, 0), ROUNDUP(im2colAll_confW4!BU5:GP29/2^4, 0))","v":-2},{"$f":"IF(im2colAll_confW4!BV5:GQ29 > 0, ROUNDDOWN(im2colAll_confW4!BV5:GQ29/2^4, 0), ROUNDUP(im2colAll_confW4!BV5:GQ29/2^4, 0))","v":3},{"$f":"IF(im2colAll_confW4!BW5:GR29 > 0, ROUNDDOWN(im2colAll_confW4!BW5:GR29/2^4, 0), ROUNDUP(im2colAll_confW4!BW5:GR29/2^4, 0))","v":4},{"$f":"IF(im2colAll_confW4!BX5:GS29 > 0, ROUNDDOWN(im2colAll_confW4!BX5:GS29/2^4, 0), ROUNDUP(im2colAll_confW4!BX5:GS29/2^4, 0))","v":11},{"$f":"IF(im2colAll_confW4!BY5:GT29 > 0, ROUNDDOWN(im2colAll_confW4!BY5:GT29/2^4, 0), ROUNDUP(im2colAll_confW4!BY5:GT29/2^4, 0))","v":-3},{"$f":"IF(im2colAll_confW4!BZ5:GU29 > 0, ROUNDDOWN(im2colAll_confW4!BZ5:GU29/2^4, 0), ROUNDUP(im2colAll_confW4!BZ5:GU29/2^4, 0))","v":-16},{"$f":"IF(im2colAll_confW4!CA5:GV29 > 0, ROUNDDOWN(im2colAll_confW4!CA5:GV29/2^4, 0), ROUNDUP(im2colAll_confW4!CA5:GV29/2^4, 0))","v":31},{"$f":"IF(im2colAll_confW4!CB5:GW29 > 0, ROUNDDOWN(im2colAll_confW4!CB5:GW29/2^4, 0), ROUNDUP(im2colAll_confW4!CB5:GW29/2^4, 0))","v":2},{"$f":"IF(im2colAll_confW4!CC5:GX29 > 0, ROUNDDOWN(im2colAll_confW4!CC5:GX29/2^4, 0), ROUNDUP(im2colAll_confW4!CC5:GX29/2^4, 0))","v":-27},{"$f":"IF(im2colAll_confW4!CD5:GY29 > 0, ROUNDDOWN(im2colAll_confW4!CD5:GY29/2^4, 0), ROUNDUP(im2colAll_confW4!CD5:GY29/2^4, 0))","v":-9},{"$f":"IF(im2colAll_confW4!CE5:GZ29 > 0, ROUNDDOWN(im2colAll_confW4!CE5:GZ29/2^4, 0), ROUNDUP(im2colAll_confW4!CE5:GZ29/2^4, 0))","v":-17},{"$f":"IF(im2colAll_confW4!CF5:HA29 > 0, ROUNDDOWN(im2colAll_confW4!CF5:HA29/2^4, 0), ROUNDUP(im2colAll_confW4!CF5:HA29/2^4, 0))","v":1},{"$f":"IF(im2colAll_confW4!CG5:HB29 > 0, ROUNDDOWN(im2colAll_confW4!CG5:HB29/2^4, 0), ROUNDUP(im2colAll_confW4!CG5:HB29/2^4, 0))","v":111},{"$f":"IF(im2colAll_confW4!CH5:HC29 > 0, ROUNDDOWN(im2colAll_confW4!CH5:HC29/2^4, 0), ROUNDUP(im2colAll_confW4!CH5:HC29/2^4, 0))","v":-5},{"$f":"IF(im2colAll_confW4!CI5:HD29 > 0, ROUNDDOWN(im2colAll_confW4!CI5:HD29/2^4, 0), ROUNDUP(im2colAll_confW4!CI5:HD29/2^4, 0))","v":4},{"$f":"IF(im2colAll_confW4!CJ5:HE29 > 0, ROUNDDOWN(im2colAll_confW4!CJ5:HE29/2^4, 0), ROUNDUP(im2colAll_confW4!CJ5:HE29/2^4, 0))","v":-9},{"$f":"IF(im2colAll_confW4!CK5:HF29 > 0, ROUNDDOWN(im2colAll_confW4!CK5:HF29/2^4, 0), ROUNDUP(im2colAll_confW4!CK5:HF29/2^4, 0))","v":-7},{"$f":"IF(im2colAll_confW4!CL5:HG29 > 0, ROUNDDOWN(im2colAll_confW4!CL5:HG29/2^4, 0), ROUNDUP(im2colAll_confW4!CL5:HG29/2^4, 0))","v":-26},{"$f":"IF(im2colAll_confW4!CM5:HH29 > 0, ROUNDDOWN(im2colAll_confW4!CM5:HH29/2^4, 0), ROUNDUP(im2colAll_confW4!CM5:HH29/2^4, 0))","v":-14},{"$f":"IF(im2colAll_confW4!CN5:HI29 > 0, ROUNDDOWN(im2colAll_confW4!CN5:HI29/2^4, 0), ROUNDUP(im2colAll_confW4!CN5:HI29/2^4, 0))","v":5},{"$f":"IF(im2colAll_confW4!CO5:HJ29 > 0, ROUNDDOWN(im2colAll_confW4!CO5:HJ29/2^4, 0), ROUNDUP(im2colAll_confW4!CO5:HJ29/2^4, 0))","v":-22},{"$f":"IF(im2colAll_confW4!CP5:HK29 > 0, ROUNDDOWN(im2colAll_confW4!CP5:HK29/2^4, 0), ROUNDUP(im2colAll_confW4!CP5:HK29/2^4, 0))","v":-7},{"$f":"IF(im2colAll_confW4!CQ5:HL29 > 0, ROUNDDOWN(im2colAll_confW4!CQ5:HL29/2^4, 0), ROUNDUP(im2colAll_confW4!CQ5:HL29/2^4, 0))","v":-15},{"$f":"IF(im2colAll_confW4!CR5:HM29 > 0, ROUNDDOWN(im2colAll_confW4!CR5:HM29/2^4, 0), ROUNDUP(im2colAll_confW4!CR5:HM29/2^4, 0))","v":-8},{"$f":"IF(im2colAll_confW4!CS5:HN29 > 0, ROUNDDOWN(im2colAll_confW4!CS5:HN29/2^4, 0), ROUNDUP(im2colAll_confW4!CS5:HN29/2^4, 0))","v":-10},{"$f":"IF(im2colAll_confW4!CT5:HO29 > 0, ROUNDDOWN(im2colAll_confW4!CT5:HO29/2^4, 0), ROUNDUP(im2colAll_confW4!CT5:HO29/2^4, 0))","v":8},{"$f":"IF(im2colAll_confW4!CU5:HP29 > 0, ROUNDDOWN(im2colAll_confW4!CU5:HP29/2^4, 0), ROUNDUP(im2colAll_confW4!CU5:HP29/2^4, 0))","v":0},{"$f":"IF(im2colAll_confW4!CV5:HQ29 > 0, ROUNDDOWN(im2colAll_confW4!CV5:HQ29/2^4, 0), ROUNDUP(im2colAll_confW4!CV5:HQ29/2^4, 0))","v":27},{"$f":"IF(im2colAll_confW4!CW5:HR29 > 0, ROUNDDOWN(im2colAll_confW4!CW5:HR29/2^4, 0), ROUNDUP(im2colAll_confW4!CW5:HR29/2^4, 0))","v":-4},{"$f":"IF(im2colAll_confW4!CX5:HS29 > 0, ROUNDDOWN(im2colAll_confW4!CX5:HS29/2^4, 0), ROUNDUP(im2colAll_confW4!CX5:HS29/2^4, 0))","v":-31},{"$f":"IF(im2colAll_confW4!CY5:HT29 > 0, ROUNDDOWN(im2colAll_confW4!CY5:HT29/2^4, 0), ROUNDUP(im2colAll_confW4!CY5:HT29/2^4, 0))","v":10},{"$f":"IF(im2colAll_confW4!CZ5:HU29 > 0, ROUNDDOWN(im2colAll_confW4!CZ5:HU29/2^4, 0), ROUNDUP(im2colAll_confW4!CZ5:HU29/2^4, 0))","v":0},{"$f":"IF(im2colAll_confW4!DA5:HV29 > 0, ROUNDDOWN(im2colAll_confW4!DA5:HV29/2^4, 0), ROUNDUP(im2colAll_confW4!DA5:HV29/2^4, 0))","v":-1},{"$f":"IF(im2colAll_confW4!DB5:HW29 > 0, ROUNDDOWN(im2colAll_confW4!DB5:HW29/2^4, 0), ROUNDUP(im2colAll_confW4!DB5:HW29/2^4, 0))","v":92},{"$f":"IF(im2colAll_confW4!DC5:HX29 > 0, ROUNDDOWN(im2colAll_confW4!DC5:HX29/2^4, 0), ROUNDUP(im2colAll_confW4!DC5:HX29/2^4, 0))","v":-9},{"$f":"IF(im2colAll_confW4!DD5:HY29 > 0, ROUNDDOWN(im2colAll_confW4!DD5:HY29/2^4, 0), ROUNDUP(im2colAll_confW4!DD5:HY29/2^4, 0))","v":-20},{"$f":"IF(im2colAll_confW4!DE5:HZ29 > 0, ROUNDDOWN(im2colAll_confW4!DE5:HZ29/2^4, 0), ROUNDUP(im2colAll_confW4!DE5:HZ29/2^4, 0))","v":-6},{"$f":"IF(im2colAll_confW4!DF5:IA29 > 0, ROUNDDOWN(im2colAll_confW4!DF5:IA29/2^4, 0), ROUNDUP(im2colAll_confW4!DF5:IA29/2^4, 0))","v":-11},{"$f":"IF(im2colAll_confW4!DG5:IB29 > 0, ROUNDDOWN(im2colAll_confW4!DG5:IB29/2^4, 0), ROUNDUP(im2colAll_confW4!DG5:IB29/2^4, 0))","v":-16},{"$f":"IF(im2colAll_confW4!DH5:IC29 > 0, ROUNDDOWN(im2colAll_confW4!DH5:IC29/2^4, 0), ROUNDUP(im2colAll_confW4!DH5:IC29/2^4, 0))","v":-23},{"$f":"IF(im2colAll_confW4!DI5:ID29 > 0, ROUNDDOWN(im2colAll_confW4!DI5:ID29/2^4, 0), ROUNDUP(im2colAll_confW4!DI5:ID29/2^4, 0))","v":-8},{"$f":"IF(im2colAll_confW4!DJ5:IE29 > 0, ROUNDDOWN(im2colAll_confW4!DJ5:IE29/2^4, 0), ROUNDUP(im2colAll_confW4!DJ5:IE29/2^4, 0))","v":-16},{"$f":"IF(im2colAll_confW4!DK5:IF29 > 0, ROUNDDOWN(im2colAll_confW4!DK5:IF29/2^4, 0), ROUNDUP(im2colAll_confW4!DK5:IF29/2^4, 0))","v":-4},{"$f":"IF(im2colAll_confW4!DL5:IG29 > 0, ROUNDDOWN(im2colAll_confW4!DL5:IG29/2^4, 0), ROUNDUP(im2colAll_confW4!DL5:IG29/2^4, 0))","v":-5},{"$f":"IF(im2colAll_confW4!DM5:IH29 > 0, ROUNDDOWN(im2colAll_confW4!DM5:IH29/2^4, 0), ROUNDUP(im2colAll_confW4!DM5:IH29/2^4, 0))","v":-3},{"$f":"IF(im2colAll_confW4!DN5:II29 > 0, ROUNDDOWN(im2colAll_confW4!DN5:II29/2^4, 0), ROUNDUP(im2colAll_confW4!DN5:II29/2^4, 0))","v":0},{"$f":"IF(im2colAll_confW4!DO5:IJ29 > 0, ROUNDDOWN(im2colAll_confW4!DO5:IJ29/2^4, 0), ROUNDUP(im2colAll_confW4!DO5:IJ29/2^4, 0))","v":-3},{"$f":"IF(im2colAll_confW4!DP5:IK29 > 0, ROUNDDOWN(im2colAll_confW4!DP5:IK29/2^4, 0), ROUNDUP(im2colAll_confW4!DP5:IK29/2^4, 0))","v":-8},{"$f":"IF(im2colAll_confW4!DQ5:IL29 > 0, ROUNDDOWN(im2colAll_confW4!DQ5:IL29/2^4, 0), ROUNDUP(im2colAll_confW4!DQ5:IL29/2^4, 0))","v":24},{"$f":"IF(im2colAll_confW4!DR5:IM29 > 0, ROUNDDOWN(im2colAll_confW4!DR5:IM29/2^4, 0), ROUNDUP(im2colAll_confW4!DR5:IM29/2^4, 0))","v":2},{"$f":"IF(im2colAll_confW4!DS5:IN29 > 0, ROUNDDOWN(im2colAll_confW4!DS5:IN29/2^4, 0), ROUNDUP(im2colAll_confW4!DS5:IN29/2^4, 0))","v":-12},{"$f":"IF(im2colAll_confW4!DT5:IO29 > 0, ROUNDDOWN(im2colAll_confW4!DT5:IO29/2^4, 0), ROUNDUP(im2colAll_confW4!DT5:IO29/2^4, 0))","v":-2},{"$f":"IF(im2colAll_confW4!DU5:IP29 > 0, ROUNDDOWN(im2colAll_confW4!DU5:IP29/2^4, 0), ROUNDUP(im2colAll_confW4!DU5:IP29/2^4, 0))","v":-15},{"$f":"IF(im2colAll_confW4!DV5:IQ29 > 0, ROUNDDOWN(im2colAll_confW4!DV5:IQ29/2^4, 0), ROUNDUP(im2colAll_confW4!DV5:IQ29/2^4, 0))","v":-30}]
[{"$f":"IF(im2colAll_confW4!A6:DV30 > 0, ROUNDDOWN(im2colAll_confW4!A6:DV30/2^4, 0), ROUNDUP(im2colAll_confW4!A6:DV30/2^4, 0))","v":134},{"$f":"IF(im2colAll_confW4!B6:DW30 > 0, ROUNDDOWN(im2colAll_confW4!B6:DW30/2^4, 0), ROUNDUP(im2colAll_confW4!B6:DW30/2^4, 0))","v":-1},{"$f":"IF(im2colAll_confW4!C6:DX30 > 0, ROUNDDOWN(im2colAll_confW4!C6:DX30/2^4, 0), ROUNDUP(im2colAll_confW4!C6:DX30/2^4, 0))","v":9},{"$f":"IF(im2colAll_confW4!D6:DY30 > 0, ROUNDDOWN(im2colAll_confW4!D6:DY30/2^4, 0), ROUNDUP(im2colAll_confW4!D6:DY30/2^4, 0))","v":-13},{"$f":"IF(im2colAll_confW4!E6:DZ30 > 0, ROUNDDOWN(im2colAll_confW4!E6:DZ30/2^4, 0), ROUNDUP(im2colAll_confW4!E6:DZ30/2^4, 0))","v":5},{"$f":"IF(im2colAll_confW4!F6:EA30 > 0, ROUNDDOWN(im2colAll_confW4!F6:EA30/2^4, 0), ROUNDUP(im2colAll_confW4!F6:EA30/2^4, 0))","v":-20},{"$f":"IF(im2colAll_confW4!G6:EB30 > 0, ROUNDDOWN(im2colAll_confW4!G6:EB30/2^4, 0), ROUNDUP(im2colAll_confW4!G6:EB30/2^4, 0))","v":-14},{"$f":"IF(im2colAll_confW4!H6:EC30 > 0, ROUNDDOWN(im2colAll_confW4!H6:EC30/2^4, 0), ROUNDUP(im2colAll_confW4!H6:EC30/2^4, 0))","v":5},{"$f":"IF(im2colAll_confW4!I6:ED30 > 0, ROUNDDOWN(im2colAll_confW4!I6:ED30/2^4, 0), ROUNDUP(im2colAll_confW4!I6:ED30/2^4, 0))","v":-35},{"$f":"IF(im2colAll_confW4!J6:EE30 > 0, ROUNDDOWN(im2colAll_confW4!J6:EE30/2^4, 0), ROUNDUP(im2colAll_confW4!J6:EE30/2^4, 0))","v":-3},{"$f":"IF(im2colAll_confW4!K6:EF30 > 0, ROUNDDOWN(im2colAll_confW4!K6:EF30/2^4, 0), ROUNDUP(im2colAll_confW4!K6:EF30/2^4, 0))","v":-16},{"$f":"IF(im2colAll_confW4!L6:EG30 > 0, ROUNDDOWN(im2colAll_confW4!L6:EG30/2^4, 0), ROUNDUP(im2colAll_confW4!L6:EG30/2^4, 0))","v":4},{"$f":"IF(im2colAll_confW4!M6:EH30 > 0, ROUNDDOWN(im2colAll_confW4!M6:EH30/2^4, 0), ROUNDUP(im2colAll_confW4!M6:EH30/2^4, 0))","v":-8},{"$f":"IF(im2colAll_confW4!N6:EI30 > 0, ROUNDDOWN(im2colAll_confW4!N6:EI30/2^4, 0), ROUNDUP(im2colAll_confW4!N6:EI30/2^4, 0))","v":18},{"$f":"IF(im2colAll_confW4!O6:EJ30 > 0, ROUNDDOWN(im2colAll_confW4!O6:EJ30/2^4, 0), ROUNDUP(im2colAll_confW4!O6:EJ30/2^4, 0))","v":7},{"$f":"IF(im2colAll_confW4!P6:EK30 > 0, ROUNDDOWN(im2colAll_confW4!P6:EK30/2^4, 0), ROUNDUP(im2colAll_confW4!P6:EK30/2^4, 0))","v":52},{"$f":"IF(im2colAll_confW4!Q6:EL30 > 0, ROUNDDOWN(im2colAll_confW4!Q6:EL30/2^4, 0), ROUNDUP(im2colAll_confW4!Q6:EL30/2^4, 0))","v":-9},{"$f":"IF(im2colAll_confW4!R6:EM30 > 0, ROUNDDOWN(im2colAll_confW4!R6:EM30/2^4, 0), ROUNDUP(im2colAll_confW4!R6:EM30/2^4, 0))","v":-35},{"$f":"IF(im2colAll_confW4!S6:EN30 > 0, ROUNDDOWN(im2colAll_confW4!S6:EN30/2^4, 0), ROUNDUP(im2colAll_confW4!S6:EN30/2^4, 0))","v":10},{"$f":"IF(im2colAll_confW4!T6:EO30 > 0, ROUNDDOWN(im2colAll_confW4!T6:EO30/2^4, 0), ROUNDUP(im2colAll_confW4!T6:EO30/2^4, 0))","v":-10},{"$f":"IF(im2colAll_confW4!U6:EP30 > 0, ROUNDDOWN(im2colAll_confW4!U6:EP30/2^4, 0), ROUNDUP(im2colAll_confW4!U6:EP30/2^4, 0))","v":-22},{"$f":"IF(im2colAll_confW4!V6:EQ30 > 0, ROUNDDOWN(im2colAll_confW4!V6:EQ30/2^4, 0), ROUNDUP(im2colAll_confW4!V6:EQ30/2^4, 0))","v":130},{"$f":"IF(im2colAll_confW4!W6:ER30 > 0, ROUNDDOWN(im2colAll_confW4!W6:ER30/2^4, 0), ROUNDUP(im2colAll_confW4!W6:ER30/2^4, 0))","v":-4},{"$f":"IF(im2colAll_confW4!X6:ES30 > 0, ROUNDDOWN(im2colAll_confW4!X6:ES30/2^4, 0), ROUNDUP(im2colAll_confW4!X6:ES30/2^4, 0))","v":0},{"$f":"IF(im2colAll_confW4!Y6:ET30 > 0, ROUNDDOWN(im2colAll_confW4!Y6:ET30/2^4, 0), ROUNDUP(im2colAll_confW4!Y6:ET30/2^4, 0))","v":-14},{"$f":"IF(im2colAll_confW4!Z6:EU30 > 0, ROUNDDOWN(im2colAll_confW4!Z6:EU30/2^4, 0), ROUNDUP(im2colAll_confW4!Z6:EU30/2^4, 0))","v":13},{"$f":"IF(im2colAll_confW4!AA6:EV30 > 0, ROUNDDOWN(im2colAll_confW4!AA6:EV30/2^4, 0), ROUNDUP(im2colAll_confW4!AA6:EV30/2^4, 0))","v":-29},{"$f":"IF(im2colAll_confW4!AB6:EW30 > 0, ROUNDDOWN(im2colAll_confW4!AB6:EW30/2^4, 0), ROUNDUP(im2colAll_confW4!AB6:EW30/2^4, 0))","v":-15},{"$f":"IF(im2colAll_confW4!AC6:EX30 > 0, ROUNDDOWN(im2colAll_confW4!AC6:EX30/2^4, 0), ROUNDUP(im2colAll_confW4!AC6:EX30/2^4, 0))","v":4},{"$f":"IF(im2colAll_confW4!AD6:EY30 > 0, ROUNDDOWN(im2colAll_confW4!AD6:EY30/2^4, 0), ROUNDUP(im2colAll_confW4!AD6:EY30/2^4, 0))","v":-46},{"$f":"IF(im2colAll_confW4!AE6:EZ30 > 0, ROUNDDOWN(im2colAll_confW4!AE6:EZ30/2^4, 0), ROUNDUP(im2colAll_confW4!AE6:EZ30/2^4, 0))","v":-2},{"$f":"IF(im2colAll_confW4!AF6:FA30 > 0, ROUNDDOWN(im2colAll_confW4!AF6:FA30/2^4, 0), ROUNDUP(im2colAll_confW4!AF6:FA30/2^4, 0))","v":-6},{"$f":"IF(im2colAll_confW4!AG6:FB30 > 0, ROUNDDOWN(im2colAll_confW4!AG6:FB30/2^4, 0), ROUNDUP(im2colAll_confW4!AG6:FB30/2^4, 0))","v":6},{"$f":"IF(im2colAll_confW4!AH6:FC30 > 0, ROUNDDOWN(im2colAll_confW4!AH6:FC30/2^4, 0), ROUNDUP(im2colAll_confW4!AH6:FC30/2^4, 0))","v":-13},{"$f":"IF(im2colAll_confW4!AI6:FD30 > 0, ROUNDDOWN(im2colAll_confW4!AI6:FD30/2^4, 0), ROUNDUP(im2colAll_confW4!AI6:FD30/2^4, 0))","v":15},{"$f":"IF(im2colAll_confW4!AJ6:FE30 > 0, ROUNDDOWN(im2colAll_confW4!AJ6:FE30/2^4, 0), ROUNDUP(im2colAll_confW4!AJ6:FE30/2^4, 0))","v":-4},{"$f":"IF(im2colAll_confW4!AK6:FF30 > 0, ROUNDDOWN(im2colAll_confW4!AK6:FF30/2^4, 0), ROUNDUP(im2colAll_confW4!AK6:FF30/2^4, 0))","v":56},{"$f":"IF(im2colAll_confW4!AL6:FG30 > 0, ROUNDDOWN(im2colAll_confW4!AL6:FG30/2^4, 0), ROUNDUP(im2colAll_confW4!AL6:FG30/2^4, 0))","v":1},{"$f":"IF(im2colAll_confW4!AM6:FH30 > 0, ROUNDDOWN(im2colAll_confW4!AM6:FH30/2^4, 0), ROUNDUP(im2colAll_confW4!AM6:FH30/2^4, 0))","v":-29},{"$f":"IF(im2colAll_confW4!AN6:FI30 > 0, ROUNDDOWN(im2colAll_confW4!AN6:FI30/2^4, 0), ROUNDUP(im2colAll_confW4!AN6:FI30/2^4, 0))","v":3},{"$f":"IF(im2colAll_confW4!AO6:FJ30 > 0, ROUNDDOWN(im2colAll_confW4!AO6:FJ30/2^4, 0), ROUNDUP(im2colAll_confW4!AO6:FJ30/2^4, 0))","v":-17},{"$f":"IF(im2colAll_confW4!AP6:FK30 > 0, ROUNDDOWN(im2colAll_confW4!AP6:FK30/2^4, 0), ROUNDUP(im2colAll_confW4!AP6:FK30/2^4, 0))","v":-28},{"$f":"IF(im2colAll_confW4!AQ6:FL30 > 0, ROUNDDOWN(im2colAll_confW4!AQ6:FL30/2^4, 0), ROUNDUP(im2colAll_confW4!AQ6:FL30/2^4, 0))","v":126},{"$f":"IF(im2colAll_confW4!AR6:FM30 > 0, ROUNDDOWN(im2colAll_confW4!AR6:FM30/2^4, 0), ROUNDUP(im2colAll_confW4!AR6:FM30/2^4, 0))","v":-8},{"$f":"IF(im2colAll_confW4!AS6:FN30 > 0, ROUNDDOWN(im2colAll_confW4!AS6:FN30/2^4, 0), ROUNDUP(im2colAll_confW4!AS6:FN30/2^4, 0))","v":-6},{"$f":"IF(im2colAll_confW4!AT6:FO30 > 0, ROUNDDOWN(im2colAll_confW4!AT6:FO30/2^4, 0), ROUNDUP(im2colAll_confW4!AT6:FO30/2^4, 0))","v":-20},{"$f":"IF(im2colAll_confW4!AU6:FP30 > 0, ROUNDDOWN(im2colAll_confW4!AU6:FP30/2^4, 0), ROUNDUP(im2colAll_confW4!AU6:FP30/2^4, 0))","v":9},{"$f":"IF(im2colAll_confW4!AV6:FQ30 > 0, ROUNDDOWN(im2colAll_confW4!AV6:FQ30/2^4, 0), ROUNDUP(im2colAll_confW4!AV6:FQ30/2^4, 0))","v":-21},{"$f":"IF(im2colAll_confW4!AW6:FR30 > 0, ROUNDDOWN(im2colAll_confW4!AW6:FR30/2^4, 0), ROUNDUP(im2colAll_confW4!AW6:FR30/2^4, 0))","v":-17},{"$f":"IF(im2colAll_confW4!AX6:FS30 > 0, ROUNDDOWN(im2colAll_confW4!AX6:FS30/2^4, 0), ROUNDUP(im2colAll_confW4!AX6:FS30/2^4, 0))","v":5},{"$f":"IF(im2colAll_confW4!AY6:FT30 > 0, ROUNDDOWN(im2colAll_confW4!AY6:FT30/2^4, 0), ROUNDUP(im2colAll_confW4!AY6:FT30/2^4, 0))","v":-44},{"$f":"IF(im2colAll_confW4!AZ6:FU30 > 0, ROUNDDOWN(im2colAll_confW4!AZ6:FU30/2^4, 0), ROUNDUP(im2colAll_confW4!AZ6:FU30/2^4, 0))","v":-13},{"$f":"IF(im2colAll_confW4!BA6:FV30 > 0, ROUNDDOWN(im2colAll_confW4!BA6:FV30/2^4, 0), ROUNDUP(im2colAll_confW4!BA6:FV30/2^4, 0))","v":-12},{"$f":"IF(im2colAll_confW4!BB6:FW30 > 0, ROUNDDOWN(im2colAll_confW4!BB6:FW30/2^4, 0), ROUNDUP(im2colAll_confW4!BB6:FW30/2^4, 0))","v":2},{"$f":"IF(im2colAll_confW4!BC6:FX30 > 0, ROUNDDOWN(im2colAll_confW4!BC6:FX30/2^4, 0), ROUNDUP(im2colAll_confW4!BC6:FX30/2^4, 0))","v":-16},{"$f":"IF(im2colAll_confW4!BD6:FY30 > 0, ROUNDDOWN(im2colAll_confW4!BD6:FY30/2^4, 0), ROUNDUP(im2colAll_confW4!BD6:FY30/2^4, 0))","v":12},{"$f":"IF(im2colAll_confW4!BE6:FZ30 > 0, ROUNDDOWN(im2colAll_confW4!BE6:FZ30/2^4, 0), ROUNDUP(im2colAll_confW4!BE6:FZ30/2^4, 0))","v":6},{"$f":"IF(im2colAll_confW4!BF6:GA30 > 0, ROUNDDOWN(im2colAll_confW4!BF6:GA30/2^4, 0), ROUNDUP(im2colAll_confW4!BF6:GA30/2^4, 0))","v":49},{"$f":"IF(im2colAll_confW4!BG6:GB30 > 0, ROUNDDOWN(im2colAll_confW4!BG6:GB30/2^4, 0), ROUNDUP(im2colAll_confW4!BG6:GB30/2^4, 0))","v":-5},{"$f":"IF(im2colAll_confW4!BH6:GC30 > 0, ROUNDDOWN(im2colAll_confW4!BH6:GC30/2^4, 0), ROUNDUP(im2colAll_confW4!BH6:GC30/2^4, 0))","v":-21},{"$f":"IF(im2colAll_confW4!BI6:GD30 > 0, ROUNDDOWN(im2colAll_confW4!BI6:GD30/2^4, 0), ROUNDUP(im2colAll_confW4!BI6:GD30/2^4, 0))","v":0},{"$f":"IF(im2colAll_confW4!BJ6:GE30 > 0, ROUNDDOWN(im2colAll_confW4!BJ6:GE30/2^4, 0), ROUNDUP(im2colAll_confW4!BJ6:GE30/2^4, 0))","v":-18},{"$f":"IF(im2colAll_confW4!BK6:GF30 > 0, ROUNDDOWN(im2colAll_confW4!BK6:GF30/2^4, 0), ROUNDUP(im2colAll_confW4!BK6:GF30/2^4, 0))","v":-10},{"$f":"IF(im2colAll_confW4!BL6:GG30 > 0, ROUNDDOWN(im2colAll_confW4!BL6:GG30/2^4, 0), ROUNDUP(im2colAll_confW4!BL6:GG30/2^4, 0))","v":128},{"$f":"IF(im2colAll_confW4!BM6:GH30 > 0, ROUNDDOWN(im2colAll_confW4!BM6:GH30/2^4, 0), ROUNDUP(im2colAll_confW4!BM6:GH30/2^4, 0))","v":-7},{"$f":"IF(im2colAll_confW4!BN6:GI30 > 0, ROUNDDOWN(im2colAll_confW4!BN6:GI30/2^4, 0), ROUNDUP(im2colAll_confW4!BN6:GI30/2^4, 0))","v":6},{"$f":"IF(im2colAll_confW4!BO6:GJ30 > 0, ROUNDDOWN(im2colAll_confW4!BO6:GJ30/2^4, 0), ROUNDUP(im2colAll_confW4!BO6:GJ30/2^4, 0))","v":-11},{"$f":"IF(im2colAll_confW4!BP6:GK30 > 0, ROUNDDOWN(im2colAll_confW4!BP6:GK30/2^4, 0), ROUNDUP(im2colAll_confW4!BP6:GK30/2^4, 0))","v":-3},{"$f":"IF(im2colAll_confW4!BQ6:GL30 > 0, ROUNDDOWN(im2colAll_confW4!BQ6:GL30/2^4, 0), ROUNDUP(im2colAll_confW4!BQ6:GL30/2^4, 0))","v":-23},{"$f":"IF(im2colAll_confW4!BR6:GM30 > 0, ROUNDDOWN(im2colAll_confW4!BR6:GM30/2^4, 0), ROUNDUP(im2colAll_confW4!BR6:GM30/2^4, 0))","v":-1},{"$f":"IF(im2colAll_confW4!BS6:GN30 > 0, ROUNDDOWN(im2colAll_confW4!BS6:GN30/2^4, 0), ROUNDUP(im2colAll_confW4!BS6:GN30/2^4, 0))","v":1},{"$f":"IF(im2colAll_confW4!BT6:GO30 > 0, ROUNDDOWN(im2colAll_confW4!BT6:GO30/2^4, 0), ROUNDUP(im2colAll_confW4!BT6:GO30/2^4, 0))","v":-39},{"$f":"IF(im2colAll_confW4!BU6:GP30 > 0, ROUNDDOWN(im2colAll_confW4!BU6:GP30/2^4, 0), ROUNDUP(im2colAll_confW4!BU6:GP30/2^4, 0))","v":2},{"$f":"IF(im2colAll_confW4!BV6:GQ30 > 0, ROUNDDOWN(im2colAll_confW4!BV6:GQ30/2^4, 0), ROUNDUP(im2colAll_confW4!BV6:GQ30/2^4, 0))","v":-18},{"$f":"IF(im2colAll_confW4!BW6:GR30 > 0, ROUNDDOWN(im2colAll_confW4!BW6:GR30/2^4, 0), ROUNDUP(im2colAll_confW4!BW6:GR30/2^4, 0))","v":1},{"$f":"IF(im2colAll_confW4!BX6:GS30 > 0, ROUNDDOWN(im2colAll_confW4!BX6:GS30/2^4, 0), ROUNDUP(im2colAll_confW4!BX6:GS30/2^4, 0))","v":-14},{"$f":"IF(im2colAll_confW4!BY6:GT30 > 0, ROUNDDOWN(im2colAll_confW4!BY6:GT30/2^4, 0), ROUNDUP(im2colAll_confW4!BY6:GT30/2^4, 0))","v":15},{"$f":"IF(im2colAll_confW4!BZ6:GU30 > 0, ROUNDDOWN(im2colAll_confW4!BZ6:GU30/2^4, 0), ROUNDUP(im2colAll_confW4!BZ6:GU30/2^4, 0))","v":-4},{"$f":"IF(im2colAll_confW4!CA6:GV30 > 0, ROUNDDOWN(im2colAll_confW4!CA6:GV30/2^4, 0), ROUNDUP(im2colAll_confW4!CA6:GV30/2^4, 0))","v":59},{"$f":"IF(im2colAll_confW4!CB6:GW30 > 0, ROUNDDOWN(im2colAll_confW4!CB6:GW30/2^4, 0), ROUNDUP(im2colAll_confW4!CB6:GW30/2^4, 0))","v":2},{"$f":"IF(im2colAll_confW4!CC6:GX30 > 0, ROUNDDOWN(im2colAll_confW4!CC6:GX30/2^4, 0), ROUNDUP(im2colAll_confW4!CC6:GX30/2^4, 0))","v":-17},{"$f":"IF(im2colAll_confW4!CD6:GY30 > 0, ROUNDDOWN(im2colAll_confW4!CD6:GY30/2^4, 0), ROUNDUP(im2colAll_confW4!CD6:GY30/2^4, 0))","v":0},{"$f":"IF(im2colAll_confW4!CE6:GZ30 > 0, ROUNDDOWN(im2colAll_confW4!CE6:GZ30/2^4, 0), ROUNDUP(im2colAll_confW4!CE6:GZ30/2^4, 0))","v":-11},{"$f":"IF(im2colAll_confW4!CF6:HA30 > 0, ROUNDDOWN(im2colAll_confW4!CF6:HA30/2^4, 0), ROUNDUP(im2colAll_confW4!CF6:HA30/2^4, 0))","v":-28},{"$f":"IF(im2colAll_confW4!CG6:HB30 > 0, ROUNDDOWN(im2colAll_confW4!CG6:HB30/2^4, 0), ROUNDUP(im2colAll_confW4!CG6:HB30/2^4, 0))","v":123},{"$f":"IF(im2colAll_confW4!CH6:HC30 > 0, ROUNDDOWN(im2colAll_confW4!CH6:HC30/2^4, 0), ROUNDUP(im2colAll_confW4!CH6:HC30/2^4, 0))","v":-16},{"$f":"IF(im2colAll_confW4!CI6:HD30 > 0, ROUNDDOWN(im2colAll_confW4!CI6:HD30/2^4, 0), ROUNDUP(im2colAll_confW4!CI6:HD30/2^4, 0))","v":-1},{"$f":"IF(im2colAll_confW4!CJ6:HE30 > 0, ROUNDDOWN(im2colAll_confW4!CJ6:HE30/2^4, 0), ROUNDUP(im2colAll_confW4!CJ6:HE30/2^4, 0))","v":-13},{"$f":"IF(im2colAll_confW4!CK6:HF30 > 0, ROUNDDOWN(im2colAll_confW4!CK6:HF30/2^4, 0), ROUNDUP(im2colAll_confW4!CK6:HF30/2^4, 0))","v":11},{"$f":"IF(im2colAll_confW4!CL6:HG30 > 0, ROUNDDOWN(im2colAll_confW4!CL6:HG30/2^4, 0), ROUNDUP(im2colAll_confW4!CL6:HG30/2^4, 0))","v":-22},{"$f":"IF(im2colAll_confW4!CM6:HH30 > 0, ROUNDDOWN(im2colAll_confW4!CM6:HH30/2^4, 0), ROUNDUP(im2colAll_confW4!CM6:HH30/2^4, 0))","v":-25},{"$f":"IF(im2colAll_confW4!CN6:HI30 > 0, ROUNDDOWN(im2colAll_confW4!CN6:HI30/2^4, 0), ROUNDUP(im2colAll_confW4!CN6:HI30/2^4, 0))","v":6},{"$f":"IF(im2colAll_confW4!CO6:HJ30 > 0, ROUNDDOWN(im2colAll_confW4!CO6:HJ30/2^4, 0), ROUNDUP(im2colAll_confW4!CO6:HJ30/2^4, 0))","v":-31},{"$f":"IF(im2colAll_confW4!CP6:HK30 > 0, ROUNDDOWN(im2colAll_confW4!CP6:HK30/2^4, 0), ROUNDUP(im2colAll_confW4!CP6:HK30/2^4, 0))","v":-7},{"$f":"IF(im2colAll_confW4!CQ6:HL30 > 0, ROUNDDOWN(im2colAll_confW4!CQ6:HL30/2^4, 0), ROUNDUP(im2colAll_confW4!CQ6:HL30/2^4, 0))","v":-6},{"$f":"IF(im2colAll_confW4!CR6:HM30 > 0, ROUNDDOWN(im2colAll_confW4!CR6:HM30/2^4, 0), ROUNDUP(im2colAll_confW4!CR6:HM30/2^4, 0))","v":11},{"$f":"IF(im2colAll_confW4!CS6:HN30 > 0, ROUNDDOWN(im2colAll_confW4!CS6:HN30/2^4, 0), ROUNDUP(im2colAll_confW4!CS6:HN30/2^4, 0))","v":-8},{"$f":"IF(im2colAll_confW4!CT6:HO30 > 0, ROUNDDOWN(im2colAll_confW4!CT6:HO30/2^4, 0), ROUNDUP(im2colAll_confW4!CT6:HO30/2^4, 0))","v":14},{"$f":"IF(im2colAll_confW4!CU6:HP30 > 0, ROUNDDOWN(im2colAll_confW4!CU6:HP30/2^4, 0), ROUNDUP(im2colAll_confW4!CU6:HP30/2^4, 0))","v":12},{"$f":"IF(im2colAll_confW4!CV6:HQ30 > 0, ROUNDDOWN(im2colAll_confW4!CV6:HQ30/2^4, 0), ROUNDUP(im2colAll_confW4!CV6:HQ30/2^4, 0))","v":37},{"$f":"IF(im2colAll_confW4!CW6:HR30 > 0, ROUNDDOWN(im2colAll_confW4!CW6:HR30/2^4, 0), ROUNDUP(im2colAll_confW4!CW6:HR30/2^4, 0))","v":-4},{"$f":"IF(im2colAll_confW4!CX6:HS30 > 0, ROUNDDOWN(im2colAll_confW4!CX6:HS30/2^4, 0), ROUNDUP(im2colAll_confW4!CX6:HS30/2^4, 0))","v":-21},{"$f":"IF(im2colAll_confW4!CY6:HT30 > 0, ROUNDDOWN(im2colAll_confW4!CY6:HT30/2^4, 0), ROUNDUP(im2colAll_confW4!CY6:HT30/2^4, 0))","v":-1},{"$f":"IF(im2colAll_confW4!CZ6:HU30 > 0, ROUNDDOWN(im2colAll_confW4!CZ6:HU30/2^4, 0), ROUNDUP(im2colAll_confW4!CZ6:HU30/2^4, 0))","v":5},{"$f":"IF(im2colAll_confW4!DA6:HV30 > 0, ROUNDDOWN(im2colAll_confW4!DA6:HV30/2^4, 0), ROUNDUP(im2colAll_confW4!DA6:HV30/2^4, 0))","v":-11},{"$f":"IF(im2colAll_confW4!DB6:HW30 > 0, ROUNDDOWN(im2colAll_confW4!DB6:HW30/2^4, 0), ROUNDUP(im2colAll_confW4!DB6:HW30/2^4, 0))","v":128},{"$f":"IF(im2colAll_confW4!DC6:HX30 > 0, ROUNDDOWN(im2colAll_confW4!DC6:HX30/2^4, 0), ROUNDUP(im2colAll_confW4!DC6:HX30/2^4, 0))","v":-25},{"$f":"IF(im2colAll_confW4!DD6:HY30 > 0, ROUNDDOWN(im2colAll_confW4!DD6:HY30/2^4, 0), ROUNDUP(im2colAll_confW4!DD6:HY30/2^4, 0))","v":3},{"$f":"IF(im2colAll_confW4!DE6:HZ30 > 0, ROUNDDOWN(im2colAll_confW4!DE6:HZ30/2^4, 0), ROUNDUP(im2colAll_confW4!DE6:HZ30/2^4, 0))","v":-20},{"$f":"IF(im2colAll_confW4!DF6:IA30 > 0, ROUNDDOWN(im2colAll_confW4!DF6:IA30/2^4, 0), ROUNDUP(im2colAll_confW4!DF6:IA30/2^4, 0))","v":0},{"$f":"IF(im2colAll_confW4!DG6:IB30 > 0, ROUNDDOWN(im2colAll_confW4!DG6:IB30/2^4, 0), ROUNDUP(im2colAll_confW4!DG6:IB30/2^4, 0))","v":-23},{"$f":"IF(im2colAll_confW4!DH6:IC30 > 0, ROUNDDOWN(im2colAll_confW4!DH6:IC30/2^4, 0), ROUNDUP(im2colAll_confW4!DH6:IC30/2^4, 0))","v":-13},{"$f":"IF(im2colAll_confW4!DI6:ID30 > 0, ROUNDDOWN(im2colAll_confW4!DI6:ID30/2^4, 0), ROUNDUP(im2colAll_confW4!DI6:ID30/2^4, 0))","v":7},{"$f":"IF(im2colAll_confW4!DJ6:IE30 > 0, ROUNDDOWN(im2colAll_confW4!DJ6:IE30/2^4, 0), ROUNDUP(im2colAll_confW4!DJ6:IE30/2^4, 0))","v":-31},{"$f":"IF(im2colAll_confW4!DK6:IF30 > 0, ROUNDDOWN(im2colAll_confW4!DK6:IF30/2^4, 0), ROUNDUP(im2colAll_confW4!DK6:IF30/2^4, 0))","v":7},{"$f":"IF(im2colAll_confW4!DL6:IG30 > 0, ROUNDDOWN(im2colAll_confW4!DL6:IG30/2^4, 0), ROUNDUP(im2colAll_confW4!DL6:IG30/2^4, 0))","v":-14},{"$f":"IF(im2colAll_confW4!DM6:IH30 > 0, ROUNDDOWN(im2colAll_confW4!DM6:IH30/2^4, 0), ROUNDUP(im2colAll_confW4!DM6:IH30/2^4, 0))","v":-3},{"$f":"IF(im2colAll_confW4!DN6:II30 > 0, ROUNDDOWN(im2colAll_confW4!DN6:II30/2^4, 0), ROUNDUP(im2colAll_confW4!DN6:II30/2^4, 0))","v":-18},{"$f":"IF(im2colAll_confW4!DO6:IJ30 > 0, ROUNDDOWN(im2colAll_confW4!DO6:IJ30/2^4, 0), ROUNDUP(im2colAll_confW4!DO6:IJ30/2^4, 0))","v":14},{"$f":"IF(im2colAll_confW4!DP6:IK30 > 0, ROUNDDOWN(im2colAll_confW4!DP6:IK30/2^4, 0), ROUNDUP(im2colAll_confW4!DP6:IK30/2^4, 0))","v":5},{"$f":"IF(im2colAll_confW4!DQ6:IL30 > 0, ROUNDDOWN(im2colAll_confW4!DQ6:IL30/2^4, 0), ROUNDUP(im2colAll_confW4!DQ6:IL30/2^4, 0))","v":44},{"$f":"IF(im2colAll_confW4!DR6:IM30 > 0, ROUNDDOWN(im2colAll_confW4!DR6:IM30/2^4, 0), ROUNDUP(im2colAll_confW4!DR6:IM30/2^4, 0))","v":-3},{"$f":"IF(im2colAll_confW4!DS6:IN30 > 0, ROUNDDOWN(im2colAll_confW4!DS6:IN30/2^4, 0), ROUNDUP(im2colAll_confW4!DS6:IN30/2^4, 0))","v":-13},{"$f":"IF(im2colAll_confW4!DT6:IO30 > 0, ROUNDDOWN(im2colAll_confW4!DT6:IO30/2^4, 0), ROUNDUP(im2colAll_confW4!DT6:IO30/2^4, 0))","v":-1},{"$f":"IF(im2colAll_confW4!DU6:IP30 > 0, ROUNDDOWN(im2colAll_confW4!DU6:IP30/2^4, 0), ROUNDUP(im2colAll_confW4!DU6:IP30/2^4, 0))","v":-10},{"$f":"IF(im2colAll_confW4!DV6:IQ30 > 0, ROUNDDOWN(im2colAll_confW4!DV6:IQ30/2^4, 0), ROUNDUP(im2colAll_confW4!DV6:IQ30/2^4, 0))","v":-11}]
[{"$f":"IF(im2colAll_confW4!A7:DV31 > 0, ROUNDDOWN(im2colAll_confW4!A7:DV31/2^4, 0), ROUNDUP(im2colAll_confW4!A7:DV31/2^4, 0))","v":242},{"$f":"IF(im2colAll_confW4!B7:DW31 > 0, ROUNDDOWN(im2colAll_confW4!B7:DW31/2^4, 0), ROUNDUP(im2colAll_confW4!B7:DW31/2^4, 0))","v":-10},{"$f":"IF(im2colAll_confW4!C7:DX31 > 0, ROUNDDOWN(im2colAll_confW4!C7:DX31/2^4, 0), ROUNDUP(im2colAll_confW4!C7:DX31/2^4, 0))","v":-4},{"$f":"IF(im2colAll_confW4!D7:DY31 > 0, ROUNDDOWN(im2colAll_confW4!D7:DY31/2^4, 0), ROUNDUP(im2colAll_confW4!D7:DY31/2^4, 0))","v":-31},{"$f":"IF(im2colAll_confW4!E7:DZ31 > 0, ROUNDDOWN(im2colAll_confW4!E7:DZ31/2^4, 0), ROUNDUP(im2colAll_confW4!E7:DZ31/2^4, 0))","v":0},{"$f":"IF(im2colAll_confW4!F7:EA31 > 0, ROUNDDOWN(im2colAll_confW4!F7:EA31/2^4, 0), ROUNDUP(im2colAll_confW4!F7:EA31/2^4, 0))","v":-52},{"$f":"IF(im2colAll_confW4!G7:EB31 > 0, ROUNDDOWN(im2colAll_confW4!G7:EB31/2^4, 0), ROUNDUP(im2colAll_confW4!G7:EB31/2^4, 0))","v":-19},{"$f":"IF(im2colAll_confW4!H7:EC31 > 0, ROUNDDOWN(im2colAll_confW4!H7:EC31/2^4, 0), ROUNDUP(im2colAll_confW4!H7:EC31/2^4, 0))","v":22},{"$f":"IF(im2colAll_confW4!I7:ED31 > 0, ROUNDDOWN(im2colAll_confW4!I7:ED31/2^4, 0), ROUNDUP(im2colAll_confW4!I7:ED31/2^4, 0))","v":-64},{"$f":"IF(im2colAll_confW4!J7:EE31 > 0, ROUNDDOWN(im2colAll_confW4!J7:EE31/2^4, 0), ROUNDUP(im2colAll_confW4!J7:EE31/2^4, 0))","v":14},{"$f":"IF(im2colAll_confW4!K7:EF31 > 0, ROUNDDOWN(im2colAll_confW4!K7:EF31/2^4, 0), ROUNDUP(im2colAll_confW4!K7:EF31/2^4, 0))","v":-18},{"$f":"IF(im2colAll_confW4!L7:EG31 > 0, ROUNDDOWN(im2colAll_confW4!L7:EG31/2^4, 0), ROUNDUP(im2colAll_confW4!L7:EG31/2^4, 0))","v":7},{"$f":"IF(im2colAll_confW4!M7:EH31 > 0, ROUNDDOWN(im2colAll_confW4!M7:EH31/2^4, 0), ROUNDUP(im2colAll_confW4!M7:EH31/2^4, 0))","v":10},{"$f":"IF(im2colAll_confW4!N7:EI31 > 0, ROUNDDOWN(im2colAll_confW4!N7:EI31/2^4, 0), ROUNDUP(im2colAll_confW4!N7:EI31/2^4, 0))","v":21},{"$f":"IF(im2colAll_confW4!O7:EJ31 > 0, ROUNDDOWN(im2colAll_confW4!O7:EJ31/2^4, 0), ROUNDUP(im2colAll_confW4!O7:EJ31/2^4, 0))","v":11},{"$f":"IF(im2colAll_confW4!P7:EK31 > 0, ROUNDDOWN(im2colAll_confW4!P7:EK31/2^4, 0), ROUNDUP(im2colAll_confW4!P7:EK31/2^4, 0))","v":131},{"$f":"IF(im2colAll_confW4!Q7:EL31 > 0, ROUNDDOWN(im2colAll_confW4!Q7:EL31/2^4, 0), ROUNDUP(im2colAll_confW4!Q7:EL31/2^4, 0))","v":-35},{"$f":"IF(im2colAll_confW4!R7:EM31 > 0, ROUNDDOWN(im2colAll_confW4!R7:EM31/2^4, 0), ROUNDUP(im2colAll_confW4!R7:EM31/2^4, 0))","v":-57},{"$f":"IF(im2colAll_confW4!S7:EN31 > 0, ROUNDDOWN(im2colAll_confW4!S7:EN31/2^4, 0), ROUNDUP(im2colAll_confW4!S7:EN31/2^4, 0))","v":30},{"$f":"IF(im2colAll_confW4!T7:EO31 > 0, ROUNDDOWN(im2colAll_confW4!T7:EO31/2^4, 0), ROUNDUP(im2colAll_confW4!T7:EO31/2^4, 0))","v":-32},{"$f":"IF(im2colAll_confW4!U7:EP31 > 0, ROUNDDOWN(im2colAll_confW4!U7:EP31/2^4, 0), ROUNDUP(im2colAll_confW4!U7:EP31/2^4, 0))","v":-33},{"$f":"IF(im2colAll_confW4!V7:EQ31 > 0, ROUNDDOWN(im2colAll_confW4!V7:EQ31/2^4, 0), ROUNDUP(im2colAll_confW4!V7:EQ31/2^4, 0))","v":237},{"$f":"IF(im2colAll_confW4!W7:ER31 > 0, ROUNDDOWN(im2colAll_confW4!W7:ER31/2^4, 0), ROUNDUP(im2colAll_confW4!W7:ER31/2^4, 0))","v":-37},{"$f":"IF(im2colAll_confW4!X7:ES31 > 0, ROUNDDOWN(im2colAll_confW4!X7:ES31/2^4, 0), ROUNDUP(im2colAll_confW4!X7:ES31/2^4, 0))","v":0},{"$f":"IF(im2colAll_confW4!Y7:ET31 > 0, ROUNDDOWN(im2colAll_confW4!Y7:ET31/2^4, 0), ROUNDUP(im2colAll_confW4!Y7:ET31/2^4, 0))","v":-33},{"$f":"IF(im2colAll_confW4!Z7:EU31 > 0, ROUNDDOWN(im2colAll_confW4!Z7:EU31/2^4, 0), ROUNDUP(im2colAll_confW4!Z7:EU31/2^4, 0))","v":11},{"$f":"IF(im2colAll_confW4!AA7:EV31 > 0, ROUNDDOWN(im2colAll_confW4!AA7:EV31/2^4, 0), ROUNDUP(im2colAll_confW4!AA7:EV31/2^4, 0))","v":-68},{"$f":"IF(im2colAll_confW4!AB7:EW31 > 0, ROUNDDOWN(im2colAll_confW4!AB7:EW31/2^4, 0), ROUNDUP(im2colAll_confW4!AB7:EW31/2^4, 0))","v":-52},{"$f":"IF(im2colAll_confW4!AC7:EX31 > 0, ROUNDDOWN(im2colAll_confW4!AC7:EX31/2^4, 0), ROUNDUP(im2colAll_confW4!AC7:EX31/2^4, 0))","v":27},{"$f":"IF(im2colAll_confW4!AD7:EY31 > 0, ROUNDDOWN(im2colAll_confW4!AD7:EY31/2^4, 0), ROUNDUP(im2colAll_confW4!AD7:EY31/2^4, 0))","v":-87},{"$f":"IF(im2colAll_confW4!AE7:EZ31 > 0, ROUNDDOWN(im2colAll_confW4!AE7:EZ31/2^4, 0), ROUNDUP(im2colAll_confW4!AE7:EZ31/2^4, 0))","v":-13},{"$f":"IF(im2colAll_confW4!AF7:FA31 > 0, ROUNDDOWN(im2colAll_confW4!AF7:FA31/2^4, 0), ROUNDUP(im2colAll_confW4!AF7:FA31/2^4, 0))","v":6},{"$f":"IF(im2colAll_confW4!AG7:FB31 > 0, ROUNDDOWN(im2colAll_confW4!AG7:FB31/2^4, 0), ROUNDUP(im2colAll_confW4!AG7:FB31/2^4, 0))","v":18},{"$f":"IF(im2colAll_confW4!AH7:FC31 > 0, ROUNDDOWN(im2colAll_confW4!AH7:FC31/2^4, 0), ROUNDUP(im2colAll_confW4!AH7:FC31/2^4, 0))","v":6},{"$f":"IF(im2colAll_confW4!AI7:FD31 > 0, ROUNDDOWN(im2colAll_confW4!AI7:FD31/2^4, 0), ROUNDUP(im2colAll_confW4!AI7:FD31/2^4, 0))","v":29},{"$f":"IF(im2colAll_confW4!AJ7:FE31 > 0, ROUNDDOWN(im2colAll_confW4!AJ7:FE31/2^4, 0), ROUNDUP(im2colAll_confW4!AJ7:FE31/2^4, 0))","v":-6},{"$f":"IF(im2colAll_confW4!AK7:FF31 > 0, ROUNDDOWN(im2colAll_confW4!AK7:FF31/2^4, 0), ROUNDUP(im2colAll_confW4!AK7:FF31/2^4, 0))","v":124},{"$f":"IF(im2colAll_confW4!AL7:FG31 > 0, ROUNDDOWN(im2colAll_confW4!AL7:FG31/2^4, 0), ROUNDUP(im2colAll_confW4!AL7:FG31/2^4, 0))","v":-5},{"$f":"IF(im2colAll_confW4!AM7:FH31 > 0, ROUNDDOWN(im2colAll_confW4!AM7:FH31/2^4, 0), ROUNDUP(im2colAll_confW4!AM7:FH31/2^4, 0))","v":-61},{"$f":"IF(im2colAll_confW4!AN7:FI31 > 0, ROUNDDOWN(im2colAll_confW4!AN7:FI31/2^4, 0), ROUNDUP(im2colAll_confW4!AN7:FI31/2^4, 0))","v":25},{"$f":"IF(im2colAll_confW4!AO7:FJ31 > 0, ROUNDDOWN(im2colAll_confW4!AO7:FJ31/2^4, 0), ROUNDUP(im2colAll_confW4!AO7:FJ31/2^4, 0))","v":-42},{"$f":"IF(im2colAll_confW4!AP7:FK31 > 0, ROUNDDOWN(im2colAll_confW4!AP7:FK31/2^4, 0), ROUNDUP(im2colAll_confW4!AP7:FK31/2^4, 0))","v":-48},{"$f":"IF(im2colAll_confW4!AQ7:FL31 > 0, ROUNDDOWN(im2colAll_confW4!AQ7:FL31/2^4, 0), ROUNDUP(im2colAll_confW4!AQ7:FL31/2^4, 0))","v":206},{"$f":"IF(im2colAll_confW4!AR7:FM31 > 0, ROUNDDOWN(im2colAll_confW4!AR7:FM31/2^4, 0), ROUNDUP(im2colAll_confW4!AR7:FM31/2^4, 0))","v":-30},{"$f":"IF(im2colAll_confW4!AS7:FN31 > 0, ROUNDDOWN(im2colAll_confW4!AS7:FN31/2^4, 0), ROUNDUP(im2colAll_confW4!AS7:FN31/2^4, 0))","v":-13},{"$f":"IF(im2colAll_confW4!AT7:FO31 > 0, ROUNDDOWN(im2colAll_confW4!AT7:FO31/2^4, 0), ROUNDUP(im2colAll_confW4!AT7:FO31/2^4, 0))","v":-51},{"$f":"IF(im2colAll_confW4!AU7:FP31 > 0, ROUNDDOWN(im2colAll_confW4!AU7:FP31/2^4, 0), ROUNDUP(im2colAll_confW4!AU7:FP31/2^4, 0))","v":-3},{"$f":"IF(im2colAll_confW4!AV7:FQ31 > 0, ROUNDDOWN(im2colAll_confW4!AV7:FQ31/2^4, 0), ROUNDUP(im2colAll_confW4!AV7:FQ31/2^4, 0))","v":-48},{"$f":"IF(im2colAll_confW4!AW7:FR31 > 0, ROUNDDOWN(im2colAll_confW4!AW7:FR31/2^4, 0), ROUNDUP(im2colAll_confW4!AW7:FR31/2^4, 0))","v":-30},{"$f":"IF(im2colAll_confW4!AX7:FS31 > 0, ROUNDDOWN(im2colAll_confW4!AX7:FS31/2^4, 0), ROUNDUP(im2colAll_confW4!AX7:FS31/2^4, 0))","v":13},{"$f":"IF(im2colAll_confW4!AY7:FT31 > 0, ROUNDDOWN(im2colAll_confW4!AY7:FT31/2^4, 0), ROUNDUP(im2colAll_confW4!AY7:FT31/2^4, 0))","v":-81},{"$f":"IF(im2colAll_confW4!AZ7:FU31 > 0, ROUNDDOWN(im2colAll_confW4!AZ7:FU31/2^4, 0), ROUNDUP(im2colAll_confW4!AZ7:FU31/2^4, 0))","v":-34},{"$f":"IF(im2colAll_confW4!BA7:FV31 > 0, ROUNDDOWN(im2colAll_confW4!BA7:FV31/2^4, 0), ROUNDUP(im2colAll_confW4!BA7:FV31/2^4, 0))","v":-18},{"$f":"IF(im2colAll_confW4!BB7:FW31 > 0, ROUNDDOWN(im2colAll_confW4!BB7:FW31/2^4, 0), ROUNDUP(im2colAll_confW4!BB7:FW31/2^4, 0))","v":25},{"$f":"IF(im2colAll_confW4!BC7:FX31 > 0, ROUNDDOWN(im2colAll_confW4!BC7:FX31/2^4, 0), ROUNDUP(im2colAll_confW4!BC7:FX31/2^4, 0))","v":-13},{"$f":"IF(im2colAll_confW4!BD7:FY31 > 0, ROUNDDOWN(im2colAll_confW4!BD7:FY31/2^4, 0), ROUNDUP(im2colAll_confW4!BD7:FY31/2^4, 0))","v":14},{"$f":"IF(im2colAll_confW4!BE7:FZ31 > 0, ROUNDDOWN(im2colAll_confW4!BE7:FZ31/2^4, 0), ROUNDUP(im2colAll_confW4!BE7:FZ31/2^4, 0))","v":17},{"$f":"IF(im2colAll_confW4!BF7:GA31 > 0, ROUNDDOWN(im2colAll_confW4!BF7:GA31/2^4, 0), ROUNDUP(im2colAll_confW4!BF7:GA31/2^4, 0))","v":104},{"$f":"IF(im2colAll_confW4!BG7:GB31 > 0, ROUNDDOWN(im2colAll_confW4!BG7:GB31/2^4, 0), ROUNDUP(im2colAll_confW4!BG7:GB31/2^4, 0))","v":-22},{"$f":"IF(im2colAll_confW4!BH7:GC31 > 0, ROUNDDOWN(im2colAll_confW4!BH7:GC31/2^4, 0), ROUNDUP(im2colAll_confW4!BH7:GC31/2^4, 0))","v":-39},{"$f":"IF(im2colAll_confW4!BI7:GD31 > 0, ROUNDDOWN(im2colAll_confW4!BI7:GD31/2^4, 0), ROUNDUP(im2colAll_confW4!BI7:GD31/2^4, 0))","v":19},{"$f":"IF(im2colAll_confW4!BJ7:GE31 > 0, ROUNDDOWN(im2colAll_confW4!BJ7:GE31/2^4, 0), ROUNDUP(im2colAll_confW4!BJ7:GE31/2^4, 0))","v":-56},{"$f":"IF(im2colAll_confW4!BK7:GF31 > 0, ROUNDDOWN(im2colAll_confW4!BK7:GF31/2^4, 0), ROUNDUP(im2colAll_confW4!BK7:GF31/2^4, 0))","v":-18},{"$f":"IF(im2colAll_confW4!BL7:GG31 > 0, ROUNDDOWN(im2colAll_confW4!BL7:GG31/2^4, 0), ROUNDUP(im2colAll_confW4!BL7:GG31/2^4, 0))","v":222},{"$f":"IF(im2colAll_confW4!BM7:GH31 > 0, ROUNDDOWN(im2colAll_confW4!BM7:GH31/2^4, 0), ROUNDUP(im2colAll_confW4!BM7:GH31/2^4, 0))","v":-39},{"$f":"IF(im2colAll_confW4!BN7:GI31 > 0, ROUNDDOWN(im2colAll_confW4!BN7:GI31/2^4, 0), ROUNDUP(im2colAll_confW4!BN7:GI31/2^4, 0))","v":-6},{"$f":"IF(im2colAll_confW4!BO7:GJ31 > 0, ROUNDDOWN(im2colAll_confW4!BO7:GJ31/2^4, 0), ROUNDUP(im2colAll_confW4!BO7:GJ31/2^4, 0))","v":-24},{"$f":"IF(im2colAll_confW4!BP7:GK31 > 0, ROUNDDOWN(im2colAll_confW4!BP7:GK31/2^4, 0), ROUNDUP(im2colAll_confW4!BP7:GK31/2^4, 0))","v":-41},{"$f":"IF(im2colAll_confW4!BQ7:GL31 > 0, ROUNDDOWN(im2colAll_confW4!BQ7:GL31/2^4, 0), ROUNDUP(im2colAll_confW4!BQ7:GL31/2^4, 0))","v":-39},{"$f":"IF(im2colAll_confW4!BR7:GM31 > 0, ROUNDDOWN(im2colAll_confW4!BR7:GM31/2^4, 0), ROUNDUP(im2colAll_confW4!BR7:GM31/2^4, 0))","v":-32},{"$f":"IF(im2colAll_confW4!BS7:GN31 > 0, ROUNDDOWN(im2colAll_confW4!BS7:GN31/2^4, 0), ROUNDUP(im2colAll_confW4!BS7:GN31/2^4, 0))","v":13},{"$f":"IF(im2colAll_confW4!BT7:GO31 > 0, ROUNDDOWN(im2colAll_confW4!BT7:GO31/2^4, 0), ROUNDUP(im2colAll_confW4!BT7:GO31/2^4, 0))","v":-67},{"$f":"IF(im2colAll_confW4!BU7:GP31 > 0, ROUNDDOWN(im2colAll_confW4!BU7:GP31/2^4, 0), ROUNDUP(im2colAll_confW4!BU7:GP31/2^4, 0))","v":12},{"$f":"IF(im2colAll_confW4!BV7:GQ31 > 0, ROUNDDOWN(im2colAll_confW4!BV7:GQ31/2^4, 0), ROUNDUP(im2colAll_confW4!BV7:GQ31/2^4, 0))","v":-15},{"$f":"IF(im2colAll_confW4!BW7:GR31 > 0, ROUNDDOWN(im2colAll_confW4!BW7:GR31/2^4, 0), ROUNDUP(im2colAll_confW4!BW7:GR31/2^4, 0))","v":-2},{"$f":"IF(im2colAll_confW4!BX7:GS31 > 0, ROUNDDOWN(im2colAll_confW4!BX7:GS31/2^4, 0), ROUNDUP(im2colAll_confW4!BX7:GS31/2^4, 0))","v":13},{"$f":"IF(im2colAll_confW4!BY7:GT31 > 0, ROUNDDOWN(im2colAll_confW4!BY7:GT31/2^4, 0), ROUNDUP(im2colAll_confW4!BY7:GT31/2^4, 0))","v":16},{"$f":"IF(im2colAll_confW4!BZ7:GU31 > 0, ROUNDDOWN(im2colAll_confW4!BZ7:GU31/2^4, 0), ROUNDUP(im2colAll_confW4!BZ7:GU31/2^4, 0))","v":-4},{"$f":"IF(im2colAll_confW4!CA7:GV31 > 0, ROUNDDOWN(im2colAll_confW4!CA7:GV31/2^4, 0), ROUNDUP(im2colAll_confW4!CA7:GV31/2^4, 0))","v":124},{"$f":"IF(im2colAll_confW4!CB7:GW31 > 0, ROUNDDOWN(im2colAll_confW4!CB7:GW31/2^4, 0), ROUNDUP(im2colAll_confW4!CB7:GW31/2^4, 0))","v":-1},{"$f":"IF(im2colAll_confW4!CC7:GX31 > 0, ROUNDDOWN(im2colAll_confW4!CC7:GX31/2^4, 0), ROUNDUP(im2colAll_confW4!CC7:GX31/2^4, 0))","v":-50},{"$f":"IF(im2colAll_confW4!CD7:GY31 > 0, ROUNDDOWN(im2colAll_confW4!CD7:GY31/2^4, 0), ROUNDUP(im2colAll_confW4!CD7:GY31/2^4, 0))","v":12},{"$f":"IF(im2colAll_confW4!CE7:GZ31 > 0, ROUNDDOWN(im2colAll_confW4!CE7:GZ31/2^4, 0), ROUNDUP(im2colAll_confW4!CE7:GZ31/2^4, 0))","v":-47},{"$f":"IF(im2colAll_confW4!CF7:HA31 > 0, ROUNDDOWN(im2colAll_confW4!CF7:HA31/2^4, 0), ROUNDUP(im2colAll_confW4!CF7:HA31/2^4, 0))","v":-51},{"$f":"IF(im2colAll_confW4!CG7:HB31 > 0, ROUNDDOWN(im2colAll_confW4!CG7:HB31/2^4, 0), ROUNDUP(im2colAll_confW4!CG7:HB31/2^4, 0))","v":218},{"$f":"IF(im2colAll_confW4!CH7:HC31 > 0, ROUNDDOWN(im2colAll_confW4!CH7:HC31/2^4, 0), ROUNDUP(im2colAll_confW4!CH7:HC31/2^4, 0))","v":-37},{"$f":"IF(im2colAll_confW4!CI7:HD31 > 0, ROUNDDOWN(im2colAll_confW4!CI7:HD31/2^4, 0), ROUNDUP(im2colAll_confW4!CI7:HD31/2^4, 0))","v":-6},{"$f":"IF(im2colAll_confW4!CJ7:HE31 > 0, ROUNDDOWN(im2colAll_confW4!CJ7:HE31/2^4, 0), ROUNDUP(im2colAll_confW4!CJ7:HE31/2^4, 0))","v":-36},{"$f":"IF(im2colAll_confW4!CK7:HF31 > 0, ROUNDDOWN(im2colAll_confW4!CK7:HF31/2^4, 0), ROUNDUP(im2colAll_confW4!CK7:HF31/2^4, 0))","v":-5},{"$f":"IF(im2colAll_confW4!CL7:HG31 > 0, ROUNDDOWN(im2colAll_confW4!CL7:HG31/2^4, 0), ROUNDUP(im2colAll_confW4!CL7:HG31/2^4, 0))","v":-34},{"$f":"IF(im2colAll_confW4!CM7:HH31 > 0, ROUNDDOWN(im2colAll_confW4!CM7:HH31/2^4, 0), ROUNDUP(im2colAll_confW4!CM7:HH31/2^4, 0))","v":-33},{"$f":"IF(im2colAll_confW4!CN7:HI31 > 0, ROUNDDOWN(im2colAll_confW4!CN7:HI31/2^4, 0), ROUNDUP(im2colAll_confW4!CN7:HI31/2^4, 0))","v":9},{"$f":"IF(im2colAll_confW4!CO7:HJ31 > 0, ROUNDDOWN(im2colAll_confW4!CO7:HJ31/2^4, 0), ROUNDUP(im2colAll_confW4!CO7:HJ31/2^4, 0))","v":-47},{"$f":"IF(im2colAll_confW4!CP7:HK31 > 0, ROUNDDOWN(im2colAll_confW4!CP7:HK31/2^4, 0), ROUNDUP(im2colAll_confW4!CP7:HK31/2^4, 0))","v":-4},{"$f":"IF(im2colAll_confW4!CQ7:HL31 > 0, ROUNDDOWN(im2colAll_confW4!CQ7:HL31/2^4, 0), ROUNDUP(im2colAll_confW4!CQ7:HL31/2^4, 0))","v":-15},{"$f":"IF(im2colAll_confW4!CR7:HM31 > 0, ROUNDDOWN(im2colAll_confW4!CR7:HM31/2^4, 0), ROUNDUP(im2colAll_confW4!CR7:HM31/2^4, 0))","v":18},{"$f":"IF(im2colAll_confW4!CS7:HN31 > 0, ROUNDDOWN(im2colAll_confW4!CS7:HN31/2^4, 0), ROUNDUP(im2colAll_confW4!CS7:HN31/2^4, 0))","v":3},{"$f":"IF(im2colAll_confW4!CT7:HO31 > 0, ROUNDDOWN(im2colAll_confW4!CT7:HO31/2^4, 0), ROUNDUP(im2colAll_confW4!CT7:HO31/2^4, 0))","v":30},{"$f":"IF(im2colAll_confW4!CU7:HP31 > 0, ROUNDDOWN(im2colAll_confW4!CU7:HP31/2^4, 0), ROUNDUP(im2colAll_confW4!CU7:HP31/2^4, 0))","v":33},{"$f":"IF(im2colAll_confW4!CV7:HQ31 > 0, ROUNDDOWN(im2colAll_confW4!CV7:HQ31/2^4, 0), ROUNDUP(im2colAll_confW4!CV7:HQ31/2^4, 0))","v":79},{"$f":"IF(im2colAll_confW4!CW7:HR31 > 0, ROUNDDOWN(im2colAll_confW4!CW7:HR31/2^4, 0), ROUNDUP(im2colAll_confW4!CW7:HR31/2^4, 0))","v":-12},{"$f":"IF(im2colAll_confW4!CX7:HS31 > 0, ROUNDDOWN(im2colAll_confW4!CX7:HS31/2^4, 0), ROUNDUP(im2colAll_confW4!CX7:HS31/2^4, 0))","v":-50},{"$f":"IF(im2colAll_confW4!CY7:HT31 > 0, ROUNDDOWN(im2colAll_confW4!CY7:HT31/2^4, 0), ROUNDUP(im2colAll_confW4!CY7:HT31/2^4, 0))","v":23},{"$f":"IF(im2colAll_confW4!CZ7:HU31 > 0, ROUNDDOWN(im2colAll_confW4!CZ7:HU31/2^4, 0), ROUNDUP(im2colAll_confW4!CZ7:HU31/2^4, 0))","v":-14},{"$f":"IF(im2colAll_confW4!DA7:HV31 > 0, ROUNDDOWN(im2colAll_confW4!DA7:HV31/2^4, 0), ROUNDUP(im2colAll_confW4!DA7:HV31/2^4, 0))","v":-16},{"$f":"IF(im2colAll_confW4!DB7:HW31 > 0, ROUNDDOWN(im2colAll_confW4!DB7:HW31/2^4, 0), ROUNDUP(im2colAll_confW4!DB7:HW31/2^4, 0))","v":192},{"$f":"IF(im2colAll_confW4!DC7:HX31 > 0, ROUNDDOWN(im2colAll_confW4!DC7:HX31/2^4, 0), ROUNDUP(im2colAll_confW4!DC7:HX31/2^4, 0))","v":-37},{"$f":"IF(im2colAll_confW4!DD7:HY31 > 0, ROUNDDOWN(im2colAll_confW4!DD7:HY31/2^4, 0), ROUNDUP(im2colAll_confW4!DD7:HY31/2^4, 0))","v":6},{"$f":"IF(im2colAll_confW4!DE7:HZ31 > 0, ROUNDDOWN(im2colAll_confW4!DE7:HZ31/2^4, 0), ROUNDUP(im2colAll_confW4!DE7:HZ31/2^4, 0))","v":-30},{"$f":"IF(im2colAll_confW4!DF7:IA31 > 0, ROUNDDOWN(im2colAll_confW4!DF7:IA31/2^4, 0), ROUNDUP(im2colAll_confW4!DF7:IA31/2^4, 0))","v":-33},{"$f":"IF(im2colAll_confW4!DG7:IB31 > 0, ROUNDDOWN(im2colAll_confW4!DG7:IB31/2^4, 0), ROUNDUP(im2colAll_confW4!DG7:IB31/2^4, 0))","v":-52},{"$f":"IF(im2colAll_confW4!DH7:IC31 > 0, ROUNDDOWN(im2colAll_confW4!DH7:IC31/2^4, 0), ROUNDUP(im2colAll_confW4!DH7:IC31/2^4, 0))","v":-29},{"$f":"IF(im2colAll_confW4!DI7:ID31 > 0, ROUNDDOWN(im2colAll_confW4!DI7:ID31/2^4, 0), ROUNDUP(im2colAll_confW4!DI7:ID31/2^4, 0))","v":10},{"$f":"IF(im2colAll_confW4!DJ7:IE31 > 0, ROUNDDOWN(im2colAll_confW4!DJ7:IE31/2^4, 0), ROUNDUP(im2colAll_confW4!DJ7:IE31/2^4, 0))","v":-55},{"$f":"IF(im2colAll_confW4!DK7:IF31 > 0, ROUNDDOWN(im2colAll_confW4!DK7:IF31/2^4, 0), ROUNDUP(im2colAll_confW4!DK7:IF31/2^4, 0))","v":21},{"$f":"IF(im2colAll_confW4!DL7:IG31 > 0, ROUNDDOWN(im2colAll_confW4!DL7:IG31/2^4, 0), ROUNDUP(im2colAll_confW4!DL7:IG31/2^4, 0))","v":-6},{"$f":"IF(im2colAll_confW4!DM7:IH31 > 0, ROUNDDOWN(im2colAll_confW4!DM7:IH31/2^4, 0), ROUNDUP(im2colAll_confW4!DM7:IH31/2^4, 0))","v":1},{"$f":"IF(im2colAll_confW4!DN7:II31 > 0, ROUNDDOWN(im2colAll_confW4!DN7:II31/2^4, 0), ROUNDUP(im2colAll_confW4!DN7:II31/2^4, 0))","v":3},{"$f":"IF(im2colAll_confW4!DO7:IJ31 > 0, ROUNDDOWN(im2colAll_confW4!DO7:IJ31/2^4, 0), ROUNDUP(im2colAll_confW4!DO7:IJ31/2^4, 0))","v":23},{"$f":"IF(im2colAll_confW4!DP7:IK31 > 0, ROUNDDOWN(im2colAll_confW4!DP7:IK31/2^4, 0), ROUNDUP(im2colAll_confW4!DP7:IK31/2^4, 0))","v":6},{"$f":"IF(im2colAll_confW4!DQ7:IL31 > 0, ROUNDDOWN(im2colAll_confW4!DQ7:IL31/2^4, 0), ROUNDUP(im2colAll_confW4!DQ7:IL31/2^4, 0))","v":86},{"$f":"IF(im2colAll_confW4!DR7:IM31 > 0, ROUNDDOWN(im2colAll_confW4!DR7:IM31/2^4, 0), ROUNDUP(im2colAll_confW4!DR7:IM31/2^4, 0))","v":-28},{"$f":"IF(im2colAll_confW4!DS7:IN31 > 0, ROUNDDOWN(im2colAll_confW4!DS7:IN31/2^4, 0), ROUNDUP(im2colAll_confW4!DS7:IN31/2^4, 0))","v":-34},{"$f":"IF(im2colAll_confW4!DT7:IO31 > 0, ROUNDDOWN(im2colAll_confW4!DT7:IO31/2^4, 0), ROUNDUP(im2colAll_confW4!DT7:IO31/2^4, 0))","v":11},{"$f":"IF(im2colAll_confW4!DU7:IP31 > 0, ROUNDDOWN(im2colAll_confW4!DU7:IP31/2^4, 0), ROUNDUP(im2colAll_confW4!DU7:IP31/2^4, 0))","v":-42},{"$f":"IF(im2colAll_confW4!DV7:IQ31 > 0, ROUNDDOWN(im2colAll_confW4!DV7:IQ31/2^4, 0), ROUNDUP(im2colAll_confW4!DV7:IQ31/2^4, 0))","v":-44}]
[{"$f":"IF(im2colAll_confW4!A8:DV32 > 0, ROUNDDOWN(im2colAll_confW4!A8:DV32/2^4, 0), ROUNDUP(im2colAll_confW4!A8:DV32/2^4, 0))","v":224},{"$f":"IF(im2colAll_confW4!B8:DW32 > 0, ROUNDDOWN(im2colAll_confW4!B8:DW32/2^4, 0), ROUNDUP(im2colAll_confW4!B8:DW32/2^4, 0))","v":5},{"$f":"IF(im2colAll_confW4!C8:DX32 > 0, ROUNDDOWN(im2colAll_confW4!C8:DX32/2^4, 0), ROUNDUP(im2colAll_confW4!C8:DX32/2^4, 0))","v":6},{"$f":"IF(im2colAll_confW4!D8:DY32 > 0, ROUNDDOWN(im2colAll_confW4!D8:DY32/2^4, 0), ROUNDUP(im2colAll_confW4!D8:DY32/2^4, 0))","v":-54},{"$f":"IF(im2colAll_confW4!E8:DZ32 > 0, ROUNDDOWN(im2colAll_confW4!E8:DZ32/2^4, 0), ROUNDUP(im2colAll_confW4!E8:DZ32/2^4, 0))","v":-4},{"$f":"IF(im2colAll_confW4!F8:EA32 > 0, ROUNDDOWN(im2colAll_confW4!F8:EA32/2^4, 0), ROUNDUP(im2colAll_confW4!F8:EA32/2^4, 0))","v":-63},{"$f":"IF(im2colAll_confW4!G8:EB32 > 0, ROUNDDOWN(im2colAll_confW4!G8:EB32/2^4, 0), ROUNDUP(im2colAll_confW4!G8:EB32/2^4, 0))","v":-24},{"$f":"IF(im2colAll_confW4!H8:EC32 > 0, ROUNDDOWN(im2colAll_confW4!H8:EC32/2^4, 0), ROUNDUP(im2colAll_confW4!H8:EC32/2^4, 0))","v":15},{"$f":"IF(im2colAll_confW4!I8:ED32 > 0, ROUNDDOWN(im2colAll_confW4!I8:ED32/2^4, 0), ROUNDUP(im2colAll_confW4!I8:ED32/2^4, 0))","v":-79},{"$f":"IF(im2colAll_confW4!J8:EE32 > 0, ROUNDDOWN(im2colAll_confW4!J8:EE32/2^4, 0), ROUNDUP(im2colAll_confW4!J8:EE32/2^4, 0))","v":14},{"$f":"IF(im2colAll_confW4!K8:EF32 > 0, ROUNDDOWN(im2colAll_confW4!K8:EF32/2^4, 0), ROUNDUP(im2colAll_confW4!K8:EF32/2^4, 0))","v":-10},{"$f":"IF(im2colAll_confW4!L8:EG32 > 0, ROUNDDOWN(im2colAll_confW4!L8:EG32/2^4, 0), ROUNDUP(im2colAll_confW4!L8:EG32/2^4, 0))","v":-3},{"$f":"IF(im2colAll_confW4!M8:EH32 > 0, ROUNDDOWN(im2colAll_confW4!M8:EH32/2^4, 0), ROUNDUP(im2colAll_confW4!M8:EH32/2^4, 0))","v":21},{"$f":"IF(im2colAll_confW4!N8:EI32 > 0, ROUNDDOWN(im2colAll_confW4!N8:EI32/2^4, 0), ROUNDUP(im2colAll_confW4!N8:EI32/2^4, 0))","v":44},{"$f":"IF(im2colAll_confW4!O8:EJ32 > 0, ROUNDDOWN(im2colAll_confW4!O8:EJ32/2^4, 0), ROUNDUP(im2colAll_confW4!O8:EJ32/2^4, 0))","v":22},{"$f":"IF(im2colAll_confW4!P8:EK32 > 0, ROUNDDOWN(im2colAll_confW4!P8:EK32/2^4, 0), ROUNDUP(im2colAll_confW4!P8:EK32/2^4, 0))","v":173},{"$f":"IF(im2colAll_confW4!Q8:EL32 > 0, ROUNDDOWN(im2colAll_confW4!Q8:EL32/2^4, 0), ROUNDUP(im2colAll_confW4!Q8:EL32/2^4, 0))","v":-72},{"$f":"IF(im2colAll_confW4!R8:EM32 > 0, ROUNDDOWN(im2colAll_confW4!R8:EM32/2^4, 0), ROUNDUP(im2colAll_confW4!R8:EM32/2^4, 0))","v":-66},{"$f":"IF(im2colAll_confW4!S8:EN32 > 0, ROUNDDOWN(im2colAll_confW4!S8:EN32/2^4, 0), ROUNDUP(im2colAll_confW4!S8:EN32/2^4, 0))","v":56},{"$f":"IF(im2colAll_confW4!T8:EO32 > 0, ROUNDDOWN(im2colAll_confW4!T8:EO32/2^4, 0), ROUNDUP(im2colAll_confW4!T8:EO32/2^4, 0))","v":-40},{"$f":"IF(im2colAll_confW4!U8:EP32 > 0, ROUNDDOWN(im2colAll_confW4!U8:EP32/2^4, 0), ROUNDUP(im2colAll_confW4!U8:EP32/2^4, 0))","v":-51},{"$f":"IF(im2colAll_confW4!V8:EQ32 > 0, ROUNDDOWN(im2colAll_confW4!V8:EQ32/2^4, 0), ROUNDUP(im2colAll_confW4!V8:EQ32/2^4, 0))","v":221},{"$f":"IF(im2colAll_confW4!W8:ER32 > 0, ROUNDDOWN(im2colAll_confW4!W8:ER32/2^4, 0), ROUNDUP(im2colAll_confW4!W8:ER32/2^4, 0))","v":-50},{"$f":"IF(im2colAll_confW4!X8:ES32 > 0, ROUNDDOWN(im2colAll_confW4!X8:ES32/2^4, 0), ROUNDUP(im2colAll_confW4!X8:ES32/2^4, 0))","v":12},{"$f":"IF(im2colAll_confW4!Y8:ET32 > 0, ROUNDDOWN(im2colAll_confW4!Y8:ET32/2^4, 0), ROUNDUP(im2colAll_confW4!Y8:ET32/2^4, 0))","v":-35},{"$f":"IF(im2colAll_confW4!Z8:EU32 > 0, ROUNDDOWN(im2colAll_confW4!Z8:EU32/2^4, 0), ROUNDUP(im2colAll_confW4!Z8:EU32/2^4, 0))","v":-1},{"$f":"IF(im2colAll_confW4!AA8:EV32 > 0, ROUNDDOWN(im2colAll_confW4!AA8:EV32/2^4, 0), ROUNDUP(im2colAll_confW4!AA8:EV32/2^4, 0))","v":-83},{"$f":"IF(im2colAll_confW4!AB8:EW32 > 0, ROUNDDOWN(im2colAll_confW4!AB8:EW32/2^4, 0), ROUNDUP(im2colAll_confW4!AB8:EW32/2^4, 0))","v":-51},{"$f":"IF(im2colAll_confW4!AC8:EX32 > 0, ROUNDDOWN(im2colAll_confW4!AC8:EX32/2^4, 0), ROUNDUP(im2colAll_confW4!AC8:EX32/2^4, 0))","v":40},{"$f":"IF(im2colAll_confW4!AD8:EY32 > 0, ROUNDDOWN(im2colAll_confW4!AD8:EY32/2^4, 0), ROUNDUP(im2colAll_confW4!AD8:EY32/2^4, 0))","v":-95},{"$f":"IF(im2colAll_confW4!AE8:EZ32 > 0, ROUNDDOWN(im2colAll_confW4!AE8:EZ32/2^4, 0), ROUNDUP(im2colAll_confW4!AE8:EZ32/2^4, 0))","v":-14},{"$f":"IF(im2colAll_confW4!AF8:FA32 > 0, ROUNDDOWN(im2colAll_confW4!AF8:FA32/2^4, 0), ROUNDUP(im2colAll_confW4!AF8:FA32/2^4, 0))","v":-3},{"$f":"IF(im2colAll_confW4!AG8:FB32 > 0, ROUNDDOWN(im2colAll_confW4!AG8:FB32/2^4, 0), ROUNDUP(im2colAll_confW4!AG8:FB32/2^4, 0))","v":-5},{"$f":"IF(im2colAll_confW4!AH8:FC32 > 0, ROUNDDOWN(im2colAll_confW4!AH8:FC32/2^4, 0), ROUNDUP(im2colAll_confW4!AH8:FC32/2^4, 0))","v":20},{"$f":"IF(im2colAll_confW4!AI8:FD32 > 0, ROUNDDOWN(im2colAll_confW4!AI8:FD32/2^4, 0), ROUNDUP(im2colAll_confW4!AI8:FD32/2^4, 0))","v":41},{"$f":"IF(im2colAll_confW4!AJ8:FE32 > 0, ROUNDDOWN(im2colAll_confW4!AJ8:FE32/2^4, 0), ROUNDUP(im2colAll_confW4!AJ8:FE32/2^4, 0))","v":26},{"$f":"IF(im2colAll_confW4!AK8:FF32 > 0, ROUNDDOWN(im2colAll_confW4!AK8:FF32/2^4, 0), ROUNDUP(im2colAll_confW4!AK8:FF32/2^4, 0))","v":144},{"$f":"IF(im2colAll_confW4!AL8:FG32 > 0, ROUNDDOWN(im2colAll_confW4!AL8:FG32/2^4, 0), ROUNDUP(im2colAll_confW4!AL8:FG32/2^4, 0))","v":-38},{"$f":"IF(im2colAll_confW4!AM8:FH32 > 0, ROUNDDOWN(im2colAll_confW4!AM8:FH32/2^4, 0), ROUNDUP(im2colAll_confW4!AM8:FH32/2^4, 0))","v":-73},{"$f":"IF(im2colAll_confW4!AN8:FI32 > 0, ROUNDDOWN(im2colAll_confW4!AN8:FI32/2^4, 0), ROUNDUP(im2colAll_confW4!AN8:FI32/2^4, 0))","v":44},{"$f":"IF(im2colAll_confW4!AO8:FJ32 > 0, ROUNDDOWN(im2colAll_confW4!AO8:FJ32/2^4, 0), ROUNDUP(im2colAll_confW4!AO8:FJ32/2^4, 0))","v":-51},{"$f":"IF(im2colAll_confW4!AP8:FK32 > 0, ROUNDDOWN(im2colAll_confW4!AP8:FK32/2^4, 0), ROUNDUP(im2colAll_confW4!AP8:FK32/2^4, 0))","v":-56},{"$f":"IF(im2colAll_confW4!AQ8:FL32 > 0, ROUNDDOWN(im2colAll_confW4!AQ8:FL32/2^4, 0), ROUNDUP(im2colAll_confW4!AQ8:FL32/2^4, 0))","v":230},{"$f":"IF(im2colAll_confW4!AR8:FM32 > 0, ROUNDDOWN(im2colAll_confW4!AR8:FM32/2^4, 0), ROUNDUP(im2colAll_confW4!AR8:FM32/2^4, 0))","v":-47},{"$f":"IF(im2colAll_confW4!AS8:FN32 > 0, ROUNDDOWN(im2colAll_confW4!AS8:FN32/2^4, 0), ROUNDUP(im2colAll_confW4!AS8:FN32/2^4, 0))","v":-6},{"$f":"IF(im2colAll_confW4!AT8:FO32 > 0, ROUNDDOWN(im2colAll_confW4!AT8:FO32/2^4, 0), ROUNDUP(im2colAll_confW4!AT8:FO32/2^4, 0))","v":-56},{"$f":"IF(im2colAll_confW4!AU8:FP32 > 0, ROUNDDOWN(im2colAll_confW4!AU8:FP32/2^4, 0), ROUNDUP(im2colAll_confW4!AU8:FP32/2^4, 0))","v":-10},{"$f":"IF(im2colAll_confW4!AV8:FQ32 > 0, ROUNDDOWN(im2colAll_confW4!AV8:FQ32/2^4, 0), ROUNDUP(im2colAll_confW4!AV8:FQ32/2^4, 0))","v":-64},{"$f":"IF(im2colAll_confW4!AW8:FR32 > 0, ROUNDDOWN(im2colAll_confW4!AW8:FR32/2^4, 0), ROUNDUP(im2colAll_confW4!AW8:FR32/2^4, 0))","v":-38},{"$f":"IF(im2colAll_confW4!AX8:FS32 > 0, ROUNDDOWN(im2colAll_confW4!AX8:FS32/2^4, 0), ROUNDUP(im2colAll_confW4!AX8:FS32/2^4, 0))","v":15},{"$f":"IF(im2colAll_confW4!AY8:FT32 > 0, ROUNDDOWN(im2colAll_confW4!AY8:FT32/2^4, 0), ROUNDUP(im2colAll_confW4!AY8:FT32/2^4, 0))","v":-97},{"$f":"IF(im2colAll_confW4!AZ8:FU32 > 0, ROUNDDOWN(im2colAll_confW4!AZ8:FU32/2^4, 0), ROUNDUP(im2colAll_confW4!AZ8:FU32/2^4, 0))","v":-38},{"$f":"IF(im2colAll_confW4!BA8:FV32 > 0, ROUNDDOWN(im2colAll_confW4!BA8:FV32/2^4, 0), ROUNDUP(im2colAll_confW4!BA8:FV32/2^4, 0))","v":-10},{"$f":"IF(im2colAll_confW4!BB8:FW32 > 0, ROUNDDOWN(im2colAll_confW4!BB8:FW32/2^4, 0), ROUNDUP(im2colAll_confW4!BB8:FW32/2^4, 0))","v":1},{"$f":"IF(im2colAll_confW4!BC8:FX32 > 0, ROUNDDOWN(im2colAll_confW4!BC8:FX32/2^4, 0), ROUNDUP(im2colAll_confW4!BC8:FX32/2^4, 0))","v":1},{"$f":"IF(im2colAll_confW4!BD8:FY32 > 0, ROUNDDOWN(im2colAll_confW4!BD8:FY32/2^4, 0), ROUNDUP(im2colAll_confW4!BD8:FY32/2^4, 0))","v":40},{"$f":"IF(im2colAll_confW4!BE8:FZ32 > 0, ROUNDDOWN(im2colAll_confW4!BE8:FZ32/2^4, 0), ROUNDUP(im2colAll_confW4!BE8:FZ32/2^4, 0))","v":21},{"$f":"IF(im2colAll_confW4!BF8:GA32 > 0, ROUNDDOWN(im2colAll_confW4!BF8:GA32/2^4, 0), ROUNDUP(im2colAll_confW4!BF8:GA32/2^4, 0))","v":121},{"$f":"IF(im2colAll_confW4!BG8:GB32 > 0, ROUNDDOWN(im2colAll_confW4!BG8:GB32/2^4, 0), ROUNDUP(im2colAll_confW4!BG8:GB32/2^4, 0))","v":-51},{"$f":"IF(im2colAll_confW4!BH8:GC32 > 0, ROUNDDOWN(im2colAll_confW4!BH8:GC32/2^4, 0), ROUNDUP(im2colAll_confW4!BH8:GC32/2^4, 0))","v":-59},{"$f":"IF(im2colAll_confW4!BI8:GD32 > 0, ROUNDDOWN(im2colAll_confW4!BI8:GD32/2^4, 0), ROUNDUP(im2colAll_confW4!BI8:GD32/2^4, 0))","v":37},{"$f":"IF(im2colAll_confW4!BJ8:GE32 > 0, ROUNDDOWN(im2colAll_confW4!BJ8:GE32/2^4, 0), ROUNDUP(im2colAll_confW4!BJ8:GE32/2^4, 0))","v":-45},{"$f":"IF(im2colAll_confW4!BK8:GF32 > 0, ROUNDDOWN(im2colAll_confW4!BK8:GF32/2^4, 0), ROUNDUP(im2colAll_confW4!BK8:GF32/2^4, 0))","v":-42},{"$f":"IF(im2colAll_confW4!BL8:GG32 > 0, ROUNDDOWN(im2colAll_confW4!BL8:GG32/2^4, 0), ROUNDUP(im2colAll_confW4!BL8:GG32/2^4, 0))","v":210},{"$f":"IF(im2colAll_confW4!BM8:GH32 > 0, ROUNDDOWN(im2colAll_confW4!BM8:GH32/2^4, 0), ROUNDUP(im2colAll_confW4!BM8:GH32/2^4, 0))","v":-25},{"$f":"IF(im2colAll_confW4!BN8:GI32 > 0, ROUNDDOWN(im2colAll_confW4!BN8:GI32/2^4, 0), ROUNDUP(im2colAll_confW4!BN8:GI32/2^4, 0))","v":0},{"$f":"IF(im2colAll_confW4!BO8:GJ32 > 0, ROUNDDOWN(im2colAll_confW4!BO8:GJ32/2^4, 0), ROUNDUP(im2colAll_confW4!BO8:GJ32/2^4, 0))","v":-41},{"$f":"IF(im2colAll_confW4!BP8:GK32 > 0, ROUNDDOWN(im2colAll_confW4!BP8:GK32/2^4, 0), ROUNDUP(im2colAll_confW4!BP8:GK32/2^4, 0))","v":-52},{"$f":"IF(im2colAll_confW4!BQ8:GL32 > 0, ROUNDDOWN(im2colAll_confW4!BQ8:GL32/2^4, 0), ROUNDUP(im2colAll_confW4!BQ8:GL32/2^4, 0))","v":-47},{"$f":"IF(im2colAll_confW4!BR8:GM32 > 0, ROUNDDOWN(im2colAll_confW4!BR8:GM32/2^4, 0), ROUNDUP(im2colAll_confW4!BR8:GM32/2^4, 0))","v":-58},{"$f":"IF(im2colAll_confW4!BS8:GN32 > 0, ROUNDDOWN(im2colAll_confW4!BS8:GN32/2^4, 0), ROUNDUP(im2colAll_confW4!BS8:GN32/2^4, 0))","v":15},{"$f":"IF(im2colAll_confW4!BT8:GO32 > 0, ROUNDDOWN(im2colAll_confW4!BT8:GO32/2^4, 0), ROUNDUP(im2colAll_confW4!BT8:GO32/2^4, 0))","v":-66},{"$f":"IF(im2colAll_confW4!BU8:GP32 > 0, ROUNDDOWN(im2colAll_confW4!BU8:GP32/2^4, 0), ROUNDUP(im2colAll_confW4!BU8:GP32/2^4, 0))","v":-3},{"$f":"IF(im2colAll_confW4!BV8:GQ32 > 0, ROUNDDOWN(im2colAll_confW4!BV8:GQ32/2^4, 0), ROUNDUP(im2colAll_confW4!BV8:GQ32/2^4, 0))","v":-10},{"$f":"IF(im2colAll_confW4!BW8:GR32 > 0, ROUNDDOWN(im2colAll_confW4!BW8:GR32/2^4, 0), ROUNDUP(im2colAll_confW4!BW8:GR32/2^4, 0))","v":-14},{"$f":"IF(im2colAll_confW4!BX8:GS32 > 0, ROUNDDOWN(im2colAll_confW4!BX8:GS32/2^4, 0), ROUNDUP(im2colAll_confW4!BX8:GS32/2^4, 0))","v":39},{"$f":"IF(im2colAll_confW4!BY8:GT32 > 0, ROUNDDOWN(im2colAll_confW4!BY8:GT32/2^4, 0), ROUNDUP(im2colAll_confW4!BY8:GT32/2^4, 0))","v":26},{"$f":"IF(im2colAll_confW4!BZ8:GU32 > 0, ROUNDDOWN(im2colAll_confW4!BZ8:GU32/2^4, 0), ROUNDUP(im2colAll_confW4!BZ8:GU32/2^4, 0))","v":-5},{"$f":"IF(im2colAll_confW4!CA8:GV32 > 0, ROUNDDOWN(im2colAll_confW4!CA8:GV32/2^4, 0), ROUNDUP(im2colAll_confW4!CA8:GV32/2^4, 0))","v":201},{"$f":"IF(im2colAll_confW4!CB8:GW32 > 0, ROUNDDOWN(im2colAll_confW4!CB8:GW32/2^4, 0), ROUNDUP(im2colAll_confW4!CB8:GW32/2^4, 0))","v":-41},{"$f":"IF(im2colAll_confW4!CC8:GX32 > 0, ROUNDDOWN(im2colAll_confW4!CC8:GX32/2^4, 0), ROUNDUP(im2colAll_confW4!CC8:GX32/2^4, 0))","v":-51},{"$f":"IF(im2colAll_confW4!CD8:GY32 > 0, ROUNDDOWN(im2colAll_confW4!CD8:GY32/2^4, 0), ROUNDUP(im2colAll_confW4!CD8:GY32/2^4, 0))","v":30},{"$f":"IF(im2colAll_confW4!CE8:GZ32 > 0, ROUNDDOWN(im2colAll_confW4!CE8:GZ32/2^4, 0), ROUNDUP(im2colAll_confW4!CE8:GZ32/2^4, 0))","v":-57},{"$f":"IF(im2colAll_confW4!CF8:HA32 > 0, ROUNDDOWN(im2colAll_confW4!CF8:HA32/2^4, 0), ROUNDUP(im2colAll_confW4!CF8:HA32/2^4, 0))","v":-40},{"$f":"IF(im2colAll_confW4!CG8:HB32 > 0, ROUNDDOWN(im2colAll_confW4!CG8:HB32/2^4, 0), ROUNDUP(im2colAll_confW4!CG8:HB32/2^4, 0))","v":229},{"$f":"IF(im2colAll_confW4!CH8:HC32 > 0, ROUNDDOWN(im2colAll_confW4!CH8:HC32/2^4, 0), ROUNDUP(im2colAll_confW4!CH8:HC32/2^4, 0))","v":-38},{"$f":"IF(im2colAll_confW4!CI8:HD32 > 0, ROUNDDOWN(im2colAll_confW4!CI8:HD32/2^4, 0), ROUNDUP(im2colAll_confW4!CI8:HD32/2^4, 0))","v":15},{"$f":"IF(im2colAll_confW4!CJ8:HE32 > 0, ROUNDDOWN(im2colAll_confW4!CJ8:HE32/2^4, 0), ROUNDUP(im2colAll_confW4!CJ8:HE32/2^4, 0))","v":-53},{"$f":"IF(im2colAll_confW4!CK8:HF32 > 0, ROUNDDOWN(im2colAll_confW4!CK8:HF32/2^4, 0), ROUNDUP(im2colAll_confW4!CK8:HF32/2^4, 0))","v":-1},{"$f":"IF(im2colAll_confW4!CL8:HG32 > 0, ROUNDDOWN(im2colAll_confW4!CL8:HG32/2^4, 0), ROUNDUP(im2colAll_confW4!CL8:HG32/2^4, 0))","v":-46},{"$f":"IF(im2colAll_confW4!CM8:HH32 > 0, ROUNDDOWN(im2colAll_confW4!CM8:HH32/2^4, 0), ROUNDUP(im2colAll_confW4!CM8:HH32/2^4, 0))","v":-52},{"$f":"IF(im2colAll_confW4!CN8:HI32 > 0, ROUNDDOWN(im2colAll_confW4!CN8:HI32/2^4, 0), ROUNDUP(im2colAll_confW4!CN8:HI32/2^4, 0))","v":16},{"$f":"IF(im2colAll_confW4!CO8:HJ32 > 0, ROUNDDOWN(im2colAll_confW4!CO8:HJ32/2^4, 0), ROUNDUP(im2colAll_confW4!CO8:HJ32/2^4, 0))","v":-55},{"$f":"IF(im2colAll_confW4!CP8:HK32 > 0, ROUNDDOWN(im2colAll_confW4!CP8:HK32/2^4, 0), ROUNDUP(im2colAll_confW4!CP8:HK32/2^4, 0))","v":4},{"$f":"IF(im2colAll_confW4!CQ8:HL32 > 0, ROUNDDOWN(im2colAll_confW4!CQ8:HL32/2^4, 0), ROUNDUP(im2colAll_confW4!CQ8:HL32/2^4, 0))","v":14},{"$f":"IF(im2colAll_confW4!CR8:HM32 > 0, ROUNDDOWN(im2colAll_confW4!CR8:HM32/2^4, 0), ROUNDUP(im2colAll_confW4!CR8:HM32/2^4, 0))","v":24},{"$f":"IF(im2colAll_confW4!CS8:HN32 > 0, ROUNDDOWN(im2colAll_confW4!CS8:HN32/2^4, 0), ROUNDUP(im2colAll_confW4!CS8:HN32/2^4, 0))","v":-5},{"$f":"IF(im2colAll_confW4!CT8:HO32 > 0, ROUNDDOWN(im2colAll_confW4!CT8:HO32/2^4, 0), ROUNDUP(im2colAll_confW4!CT8:HO32/2^4, 0))","v":46},{"$f":"IF(im2colAll_confW4!CU8:HP32 > 0, ROUNDDOWN(im2colAll_confW4!CU8:HP32/2^4, 0), ROUNDUP(im2colAll_confW4!CU8:HP32/2^4, 0))","v":38},{"$f":"IF(im2colAll_confW4!CV8:HQ32 > 0, ROUNDDOWN(im2colAll_confW4!CV8:HQ32/2^4, 0), ROUNDUP(im2colAll_confW4!CV8:HQ32/2^4, 0))","v":91},{"$f":"IF(im2colAll_confW4!CW8:HR32 > 0, ROUNDDOWN(im2colAll_confW4!CW8:HR32/2^4, 0), ROUNDUP(im2colAll_confW4!CW8:HR32/2^4, 0))","v":-23},{"$f":"IF(im2colAll_confW4!CX8:HS32 > 0, ROUNDDOWN(im2colAll_confW4!CX8:HS32/2^4, 0), ROUNDUP(im2colAll_confW4!CX8:HS32/2^4, 0))","v":-52},{"$f":"IF(im2colAll_confW4!CY8:HT32 > 0, ROUNDDOWN(im2colAll_confW4!CY8:HT32/2^4, 0), ROUNDUP(im2colAll_confW4!CY8:HT32/2^4, 0))","v":44},{"$f":"IF(im2colAll_confW4!CZ8:HU32 > 0, ROUNDDOWN(im2colAll_confW4!CZ8:HU32/2^4, 0), ROUNDUP(im2colAll_confW4!CZ8:HU32/2^4, 0))","v":-44},{"$f":"IF(im2colAll_confW4!DA8:HV32 > 0, ROUNDDOWN(im2colAll_confW4!DA8:HV32/2^4, 0), ROUNDUP(im2colAll_confW4!DA8:HV32/2^4, 0))","v":-21},{"$f":"IF(im2colAll_confW4!DB8:HW32 > 0, ROUNDDOWN(im2colAll_confW4!DB8:HW32/2^4, 0), ROUNDUP(im2colAll_confW4!DB8:HW32/2^4, 0))","v":202},{"$f":"IF(im2colAll_confW4!DC8:HX32 > 0, ROUNDDOWN(im2colAll_confW4!DC8:HX32/2^4, 0), ROUNDUP(im2colAll_confW4!DC8:HX32/2^4, 0))","v":-36},{"$f":"IF(im2colAll_confW4!DD8:HY32 > 0, ROUNDDOWN(im2colAll_confW4!DD8:HY32/2^4, 0), ROUNDUP(im2colAll_confW4!DD8:HY32/2^4, 0))","v":0},{"$f":"IF(im2colAll_confW4!DE8:HZ32 > 0, ROUNDDOWN(im2colAll_confW4!DE8:HZ32/2^4, 0), ROUNDUP(im2colAll_confW4!DE8:HZ32/2^4, 0))","v":-29},{"$f":"IF(im2colAll_confW4!DF8:IA32 > 0, ROUNDDOWN(im2colAll_confW4!DF8:IA32/2^4, 0), ROUNDUP(im2colAll_confW4!DF8:IA32/2^4, 0))","v":-55},{"$f":"IF(im2colAll_confW4!DG8:IB32 > 0, ROUNDDOWN(im2colAll_confW4!DG8:IB32/2^4, 0), ROUNDUP(im2colAll_confW4!DG8:IB32/2^4, 0))","v":-45},{"$f":"IF(im2colAll_confW4!DH8:IC32 > 0, ROUNDDOWN(im2colAll_confW4!DH8:IC32/2^4, 0), ROUNDUP(im2colAll_confW4!DH8:IC32/2^4, 0))","v":-38},{"$f":"IF(im2colAll_confW4!DI8:ID32 > 0, ROUNDDOWN(im2colAll_confW4!DI8:ID32/2^4, 0), ROUNDUP(im2colAll_confW4!DI8:ID32/2^4, 0))","v":11},{"$f":"IF(im2colAll_confW4!DJ8:IE32 > 0, ROUNDDOWN(im2colAll_confW4!DJ8:IE32/2^4, 0), ROUNDUP(im2colAll_confW4!DJ8:IE32/2^4, 0))","v":-50},{"$f":"IF(im2colAll_confW4!DK8:IF32 > 0, ROUNDDOWN(im2colAll_confW4!DK8:IF32/2^4, 0), ROUNDUP(im2colAll_confW4!DK8:IF32/2^4, 0))","v":28},{"$f":"IF(im2colAll_confW4!DL8:IG32 > 0, ROUNDDOWN(im2colAll_confW4!DL8:IG32/2^4, 0), ROUNDUP(im2colAll_confW4!DL8:IG32/2^4, 0))","v":-16},{"$f":"IF(im2colAll_confW4!DM8:IH32 > 0, ROUNDDOWN(im2colAll_confW4!DM8:IH32/2^4, 0), ROUNDUP(im2colAll_confW4!DM8:IH32/2^4, 0))","v":-1},{"$f":"IF(im2colAll_confW4!DN8:II32 > 0, ROUNDDOWN(im2colAll_confW4!DN8:II32/2^4, 0), ROUNDUP(im2colAll_confW4!DN8:II32/2^4, 0))","v":23},{"$f":"IF(im2colAll_confW4!DO8:IJ32 > 0, ROUNDDOWN(im2colAll_confW4!DO8:IJ32/2^4, 0), ROUNDUP(im2colAll_confW4!DO8:IJ32/2^4, 0))","v":29},{"$f":"IF(im2colAll_confW4!DP8:IK32 > 0, ROUNDDOWN(im2colAll_confW4!DP8:IK32/2^4, 0), ROUNDUP(im2colAll_confW4!DP8:IK32/2^4, 0))","v":4},{"$f":"IF(im2colAll_confW4!DQ8:IL32 > 0, ROUNDDOWN(im2colAll_confW4!DQ8:IL32/2^4, 0), ROUNDUP(im2colAll_confW4!DQ8:IL32/2^4, 0))","v":185},{"$f":"IF(im2colAll_confW4!DR8:IM32 > 0, ROUNDDOWN(im2colAll_confW4!DR8:IM32/2^4, 0), ROUNDUP(im2colAll_confW4!DR8:IM32/2^4, 0))","v":-51},{"$f":"IF(im2colAll_confW4!DS8:IN32 > 0, ROUNDDOWN(im2colAll_confW4!DS8:IN32/2^4, 0), ROUNDUP(im2colAll_confW4!DS8:IN32/2^4, 0))","v":-42},{"$f":"IF(im2colAll_confW4!DT8:IO32 > 0, ROUNDDOWN(im2colAll_confW4!DT8:IO32/2^4, 0), ROUNDUP(im2colAll_confW4!DT8:IO32/2^4, 0))","v":25},{"$f":"IF(im2colAll_confW4!DU8:IP32 > 0, ROUNDDOWN(im2colAll_confW4!DU8:IP32/2^4, 0), ROUNDUP(im2colAll_confW4!DU8:IP32/2^4, 0))","v":-35},{"$f":"IF(im2colAll_confW4!DV8:IQ32 > 0, ROUNDDOWN(im2colAll_confW4!DV8:IQ32/2^4, 0), ROUNDUP(im2colAll_confW4!DV8:IQ32/2^4, 0))","v":-46}]
[{"$f":"IF(im2colAll_confW4!A9:DV33 > 0, ROUNDDOWN(im2colAll_confW4!A9:DV33/2^4, 0), ROUNDUP(im2colAll_confW4!A9:DV33/2^4, 0))","v":237},{"$f":"IF(im2colAll_confW4!B9:DW33 > 0, ROUNDDOWN(im2colAll_confW4!B9:DW33/2^4, 0), ROUNDUP(im2colAll_confW4!B9:DW33/2^4, 0))","v":-33},{"$f":"IF(im2colAll_confW4!C9:DX33 > 0, ROUNDDOWN(im2colAll_confW4!C9:DX33/2^4, 0), ROUNDUP(im2colAll_confW4!C9:DX33/2^4, 0))","v":-4},{"$f":"IF(im2colAll_confW4!D9:DY33 > 0, ROUNDDOWN(im2colAll_confW4!D9:DY33/2^4, 0), ROUNDUP(im2colAll_confW4!D9:DY33/2^4, 0))","v":-60},{"$f":"IF(im2colAll_confW4!E9:DZ33 > 0, ROUNDDOWN(im2colAll_confW4!E9:DZ33/2^4, 0), ROUNDUP(im2colAll_confW4!E9:DZ33/2^4, 0))","v":-18},{"$f":"IF(im2colAll_confW4!F9:EA33 > 0, ROUNDDOWN(im2colAll_confW4!F9:EA33/2^4, 0), ROUNDUP(im2colAll_confW4!F9:EA33/2^4, 0))","v":-62},{"$f":"IF(im2colAll_confW4!G9:EB33 > 0, ROUNDDOWN(im2colAll_confW4!G9:EB33/2^4, 0), ROUNDUP(im2colAll_confW4!G9:EB33/2^4, 0))","v":-43},{"$f":"IF(im2colAll_confW4!H9:EC33 > 0, ROUNDDOWN(im2colAll_confW4!H9:EC33/2^4, 0), ROUNDUP(im2colAll_confW4!H9:EC33/2^4, 0))","v":16},{"$f":"IF(im2colAll_confW4!I9:ED33 > 0, ROUNDDOWN(im2colAll_confW4!I9:ED33/2^4, 0), ROUNDUP(im2colAll_confW4!I9:ED33/2^4, 0))","v":-70},{"$f":"IF(im2colAll_confW4!J9:EE33 > 0, ROUNDDOWN(im2colAll_confW4!J9:EE33/2^4, 0), ROUNDUP(im2colAll_confW4!J9:EE33/2^4, 0))","v":30},{"$f":"IF(im2colAll_confW4!K9:EF33 > 0, ROUNDDOWN(im2colAll_confW4!K9:EF33/2^4, 0), ROUNDUP(im2colAll_confW4!K9:EF33/2^4, 0))","v":3},{"$f":"IF(im2colAll_confW4!L9:EG33 > 0, ROUNDDOWN(im2colAll_confW4!L9:EG33/2^4, 0), ROUNDUP(im2colAll_confW4!L9:EG33/2^4, 0))","v":15},{"$f":"IF(im2colAll_confW4!M9:EH33 > 0, ROUNDDOWN(im2colAll_confW4!M9:EH33/2^4, 0), ROUNDUP(im2colAll_confW4!M9:EH33/2^4, 0))","v":4},{"$f":"IF(im2colAll_confW4!N9:EI33 > 0, ROUNDDOWN(im2colAll_confW4!N9:EI33/2^4, 0), ROUNDUP(im2colAll_confW4!N9:EI33/2^4, 0))","v":27},{"$f":"IF(im2colAll_confW4!O9:EJ33 > 0, ROUNDDOWN(im2colAll_confW4!O9:EJ33/2^4, 0), ROUNDUP(im2colAll_confW4!O9:EJ33/2^4, 0))","v":2},{"$f":"IF(im2colAll_confW4!P9:EK33 > 0, ROUNDDOWN(im2colAll_confW4!P9:EK33/2^4, 0), ROUNDUP(im2colAll_confW4!P9:EK33/2^4, 0))","v":131},{"$f":"IF(im2colAll_confW4!Q9:EL33 > 0, ROUNDDOWN(im2colAll_confW4!Q9:EL33/2^4, 0), ROUNDUP(im2colAll_confW4!Q9:EL33/2^4, 0))","v":-37},{"$f":"IF(im2colAll_confW4!R9:EM33 > 0, ROUNDDOWN(im2colAll_confW4!R9:EM33/2^4, 0), ROUNDUP(im2colAll_confW4!R9:EM33/2^4, 0))","v":-53},{"$f":"IF(im2colAll_confW4!S9:EN33 > 0, ROUNDDOWN(im2colAll_confW4!S9:EN33/2^4, 0), ROUNDUP(im2colAll_confW4!S9:EN33/2^4, 0))","v":50},{"$f":"IF(im2colAll_confW4!T9:EO33 > 0, ROUNDDOWN(im2colAll_confW4!T9:EO33/2^4, 0), ROUNDUP(im2colAll_confW4!T9:EO33/2^4, 0))","v":-49},{"$f":"IF(im2colAll_confW4!U9:EP33 > 0, ROUNDDOWN(im2colAll_confW4!U9:EP33/2^4, 0), ROUNDUP(im2colAll_confW4!U9:EP33/2^4, 0))","v":-36},{"$f":"IF(im2colAll_confW4!V9:EQ33 > 0, ROUNDDOWN(im2colAll_confW4!V9:EQ33/2^4, 0), ROUNDUP(im2colAll_confW4!V9:EQ33/2^4, 0))","v":226},{"$f":"IF(im2colAll_confW4!W9:ER33 > 0, ROUNDDOWN(im2colAll_confW4!W9:ER33/2^4, 0), ROUNDUP(im2colAll_confW4!W9:ER33/2^4, 0))","v":-46},{"$f":"IF(im2colAll_confW4!X9:ES33 > 0, ROUNDDOWN(im2colAll_confW4!X9:ES33/2^4, 0), ROUNDUP(im2colAll_confW4!X9:ES33/2^4, 0))","v":3},{"$f":"IF(im2colAll_confW4!Y9:ET33 > 0, ROUNDDOWN(im2colAll_confW4!Y9:ET33/2^4, 0), ROUNDUP(im2colAll_confW4!Y9:ET33/2^4, 0))","v":-45},{"$f":"IF(im2colAll_confW4!Z9:EU33 > 0, ROUNDDOWN(im2colAll_confW4!Z9:EU33/2^4, 0), ROUNDUP(im2colAll_confW4!Z9:EU33/2^4, 0))","v":-8},{"$f":"IF(im2colAll_confW4!AA9:EV33 > 0, ROUNDDOWN(im2colAll_confW4!AA9:EV33/2^4, 0), ROUNDUP(im2colAll_confW4!AA9:EV33/2^4, 0))","v":-73},{"$f":"IF(im2colAll_confW4!AB9:EW33 > 0, ROUNDDOWN(im2colAll_confW4!AB9:EW33/2^4, 0), ROUNDUP(im2colAll_confW4!AB9:EW33/2^4, 0))","v":-48},{"$f":"IF(im2colAll_confW4!AC9:EX33 > 0, ROUNDDOWN(im2colAll_confW4!AC9:EX33/2^4, 0), ROUNDUP(im2colAll_confW4!AC9:EX33/2^4, 0))","v":21},{"$f":"IF(im2colAll_confW4!AD9:EY33 > 0, ROUNDDOWN(im2colAll_confW4!AD9:EY33/2^4, 0), ROUNDUP(im2colAll_confW4!AD9:EY33/2^4, 0))","v":-95},{"$f":"IF(im2colAll_confW4!AE9:EZ33 > 0, ROUNDDOWN(im2colAll_confW4!AE9:EZ33/2^4, 0), ROUNDUP(im2colAll_confW4!AE9:EZ33/2^4, 0))","v":-15},{"$f":"IF(im2colAll_confW4!AF9:FA33 > 0, ROUNDDOWN(im2colAll_confW4!AF9:FA33/2^4, 0), ROUNDUP(im2colAll_confW4!AF9:FA33/2^4, 0))","v":14},{"$f":"IF(im2colAll_confW4!AG9:FB33 > 0, ROUNDDOWN(im2colAll_confW4!AG9:FB33/2^4, 0), ROUNDUP(im2colAll_confW4!AG9:FB33/2^4, 0))","v":17},{"$f":"IF(im2colAll_confW4!AH9:FC33 > 0, ROUNDDOWN(im2colAll_confW4!AH9:FC33/2^4, 0), ROUNDUP(im2colAll_confW4!AH9:FC33/2^4, 0))","v":4},{"$f":"IF(im2colAll_confW4!AI9:FD33 > 0, ROUNDDOWN(im2colAll_confW4!AI9:FD33/2^4, 0), ROUNDUP(im2colAll_confW4!AI9:FD33/2^4, 0))","v":20},{"$f":"IF(im2colAll_confW4!AJ9:FE33 > 0, ROUNDDOWN(im2colAll_confW4!AJ9:FE33/2^4, 0), ROUNDUP(im2colAll_confW4!AJ9:FE33/2^4, 0))","v":7},{"$f":"IF(im2colAll_confW4!AK9:FF33 > 0, ROUNDDOWN(im2colAll_confW4!AK9:FF33/2^4, 0), ROUNDUP(im2colAll_confW4!AK9:FF33/2^4, 0))","v":115},{"$f":"IF(im2colAll_confW4!AL9:FG33 > 0, ROUNDDOWN(im2colAll_confW4!AL9:FG33/2^4, 0), ROUNDUP(im2colAll_confW4!AL9:FG33/2^4, 0))","v":-15},{"$f":"IF(im2colAll_confW4!AM9:FH33 > 0, ROUNDDOWN(im2colAll_confW4!AM9:FH33/2^4, 0), ROUNDUP(im2colAll_confW4!AM9:FH33/2^4, 0))","v":-70},{"$f":"IF(im2colAll_confW4!AN9:FI33 > 0, ROUNDDOWN(im2colAll_confW4!AN9:FI33/2^4, 0), ROUNDUP(im2colAll_confW4!AN9:FI33/2^4, 0))","v":19},{"$f":"IF(im2colAll_confW4!AO9:FJ33 > 0, ROUNDDOWN(im2colAll_confW4!AO9:FJ33/2^4, 0), ROUNDUP(im2colAll_confW4!AO9:FJ33/2^4, 0))","v":-35},{"$f":"IF(im2colAll_confW4!AP9:FK33 > 0, ROUNDDOWN(im2colAll_confW4!AP9:FK33/2^4, 0), ROUNDUP(im2colAll_confW4!AP9:FK33/2^4, 0))","v":-44},{"$f":"IF(im2colAll_confW4!AQ9:FL33 > 0, ROUNDDOWN(im2colAll_confW4!AQ9:FL33/2^4, 0), ROUNDUP(im2colAll_confW4!AQ9:FL33/2^4, 0))","v":196},{"$f":"IF(im2colAll_confW4!AR9:FM33 > 0, ROUNDDOWN(im2colAll_confW4!AR9:FM33/2^4, 0), ROUNDUP(im2colAll_confW4!AR9:FM33/2^4, 0))","v":-51},{"$f":"IF(im2colAll_confW4!AS9:FN33 > 0, ROUNDDOWN(im2colAll_confW4!AS9:FN33/2^4, 0), ROUNDUP(im2colAll_confW4!AS9:FN33/2^4, 0))","v":-14},{"$f":"IF(im2colAll_confW4!AT9:FO33 > 0, ROUNDDOWN(im2colAll_confW4!AT9:FO33/2^4, 0), ROUNDUP(im2colAll_confW4!AT9:FO33/2^4, 0))","v":-60},{"$f":"IF(im2colAll_confW4!AU9:FP33 > 0, ROUNDDOWN(im2colAll_confW4!AU9:FP33/2^4, 0), ROUNDUP(im2colAll_confW4!AU9:FP33/2^4, 0))","v":-19},{"$f":"IF(im2colAll_confW4!AV9:FQ33 > 0, ROUNDDOWN(im2colAll_confW4!AV9:FQ33/2^4, 0), ROUNDUP(im2colAll_confW4!AV9:FQ33/2^4, 0))","v":-64},{"$f":"IF(im2colAll_confW4!AW9:FR33 > 0, ROUNDDOWN(im2colAll_confW4!AW9:FR33/2^4, 0), ROUNDUP(im2colAll_confW4!AW9:FR33/2^4, 0))","v":-42},{"$f":"IF(im2colAll_confW4!AX9:FS33 > 0, ROUNDDOWN(im2colAll_confW4!AX9:FS33/2^4, 0), ROUNDUP(im2colAll_confW4!AX9:FS33/2^4, 0))","v":16},{"$f":"IF(im2colAll_confW4!AY9:FT33 > 0, ROUNDDOWN(im2colAll_confW4!AY9:FT33/2^4, 0), ROUNDUP(im2colAll_confW4!AY9:FT33/2^4, 0))","v":-81},{"$f":"IF(im2colAll_confW4!AZ9:FU33 > 0, ROUNDDOWN(im2colAll_confW4!AZ9:FU33/2^4, 0), ROUNDUP(im2colAll_confW4!AZ9:FU33/2^4, 0))","v":-27},{"$f":"IF(im2colAll_confW4!BA9:FV33 > 0, ROUNDDOWN(im2colAll_confW4!BA9:FV33/2^4, 0), ROUNDUP(im2colAll_confW4!BA9:FV33/2^4, 0))","v":-4},{"$f":"IF(im2colAll_confW4!BB9:FW33 > 0, ROUNDDOWN(im2colAll_confW4!BB9:FW33/2^4, 0), ROUNDUP(im2colAll_confW4!BB9:FW33/2^4, 0))","v":12},{"$f":"IF(im2colAll_confW4!BC9:FX33 > 0, ROUNDDOWN(im2colAll_confW4!BC9:FX33/2^4, 0), ROUNDUP(im2colAll_confW4!BC9:FX33/2^4, 0))","v":-5},{"$f":"IF(im2colAll_confW4!BD9:FY33 > 0, ROUNDDOWN(im2colAll_confW4!BD9:FY33/2^4, 0), ROUNDUP(im2colAll_confW4!BD9:FY33/2^4, 0))","v":30},{"$f":"IF(im2colAll_confW4!BE9:FZ33 > 0, ROUNDDOWN(im2colAll_confW4!BE9:FZ33/2^4, 0), ROUNDUP(im2colAll_confW4!BE9:FZ33/2^4, 0))","v":9},{"$f":"IF(im2colAll_confW4!BF9:GA33 > 0, ROUNDDOWN(im2colAll_confW4!BF9:GA33/2^4, 0), ROUNDUP(im2colAll_confW4!BF9:GA33/2^4, 0))","v":113},{"$f":"IF(im2colAll_confW4!BG9:GB33 > 0, ROUNDDOWN(im2colAll_confW4!BG9:GB33/2^4, 0), ROUNDUP(im2colAll_confW4!BG9:GB33/2^4, 0))","v":-45},{"$f":"IF(im2colAll_confW4!BH9:GC33 > 0, ROUNDDOWN(im2colAll_confW4!BH9:GC33/2^4, 0), ROUNDUP(im2colAll_confW4!BH9:GC33/2^4, 0))","v":-50},{"$f":"IF(im2colAll_confW4!BI9:GD33 > 0, ROUNDDOWN(im2colAll_confW4!BI9:GD33/2^4, 0), ROUNDUP(im2colAll_confW4!BI9:GD33/2^4, 0))","v":42},{"$f":"IF(im2colAll_confW4!BJ9:GE33 > 0, ROUNDDOWN(im2colAll_confW4!BJ9:GE33/2^4, 0), ROUNDUP(im2colAll_confW4!BJ9:GE33/2^4, 0))","v":-45},{"$f":"IF(im2colAll_confW4!BK9:GF33 > 0, ROUNDDOWN(im2colAll_confW4!BK9:GF33/2^4, 0), ROUNDUP(im2colAll_confW4!BK9:GF33/2^4, 0))","v":-37},{"$f":"IF(im2colAll_confW4!BL9:GG33 > 0, ROUNDDOWN(im2colAll_confW4!BL9:GG33/2^4, 0), ROUNDUP(im2colAll_confW4!BL9:GG33/2^4, 0))","v":216},{"$f":"IF(im2colAll_confW4!BM9:GH33 > 0, ROUNDDOWN(im2colAll_confW4!BM9:GH33/2^4, 0), ROUNDUP(im2colAll_confW4!BM9:GH33/2^4, 0))","v":-46},{"$f":"IF(im2colAll_confW4!BN9:GI33 > 0, ROUNDDOWN(im2colAll_confW4!BN9:GI33/2^4, 0), ROUNDUP(im2colAll_confW4!BN9:GI33/2^4, 0))","v":7},{"$f":"IF(im2colAll_confW4!BO9:GJ33 > 0, ROUNDDOWN(im2colAll_confW4!BO9:GJ33/2^4, 0), ROUNDUP(im2colAll_confW4!BO9:GJ33/2^4, 0))","v":-40},{"$f":"IF(im2colAll_confW4!BP9:GK33 > 0, ROUNDDOWN(im2colAll_confW4!BP9:GK33/2^4, 0), ROUNDUP(im2colAll_confW4!BP9:GK33/2^4, 0))","v":-36},{"$f":"IF(im2colAll_confW4!BQ9:GL33 > 0, ROUNDDOWN(im2colAll_confW4!BQ9:GL33/2^4, 0), ROUNDUP(im2colAll_confW4!BQ9:GL33/2^4, 0))","v":-45},{"$f":"IF(im2colAll_confW4!BR9:GM33 > 0, ROUNDDOWN(im2colAll_confW4!BR9:GM33/2^4, 0), ROUNDUP(im2colAll_confW4!BR9:GM33/2^4, 0))","v":-53},{"$f":"IF(im2colAll_confW4!BS9:GN33 > 0, ROUNDDOWN(im2colAll_confW4!BS9:GN33/2^4, 0), ROUNDUP(im2colAll_confW4!BS9:GN33/2^4, 0))","v":25},{"$f":"IF(im2colAll_confW4!BT9:GO33 > 0, ROUNDDOWN(im2colAll_confW4!BT9:GO33/2^4, 0), ROUNDUP(im2colAll_confW4!BT9:GO33/2^4, 0))","v":-67},{"$f":"IF(im2colAll_confW4!BU9:GP33 > 0, ROUNDDOWN(im2colAll_confW4!BU9:GP33/2^4, 0), ROUNDUP(im2colAll_confW4!BU9:GP33/2^4, 0))","v":12},{"$f":"IF(im2colAll_confW4!BV9:GQ33 > 0, ROUNDDOWN(im2colAll_confW4!BV9:GQ33/2^4, 0), ROUNDUP(im2colAll_confW4!BV9:GQ33/2^4, 0))","v":4},{"$f":"IF(im2colAll_confW4!BW9:GR33 > 0, ROUNDDOWN(im2colAll_confW4!BW9:GR33/2^4, 0), ROUNDUP(im2colAll_confW4!BW9:GR33/2^4, 0))","v":-20},{"$f":"IF(im2colAll_confW4!BX9:GS33 > 0, ROUNDDOWN(im2colAll_confW4!BX9:GS33/2^4, 0), ROUNDUP(im2colAll_confW4!BX9:GS33/2^4, 0))","v":22},{"$f":"IF(im2colAll_confW4!BY9:GT33 > 0, ROUNDDOWN(im2colAll_confW4!BY9:GT33/2^4, 0), ROUNDUP(im2colAll_confW4!BY9:GT33/2^4, 0))","v":17},{"$f":"IF(im2colAll_confW4!BZ9:GU33 > 0, ROUNDDOWN(im2colAll_confW4!BZ9:GU33/2^4, 0), ROUNDUP(im2colAll_confW4!BZ9:GU33/2^4, 0))","v":-10},{"$f":"IF(im2colAll_confW4!CA9:GV33 > 0, ROUNDDOWN(im2colAll_confW4!CA9:GV33/2^4, 0), ROUNDUP(im2colAll_confW4!CA9:GV33/2^4, 0))","v":134},{"$f":"IF(im2colAll_confW4!CB9:GW33 > 0, ROUNDDOWN(im2colAll_confW4!CB9:GW33/2^4, 0), ROUNDUP(im2colAll_confW4!CB9:GW33/2^4, 0))","v":-8},{"$f":"IF(im2colAll_confW4!CC9:GX33 > 0, ROUNDDOWN(im2colAll_confW4!CC9:GX33/2^4, 0), ROUNDUP(im2colAll_confW4!CC9:GX33/2^4, 0))","v":-54},{"$f":"IF(im2colAll_confW4!CD9:GY33 > 0, ROUNDDOWN(im2colAll_confW4!CD9:GY33/2^4, 0), ROUNDUP(im2colAll_confW4!CD9:GY33/2^4, 0))","v":9},{"$f":"IF(im2colAll_confW4!CE9:GZ33 > 0, ROUNDDOWN(im2colAll_confW4!CE9:GZ33/2^4, 0), ROUNDUP(im2colAll_confW4!CE9:GZ33/2^4, 0))","v":-47},{"$f":"IF(im2colAll_confW4!CF9:HA33 > 0, ROUNDDOWN(im2colAll_confW4!CF9:HA33/2^4, 0), ROUNDUP(im2colAll_confW4!CF9:HA33/2^4, 0))","v":-34},{"$f":"IF(im2colAll_confW4!CG9:HB33 > 0, ROUNDDOWN(im2colAll_confW4!CG9:HB33/2^4, 0), ROUNDUP(im2colAll_confW4!CG9:HB33/2^4, 0))","v":192},{"$f":"IF(im2colAll_confW4!CH9:HC33 > 0, ROUNDDOWN(im2colAll_confW4!CH9:HC33/2^4, 0), ROUNDUP(im2colAll_confW4!CH9:HC33/2^4, 0))","v":-31},{"$f":"IF(im2colAll_confW4!CI9:HD33 > 0, ROUNDDOWN(im2colAll_confW4!CI9:HD33/2^4, 0), ROUNDUP(im2colAll_confW4!CI9:HD33/2^4, 0))","v":5},{"$f":"IF(im2colAll_confW4!CJ9:HE33 > 0, ROUNDDOWN(im2colAll_confW4!CJ9:HE33/2^4, 0), ROUNDUP(im2colAll_confW4!CJ9:HE33/2^4, 0))","v":-38},{"$f":"IF(im2colAll_confW4!CK9:HF33 > 0, ROUNDDOWN(im2colAll_confW4!CK9:HF33/2^4, 0), ROUNDUP(im2colAll_confW4!CK9:HF33/2^4, 0))","v":-1},{"$f":"IF(im2colAll_confW4!CL9:HG33 > 0, ROUNDDOWN(im2colAll_confW4!CL9:HG33/2^4, 0), ROUNDUP(im2colAll_confW4!CL9:HG33/2^4, 0))","v":-38},{"$f":"IF(im2colAll_confW4!CM9:HH33 > 0, ROUNDDOWN(im2colAll_confW4!CM9:HH33/2^4, 0), ROUNDUP(im2colAll_confW4!CM9:HH33/2^4, 0))","v":-42},{"$f":"IF(im2colAll_confW4!CN9:HI33 > 0, ROUNDDOWN(im2colAll_confW4!CN9:HI33/2^4, 0), ROUNDUP(im2colAll_confW4!CN9:HI33/2^4, 0))","v":21},{"$f":"IF(im2colAll_confW4!CO9:HJ33 > 0, ROUNDDOWN(im2colAll_confW4!CO9:HJ33/2^4, 0), ROUNDUP(im2colAll_confW4!CO9:HJ33/2^4, 0))","v":-44},{"$f":"IF(im2colAll_confW4!CP9:HK33 > 0, ROUNDDOWN(im2colAll_confW4!CP9:HK33/2^4, 0), ROUNDUP(im2colAll_confW4!CP9:HK33/2^4, 0))","v":7},{"$f":"IF(im2colAll_confW4!CQ9:HL33 > 0, ROUNDDOWN(im2colAll_confW4!CQ9:HL33/2^4, 0), ROUNDUP(im2colAll_confW4!CQ9:HL33/2^4, 0))","v":12},{"$f":"IF(im2colAll_confW4!CR9:HM33 > 0, ROUNDDOWN(im2colAll_confW4!CR9:HM33/2^4, 0), ROUNDUP(im2colAll_confW4!CR9:HM33/2^4, 0))","v":31},{"$f":"IF(im2colAll_confW4!CS9:HN33 > 0, ROUNDDOWN(im2colAll_confW4!CS9:HN33/2^4, 0), ROUNDUP(im2colAll_confW4!CS9:HN33/2^4, 0))","v":0},{"$f":"IF(im2colAll_confW4!CT9:HO33 > 0, ROUNDDOWN(im2colAll_confW4!CT9:HO33/2^4, 0), ROUNDUP(im2colAll_confW4!CT9:HO33/2^4, 0))","v":39},{"$f":"IF(im2colAll_confW4!CU9:HP33 > 0, ROUNDDOWN(im2colAll_confW4!CU9:HP33/2^4, 0), ROUNDUP(im2colAll_confW4!CU9:HP33/2^4, 0))","v":23},{"$f":"IF(im2colAll_confW4!CV9:HQ33 > 0, ROUNDDOWN(im2colAll_confW4!CV9:HQ33/2^4, 0), ROUNDUP(im2colAll_confW4!CV9:HQ33/2^4, 0))","v":90},{"$f":"IF(im2colAll_confW4!CW9:HR33 > 0, ROUNDDOWN(im2colAll_confW4!CW9:HR33/2^4, 0), ROUNDUP(im2colAll_confW4!CW9:HR33/2^4, 0))","v":-33},{"$f":"IF(im2colAll_confW4!CX9:HS33 > 0, ROUNDDOWN(im2colAll_confW4!CX9:HS33/2^4, 0), ROUNDUP(im2colAll_confW4!CX9:HS33/2^4, 0))","v":-44},{"$f":"IF(im2colAll_confW4!CY9:HT33 > 0, ROUNDDOWN(im2colAll_confW4!CY9:HT33/2^4, 0), ROUNDUP(im2colAll_confW4!CY9:HT33/2^4, 0))","v":48},{"$f":"IF(im2colAll_confW4!CZ9:HU33 > 0, ROUNDDOWN(im2colAll_confW4!CZ9:HU33/2^4, 0), ROUNDUP(im2colAll_confW4!CZ9:HU33/2^4, 0))","v":-21},{"$f":"IF(im2colAll_confW4!DA9:HV33 > 0, ROUNDDOWN(im2colAll_confW4!DA9:HV33/2^4, 0), ROUNDUP(im2colAll_confW4!DA9:HV33/2^4, 0))","v":-31},{"$f":"IF(im2colAll_confW4!DB9:HW33 > 0, ROUNDDOWN(im2colAll_confW4!DB9:HW33/2^4, 0), ROUNDUP(im2colAll_confW4!DB9:HW33/2^4, 0))","v":197},{"$f":"IF(im2colAll_confW4!DC9:HX33 > 0, ROUNDDOWN(im2colAll_confW4!DC9:HX33/2^4, 0), ROUNDUP(im2colAll_confW4!DC9:HX33/2^4, 0))","v":-31},{"$f":"IF(im2colAll_confW4!DD9:HY33 > 0, ROUNDDOWN(im2colAll_confW4!DD9:HY33/2^4, 0), ROUNDUP(im2colAll_confW4!DD9:HY33/2^4, 0))","v":-26},{"$f":"IF(im2colAll_confW4!DE9:HZ33 > 0, ROUNDDOWN(im2colAll_confW4!DE9:HZ33/2^4, 0), ROUNDUP(im2colAll_confW4!DE9:HZ33/2^4, 0))","v":-38},{"$f":"IF(im2colAll_confW4!DF9:IA33 > 0, ROUNDDOWN(im2colAll_confW4!DF9:IA33/2^4, 0), ROUNDUP(im2colAll_confW4!DF9:IA33/2^4, 0))","v":-45},{"$f":"IF(im2colAll_confW4!DG9:IB33 > 0, ROUNDDOWN(im2colAll_confW4!DG9:IB33/2^4, 0), ROUNDUP(im2colAll_confW4!DG9:IB33/2^4, 0))","v":-54},{"$f":"IF(im2colAll_confW4!DH9:IC33 > 0, ROUNDDOWN(im2colAll_confW4!DH9:IC33/2^4, 0), ROUNDUP(im2colAll_confW4!DH9:IC33/2^4, 0))","v":-38},{"$f":"IF(im2colAll_confW4!DI9:ID33 > 0, ROUNDDOWN(im2colAll_confW4!DI9:ID33/2^4, 0), ROUNDUP(im2colAll_confW4!DI9:ID33/2^4, 0))","v":20},{"$f":"IF(im2colAll_confW4!DJ9:IE33 > 0, ROUNDDOWN(im2colAll_confW4!DJ9:IE33/2^4, 0), ROUNDUP(im2colAll_confW4!DJ9:IE33/2^4, 0))","v":-60},{"$f":"IF(im2colAll_confW4!DK9:IF33 > 0, ROUNDDOWN(im2colAll_confW4!DK9:IF33/2^4, 0), ROUNDUP(im2colAll_confW4!DK9:IF33/2^4, 0))","v":9},{"$f":"IF(im2colAll_confW4!DL9:IG33 > 0, ROUNDDOWN(im2colAll_confW4!DL9:IG33/2^4, 0), ROUNDUP(im2colAll_confW4!DL9:IG33/2^4, 0))","v":7},{"$f":"IF(im2colAll_confW4!DM9:IH33 > 0, ROUNDDOWN(im2colAll_confW4!DM9:IH33/2^4, 0), ROUNDUP(im2colAll_confW4!DM9:IH33/2^4, 0))","v":-7},{"$f":"IF(im2colAll_confW4!DN9:II33 > 0, ROUNDDOWN(im2colAll_confW4!DN9:II33/2^4, 0), ROUNDUP(im2colAll_confW4!DN9:II33/2^4, 0))","v":5},{"$f":"IF(im2colAll_confW4!DO9:IJ33 > 0, ROUNDDOWN(im2colAll_confW4!DO9:IJ33/2^4, 0), ROUNDUP(im2colAll_confW4!DO9:IJ33/2^4, 0))","v":31},{"$f":"IF(im2colAll_confW4!DP9:IK33 > 0, ROUNDDOWN(im2colAll_confW4!DP9:IK33/2^4, 0), ROUNDUP(im2colAll_confW4!DP9:IK33/2^4, 0))","v":-5},{"$f":"IF(im2colAll_confW4!DQ9:IL33 > 0, ROUNDDOWN(im2colAll_confW4!DQ9:IL33/2^4, 0), ROUNDUP(im2colAll_confW4!DQ9:IL33/2^4, 0))","v":117},{"$f":"IF(im2colAll_confW4!DR9:IM33 > 0, ROUNDDOWN(im2colAll_confW4!DR9:IM33/2^4, 0), ROUNDUP(im2colAll_confW4!DR9:IM33/2^4, 0))","v":-16},{"$f":"IF(im2colAll_confW4!DS9:IN33 > 0, ROUNDDOWN(im2colAll_confW4!DS9:IN33/2^4, 0), ROUNDUP(im2colAll_confW4!DS9:IN33/2^4, 0))","v":-35},{"$f":"IF(im2colAll_confW4!DT9:IO33 > 0, ROUNDDOWN(im2colAll_confW4!DT9:IO33/2^4, 0), ROUNDUP(im2colAll_confW4!DT9:IO33/2^4, 0))","v":17},{"$f":"IF(im2colAll_confW4!DU9:IP33 > 0, ROUNDDOWN(im2colAll_confW4!DU9:IP33/2^4, 0), ROUNDUP(im2colAll_confW4!DU9:IP33/2^4, 0))","v":-39},{"$f":"IF(im2colAll_confW4!DV9:IQ33 > 0, ROUNDDOWN(im2colAll_confW4!DV9:IQ33/2^4, 0), ROUNDUP(im2colAll_confW4!DV9:IQ33/2^4, 0))","v":-45}]
[{"$f":"IF(im2colAll_confW4!A10:DV34 > 0, ROUNDDOWN(im2colAll_confW4!A10:DV34/2^4, 0), ROUNDUP(im2colAll_confW4!A10:DV34/2^4, 0))","v":127},{"$f":"IF(im2colAll_confW4!B10:DW34 > 0, ROUNDDOWN(im2colAll_confW4!B10:DW34/2^4, 0), ROUNDUP(im2colAll_confW4!B10:DW34/2^4, 0))","v":-18},{"$f":"IF(im2colAll_confW4!C10:DX34 > 0, ROUNDDOWN(im2colAll_confW4!C10:DX34/2^4, 0), ROUNDUP(im2colAll_confW4!C10:DX34/2^4, 0))","v":-6},{"$f":"IF(im2colAll_confW4!D10:DY34 > 0, ROUNDDOWN(im2colAll_confW4!D10:DY34/2^4, 0), ROUNDUP(im2colAll_confW4!D10:DY34/2^4, 0))","v":-29},{"$f":"IF(im2colAll_confW4!E10:DZ34 > 0, ROUNDDOWN(im2colAll_confW4!E10:DZ34/2^4, 0), ROUNDUP(im2colAll_confW4!E10:DZ34/2^4, 0))","v":-2},{"$f":"IF(im2colAll_confW4!F10:EA34 > 0, ROUNDDOWN(im2colAll_confW4!F10:EA34/2^4, 0), ROUNDUP(im2colAll_confW4!F10:EA34/2^4, 0))","v":-31},{"$f":"IF(im2colAll_confW4!G10:EB34 > 0, ROUNDDOWN(im2colAll_confW4!G10:EB34/2^4, 0), ROUNDUP(im2colAll_confW4!G10:EB34/2^4, 0))","v":-19},{"$f":"IF(im2colAll_confW4!H10:EC34 > 0, ROUNDDOWN(im2colAll_confW4!H10:EC34/2^4, 0), ROUNDUP(im2colAll_confW4!H10:EC34/2^4, 0))","v":11},{"$f":"IF(im2colAll_confW4!I10:ED34 > 0, ROUNDDOWN(im2colAll_confW4!I10:ED34/2^4, 0), ROUNDUP(im2colAll_confW4!I10:ED34/2^4, 0))","v":-30},{"$f":"IF(im2colAll_confW4!J10:EE34 > 0, ROUNDDOWN(im2colAll_confW4!J10:EE34/2^4, 0), ROUNDUP(im2colAll_confW4!J10:EE34/2^4, 0))","v":23},{"$f":"IF(im2colAll_confW4!K10:EF34 > 0, ROUNDDOWN(im2colAll_confW4!K10:EF34/2^4, 0), ROUNDUP(im2colAll_confW4!K10:EF34/2^4, 0))","v":-3},{"$f":"IF(im2colAll_confW4!L10:EG34 > 0, ROUNDDOWN(im2colAll_confW4!L10:EG34/2^4, 0), ROUNDUP(im2colAll_confW4!L10:EG34/2^4, 0))","v":1},{"$f":"IF(im2colAll_confW4!M10:EH34 > 0, ROUNDDOWN(im2colAll_confW4!M10:EH34/2^4, 0), ROUNDUP(im2colAll_confW4!M10:EH34/2^4, 0))","v":11},{"$f":"IF(im2colAll_confW4!N10:EI34 > 0, ROUNDDOWN(im2colAll_confW4!N10:EI34/2^4, 0), ROUNDUP(im2colAll_confW4!N10:EI34/2^4, 0))","v":9},{"$f":"IF(im2colAll_confW4!O10:EJ34 > 0, ROUNDDOWN(im2colAll_confW4!O10:EJ34/2^4, 0), ROUNDUP(im2colAll_confW4!O10:EJ34/2^4, 0))","v":-15},{"$f":"IF(im2colAll_confW4!P10:EK34 > 0, ROUNDDOWN(im2colAll_confW4!P10:EK34/2^4, 0), ROUNDUP(im2colAll_confW4!P10:EK34/2^4, 0))","v":63},{"$f":"IF(im2colAll_confW4!Q10:EL34 > 0, ROUNDDOWN(im2colAll_confW4!Q10:EL34/2^4, 0), ROUNDUP(im2colAll_confW4!Q10:EL34/2^4, 0))","v":-11},{"$f":"IF(im2colAll_confW4!R10:EM34 > 0, ROUNDDOWN(im2colAll_confW4!R10:EM34/2^4, 0), ROUNDUP(im2colAll_confW4!R10:EM34/2^4, 0))","v":-23},{"$f":"IF(im2colAll_confW4!S10:EN34 > 0, ROUNDDOWN(im2colAll_confW4!S10:EN34/2^4, 0), ROUNDUP(im2colAll_confW4!S10:EN34/2^4, 0))","v":16},{"$f":"IF(im2colAll_confW4!T10:EO34 > 0, ROUNDDOWN(im2colAll_confW4!T10:EO34/2^4, 0), ROUNDUP(im2colAll_confW4!T10:EO34/2^4, 0))","v":-30},{"$f":"IF(im2colAll_confW4!U10:EP34 > 0, ROUNDDOWN(im2colAll_confW4!U10:EP34/2^4, 0), ROUNDUP(im2colAll_confW4!U10:EP34/2^4, 0))","v":-10},{"$f":"IF(im2colAll_confW4!V10:EQ34 > 0, ROUNDDOWN(im2colAll_confW4!V10:EQ34/2^4, 0), ROUNDUP(im2colAll_confW4!V10:EQ34/2^4, 0))","v":133},{"$f":"IF(im2colAll_confW4!W10:ER34 > 0, ROUNDDOWN(im2colAll_confW4!W10:ER34/2^4, 0), ROUNDUP(im2colAll_confW4!W10:ER34/2^4, 0))","v":-37},{"$f":"IF(im2colAll_confW4!X10:ES34 > 0, ROUNDDOWN(im2colAll_confW4!X10:ES34/2^4, 0), ROUNDUP(im2colAll_confW4!X10:ES34/2^4, 0))","v":-8},{"$f":"IF(im2colAll_confW4!Y10:ET34 > 0, ROUNDDOWN(im2colAll_confW4!Y10:ET34/2^4, 0), ROUNDUP(im2colAll_confW4!Y10:ET34/2^4, 0))","v":-22},{"$f":"IF(im2colAll_confW4!Z10:EU34 > 0, ROUNDDOWN(im2colAll_confW4!Z10:EU34/2^4, 0), ROUNDUP(im2colAll_confW4!Z10:EU34/2^4, 0))","v":-4},{"$f":"IF(im2colAll_confW4!AA10:EV34 > 0, ROUNDDOWN(im2colAll_confW4!AA10:EV34/2^4, 0), ROUNDUP(im2colAll_confW4!AA10:EV34/2^4, 0))","v":-45},{"$f":"IF(im2colAll_confW4!AB10:EW34 > 0, ROUNDDOWN(im2colAll_confW4!AB10:EW34/2^4, 0), ROUNDUP(im2colAll_confW4!AB10:EW34/2^4, 0))","v":-31},{"$f":"IF(im2colAll_confW4!AC10:EX34 > 0, ROUNDDOWN(im2colAll_confW4!AC10:EX34/2^4, 0), ROUNDUP(im2colAll_confW4!AC10:EX34/2^4, 0))","v":14},{"$f":"IF(im2colAll_confW4!AD10:EY34 > 0, ROUNDDOWN(im2colAll_confW4!AD10:EY34/2^4, 0), ROUNDUP(im2colAll_confW4!AD10:EY34/2^4, 0))","v":-47},{"$f":"IF(im2colAll_confW4!AE10:EZ34 > 0, ROUNDDOWN(im2colAll_confW4!AE10:EZ34/2^4, 0), ROUNDUP(im2colAll_confW4!AE10:EZ34/2^4, 0))","v":-5},{"$f":"IF(im2colAll_confW4!AF10:FA34 > 0, ROUNDDOWN(im2colAll_confW4!AF10:FA34/2^4, 0), ROUNDUP(im2colAll_confW4!AF10:FA34/2^4, 0))","v":2},{"$f":"IF(im2colAll_confW4!AG10:FB34 > 0, ROUNDDOWN(im2colAll_confW4!AG10:FB34/2^4, 0), ROUNDUP(im2colAll_confW4!AG10:FB34/2^4, 0))","v":3},{"$f":"IF(im2colAll_confW4!AH10:FC34 > 0, ROUNDDOWN(im2colAll_confW4!AH10:FC34/2^4, 0), ROUNDUP(im2colAll_confW4!AH10:FC34/2^4, 0))","v":11},{"$f":"IF(im2colAll_confW4!AI10:FD34 > 0, ROUNDDOWN(im2colAll_confW4!AI10:FD34/2^4, 0), ROUNDUP(im2colAll_confW4!AI10:FD34/2^4, 0))","v":2},{"$f":"IF(im2colAll_confW4!AJ10:FE34 > 0, ROUNDDOWN(im2colAll_confW4!AJ10:FE34/2^4, 0), ROUNDUP(im2colAll_confW4!AJ10:FE34/2^4, 0))","v":-9},{"$f":"IF(im2colAll_confW4!AK10:FF34 > 0, ROUNDDOWN(im2colAll_confW4!AK10:FF34/2^4, 0), ROUNDUP(im2colAll_confW4!AK10:FF34/2^4, 0))","v":74},{"$f":"IF(im2colAll_confW4!AL10:FG34 > 0, ROUNDDOWN(im2colAll_confW4!AL10:FG34/2^4, 0), ROUNDUP(im2colAll_confW4!AL10:FG34/2^4, 0))","v":5},{"$f":"IF(im2colAll_confW4!AM10:FH34 > 0, ROUNDDOWN(im2colAll_confW4!AM10:FH34/2^4, 0), ROUNDUP(im2colAll_confW4!AM10:FH34/2^4, 0))","v":-22},{"$f":"IF(im2colAll_confW4!AN10:FI34 > 0, ROUNDDOWN(im2colAll_confW4!AN10:FI34/2^4, 0), ROUNDUP(im2colAll_confW4!AN10:FI34/2^4, 0))","v":0},{"$f":"IF(im2colAll_confW4!AO10:FJ34 > 0, ROUNDDOWN(im2colAll_confW4!AO10:FJ34/2^4, 0), ROUNDUP(im2colAll_confW4!AO10:FJ34/2^4, 0))","v":-29},{"$f":"IF(im2colAll_confW4!AP10:FK34 > 0, ROUNDDOWN(im2colAll_confW4!AP10:FK34/2^4, 0), ROUNDUP(im2colAll_confW4!AP10:FK34/2^4, 0))","v":-32},{"$f":"IF(im2colAll_confW4!AQ10:FL34 > 0, ROUNDDOWN(im2colAll_confW4!AQ10:FL34/2^4, 0), ROUNDUP(im2colAll_confW4!AQ10:FL34/2^4, 0))","v":116},{"$f":"IF(im2colAll_confW4!AR10:FM34 > 0, ROUNDDOWN(im2colAll_confW4!AR10:FM34/2^4, 0), ROUNDUP(im2colAll_confW4!AR10:FM34/2^4, 0))","v":-34},{"$f":"IF(im2colAll_confW4!AS10:FN34 > 0, ROUNDDOWN(im2colAll_confW4!AS10:FN34/2^4, 0), ROUNDUP(im2colAll_confW4!AS10:FN34/2^4, 0))","v":-7},{"$f":"IF(im2colAll_confW4!AT10:FO34 > 0, ROUNDDOWN(im2colAll_confW4!AT10:FO34/2^4, 0), ROUNDUP(im2colAll_confW4!AT10:FO34/2^4, 0))","v":-43},{"$f":"IF(im2colAll_confW4!AU10:FP34 > 0, ROUNDDOWN(im2colAll_confW4!AU10:FP34/2^4, 0), ROUNDUP(im2colAll_confW4!AU10:FP34/2^4, 0))","v":-10},{"$f":"IF(im2colAll_confW4!AV10:FQ34 > 0, ROUNDDOWN(im2colAll_confW4!AV10:FQ34/2^4, 0), ROUNDUP(im2colAll_confW4!AV10:FQ34/2^4, 0))","v":-37},{"$f":"IF(im2colAll_confW4!AW10:FR34 > 0, ROUNDDOWN(im2colAll_confW4!AW10:FR34/2^4, 0), ROUNDUP(im2colAll_confW4!AW10:FR34/2^4, 0))","v":-27},{"$f":"IF(im2colAll_confW4!AX10:FS34 > 0, ROUNDDOWN(im2colAll_confW4!AX10:FS34/2^4, 0), ROUNDUP(im2colAll_confW4!AX10:FS34/2^4, 0))","v":1},{"$f":"IF(im2colAll_confW4!AY10:FT34 > 0, ROUNDDOWN(im2colAll_confW4!AY10:FT34/2^4, 0), ROUNDUP(im2colAll_confW4!AY10:FT34/2^4, 0))","v":-45},{"$f":"IF(im2colAll_confW4!AZ10:FU34 > 0, ROUNDDOWN(im2colAll_confW4!AZ10:FU34/2^4, 0), ROUNDUP(im2colAll_confW4!AZ10:FU34/2^4, 0))","v":-9},{"$f":"IF(im2colAll_confW4!BA10:FV34 > 0, ROUNDDOWN(im2colAll_confW4!BA10:FV34/2^4, 0), ROUNDUP(im2colAll_confW4!BA10:FV34/2^4, 0))","v":-6},{"$f":"IF(im2colAll_confW4!BB10:FW34 > 0, ROUNDDOWN(im2colAll_confW4!BB10:FW34/2^4, 0), ROUNDUP(im2colAll_confW4!BB10:FW34/2^4, 0))","v":21},{"$f":"IF(im2colAll_confW4!BC10:FX34 > 0, ROUNDDOWN(im2colAll_confW4!BC10:FX34/2^4, 0), ROUNDUP(im2colAll_confW4!BC10:FX34/2^4, 0))","v":-3},{"$f":"IF(im2colAll_confW4!BD10:FY34 > 0, ROUNDDOWN(im2colAll_confW4!BD10:FY34/2^4, 0), ROUNDUP(im2colAll_confW4!BD10:FY34/2^4, 0))","v":13},{"$f":"IF(im2colAll_confW4!BE10:FZ34 > 0, ROUNDDOWN(im2colAll_confW4!BE10:FZ34/2^4, 0), ROUNDUP(im2colAll_confW4!BE10:FZ34/2^4, 0))","v":9},{"$f":"IF(im2colAll_confW4!BF10:GA34 > 0, ROUNDDOWN(im2colAll_confW4!BF10:GA34/2^4, 0), ROUNDUP(im2colAll_confW4!BF10:GA34/2^4, 0))","v":44},{"$f":"IF(im2colAll_confW4!BG10:GB34 > 0, ROUNDDOWN(im2colAll_confW4!BG10:GB34/2^4, 0), ROUNDUP(im2colAll_confW4!BG10:GB34/2^4, 0))","v":-16},{"$f":"IF(im2colAll_confW4!BH10:GC34 > 0, ROUNDDOWN(im2colAll_confW4!BH10:GC34/2^4, 0), ROUNDUP(im2colAll_confW4!BH10:GC34/2^4, 0))","v":-24},{"$f":"IF(im2colAll_confW4!BI10:GD34 > 0, ROUNDDOWN(im2colAll_confW4!BI10:GD34/2^4, 0), ROUNDUP(im2colAll_confW4!BI10:GD34/2^4, 0))","v":17},{"$f":"IF(im2colAll_confW4!BJ10:GE34 > 0, ROUNDDOWN(im2colAll_confW4!BJ10:GE34/2^4, 0), ROUNDUP(im2colAll_confW4!BJ10:GE34/2^4, 0))","v":-24},{"$f":"IF(im2colAll_confW4!BK10:GF34 > 0, ROUNDDOWN(im2colAll_confW4!BK10:GF34/2^4, 0), ROUNDUP(im2colAll_confW4!BK10:GF34/2^4, 0))","v":-32},{"$f":"IF(im2colAll_confW4!BL10:GG34 > 0, ROUNDDOWN(im2colAll_confW4!BL10:GG34/2^4, 0), ROUNDUP(im2colAll_confW4!BL10:GG34/2^4, 0))","v":118},{"$f":"IF(im2colAll_confW4!BM10:GH34 > 0, ROUNDDOWN(im2colAll_confW4!BM10:GH34/2^4, 0), ROUNDUP(im2colAll_confW4!BM10:GH34/2^4, 0))","v":-30},{"$f":"IF(im2colAll_confW4!BN10:GI34 > 0, ROUNDDOWN(im2colAll_confW4!BN10:GI34/2^4, 0), ROUNDUP(im2colAll_confW4!BN10:GI34/2^4, 0))","v":1},{"$f":"IF(im2colAll_confW4!BO10:GJ34 > 0, ROUNDDOWN(im2colAll_confW4!BO10:GJ34/2^4, 0), ROUNDUP(im2colAll_confW4!BO10:GJ34/2^4, 0))","v":-13},{"$f":"IF(im2colAll_confW4!BP10:GK34 > 0, ROUNDDOWN(im2colAll_confW4!BP10:GK34/2^4, 0), ROUNDUP(im2colAll_confW4!BP10:GK34/2^4, 0))","v":-25},{"$f":"IF(im2colAll_confW4!BQ10:GL34 > 0, ROUNDDOWN(im2colAll_confW4!BQ10:GL34/2^4, 0), ROUNDUP(im2colAll_confW4!BQ10:GL34/2^4, 0))","v":-3},{"$f":"IF(im2colAll_confW4!BR10:GM34 > 0, ROUNDDOWN(im2colAll_confW4!BR10:GM34/2^4, 0), ROUNDUP(im2colAll_confW4!BR10:GM34/2^4, 0))","v":-36},{"$f":"IF(im2colAll_confW4!BS10:GN34 > 0, ROUNDDOWN(im2colAll_confW4!BS10:GN34/2^4, 0), ROUNDUP(im2colAll_confW4!BS10:GN34/2^4, 0))","v":5},{"$f":"IF(im2colAll_confW4!BT10:GO34 > 0, ROUNDDOWN(im2colAll_confW4!BT10:GO34/2^4, 0), ROUNDUP(im2colAll_confW4!BT10:GO34/2^4, 0))","v":-35},{"$f":"IF(im2colAll_confW4!BU10:GP34 > 0, ROUNDDOWN(im2colAll_confW4!BU10:GP34/2^4, 0), ROUNDUP(im2colAll_confW4!BU10:GP34/2^4, 0))","v":9},{"$f":"IF(im2colAll_confW4!BV10:GQ34 > 0, ROUNDDOWN(im2colAll_confW4!BV10:GQ34/2^4, 0), ROUNDUP(im2colAll_confW4!BV10:GQ34/2^4, 0))","v":2},{"$f":"IF(im2colAll_confW4!BW10:GR34 > 0, ROUNDDOWN(im2colAll_confW4!BW10:GR34/2^4, 0), ROUNDUP(im2colAll_confW4!BW10:GR34/2^4, 0))","v":-13},{"$f":"IF(im2colAll_confW4!BX10:GS34 > 0, ROUNDDOWN(im2colAll_confW4!BX10:GS34/2^4, 0), ROUNDUP(im2colAll_confW4!BX10:GS34/2^4, 0))","v":26},{"$f":"IF(im2colAll_confW4!BY10:GT34 > 0, ROUNDDOWN(im2colAll_confW4!BY10:GT34/2^4, 0), ROUNDUP(im2colAll_confW4!BY10:GT34/2^4, 0))","v":4},{"$f":"IF(im2colAll_confW4!BZ10:GU34 > 0, ROUNDDOWN(im2colAll_confW4!BZ10:GU34/2^4, 0), ROUNDUP(im2colAll_confW4!BZ10:GU34/2^4, 0))","v":-9},{"$f":"IF(im2colAll_confW4!CA10:GV34 > 0, ROUNDDOWN(im2colAll_confW4!CA10:GV34/2^4, 0), ROUNDUP(im2colAll_confW4!CA10:GV34/2^4, 0))","v":50},{"$f":"IF(im2colAll_confW4!CB10:GW34 > 0, ROUNDDOWN(im2colAll_confW4!CB10:GW34/2^4, 0), ROUNDUP(im2colAll_confW4!CB10:GW34/2^4, 0))","v":4},{"$f":"IF(im2colAll_confW4!CC10:GX34 > 0, ROUNDDOWN(im2colAll_confW4!CC10:GX34/2^4, 0), ROUNDUP(im2colAll_confW4!CC10:GX34/2^4, 0))","v":-34},{"$f":"IF(im2colAll_confW4!CD10:GY34 > 0, ROUNDDOWN(im2colAll_confW4!CD10:GY34/2^4, 0), ROUNDUP(im2colAll_confW4!CD10:GY34/2^4, 0))","v":-2},{"$f":"IF(im2colAll_confW4!CE10:GZ34 > 0, ROUNDDOWN(im2colAll_confW4!CE10:GZ34/2^4, 0), ROUNDUP(im2colAll_confW4!CE10:GZ34/2^4, 0))","v":-26},{"$f":"IF(im2colAll_confW4!CF10:HA34 > 0, ROUNDDOWN(im2colAll_confW4!CF10:HA34/2^4, 0), ROUNDUP(im2colAll_confW4!CF10:HA34/2^4, 0))","v":-6},{"$f":"IF(im2colAll_confW4!CG10:HB34 > 0, ROUNDDOWN(im2colAll_confW4!CG10:HB34/2^4, 0), ROUNDUP(im2colAll_confW4!CG10:HB34/2^4, 0))","v":133},{"$f":"IF(im2colAll_confW4!CH10:HC34 > 0, ROUNDDOWN(im2colAll_confW4!CH10:HC34/2^4, 0), ROUNDUP(im2colAll_confW4!CH10:HC34/2^4, 0))","v":-14},{"$f":"IF(im2colAll_confW4!CI10:HD34 > 0, ROUNDDOWN(im2colAll_confW4!CI10:HD34/2^4, 0), ROUNDUP(im2colAll_confW4!CI10:HD34/2^4, 0))","v":7},{"$f":"IF(im2colAll_confW4!CJ10:HE34 > 0, ROUNDDOWN(im2colAll_confW4!CJ10:HE34/2^4, 0), ROUNDUP(im2colAll_confW4!CJ10:HE34/2^4, 0))","v":-27},{"$f":"IF(im2colAll_confW4!CK10:HF34 > 0, ROUNDDOWN(im2colAll_confW4!CK10:HF34/2^4, 0), ROUNDUP(im2colAll_confW4!CK10:HF34/2^4, 0))","v":-2},{"$f":"IF(im2colAll_confW4!CL10:HG34 > 0, ROUNDDOWN(im2colAll_confW4!CL10:HG34/2^4, 0), ROUNDUP(im2colAll_confW4!CL10:HG34/2^4, 0))","v":-14},{"$f":"IF(im2colAll_confW4!CM10:HH34 > 0, ROUNDDOWN(im2colAll_confW4!CM10:HH34/2^4, 0), ROUNDUP(im2colAll_confW4!CM10:HH34/2^4, 0))","v":-26},{"$f":"IF(im2colAll_confW4!CN10:HI34 > 0, ROUNDDOWN(im2colAll_confW4!CN10:HI34/2^4, 0), ROUNDUP(im2colAll_confW4!CN10:HI34/2^4, 0))","v":17},{"$f":"IF(im2colAll_confW4!CO10:HJ34 > 0, ROUNDDOWN(im2colAll_confW4!CO10:HJ34/2^4, 0), ROUNDUP(im2colAll_confW4!CO10:HJ34/2^4, 0))","v":-28},{"$f":"IF(im2colAll_confW4!CP10:HK34 > 0, ROUNDDOWN(im2colAll_confW4!CP10:HK34/2^4, 0), ROUNDUP(im2colAll_confW4!CP10:HK34/2^4, 0))","v":3},{"$f":"IF(im2colAll_confW4!CQ10:HL34 > 0, ROUNDDOWN(im2colAll_confW4!CQ10:HL34/2^4, 0), ROUNDUP(im2colAll_confW4!CQ10:HL34/2^4, 0))","v":-7},{"$f":"IF(im2colAll_confW4!CR10:HM34 > 0, ROUNDDOWN(im2colAll_confW4!CR10:HM34/2^4, 0), ROUNDUP(im2colAll_confW4!CR10:HM34/2^4, 0))","v":23},{"$f":"IF(im2colAll_confW4!CS10:HN34 > 0, ROUNDDOWN(im2colAll_confW4!CS10:HN34/2^4, 0), ROUNDUP(im2colAll_confW4!CS10:HN34/2^4, 0))","v":-5},{"$f":"IF(im2colAll_confW4!CT10:HO34 > 0, ROUNDDOWN(im2colAll_confW4!CT10:HO34/2^4, 0), ROUNDUP(im2colAll_confW4!CT10:HO34/2^4, 0))","v":22},{"$f":"IF(im2colAll_confW4!CU10:HP34 > 0, ROUNDDOWN(im2colAll_confW4!CU10:HP34/2^4, 0), ROUNDUP(im2colAll_confW4!CU10:HP34/2^4, 0))","v":16},{"$f":"IF(im2colAll_confW4!CV10:HQ34 > 0, ROUNDDOWN(im2colAll_confW4!CV10:HQ34/2^4, 0), ROUNDUP(im2colAll_confW4!CV10:HQ34/2^4, 0))","v":48},{"$f":"IF(im2colAll_confW4!CW10:HR34 > 0, ROUNDDOWN(im2colAll_confW4!CW10:HR34/2^4, 0), ROUNDUP(im2colAll_confW4!CW10:HR34/2^4, 0))","v":-13},{"$f":"IF(im2colAll_confW4!CX10:HS34 > 0, ROUNDDOWN(im2colAll_confW4!CX10:HS34/2^4, 0), ROUNDUP(im2colAll_confW4!CX10:HS34/2^4, 0))","v":-26},{"$f":"IF(im2colAll_confW4!CY10:HT34 > 0, ROUNDDOWN(im2colAll_confW4!CY10:HT34/2^4, 0), ROUNDUP(im2colAll_confW4!CY10:HT34/2^4, 0))","v":26},{"$f":"IF(im2colAll_confW4!CZ10:HU34 > 0, ROUNDDOWN(im2colAll_confW4!CZ10:HU34/2^4, 0), ROUNDUP(im2colAll_confW4!CZ10:HU34/2^4, 0))","v":-3},{"$f":"IF(im2colAll_confW4!DA10:HV34 > 0, ROUNDDOWN(im2colAll_confW4!DA10:HV34/2^4, 0), ROUNDUP(im2colAll_confW4!DA10:HV34/2^4, 0))","v":-26},{"$f":"IF(im2colAll_confW4!DB10:HW34 > 0, ROUNDDOWN(im2colAll_confW4!DB10:HW34/2^4, 0), ROUNDUP(im2colAll_confW4!DB10:HW34/2^4, 0))","v":106},{"$f":"IF(im2colAll_confW4!DC10:HX34 > 0, ROUNDDOWN(im2colAll_confW4!DC10:HX34/2^4, 0), ROUNDUP(im2colAll_confW4!DC10:HX34/2^4, 0))","v":-15},{"$f":"IF(im2colAll_confW4!DD10:HY34 > 0, ROUNDDOWN(im2colAll_confW4!DD10:HY34/2^4, 0), ROUNDUP(im2colAll_confW4!DD10:HY34/2^4, 0))","v":-7},{"$f":"IF(im2colAll_confW4!DE10:HZ34 > 0, ROUNDDOWN(im2colAll_confW4!DE10:HZ34/2^4, 0), ROUNDUP(im2colAll_confW4!DE10:HZ34/2^4, 0))","v":-5},{"$f":"IF(im2colAll_confW4!DF10:IA34 > 0, ROUNDDOWN(im2colAll_confW4!DF10:IA34/2^4, 0), ROUNDUP(im2colAll_confW4!DF10:IA34/2^4, 0))","v":-31},{"$f":"IF(im2colAll_confW4!DG10:IB34 > 0, ROUNDDOWN(im2colAll_confW4!DG10:IB34/2^4, 0), ROUNDUP(im2colAll_confW4!DG10:IB34/2^4, 0))","v":-14},{"$f":"IF(im2colAll_confW4!DH10:IC34 > 0, ROUNDDOWN(im2colAll_confW4!DH10:IC34/2^4, 0), ROUNDUP(im2colAll_confW4!DH10:IC34/2^4, 0))","v":-21},{"$f":"IF(im2colAll_confW4!DI10:ID34 > 0, ROUNDDOWN(im2colAll_confW4!DI10:ID34/2^4, 0), ROUNDUP(im2colAll_confW4!DI10:ID34/2^4, 0))","v":5},{"$f":"IF(im2colAll_confW4!DJ10:IE34 > 0, ROUNDDOWN(im2colAll_confW4!DJ10:IE34/2^4, 0), ROUNDUP(im2colAll_confW4!DJ10:IE34/2^4, 0))","v":-25},{"$f":"IF(im2colAll_confW4!DK10:IF34 > 0, ROUNDDOWN(im2colAll_confW4!DK10:IF34/2^4, 0), ROUNDUP(im2colAll_confW4!DK10:IF34/2^4, 0))","v":2},{"$f":"IF(im2colAll_confW4!DL10:IG34 > 0, ROUNDDOWN(im2colAll_confW4!DL10:IG34/2^4, 0), ROUNDUP(im2colAll_confW4!DL10:IG34/2^4, 0))","v":15},{"$f":"IF(im2colAll_confW4!DM10:IH34 > 0, ROUNDDOWN(im2colAll_confW4!DM10:IH34/2^4, 0), ROUNDUP(im2colAll_confW4!DM10:IH34/2^4, 0))","v":0},{"$f":"IF(im2colAll_confW4!DN10:II34 > 0, ROUNDDOWN(im2colAll_confW4!DN10:II34/2^4, 0), ROUNDUP(im2colAll_confW4!DN10:II34/2^4, 0))","v":6},{"$f":"IF(im2colAll_confW4!DO10:IJ34 > 0, ROUNDDOWN(im2colAll_confW4!DO10:IJ34/2^4, 0), ROUNDUP(im2colAll_confW4!DO10:IJ34/2^4, 0))","v":19},{"$f":"IF(im2colAll_confW4!DP10:IK34 > 0, ROUNDDOWN(im2colAll_confW4!DP10:IK34/2^4, 0), ROUNDUP(im2colAll_confW4!DP10:IK34/2^4, 0))","v":-8},{"$f":"IF(im2colAll_confW4!DQ10:IL34 > 0, ROUNDDOWN(im2colAll_confW4!DQ10:IL34/2^4, 0), ROUNDUP(im2colAll_confW4!DQ10:IL34/2^4, 0))","v":43},{"$f":"IF(im2colAll_confW4!DR10:IM34 > 0, ROUNDDOWN(im2colAll_confW4!DR10:IM34/2^4, 0), ROUNDUP(im2colAll_confW4!DR10:IM34/2^4, 0))","v":-14},{"$f":"IF(im2colAll_confW4!DS10:IN34 > 0, ROUNDDOWN(im2colAll_confW4!DS10:IN34/2^4, 0), ROUNDUP(im2colAll_confW4!DS10:IN34/2^4, 0))","v":-16},{"$f":"IF(im2colAll_confW4!DT10:IO34 > 0, ROUNDDOWN(im2colAll_confW4!DT10:IO34/2^4, 0), ROUNDUP(im2colAll_confW4!DT10:IO34/2^4, 0))","v":4},{"$f":"IF(im2colAll_confW4!DU10:IP34 > 0, ROUNDDOWN(im2colAll_confW4!DU10:IP34/2^4, 0), ROUNDUP(im2colAll_confW4!DU10:IP34/2^4, 0))","v":-19},{"$f":"IF(im2colAll_confW4!DV10:IQ34 > 0, ROUNDDOWN(im2colAll_confW4!DV10:IQ34/2^4, 0), ROUNDUP(im2colAll_confW4!DV10:IQ34/2^4, 0))","v":-33}]
[{"$f":"IF(im2colAll_confW4!A11:DV35 > 0, ROUNDDOWN(im2colAll_confW4!A11:DV35/2^4, 0), ROUNDUP(im2colAll_confW4!A11:DV35/2^4, 0))","v":107},{"$f":"IF(im2colAll_confW4!B11:DW35 > 0, ROUNDDOWN(im2colAll_confW4!B11:DW35/2^4, 0), ROUNDUP(im2colAll_confW4!B11:DW35/2^4, 0))","v":-6},{"$f":"IF(im2colAll_confW4!C11:DX35 > 0, ROUNDDOWN(im2colAll_confW4!C11:DX35/2^4, 0), ROUNDUP(im2colAll_confW4!C11:DX35/2^4, 0))","v":19},{"$f":"IF(im2colAll_confW4!D11:DY35 > 0, ROUNDDOWN(im2colAll_confW4!D11:DY35/2^4, 0), ROUNDUP(im2colAll_confW4!D11:DY35/2^4, 0))","v":-8},{"$f":"IF(im2colAll_confW4!E11:DZ35 > 0, ROUNDDOWN(im2colAll_confW4!E11:DZ35/2^4, 0), ROUNDUP(im2colAll_confW4!E11:DZ35/2^4, 0))","v":-3},{"$f":"IF(im2colAll_confW4!F11:EA35 > 0, ROUNDDOWN(im2colAll_confW4!F11:EA35/2^4, 0), ROUNDUP(im2colAll_confW4!F11:EA35/2^4, 0))","v":-23},{"$f":"IF(im2colAll_confW4!G11:EB35 > 0, ROUNDDOWN(im2colAll_confW4!G11:EB35/2^4, 0), ROUNDUP(im2colAll_confW4!G11:EB35/2^4, 0))","v":-28},{"$f":"IF(im2colAll_confW4!H11:EC35 > 0, ROUNDDOWN(im2colAll_confW4!H11:EC35/2^4, 0), ROUNDUP(im2colAll_confW4!H11:EC35/2^4, 0))","v":3},{"$f":"IF(im2colAll_confW4!I11:ED35 > 0, ROUNDDOWN(im2colAll_confW4!I11:ED35/2^4, 0), ROUNDUP(im2colAll_confW4!I11:ED35/2^4, 0))","v":-27},{"$f":"IF(im2colAll_confW4!J11:EE35 > 0, ROUNDDOWN(im2colAll_confW4!J11:EE35/2^4, 0), ROUNDUP(im2colAll_confW4!J11:EE35/2^4, 0))","v":-1},{"$f":"IF(im2colAll_confW4!K11:EF35 > 0, ROUNDDOWN(im2colAll_confW4!K11:EF35/2^4, 0), ROUNDUP(im2colAll_confW4!K11:EF35/2^4, 0))","v":-14},{"$f":"IF(im2colAll_confW4!L11:EG35 > 0, ROUNDDOWN(im2colAll_confW4!L11:EG35/2^4, 0), ROUNDUP(im2colAll_confW4!L11:EG35/2^4, 0))","v":1},{"$f":"IF(im2colAll_confW4!M11:EH35 > 0, ROUNDDOWN(im2colAll_confW4!M11:EH35/2^4, 0), ROUNDUP(im2colAll_confW4!M11:EH35/2^4, 0))","v":-1},{"$f":"IF(im2colAll_confW4!N11:EI35 > 0, ROUNDDOWN(im2colAll_confW4!N11:EI35/2^4, 0), ROUNDUP(im2colAll_confW4!N11:EI35/2^4, 0))","v":28},{"$f":"IF(im2colAll_confW4!O11:EJ35 > 0, ROUNDDOWN(im2colAll_confW4!O11:EJ35/2^4, 0), ROUNDUP(im2colAll_confW4!O11:EJ35/2^4, 0))","v":6},{"$f":"IF(im2colAll_confW4!P11:EK35 > 0, ROUNDDOWN(im2colAll_confW4!P11:EK35/2^4, 0), ROUNDUP(im2colAll_confW4!P11:EK35/2^4, 0))","v":48},{"$f":"IF(im2colAll_confW4!Q11:EL35 > 0, ROUNDDOWN(im2colAll_confW4!Q11:EL35/2^4, 0), ROUNDUP(im2colAll_confW4!Q11:EL35/2^4, 0))","v":-14},{"$f":"IF(im2colAll_confW4!R11:EM35 > 0, ROUNDDOWN(im2colAll_confW4!R11:EM35/2^4, 0), ROUNDUP(im2colAll_confW4!R11:EM35/2^4, 0))","v":-24},{"$f":"IF(im2colAll_confW4!S11:EN35 > 0, ROUNDDOWN(im2colAll_confW4!S11:EN35/2^4, 0), ROUNDUP(im2colAll_confW4!S11:EN35/2^4, 0))","v":12},{"$f":"IF(im2colAll_confW4!T11:EO35 > 0, ROUNDDOWN(im2colAll_confW4!T11:EO35/2^4, 0), ROUNDUP(im2colAll_confW4!T11:EO35/2^4, 0))","v":-7},{"$f":"IF(im2colAll_confW4!U11:EP35 > 0, ROUNDDOWN(im2colAll_confW4!U11:EP35/2^4, 0), ROUNDUP(im2colAll_confW4!U11:EP35/2^4, 0))","v":-31},{"$f":"IF(im2colAll_confW4!V11:EQ35 > 0, ROUNDDOWN(im2colAll_confW4!V11:EQ35/2^4, 0), ROUNDUP(im2colAll_confW4!V11:EQ35/2^4, 0))","v":106},{"$f":"IF(im2colAll_confW4!W11:ER35 > 0, ROUNDDOWN(im2colAll_confW4!W11:ER35/2^4, 0), ROUNDUP(im2colAll_confW4!W11:ER35/2^4, 0))","v":-11},{"$f":"IF(im2colAll_confW4!X11:ES35 > 0, ROUNDDOWN(im2colAll_confW4!X11:ES35/2^4, 0), ROUNDUP(im2colAll_confW4!X11:ES35/2^4, 0))","v":8},{"$f":"IF(im2colAll_confW4!Y11:ET35 > 0, ROUNDDOWN(im2colAll_confW4!Y11:ET35/2^4, 0), ROUNDUP(im2colAll_confW4!Y11:ET35/2^4, 0))","v":-11},{"$f":"IF(im2colAll_confW4!Z11:EU35 > 0, ROUNDDOWN(im2colAll_confW4!Z11:EU35/2^4, 0), ROUNDUP(im2colAll_confW4!Z11:EU35/2^4, 0))","v":2},{"$f":"IF(im2colAll_confW4!AA11:EV35 > 0, ROUNDDOWN(im2colAll_confW4!AA11:EV35/2^4, 0), ROUNDUP(im2colAll_confW4!AA11:EV35/2^4, 0))","v":-38},{"$f":"IF(im2colAll_confW4!AB11:EW35 > 0, ROUNDDOWN(im2colAll_confW4!AB11:EW35/2^4, 0), ROUNDUP(im2colAll_confW4!AB11:EW35/2^4, 0))","v":-24},{"$f":"IF(im2colAll_confW4!AC11:EX35 > 0, ROUNDDOWN(im2colAll_confW4!AC11:EX35/2^4, 0), ROUNDUP(im2colAll_confW4!AC11:EX35/2^4, 0))","v":0},{"$f":"IF(im2colAll_confW4!AD11:EY35 > 0, ROUNDDOWN(im2colAll_confW4!AD11:EY35/2^4, 0), ROUNDUP(im2colAll_confW4!AD11:EY35/2^4, 0))","v":-39},{"$f":"IF(im2colAll_confW4!AE11:EZ35 > 0, ROUNDDOWN(im2colAll_confW4!AE11:EZ35/2^4, 0), ROUNDUP(im2colAll_confW4!AE11:EZ35/2^4, 0))","v":1},{"$f":"IF(im2colAll_confW4!AF11:FA35 > 0, ROUNDDOWN(im2colAll_confW4!AF11:FA35/2^4, 0), ROUNDUP(im2colAll_confW4!AF11:FA35/2^4, 0))","v":-6},{"$f":"IF(im2colAll_confW4!AG11:FB35 > 0, ROUNDDOWN(im2colAll_confW4!AG11:FB35/2^4, 0), ROUNDUP(im2colAll_confW4!AG11:FB35/2^4, 0))","v":12},{"$f":"IF(im2colAll_confW4!AH11:FC35 > 0, ROUNDDOWN(im2colAll_confW4!AH11:FC35/2^4, 0), ROUNDUP(im2colAll_confW4!AH11:FC35/2^4, 0))","v":1},{"$f":"IF(im2colAll_confW4!AI11:FD35 > 0, ROUNDDOWN(im2colAll_confW4!AI11:FD35/2^4, 0), ROUNDUP(im2colAll_confW4!AI11:FD35/2^4, 0))","v":23},{"$f":"IF(im2colAll_confW4!AJ11:FE35 > 0, ROUNDDOWN(im2colAll_confW4!AJ11:FE35/2^4, 0), ROUNDUP(im2colAll_confW4!AJ11:FE35/2^4, 0))","v":5},{"$f":"IF(im2colAll_confW4!AK11:FF35 > 0, ROUNDDOWN(im2colAll_confW4!AK11:FF35/2^4, 0), ROUNDUP(im2colAll_confW4!AK11:FF35/2^4, 0))","v":58},{"$f":"IF(im2colAll_confW4!AL11:FG35 > 0, ROUNDDOWN(im2colAll_confW4!AL11:FG35/2^4, 0), ROUNDUP(im2colAll_confW4!AL11:FG35/2^4, 0))","v":-9},{"$f":"IF(im2colAll_confW4!AM11:FH35 > 0, ROUNDDOWN(im2colAll_confW4!AM11:FH35/2^4, 0), ROUNDUP(im2colAll_confW4!AM11:FH35/2^4, 0))","v":-16},{"$f":"IF(im2colAll_confW4!AN11:FI35 > 0, ROUNDDOWN(im2colAll_confW4!AN11:FI35/2^4, 0), ROUNDUP(im2colAll_confW4!AN11:FI35/2^4, 0))","v":4},{"$f":"IF(im2colAll_confW4!AO11:FJ35 > 0, ROUNDDOWN(im2colAll_confW4!AO11:FJ35/2^4, 0), ROUNDUP(im2colAll_confW4!AO11:FJ35/2^4, 0))","v":-14},{"$f":"IF(im2colAll_confW4!AP11:FK35 > 0, ROUNDDOWN(im2colAll_confW4!AP11:FK35/2^4, 0), ROUNDUP(im2colAll_confW4!AP11:FK35/2^4, 0))","v":-36},{"$f":"IF(im2colAll_confW4!AQ11:FL35 > 0, ROUNDDOWN(im2colAll_confW4!AQ11:FL35/2^4, 0), ROUNDUP(im2colAll_confW4!AQ11:FL35/2^4, 0))","v":107},{"$f":"IF(im2colAll_confW4!AR11:FM35 > 0, ROUNDDOWN(im2colAll_confW4!AR11:FM35/2^4, 0), ROUNDUP(im2colAll_confW4!AR11:FM35/2^4, 0))","v":-14},{"$f":"IF(im2colAll_confW4!AS11:FN35 > 0, ROUNDDOWN(im2colAll_confW4!AS11:FN35/2^4, 0), ROUNDUP(im2colAll_confW4!AS11:FN35/2^4, 0))","v":4},{"$f":"IF(im2colAll_confW4!AT11:FO35 > 0, ROUNDDOWN(im2colAll_confW4!AT11:FO35/2^4, 0), ROUNDUP(im2colAll_confW4!AT11:FO35/2^4, 0))","v":-21},{"$f":"IF(im2colAll_confW4!AU11:FP35 > 0, ROUNDDOWN(im2colAll_confW4!AU11:FP35/2^4, 0), ROUNDUP(im2colAll_confW4!AU11:FP35/2^4, 0))","v":2},{"$f":"IF(im2colAll_confW4!AV11:FQ35 > 0, ROUNDDOWN(im2colAll_confW4!AV11:FQ35/2^4, 0), ROUNDUP(im2colAll_confW4!AV11:FQ35/2^4, 0))","v":-28},{"$f":"IF(im2colAll_confW4!AW11:FR35 > 0, ROUNDDOWN(im2colAll_confW4!AW11:FR35/2^4, 0), ROUNDUP(im2colAll_confW4!AW11:FR35/2^4, 0))","v":-25},{"$f":"IF(im2colAll_confW4!AX11:FS35 > 0, ROUNDDOWN(im2colAll_confW4!AX11:FS35/2^4, 0), ROUNDUP(im2colAll_confW4!AX11:FS35/2^4, 0))","v":2},{"$f":"IF(im2colAll_confW4!AY11:FT35 > 0, ROUNDDOWN(im2colAll_confW4!AY11:FT35/2^4, 0), ROUNDUP(im2colAll_confW4!AY11:FT35/2^4, 0))","v":-40},{"$f":"IF(im2colAll_confW4!AZ11:FU35 > 0, ROUNDDOWN(im2colAll_confW4!AZ11:FU35/2^4, 0), ROUNDUP(im2colAll_confW4!AZ11:FU35/2^4, 0))","v":-6},{"$f":"IF(im2colAll_confW4!BA11:FV35 > 0, ROUNDDOWN(im2colAll_confW4!BA11:FV35/2^4, 0), ROUNDUP(im2colAll_confW4!BA11:FV35/2^4, 0))","v":-14},{"$f":"IF(im2colAll_confW4!BB11:FW35 > 0, ROUNDDOWN(im2colAll_confW4!BB11:FW35/2^4, 0), ROUNDUP(im2colAll_confW4!BB11:FW35/2^4, 0))","v":0},{"$f":"IF(im2colAll_confW4!BC11:FX35 > 0, ROUNDDOWN(im2colAll_confW4!BC11:FX35/2^4, 0), ROUNDUP(im2colAll_confW4!BC11:FX35/2^4, 0))","v":-6},{"$f":"IF(im2colAll_confW4!BD11:FY35 > 0, ROUNDDOWN(im2colAll_confW4!BD11:FY35/2^4, 0), ROUNDUP(im2colAll_confW4!BD11:FY35/2^4, 0))","v":17},{"$f":"IF(im2colAll_confW4!BE11:FZ35 > 0, ROUNDDOWN(im2colAll_confW4!BE11:FZ35/2^4, 0), ROUNDUP(im2colAll_confW4!BE11:FZ35/2^4, 0))","v":5},{"$f":"IF(im2colAll_confW4!BF11:GA35 > 0, ROUNDDOWN(im2colAll_confW4!BF11:GA35/2^4, 0), ROUNDUP(im2colAll_confW4!BF11:GA35/2^4, 0))","v":41},{"$f":"IF(im2colAll_confW4!BG11:GB35 > 0, ROUNDDOWN(im2colAll_confW4!BG11:GB35/2^4, 0), ROUNDUP(im2colAll_confW4!BG11:GB35/2^4, 0))","v":-15},{"$f":"IF(im2colAll_confW4!BH11:GC35 > 0, ROUNDDOWN(im2colAll_confW4!BH11:GC35/2^4, 0), ROUNDUP(im2colAll_confW4!BH11:GC35/2^4, 0))","v":-12},{"$f":"IF(im2colAll_confW4!BI11:GD35 > 0, ROUNDDOWN(im2colAll_confW4!BI11:GD35/2^4, 0), ROUNDUP(im2colAll_confW4!BI11:GD35/2^4, 0))","v":1},{"$f":"IF(im2colAll_confW4!BJ11:GE35 > 0, ROUNDDOWN(im2colAll_confW4!BJ11:GE35/2^4, 0), ROUNDUP(im2colAll_confW4!BJ11:GE35/2^4, 0))","v":-20},{"$f":"IF(im2colAll_confW4!BK11:GF35 > 0, ROUNDDOWN(im2colAll_confW4!BK11:GF35/2^4, 0), ROUNDUP(im2colAll_confW4!BK11:GF35/2^4, 0))","v":-24},{"$f":"IF(im2colAll_confW4!BL11:GG35 > 0, ROUNDDOWN(im2colAll_confW4!BL11:GG35/2^4, 0), ROUNDUP(im2colAll_confW4!BL11:GG35/2^4, 0))","v":106},{"$f":"IF(im2colAll_confW4!BM11:GH35 > 0, ROUNDDOWN(im2colAll_confW4!BM11:GH35/2^4, 0), ROUNDUP(im2colAll_confW4!BM11:GH35/2^4, 0))","v":-14},{"$f":"IF(im2colAll_confW4!BN11:GI35 > 0, ROUNDDOWN(im2colAll_confW4!BN11:GI35/2^4, 0), ROUNDUP(im2colAll_confW4!BN11:GI35/2^4, 0))","v":8},{"$f":"IF(im2colAll_confW4!BO11:GJ35 > 0, ROUNDDOWN(im2colAll_confW4!BO11:GJ35/2^4, 0), ROUNDUP(im2colAll_confW4!BO11:GJ35/2^4, 0))","v":-15},{"$f":"IF(im2colAll_confW4!BP11:GK35 > 0, ROUNDDOWN(im2colAll_confW4!BP11:GK35/2^4, 0), ROUNDUP(im2colAll_confW4!BP11:GK35/2^4, 0))","v":-11},{"$f":"IF(im2colAll_confW4!BQ11:GL35 > 0, ROUNDDOWN(im2colAll_confW4!BQ11:GL35/2^4, 0), ROUNDUP(im2colAll_confW4!BQ11:GL35/2^4, 0))","v":-31},{"$f":"IF(im2colAll_confW4!BR11:GM35 > 0, ROUNDDOWN(im2colAll_confW4!BR11:GM35/2^4, 0), ROUNDUP(im2colAll_confW4!BR11:GM35/2^4, 0))","v":-11},{"$f":"IF(im2colAll_confW4!BS11:GN35 > 0, ROUNDDOWN(im2colAll_confW4!BS11:GN35/2^4, 0), ROUNDUP(im2colAll_confW4!BS11:GN35/2^4, 0))","v":-4},{"$f":"IF(im2colAll_confW4!BT11:GO35 > 0, ROUNDDOWN(im2colAll_confW4!BT11:GO35/2^4, 0), ROUNDUP(im2colAll_confW4!BT11:GO35/2^4, 0))","v":-27},{"$f":"IF(im2colAll_confW4!BU11:GP35 > 0, ROUNDDOWN(im2colAll_confW4!BU11:GP35/2^4, 0), ROUNDUP(im2colAll_confW4!BU11:GP35/2^4, 0))","v":2},{"$f":"IF(im2colAll_confW4!BV11:GQ35 > 0, ROUNDDOWN(im2colAll_confW4!BV11:GQ35/2^4, 0), ROUNDUP(im2colAll_confW4!BV11:GQ35/2^4, 0))","v":-12},{"$f":"IF(im2colAll_confW4!BW11:GR35 > 0, ROUNDDOWN(im2colAll_confW4!BW11:GR35/2^4, 0), ROUNDUP(im2colAll_confW4!BW11:GR35/2^4, 0))","v":-4},{"$f":"IF(im2colAll_confW4!BX11:GS35 > 0, ROUNDDOWN(im2colAll_confW4!BX11:GS35/2^4, 0), ROUNDUP(im2colAll_confW4!BX11:GS35/2^4, 0))","v":-1},{"$f":"IF(im2colAll_confW4!BY11:GT35 > 0, ROUNDDOWN(im2colAll_confW4!BY11:GT35/2^4, 0), ROUNDUP(im2colAll_confW4!BY11:GT35/2^4, 0))","v":17},{"$f":"IF(im2colAll_confW4!BZ11:GU35 > 0, ROUNDDOWN(im2colAll_confW4!BZ11:GU35/2^4, 0), ROUNDUP(im2colAll_confW4!BZ11:GU35/2^4, 0))","v":-6},{"$f":"IF(im2colAll_confW4!CA11:GV35 > 0, ROUNDDOWN(im2colAll_confW4!CA11:GV35/2^4, 0), ROUNDUP(im2colAll_confW4!CA11:GV35/2^4, 0))","v":63},{"$f":"IF(im2colAll_confW4!CB11:GW35 > 0, ROUNDDOWN(im2colAll_confW4!CB11:GW35/2^4, 0), ROUNDUP(im2colAll_confW4!CB11:GW35/2^4, 0))","v":-4},{"$f":"IF(im2colAll_confW4!CC11:GX35 > 0, ROUNDDOWN(im2colAll_confW4!CC11:GX35/2^4, 0), ROUNDUP(im2colAll_confW4!CC11:GX35/2^4, 0))","v":-7},{"$f":"IF(im2colAll_confW4!CD11:GY35 > 0, ROUNDDOWN(im2colAll_confW4!CD11:GY35/2^4, 0), ROUNDUP(im2colAll_confW4!CD11:GY35/2^4, 0))","v":-1},{"$f":"IF(im2colAll_confW4!CE11:GZ35 > 0, ROUNDDOWN(im2colAll_confW4!CE11:GZ35/2^4, 0), ROUNDUP(im2colAll_confW4!CE11:GZ35/2^4, 0))","v":-8},{"$f":"IF(im2colAll_confW4!CF11:HA35 > 0, ROUNDDOWN(im2colAll_confW4!CF11:HA35/2^4, 0), ROUNDUP(im2colAll_confW4!CF11:HA35/2^4, 0))","v":-29},{"$f":"IF(im2colAll_confW4!CG11:HB35 > 0, ROUNDDOWN(im2colAll_confW4!CG11:HB35/2^4, 0), ROUNDUP(im2colAll_confW4!CG11:HB35/2^4, 0))","v":110},{"$f":"IF(im2colAll_confW4!CH11:HC35 > 0, ROUNDDOWN(im2colAll_confW4!CH11:HC35/2^4, 0), ROUNDUP(im2colAll_confW4!CH11:HC35/2^4, 0))","v":-29},{"$f":"IF(im2colAll_confW4!CI11:HD35 > 0, ROUNDDOWN(im2colAll_confW4!CI11:HD35/2^4, 0), ROUNDUP(im2colAll_confW4!CI11:HD35/2^4, 0))","v":8},{"$f":"IF(im2colAll_confW4!CJ11:HE35 > 0, ROUNDDOWN(im2colAll_confW4!CJ11:HE35/2^4, 0), ROUNDUP(im2colAll_confW4!CJ11:HE35/2^4, 0))","v":-13},{"$f":"IF(im2colAll_confW4!CK11:HF35 > 0, ROUNDDOWN(im2colAll_confW4!CK11:HF35/2^4, 0), ROUNDUP(im2colAll_confW4!CK11:HF35/2^4, 0))","v":11},{"$f":"IF(im2colAll_confW4!CL11:HG35 > 0, ROUNDDOWN(im2colAll_confW4!CL11:HG35/2^4, 0), ROUNDUP(im2colAll_confW4!CL11:HG35/2^4, 0))","v":-25},{"$f":"IF(im2colAll_confW4!CM11:HH35 > 0, ROUNDDOWN(im2colAll_confW4!CM11:HH35/2^4, 0), ROUNDUP(im2colAll_confW4!CM11:HH35/2^4, 0))","v":-35},{"$f":"IF(im2colAll_confW4!CN11:HI35 > 0, ROUNDDOWN(im2colAll_confW4!CN11:HI35/2^4, 0), ROUNDUP(im2colAll_confW4!CN11:HI35/2^4, 0))","v":-2},{"$f":"IF(im2colAll_confW4!CO11:HJ35 > 0, ROUNDDOWN(im2colAll_confW4!CO11:HJ35/2^4, 0), ROUNDUP(im2colAll_confW4!CO11:HJ35/2^4, 0))","v":-20},{"$f":"IF(im2colAll_confW4!CP11:HK35 > 0, ROUNDDOWN(im2colAll_confW4!CP11:HK35/2^4, 0), ROUNDUP(im2colAll_confW4!CP11:HK35/2^4, 0))","v":-4},{"$f":"IF(im2colAll_confW4!CQ11:HL35 > 0, ROUNDDOWN(im2colAll_confW4!CQ11:HL35/2^4, 0), ROUNDUP(im2colAll_confW4!CQ11:HL35/2^4, 0))","v":-4},{"$f":"IF(im2colAll_confW4!CR11:HM35 > 0, ROUNDDOWN(im2colAll_confW4!CR11:HM35/2^4, 0), ROUNDUP(im2colAll_confW4!CR11:HM35/2^4, 0))","v":10},{"$f":"IF(im2colAll_confW4!CS11:HN35 > 0, ROUNDDOWN(im2colAll_confW4!CS11:HN35/2^4, 0), ROUNDUP(im2colAll_confW4!CS11:HN35/2^4, 0))","v":5},{"$f":"IF(im2colAll_confW4!CT11:HO35 > 0, ROUNDDOWN(im2colAll_confW4!CT11:HO35/2^4, 0), ROUNDUP(im2colAll_confW4!CT11:HO35/2^4, 0))","v":22},{"$f":"IF(im2colAll_confW4!CU11:HP35 > 0, ROUNDDOWN(im2colAll_confW4!CU11:HP35/2^4, 0), ROUNDUP(im2colAll_confW4!CU11:HP35/2^4, 0))","v":13},{"$f":"IF(im2colAll_confW4!CV11:HQ35 > 0, ROUNDDOWN(im2colAll_confW4!CV11:HQ35/2^4, 0), ROUNDUP(im2colAll_confW4!CV11:HQ35/2^4, 0))","v":30},{"$f":"IF(im2colAll_confW4!CW11:HR35 > 0, ROUNDDOWN(im2colAll_confW4!CW11:HR35/2^4, 0), ROUNDUP(im2colAll_confW4!CW11:HR35/2^4, 0))","v":-7},{"$f":"IF(im2colAll_confW4!CX11:HS35 > 0, ROUNDDOWN(im2colAll_confW4!CX11:HS35/2^4, 0), ROUNDUP(im2colAll_confW4!CX11:HS35/2^4, 0))","v":-12},{"$f":"IF(im2colAll_confW4!CY11:HT35 > 0, ROUNDDOWN(im2colAll_confW4!CY11:HT35/2^4, 0), ROUNDUP(im2colAll_confW4!CY11:HT35/2^4, 0))","v":5},{"$f":"IF(im2colAll_confW4!CZ11:HU35 > 0, ROUNDDOWN(im2colAll_confW4!CZ11:HU35/2^4, 0), ROUNDUP(im2colAll_confW4!CZ11:HU35/2^4, 0))","v":-4},{"$f":"IF(im2colAll_confW4!DA11:HV35 > 0, ROUNDDOWN(im2colAll_confW4!DA11:HV35/2^4, 0), ROUNDUP(im2colAll_confW4!DA11:HV35/2^4, 0))","v":-19},{"$f":"IF(im2colAll_confW4!DB11:HW35 > 0, ROUNDDOWN(im2colAll_confW4!DB11:HW35/2^4, 0), ROUNDUP(im2colAll_confW4!DB11:HW35/2^4, 0))","v":111},{"$f":"IF(im2colAll_confW4!DC11:HX35 > 0, ROUNDDOWN(im2colAll_confW4!DC11:HX35/2^4, 0), ROUNDUP(im2colAll_confW4!DC11:HX35/2^4, 0))","v":-28},{"$f":"IF(im2colAll_confW4!DD11:HY35 > 0, ROUNDDOWN(im2colAll_confW4!DD11:HY35/2^4, 0), ROUNDUP(im2colAll_confW4!DD11:HY35/2^4, 0))","v":3},{"$f":"IF(im2colAll_confW4!DE11:HZ35 > 0, ROUNDDOWN(im2colAll_confW4!DE11:HZ35/2^4, 0), ROUNDUP(im2colAll_confW4!DE11:HZ35/2^4, 0))","v":-16},{"$f":"IF(im2colAll_confW4!DF11:IA35 > 0, ROUNDDOWN(im2colAll_confW4!DF11:IA35/2^4, 0), ROUNDUP(im2colAll_confW4!DF11:IA35/2^4, 0))","v":-8},{"$f":"IF(im2colAll_confW4!DG11:IB35 > 0, ROUNDDOWN(im2colAll_confW4!DG11:IB35/2^4, 0), ROUNDUP(im2colAll_confW4!DG11:IB35/2^4, 0))","v":-22},{"$f":"IF(im2colAll_confW4!DH11:IC35 > 0, ROUNDDOWN(im2colAll_confW4!DH11:IC35/2^4, 0), ROUNDUP(im2colAll_confW4!DH11:IC35/2^4, 0))","v":-12},{"$f":"IF(im2colAll_confW4!DI11:ID35 > 0, ROUNDDOWN(im2colAll_confW4!DI11:ID35/2^4, 0), ROUNDUP(im2colAll_confW4!DI11:ID35/2^4, 0))","v":-6},{"$f":"IF(im2colAll_confW4!DJ11:IE35 > 0, ROUNDDOWN(im2colAll_confW4!DJ11:IE35/2^4, 0), ROUNDUP(im2colAll_confW4!DJ11:IE35/2^4, 0))","v":-28},{"$f":"IF(im2colAll_confW4!DK11:IF35 > 0, ROUNDDOWN(im2colAll_confW4!DK11:IF35/2^4, 0), ROUNDUP(im2colAll_confW4!DK11:IF35/2^4, 0))","v":12},{"$f":"IF(im2colAll_confW4!DL11:IG35 > 0, ROUNDDOWN(im2colAll_confW4!DL11:IG35/2^4, 0), ROUNDUP(im2colAll_confW4!DL11:IG35/2^4, 0))","v":-8},{"$f":"IF(im2colAll_confW4!DM11:IH35 > 0, ROUNDDOWN(im2colAll_confW4!DM11:IH35/2^4, 0), ROUNDUP(im2colAll_confW4!DM11:IH35/2^4, 0))","v":-3},{"$f":"IF(im2colAll_confW4!DN11:II35 > 0, ROUNDDOWN(im2colAll_confW4!DN11:II35/2^4, 0), ROUNDUP(im2colAll_confW4!DN11:II35/2^4, 0))","v":-6},{"$f":"IF(im2colAll_confW4!DO11:IJ35 > 0, ROUNDDOWN(im2colAll_confW4!DO11:IJ35/2^4, 0), ROUNDUP(im2colAll_confW4!DO11:IJ35/2^4, 0))","v":19},{"$f":"IF(im2colAll_confW4!DP11:IK35 > 0, ROUNDDOWN(im2colAll_confW4!DP11:IK35/2^4, 0), ROUNDUP(im2colAll_confW4!DP11:IK35/2^4, 0))","v":4},{"$f":"IF(im2colAll_confW4!DQ11:IL35 > 0, ROUNDDOWN(im2colAll_confW4!DQ11:IL35/2^4, 0), ROUNDUP(im2colAll_confW4!DQ11:IL35/2^4, 0))","v":54},{"$f":"IF(im2colAll_confW4!DR11:IM35 > 0, ROUNDDOWN(im2colAll_confW4!DR11:IM35/2^4, 0), ROUNDUP(im2colAll_confW4!DR11:IM35/2^4, 0))","v":-8},{"$f":"IF(im2colAll_confW4!DS11:IN35 > 0, ROUNDDOWN(im2colAll_confW4!DS11:IN35/2^4, 0), ROUNDUP(im2colAll_confW4!DS11:IN35/2^4, 0))","v":-10},{"$f":"IF(im2colAll_confW4!DT11:IO35 > 0, ROUNDDOWN(im2colAll_confW4!DT11:IO35/2^4, 0), ROUNDUP(im2colAll_confW4!DT11:IO35/2^4, 0))","v":1},{"$f":"IF(im2colAll_confW4!DU11:IP35 > 0, ROUNDDOWN(im2colAll_confW4!DU11:IP35/2^4, 0), ROUNDUP(im2colAll_confW4!DU11:IP35/2^4, 0))","v":-9},{"$f":"IF(im2colAll_confW4!DV11:IQ35 > 0, ROUNDDOWN(im2colAll_confW4!DV11:IQ35/2^4, 0), ROUNDUP(im2colAll_confW4!DV11:IQ35/2^4, 0))","v":-9}]
[{"$f":"IF(im2colAll_confW4!A12:DV36 > 0, ROUNDDOWN(im2colAll_confW4!A12:DV36/2^4, 0), ROUNDUP(im2colAll_confW4!A12:DV36/2^4, 0))","v":198},{"$f":"IF(im2colAll_confW4!B12:DW36 > 0, ROUNDDOWN(im2colAll_confW4!B12:DW36/2^4, 0), ROUNDUP(im2colAll_confW4!B12:DW36/2^4, 0))","v":-23},{"$f":"IF(im2colAll_confW4!C12:DX36 > 0, ROUNDDOWN(im2colAll_confW4!C12:DX36/2^4, 0), ROUNDUP(im2colAll_confW4!C12:DX36/2^4, 0))","v":44},{"$f":"IF(im2colAll_confW4!D12:DY36 > 0, ROUNDDOWN(im2colAll_confW4!D12:DY36/2^4, 0), ROUNDUP(im2colAll_confW4!D12:DY36/2^4, 0))","v":-39},{"$f":"IF(im2colAll_confW4!E12:DZ36 > 0, ROUNDDOWN(im2colAll_confW4!E12:DZ36/2^4, 0), ROUNDUP(im2colAll_confW4!E12:DZ36/2^4, 0))","v":-14},{"$f":"IF(im2colAll_confW4!F12:EA36 > 0, ROUNDDOWN(im2colAll_confW4!F12:EA36/2^4, 0), ROUNDUP(im2colAll_confW4!F12:EA36/2^4, 0))","v":-49},{"$f":"IF(im2colAll_confW4!G12:EB36 > 0, ROUNDDOWN(im2colAll_confW4!G12:EB36/2^4, 0), ROUNDUP(im2colAll_confW4!G12:EB36/2^4, 0))","v":-59},{"$f":"IF(im2colAll_confW4!H12:EC36 > 0, ROUNDDOWN(im2colAll_confW4!H12:EC36/2^4, 0), ROUNDUP(im2colAll_confW4!H12:EC36/2^4, 0))","v":16},{"$f":"IF(im2colAll_confW4!I12:ED36 > 0, ROUNDDOWN(im2colAll_confW4!I12:ED36/2^4, 0), ROUNDUP(im2colAll_confW4!I12:ED36/2^4, 0))","v":-45},{"$f":"IF(im2colAll_confW4!J12:EE36 > 0, ROUNDDOWN(im2colAll_confW4!J12:EE36/2^4, 0), ROUNDUP(im2colAll_confW4!J12:EE36/2^4, 0))","v":13},{"$f":"IF(im2colAll_confW4!K12:EF36 > 0, ROUNDDOWN(im2colAll_confW4!K12:EF36/2^4, 0), ROUNDUP(im2colAll_confW4!K12:EF36/2^4, 0))","v":-7},{"$f":"IF(im2colAll_confW4!L12:EG36 > 0, ROUNDDOWN(im2colAll_confW4!L12:EG36/2^4, 0), ROUNDUP(im2colAll_confW4!L12:EG36/2^4, 0))","v":14},{"$f":"IF(im2colAll_confW4!M12:EH36 > 0, ROUNDDOWN(im2colAll_confW4!M12:EH36/2^4, 0), ROUNDUP(im2colAll_confW4!M12:EH36/2^4, 0))","v":21},{"$f":"IF(im2colAll_confW4!N12:EI36 > 0, ROUNDDOWN(im2colAll_confW4!N12:EI36/2^4, 0), ROUNDUP(im2colAll_confW4!N12:EI36/2^4, 0))","v":63},{"$f":"IF(im2colAll_confW4!O12:EJ36 > 0, ROUNDDOWN(im2colAll_confW4!O12:EJ36/2^4, 0), ROUNDUP(im2colAll_confW4!O12:EJ36/2^4, 0))","v":13},{"$f":"IF(im2colAll_confW4!P12:EK36 > 0, ROUNDDOWN(im2colAll_confW4!P12:EK36/2^4, 0), ROUNDUP(im2colAll_confW4!P12:EK36/2^4, 0))","v":96},{"$f":"IF(im2colAll_confW4!Q12:EL36 > 0, ROUNDDOWN(im2colAll_confW4!Q12:EL36/2^4, 0), ROUNDUP(im2colAll_confW4!Q12:EL36/2^4, 0))","v":-54},{"$f":"IF(im2colAll_confW4!R12:EM36 > 0, ROUNDDOWN(im2colAll_confW4!R12:EM36/2^4, 0), ROUNDUP(im2colAll_confW4!R12:EM36/2^4, 0))","v":-17},{"$f":"IF(im2colAll_confW4!S12:EN36 > 0, ROUNDDOWN(im2colAll_confW4!S12:EN36/2^4, 0), ROUNDUP(im2colAll_confW4!S12:EN36/2^4, 0))","v":29},{"$f":"IF(im2colAll_confW4!T12:EO36 > 0, ROUNDDOWN(im2colAll_confW4!T12:EO36/2^4, 0), ROUNDUP(im2colAll_confW4!T12:EO36/2^4, 0))","v":-26},{"$f":"IF(im2colAll_confW4!U12:EP36 > 0, ROUNDDOWN(im2colAll_confW4!U12:EP36/2^4, 0), ROUNDUP(im2colAll_confW4!U12:EP36/2^4, 0))","v":-60},{"$f":"IF(im2colAll_confW4!V12:EQ36 > 0, ROUNDDOWN(im2colAll_confW4!V12:EQ36/2^4, 0), ROUNDUP(im2colAll_confW4!V12:EQ36/2^4, 0))","v":165},{"$f":"IF(im2colAll_confW4!W12:ER36 > 0, ROUNDDOWN(im2colAll_confW4!W12:ER36/2^4, 0), ROUNDUP(im2colAll_confW4!W12:ER36/2^4, 0))","v":-27},{"$f":"IF(im2colAll_confW4!X12:ES36 > 0, ROUNDDOWN(im2colAll_confW4!X12:ES36/2^4, 0), ROUNDUP(im2colAll_confW4!X12:ES36/2^4, 0))","v":34},{"$f":"IF(im2colAll_confW4!Y12:ET36 > 0, ROUNDDOWN(im2colAll_confW4!Y12:ET36/2^4, 0), ROUNDUP(im2colAll_confW4!Y12:ET36/2^4, 0))","v":-29},{"$f":"IF(im2colAll_confW4!Z12:EU36 > 0, ROUNDDOWN(im2colAll_confW4!Z12:EU36/2^4, 0), ROUNDUP(im2colAll_confW4!Z12:EU36/2^4, 0))","v":-5},{"$f":"IF(im2colAll_confW4!AA12:EV36 > 0, ROUNDDOWN(im2colAll_confW4!AA12:EV36/2^4, 0), ROUNDUP(im2colAll_confW4!AA12:EV36/2^4, 0))","v":-73},{"$f":"IF(im2colAll_confW4!AB12:EW36 > 0, ROUNDDOWN(im2colAll_confW4!AB12:EW36/2^4, 0), ROUNDUP(im2colAll_confW4!AB12:EW36/2^4, 0))","v":-69},{"$f":"IF(im2colAll_confW4!AC12:EX36 > 0, ROUNDDOWN(im2colAll_confW4!AC12:EX36/2^4, 0), ROUNDUP(im2colAll_confW4!AC12:EX36/2^4, 0))","v":37},{"$f":"IF(im2colAll_confW4!AD12:EY36 > 0, ROUNDDOWN(im2colAll_confW4!AD12:EY36/2^4, 0), ROUNDUP(im2colAll_confW4!AD12:EY36/2^4, 0))","v":-69},{"$f":"IF(im2colAll_confW4!AE12:EZ36 > 0, ROUNDDOWN(im2colAll_confW4!AE12:EZ36/2^4, 0), ROUNDUP(im2colAll_confW4!AE12:EZ36/2^4, 0))","v":-5},{"$f":"IF(im2colAll_confW4!AF12:FA36 > 0, ROUNDDOWN(im2colAll_confW4!AF12:FA36/2^4, 0), ROUNDUP(im2colAll_confW4!AF12:FA36/2^4, 0))","v":7},{"$f":"IF(im2colAll_confW4!AG12:FB36 > 0, ROUNDDOWN(im2colAll_confW4!AG12:FB36/2^4, 0), ROUNDUP(im2colAll_confW4!AG12:FB36/2^4, 0))","v":29},{"$f":"IF(im2colAll_confW4!AH12:FC36 > 0, ROUNDDOWN(im2colAll_confW4!AH12:FC36/2^4, 0), ROUNDUP(im2colAll_confW4!AH12:FC36/2^4, 0))","v":26},{"$f":"IF(im2colAll_confW4!AI12:FD36 > 0, ROUNDDOWN(im2colAll_confW4!AI12:FD36/2^4, 0), ROUNDUP(im2colAll_confW4!AI12:FD36/2^4, 0))","v":70},{"$f":"IF(im2colAll_confW4!AJ12:FE36 > 0, ROUNDDOWN(im2colAll_confW4!AJ12:FE36/2^4, 0), ROUNDUP(im2colAll_confW4!AJ12:FE36/2^4, 0))","v":33},{"$f":"IF(im2colAll_confW4!AK12:FF36 > 0, ROUNDDOWN(im2colAll_confW4!AK12:FF36/2^4, 0), ROUNDUP(im2colAll_confW4!AK12:FF36/2^4, 0))","v":91},{"$f":"IF(im2colAll_confW4!AL12:FG36 > 0, ROUNDDOWN(im2colAll_confW4!AL12:FG36/2^4, 0), ROUNDUP(im2colAll_confW4!AL12:FG36/2^4, 0))","v":-37},{"$f":"IF(im2colAll_confW4!AM12:FH36 > 0, ROUNDDOWN(im2colAll_confW4!AM12:FH36/2^4, 0), ROUNDUP(im2colAll_confW4!AM12:FH36/2^4, 0))","v":-26},{"$f":"IF(im2colAll_confW4!AN12:FI36 > 0, ROUNDDOWN(im2colAll_confW4!AN12:FI36/2^4, 0), ROUNDUP(im2colAll_confW4!AN12:FI36/2^4, 0))","v":14},{"$f":"IF(im2colAll_confW4!AO12:FJ36 > 0, ROUNDDOWN(im2colAll_confW4!AO12:FJ36/2^4, 0), ROUNDUP(im2colAll_confW4!AO12:FJ36/2^4, 0))","v":-29},{"$f":"IF(im2colAll_confW4!AP12:FK36 > 0, ROUNDDOWN(im2colAll_confW4!AP12:FK36/2^4, 0), ROUNDUP(im2colAll_confW4!AP12:FK36/2^4, 0))","v":-62},{"$f":"IF(im2colAll_confW4!AQ12:FL36 > 0, ROUNDDOWN(im2colAll_confW4!AQ12:FL36/2^4, 0), ROUNDUP(im2colAll_confW4!AQ12:FL36/2^4, 0))","v":184},{"$f":"IF(im2colAll_confW4!AR12:FM36 > 0, ROUNDDOWN(im2colAll_confW4!AR12:FM36/2^4, 0), ROUNDUP(im2colAll_confW4!AR12:FM36/2^4, 0))","v":-41},{"$f":"IF(im2colAll_confW4!AS12:FN36 > 0, ROUNDDOWN(im2colAll_confW4!AS12:FN36/2^4, 0), ROUNDUP(im2colAll_confW4!AS12:FN36/2^4, 0))","v":17},{"$f":"IF(im2colAll_confW4!AT12:FO36 > 0, ROUNDDOWN(im2colAll_confW4!AT12:FO36/2^4, 0), ROUNDUP(im2colAll_confW4!AT12:FO36/2^4, 0))","v":-50},{"$f":"IF(im2colAll_confW4!AU12:FP36 > 0, ROUNDDOWN(im2colAll_confW4!AU12:FP36/2^4, 0), ROUNDUP(im2colAll_confW4!AU12:FP36/2^4, 0))","v":-21},{"$f":"IF(im2colAll_confW4!AV12:FQ36 > 0, ROUNDDOWN(im2colAll_confW4!AV12:FQ36/2^4, 0), ROUNDUP(im2colAll_confW4!AV12:FQ36/2^4, 0))","v":-52},{"$f":"IF(im2colAll_confW4!AW12:FR36 > 0, ROUNDDOWN(im2colAll_confW4!AW12:FR36/2^4, 0), ROUNDUP(im2colAll_confW4!AW12:FR36/2^4, 0))","v":-45},{"$f":"IF(im2colAll_confW4!AX12:FS36 > 0, ROUNDDOWN(im2colAll_confW4!AX12:FS36/2^4, 0), ROUNDUP(im2colAll_confW4!AX12:FS36/2^4, 0))","v":9},{"$f":"IF(im2colAll_confW4!AY12:FT36 > 0, ROUNDDOWN(im2colAll_confW4!AY12:FT36/2^4, 0), ROUNDUP(im2colAll_confW4!AY12:FT36/2^4, 0))","v":-78},{"$f":"IF(im2colAll_confW4!AZ12:FU36 > 0, ROUNDDOWN(im2colAll_confW4!AZ12:FU36/2^4, 0), ROUNDUP(im2colAll_confW4!AZ12:FU36/2^4, 0))","v":-17},{"$f":"IF(im2colAll_confW4!BA12:FV36 > 0, ROUNDDOWN(im2colAll_confW4!BA12:FV36/2^4, 0), ROUNDUP(im2colAll_confW4!BA12:FV36/2^4, 0))","v":-19},{"$f":"IF(im2colAll_confW4!BB12:FW36 > 0, ROUNDDOWN(im2colAll_confW4!BB12:FW36/2^4, 0), ROUNDUP(im2colAll_confW4!BB12:FW36/2^4, 0))","v":11},{"$f":"IF(im2colAll_confW4!BC12:FX36 > 0, ROUNDDOWN(im2colAll_confW4!BC12:FX36/2^4, 0), ROUNDUP(im2colAll_confW4!BC12:FX36/2^4, 0))","v":0},{"$f":"IF(im2colAll_confW4!BD12:FY36 > 0, ROUNDDOWN(im2colAll_confW4!BD12:FY36/2^4, 0), ROUNDUP(im2colAll_confW4!BD12:FY36/2^4, 0))","v":47},{"$f":"IF(im2colAll_confW4!BE12:FZ36 > 0, ROUNDDOWN(im2colAll_confW4!BE12:FZ36/2^4, 0), ROUNDUP(im2colAll_confW4!BE12:FZ36/2^4, 0))","v":23},{"$f":"IF(im2colAll_confW4!BF12:GA36 > 0, ROUNDDOWN(im2colAll_confW4!BF12:GA36/2^4, 0), ROUNDUP(im2colAll_confW4!BF12:GA36/2^4, 0))","v":59},{"$f":"IF(im2colAll_confW4!BG12:GB36 > 0, ROUNDDOWN(im2colAll_confW4!BG12:GB36/2^4, 0), ROUNDUP(im2colAll_confW4!BG12:GB36/2^4, 0))","v":-51},{"$f":"IF(im2colAll_confW4!BH12:GC36 > 0, ROUNDDOWN(im2colAll_confW4!BH12:GC36/2^4, 0), ROUNDUP(im2colAll_confW4!BH12:GC36/2^4, 0))","v":-15},{"$f":"IF(im2colAll_confW4!BI12:GD36 > 0, ROUNDDOWN(im2colAll_confW4!BI12:GD36/2^4, 0), ROUNDUP(im2colAll_confW4!BI12:GD36/2^4, 0))","v":17},{"$f":"IF(im2colAll_confW4!BJ12:GE36 > 0, ROUNDDOWN(im2colAll_confW4!BJ12:GE36/2^4, 0), ROUNDUP(im2colAll_confW4!BJ12:GE36/2^4, 0))","v":-42},{"$f":"IF(im2colAll_confW4!BK12:GF36 > 0, ROUNDDOWN(im2colAll_confW4!BK12:GF36/2^4, 0), ROUNDUP(im2colAll_confW4!BK12:GF36/2^4, 0))","v":-50},{"$f":"IF(im2colAll_confW4!BL12:GG36 > 0, ROUNDDOWN(im2colAll_confW4!BL12:GG36/2^4, 0), ROUNDUP(im2colAll_confW4!BL12:GG36/2^4, 0))","v":186},{"$f":"IF(im2colAll_confW4!BM12:GH36 > 0, ROUNDDOWN(im2colAll_confW4!BM12:GH36/2^4, 0), ROUNDUP(im2colAll_confW4!BM12:GH36/2^4, 0))","v":-26},{"$f":"IF(im2colAll_confW4!BN12:GI36 > 0, ROUNDDOWN(im2colAll_confW4!BN12:GI36/2^4, 0), ROUNDUP(im2colAll_confW4!BN12:GI36/2^4, 0))","v":17},{"$f":"IF(im2colAll_confW4!BO12:GJ36 > 0, ROUNDDOWN(im2colAll_confW4!BO12:GJ36/2^4, 0), ROUNDUP(im2colAll_confW4!BO12:GJ36/2^4, 0))","v":-39},{"$f":"IF(im2colAll_confW4!BP12:GK36 > 0, ROUNDDOWN(im2colAll_confW4!BP12:GK36/2^4, 0), ROUNDUP(im2colAll_confW4!BP12:GK36/2^4, 0))","v":-50},{"$f":"IF(im2colAll_confW4!BQ12:GL36 > 0, ROUNDDOWN(im2colAll_confW4!BQ12:GL36/2^4, 0), ROUNDUP(im2colAll_confW4!BQ12:GL36/2^4, 0))","v":-65},{"$f":"IF(im2colAll_confW4!BR12:GM36 > 0, ROUNDDOWN(im2colAll_confW4!BR12:GM36/2^4, 0), ROUNDUP(im2colAll_confW4!BR12:GM36/2^4, 0))","v":-57},{"$f":"IF(im2colAll_confW4!BS12:GN36 > 0, ROUNDDOWN(im2colAll_confW4!BS12:GN36/2^4, 0), ROUNDUP(im2colAll_confW4!BS12:GN36/2^4, 0))","v":-2},{"$f":"IF(im2colAll_confW4!BT12:GO36 > 0, ROUNDDOWN(im2colAll_confW4!BT12:GO36/2^4, 0), ROUNDUP(im2colAll_confW4!BT12:GO36/2^4, 0))","v":-43},{"$f":"IF(im2colAll_confW4!BU12:GP36 > 0, ROUNDDOWN(im2colAll_confW4!BU12:GP36/2^4, 0), ROUNDUP(im2colAll_confW4!BU12:GP36/2^4, 0))","v":13},{"$f":"IF(im2colAll_confW4!BV12:GQ36 > 0, ROUNDDOWN(im2colAll_confW4!BV12:GQ36/2^4, 0), ROUNDUP(im2colAll_confW4!BV12:GQ36/2^4, 0))","v":-9},{"$f":"IF(im2colAll_confW4!BW12:GR36 > 0, ROUNDDOWN(im2colAll_confW4!BW12:GR36/2^4, 0), ROUNDUP(im2colAll_confW4!BW12:GR36/2^4, 0))","v":8},{"$f":"IF(im2colAll_confW4!BX12:GS36 > 0, ROUNDDOWN(im2colAll_confW4!BX12:GS36/2^4, 0), ROUNDUP(im2colAll_confW4!BX12:GS36/2^4, 0))","v":27},{"$f":"IF(im2colAll_confW4!BY12:GT36 > 0, ROUNDDOWN(im2colAll_confW4!BY12:GT36/2^4, 0), ROUNDUP(im2colAll_confW4!BY12:GT36/2^4, 0))","v":33},{"$f":"IF(im2colAll_confW4!BZ12:GU36 > 0, ROUNDDOWN(im2colAll_confW4!BZ12:GU36/2^4, 0), ROUNDUP(im2colAll_confW4!BZ12:GU36/2^4, 0))","v":-6},{"$f":"IF(im2colAll_confW4!CA12:GV36 > 0, ROUNDDOWN(im2colAll_confW4!CA12:GV36/2^4, 0), ROUNDUP(im2colAll_confW4!CA12:GV36/2^4, 0))","v":120},{"$f":"IF(im2colAll_confW4!CB12:GW36 > 0, ROUNDDOWN(im2colAll_confW4!CB12:GW36/2^4, 0), ROUNDUP(im2colAll_confW4!CB12:GW36/2^4, 0))","v":-21},{"$f":"IF(im2colAll_confW4!CC12:GX36 > 0, ROUNDDOWN(im2colAll_confW4!CC12:GX36/2^4, 0), ROUNDUP(im2colAll_confW4!CC12:GX36/2^4, 0))","v":-37},{"$f":"IF(im2colAll_confW4!CD12:GY36 > 0, ROUNDDOWN(im2colAll_confW4!CD12:GY36/2^4, 0), ROUNDUP(im2colAll_confW4!CD12:GY36/2^4, 0))","v":6},{"$f":"IF(im2colAll_confW4!CE12:GZ36 > 0, ROUNDDOWN(im2colAll_confW4!CE12:GZ36/2^4, 0), ROUNDUP(im2colAll_confW4!CE12:GZ36/2^4, 0))","v":-40},{"$f":"IF(im2colAll_confW4!CF12:HA36 > 0, ROUNDDOWN(im2colAll_confW4!CF12:HA36/2^4, 0), ROUNDUP(im2colAll_confW4!CF12:HA36/2^4, 0))","v":-73},{"$f":"IF(im2colAll_confW4!CG12:HB36 > 0, ROUNDDOWN(im2colAll_confW4!CG12:HB36/2^4, 0), ROUNDUP(im2colAll_confW4!CG12:HB36/2^4, 0))","v":192},{"$f":"IF(im2colAll_confW4!CH12:HC36 > 0, ROUNDDOWN(im2colAll_confW4!CH12:HC36/2^4, 0), ROUNDUP(im2colAll_confW4!CH12:HC36/2^4, 0))","v":-52},{"$f":"IF(im2colAll_confW4!CI12:HD36 > 0, ROUNDDOWN(im2colAll_confW4!CI12:HD36/2^4, 0), ROUNDUP(im2colAll_confW4!CI12:HD36/2^4, 0))","v":38},{"$f":"IF(im2colAll_confW4!CJ12:HE36 > 0, ROUNDDOWN(im2colAll_confW4!CJ12:HE36/2^4, 0), ROUNDUP(im2colAll_confW4!CJ12:HE36/2^4, 0))","v":-35},{"$f":"IF(im2colAll_confW4!CK12:HF36 > 0, ROUNDDOWN(im2colAll_confW4!CK12:HF36/2^4, 0), ROUNDUP(im2colAll_confW4!CK12:HF36/2^4, 0))","v":-7},{"$f":"IF(im2colAll_confW4!CL12:HG36 > 0, ROUNDDOWN(im2colAll_confW4!CL12:HG36/2^4, 0), ROUNDUP(im2colAll_confW4!CL12:HG36/2^4, 0))","v":-29},{"$f":"IF(im2colAll_confW4!CM12:HH36 > 0, ROUNDDOWN(im2colAll_confW4!CM12:HH36/2^4, 0), ROUNDUP(im2colAll_confW4!CM12:HH36/2^4, 0))","v":-62},{"$f":"IF(im2colAll_confW4!CN12:HI36 > 0, ROUNDDOWN(im2colAll_confW4!CN12:HI36/2^4, 0), ROUNDUP(im2colAll_confW4!CN12:HI36/2^4, 0))","v":1},{"$f":"IF(im2colAll_confW4!CO12:HJ36 > 0, ROUNDDOWN(im2colAll_confW4!CO12:HJ36/2^4, 0), ROUNDUP(im2colAll_confW4!CO12:HJ36/2^4, 0))","v":-38},{"$f":"IF(im2colAll_confW4!CP12:HK36 > 0, ROUNDDOWN(im2colAll_confW4!CP12:HK36/2^4, 0), ROUNDUP(im2colAll_confW4!CP12:HK36/2^4, 0))","v":-2},{"$f":"IF(im2colAll_confW4!CQ12:HL36 > 0, ROUNDDOWN(im2colAll_confW4!CQ12:HL36/2^4, 0), ROUNDUP(im2colAll_confW4!CQ12:HL36/2^4, 0))","v":-9},{"$f":"IF(im2colAll_confW4!CR12:HM36 > 0, ROUNDDOWN(im2colAll_confW4!CR12:HM36/2^4, 0), ROUNDUP(im2colAll_confW4!CR12:HM36/2^4, 0))","v":19},{"$f":"IF(im2colAll_confW4!CS12:HN36 > 0, ROUNDDOWN(im2colAll_confW4!CS12:HN36/2^4, 0), ROUNDUP(im2colAll_confW4!CS12:HN36/2^4, 0))","v":28},{"$f":"IF(im2colAll_confW4!CT12:HO36 > 0, ROUNDDOWN(im2colAll_confW4!CT12:HO36/2^4, 0), ROUNDUP(im2colAll_confW4!CT12:HO36/2^4, 0))","v":60},{"$f":"IF(im2colAll_confW4!CU12:HP36 > 0, ROUNDDOWN(im2colAll_confW4!CU12:HP36/2^4, 0), ROUNDUP(im2colAll_confW4!CU12:HP36/2^4, 0))","v":30},{"$f":"IF(im2colAll_confW4!CV12:HQ36 > 0, ROUNDDOWN(im2colAll_confW4!CV12:HQ36/2^4, 0), ROUNDUP(im2colAll_confW4!CV12:HQ36/2^4, 0))","v":38},{"$f":"IF(im2colAll_confW4!CW12:HR36 > 0, ROUNDDOWN(im2colAll_confW4!CW12:HR36/2^4, 0), ROUNDUP(im2colAll_confW4!CW12:HR36/2^4, 0))","v":-18},{"$f":"IF(im2colAll_confW4!CX12:HS36 > 0, ROUNDDOWN(im2colAll_confW4!CX12:HS36/2^4, 0), ROUNDUP(im2colAll_confW4!CX12:HS36/2^4, 0))","v":-26},{"$f":"IF(im2colAll_confW4!CY12:HT36 > 0, ROUNDDOWN(im2colAll_confW4!CY12:HT36/2^4, 0), ROUNDUP(im2colAll_confW4!CY12:HT36/2^4, 0))","v":18},{"$f":"IF(im2colAll_confW4!CZ12:HU36 > 0, ROUNDDOWN(im2colAll_confW4!CZ12:HU36/2^4, 0), ROUNDUP(im2colAll_confW4!CZ12:HU36/2^4, 0))","v":-19},{"$f":"IF(im2colAll_confW4!DA12:HV36 > 0, ROUNDDOWN(im2colAll_confW4!DA12:HV36/2^4, 0), ROUNDUP(im2colAll_confW4!DA12:HV36/2^4, 0))","v":-54},{"$f":"IF(im2colAll_confW4!DB12:HW36 > 0, ROUNDDOWN(im2colAll_confW4!DB12:HW36/2^4, 0), ROUNDUP(im2colAll_confW4!DB12:HW36/2^4, 0))","v":180},{"$f":"IF(im2colAll_confW4!DC12:HX36 > 0, ROUNDDOWN(im2colAll_confW4!DC12:HX36/2^4, 0), ROUNDUP(im2colAll_confW4!DC12:HX36/2^4, 0))","v":-40},{"$f":"IF(im2colAll_confW4!DD12:HY36 > 0, ROUNDDOWN(im2colAll_confW4!DD12:HY36/2^4, 0), ROUNDUP(im2colAll_confW4!DD12:HY36/2^4, 0))","v":24},{"$f":"IF(im2colAll_confW4!DE12:HZ36 > 0, ROUNDDOWN(im2colAll_confW4!DE12:HZ36/2^4, 0), ROUNDUP(im2colAll_confW4!DE12:HZ36/2^4, 0))","v":-25},{"$f":"IF(im2colAll_confW4!DF12:IA36 > 0, ROUNDDOWN(im2colAll_confW4!DF12:IA36/2^4, 0), ROUNDUP(im2colAll_confW4!DF12:IA36/2^4, 0))","v":-49},{"$f":"IF(im2colAll_confW4!DG12:IB36 > 0, ROUNDDOWN(im2colAll_confW4!DG12:IB36/2^4, 0), ROUNDUP(im2colAll_confW4!DG12:IB36/2^4, 0))","v":-58},{"$f":"IF(im2colAll_confW4!DH12:IC36 > 0, ROUNDDOWN(im2colAll_confW4!DH12:IC36/2^4, 0), ROUNDUP(im2colAll_confW4!DH12:IC36/2^4, 0))","v":-25},{"$f":"IF(im2colAll_confW4!DI12:ID36 > 0, ROUNDDOWN(im2colAll_confW4!DI12:ID36/2^4, 0), ROUNDUP(im2colAll_confW4!DI12:ID36/2^4, 0))","v":0},{"$f":"IF(im2colAll_confW4!DJ12:IE36 > 0, ROUNDDOWN(im2colAll_confW4!DJ12:IE36/2^4, 0), ROUNDUP(im2colAll_confW4!DJ12:IE36/2^4, 0))","v":-48},{"$f":"IF(im2colAll_confW4!DK12:IF36 > 0, ROUNDDOWN(im2colAll_confW4!DK12:IF36/2^4, 0), ROUNDUP(im2colAll_confW4!DK12:IF36/2^4, 0))","v":25},{"$f":"IF(im2colAll_confW4!DL12:IG36 > 0, ROUNDDOWN(im2colAll_confW4!DL12:IG36/2^4, 0), ROUNDUP(im2colAll_confW4!DL12:IG36/2^4, 0))","v":1},{"$f":"IF(im2colAll_confW4!DM12:IH36 > 0, ROUNDDOWN(im2colAll_confW4!DM12:IH36/2^4, 0), ROUNDUP(im2colAll_confW4!DM12:IH36/2^4, 0))","v":8},{"$f":"IF(im2colAll_confW4!DN12:II36 > 0, ROUNDDOWN(im2colAll_confW4!DN12:II36/2^4, 0), ROUNDUP(im2colAll_confW4!DN12:II36/2^4, 0))","v":17},{"$f":"IF(im2colAll_confW4!DO12:IJ36 > 0, ROUNDDOWN(im2colAll_confW4!DO12:IJ36/2^4, 0), ROUNDUP(im2colAll_confW4!DO12:IJ36/2^4, 0))","v":42},{"$f":"IF(im2colAll_confW4!DP12:IK36 > 0, ROUNDDOWN(im2colAll_confW4!DP12:IK36/2^4, 0), ROUNDUP(im2colAll_confW4!DP12:IK36/2^4, 0))","v":13},{"$f":"IF(im2colAll_confW4!DQ12:IL36 > 0, ROUNDDOWN(im2colAll_confW4!DQ12:IL36/2^4, 0), ROUNDUP(im2colAll_confW4!DQ12:IL36/2^4, 0))","v":102},{"$f":"IF(im2colAll_confW4!DR12:IM36 > 0, ROUNDDOWN(im2colAll_confW4!DR12:IM36/2^4, 0), ROUNDUP(im2colAll_confW4!DR12:IM36/2^4, 0))","v":-46},{"$f":"IF(im2colAll_confW4!DS12:IN36 > 0, ROUNDDOWN(im2colAll_confW4!DS12:IN36/2^4, 0), ROUNDUP(im2colAll_confW4!DS12:IN36/2^4, 0))","v":-26},{"$f":"IF(im2colAll_confW4!DT12:IO36 > 0, ROUNDDOWN(im2colAll_confW4!DT12:IO36/2^4, 0), ROUNDUP(im2colAll_confW4!DT12:IO36/2^4, 0))","v":8},{"$f":"IF(im2colAll_confW4!DU12:IP36 > 0, ROUNDDOWN(im2colAll_confW4!DU12:IP36/2^4, 0), ROUNDUP(im2colAll_confW4!DU12:IP36/2^4, 0))","v":-19},{"$f":"IF(im2colAll_confW4!DV12:IQ36 > 0, ROUNDDOWN(im2colAll_confW4!DV12:IQ36/2^4, 0), ROUNDUP(im2colAll_confW4!DV12:IQ36/2^4, 0))","v":-54}]
[{"$f":"IF(im2colAll_confW4!A13:DV37 > 0, ROUNDDOWN(im2colAll_confW4!A13:DV37/2^4, 0), ROUNDUP(im2colAll_confW4!A13:DV37/2^4, 0))","v":54},{"$f":"IF(im2colAll_confW4!B13:DW37 > 0, ROUNDDOWN(im2colAll_confW4!B13:DW37/2^4, 0), ROUNDUP(im2colAll_confW4!B13:DW37/2^4, 0))","v":-2},{"$f":"IF(im2colAll_confW4!C13:DX37 > 0, ROUNDDOWN(im2colAll_confW4!C13:DX37/2^4, 0), ROUNDUP(im2colAll_confW4!C13:DX37/2^4, 0))","v":68},{"$f":"IF(im2colAll_confW4!D13:DY37 > 0, ROUNDDOWN(im2colAll_confW4!D13:DY37/2^4, 0), ROUNDUP(im2colAll_confW4!D13:DY37/2^4, 0))","v":-30},{"$f":"IF(im2colAll_confW4!E13:DZ37 > 0, ROUNDDOWN(im2colAll_confW4!E13:DZ37/2^4, 0), ROUNDUP(im2colAll_confW4!E13:DZ37/2^4, 0))","v":-21},{"$f":"IF(im2colAll_confW4!F13:EA37 > 0, ROUNDDOWN(im2colAll_confW4!F13:EA37/2^4, 0), ROUNDUP(im2colAll_confW4!F13:EA37/2^4, 0))","v":-60},{"$f":"IF(im2colAll_confW4!G13:EB37 > 0, ROUNDDOWN(im2colAll_confW4!G13:EB37/2^4, 0), ROUNDUP(im2colAll_confW4!G13:EB37/2^4, 0))","v":-67},{"$f":"IF(im2colAll_confW4!H13:EC37 > 0, ROUNDDOWN(im2colAll_confW4!H13:EC37/2^4, 0), ROUNDUP(im2colAll_confW4!H13:EC37/2^4, 0))","v":42},{"$f":"IF(im2colAll_confW4!I13:ED37 > 0, ROUNDDOWN(im2colAll_confW4!I13:ED37/2^4, 0), ROUNDUP(im2colAll_confW4!I13:ED37/2^4, 0))","v":-45},{"$f":"IF(im2colAll_confW4!J13:EE37 > 0, ROUNDDOWN(im2colAll_confW4!J13:EE37/2^4, 0), ROUNDUP(im2colAll_confW4!J13:EE37/2^4, 0))","v":-2},{"$f":"IF(im2colAll_confW4!K13:EF37 > 0, ROUNDDOWN(im2colAll_confW4!K13:EF37/2^4, 0), ROUNDUP(im2colAll_confW4!K13:EF37/2^4, 0))","v":18},{"$f":"IF(im2colAll_confW4!L13:EG37 > 0, ROUNDDOWN(im2colAll_confW4!L13:EG37/2^4, 0), ROUNDUP(im2colAll_confW4!L13:EG37/2^4, 0))","v":-13},{"$f":"IF(im2colAll_confW4!M13:EH37 > 0, ROUNDDOWN(im2colAll_confW4!M13:EH37/2^4, 0), ROUNDUP(im2colAll_confW4!M13:EH37/2^4, 0))","v":42},{"$f":"IF(im2colAll_confW4!N13:EI37 > 0, ROUNDDOWN(im2colAll_confW4!N13:EI37/2^4, 0), ROUNDUP(im2colAll_confW4!N13:EI37/2^4, 0))","v":134},{"$f":"IF(im2colAll_confW4!O13:EJ37 > 0, ROUNDDOWN(im2colAll_confW4!O13:EJ37/2^4, 0), ROUNDUP(im2colAll_confW4!O13:EJ37/2^4, 0))","v":52},{"$f":"IF(im2colAll_confW4!P13:EK37 > 0, ROUNDDOWN(im2colAll_confW4!P13:EK37/2^4, 0), ROUNDUP(im2colAll_confW4!P13:EK37/2^4, 0))","v":91},{"$f":"IF(im2colAll_confW4!Q13:EL37 > 0, ROUNDDOWN(im2colAll_confW4!Q13:EL37/2^4, 0), ROUNDUP(im2colAll_confW4!Q13:EL37/2^4, 0))","v":-98},{"$f":"IF(im2colAll_confW4!R13:EM37 > 0, ROUNDDOWN(im2colAll_confW4!R13:EM37/2^4, 0), ROUNDUP(im2colAll_confW4!R13:EM37/2^4, 0))","v":-3},{"$f":"IF(im2colAll_confW4!S13:EN37 > 0, ROUNDDOWN(im2colAll_confW4!S13:EN37/2^4, 0), ROUNDUP(im2colAll_confW4!S13:EN37/2^4, 0))","v":35},{"$f":"IF(im2colAll_confW4!T13:EO37 > 0, ROUNDDOWN(im2colAll_confW4!T13:EO37/2^4, 0), ROUNDUP(im2colAll_confW4!T13:EO37/2^4, 0))","v":-14},{"$f":"IF(im2colAll_confW4!U13:EP37 > 0, ROUNDDOWN(im2colAll_confW4!U13:EP37/2^4, 0), ROUNDUP(im2colAll_confW4!U13:EP37/2^4, 0))","v":-85},{"$f":"IF(im2colAll_confW4!V13:EQ37 > 0, ROUNDDOWN(im2colAll_confW4!V13:EQ37/2^4, 0), ROUNDUP(im2colAll_confW4!V13:EQ37/2^4, 0))","v":17},{"$f":"IF(im2colAll_confW4!W13:ER37 > 0, ROUNDDOWN(im2colAll_confW4!W13:ER37/2^4, 0), ROUNDUP(im2colAll_confW4!W13:ER37/2^4, 0))","v":-24},{"$f":"IF(im2colAll_confW4!X13:ES37 > 0, ROUNDDOWN(im2colAll_confW4!X13:ES37/2^4, 0), ROUNDUP(im2colAll_confW4!X13:ES37/2^4, 0))","v":51},{"$f":"IF(im2colAll_confW4!Y13:ET37 > 0, ROUNDDOWN(im2colAll_confW4!Y13:ET37/2^4, 0), ROUNDUP(im2colAll_confW4!Y13:ET37/2^4, 0))","v":-25},{"$f":"IF(im2colAll_confW4!Z13:EU37 > 0, ROUNDDOWN(im2colAll_confW4!Z13:EU37/2^4, 0), ROUNDUP(im2colAll_confW4!Z13:EU37/2^4, 0))","v":-26},{"$f":"IF(im2colAll_confW4!AA13:EV37 > 0, ROUNDDOWN(im2colAll_confW4!AA13:EV37/2^4, 0), ROUNDUP(im2colAll_confW4!AA13:EV37/2^4, 0))","v":-89},{"$f":"IF(im2colAll_confW4!AB13:EW37 > 0, ROUNDDOWN(im2colAll_confW4!AB13:EW37/2^4, 0), ROUNDUP(im2colAll_confW4!AB13:EW37/2^4, 0))","v":-54},{"$f":"IF(im2colAll_confW4!AC13:EX37 > 0, ROUNDDOWN(im2colAll_confW4!AC13:EX37/2^4, 0), ROUNDUP(im2colAll_confW4!AC13:EX37/2^4, 0))","v":65},{"$f":"IF(im2colAll_confW4!AD13:EY37 > 0, ROUNDDOWN(im2colAll_confW4!AD13:EY37/2^4, 0), ROUNDUP(im2colAll_confW4!AD13:EY37/2^4, 0))","v":-50},{"$f":"IF(im2colAll_confW4!AE13:EZ37 > 0, ROUNDDOWN(im2colAll_confW4!AE13:EZ37/2^4, 0), ROUNDUP(im2colAll_confW4!AE13:EZ37/2^4, 0))","v":-8},{"$f":"IF(im2colAll_confW4!AF13:FA37 > 0, ROUNDDOWN(im2colAll_confW4!AF13:FA37/2^4, 0), ROUNDUP(im2colAll_confW4!AF13:FA37/2^4, 0))","v":33},{"$f":"IF(im2colAll_confW4!AG13:FB37 > 0, ROUNDDOWN(im2colAll_confW4!AG13:FB37/2^4, 0), ROUNDUP(im2colAll_confW4!AG13:FB37/2^4, 0))","v":-15},{"$f":"IF(im2colAll_confW4!AH13:FC37 > 0, ROUNDDOWN(im2colAll_confW4!AH13:FC37/2^4, 0), ROUNDUP(im2colAll_confW4!AH13:FC37/2^4, 0))","v":57},{"$f":"IF(im2colAll_confW4!AI13:FD37 > 0, ROUNDDOWN(im2colAll_confW4!AI13:FD37/2^4, 0), ROUNDUP(im2colAll_confW4!AI13:FD37/2^4, 0))","v":122},{"$f":"IF(im2colAll_confW4!AJ13:FE37 > 0, ROUNDDOWN(im2colAll_confW4!AJ13:FE37/2^4, 0), ROUNDUP(im2colAll_confW4!AJ13:FE37/2^4, 0))","v":66},{"$f":"IF(im2colAll_confW4!AK13:FF37 > 0, ROUNDDOWN(im2colAll_confW4!AK13:FF37/2^4, 0), ROUNDUP(im2colAll_confW4!AK13:FF37/2^4, 0))","v":100},{"$f":"IF(im2colAll_confW4!AL13:FG37 > 0, ROUNDDOWN(im2colAll_confW4!AL13:FG37/2^4, 0), ROUNDUP(im2colAll_confW4!AL13:FG37/2^4, 0))","v":-75},{"$f":"IF(im2colAll_confW4!AM13:FH37 > 0, ROUNDDOWN(im2colAll_confW4!AM13:FH37/2^4, 0), ROUNDUP(im2colAll_confW4!AM13:FH37/2^4, 0))","v":-15},{"$f":"IF(im2colAll_confW4!AN13:FI37 > 0, ROUNDDOWN(im2colAll_confW4!AN13:FI37/2^4, 0), ROUNDUP(im2colAll_confW4!AN13:FI37/2^4, 0))","v":33},{"$f":"IF(im2colAll_confW4!AO13:FJ37 > 0, ROUNDDOWN(im2colAll_confW4!AO13:FJ37/2^4, 0), ROUNDUP(im2colAll_confW4!AO13:FJ37/2^4, 0))","v":-11},{"$f":"IF(im2colAll_confW4!AP13:FK37 > 0, ROUNDDOWN(im2colAll_confW4!AP13:FK37/2^4, 0), ROUNDUP(im2colAll_confW4!AP13:FK37/2^4, 0))","v":-86},{"$f":"IF(im2colAll_confW4!AQ13:FL37 > 0, ROUNDDOWN(im2colAll_confW4!AQ13:FL37/2^4, 0), ROUNDUP(im2colAll_confW4!AQ13:FL37/2^4, 0))","v":120},{"$f":"IF(im2colAll_confW4!AR13:FM37 > 0, ROUNDDOWN(im2colAll_confW4!AR13:FM37/2^4, 0), ROUNDUP(im2colAll_confW4!AR13:FM37/2^4, 0))","v":-48},{"$f":"IF(im2colAll_confW4!AS13:FN37 > 0, ROUNDDOWN(im2colAll_confW4!AS13:FN37/2^4, 0), ROUNDUP(im2colAll_confW4!AS13:FN37/2^4, 0))","v":34},{"$f":"IF(im2colAll_confW4!AT13:FO37 > 0, ROUNDDOWN(im2colAll_confW4!AT13:FO37/2^4, 0), ROUNDUP(im2colAll_confW4!AT13:FO37/2^4, 0))","v":-45},{"$f":"IF(im2colAll_confW4!AU13:FP37 > 0, ROUNDDOWN(im2colAll_confW4!AU13:FP37/2^4, 0), ROUNDUP(im2colAll_confW4!AU13:FP37/2^4, 0))","v":-32},{"$f":"IF(im2colAll_confW4!AV13:FQ37 > 0, ROUNDDOWN(im2colAll_confW4!AV13:FQ37/2^4, 0), ROUNDUP(im2colAll_confW4!AV13:FQ37/2^4, 0))","v":-65},{"$f":"IF(im2colAll_confW4!AW13:FR37 > 0, ROUNDDOWN(im2colAll_confW4!AW13:FR37/2^4, 0), ROUNDUP(im2colAll_confW4!AW13:FR37/2^4, 0))","v":-46},{"$f":"IF(im2colAll_confW4!AX13:FS37 > 0, ROUNDDOWN(im2colAll_confW4!AX13:FS37/2^4, 0), ROUNDUP(im2colAll_confW4!AX13:FS37/2^4, 0))","v":4},{"$f":"IF(im2colAll_confW4!AY13:FT37 > 0, ROUNDDOWN(im2colAll_confW4!AY13:FT37/2^4, 0), ROUNDUP(im2colAll_confW4!AY13:FT37/2^4, 0))","v":-64},{"$f":"IF(im2colAll_confW4!AZ13:FU37 > 0, ROUNDDOWN(im2colAll_confW4!AZ13:FU37/2^4, 0), ROUNDUP(im2colAll_confW4!AZ13:FU37/2^4, 0))","v":-30},{"$f":"IF(im2colAll_confW4!BA13:FV37 > 0, ROUNDDOWN(im2colAll_confW4!BA13:FV37/2^4, 0), ROUNDUP(im2colAll_confW4!BA13:FV37/2^4, 0))","v":-1},{"$f":"IF(im2colAll_confW4!BB13:FW37 > 0, ROUNDDOWN(im2colAll_confW4!BB13:FW37/2^4, 0), ROUNDUP(im2colAll_confW4!BB13:FW37/2^4, 0))","v":-14},{"$f":"IF(im2colAll_confW4!BC13:FX37 > 0, ROUNDDOWN(im2colAll_confW4!BC13:FX37/2^4, 0), ROUNDUP(im2colAll_confW4!BC13:FX37/2^4, 0))","v":16},{"$f":"IF(im2colAll_confW4!BD13:FY37 > 0, ROUNDDOWN(im2colAll_confW4!BD13:FY37/2^4, 0), ROUNDUP(im2colAll_confW4!BD13:FY37/2^4, 0))","v":105},{"$f":"IF(im2colAll_confW4!BE13:FZ37 > 0, ROUNDDOWN(im2colAll_confW4!BE13:FZ37/2^4, 0), ROUNDUP(im2colAll_confW4!BE13:FZ37/2^4, 0))","v":25},{"$f":"IF(im2colAll_confW4!BF13:GA37 > 0, ROUNDDOWN(im2colAll_confW4!BF13:GA37/2^4, 0), ROUNDUP(im2colAll_confW4!BF13:GA37/2^4, 0))","v":47},{"$f":"IF(im2colAll_confW4!BG13:GB37 > 0, ROUNDDOWN(im2colAll_confW4!BG13:GB37/2^4, 0), ROUNDUP(im2colAll_confW4!BG13:GB37/2^4, 0))","v":-75},{"$f":"IF(im2colAll_confW4!BH13:GC37 > 0, ROUNDDOWN(im2colAll_confW4!BH13:GC37/2^4, 0), ROUNDUP(im2colAll_confW4!BH13:GC37/2^4, 0))","v":-14},{"$f":"IF(im2colAll_confW4!BI13:GD37 > 0, ROUNDDOWN(im2colAll_confW4!BI13:GD37/2^4, 0), ROUNDUP(im2colAll_confW4!BI13:GD37/2^4, 0))","v":11},{"$f":"IF(im2colAll_confW4!BJ13:GE37 > 0, ROUNDDOWN(im2colAll_confW4!BJ13:GE37/2^4, 0), ROUNDUP(im2colAll_confW4!BJ13:GE37/2^4, 0))","v":-38},{"$f":"IF(im2colAll_confW4!BK13:GF37 > 0, ROUNDDOWN(im2colAll_confW4!BK13:GF37/2^4, 0), ROUNDUP(im2colAll_confW4!BK13:GF37/2^4, 0))","v":-67},{"$f":"IF(im2colAll_confW4!BL13:GG37 > 0, ROUNDDOWN(im2colAll_confW4!BL13:GG37/2^4, 0), ROUNDUP(im2colAll_confW4!BL13:GG37/2^4, 0))","v":102},{"$f":"IF(im2colAll_confW4!BM13:GH37 > 0, ROUNDDOWN(im2colAll_confW4!BM13:GH37/2^4, 0), ROUNDUP(im2colAll_confW4!BM13:GH37/2^4, 0))","v":-24},{"$f":"IF(im2colAll_confW4!BN13:GI37 > 0, ROUNDDOWN(im2colAll_confW4!BN13:GI37/2^4, 0), ROUNDUP(im2colAll_confW4!BN13:GI37/2^4, 0))","v":35},{"$f":"IF(im2colAll_confW4!BO13:GJ37 > 0, ROUNDDOWN(im2colAll_confW4!BO13:GJ37/2^4, 0), ROUNDUP(im2colAll_confW4!BO13:GJ37/2^4, 0))","v":-41},{"$f":"IF(im2colAll_confW4!BP13:GK37 > 0, ROUNDDOWN(im2colAll_confW4!BP13:GK37/2^4, 0), ROUNDUP(im2colAll_confW4!BP13:GK37/2^4, 0))","v":-62},{"$f":"IF(im2colAll_confW4!BQ13:GL37 > 0, ROUNDDOWN(im2colAll_confW4!BQ13:GL37/2^4, 0), ROUNDUP(im2colAll_confW4!BQ13:GL37/2^4, 0))","v":-84},{"$f":"IF(im2colAll_confW4!BR13:GM37 > 0, ROUNDDOWN(im2colAll_confW4!BR13:GM37/2^4, 0), ROUNDUP(im2colAll_confW4!BR13:GM37/2^4, 0))","v":-86},{"$f":"IF(im2colAll_confW4!BS13:GN37 > 0, ROUNDDOWN(im2colAll_confW4!BS13:GN37/2^4, 0), ROUNDUP(im2colAll_confW4!BS13:GN37/2^4, 0))","v":4},{"$f":"IF(im2colAll_confW4!BT13:GO37 > 0, ROUNDDOWN(im2colAll_confW4!BT13:GO37/2^4, 0), ROUNDUP(im2colAll_confW4!BT13:GO37/2^4, 0))","v":-23},{"$f":"IF(im2colAll_confW4!BU13:GP37 > 0, ROUNDDOWN(im2colAll_confW4!BU13:GP37/2^4, 0), ROUNDUP(im2colAll_confW4!BU13:GP37/2^4, 0))","v":10},{"$f":"IF(im2colAll_confW4!BV13:GQ37 > 0, ROUNDDOWN(im2colAll_confW4!BV13:GQ37/2^4, 0), ROUNDUP(im2colAll_confW4!BV13:GQ37/2^4, 0))","v":15},{"$f":"IF(im2colAll_confW4!BW13:GR37 > 0, ROUNDDOWN(im2colAll_confW4!BW13:GR37/2^4, 0), ROUNDUP(im2colAll_confW4!BW13:GR37/2^4, 0))","v":-21},{"$f":"IF(im2colAll_confW4!BX13:GS37 > 0, ROUNDDOWN(im2colAll_confW4!BX13:GS37/2^4, 0), ROUNDUP(im2colAll_confW4!BX13:GS37/2^4, 0))","v":39},{"$f":"IF(im2colAll_confW4!BY13:GT37 > 0, ROUNDDOWN(im2colAll_confW4!BY13:GT37/2^4, 0), ROUNDUP(im2colAll_confW4!BY13:GT37/2^4, 0))","v":92},{"$f":"IF(im2colAll_confW4!BZ13:GU37 > 0, ROUNDDOWN(im2colAll_confW4!BZ13:GU37/2^4, 0), ROUNDUP(im2colAll_confW4!BZ13:GU37/2^4, 0))","v":12},{"$f":"IF(im2colAll_confW4!CA13:GV37 > 0, ROUNDDOWN(im2colAll_confW4!CA13:GV37/2^4, 0), ROUNDUP(im2colAll_confW4!CA13:GV37/2^4, 0))","v":138},{"$f":"IF(im2colAll_confW4!CB13:GW37 > 0, ROUNDDOWN(im2colAll_confW4!CB13:GW37/2^4, 0), ROUNDUP(im2colAll_confW4!CB13:GW37/2^4, 0))","v":-83},{"$f":"IF(im2colAll_confW4!CC13:GX37 > 0, ROUNDDOWN(im2colAll_confW4!CC13:GX37/2^4, 0), ROUNDUP(im2colAll_confW4!CC13:GX37/2^4, 0))","v":-16},{"$f":"IF(im2colAll_confW4!CD13:GY37 > 0, ROUNDDOWN(im2colAll_confW4!CD13:GY37/2^4, 0), ROUNDUP(im2colAll_confW4!CD13:GY37/2^4, 0))","v":25},{"$f":"IF(im2colAll_confW4!CE13:GZ37 > 0, ROUNDDOWN(im2colAll_confW4!CE13:GZ37/2^4, 0), ROUNDUP(im2colAll_confW4!CE13:GZ37/2^4, 0))","v":-39},{"$f":"IF(im2colAll_confW4!CF13:HA37 > 0, ROUNDDOWN(im2colAll_confW4!CF13:HA37/2^4, 0), ROUNDUP(im2colAll_confW4!CF13:HA37/2^4, 0))","v":-77},{"$f":"IF(im2colAll_confW4!CG13:HB37 > 0, ROUNDDOWN(im2colAll_confW4!CG13:HB37/2^4, 0), ROUNDUP(im2colAll_confW4!CG13:HB37/2^4, 0))","v":184},{"$f":"IF(im2colAll_confW4!CH13:HC37 > 0, ROUNDDOWN(im2colAll_confW4!CH13:HC37/2^4, 0), ROUNDUP(im2colAll_confW4!CH13:HC37/2^4, 0))","v":-34},{"$f":"IF(im2colAll_confW4!CI13:HD37 > 0, ROUNDDOWN(im2colAll_confW4!CI13:HD37/2^4, 0), ROUNDUP(im2colAll_confW4!CI13:HD37/2^4, 0))","v":54},{"$f":"IF(im2colAll_confW4!CJ13:HE37 > 0, ROUNDDOWN(im2colAll_confW4!CJ13:HE37/2^4, 0), ROUNDUP(im2colAll_confW4!CJ13:HE37/2^4, 0))","v":-29},{"$f":"IF(im2colAll_confW4!CK13:HF37 > 0, ROUNDDOWN(im2colAll_confW4!CK13:HF37/2^4, 0), ROUNDUP(im2colAll_confW4!CK13:HF37/2^4, 0))","v":-18},{"$f":"IF(im2colAll_confW4!CL13:HG37 > 0, ROUNDDOWN(im2colAll_confW4!CL13:HG37/2^4, 0), ROUNDUP(im2colAll_confW4!CL13:HG37/2^4, 0))","v":-54},{"$f":"IF(im2colAll_confW4!CM13:HH37 > 0, ROUNDDOWN(im2colAll_confW4!CM13:HH37/2^4, 0), ROUNDUP(im2colAll_confW4!CM13:HH37/2^4, 0))","v":-97},{"$f":"IF(im2colAll_confW4!CN13:HI37 > 0, ROUNDDOWN(im2colAll_confW4!CN13:HI37/2^4, 0), ROUNDUP(im2colAll_confW4!CN13:HI37/2^4, 0))","v":10},{"$f":"IF(im2colAll_confW4!CO13:HJ37 > 0, ROUNDDOWN(im2colAll_confW4!CO13:HJ37/2^4, 0), ROUNDUP(im2colAll_confW4!CO13:HJ37/2^4, 0))","v":-31},{"$f":"IF(im2colAll_confW4!CP13:HK37 > 0, ROUNDDOWN(im2colAll_confW4!CP13:HK37/2^4, 0), ROUNDUP(im2colAll_confW4!CP13:HK37/2^4, 0))","v":-4},{"$f":"IF(im2colAll_confW4!CQ13:HL37 > 0, ROUNDDOWN(im2colAll_confW4!CQ13:HL37/2^4, 0), ROUNDUP(im2colAll_confW4!CQ13:HL37/2^4, 0))","v":14},{"$f":"IF(im2colAll_confW4!CR13:HM37 > 0, ROUNDDOWN(im2colAll_confW4!CR13:HM37/2^4, 0), ROUNDUP(im2colAll_confW4!CR13:HM37/2^4, 0))","v":9},{"$f":"IF(im2colAll_confW4!CS13:HN37 > 0, ROUNDDOWN(im2colAll_confW4!CS13:HN37/2^4, 0), ROUNDUP(im2colAll_confW4!CS13:HN37/2^4, 0))","v":27},{"$f":"IF(im2colAll_confW4!CT13:HO37 > 0, ROUNDDOWN(im2colAll_confW4!CT13:HO37/2^4, 0), ROUNDUP(im2colAll_confW4!CT13:HO37/2^4, 0))","v":94},{"$f":"IF(im2colAll_confW4!CU13:HP37 > 0, ROUNDDOWN(im2colAll_confW4!CU13:HP37/2^4, 0), ROUNDUP(im2colAll_confW4!CU13:HP37/2^4, 0))","v":19},{"$f":"IF(im2colAll_confW4!CV13:HQ37 > 0, ROUNDDOWN(im2colAll_confW4!CV13:HQ37/2^4, 0), ROUNDUP(im2colAll_confW4!CV13:HQ37/2^4, 0))","v":34},{"$f":"IF(im2colAll_confW4!CW13:HR37 > 0, ROUNDDOWN(im2colAll_confW4!CW13:HR37/2^4, 0), ROUNDUP(im2colAll_confW4!CW13:HR37/2^4, 0))","v":-45},{"$f":"IF(im2colAll_confW4!CX13:HS37 > 0, ROUNDDOWN(im2colAll_confW4!CX13:HS37/2^4, 0), ROUNDUP(im2colAll_confW4!CX13:HS37/2^4, 0))","v":-18},{"$f":"IF(im2colAll_confW4!CY13:HT37 > 0, ROUNDDOWN(im2colAll_confW4!CY13:HT37/2^4, 0), ROUNDUP(im2colAll_confW4!CY13:HT37/2^4, 0))","v":27},{"$f":"IF(im2colAll_confW4!CZ13:HU37 > 0, ROUNDDOWN(im2colAll_confW4!CZ13:HU37/2^4, 0), ROUNDUP(im2colAll_confW4!CZ13:HU37/2^4, 0))","v":-22},{"$f":"IF(im2colAll_confW4!DA13:HV37 > 0, ROUNDDOWN(im2colAll_confW4!DA13:HV37/2^4, 0), ROUNDUP(im2colAll_confW4!DA13:HV37/2^4, 0))","v":-72},{"$f":"IF(im2colAll_confW4!DB13:HW37 > 0, ROUNDDOWN(im2colAll_confW4!DB13:HW37/2^4, 0), ROUNDUP(im2colAll_confW4!DB13:HW37/2^4, 0))","v":155},{"$f":"IF(im2colAll_confW4!DC13:HX37 > 0, ROUNDDOWN(im2colAll_confW4!DC13:HX37/2^4, 0), ROUNDUP(im2colAll_confW4!DC13:HX37/2^4, 0))","v":-11},{"$f":"IF(im2colAll_confW4!DD13:HY37 > 0, ROUNDDOWN(im2colAll_confW4!DD13:HY37/2^4, 0), ROUNDUP(im2colAll_confW4!DD13:HY37/2^4, 0))","v":29},{"$f":"IF(im2colAll_confW4!DE13:HZ37 > 0, ROUNDDOWN(im2colAll_confW4!DE13:HZ37/2^4, 0), ROUNDUP(im2colAll_confW4!DE13:HZ37/2^4, 0))","v":-22},{"$f":"IF(im2colAll_confW4!DF13:IA37 > 0, ROUNDDOWN(im2colAll_confW4!DF13:IA37/2^4, 0), ROUNDUP(im2colAll_confW4!DF13:IA37/2^4, 0))","v":-51},{"$f":"IF(im2colAll_confW4!DG13:IB37 > 0, ROUNDDOWN(im2colAll_confW4!DG13:IB37/2^4, 0), ROUNDUP(im2colAll_confW4!DG13:IB37/2^4, 0))","v":-69},{"$f":"IF(im2colAll_confW4!DH13:IC37 > 0, ROUNDDOWN(im2colAll_confW4!DH13:IC37/2^4, 0), ROUNDUP(im2colAll_confW4!DH13:IC37/2^4, 0))","v":-28},{"$f":"IF(im2colAll_confW4!DI13:ID37 > 0, ROUNDDOWN(im2colAll_confW4!DI13:ID37/2^4, 0), ROUNDUP(im2colAll_confW4!DI13:ID37/2^4, 0))","v":-1},{"$f":"IF(im2colAll_confW4!DJ13:IE37 > 0, ROUNDDOWN(im2colAll_confW4!DJ13:IE37/2^4, 0), ROUNDUP(im2colAll_confW4!DJ13:IE37/2^4, 0))","v":-48},{"$f":"IF(im2colAll_confW4!DK13:IF37 > 0, ROUNDDOWN(im2colAll_confW4!DK13:IF37/2^4, 0), ROUNDUP(im2colAll_confW4!DK13:IF37/2^4, 0))","v":28},{"$f":"IF(im2colAll_confW4!DL13:IG37 > 0, ROUNDDOWN(im2colAll_confW4!DL13:IG37/2^4, 0), ROUNDUP(im2colAll_confW4!DL13:IG37/2^4, 0))","v":-1},{"$f":"IF(im2colAll_confW4!DM13:IH37 > 0, ROUNDDOWN(im2colAll_confW4!DM13:IH37/2^4, 0), ROUNDUP(im2colAll_confW4!DM13:IH37/2^4, 0))","v":-7},{"$f":"IF(im2colAll_confW4!DN13:II37 > 0, ROUNDDOWN(im2colAll_confW4!DN13:II37/2^4, 0), ROUNDUP(im2colAll_confW4!DN13:II37/2^4, 0))","v":29},{"$f":"IF(im2colAll_confW4!DO13:IJ37 > 0, ROUNDDOWN(im2colAll_confW4!DO13:IJ37/2^4, 0), ROUNDUP(im2colAll_confW4!DO13:IJ37/2^4, 0))","v":70},{"$f":"IF(im2colAll_confW4!DP13:IK37 > 0, ROUNDDOWN(im2colAll_confW4!DP13:IK37/2^4, 0), ROUNDUP(im2colAll_confW4!DP13:IK37/2^4, 0))","v":21},{"$f":"IF(im2colAll_confW4!DQ13:IL37 > 0, ROUNDDOWN(im2colAll_confW4!DQ13:IL37/2^4, 0), ROUNDUP(im2colAll_confW4!DQ13:IL37/2^4, 0))","v":176},{"$f":"IF(im2colAll_confW4!DR13:IM37 > 0, ROUNDDOWN(im2colAll_confW4!DR13:IM37/2^4, 0), ROUNDUP(im2colAll_confW4!DR13:IM37/2^4, 0))","v":-76},{"$f":"IF(im2colAll_confW4!DS13:IN37 > 0, ROUNDDOWN(im2colAll_confW4!DS13:IN37/2^4, 0), ROUNDUP(im2colAll_confW4!DS13:IN37/2^4, 0))","v":-35},{"$f":"IF(im2colAll_confW4!DT13:IO37 > 0, ROUNDDOWN(im2colAll_confW4!DT13:IO37/2^4, 0), ROUNDUP(im2colAll_confW4!DT13:IO37/2^4, 0))","v":12},{"$f":"IF(im2colAll_confW4!DU13:IP37 > 0, ROUNDDOWN(im2colAll_confW4!DU13:IP37/2^4, 0), ROUNDUP(im2colAll_confW4!DU13:IP37/2^4, 0))","v":-16},{"$f":"IF(im2colAll_confW4!DV13:IQ37 > 0, ROUNDDOWN(im2colAll_confW4!DV13:IQ37/2^4, 0), ROUNDUP(im2colAll_confW4!DV13:IQ37/2^4, 0))","v":-75}]
[{"$f":"IF(im2colAll_confW4!A14:DV38 > 0, ROUNDDOWN(im2colAll_confW4!A14:DV38/2^4, 0), ROUNDUP(im2colAll_confW4!A14:DV38/2^4, 0))","v":172},{"$f":"IF(im2colAll_confW4!B14:DW38 > 0, ROUNDDOWN(im2colAll_confW4!B14:DW38/2^4, 0), ROUNDUP(im2colAll_confW4!B14:DW38/2^4, 0))","v":-37},{"$f":"IF(im2colAll_confW4!C14:DX38 > 0, ROUNDDOWN(im2colAll_confW4!C14:DX38/2^4, 0), ROUNDUP(im2colAll_confW4!C14:DX38/2^4, 0))","v":32},{"$f":"IF(im2colAll_confW4!D14:DY38 > 0, ROUNDDOWN(im2colAll_confW4!D14:DY38/2^4, 0), ROUNDUP(im2colAll_confW4!D14:DY38/2^4, 0))","v":-44},{"$f":"IF(im2colAll_confW4!E14:DZ38 > 0, ROUNDDOWN(im2colAll_confW4!E14:DZ38/2^4, 0), ROUNDUP(im2colAll_confW4!E14:DZ38/2^4, 0))","v":-34},{"$f":"IF(im2colAll_confW4!F14:EA38 > 0, ROUNDDOWN(im2colAll_confW4!F14:EA38/2^4, 0), ROUNDUP(im2colAll_confW4!F14:EA38/2^4, 0))","v":-59},{"$f":"IF(im2colAll_confW4!G14:EB38 > 0, ROUNDDOWN(im2colAll_confW4!G14:EB38/2^4, 0), ROUNDUP(im2colAll_confW4!G14:EB38/2^4, 0))","v":-81},{"$f":"IF(im2colAll_confW4!H14:EC38 > 0, ROUNDDOWN(im2colAll_confW4!H14:EC38/2^4, 0), ROUNDUP(im2colAll_confW4!H14:EC38/2^4, 0))","v":17},{"$f":"IF(im2colAll_confW4!I14:ED38 > 0, ROUNDDOWN(im2colAll_confW4!I14:ED38/2^4, 0), ROUNDUP(im2colAll_confW4!I14:ED38/2^4, 0))","v":-51},{"$f":"IF(im2colAll_confW4!J14:EE38 > 0, ROUNDDOWN(im2colAll_confW4!J14:EE38/2^4, 0), ROUNDUP(im2colAll_confW4!J14:EE38/2^4, 0))","v":15},{"$f":"IF(im2colAll_confW4!K14:EF38 > 0, ROUNDDOWN(im2colAll_confW4!K14:EF38/2^4, 0), ROUNDUP(im2colAll_confW4!K14:EF38/2^4, 0))","v":25},{"$f":"IF(im2colAll_confW4!L14:EG38 > 0, ROUNDDOWN(im2colAll_confW4!L14:EG38/2^4, 0), ROUNDUP(im2colAll_confW4!L14:EG38/2^4, 0))","v":6},{"$f":"IF(im2colAll_confW4!M14:EH38 > 0, ROUNDDOWN(im2colAll_confW4!M14:EH38/2^4, 0), ROUNDUP(im2colAll_confW4!M14:EH38/2^4, 0))","v":34},{"$f":"IF(im2colAll_confW4!N14:EI38 > 0, ROUNDDOWN(im2colAll_confW4!N14:EI38/2^4, 0), ROUNDUP(im2colAll_confW4!N14:EI38/2^4, 0))","v":86},{"$f":"IF(im2colAll_confW4!O14:EJ38 > 0, ROUNDDOWN(im2colAll_confW4!O14:EJ38/2^4, 0), ROUNDUP(im2colAll_confW4!O14:EJ38/2^4, 0))","v":2},{"$f":"IF(im2colAll_confW4!P14:EK38 > 0, ROUNDDOWN(im2colAll_confW4!P14:EK38/2^4, 0), ROUNDUP(im2colAll_confW4!P14:EK38/2^4, 0))","v":91},{"$f":"IF(im2colAll_confW4!Q14:EL38 > 0, ROUNDDOWN(im2colAll_confW4!Q14:EL38/2^4, 0), ROUNDUP(im2colAll_confW4!Q14:EL38/2^4, 0))","v":-64},{"$f":"IF(im2colAll_confW4!R14:EM38 > 0, ROUNDDOWN(im2colAll_confW4!R14:EM38/2^4, 0), ROUNDUP(im2colAll_confW4!R14:EM38/2^4, 0))","v":-18},{"$f":"IF(im2colAll_confW4!S14:EN38 > 0, ROUNDDOWN(im2colAll_confW4!S14:EN38/2^4, 0), ROUNDUP(im2colAll_confW4!S14:EN38/2^4, 0))","v":26},{"$f":"IF(im2colAll_confW4!T14:EO38 > 0, ROUNDDOWN(im2colAll_confW4!T14:EO38/2^4, 0), ROUNDUP(im2colAll_confW4!T14:EO38/2^4, 0))","v":-8},{"$f":"IF(im2colAll_confW4!U14:EP38 > 0, ROUNDDOWN(im2colAll_confW4!U14:EP38/2^4, 0), ROUNDUP(im2colAll_confW4!U14:EP38/2^4, 0))","v":-87},{"$f":"IF(im2colAll_confW4!V14:EQ38 > 0, ROUNDDOWN(im2colAll_confW4!V14:EQ38/2^4, 0), ROUNDUP(im2colAll_confW4!V14:EQ38/2^4, 0))","v":115},{"$f":"IF(im2colAll_confW4!W14:ER38 > 0, ROUNDDOWN(im2colAll_confW4!W14:ER38/2^4, 0), ROUNDUP(im2colAll_confW4!W14:ER38/2^4, 0))","v":-37},{"$f":"IF(im2colAll_confW4!X14:ES38 > 0, ROUNDDOWN(im2colAll_confW4!X14:ES38/2^4, 0), ROUNDUP(im2colAll_confW4!X14:ES38/2^4, 0))","v":17},{"$f":"IF(im2colAll_confW4!Y14:ET38 > 0, ROUNDDOWN(im2colAll_confW4!Y14:ET38/2^4, 0), ROUNDUP(im2colAll_confW4!Y14:ET38/2^4, 0))","v":-46},{"$f":"IF(im2colAll_confW4!Z14:EU38 > 0, ROUNDDOWN(im2colAll_confW4!Z14:EU38/2^4, 0), ROUNDUP(im2colAll_confW4!Z14:EU38/2^4, 0))","v":-36},{"$f":"IF(im2colAll_confW4!AA14:EV38 > 0, ROUNDDOWN(im2colAll_confW4!AA14:EV38/2^4, 0), ROUNDUP(im2colAll_confW4!AA14:EV38/2^4, 0))","v":-82},{"$f":"IF(im2colAll_confW4!AB14:EW38 > 0, ROUNDDOWN(im2colAll_confW4!AB14:EW38/2^4, 0), ROUNDUP(im2colAll_confW4!AB14:EW38/2^4, 0))","v":-74},{"$f":"IF(im2colAll_confW4!AC14:EX38 > 0, ROUNDDOWN(im2colAll_confW4!AC14:EX38/2^4, 0), ROUNDUP(im2colAll_confW4!AC14:EX38/2^4, 0))","v":41},{"$f":"IF(im2colAll_confW4!AD14:EY38 > 0, ROUNDDOWN(im2colAll_confW4!AD14:EY38/2^4, 0), ROUNDUP(im2colAll_confW4!AD14:EY38/2^4, 0))","v":-58},{"$f":"IF(im2colAll_confW4!AE14:EZ38 > 0, ROUNDDOWN(im2colAll_confW4!AE14:EZ38/2^4, 0), ROUNDUP(im2colAll_confW4!AE14:EZ38/2^4, 0))","v":-15},{"$f":"IF(im2colAll_confW4!AF14:FA38 > 0, ROUNDDOWN(im2colAll_confW4!AF14:FA38/2^4, 0), ROUNDUP(im2colAll_confW4!AF14:FA38/2^4, 0))","v":33},{"$f":"IF(im2colAll_confW4!AG14:FB38 > 0, ROUNDDOWN(im2colAll_confW4!AG14:FB38/2^4, 0), ROUNDUP(im2colAll_confW4!AG14:FB38/2^4, 0))","v":11},{"$f":"IF(im2colAll_confW4!AH14:FC38 > 0, ROUNDDOWN(im2colAll_confW4!AH14:FC38/2^4, 0), ROUNDUP(im2colAll_confW4!AH14:FC38/2^4, 0))","v":42},{"$f":"IF(im2colAll_confW4!AI14:FD38 > 0, ROUNDDOWN(im2colAll_confW4!AI14:FD38/2^4, 0), ROUNDUP(im2colAll_confW4!AI14:FD38/2^4, 0))","v":81},{"$f":"IF(im2colAll_confW4!AJ14:FE38 > 0, ROUNDDOWN(im2colAll_confW4!AJ14:FE38/2^4, 0), ROUNDUP(im2colAll_confW4!AJ14:FE38/2^4, 0))","v":25},{"$f":"IF(im2colAll_confW4!AK14:FF38 > 0, ROUNDDOWN(im2colAll_confW4!AK14:FF38/2^4, 0), ROUNDUP(im2colAll_confW4!AK14:FF38/2^4, 0))","v":78},{"$f":"IF(im2colAll_confW4!AL14:FG38 > 0, ROUNDDOWN(im2colAll_confW4!AL14:FG38/2^4, 0), ROUNDUP(im2colAll_confW4!AL14:FG38/2^4, 0))","v":-33},{"$f":"IF(im2colAll_confW4!AM14:FH38 > 0, ROUNDDOWN(im2colAll_confW4!AM14:FH38/2^4, 0), ROUNDUP(im2colAll_confW4!AM14:FH38/2^4, 0))","v":-10},{"$f":"IF(im2colAll_confW4!AN14:FI38 > 0, ROUNDDOWN(im2colAll_confW4!AN14:FI38/2^4, 0), ROUNDUP(im2colAll_confW4!AN14:FI38/2^4, 0))","v":29},{"$f":"IF(im2colAll_confW4!AO14:FJ38 > 0, ROUNDDOWN(im2colAll_confW4!AO14:FJ38/2^4, 0), ROUNDUP(im2colAll_confW4!AO14:FJ38/2^4, 0))","v":-5},{"$f":"IF(im2colAll_confW4!AP14:FK38 > 0, ROUNDDOWN(im2colAll_confW4!AP14:FK38/2^4, 0), ROUNDUP(im2colAll_confW4!AP14:FK38/2^4, 0))","v":-86},{"$f":"IF(im2colAll_confW4!AQ14:FL38 > 0, ROUNDDOWN(im2colAll_confW4!AQ14:FL38/2^4, 0), ROUNDUP(im2colAll_confW4!AQ14:FL38/2^4, 0))","v":168},{"$f":"IF(im2colAll_confW4!AR14:FM38 > 0, ROUNDDOWN(im2colAll_confW4!AR14:FM38/2^4, 0), ROUNDUP(im2colAll_confW4!AR14:FM38/2^4, 0))","v":-45},{"$f":"IF(im2colAll_confW4!AS14:FN38 > 0, ROUNDDOWN(im2colAll_confW4!AS14:FN38/2^4, 0), ROUNDUP(im2colAll_confW4!AS14:FN38/2^4, 0))","v":-1},{"$f":"IF(im2colAll_confW4!AT14:FO38 > 0, ROUNDDOWN(im2colAll_confW4!AT14:FO38/2^4, 0), ROUNDUP(im2colAll_confW4!AT14:FO38/2^4, 0))","v":-52},{"$f":"IF(im2colAll_confW4!AU14:FP38 > 0, ROUNDDOWN(im2colAll_confW4!AU14:FP38/2^4, 0), ROUNDUP(im2colAll_confW4!AU14:FP38/2^4, 0))","v":-28},{"$f":"IF(im2colAll_confW4!AV14:FQ38 > 0, ROUNDDOWN(im2colAll_confW4!AV14:FQ38/2^4, 0), ROUNDUP(im2colAll_confW4!AV14:FQ38/2^4, 0))","v":-55},{"$f":"IF(im2colAll_confW4!AW14:FR38 > 0, ROUNDDOWN(im2colAll_confW4!AW14:FR38/2^4, 0), ROUNDUP(im2colAll_confW4!AW14:FR38/2^4, 0))","v":-56},{"$f":"IF(im2colAll_confW4!AX14:FS38 > 0, ROUNDDOWN(im2colAll_confW4!AX14:FS38/2^4, 0), ROUNDUP(im2colAll_confW4!AX14:FS38/2^4, 0))","v":4},{"$f":"IF(im2colAll_confW4!AY14:FT38 > 0, ROUNDDOWN(im2colAll_confW4!AY14:FT38/2^4, 0), ROUNDUP(im2colAll_confW4!AY14:FT38/2^4, 0))","v":-62},{"$f":"IF(im2colAll_confW4!AZ14:FU38 > 0, ROUNDDOWN(im2colAll_confW4!AZ14:FU38/2^4, 0), ROUNDUP(im2colAll_confW4!AZ14:FU38/2^4, 0))","v":-16},{"$f":"IF(im2colAll_confW4!BA14:FV38 > 0, ROUNDDOWN(im2colAll_confW4!BA14:FV38/2^4, 0), ROUNDUP(im2colAll_confW4!BA14:FV38/2^4, 0))","v":14},{"$f":"IF(im2colAll_confW4!BB14:FW38 > 0, ROUNDDOWN(im2colAll_confW4!BB14:FW38/2^4, 0), ROUNDUP(im2colAll_confW4!BB14:FW38/2^4, 0))","v":5},{"$f":"IF(im2colAll_confW4!BC14:FX38 > 0, ROUNDDOWN(im2colAll_confW4!BC14:FX38/2^4, 0), ROUNDUP(im2colAll_confW4!BC14:FX38/2^4, 0))","v":23},{"$f":"IF(im2colAll_confW4!BD14:FY38 > 0, ROUNDDOWN(im2colAll_confW4!BD14:FY38/2^4, 0), ROUNDUP(im2colAll_confW4!BD14:FY38/2^4, 0))","v":77},{"$f":"IF(im2colAll_confW4!BE14:FZ38 > 0, ROUNDDOWN(im2colAll_confW4!BE14:FZ38/2^4, 0), ROUNDUP(im2colAll_confW4!BE14:FZ38/2^4, 0))","v":-8},{"$f":"IF(im2colAll_confW4!BF14:GA38 > 0, ROUNDDOWN(im2colAll_confW4!BF14:GA38/2^4, 0), ROUNDUP(im2colAll_confW4!BF14:GA38/2^4, 0))","v":51},{"$f":"IF(im2colAll_confW4!BG14:GB38 > 0, ROUNDDOWN(im2colAll_confW4!BG14:GB38/2^4, 0), ROUNDUP(im2colAll_confW4!BG14:GB38/2^4, 0))","v":-62},{"$f":"IF(im2colAll_confW4!BH14:GC38 > 0, ROUNDDOWN(im2colAll_confW4!BH14:GC38/2^4, 0), ROUNDUP(im2colAll_confW4!BH14:GC38/2^4, 0))","v":-9},{"$f":"IF(im2colAll_confW4!BI14:GD38 > 0, ROUNDDOWN(im2colAll_confW4!BI14:GD38/2^4, 0), ROUNDUP(im2colAll_confW4!BI14:GD38/2^4, 0))","v":28},{"$f":"IF(im2colAll_confW4!BJ14:GE38 > 0, ROUNDDOWN(im2colAll_confW4!BJ14:GE38/2^4, 0), ROUNDUP(im2colAll_confW4!BJ14:GE38/2^4, 0))","v":-27},{"$f":"IF(im2colAll_confW4!BK14:GF38 > 0, ROUNDDOWN(im2colAll_confW4!BK14:GF38/2^4, 0), ROUNDUP(im2colAll_confW4!BK14:GF38/2^4, 0))","v":-65},{"$f":"IF(im2colAll_confW4!BL14:GG38 > 0, ROUNDDOWN(im2colAll_confW4!BL14:GG38/2^4, 0), ROUNDUP(im2colAll_confW4!BL14:GG38/2^4, 0))","v":182},{"$f":"IF(im2colAll_confW4!BM14:GH38 > 0, ROUNDDOWN(im2colAll_confW4!BM14:GH38/2^4, 0), ROUNDUP(im2colAll_confW4!BM14:GH38/2^4, 0))","v":-41},{"$f":"IF(im2colAll_confW4!BN14:GI38 > 0, ROUNDDOWN(im2colAll_confW4!BN14:GI38/2^4, 0), ROUNDUP(im2colAll_confW4!BN14:GI38/2^4, 0))","v":36},{"$f":"IF(im2colAll_confW4!BO14:GJ38 > 0, ROUNDDOWN(im2colAll_confW4!BO14:GJ38/2^4, 0), ROUNDUP(im2colAll_confW4!BO14:GJ38/2^4, 0))","v":-48},{"$f":"IF(im2colAll_confW4!BP14:GK38 > 0, ROUNDDOWN(im2colAll_confW4!BP14:GK38/2^4, 0), ROUNDUP(im2colAll_confW4!BP14:GK38/2^4, 0))","v":-66},{"$f":"IF(im2colAll_confW4!BQ14:GL38 > 0, ROUNDDOWN(im2colAll_confW4!BQ14:GL38/2^4, 0), ROUNDUP(im2colAll_confW4!BQ14:GL38/2^4, 0))","v":-61},{"$f":"IF(im2colAll_confW4!BR14:GM38 > 0, ROUNDDOWN(im2colAll_confW4!BR14:GM38/2^4, 0), ROUNDUP(im2colAll_confW4!BR14:GM38/2^4, 0))","v":-83},{"$f":"IF(im2colAll_confW4!BS14:GN38 > 0, ROUNDDOWN(im2colAll_confW4!BS14:GN38/2^4, 0), ROUNDUP(im2colAll_confW4!BS14:GN38/2^4, 0))","v":25},{"$f":"IF(im2colAll_confW4!BT14:GO38 > 0, ROUNDDOWN(im2colAll_confW4!BT14:GO38/2^4, 0), ROUNDUP(im2colAll_confW4!BT14:GO38/2^4, 0))","v":-40},{"$f":"IF(im2colAll_confW4!BU14:GP38 > 0, ROUNDDOWN(im2colAll_confW4!BU14:GP38/2^4, 0), ROUNDUP(im2colAll_confW4!BU14:GP38/2^4, 0))","v":5},{"$f":"IF(im2colAll_confW4!BV14:GQ38 > 0, ROUNDDOWN(im2colAll_confW4!BV14:GQ38/2^4, 0), ROUNDUP(im2colAll_confW4!BV14:GQ38/2^4, 0))","v":17},{"$f":"IF(im2colAll_confW4!BW14:GR38 > 0, ROUNDDOWN(im2colAll_confW4!BW14:GR38/2^4, 0), ROUNDUP(im2colAll_confW4!BW14:GR38/2^4, 0))","v":-11},{"$f":"IF(im2colAll_confW4!BX14:GS38 > 0, ROUNDDOWN(im2colAll_confW4!BX14:GS38/2^4, 0), ROUNDUP(im2colAll_confW4!BX14:GS38/2^4, 0))","v":51},{"$f":"IF(im2colAll_confW4!BY14:GT38 > 0, ROUNDDOWN(im2colAll_confW4!BY14:GT38/2^4, 0), ROUNDUP(im2colAll_confW4!BY14:GT38/2^4, 0))","v":72},{"$f":"IF(im2colAll_confW4!BZ14:GU38 > 0, ROUNDDOWN(im2colAll_confW4!BZ14:GU38/2^4, 0), ROUNDUP(im2colAll_confW4!BZ14:GU38/2^4, 0))","v":13},{"$f":"IF(im2colAll_confW4!CA14:GV38 > 0, ROUNDDOWN(im2colAll_confW4!CA14:GV38/2^4, 0), ROUNDUP(im2colAll_confW4!CA14:GV38/2^4, 0))","v":101},{"$f":"IF(im2colAll_confW4!CB14:GW38 > 0, ROUNDDOWN(im2colAll_confW4!CB14:GW38/2^4, 0), ROUNDUP(im2colAll_confW4!CB14:GW38/2^4, 0))","v":-45},{"$f":"IF(im2colAll_confW4!CC14:GX38 > 0, ROUNDDOWN(im2colAll_confW4!CC14:GX38/2^4, 0), ROUNDUP(im2colAll_confW4!CC14:GX38/2^4, 0))","v":-14},{"$f":"IF(im2colAll_confW4!CD14:GY38 > 0, ROUNDDOWN(im2colAll_confW4!CD14:GY38/2^4, 0), ROUNDUP(im2colAll_confW4!CD14:GY38/2^4, 0))","v":2},{"$f":"IF(im2colAll_confW4!CE14:GZ38 > 0, ROUNDDOWN(im2colAll_confW4!CE14:GZ38/2^4, 0), ROUNDUP(im2colAll_confW4!CE14:GZ38/2^4, 0))","v":-34},{"$f":"IF(im2colAll_confW4!CF14:HA38 > 0, ROUNDDOWN(im2colAll_confW4!CF14:HA38/2^4, 0), ROUNDUP(im2colAll_confW4!CF14:HA38/2^4, 0))","v":-59},{"$f":"IF(im2colAll_confW4!CG14:HB38 > 0, ROUNDDOWN(im2colAll_confW4!CG14:HB38/2^4, 0), ROUNDUP(im2colAll_confW4!CG14:HB38/2^4, 0))","v":160},{"$f":"IF(im2colAll_confW4!CH14:HC38 > 0, ROUNDDOWN(im2colAll_confW4!CH14:HC38/2^4, 0), ROUNDUP(im2colAll_confW4!CH14:HC38/2^4, 0))","v":-30},{"$f":"IF(im2colAll_confW4!CI14:HD38 > 0, ROUNDDOWN(im2colAll_confW4!CI14:HD38/2^4, 0), ROUNDUP(im2colAll_confW4!CI14:HD38/2^4, 0))","v":28},{"$f":"IF(im2colAll_confW4!CJ14:HE38 > 0, ROUNDDOWN(im2colAll_confW4!CJ14:HE38/2^4, 0), ROUNDUP(im2colAll_confW4!CJ14:HE38/2^4, 0))","v":-47},{"$f":"IF(im2colAll_confW4!CK14:HF38 > 0, ROUNDDOWN(im2colAll_confW4!CK14:HF38/2^4, 0), ROUNDUP(im2colAll_confW4!CK14:HF38/2^4, 0))","v":-17},{"$f":"IF(im2colAll_confW4!CL14:HG38 > 0, ROUNDDOWN(im2colAll_confW4!CL14:HG38/2^4, 0), ROUNDUP(im2colAll_confW4!CL14:HG38/2^4, 0))","v":-17},{"$f":"IF(im2colAll_confW4!CM14:HH38 > 0, ROUNDDOWN(im2colAll_confW4!CM14:HH38/2^4, 0), ROUNDUP(im2colAll_confW4!CM14:HH38/2^4, 0))","v":-70},{"$f":"IF(im2colAll_confW4!CN14:HI38 > 0, ROUNDDOWN(im2colAll_confW4!CN14:HI38/2^4, 0), ROUNDUP(im2colAll_confW4!CN14:HI38/2^4, 0))","v":17},{"$f":"IF(im2colAll_confW4!CO14:HJ38 > 0, ROUNDDOWN(im2colAll_confW4!CO14:HJ38/2^4, 0), ROUNDUP(im2colAll_confW4!CO14:HJ38/2^4, 0))","v":-19},{"$f":"IF(im2colAll_confW4!CP14:HK38 > 0, ROUNDDOWN(im2colAll_confW4!CP14:HK38/2^4, 0), ROUNDUP(im2colAll_confW4!CP14:HK38/2^4, 0))","v":2},{"$f":"IF(im2colAll_confW4!CQ14:HL38 > 0, ROUNDDOWN(im2colAll_confW4!CQ14:HL38/2^4, 0), ROUNDUP(im2colAll_confW4!CQ14:HL38/2^4, 0))","v":21},{"$f":"IF(im2colAll_confW4!CR14:HM38 > 0, ROUNDDOWN(im2colAll_confW4!CR14:HM38/2^4, 0), ROUNDUP(im2colAll_confW4!CR14:HM38/2^4, 0))","v":22},{"$f":"IF(im2colAll_confW4!CS14:HN38 > 0, ROUNDDOWN(im2colAll_confW4!CS14:HN38/2^4, 0), ROUNDUP(im2colAll_confW4!CS14:HN38/2^4, 0))","v":23},{"$f":"IF(im2colAll_confW4!CT14:HO38 > 0, ROUNDDOWN(im2colAll_confW4!CT14:HO38/2^4, 0), ROUNDUP(im2colAll_confW4!CT14:HO38/2^4, 0))","v":63},{"$f":"IF(im2colAll_confW4!CU14:HP38 > 0, ROUNDDOWN(im2colAll_confW4!CU14:HP38/2^4, 0), ROUNDUP(im2colAll_confW4!CU14:HP38/2^4, 0))","v":18},{"$f":"IF(im2colAll_confW4!CV14:HQ38 > 0, ROUNDDOWN(im2colAll_confW4!CV14:HQ38/2^4, 0), ROUNDUP(im2colAll_confW4!CV14:HQ38/2^4, 0))","v":47},{"$f":"IF(im2colAll_confW4!CW14:HR38 > 0, ROUNDDOWN(im2colAll_confW4!CW14:HR38/2^4, 0), ROUNDUP(im2colAll_confW4!CW14:HR38/2^4, 0))","v":-44},{"$f":"IF(im2colAll_confW4!CX14:HS38 > 0, ROUNDDOWN(im2colAll_confW4!CX14:HS38/2^4, 0), ROUNDUP(im2colAll_confW4!CX14:HS38/2^4, 0))","v":3},{"$f":"IF(im2colAll_confW4!CY14:HT38 > 0, ROUNDDOWN(im2colAll_confW4!CY14:HT38/2^4, 0), ROUNDUP(im2colAll_confW4!CY14:HT38/2^4, 0))","v":27},{"$f":"IF(im2colAll_confW4!CZ14:HU38 > 0, ROUNDDOWN(im2colAll_confW4!CZ14:HU38/2^4, 0), ROUNDUP(im2colAll_confW4!CZ14:HU38/2^4, 0))","v":-7},{"$f":"IF(im2colAll_confW4!DA14:HV38 > 0, ROUNDDOWN(im2colAll_confW4!DA14:HV38/2^4, 0), ROUNDUP(im2colAll_confW4!DA14:HV38/2^4, 0))","v":-62},{"$f":"IF(im2colAll_confW4!DB14:HW38 > 0, ROUNDDOWN(im2colAll_confW4!DB14:HW38/2^4, 0), ROUNDUP(im2colAll_confW4!DB14:HW38/2^4, 0))","v":196},{"$f":"IF(im2colAll_confW4!DC14:HX38 > 0, ROUNDDOWN(im2colAll_confW4!DC14:HX38/2^4, 0), ROUNDUP(im2colAll_confW4!DC14:HX38/2^4, 0))","v":-29},{"$f":"IF(im2colAll_confW4!DD14:HY38 > 0, ROUNDDOWN(im2colAll_confW4!DD14:HY38/2^4, 0), ROUNDUP(im2colAll_confW4!DD14:HY38/2^4, 0))","v":8},{"$f":"IF(im2colAll_confW4!DE14:HZ38 > 0, ROUNDDOWN(im2colAll_confW4!DE14:HZ38/2^4, 0), ROUNDUP(im2colAll_confW4!DE14:HZ38/2^4, 0))","v":-24},{"$f":"IF(im2colAll_confW4!DF14:IA38 > 0, ROUNDDOWN(im2colAll_confW4!DF14:IA38/2^4, 0), ROUNDUP(im2colAll_confW4!DF14:IA38/2^4, 0))","v":-60},{"$f":"IF(im2colAll_confW4!DG14:IB38 > 0, ROUNDDOWN(im2colAll_confW4!DG14:IB38/2^4, 0), ROUNDUP(im2colAll_confW4!DG14:IB38/2^4, 0))","v":-68},{"$f":"IF(im2colAll_confW4!DH14:IC38 > 0, ROUNDDOWN(im2colAll_confW4!DH14:IC38/2^4, 0), ROUNDUP(im2colAll_confW4!DH14:IC38/2^4, 0))","v":-61},{"$f":"IF(im2colAll_confW4!DI14:ID38 > 0, ROUNDDOWN(im2colAll_confW4!DI14:ID38/2^4, 0), ROUNDUP(im2colAll_confW4!DI14:ID38/2^4, 0))","v":-2},{"$f":"IF(im2colAll_confW4!DJ14:IE38 > 0, ROUNDDOWN(im2colAll_confW4!DJ14:IE38/2^4, 0), ROUNDUP(im2colAll_confW4!DJ14:IE38/2^4, 0))","v":-59},{"$f":"IF(im2colAll_confW4!DK14:IF38 > 0, ROUNDDOWN(im2colAll_confW4!DK14:IF38/2^4, 0), ROUNDUP(im2colAll_confW4!DK14:IF38/2^4, 0))","v":2},{"$f":"IF(im2colAll_confW4!DL14:IG38 > 0, ROUNDDOWN(im2colAll_confW4!DL14:IG38/2^4, 0), ROUNDUP(im2colAll_confW4!DL14:IG38/2^4, 0))","v":3},{"$f":"IF(im2colAll_confW4!DM14:IH38 > 0, ROUNDDOWN(im2colAll_confW4!DM14:IH38/2^4, 0), ROUNDUP(im2colAll_confW4!DM14:IH38/2^4, 0))","v":-7},{"$f":"IF(im2colAll_confW4!DN14:II38 > 0, ROUNDDOWN(im2colAll_confW4!DN14:II38/2^4, 0), ROUNDUP(im2colAll_confW4!DN14:II38/2^4, 0))","v":12},{"$f":"IF(im2colAll_confW4!DO14:IJ38 > 0, ROUNDDOWN(im2colAll_confW4!DO14:IJ38/2^4, 0), ROUNDUP(im2colAll_confW4!DO14:IJ38/2^4, 0))","v":49},{"$f":"IF(im2colAll_confW4!DP14:IK38 > 0, ROUNDDOWN(im2colAll_confW4!DP14:IK38/2^4, 0), ROUNDUP(im2colAll_confW4!DP14:IK38/2^4, 0))","v":-13},{"$f":"IF(im2colAll_confW4!DQ14:IL38 > 0, ROUNDDOWN(im2colAll_confW4!DQ14:IL38/2^4, 0), ROUNDUP(im2colAll_confW4!DQ14:IL38/2^4, 0))","v":117},{"$f":"IF(im2colAll_confW4!DR14:IM38 > 0, ROUNDDOWN(im2colAll_confW4!DR14:IM38/2^4, 0), ROUNDUP(im2colAll_confW4!DR14:IM38/2^4, 0))","v":-50},{"$f":"IF(im2colAll_confW4!DS14:IN38 > 0, ROUNDDOWN(im2colAll_confW4!DS14:IN38/2^4, 0), ROUNDUP(im2colAll_confW4!DS14:IN38/2^4, 0))","v":-33},{"$f":"IF(im2colAll_confW4!DT14:IO38 > 0, ROUNDDOWN(im2colAll_confW4!DT14:IO38/2^4, 0), ROUNDUP(im2colAll_confW4!DT14:IO38/2^4, 0))","v":19},{"$f":"IF(im2colAll_confW4!DU14:IP38 > 0, ROUNDDOWN(im2colAll_confW4!DU14:IP38/2^4, 0), ROUNDUP(im2colAll_confW4!DU14:IP38/2^4, 0))","v":-27},{"$f":"IF(im2colAll_confW4!DV14:IQ38 > 0, ROUNDDOWN(im2colAll_confW4!DV14:IQ38/2^4, 0), ROUNDUP(im2colAll_confW4!DV14:IQ38/2^4, 0))","v":-83}]
[{"$f":"IF(im2colAll_confW4!A15:DV39 > 0, ROUNDDOWN(im2colAll_confW4!A15:DV39/2^4, 0), ROUNDUP(im2colAll_confW4!A15:DV39/2^4, 0))","v":115},{"$f":"IF(im2colAll_confW4!B15:DW39 > 0, ROUNDDOWN(im2colAll_confW4!B15:DW39/2^4, 0), ROUNDUP(im2colAll_confW4!B15:DW39/2^4, 0))","v":-26},{"$f":"IF(im2colAll_confW4!C15:DX39 > 0, ROUNDDOWN(im2colAll_confW4!C15:DX39/2^4, 0), ROUNDUP(im2colAll_confW4!C15:DX39/2^4, 0))","v":13},{"$f":"IF(im2colAll_confW4!D15:DY39 > 0, ROUNDDOWN(im2colAll_confW4!D15:DY39/2^4, 0), ROUNDUP(im2colAll_confW4!D15:DY39/2^4, 0))","v":-43},{"$f":"IF(im2colAll_confW4!E15:DZ39 > 0, ROUNDDOWN(im2colAll_confW4!E15:DZ39/2^4, 0), ROUNDUP(im2colAll_confW4!E15:DZ39/2^4, 0))","v":-15},{"$f":"IF(im2colAll_confW4!F15:EA39 > 0, ROUNDDOWN(im2colAll_confW4!F15:EA39/2^4, 0), ROUNDUP(im2colAll_confW4!F15:EA39/2^4, 0))","v":-32},{"$f":"IF(im2colAll_confW4!G15:EB39 > 0, ROUNDDOWN(im2colAll_confW4!G15:EB39/2^4, 0), ROUNDUP(im2colAll_confW4!G15:EB39/2^4, 0))","v":-30},{"$f":"IF(im2colAll_confW4!H15:EC39 > 0, ROUNDDOWN(im2colAll_confW4!H15:EC39/2^4, 0), ROUNDUP(im2colAll_confW4!H15:EC39/2^4, 0))","v":10},{"$f":"IF(im2colAll_confW4!I15:ED39 > 0, ROUNDDOWN(im2colAll_confW4!I15:ED39/2^4, 0), ROUNDUP(im2colAll_confW4!I15:ED39/2^4, 0))","v":-21},{"$f":"IF(im2colAll_confW4!J15:EE39 > 0, ROUNDDOWN(im2colAll_confW4!J15:EE39/2^4, 0), ROUNDUP(im2colAll_confW4!J15:EE39/2^4, 0))","v":25},{"$f":"IF(im2colAll_confW4!K15:EF39 > 0, ROUNDDOWN(im2colAll_confW4!K15:EF39/2^4, 0), ROUNDUP(im2colAll_confW4!K15:EF39/2^4, 0))","v":0},{"$f":"IF(im2colAll_confW4!L15:EG39 > 0, ROUNDDOWN(im2colAll_confW4!L15:EG39/2^4, 0), ROUNDUP(im2colAll_confW4!L15:EG39/2^4, 0))","v":8},{"$f":"IF(im2colAll_confW4!M15:EH39 > 0, ROUNDDOWN(im2colAll_confW4!M15:EH39/2^4, 0), ROUNDUP(im2colAll_confW4!M15:EH39/2^4, 0))","v":17},{"$f":"IF(im2colAll_confW4!N15:EI39 > 0, ROUNDDOWN(im2colAll_confW4!N15:EI39/2^4, 0), ROUNDUP(im2colAll_confW4!N15:EI39/2^4, 0))","v":32},{"$f":"IF(im2colAll_confW4!O15:EJ39 > 0, ROUNDDOWN(im2colAll_confW4!O15:EJ39/2^4, 0), ROUNDUP(im2colAll_confW4!O15:EJ39/2^4, 0))","v":-16},{"$f":"IF(im2colAll_confW4!P15:EK39 > 0, ROUNDDOWN(im2colAll_confW4!P15:EK39/2^4, 0), ROUNDUP(im2colAll_confW4!P15:EK39/2^4, 0))","v":67},{"$f":"IF(im2colAll_confW4!Q15:EL39 > 0, ROUNDDOWN(im2colAll_confW4!Q15:EL39/2^4, 0), ROUNDUP(im2colAll_confW4!Q15:EL39/2^4, 0))","v":-40},{"$f":"IF(im2colAll_confW4!R15:EM39 > 0, ROUNDDOWN(im2colAll_confW4!R15:EM39/2^4, 0), ROUNDUP(im2colAll_confW4!R15:EM39/2^4, 0))","v":-24},{"$f":"IF(im2colAll_confW4!S15:EN39 > 0, ROUNDDOWN(im2colAll_confW4!S15:EN39/2^4, 0), ROUNDUP(im2colAll_confW4!S15:EN39/2^4, 0))","v":9},{"$f":"IF(im2colAll_confW4!T15:EO39 > 0, ROUNDDOWN(im2colAll_confW4!T15:EO39/2^4, 0), ROUNDUP(im2colAll_confW4!T15:EO39/2^4, 0))","v":-19},{"$f":"IF(im2colAll_confW4!U15:EP39 > 0, ROUNDDOWN(im2colAll_confW4!U15:EP39/2^4, 0), ROUNDUP(im2colAll_confW4!U15:EP39/2^4, 0))","v":-47},{"$f":"IF(im2colAll_confW4!V15:EQ39 > 0, ROUNDDOWN(im2colAll_confW4!V15:EQ39/2^4, 0), ROUNDUP(im2colAll_confW4!V15:EQ39/2^4, 0))","v":107},{"$f":"IF(im2colAll_confW4!W15:ER39 > 0, ROUNDDOWN(im2colAll_confW4!W15:ER39/2^4, 0), ROUNDUP(im2colAll_confW4!W15:ER39/2^4, 0))","v":-32},{"$f":"IF(im2colAll_confW4!X15:ES39 > 0, ROUNDDOWN(im2colAll_confW4!X15:ES39/2^4, 0), ROUNDUP(im2colAll_confW4!X15:ES39/2^4, 0))","v":2},{"$f":"IF(im2colAll_confW4!Y15:ET39 > 0, ROUNDDOWN(im2colAll_confW4!Y15:ET39/2^4, 0), ROUNDUP(im2colAll_confW4!Y15:ET39/2^4, 0))","v":-19},{"$f":"IF(im2colAll_confW4!Z15:EU39 > 0, ROUNDDOWN(im2colAll_confW4!Z15:EU39/2^4, 0), ROUNDUP(im2colAll_confW4!Z15:EU39/2^4, 0))","v":-19},{"$f":"IF(im2colAll_confW4!AA15:EV39 > 0, ROUNDDOWN(im2colAll_confW4!AA15:EV39/2^4, 0), ROUNDUP(im2colAll_confW4!AA15:EV39/2^4, 0))","v":-52},{"$f":"IF(im2colAll_confW4!AB15:EW39 > 0, ROUNDDOWN(im2colAll_confW4!AB15:EW39/2^4, 0), ROUNDUP(im2colAll_confW4!AB15:EW39/2^4, 0))","v":-49},{"$f":"IF(im2colAll_confW4!AC15:EX39 > 0, ROUNDDOWN(im2colAll_confW4!AC15:EX39/2^4, 0), ROUNDUP(im2colAll_confW4!AC15:EX39/2^4, 0))","v":19},{"$f":"IF(im2colAll_confW4!AD15:EY39 > 0, ROUNDDOWN(im2colAll_confW4!AD15:EY39/2^4, 0), ROUNDUP(im2colAll_confW4!AD15:EY39/2^4, 0))","v":-30},{"$f":"IF(im2colAll_confW4!AE15:EZ39 > 0, ROUNDDOWN(im2colAll_confW4!AE15:EZ39/2^4, 0), ROUNDUP(im2colAll_confW4!AE15:EZ39/2^4, 0))","v":-9},{"$f":"IF(im2colAll_confW4!AF15:FA39 > 0, ROUNDDOWN(im2colAll_confW4!AF15:FA39/2^4, 0), ROUNDUP(im2colAll_confW4!AF15:FA39/2^4, 0))","v":14},{"$f":"IF(im2colAll_confW4!AG15:FB39 > 0, ROUNDDOWN(im2colAll_confW4!AG15:FB39/2^4, 0), ROUNDUP(im2colAll_confW4!AG15:FB39/2^4, 0))","v":13},{"$f":"IF(im2colAll_confW4!AH15:FC39 > 0, ROUNDDOWN(im2colAll_confW4!AH15:FC39/2^4, 0), ROUNDUP(im2colAll_confW4!AH15:FC39/2^4, 0))","v":22},{"$f":"IF(im2colAll_confW4!AI15:FD39 > 0, ROUNDDOWN(im2colAll_confW4!AI15:FD39/2^4, 0), ROUNDUP(im2colAll_confW4!AI15:FD39/2^4, 0))","v":32},{"$f":"IF(im2colAll_confW4!AJ15:FE39 > 0, ROUNDDOWN(im2colAll_confW4!AJ15:FE39/2^4, 0), ROUNDUP(im2colAll_confW4!AJ15:FE39/2^4, 0))","v":-12},{"$f":"IF(im2colAll_confW4!AK15:FF39 > 0, ROUNDDOWN(im2colAll_confW4!AK15:FF39/2^4, 0), ROUNDUP(im2colAll_confW4!AK15:FF39/2^4, 0))","v":77},{"$f":"IF(im2colAll_confW4!AL15:FG39 > 0, ROUNDDOWN(im2colAll_confW4!AL15:FG39/2^4, 0), ROUNDUP(im2colAll_confW4!AL15:FG39/2^4, 0))","v":-4},{"$f":"IF(im2colAll_confW4!AM15:FH39 > 0, ROUNDDOWN(im2colAll_confW4!AM15:FH39/2^4, 0), ROUNDUP(im2colAll_confW4!AM15:FH39/2^4, 0))","v":-6},{"$f":"IF(im2colAll_confW4!AN15:FI39 > 0, ROUNDDOWN(im2colAll_confW4!AN15:FI39/2^4, 0), ROUNDUP(im2colAll_confW4!AN15:FI39/2^4, 0))","v":-5},{"$f":"IF(im2colAll_confW4!AO15:FJ39 > 0, ROUNDDOWN(im2colAll_confW4!AO15:FJ39/2^4, 0), ROUNDUP(im2colAll_confW4!AO15:FJ39/2^4, 0))","v":-23},{"$f":"IF(im2colAll_confW4!AP15:FK39 > 0, ROUNDDOWN(im2colAll_confW4!AP15:FK39/2^4, 0), ROUNDUP(im2colAll_confW4!AP15:FK39/2^4, 0))","v":-54},{"$f":"IF(im2colAll_confW4!AQ15:FL39 > 0, ROUNDDOWN(im2colAll_confW4!AQ15:FL39/2^4, 0), ROUNDUP(im2colAll_confW4!AQ15:FL39/2^4, 0))","v":128},{"$f":"IF(im2colAll_confW4!AR15:FM39 > 0, ROUNDDOWN(im2colAll_confW4!AR15:FM39/2^4, 0), ROUNDUP(im2colAll_confW4!AR15:FM39/2^4, 0))","v":-35},{"$f":"IF(im2colAll_confW4!AS15:FN39 > 0, ROUNDDOWN(im2colAll_confW4!AS15:FN39/2^4, 0), ROUNDUP(im2colAll_confW4!AS15:FN39/2^4, 0))","v":-4},{"$f":"IF(im2colAll_confW4!AT15:FO39 > 0, ROUNDDOWN(im2colAll_confW4!AT15:FO39/2^4, 0), ROUNDUP(im2colAll_confW4!AT15:FO39/2^4, 0))","v":-42},{"$f":"IF(im2colAll_confW4!AU15:FP39 > 0, ROUNDDOWN(im2colAll_confW4!AU15:FP39/2^4, 0), ROUNDUP(im2colAll_confW4!AU15:FP39/2^4, 0))","v":-19},{"$f":"IF(im2colAll_confW4!AV15:FQ39 > 0, ROUNDDOWN(im2colAll_confW4!AV15:FQ39/2^4, 0), ROUNDUP(im2colAll_confW4!AV15:FQ39/2^4, 0))","v":-18},{"$f":"IF(im2colAll_confW4!AW15:FR39 > 0, ROUNDDOWN(im2colAll_confW4!AW15:FR39/2^4, 0), ROUNDUP(im2colAll_confW4!AW15:FR39/2^4, 0))","v":-37},{"$f":"IF(im2colAll_confW4!AX15:FS39 > 0, ROUNDDOWN(im2colAll_confW4!AX15:FS39/2^4, 0), ROUNDUP(im2colAll_confW4!AX15:FS39/2^4, 0))","v":-12},{"$f":"IF(im2colAll_confW4!AY15:FT39 > 0, ROUNDDOWN(im2colAll_confW4!AY15:FT39/2^4, 0), ROUNDUP(im2colAll_confW4!AY15:FT39/2^4, 0))","v":-47},{"$f":"IF(im2colAll_confW4!AZ15:FU39 > 0, ROUNDDOWN(im2colAll_confW4!AZ15:FU39/2^4, 0), ROUNDUP(im2colAll_confW4!AZ15:FU39/2^4, 0))","v":1},{"$f":"IF(im2colAll_confW4!BA15:FV39 > 0, ROUNDDOWN(im2colAll_confW4!BA15:FV39/2^4, 0), ROUNDUP(im2colAll_confW4!BA15:FV39/2^4, 0))","v":-4},{"$f":"IF(im2colAll_confW4!BB15:FW39 > 0, ROUNDDOWN(im2colAll_confW4!BB15:FW39/2^4, 0), ROUNDUP(im2colAll_confW4!BB15:FW39/2^4, 0))","v":18},{"$f":"IF(im2colAll_confW4!BC15:FX39 > 0, ROUNDDOWN(im2colAll_confW4!BC15:FX39/2^4, 0), ROUNDUP(im2colAll_confW4!BC15:FX39/2^4, 0))","v":-2},{"$f":"IF(im2colAll_confW4!BD15:FY39 > 0, ROUNDDOWN(im2colAll_confW4!BD15:FY39/2^4, 0), ROUNDUP(im2colAll_confW4!BD15:FY39/2^4, 0))","v":40},{"$f":"IF(im2colAll_confW4!BE15:FZ39 > 0, ROUNDDOWN(im2colAll_confW4!BE15:FZ39/2^4, 0), ROUNDUP(im2colAll_confW4!BE15:FZ39/2^4, 0))","v":2},{"$f":"IF(im2colAll_confW4!BF15:GA39 > 0, ROUNDDOWN(im2colAll_confW4!BF15:GA39/2^4, 0), ROUNDUP(im2colAll_confW4!BF15:GA39/2^4, 0))","v":16},{"$f":"IF(im2colAll_confW4!BG15:GB39 > 0, ROUNDDOWN(im2colAll_confW4!BG15:GB39/2^4, 0), ROUNDUP(im2colAll_confW4!BG15:GB39/2^4, 0))","v":-32},{"$f":"IF(im2colAll_confW4!BH15:GC39 > 0, ROUNDDOWN(im2colAll_confW4!BH15:GC39/2^4, 0), ROUNDUP(im2colAll_confW4!BH15:GC39/2^4, 0))","v":-9},{"$f":"IF(im2colAll_confW4!BI15:GD39 > 0, ROUNDDOWN(im2colAll_confW4!BI15:GD39/2^4, 0), ROUNDUP(im2colAll_confW4!BI15:GD39/2^4, 0))","v":9},{"$f":"IF(im2colAll_confW4!BJ15:GE39 > 0, ROUNDDOWN(im2colAll_confW4!BJ15:GE39/2^4, 0), ROUNDUP(im2colAll_confW4!BJ15:GE39/2^4, 0))","v":-17},{"$f":"IF(im2colAll_confW4!BK15:GF39 > 0, ROUNDDOWN(im2colAll_confW4!BK15:GF39/2^4, 0), ROUNDUP(im2colAll_confW4!BK15:GF39/2^4, 0))","v":-30},{"$f":"IF(im2colAll_confW4!BL15:GG39 > 0, ROUNDDOWN(im2colAll_confW4!BL15:GG39/2^4, 0), ROUNDUP(im2colAll_confW4!BL15:GG39/2^4, 0))","v":101},{"$f":"IF(im2colAll_confW4!BM15:GH39 > 0, ROUNDDOWN(im2colAll_confW4!BM15:GH39/2^4, 0), ROUNDUP(im2colAll_confW4!BM15:GH39/2^4, 0))","v":-21},{"$f":"IF(im2colAll_confW4!BN15:GI39 > 0, ROUNDDOWN(im2colAll_confW4!BN15:GI39/2^4, 0), ROUNDUP(im2colAll_confW4!BN15:GI39/2^4, 0))","v":15},{"$f":"IF(im2colAll_confW4!BO15:GJ39 > 0, ROUNDDOWN(im2colAll_confW4!BO15:GJ39/2^4, 0), ROUNDUP(im2colAll_confW4!BO15:GJ39/2^4, 0))","v":-20},{"$f":"IF(im2colAll_confW4!BP15:GK39 > 0, ROUNDDOWN(im2colAll_confW4!BP15:GK39/2^4, 0), ROUNDUP(im2colAll_confW4!BP15:GK39/2^4, 0))","v":-42},{"$f":"IF(im2colAll_confW4!BQ15:GL39 > 0, ROUNDDOWN(im2colAll_confW4!BQ15:GL39/2^4, 0), ROUNDUP(im2colAll_confW4!BQ15:GL39/2^4, 0))","v":-25},{"$f":"IF(im2colAll_confW4!BR15:GM39 > 0, ROUNDDOWN(im2colAll_confW4!BR15:GM39/2^4, 0), ROUNDUP(im2colAll_confW4!BR15:GM39/2^4, 0))","v":-61},{"$f":"IF(im2colAll_confW4!BS15:GN39 > 0, ROUNDDOWN(im2colAll_confW4!BS15:GN39/2^4, 0), ROUNDUP(im2colAll_confW4!BS15:GN39/2^4, 0))","v":10},{"$f":"IF(im2colAll_confW4!BT15:GO39 > 0, ROUNDDOWN(im2colAll_confW4!BT15:GO39/2^4, 0), ROUNDUP(im2colAll_confW4!BT15:GO39/2^4, 0))","v":-30},{"$f":"IF(im2colAll_confW4!BU15:GP39 > 0, ROUNDDOWN(im2colAll_confW4!BU15:GP39/2^4, 0), ROUNDUP(im2colAll_confW4!BU15:GP39/2^4, 0))","v":11},{"$f":"IF(im2colAll_confW4!BV15:GQ39 > 0, ROUNDDOWN(im2colAll_confW4!BV15:GQ39/2^4, 0), ROUNDUP(im2colAll_confW4!BV15:GQ39/2^4, 0))","v":15},{"$f":"IF(im2colAll_confW4!BW15:GR39 > 0, ROUNDDOWN(im2colAll_confW4!BW15:GR39/2^4, 0), ROUNDUP(im2colAll_confW4!BW15:GR39/2^4, 0))","v":-14},{"$f":"IF(im2colAll_confW4!BX15:GS39 > 0, ROUNDDOWN(im2colAll_confW4!BX15:GS39/2^4, 0), ROUNDUP(im2colAll_confW4!BX15:GS39/2^4, 0))","v":35},{"$f":"IF(im2colAll_confW4!BY15:GT39 > 0, ROUNDDOWN(im2colAll_confW4!BY15:GT39/2^4, 0), ROUNDUP(im2colAll_confW4!BY15:GT39/2^4, 0))","v":17},{"$f":"IF(im2colAll_confW4!BZ15:GU39 > 0, ROUNDDOWN(im2colAll_confW4!BZ15:GU39/2^4, 0), ROUNDUP(im2colAll_confW4!BZ15:GU39/2^4, 0))","v":-1},{"$f":"IF(im2colAll_confW4!CA15:GV39 > 0, ROUNDDOWN(im2colAll_confW4!CA15:GV39/2^4, 0), ROUNDUP(im2colAll_confW4!CA15:GV39/2^4, 0))","v":58},{"$f":"IF(im2colAll_confW4!CB15:GW39 > 0, ROUNDDOWN(im2colAll_confW4!CB15:GW39/2^4, 0), ROUNDUP(im2colAll_confW4!CB15:GW39/2^4, 0))","v":-3},{"$f":"IF(im2colAll_confW4!CC15:GX39 > 0, ROUNDDOWN(im2colAll_confW4!CC15:GX39/2^4, 0), ROUNDUP(im2colAll_confW4!CC15:GX39/2^4, 0))","v":-8},{"$f":"IF(im2colAll_confW4!CD15:GY39 > 0, ROUNDDOWN(im2colAll_confW4!CD15:GY39/2^4, 0), ROUNDUP(im2colAll_confW4!CD15:GY39/2^4, 0))","v":1},{"$f":"IF(im2colAll_confW4!CE15:GZ39 > 0, ROUNDDOWN(im2colAll_confW4!CE15:GZ39/2^4, 0), ROUNDUP(im2colAll_confW4!CE15:GZ39/2^4, 0))","v":-29},{"$f":"IF(im2colAll_confW4!CF15:HA39 > 0, ROUNDDOWN(im2colAll_confW4!CF15:HA39/2^4, 0), ROUNDUP(im2colAll_confW4!CF15:HA39/2^4, 0))","v":-15},{"$f":"IF(im2colAll_confW4!CG15:HB39 > 0, ROUNDDOWN(im2colAll_confW4!CG15:HB39/2^4, 0), ROUNDUP(im2colAll_confW4!CG15:HB39/2^4, 0))","v":133},{"$f":"IF(im2colAll_confW4!CH15:HC39 > 0, ROUNDDOWN(im2colAll_confW4!CH15:HC39/2^4, 0), ROUNDUP(im2colAll_confW4!CH15:HC39/2^4, 0))","v":-18},{"$f":"IF(im2colAll_confW4!CI15:HD39 > 0, ROUNDDOWN(im2colAll_confW4!CI15:HD39/2^4, 0), ROUNDUP(im2colAll_confW4!CI15:HD39/2^4, 0))","v":18},{"$f":"IF(im2colAll_confW4!CJ15:HE39 > 0, ROUNDDOWN(im2colAll_confW4!CJ15:HE39/2^4, 0), ROUNDUP(im2colAll_confW4!CJ15:HE39/2^4, 0))","v":-39},{"$f":"IF(im2colAll_confW4!CK15:HF39 > 0, ROUNDDOWN(im2colAll_confW4!CK15:HF39/2^4, 0), ROUNDUP(im2colAll_confW4!CK15:HF39/2^4, 0))","v":0},{"$f":"IF(im2colAll_confW4!CL15:HG39 > 0, ROUNDDOWN(im2colAll_confW4!CL15:HG39/2^4, 0), ROUNDUP(im2colAll_confW4!CL15:HG39/2^4, 0))","v":2},{"$f":"IF(im2colAll_confW4!CM15:HH39 > 0, ROUNDDOWN(im2colAll_confW4!CM15:HH39/2^4, 0), ROUNDUP(im2colAll_confW4!CM15:HH39/2^4, 0))","v":-56},{"$f":"IF(im2colAll_confW4!CN15:HI39 > 0, ROUNDDOWN(im2colAll_confW4!CN15:HI39/2^4, 0), ROUNDUP(im2colAll_confW4!CN15:HI39/2^4, 0))","v":8},{"$f":"IF(im2colAll_confW4!CO15:HJ39 > 0, ROUNDDOWN(im2colAll_confW4!CO15:HJ39/2^4, 0), ROUNDUP(im2colAll_confW4!CO15:HJ39/2^4, 0))","v":-19},{"$f":"IF(im2colAll_confW4!CP15:HK39 > 0, ROUNDDOWN(im2colAll_confW4!CP15:HK39/2^4, 0), ROUNDUP(im2colAll_confW4!CP15:HK39/2^4, 0))","v":10},{"$f":"IF(im2colAll_confW4!CQ15:HL39 > 0, ROUNDDOWN(im2colAll_confW4!CQ15:HL39/2^4, 0), ROUNDUP(im2colAll_confW4!CQ15:HL39/2^4, 0))","v":17},{"$f":"IF(im2colAll_confW4!CR15:HM39 > 0, ROUNDDOWN(im2colAll_confW4!CR15:HM39/2^4, 0), ROUNDUP(im2colAll_confW4!CR15:HM39/2^4, 0))","v":24},{"$f":"IF(im2colAll_confW4!CS15:HN39 > 0, ROUNDDOWN(im2colAll_confW4!CS15:HN39/2^4, 0), ROUNDUP(im2colAll_confW4!CS15:HN39/2^4, 0))","v":2},{"$f":"IF(im2colAll_confW4!CT15:HO39 > 0, ROUNDDOWN(im2colAll_confW4!CT15:HO39/2^4, 0), ROUNDUP(im2colAll_confW4!CT15:HO39/2^4, 0))","v":27},{"$f":"IF(im2colAll_confW4!CU15:HP39 > 0, ROUNDDOWN(im2colAll_confW4!CU15:HP39/2^4, 0), ROUNDUP(im2colAll_confW4!CU15:HP39/2^4, 0))","v":20},{"$f":"IF(im2colAll_confW4!CV15:HQ39 > 0, ROUNDDOWN(im2colAll_confW4!CV15:HQ39/2^4, 0), ROUNDUP(im2colAll_confW4!CV15:HQ39/2^4, 0))","v":35},{"$f":"IF(im2colAll_confW4!CW15:HR39 > 0, ROUNDDOWN(im2colAll_confW4!CW15:HR39/2^4, 0), ROUNDUP(im2colAll_confW4!CW15:HR39/2^4, 0))","v":-17},{"$f":"IF(im2colAll_confW4!CX15:HS39 > 0, ROUNDDOWN(im2colAll_confW4!CX15:HS39/2^4, 0), ROUNDUP(im2colAll_confW4!CX15:HS39/2^4, 0))","v":-9},{"$f":"IF(im2colAll_confW4!CY15:HT39 > 0, ROUNDDOWN(im2colAll_confW4!CY15:HT39/2^4, 0), ROUNDUP(im2colAll_confW4!CY15:HT39/2^4, 0))","v":26},{"$f":"IF(im2colAll_confW4!CZ15:HU39 > 0, ROUNDDOWN(im2colAll_confW4!CZ15:HU39/2^4, 0), ROUNDUP(im2colAll_confW4!CZ15:HU39/2^4, 0))","v":-1},{"$f":"IF(im2colAll_confW4!DA15:HV39 > 0, ROUNDDOWN(im2colAll_confW4!DA15:HV39/2^4, 0), ROUNDUP(im2colAll_confW4!DA15:HV39/2^4, 0))","v":-37},{"$f":"IF(im2colAll_confW4!DB15:HW39 > 0, ROUNDDOWN(im2colAll_confW4!DB15:HW39/2^4, 0), ROUNDUP(im2colAll_confW4!DB15:HW39/2^4, 0))","v":86},{"$f":"IF(im2colAll_confW4!DC15:HX39 > 0, ROUNDDOWN(im2colAll_confW4!DC15:HX39/2^4, 0), ROUNDUP(im2colAll_confW4!DC15:HX39/2^4, 0))","v":-14},{"$f":"IF(im2colAll_confW4!DD15:HY39 > 0, ROUNDDOWN(im2colAll_confW4!DD15:HY39/2^4, 0), ROUNDUP(im2colAll_confW4!DD15:HY39/2^4, 0))","v":8},{"$f":"IF(im2colAll_confW4!DE15:HZ39 > 0, ROUNDDOWN(im2colAll_confW4!DE15:HZ39/2^4, 0), ROUNDUP(im2colAll_confW4!DE15:HZ39/2^4, 0))","v":-9},{"$f":"IF(im2colAll_confW4!DF15:IA39 > 0, ROUNDDOWN(im2colAll_confW4!DF15:IA39/2^4, 0), ROUNDUP(im2colAll_confW4!DF15:IA39/2^4, 0))","v":-43},{"$f":"IF(im2colAll_confW4!DG15:IB39 > 0, ROUNDDOWN(im2colAll_confW4!DG15:IB39/2^4, 0), ROUNDUP(im2colAll_confW4!DG15:IB39/2^4, 0))","v":-14},{"$f":"IF(im2colAll_confW4!DH15:IC39 > 0, ROUNDDOWN(im2colAll_confW4!DH15:IC39/2^4, 0), ROUNDUP(im2colAll_confW4!DH15:IC39/2^4, 0))","v":-41},{"$f":"IF(im2colAll_confW4!DI15:ID39 > 0, ROUNDDOWN(im2colAll_confW4!DI15:ID39/2^4, 0), ROUNDUP(im2colAll_confW4!DI15:ID39/2^4, 0))","v":-12},{"$f":"IF(im2colAll_confW4!DJ15:IE39 > 0, ROUNDDOWN(im2colAll_confW4!DJ15:IE39/2^4, 0), ROUNDUP(im2colAll_confW4!DJ15:IE39/2^4, 0))","v":-23},{"$f":"IF(im2colAll_confW4!DK15:IF39 > 0, ROUNDDOWN(im2colAll_confW4!DK15:IF39/2^4, 0), ROUNDUP(im2colAll_confW4!DK15:IF39/2^4, 0))","v":3},{"$f":"IF(im2colAll_confW4!DL15:IG39 > 0, ROUNDDOWN(im2colAll_confW4!DL15:IG39/2^4, 0), ROUNDUP(im2colAll_confW4!DL15:IG39/2^4, 0))","v":11},{"$f":"IF(im2colAll_confW4!DM15:IH39 > 0, ROUNDDOWN(im2colAll_confW4!DM15:IH39/2^4, 0), ROUNDUP(im2colAll_confW4!DM15:IH39/2^4, 0))","v":9},{"$f":"IF(im2colAll_confW4!DN15:II39 > 0, ROUNDDOWN(im2colAll_confW4!DN15:II39/2^4, 0), ROUNDUP(im2colAll_confW4!DN15:II39/2^4, 0))","v":7},{"$f":"IF(im2colAll_confW4!DO15:IJ39 > 0, ROUNDDOWN(im2colAll_confW4!DO15:IJ39/2^4, 0), ROUNDUP(im2colAll_confW4!DO15:IJ39/2^4, 0))","v":19},{"$f":"IF(im2colAll_confW4!DP15:IK39 > 0, ROUNDDOWN(im2colAll_confW4!DP15:IK39/2^4, 0), ROUNDUP(im2colAll_confW4!DP15:IK39/2^4, 0))","v":-3},{"$f":"IF(im2colAll_confW4!DQ15:IL39 > 0, ROUNDDOWN(im2colAll_confW4!DQ15:IL39/2^4, 0), ROUNDUP(im2colAll_confW4!DQ15:IL39/2^4, 0))","v":52},{"$f":"IF(im2colAll_confW4!DR15:IM39 > 0, ROUNDDOWN(im2colAll_confW4!DR15:IM39/2^4, 0), ROUNDUP(im2colAll_confW4!DR15:IM39/2^4, 0))","v":-22},{"$f":"IF(im2colAll_confW4!DS15:IN39 > 0, ROUNDDOWN(im2colAll_confW4!DS15:IN39/2^4, 0), ROUNDUP(im2colAll_confW4!DS15:IN39/2^4, 0))","v":-14},{"$f":"IF(im2colAll_confW4!DT15:IO39 > 0, ROUNDDOWN(im2colAll_confW4!DT15:IO39/2^4, 0), ROUNDUP(im2colAll_confW4!DT15:IO39/2^4, 0))","v":1},{"$f":"IF(im2colAll_confW4!DU15:IP39 > 0, ROUNDDOWN(im2colAll_confW4!DU15:IP39/2^4, 0), ROUNDUP(im2colAll_confW4!DU15:IP39/2^4, 0))","v":-16},{"$f":"IF(im2colAll_confW4!DV15:IQ39 > 0, ROUNDDOWN(im2colAll_confW4!DV15:IQ39/2^4, 0), ROUNDUP(im2colAll_confW4!DV15:IQ39/2^4, 0))","v":-31}]
[{"$f":"IF(im2colAll_confW4!A16:DV40 > 0, ROUNDDOWN(im2colAll_confW4!A16:DV40/2^4, 0), ROUNDUP(im2colAll_confW4!A16:DV40/2^4, 0))","v":110},{"$f":"IF(im2colAll_confW4!B16:DW40 > 0, ROUNDDOWN(im2colAll_confW4!B16:DW40/2^4, 0), ROUNDUP(im2colAll_confW4!B16:DW40/2^4, 0))","v":-3},{"$f":"IF(im2colAll_confW4!C16:DX40 > 0, ROUNDDOWN(im2colAll_confW4!C16:DX40/2^4, 0), ROUNDUP(im2colAll_confW4!C16:DX40/2^4, 0))","v":15},{"$f":"IF(im2colAll_confW4!D16:DY40 > 0, ROUNDDOWN(im2colAll_confW4!D16:DY40/2^4, 0), ROUNDUP(im2colAll_confW4!D16:DY40/2^4, 0))","v":3},{"$f":"IF(im2colAll_confW4!E16:DZ40 > 0, ROUNDDOWN(im2colAll_confW4!E16:DZ40/2^4, 0), ROUNDUP(im2colAll_confW4!E16:DZ40/2^4, 0))","v":-3},{"$f":"IF(im2colAll_confW4!F16:EA40 > 0, ROUNDDOWN(im2colAll_confW4!F16:EA40/2^4, 0), ROUNDUP(im2colAll_confW4!F16:EA40/2^4, 0))","v":-27},{"$f":"IF(im2colAll_confW4!G16:EB40 > 0, ROUNDDOWN(im2colAll_confW4!G16:EB40/2^4, 0), ROUNDUP(im2colAll_confW4!G16:EB40/2^4, 0))","v":-27},{"$f":"IF(im2colAll_confW4!H16:EC40 > 0, ROUNDDOWN(im2colAll_confW4!H16:EC40/2^4, 0), ROUNDUP(im2colAll_confW4!H16:EC40/2^4, 0))","v":-4},{"$f":"IF(im2colAll_confW4!I16:ED40 > 0, ROUNDDOWN(im2colAll_confW4!I16:ED40/2^4, 0), ROUNDUP(im2colAll_confW4!I16:ED40/2^4, 0))","v":-19},{"$f":"IF(im2colAll_confW4!J16:EE40 > 0, ROUNDDOWN(im2colAll_confW4!J16:EE40/2^4, 0), ROUNDUP(im2colAll_confW4!J16:EE40/2^4, 0))","v":-4},{"$f":"IF(im2colAll_confW4!K16:EF40 > 0, ROUNDDOWN(im2colAll_confW4!K16:EF40/2^4, 0), ROUNDUP(im2colAll_confW4!K16:EF40/2^4, 0))","v":-5},{"$f":"IF(im2colAll_confW4!L16:EG40 > 0, ROUNDDOWN(im2colAll_confW4!L16:EG40/2^4, 0), ROUNDUP(im2colAll_confW4!L16:EG40/2^4, 0))","v":-10},{"$f":"IF(im2colAll_confW4!M16:EH40 > 0, ROUNDDOWN(im2colAll_confW4!M16:EH40/2^4, 0), ROUNDUP(im2colAll_confW4!M16:EH40/2^4, 0))","v":7},{"$f":"IF(im2colAll_confW4!N16:EI40 > 0, ROUNDDOWN(im2colAll_confW4!N16:EI40/2^4, 0), ROUNDUP(im2colAll_confW4!N16:EI40/2^4, 0))","v":31},{"$f":"IF(im2colAll_confW4!O16:EJ40 > 0, ROUNDDOWN(im2colAll_confW4!O16:EJ40/2^4, 0), ROUNDUP(im2colAll_confW4!O16:EJ40/2^4, 0))","v":-1},{"$f":"IF(im2colAll_confW4!P16:EK40 > 0, ROUNDDOWN(im2colAll_confW4!P16:EK40/2^4, 0), ROUNDUP(im2colAll_confW4!P16:EK40/2^4, 0))","v":49},{"$f":"IF(im2colAll_confW4!Q16:EL40 > 0, ROUNDDOWN(im2colAll_confW4!Q16:EL40/2^4, 0), ROUNDUP(im2colAll_confW4!Q16:EL40/2^4, 0))","v":-13},{"$f":"IF(im2colAll_confW4!R16:EM40 > 0, ROUNDDOWN(im2colAll_confW4!R16:EM40/2^4, 0), ROUNDUP(im2colAll_confW4!R16:EM40/2^4, 0))","v":-14},{"$f":"IF(im2colAll_confW4!S16:EN40 > 0, ROUNDDOWN(im2colAll_confW4!S16:EN40/2^4, 0), ROUNDUP(im2colAll_confW4!S16:EN40/2^4, 0))","v":10},{"$f":"IF(im2colAll_confW4!T16:EO40 > 0, ROUNDDOWN(im2colAll_confW4!T16:EO40/2^4, 0), ROUNDUP(im2colAll_confW4!T16:EO40/2^4, 0))","v":-12},{"$f":"IF(im2colAll_confW4!U16:EP40 > 0, ROUNDDOWN(im2colAll_confW4!U16:EP40/2^4, 0), ROUNDUP(im2colAll_confW4!U16:EP40/2^4, 0))","v":-32},{"$f":"IF(im2colAll_confW4!V16:EQ40 > 0, ROUNDDOWN(im2colAll_confW4!V16:EQ40/2^4, 0), ROUNDUP(im2colAll_confW4!V16:EQ40/2^4, 0))","v":105},{"$f":"IF(im2colAll_confW4!W16:ER40 > 0, ROUNDDOWN(im2colAll_confW4!W16:ER40/2^4, 0), ROUNDUP(im2colAll_confW4!W16:ER40/2^4, 0))","v":-14},{"$f":"IF(im2colAll_confW4!X16:ES40 > 0, ROUNDDOWN(im2colAll_confW4!X16:ES40/2^4, 0), ROUNDUP(im2colAll_confW4!X16:ES40/2^4, 0))","v":4},{"$f":"IF(im2colAll_confW4!Y16:ET40 > 0, ROUNDDOWN(im2colAll_confW4!Y16:ET40/2^4, 0), ROUNDUP(im2colAll_confW4!Y16:ET40/2^4, 0))","v":-3},{"$f":"IF(im2colAll_confW4!Z16:EU40 > 0, ROUNDDOWN(im2colAll_confW4!Z16:EU40/2^4, 0), ROUNDUP(im2colAll_confW4!Z16:EU40/2^4, 0))","v":0},{"$f":"IF(im2colAll_confW4!AA16:EV40 > 0, ROUNDDOWN(im2colAll_confW4!AA16:EV40/2^4, 0), ROUNDUP(im2colAll_confW4!AA16:EV40/2^4, 0))","v":-39},{"$f":"IF(im2colAll_confW4!AB16:EW40 > 0, ROUNDDOWN(im2colAll_confW4!AB16:EW40/2^4, 0), ROUNDUP(im2colAll_confW4!AB16:EW40/2^4, 0))","v":-29},{"$f":"IF(im2colAll_confW4!AC16:EX40 > 0, ROUNDDOWN(im2colAll_confW4!AC16:EX40/2^4, 0), ROUNDUP(im2colAll_confW4!AC16:EX40/2^4, 0))","v":-10},{"$f":"IF(im2colAll_confW4!AD16:EY40 > 0, ROUNDDOWN(im2colAll_confW4!AD16:EY40/2^4, 0), ROUNDUP(im2colAll_confW4!AD16:EY40/2^4, 0))","v":-32},{"$f":"IF(im2colAll_confW4!AE16:EZ40 > 0, ROUNDDOWN(im2colAll_confW4!AE16:EZ40/2^4, 0), ROUNDUP(im2colAll_confW4!AE16:EZ40/2^4, 0))","v":-4},{"$f":"IF(im2colAll_confW4!AF16:FA40 > 0, ROUNDDOWN(im2colAll_confW4!AF16:FA40/2^4, 0), ROUNDUP(im2colAll_confW4!AF16:FA40/2^4, 0))","v":1},{"$f":"IF(im2colAll_confW4!AG16:FB40 > 0, ROUNDDOWN(im2colAll_confW4!AG16:FB40/2^4, 0), ROUNDUP(im2colAll_confW4!AG16:FB40/2^4, 0))","v":-4},{"$f":"IF(im2colAll_confW4!AH16:FC40 > 0, ROUNDDOWN(im2colAll_confW4!AH16:FC40/2^4, 0), ROUNDUP(im2colAll_confW4!AH16:FC40/2^4, 0))","v":8},{"$f":"IF(im2colAll_confW4!AI16:FD40 > 0, ROUNDDOWN(im2colAll_confW4!AI16:FD40/2^4, 0), ROUNDUP(im2colAll_confW4!AI16:FD40/2^4, 0))","v":26},{"$f":"IF(im2colAll_confW4!AJ16:FE40 > 0, ROUNDDOWN(im2colAll_confW4!AJ16:FE40/2^4, 0), ROUNDUP(im2colAll_confW4!AJ16:FE40/2^4, 0))","v":-2},{"$f":"IF(im2colAll_confW4!AK16:FF40 > 0, ROUNDDOWN(im2colAll_confW4!AK16:FF40/2^4, 0), ROUNDUP(im2colAll_confW4!AK16:FF40/2^4, 0))","v":53},{"$f":"IF(im2colAll_confW4!AL16:FG40 > 0, ROUNDDOWN(im2colAll_confW4!AL16:FG40/2^4, 0), ROUNDUP(im2colAll_confW4!AL16:FG40/2^4, 0))","v":-13},{"$f":"IF(im2colAll_confW4!AM16:FH40 > 0, ROUNDDOWN(im2colAll_confW4!AM16:FH40/2^4, 0), ROUNDUP(im2colAll_confW4!AM16:FH40/2^4, 0))","v":-11},{"$f":"IF(im2colAll_confW4!AN16:FI40 > 0, ROUNDDOWN(im2colAll_confW4!AN16:FI40/2^4, 0), ROUNDUP(im2colAll_confW4!AN16:FI40/2^4, 0))","v":7},{"$f":"IF(im2colAll_confW4!AO16:FJ40 > 0, ROUNDDOWN(im2colAll_confW4!AO16:FJ40/2^4, 0), ROUNDUP(im2colAll_confW4!AO16:FJ40/2^4, 0))","v":-17},{"$f":"IF(im2colAll_confW4!AP16:FK40 > 0, ROUNDDOWN(im2colAll_confW4!AP16:FK40/2^4, 0), ROUNDUP(im2colAll_confW4!AP16:FK40/2^4, 0))","v":-38},{"$f":"IF(im2colAll_confW4!AQ16:FL40 > 0, ROUNDDOWN(im2colAll_confW4!AQ16:FL40/2^4, 0), ROUNDUP(im2colAll_confW4!AQ16:FL40/2^4, 0))","v":100},{"$f":"IF(im2colAll_confW4!AR16:FM40 > 0, ROUNDDOWN(im2colAll_confW4!AR16:FM40/2^4, 0), ROUNDUP(im2colAll_confW4!AR16:FM40/2^4, 0))","v":-15},{"$f":"IF(im2colAll_confW4!AS16:FN40 > 0, ROUNDDOWN(im2colAll_confW4!AS16:FN40/2^4, 0), ROUNDUP(im2colAll_confW4!AS16:FN40/2^4, 0))","v":0},{"$f":"IF(im2colAll_confW4!AT16:FO40 > 0, ROUNDDOWN(im2colAll_confW4!AT16:FO40/2^4, 0), ROUNDUP(im2colAll_confW4!AT16:FO40/2^4, 0))","v":-9},{"$f":"IF(im2colAll_confW4!AU16:FP40 > 0, ROUNDDOWN(im2colAll_confW4!AU16:FP40/2^4, 0), ROUNDUP(im2colAll_confW4!AU16:FP40/2^4, 0))","v":-3},{"$f":"IF(im2colAll_confW4!AV16:FQ40 > 0, ROUNDDOWN(im2colAll_confW4!AV16:FQ40/2^4, 0), ROUNDUP(im2colAll_confW4!AV16:FQ40/2^4, 0))","v":-30},{"$f":"IF(im2colAll_confW4!AW16:FR40 > 0, ROUNDDOWN(im2colAll_confW4!AW16:FR40/2^4, 0), ROUNDUP(im2colAll_confW4!AW16:FR40/2^4, 0))","v":-21},{"$f":"IF(im2colAll_confW4!AX16:FS40 > 0, ROUNDDOWN(im2colAll_confW4!AX16:FS40/2^4, 0), ROUNDUP(im2colAll_confW4!AX16:FS40/2^4, 0))","v":-1},{"$f":"IF(im2colAll_confW4!AY16:FT40 > 0, ROUNDDOWN(im2colAll_confW4!AY16:FT40/2^4, 0), ROUNDUP(im2colAll_confW4!AY16:FT40/2^4, 0))","v":-28},{"$f":"IF(im2colAll_confW4!AZ16:FU40 > 0, ROUNDDOWN(im2colAll_confW4!AZ16:FU40/2^4, 0), ROUNDUP(im2colAll_confW4!AZ16:FU40/2^4, 0))","v":-14},{"$f":"IF(im2colAll_confW4!BA16:FV40 > 0, ROUNDDOWN(im2colAll_confW4!BA16:FV40/2^4, 0), ROUNDUP(im2colAll_confW4!BA16:FV40/2^4, 0))","v":-4},{"$f":"IF(im2colAll_confW4!BB16:FW40 > 0, ROUNDDOWN(im2colAll_confW4!BB16:FW40/2^4, 0), ROUNDUP(im2colAll_confW4!BB16:FW40/2^4, 0))","v":-8},{"$f":"IF(im2colAll_confW4!BC16:FX40 > 0, ROUNDDOWN(im2colAll_confW4!BC16:FX40/2^4, 0), ROUNDUP(im2colAll_confW4!BC16:FX40/2^4, 0))","v":12},{"$f":"IF(im2colAll_confW4!BD16:FY40 > 0, ROUNDDOWN(im2colAll_confW4!BD16:FY40/2^4, 0), ROUNDUP(im2colAll_confW4!BD16:FY40/2^4, 0))","v":16},{"$f":"IF(im2colAll_confW4!BE16:FZ40 > 0, ROUNDDOWN(im2colAll_confW4!BE16:FZ40/2^4, 0), ROUNDUP(im2colAll_confW4!BE16:FZ40/2^4, 0))","v":-2},{"$f":"IF(im2colAll_confW4!BF16:GA40 > 0, ROUNDDOWN(im2colAll_confW4!BF16:GA40/2^4, 0), ROUNDUP(im2colAll_confW4!BF16:GA40/2^4, 0))","v":41},{"$f":"IF(im2colAll_confW4!BG16:GB40 > 0, ROUNDDOWN(im2colAll_confW4!BG16:GB40/2^4, 0), ROUNDUP(im2colAll_confW4!BG16:GB40/2^4, 0))","v":-12},{"$f":"IF(im2colAll_confW4!BH16:GC40 > 0, ROUNDDOWN(im2colAll_confW4!BH16:GC40/2^4, 0), ROUNDUP(im2colAll_confW4!BH16:GC40/2^4, 0))","v":-3},{"$f":"IF(im2colAll_confW4!BI16:GD40 > 0, ROUNDDOWN(im2colAll_confW4!BI16:GD40/2^4, 0), ROUNDUP(im2colAll_confW4!BI16:GD40/2^4, 0))","v":-4},{"$f":"IF(im2colAll_confW4!BJ16:GE40 > 0, ROUNDDOWN(im2colAll_confW4!BJ16:GE40/2^4, 0), ROUNDUP(im2colAll_confW4!BJ16:GE40/2^4, 0))","v":-17},{"$f":"IF(im2colAll_confW4!BK16:GF40 > 0, ROUNDDOWN(im2colAll_confW4!BK16:GF40/2^4, 0), ROUNDUP(im2colAll_confW4!BK16:GF40/2^4, 0))","v":-22},{"$f":"IF(im2colAll_confW4!BL16:GG40 > 0, ROUNDDOWN(im2colAll_confW4!BL16:GG40/2^4, 0), ROUNDUP(im2colAll_confW4!BL16:GG40/2^4, 0))","v":104},{"$f":"IF(im2colAll_confW4!BM16:GH40 > 0, ROUNDDOWN(im2colAll_confW4!BM16:GH40/2^4, 0), ROUNDUP(im2colAll_confW4!BM16:GH40/2^4, 0))","v":-14},{"$f":"IF(im2colAll_confW4!BN16:GI40 > 0, ROUNDDOWN(im2colAll_confW4!BN16:GI40/2^4, 0), ROUNDUP(im2colAll_confW4!BN16:GI40/2^4, 0))","v":3},{"$f":"IF(im2colAll_confW4!BO16:GJ40 > 0, ROUNDDOWN(im2colAll_confW4!BO16:GJ40/2^4, 0), ROUNDUP(im2colAll_confW4!BO16:GJ40/2^4, 0))","v":-6},{"$f":"IF(im2colAll_confW4!BP16:GK40 > 0, ROUNDDOWN(im2colAll_confW4!BP16:GK40/2^4, 0), ROUNDUP(im2colAll_confW4!BP16:GK40/2^4, 0))","v":-15},{"$f":"IF(im2colAll_confW4!BQ16:GL40 > 0, ROUNDDOWN(im2colAll_confW4!BQ16:GL40/2^4, 0), ROUNDUP(im2colAll_confW4!BQ16:GL40/2^4, 0))","v":-35},{"$f":"IF(im2colAll_confW4!BR16:GM40 > 0, ROUNDDOWN(im2colAll_confW4!BR16:GM40/2^4, 0), ROUNDUP(im2colAll_confW4!BR16:GM40/2^4, 0))","v":-16},{"$f":"IF(im2colAll_confW4!BS16:GN40 > 0, ROUNDDOWN(im2colAll_confW4!BS16:GN40/2^4, 0), ROUNDUP(im2colAll_confW4!BS16:GN40/2^4, 0))","v":-12},{"$f":"IF(im2colAll_confW4!BT16:GO40 > 0, ROUNDDOWN(im2colAll_confW4!BT16:GO40/2^4, 0), ROUNDUP(im2colAll_confW4!BT16:GO40/2^4, 0))","v":-17},{"$f":"IF(im2colAll_confW4!BU16:GP40 > 0, ROUNDDOWN(im2colAll_confW4!BU16:GP40/2^4, 0), ROUNDUP(im2colAll_confW4!BU16:GP40/2^4, 0))","v":-5},{"$f":"IF(im2colAll_confW4!BV16:GQ40 > 0, ROUNDDOWN(im2colAll_confW4!BV16:GQ40/2^4, 0), ROUNDUP(im2colAll_confW4!BV16:GQ40/2^4, 0))","v":-4},{"$f":"IF(im2colAll_confW4!BW16:GR40 > 0, ROUNDDOWN(im2colAll_confW4!BW16:GR40/2^4, 0), ROUNDUP(im2colAll_confW4!BW16:GR40/2^4, 0))","v":-7},{"$f":"IF(im2colAll_confW4!BX16:GS40 > 0, ROUNDDOWN(im2colAll_confW4!BX16:GS40/2^4, 0), ROUNDUP(im2colAll_confW4!BX16:GS40/2^4, 0))","v":1},{"$f":"IF(im2colAll_confW4!BY16:GT40 > 0, ROUNDDOWN(im2colAll_confW4!BY16:GT40/2^4, 0), ROUNDUP(im2colAll_confW4!BY16:GT40/2^4, 0))","v":15},{"$f":"IF(im2colAll_confW4!BZ16:GU40 > 0, ROUNDDOWN(im2colAll_confW4!BZ16:GU40/2^4, 0), ROUNDUP(im2colAll_confW4!BZ16:GU40/2^4, 0))","v":-7},{"$f":"IF(im2colAll_confW4!CA16:GV40 > 0, ROUNDDOWN(im2colAll_confW4!CA16:GV40/2^4, 0), ROUNDUP(im2colAll_confW4!CA16:GV40/2^4, 0))","v":59},{"$f":"IF(im2colAll_confW4!CB16:GW40 > 0, ROUNDDOWN(im2colAll_confW4!CB16:GW40/2^4, 0), ROUNDUP(im2colAll_confW4!CB16:GW40/2^4, 0))","v":-8},{"$f":"IF(im2colAll_confW4!CC16:GX40 > 0, ROUNDDOWN(im2colAll_confW4!CC16:GX40/2^4, 0), ROUNDUP(im2colAll_confW4!CC16:GX40/2^4, 0))","v":-1},{"$f":"IF(im2colAll_confW4!CD16:GY40 > 0, ROUNDDOWN(im2colAll_confW4!CD16:GY40/2^4, 0), ROUNDUP(im2colAll_confW4!CD16:GY40/2^4, 0))","v":-1},{"$f":"IF(im2colAll_confW4!CE16:GZ40 > 0, ROUNDDOWN(im2colAll_confW4!CE16:GZ40/2^4, 0), ROUNDUP(im2colAll_confW4!CE16:GZ40/2^4, 0))","v":-13},{"$f":"IF(im2colAll_confW4!CF16:HA40 > 0, ROUNDDOWN(im2colAll_confW4!CF16:HA40/2^4, 0), ROUNDUP(im2colAll_confW4!CF16:HA40/2^4, 0))","v":-29},{"$f":"IF(im2colAll_confW4!CG16:HB40 > 0, ROUNDDOWN(im2colAll_confW4!CG16:HB40/2^4, 0), ROUNDUP(im2colAll_confW4!CG16:HB40/2^4, 0))","v":101},{"$f":"IF(im2colAll_confW4!CH16:HC40 > 0, ROUNDDOWN(im2colAll_confW4!CH16:HC40/2^4, 0), ROUNDUP(im2colAll_confW4!CH16:HC40/2^4, 0))","v":-24},{"$f":"IF(im2colAll_confW4!CI16:HD40 > 0, ROUNDDOWN(im2colAll_confW4!CI16:HD40/2^4, 0), ROUNDUP(im2colAll_confW4!CI16:HD40/2^4, 0))","v":3},{"$f":"IF(im2colAll_confW4!CJ16:HE40 > 0, ROUNDDOWN(im2colAll_confW4!CJ16:HE40/2^4, 0), ROUNDUP(im2colAll_confW4!CJ16:HE40/2^4, 0))","v":-2},{"$f":"IF(im2colAll_confW4!CK16:HF40 > 0, ROUNDDOWN(im2colAll_confW4!CK16:HF40/2^4, 0), ROUNDUP(im2colAll_confW4!CK16:HF40/2^4, 0))","v":5},{"$f":"IF(im2colAll_confW4!CL16:HG40 > 0, ROUNDDOWN(im2colAll_confW4!CL16:HG40/2^4, 0), ROUNDUP(im2colAll_confW4!CL16:HG40/2^4, 0))","v":-25},{"$f":"IF(im2colAll_confW4!CM16:HH40 > 0, ROUNDDOWN(im2colAll_confW4!CM16:HH40/2^4, 0), ROUNDUP(im2colAll_confW4!CM16:HH40/2^4, 0))","v":-26},{"$f":"IF(im2colAll_confW4!CN16:HI40 > 0, ROUNDDOWN(im2colAll_confW4!CN16:HI40/2^4, 0), ROUNDUP(im2colAll_confW4!CN16:HI40/2^4, 0))","v":-13},{"$f":"IF(im2colAll_confW4!CO16:HJ40 > 0, ROUNDDOWN(im2colAll_confW4!CO16:HJ40/2^4, 0), ROUNDUP(im2colAll_confW4!CO16:HJ40/2^4, 0))","v":-10},{"$f":"IF(im2colAll_confW4!CP16:HK40 > 0, ROUNDDOWN(im2colAll_confW4!CP16:HK40/2^4, 0), ROUNDUP(im2colAll_confW4!CP16:HK40/2^4, 0))","v":-9},{"$f":"IF(im2colAll_confW4!CQ16:HL40 > 0, ROUNDDOWN(im2colAll_confW4!CQ16:HL40/2^4, 0), ROUNDUP(im2colAll_confW4!CQ16:HL40/2^4, 0))","v":7},{"$f":"IF(im2colAll_confW4!CR16:HM40 > 0, ROUNDDOWN(im2colAll_confW4!CR16:HM40/2^4, 0), ROUNDUP(im2colAll_confW4!CR16:HM40/2^4, 0))","v":0},{"$f":"IF(im2colAll_confW4!CS16:HN40 > 0, ROUNDDOWN(im2colAll_confW4!CS16:HN40/2^4, 0), ROUNDUP(im2colAll_confW4!CS16:HN40/2^4, 0))","v":12},{"$f":"IF(im2colAll_confW4!CT16:HO40 > 0, ROUNDDOWN(im2colAll_confW4!CT16:HO40/2^4, 0), ROUNDUP(im2colAll_confW4!CT16:HO40/2^4, 0))","v":23},{"$f":"IF(im2colAll_confW4!CU16:HP40 > 0, ROUNDDOWN(im2colAll_confW4!CU16:HP40/2^4, 0), ROUNDUP(im2colAll_confW4!CU16:HP40/2^4, 0))","v":1},{"$f":"IF(im2colAll_confW4!CV16:HQ40 > 0, ROUNDDOWN(im2colAll_confW4!CV16:HQ40/2^4, 0), ROUNDUP(im2colAll_confW4!CV16:HQ40/2^4, 0))","v":27},{"$f":"IF(im2colAll_confW4!CW16:HR40 > 0, ROUNDDOWN(im2colAll_confW4!CW16:HR40/2^4, 0), ROUNDUP(im2colAll_confW4!CW16:HR40/2^4, 0))","v":-8},{"$f":"IF(im2colAll_confW4!CX16:HS40 > 0, ROUNDDOWN(im2colAll_confW4!CX16:HS40/2^4, 0), ROUNDUP(im2colAll_confW4!CX16:HS40/2^4, 0))","v":-8},{"$f":"IF(im2colAll_confW4!CY16:HT40 > 0, ROUNDDOWN(im2colAll_confW4!CY16:HT40/2^4, 0), ROUNDUP(im2colAll_confW4!CY16:HT40/2^4, 0))","v":-5},{"$f":"IF(im2colAll_confW4!CZ16:HU40 > 0, ROUNDDOWN(im2colAll_confW4!CZ16:HU40/2^4, 0), ROUNDUP(im2colAll_confW4!CZ16:HU40/2^4, 0))","v":-10},{"$f":"IF(im2colAll_confW4!DA16:HV40 > 0, ROUNDDOWN(im2colAll_confW4!DA16:HV40/2^4, 0), ROUNDUP(im2colAll_confW4!DA16:HV40/2^4, 0))","v":-23},{"$f":"IF(im2colAll_confW4!DB16:HW40 > 0, ROUNDDOWN(im2colAll_confW4!DB16:HW40/2^4, 0), ROUNDUP(im2colAll_confW4!DB16:HW40/2^4, 0))","v":105},{"$f":"IF(im2colAll_confW4!DC16:HX40 > 0, ROUNDDOWN(im2colAll_confW4!DC16:HX40/2^4, 0), ROUNDUP(im2colAll_confW4!DC16:HX40/2^4, 0))","v":-25},{"$f":"IF(im2colAll_confW4!DD16:HY40 > 0, ROUNDDOWN(im2colAll_confW4!DD16:HY40/2^4, 0), ROUNDUP(im2colAll_confW4!DD16:HY40/2^4, 0))","v":3},{"$f":"IF(im2colAll_confW4!DE16:HZ40 > 0, ROUNDDOWN(im2colAll_confW4!DE16:HZ40/2^4, 0), ROUNDUP(im2colAll_confW4!DE16:HZ40/2^4, 0))","v":-7},{"$f":"IF(im2colAll_confW4!DF16:IA40 > 0, ROUNDDOWN(im2colAll_confW4!DF16:IA40/2^4, 0), ROUNDUP(im2colAll_confW4!DF16:IA40/2^4, 0))","v":-15},{"$f":"IF(im2colAll_confW4!DG16:IB40 > 0, ROUNDDOWN(im2colAll_confW4!DG16:IB40/2^4, 0), ROUNDUP(im2colAll_confW4!DG16:IB40/2^4, 0))","v":-25},{"$f":"IF(im2colAll_confW4!DH16:IC40 > 0, ROUNDDOWN(im2colAll_confW4!DH16:IC40/2^4, 0), ROUNDUP(im2colAll_confW4!DH16:IC40/2^4, 0))","v":-15},{"$f":"IF(im2colAll_confW4!DI16:ID40 > 0, ROUNDDOWN(im2colAll_confW4!DI16:ID40/2^4, 0), ROUNDUP(im2colAll_confW4!DI16:ID40/2^4, 0))","v":-7},{"$f":"IF(im2colAll_confW4!DJ16:IE40 > 0, ROUNDDOWN(im2colAll_confW4!DJ16:IE40/2^4, 0), ROUNDUP(im2colAll_confW4!DJ16:IE40/2^4, 0))","v":-18},{"$f":"IF(im2colAll_confW4!DK16:IF40 > 0, ROUNDDOWN(im2colAll_confW4!DK16:IF40/2^4, 0), ROUNDUP(im2colAll_confW4!DK16:IF40/2^4, 0))","v":11},{"$f":"IF(im2colAll_confW4!DL16:IG40 > 0, ROUNDDOWN(im2colAll_confW4!DL16:IG40/2^4, 0), ROUNDUP(im2colAll_confW4!DL16:IG40/2^4, 0))","v":-3},{"$f":"IF(im2colAll_confW4!DM16:IH40 > 0, ROUNDDOWN(im2colAll_confW4!DM16:IH40/2^4, 0), ROUNDUP(im2colAll_confW4!DM16:IH40/2^4, 0))","v":-8},{"$f":"IF(im2colAll_confW4!DN16:II40 > 0, ROUNDDOWN(im2colAll_confW4!DN16:II40/2^4, 0), ROUNDUP(im2colAll_confW4!DN16:II40/2^4, 0))","v":1},{"$f":"IF(im2colAll_confW4!DO16:IJ40 > 0, ROUNDDOWN(im2colAll_confW4!DO16:IJ40/2^4, 0), ROUNDUP(im2colAll_confW4!DO16:IJ40/2^4, 0))","v":18},{"$f":"IF(im2colAll_confW4!DP16:IK40 > 0, ROUNDDOWN(im2colAll_confW4!DP16:IK40/2^4, 0), ROUNDUP(im2colAll_confW4!DP16:IK40/2^4, 0))","v":1},{"$f":"IF(im2colAll_confW4!DQ16:IL40 > 0, ROUNDDOWN(im2colAll_confW4!DQ16:IL40/2^4, 0), ROUNDUP(im2colAll_confW4!DQ16:IL40/2^4, 0))","v":50},{"$f":"IF(im2colAll_confW4!DR16:IM40 > 0, ROUNDDOWN(im2colAll_confW4!DR16:IM40/2^4, 0), ROUNDUP(im2colAll_confW4!DR16:IM40/2^4, 0))","v":-8},{"$f":"IF(im2colAll_confW4!DS16:IN40 > 0, ROUNDDOWN(im2colAll_confW4!DS16:IN40/2^4, 0), ROUNDUP(im2colAll_confW4!DS16:IN40/2^4, 0))","v":-4},{"$f":"IF(im2colAll_confW4!DT16:IO40 > 0, ROUNDDOWN(im2colAll_confW4!DT16:IO40/2^4, 0), ROUNDUP(im2colAll_confW4!DT16:IO40/2^4, 0))","v":-1},{"$f":"IF(im2colAll_confW4!DU16:IP40 > 0, ROUNDDOWN(im2colAll_confW4!DU16:IP40/2^4, 0), ROUNDUP(im2colAll_confW4!DU16:IP40/2^4, 0))","v":-8},{"$f":"IF(im2colAll_confW4!DV16:IQ40 > 0, ROUNDDOWN(im2colAll_confW4!DV16:IQ40/2^4, 0), ROUNDUP(im2colAll_confW4!DV16:IQ40/2^4, 0))","v":-16}]
[{"$f":"IF(im2colAll_confW4!A17:DV41 > 0, ROUNDDOWN(im2colAll_confW4!A17:DV41/2^4, 0), ROUNDUP(im2colAll_confW4!A17:DV41/2^4, 0))","v":205},{"$f":"IF(im2colAll_confW4!B17:DW41 > 0, ROUNDDOWN(im2colAll_confW4!B17:DW41/2^4, 0), ROUNDUP(im2colAll_confW4!B17:DW41/2^4, 0))","v":-18},{"$f":"IF(im2colAll_confW4!C17:DX41 > 0, ROUNDDOWN(im2colAll_confW4!C17:DX41/2^4, 0), ROUNDUP(im2colAll_confW4!C17:DX41/2^4, 0))","v":25},{"$f":"IF(im2colAll_confW4!D17:DY41 > 0, ROUNDDOWN(im2colAll_confW4!D17:DY41/2^4, 0), ROUNDUP(im2colAll_confW4!D17:DY41/2^4, 0))","v":-10},{"$f":"IF(im2colAll_confW4!E17:DZ41 > 0, ROUNDDOWN(im2colAll_confW4!E17:DZ41/2^4, 0), ROUNDUP(im2colAll_confW4!E17:DZ41/2^4, 0))","v":-21},{"$f":"IF(im2colAll_confW4!F17:EA41 > 0, ROUNDDOWN(im2colAll_confW4!F17:EA41/2^4, 0), ROUNDUP(im2colAll_confW4!F17:EA41/2^4, 0))","v":-50},{"$f":"IF(im2colAll_confW4!G17:EB41 > 0, ROUNDDOWN(im2colAll_confW4!G17:EB41/2^4, 0), ROUNDUP(im2colAll_confW4!G17:EB41/2^4, 0))","v":-44},{"$f":"IF(im2colAll_confW4!H17:EC41 > 0, ROUNDDOWN(im2colAll_confW4!H17:EC41/2^4, 0), ROUNDUP(im2colAll_confW4!H17:EC41/2^4, 0))","v":-26},{"$f":"IF(im2colAll_confW4!I17:ED41 > 0, ROUNDDOWN(im2colAll_confW4!I17:ED41/2^4, 0), ROUNDUP(im2colAll_confW4!I17:ED41/2^4, 0))","v":-28},{"$f":"IF(im2colAll_confW4!J17:EE41 > 0, ROUNDDOWN(im2colAll_confW4!J17:EE41/2^4, 0), ROUNDUP(im2colAll_confW4!J17:EE41/2^4, 0))","v":7},{"$f":"IF(im2colAll_confW4!K17:EF41 > 0, ROUNDDOWN(im2colAll_confW4!K17:EF41/2^4, 0), ROUNDUP(im2colAll_confW4!K17:EF41/2^4, 0))","v":-8},{"$f":"IF(im2colAll_confW4!L17:EG41 > 0, ROUNDDOWN(im2colAll_confW4!L17:EG41/2^4, 0), ROUNDUP(im2colAll_confW4!L17:EG41/2^4, 0))","v":-8},{"$f":"IF(im2colAll_confW4!M17:EH41 > 0, ROUNDDOWN(im2colAll_confW4!M17:EH41/2^4, 0), ROUNDUP(im2colAll_confW4!M17:EH41/2^4, 0))","v":27},{"$f":"IF(im2colAll_confW4!N17:EI41 > 0, ROUNDDOWN(im2colAll_confW4!N17:EI41/2^4, 0), ROUNDUP(im2colAll_confW4!N17:EI41/2^4, 0))","v":51},{"$f":"IF(im2colAll_confW4!O17:EJ41 > 0, ROUNDDOWN(im2colAll_confW4!O17:EJ41/2^4, 0), ROUNDUP(im2colAll_confW4!O17:EJ41/2^4, 0))","v":-11},{"$f":"IF(im2colAll_confW4!P17:EK41 > 0, ROUNDDOWN(im2colAll_confW4!P17:EK41/2^4, 0), ROUNDUP(im2colAll_confW4!P17:EK41/2^4, 0))","v":74},{"$f":"IF(im2colAll_confW4!Q17:EL41 > 0, ROUNDDOWN(im2colAll_confW4!Q17:EL41/2^4, 0), ROUNDUP(im2colAll_confW4!Q17:EL41/2^4, 0))","v":-33},{"$f":"IF(im2colAll_confW4!R17:EM41 > 0, ROUNDDOWN(im2colAll_confW4!R17:EM41/2^4, 0), ROUNDUP(im2colAll_confW4!R17:EM41/2^4, 0))","v":1},{"$f":"IF(im2colAll_confW4!S17:EN41 > 0, ROUNDDOWN(im2colAll_confW4!S17:EN41/2^4, 0), ROUNDUP(im2colAll_confW4!S17:EN41/2^4, 0))","v":15},{"$f":"IF(im2colAll_confW4!T17:EO41 > 0, ROUNDDOWN(im2colAll_confW4!T17:EO41/2^4, 0), ROUNDUP(im2colAll_confW4!T17:EO41/2^4, 0))","v":-9},{"$f":"IF(im2colAll_confW4!U17:EP41 > 0, ROUNDDOWN(im2colAll_confW4!U17:EP41/2^4, 0), ROUNDUP(im2colAll_confW4!U17:EP41/2^4, 0))","v":-66},{"$f":"IF(im2colAll_confW4!V17:EQ41 > 0, ROUNDDOWN(im2colAll_confW4!V17:EQ41/2^4, 0), ROUNDUP(im2colAll_confW4!V17:EQ41/2^4, 0))","v":184},{"$f":"IF(im2colAll_confW4!W17:ER41 > 0, ROUNDDOWN(im2colAll_confW4!W17:ER41/2^4, 0), ROUNDUP(im2colAll_confW4!W17:ER41/2^4, 0))","v":-30},{"$f":"IF(im2colAll_confW4!X17:ES41 > 0, ROUNDDOWN(im2colAll_confW4!X17:ES41/2^4, 0), ROUNDUP(im2colAll_confW4!X17:ES41/2^4, 0))","v":32},{"$f":"IF(im2colAll_confW4!Y17:ET41 > 0, ROUNDDOWN(im2colAll_confW4!Y17:ET41/2^4, 0), ROUNDUP(im2colAll_confW4!Y17:ET41/2^4, 0))","v":-2},{"$f":"IF(im2colAll_confW4!Z17:EU41 > 0, ROUNDDOWN(im2colAll_confW4!Z17:EU41/2^4, 0), ROUNDUP(im2colAll_confW4!Z17:EU41/2^4, 0))","v":-12},{"$f":"IF(im2colAll_confW4!AA17:EV41 > 0, ROUNDDOWN(im2colAll_confW4!AA17:EV41/2^4, 0), ROUNDUP(im2colAll_confW4!AA17:EV41/2^4, 0))","v":-86},{"$f":"IF(im2colAll_confW4!AB17:EW41 > 0, ROUNDDOWN(im2colAll_confW4!AB17:EW41/2^4, 0), ROUNDUP(im2colAll_confW4!AB17:EW41/2^4, 0))","v":-59},{"$f":"IF(im2colAll_confW4!AC17:EX41 > 0, ROUNDDOWN(im2colAll_confW4!AC17:EX41/2^4, 0), ROUNDUP(im2colAll_confW4!AC17:EX41/2^4, 0))","v":-13},{"$f":"IF(im2colAll_confW4!AD17:EY41 > 0, ROUNDDOWN(im2colAll_confW4!AD17:EY41/2^4, 0), ROUNDUP(im2colAll_confW4!AD17:EY41/2^4, 0))","v":-57},{"$f":"IF(im2colAll_confW4!AE17:EZ41 > 0, ROUNDDOWN(im2colAll_confW4!AE17:EZ41/2^4, 0), ROUNDUP(im2colAll_confW4!AE17:EZ41/2^4, 0))","v":4},{"$f":"IF(im2colAll_confW4!AF17:FA41 > 0, ROUNDDOWN(im2colAll_confW4!AF17:FA41/2^4, 0), ROUNDUP(im2colAll_confW4!AF17:FA41/2^4, 0))","v":4},{"$f":"IF(im2colAll_confW4!AG17:FB41 > 0, ROUNDDOWN(im2colAll_confW4!AG17:FB41/2^4, 0), ROUNDUP(im2colAll_confW4!AG17:FB41/2^4, 0))","v":1},{"$f":"IF(im2colAll_confW4!AH17:FC41 > 0, ROUNDDOWN(im2colAll_confW4!AH17:FC41/2^4, 0), ROUNDUP(im2colAll_confW4!AH17:FC41/2^4, 0))","v":31},{"$f":"IF(im2colAll_confW4!AI17:FD41 > 0, ROUNDDOWN(im2colAll_confW4!AI17:FD41/2^4, 0), ROUNDUP(im2colAll_confW4!AI17:FD41/2^4, 0))","v":47},{"$f":"IF(im2colAll_confW4!AJ17:FE41 > 0, ROUNDDOWN(im2colAll_confW4!AJ17:FE41/2^4, 0), ROUNDUP(im2colAll_confW4!AJ17:FE41/2^4, 0))","v":-2},{"$f":"IF(im2colAll_confW4!AK17:FF41 > 0, ROUNDDOWN(im2colAll_confW4!AK17:FF41/2^4, 0), ROUNDUP(im2colAll_confW4!AK17:FF41/2^4, 0))","v":74},{"$f":"IF(im2colAll_confW4!AL17:FG41 > 0, ROUNDDOWN(im2colAll_confW4!AL17:FG41/2^4, 0), ROUNDUP(im2colAll_confW4!AL17:FG41/2^4, 0))","v":-24},{"$f":"IF(im2colAll_confW4!AM17:FH41 > 0, ROUNDDOWN(im2colAll_confW4!AM17:FH41/2^4, 0), ROUNDUP(im2colAll_confW4!AM17:FH41/2^4, 0))","v":-13},{"$f":"IF(im2colAll_confW4!AN17:FI41 > 0, ROUNDDOWN(im2colAll_confW4!AN17:FI41/2^4, 0), ROUNDUP(im2colAll_confW4!AN17:FI41/2^4, 0))","v":12},{"$f":"IF(im2colAll_confW4!AO17:FJ41 > 0, ROUNDDOWN(im2colAll_confW4!AO17:FJ41/2^4, 0), ROUNDUP(im2colAll_confW4!AO17:FJ41/2^4, 0))","v":-28},{"$f":"IF(im2colAll_confW4!AP17:FK41 > 0, ROUNDDOWN(im2colAll_confW4!AP17:FK41/2^4, 0), ROUNDUP(im2colAll_confW4!AP17:FK41/2^4, 0))","v":-70},{"$f":"IF(im2colAll_confW4!AQ17:FL41 > 0, ROUNDDOWN(im2colAll_confW4!AQ17:FL41/2^4, 0), ROUNDUP(im2colAll_confW4!AQ17:FL41/2^4, 0))","v":175},{"$f":"IF(im2colAll_confW4!AR17:FM41 > 0, ROUNDDOWN(im2colAll_confW4!AR17:FM41/2^4, 0), ROUNDUP(im2colAll_confW4!AR17:FM41/2^4, 0))","v":-34},{"$f":"IF(im2colAll_confW4!AS17:FN41 > 0, ROUNDDOWN(im2colAll_confW4!AS17:FN41/2^4, 0), ROUNDUP(im2colAll_confW4!AS17:FN41/2^4, 0))","v":9},{"$f":"IF(im2colAll_confW4!AT17:FO41 > 0, ROUNDDOWN(im2colAll_confW4!AT17:FO41/2^4, 0), ROUNDUP(im2colAll_confW4!AT17:FO41/2^4, 0))","v":-19},{"$f":"IF(im2colAll_confW4!AU17:FP41 > 0, ROUNDDOWN(im2colAll_confW4!AU17:FP41/2^4, 0), ROUNDUP(im2colAll_confW4!AU17:FP41/2^4, 0))","v":-25},{"$f":"IF(im2colAll_confW4!AV17:FQ41 > 0, ROUNDDOWN(im2colAll_confW4!AV17:FQ41/2^4, 0), ROUNDUP(im2colAll_confW4!AV17:FQ41/2^4, 0))","v":-60},{"$f":"IF(im2colAll_confW4!AW17:FR41 > 0, ROUNDDOWN(im2colAll_confW4!AW17:FR41/2^4, 0), ROUNDUP(im2colAll_confW4!AW17:FR41/2^4, 0))","v":-44},{"$f":"IF(im2colAll_confW4!AX17:FS41 > 0, ROUNDDOWN(im2colAll_confW4!AX17:FS41/2^4, 0), ROUNDUP(im2colAll_confW4!AX17:FS41/2^4, 0))","v":-7},{"$f":"IF(im2colAll_confW4!AY17:FT41 > 0, ROUNDDOWN(im2colAll_confW4!AY17:FT41/2^4, 0), ROUNDUP(im2colAll_confW4!AY17:FT41/2^4, 0))","v":-44},{"$f":"IF(im2colAll_confW4!AZ17:FU41 > 0, ROUNDDOWN(im2colAll_confW4!AZ17:FU41/2^4, 0), ROUNDUP(im2colAll_confW4!AZ17:FU41/2^4, 0))","v":-20},{"$f":"IF(im2colAll_confW4!BA17:FV41 > 0, ROUNDDOWN(im2colAll_confW4!BA17:FV41/2^4, 0), ROUNDUP(im2colAll_confW4!BA17:FV41/2^4, 0))","v":14},{"$f":"IF(im2colAll_confW4!BB17:FW41 > 0, ROUNDDOWN(im2colAll_confW4!BB17:FW41/2^4, 0), ROUNDUP(im2colAll_confW4!BB17:FW41/2^4, 0))","v":-2},{"$f":"IF(im2colAll_confW4!BC17:FX41 > 0, ROUNDDOWN(im2colAll_confW4!BC17:FX41/2^4, 0), ROUNDUP(im2colAll_confW4!BC17:FX41/2^4, 0))","v":35},{"$f":"IF(im2colAll_confW4!BD17:FY41 > 0, ROUNDDOWN(im2colAll_confW4!BD17:FY41/2^4, 0), ROUNDUP(im2colAll_confW4!BD17:FY41/2^4, 0))","v":33},{"$f":"IF(im2colAll_confW4!BE17:FZ41 > 0, ROUNDDOWN(im2colAll_confW4!BE17:FZ41/2^4, 0), ROUNDUP(im2colAll_confW4!BE17:FZ41/2^4, 0))","v":-5},{"$f":"IF(im2colAll_confW4!BF17:GA41 > 0, ROUNDDOWN(im2colAll_confW4!BF17:GA41/2^4, 0), ROUNDUP(im2colAll_confW4!BF17:GA41/2^4, 0))","v":55},{"$f":"IF(im2colAll_confW4!BG17:GB41 > 0, ROUNDDOWN(im2colAll_confW4!BG17:GB41/2^4, 0), ROUNDUP(im2colAll_confW4!BG17:GB41/2^4, 0))","v":-9},{"$f":"IF(im2colAll_confW4!BH17:GC41 > 0, ROUNDDOWN(im2colAll_confW4!BH17:GC41/2^4, 0), ROUNDUP(im2colAll_confW4!BH17:GC41/2^4, 0))","v":7},{"$f":"IF(im2colAll_confW4!BI17:GD41 > 0, ROUNDDOWN(im2colAll_confW4!BI17:GD41/2^4, 0), ROUNDUP(im2colAll_confW4!BI17:GD41/2^4, 0))","v":5},{"$f":"IF(im2colAll_confW4!BJ17:GE41 > 0, ROUNDDOWN(im2colAll_confW4!BJ17:GE41/2^4, 0), ROUNDUP(im2colAll_confW4!BJ17:GE41/2^4, 0))","v":-19},{"$f":"IF(im2colAll_confW4!BK17:GF41 > 0, ROUNDDOWN(im2colAll_confW4!BK17:GF41/2^4, 0), ROUNDUP(im2colAll_confW4!BK17:GF41/2^4, 0))","v":-44},{"$f":"IF(im2colAll_confW4!BL17:GG41 > 0, ROUNDDOWN(im2colAll_confW4!BL17:GG41/2^4, 0), ROUNDUP(im2colAll_confW4!BL17:GG41/2^4, 0))","v":188},{"$f":"IF(im2colAll_confW4!BM17:GH41 > 0, ROUNDDOWN(im2colAll_confW4!BM17:GH41/2^4, 0), ROUNDUP(im2colAll_confW4!BM17:GH41/2^4, 0))","v":-29},{"$f":"IF(im2colAll_confW4!BN17:GI41 > 0, ROUNDDOWN(im2colAll_confW4!BN17:GI41/2^4, 0), ROUNDUP(im2colAll_confW4!BN17:GI41/2^4, 0))","v":16},{"$f":"IF(im2colAll_confW4!BO17:GJ41 > 0, ROUNDDOWN(im2colAll_confW4!BO17:GJ41/2^4, 0), ROUNDUP(im2colAll_confW4!BO17:GJ41/2^4, 0))","v":-1},{"$f":"IF(im2colAll_confW4!BP17:GK41 > 0, ROUNDDOWN(im2colAll_confW4!BP17:GK41/2^4, 0), ROUNDUP(im2colAll_confW4!BP17:GK41/2^4, 0))","v":-46},{"$f":"IF(im2colAll_confW4!BQ17:GL41 > 0, ROUNDDOWN(im2colAll_confW4!BQ17:GL41/2^4, 0), ROUNDUP(im2colAll_confW4!BQ17:GL41/2^4, 0))","v":-64},{"$f":"IF(im2colAll_confW4!BR17:GM41 > 0, ROUNDDOWN(im2colAll_confW4!BR17:GM41/2^4, 0), ROUNDUP(im2colAll_confW4!BR17:GM41/2^4, 0))","v":-49},{"$f":"IF(im2colAll_confW4!BS17:GN41 > 0, ROUNDDOWN(im2colAll_confW4!BS17:GN41/2^4, 0), ROUNDUP(im2colAll_confW4!BS17:GN41/2^4, 0))","v":-14},{"$f":"IF(im2colAll_confW4!BT17:GO41 > 0, ROUNDDOWN(im2colAll_confW4!BT17:GO41/2^4, 0), ROUNDUP(im2colAll_confW4!BT17:GO41/2^4, 0))","v":-43},{"$f":"IF(im2colAll_confW4!BU17:GP41 > 0, ROUNDDOWN(im2colAll_confW4!BU17:GP41/2^4, 0), ROUNDUP(im2colAll_confW4!BU17:GP41/2^4, 0))","v":3},{"$f":"IF(im2colAll_confW4!BV17:GQ41 > 0, ROUNDDOWN(im2colAll_confW4!BV17:GQ41/2^4, 0), ROUNDUP(im2colAll_confW4!BV17:GQ41/2^4, 0))","v":0},{"$f":"IF(im2colAll_confW4!BW17:GR41 > 0, ROUNDDOWN(im2colAll_confW4!BW17:GR41/2^4, 0), ROUNDUP(im2colAll_confW4!BW17:GR41/2^4, 0))","v":-6},{"$f":"IF(im2colAll_confW4!BX17:GS41 > 0, ROUNDDOWN(im2colAll_confW4!BX17:GS41/2^4, 0), ROUNDUP(im2colAll_confW4!BX17:GS41/2^4, 0))","v":36},{"$f":"IF(im2colAll_confW4!BY17:GT41 > 0, ROUNDDOWN(im2colAll_confW4!BY17:GT41/2^4, 0), ROUNDUP(im2colAll_confW4!BY17:GT41/2^4, 0))","v":26},{"$f":"IF(im2colAll_confW4!BZ17:GU41 > 0, ROUNDDOWN(im2colAll_confW4!BZ17:GU41/2^4, 0), ROUNDUP(im2colAll_confW4!BZ17:GU41/2^4, 0))","v":-15},{"$f":"IF(im2colAll_confW4!CA17:GV41 > 0, ROUNDDOWN(im2colAll_confW4!CA17:GV41/2^4, 0), ROUNDUP(im2colAll_confW4!CA17:GV41/2^4, 0))","v":91},{"$f":"IF(im2colAll_confW4!CB17:GW41 > 0, ROUNDDOWN(im2colAll_confW4!CB17:GW41/2^4, 0), ROUNDUP(im2colAll_confW4!CB17:GW41/2^4, 0))","v":-19},{"$f":"IF(im2colAll_confW4!CC17:GX41 > 0, ROUNDDOWN(im2colAll_confW4!CC17:GX41/2^4, 0), ROUNDUP(im2colAll_confW4!CC17:GX41/2^4, 0))","v":-11},{"$f":"IF(im2colAll_confW4!CD17:GY41 > 0, ROUNDDOWN(im2colAll_confW4!CD17:GY41/2^4, 0), ROUNDUP(im2colAll_confW4!CD17:GY41/2^4, 0))","v":-7},{"$f":"IF(im2colAll_confW4!CE17:GZ41 > 0, ROUNDDOWN(im2colAll_confW4!CE17:GZ41/2^4, 0), ROUNDUP(im2colAll_confW4!CE17:GZ41/2^4, 0))","v":-28},{"$f":"IF(im2colAll_confW4!CF17:HA41 > 0, ROUNDDOWN(im2colAll_confW4!CF17:HA41/2^4, 0), ROUNDUP(im2colAll_confW4!CF17:HA41/2^4, 0))","v":-66},{"$f":"IF(im2colAll_confW4!CG17:HB41 > 0, ROUNDDOWN(im2colAll_confW4!CG17:HB41/2^4, 0), ROUNDUP(im2colAll_confW4!CG17:HB41/2^4, 0))","v":165},{"$f":"IF(im2colAll_confW4!CH17:HC41 > 0, ROUNDDOWN(im2colAll_confW4!CH17:HC41/2^4, 0), ROUNDUP(im2colAll_confW4!CH17:HC41/2^4, 0))","v":-31},{"$f":"IF(im2colAll_confW4!CI17:HD41 > 0, ROUNDDOWN(im2colAll_confW4!CI17:HD41/2^4, 0), ROUNDUP(im2colAll_confW4!CI17:HD41/2^4, 0))","v":21},{"$f":"IF(im2colAll_confW4!CJ17:HE41 > 0, ROUNDDOWN(im2colAll_confW4!CJ17:HE41/2^4, 0), ROUNDUP(im2colAll_confW4!CJ17:HE41/2^4, 0))","v":-12},{"$f":"IF(im2colAll_confW4!CK17:HF41 > 0, ROUNDDOWN(im2colAll_confW4!CK17:HF41/2^4, 0), ROUNDUP(im2colAll_confW4!CK17:HF41/2^4, 0))","v":-13},{"$f":"IF(im2colAll_confW4!CL17:HG41 > 0, ROUNDDOWN(im2colAll_confW4!CL17:HG41/2^4, 0), ROUNDUP(im2colAll_confW4!CL17:HG41/2^4, 0))","v":-34},{"$f":"IF(im2colAll_confW4!CM17:HH41 > 0, ROUNDDOWN(im2colAll_confW4!CM17:HH41/2^4, 0), ROUNDUP(im2colAll_confW4!CM17:HH41/2^4, 0))","v":-45},{"$f":"IF(im2colAll_confW4!CN17:HI41 > 0, ROUNDDOWN(im2colAll_confW4!CN17:HI41/2^4, 0), ROUNDUP(im2colAll_confW4!CN17:HI41/2^4, 0))","v":-16},{"$f":"IF(im2colAll_confW4!CO17:HJ41 > 0, ROUNDDOWN(im2colAll_confW4!CO17:HJ41/2^4, 0), ROUNDUP(im2colAll_confW4!CO17:HJ41/2^4, 0))","v":-18},{"$f":"IF(im2colAll_confW4!CP17:HK41 > 0, ROUNDDOWN(im2colAll_confW4!CP17:HK41/2^4, 0), ROUNDUP(im2colAll_confW4!CP17:HK41/2^4, 0))","v":-18},{"$f":"IF(im2colAll_confW4!CQ17:HL41 > 0, ROUNDDOWN(im2colAll_confW4!CQ17:HL41/2^4, 0), ROUNDUP(im2colAll_confW4!CQ17:HL41/2^4, 0))","v":14},{"$f":"IF(im2colAll_confW4!CR17:HM41 > 0, ROUNDDOWN(im2colAll_confW4!CR17:HM41/2^4, 0), ROUNDUP(im2colAll_confW4!CR17:HM41/2^4, 0))","v":4},{"$f":"IF(im2colAll_confW4!CS17:HN41 > 0, ROUNDDOWN(im2colAll_confW4!CS17:HN41/2^4, 0), ROUNDUP(im2colAll_confW4!CS17:HN41/2^4, 0))","v":18},{"$f":"IF(im2colAll_confW4!CT17:HO41 > 0, ROUNDDOWN(im2colAll_confW4!CT17:HO41/2^4, 0), ROUNDUP(im2colAll_confW4!CT17:HO41/2^4, 0))","v":46},{"$f":"IF(im2colAll_confW4!CU17:HP41 > 0, ROUNDDOWN(im2colAll_confW4!CU17:HP41/2^4, 0), ROUNDUP(im2colAll_confW4!CU17:HP41/2^4, 0))","v":11},{"$f":"IF(im2colAll_confW4!CV17:HQ41 > 0, ROUNDDOWN(im2colAll_confW4!CV17:HQ41/2^4, 0), ROUNDUP(im2colAll_confW4!CV17:HQ41/2^4, 0))","v":34},{"$f":"IF(im2colAll_confW4!CW17:HR41 > 0, ROUNDDOWN(im2colAll_confW4!CW17:HR41/2^4, 0), ROUNDUP(im2colAll_confW4!CW17:HR41/2^4, 0))","v":-1},{"$f":"IF(im2colAll_confW4!CX17:HS41 > 0, ROUNDDOWN(im2colAll_confW4!CX17:HS41/2^4, 0), ROUNDUP(im2colAll_confW4!CX17:HS41/2^4, 0))","v":-5},{"$f":"IF(im2colAll_confW4!CY17:HT41 > 0, ROUNDDOWN(im2colAll_confW4!CY17:HT41/2^4, 0), ROUNDUP(im2colAll_confW4!CY17:HT41/2^4, 0))","v":7},{"$f":"IF(im2colAll_confW4!CZ17:HU41 > 0, ROUNDDOWN(im2colAll_confW4!CZ17:HU41/2^4, 0), ROUNDUP(im2colAll_confW4!CZ17:HU41/2^4, 0))","v":-8},{"$f":"IF(im2colAll_confW4!DA17:HV41 > 0, ROUNDDOWN(im2colAll_confW4!DA17:HV41/2^4, 0), ROUNDUP(im2colAll_confW4!DA17:HV41/2^4, 0))","v":-54},{"$f":"IF(im2colAll_confW4!DB17:HW41 > 0, ROUNDDOWN(im2colAll_confW4!DB17:HW41/2^4, 0), ROUNDUP(im2colAll_confW4!DB17:HW41/2^4, 0))","v":173},{"$f":"IF(im2colAll_confW4!DC17:HX41 > 0, ROUNDDOWN(im2colAll_confW4!DC17:HX41/2^4, 0), ROUNDUP(im2colAll_confW4!DC17:HX41/2^4, 0))","v":-25},{"$f":"IF(im2colAll_confW4!DD17:HY41 > 0, ROUNDDOWN(im2colAll_confW4!DD17:HY41/2^4, 0), ROUNDUP(im2colAll_confW4!DD17:HY41/2^4, 0))","v":13},{"$f":"IF(im2colAll_confW4!DE17:HZ41 > 0, ROUNDDOWN(im2colAll_confW4!DE17:HZ41/2^4, 0), ROUNDUP(im2colAll_confW4!DE17:HZ41/2^4, 0))","v":-3},{"$f":"IF(im2colAll_confW4!DF17:IA41 > 0, ROUNDDOWN(im2colAll_confW4!DF17:IA41/2^4, 0), ROUNDUP(im2colAll_confW4!DF17:IA41/2^4, 0))","v":-53},{"$f":"IF(im2colAll_confW4!DG17:IB41 > 0, ROUNDDOWN(im2colAll_confW4!DG17:IB41/2^4, 0), ROUNDUP(im2colAll_confW4!DG17:IB41/2^4, 0))","v":-70},{"$f":"IF(im2colAll_confW4!DH17:IC41 > 0, ROUNDDOWN(im2colAll_confW4!DH17:IC41/2^4, 0), ROUNDUP(im2colAll_confW4!DH17:IC41/2^4, 0))","v":-50},{"$f":"IF(im2colAll_confW4!DI17:ID41 > 0, ROUNDDOWN(im2colAll_confW4!DI17:ID41/2^4, 0), ROUNDUP(im2colAll_confW4!DI17:ID41/2^4, 0))","v":-10},{"$f":"IF(im2colAll_confW4!DJ17:IE41 > 0, ROUNDDOWN(im2colAll_confW4!DJ17:IE41/2^4, 0), ROUNDUP(im2colAll_confW4!DJ17:IE41/2^4, 0))","v":-23},{"$f":"IF(im2colAll_confW4!DK17:IF41 > 0, ROUNDDOWN(im2colAll_confW4!DK17:IF41/2^4, 0), ROUNDUP(im2colAll_confW4!DK17:IF41/2^4, 0))","v":9},{"$f":"IF(im2colAll_confW4!DL17:IG41 > 0, ROUNDDOWN(im2colAll_confW4!DL17:IG41/2^4, 0), ROUNDUP(im2colAll_confW4!DL17:IG41/2^4, 0))","v":2},{"$f":"IF(im2colAll_confW4!DM17:IH41 > 0, ROUNDDOWN(im2colAll_confW4!DM17:IH41/2^4, 0), ROUNDUP(im2colAll_confW4!DM17:IH41/2^4, 0))","v":-22},{"$f":"IF(im2colAll_confW4!DN17:II41 > 0, ROUNDDOWN(im2colAll_confW4!DN17:II41/2^4, 0), ROUNDUP(im2colAll_confW4!DN17:II41/2^4, 0))","v":16},{"$f":"IF(im2colAll_confW4!DO17:IJ41 > 0, ROUNDDOWN(im2colAll_confW4!DO17:IJ41/2^4, 0), ROUNDUP(im2colAll_confW4!DO17:IJ41/2^4, 0))","v":33},{"$f":"IF(im2colAll_confW4!DP17:IK41 > 0, ROUNDDOWN(im2colAll_confW4!DP17:IK41/2^4, 0), ROUNDUP(im2colAll_confW4!DP17:IK41/2^4, 0))","v":-7},{"$f":"IF(im2colAll_confW4!DQ17:IL41 > 0, ROUNDDOWN(im2colAll_confW4!DQ17:IL41/2^4, 0), ROUNDUP(im2colAll_confW4!DQ17:IL41/2^4, 0))","v":91},{"$f":"IF(im2colAll_confW4!DR17:IM41 > 0, ROUNDDOWN(im2colAll_confW4!DR17:IM41/2^4, 0), ROUNDUP(im2colAll_confW4!DR17:IM41/2^4, 0))","v":-31},{"$f":"IF(im2colAll_confW4!DS17:IN41 > 0, ROUNDDOWN(im2colAll_confW4!DS17:IN41/2^4, 0), ROUNDUP(im2colAll_confW4!DS17:IN41/2^4, 0))","v":-14},{"$f":"IF(im2colAll_confW4!DT17:IO41 > 0, ROUNDDOWN(im2colAll_confW4!DT17:IO41/2^4, 0), ROUNDUP(im2colAll_confW4!DT17:IO41/2^4, 0))","v":1},{"$f":"IF(im2colAll_confW4!DU17:IP41 > 0, ROUNDDOWN(im2colAll_confW4!DU17:IP41/2^4, 0), ROUNDUP(im2colAll_confW4!DU17:IP41/2^4, 0))","v":-21},{"$f":"IF(im2colAll_confW4!DV17:IQ41 > 0, ROUNDDOWN(im2colAll_confW4!DV17:IQ41/2^4, 0), ROUNDUP(im2colAll_confW4!DV17:IQ41/2^4, 0))","v":-49}]
[{"$f":"IF(im2colAll_confW4!A18:DV42 > 0, ROUNDDOWN(im2colAll_confW4!A18:DV42/2^4, 0), ROUNDUP(im2colAll_confW4!A18:DV42/2^4, 0))","v":118},{"$f":"IF(im2colAll_confW4!B18:DW42 > 0, ROUNDDOWN(im2colAll_confW4!B18:DW42/2^4, 0), ROUNDUP(im2colAll_confW4!B18:DW42/2^4, 0))","v":2},{"$f":"IF(im2colAll_confW4!C18:DX42 > 0, ROUNDDOWN(im2colAll_confW4!C18:DX42/2^4, 0), ROUNDUP(im2colAll_confW4!C18:DX42/2^4, 0))","v":32},{"$f":"IF(im2colAll_confW4!D18:DY42 > 0, ROUNDDOWN(im2colAll_confW4!D18:DY42/2^4, 0), ROUNDUP(im2colAll_confW4!D18:DY42/2^4, 0))","v":7},{"$f":"IF(im2colAll_confW4!E18:DZ42 > 0, ROUNDDOWN(im2colAll_confW4!E18:DZ42/2^4, 0), ROUNDUP(im2colAll_confW4!E18:DZ42/2^4, 0))","v":-28},{"$f":"IF(im2colAll_confW4!F18:EA42 > 0, ROUNDDOWN(im2colAll_confW4!F18:EA42/2^4, 0), ROUNDUP(im2colAll_confW4!F18:EA42/2^4, 0))","v":-58},{"$f":"IF(im2colAll_confW4!G18:EB42 > 0, ROUNDDOWN(im2colAll_confW4!G18:EB42/2^4, 0), ROUNDUP(im2colAll_confW4!G18:EB42/2^4, 0))","v":-63},{"$f":"IF(im2colAll_confW4!H18:EC42 > 0, ROUNDDOWN(im2colAll_confW4!H18:EC42/2^4, 0), ROUNDUP(im2colAll_confW4!H18:EC42/2^4, 0))","v":-3},{"$f":"IF(im2colAll_confW4!I18:ED42 > 0, ROUNDDOWN(im2colAll_confW4!I18:ED42/2^4, 0), ROUNDUP(im2colAll_confW4!I18:ED42/2^4, 0))","v":-15},{"$f":"IF(im2colAll_confW4!J18:EE42 > 0, ROUNDDOWN(im2colAll_confW4!J18:EE42/2^4, 0), ROUNDUP(im2colAll_confW4!J18:EE42/2^4, 0))","v":-13},{"$f":"IF(im2colAll_confW4!K18:EF42 > 0, ROUNDDOWN(im2colAll_confW4!K18:EF42/2^4, 0), ROUNDUP(im2colAll_confW4!K18:EF42/2^4, 0))","v":20},{"$f":"IF(im2colAll_confW4!L18:EG42 > 0, ROUNDDOWN(im2colAll_confW4!L18:EG42/2^4, 0), ROUNDUP(im2colAll_confW4!L18:EG42/2^4, 0))","v":-27},{"$f":"IF(im2colAll_confW4!M18:EH42 > 0, ROUNDDOWN(im2colAll_confW4!M18:EH42/2^4, 0), ROUNDUP(im2colAll_confW4!M18:EH42/2^4, 0))","v":49},{"$f":"IF(im2colAll_confW4!N18:EI42 > 0, ROUNDDOWN(im2colAll_confW4!N18:EI42/2^4, 0), ROUNDUP(im2colAll_confW4!N18:EI42/2^4, 0))","v":104},{"$f":"IF(im2colAll_confW4!O18:EJ42 > 0, ROUNDDOWN(im2colAll_confW4!O18:EJ42/2^4, 0), ROUNDUP(im2colAll_confW4!O18:EJ42/2^4, 0))","v":1},{"$f":"IF(im2colAll_confW4!P18:EK42 > 0, ROUNDDOWN(im2colAll_confW4!P18:EK42/2^4, 0), ROUNDUP(im2colAll_confW4!P18:EK42/2^4, 0))","v":56},{"$f":"IF(im2colAll_confW4!Q18:EL42 > 0, ROUNDDOWN(im2colAll_confW4!Q18:EL42/2^4, 0), ROUNDUP(im2colAll_confW4!Q18:EL42/2^4, 0))","v":-61},{"$f":"IF(im2colAll_confW4!R18:EM42 > 0, ROUNDDOWN(im2colAll_confW4!R18:EM42/2^4, 0), ROUNDUP(im2colAll_confW4!R18:EM42/2^4, 0))","v":23},{"$f":"IF(im2colAll_confW4!S18:EN42 > 0, ROUNDDOWN(im2colAll_confW4!S18:EN42/2^4, 0), ROUNDUP(im2colAll_confW4!S18:EN42/2^4, 0))","v":4},{"$f":"IF(im2colAll_confW4!T18:EO42 > 0, ROUNDDOWN(im2colAll_confW4!T18:EO42/2^4, 0), ROUNDUP(im2colAll_confW4!T18:EO42/2^4, 0))","v":-5},{"$f":"IF(im2colAll_confW4!U18:EP42 > 0, ROUNDDOWN(im2colAll_confW4!U18:EP42/2^4, 0), ROUNDUP(im2colAll_confW4!U18:EP42/2^4, 0))","v":-88},{"$f":"IF(im2colAll_confW4!V18:EQ42 > 0, ROUNDDOWN(im2colAll_confW4!V18:EQ42/2^4, 0), ROUNDUP(im2colAll_confW4!V18:EQ42/2^4, 0))","v":79},{"$f":"IF(im2colAll_confW4!W18:ER42 > 0, ROUNDDOWN(im2colAll_confW4!W18:ER42/2^4, 0), ROUNDUP(im2colAll_confW4!W18:ER42/2^4, 0))","v":-11},{"$f":"IF(im2colAll_confW4!X18:ES42 > 0, ROUNDDOWN(im2colAll_confW4!X18:ES42/2^4, 0), ROUNDUP(im2colAll_confW4!X18:ES42/2^4, 0))","v":40},{"$f":"IF(im2colAll_confW4!Y18:ET42 > 0, ROUNDDOWN(im2colAll_confW4!Y18:ET42/2^4, 0), ROUNDUP(im2colAll_confW4!Y18:ET42/2^4, 0))","v":19},{"$f":"IF(im2colAll_confW4!Z18:EU42 > 0, ROUNDDOWN(im2colAll_confW4!Z18:EU42/2^4, 0), ROUNDUP(im2colAll_confW4!Z18:EU42/2^4, 0))","v":-24},{"$f":"IF(im2colAll_confW4!AA18:EV42 > 0, ROUNDDOWN(im2colAll_confW4!AA18:EV42/2^4, 0), ROUNDUP(im2colAll_confW4!AA18:EV42/2^4, 0))","v":-92},{"$f":"IF(im2colAll_confW4!AB18:EW42 > 0, ROUNDDOWN(im2colAll_confW4!AB18:EW42/2^4, 0), ROUNDUP(im2colAll_confW4!AB18:EW42/2^4, 0))","v":-62},{"$f":"IF(im2colAll_confW4!AC18:EX42 > 0, ROUNDDOWN(im2colAll_confW4!AC18:EX42/2^4, 0), ROUNDUP(im2colAll_confW4!AC18:EX42/2^4, 0))","v":21},{"$f":"IF(im2colAll_confW4!AD18:EY42 > 0, ROUNDDOWN(im2colAll_confW4!AD18:EY42/2^4, 0), ROUNDUP(im2colAll_confW4!AD18:EY42/2^4, 0))","v":-28},{"$f":"IF(im2colAll_confW4!AE18:EZ42 > 0, ROUNDDOWN(im2colAll_confW4!AE18:EZ42/2^4, 0), ROUNDUP(im2colAll_confW4!AE18:EZ42/2^4, 0))","v":0},{"$f":"IF(im2colAll_confW4!AF18:FA42 > 0, ROUNDDOWN(im2colAll_confW4!AF18:FA42/2^4, 0), ROUNDUP(im2colAll_confW4!AF18:FA42/2^4, 0))","v":27},{"$f":"IF(im2colAll_confW4!AG18:FB42 > 0, ROUNDDOWN(im2colAll_confW4!AG18:FB42/2^4, 0), ROUNDUP(im2colAll_confW4!AG18:FB42/2^4, 0))","v":-32},{"$f":"IF(im2colAll_confW4!AH18:FC42 > 0, ROUNDDOWN(im2colAll_confW4!AH18:FC42/2^4, 0), ROUNDUP(im2colAll_confW4!AH18:FC42/2^4, 0))","v":61},{"$f":"IF(im2colAll_confW4!AI18:FD42 > 0, ROUNDDOWN(im2colAll_confW4!AI18:FD42/2^4, 0), ROUNDUP(im2colAll_confW4!AI18:FD42/2^4, 0))","v":90},{"$f":"IF(im2colAll_confW4!AJ18:FE42 > 0, ROUNDDOWN(im2colAll_confW4!AJ18:FE42/2^4, 0), ROUNDUP(im2colAll_confW4!AJ18:FE42/2^4, 0))","v":0},{"$f":"IF(im2colAll_confW4!AK18:FF42 > 0, ROUNDDOWN(im2colAll_confW4!AK18:FF42/2^4, 0), ROUNDUP(im2colAll_confW4!AK18:FF42/2^4, 0))","v":66},{"$f":"IF(im2colAll_confW4!AL18:FG42 > 0, ROUNDDOWN(im2colAll_confW4!AL18:FG42/2^4, 0), ROUNDUP(im2colAll_confW4!AL18:FG42/2^4, 0))","v":-51},{"$f":"IF(im2colAll_confW4!AM18:FH42 > 0, ROUNDDOWN(im2colAll_confW4!AM18:FH42/2^4, 0), ROUNDUP(im2colAll_confW4!AM18:FH42/2^4, 0))","v":-7},{"$f":"IF(im2colAll_confW4!AN18:FI42 > 0, ROUNDDOWN(im2colAll_confW4!AN18:FI42/2^4, 0), ROUNDUP(im2colAll_confW4!AN18:FI42/2^4, 0))","v":9},{"$f":"IF(im2colAll_confW4!AO18:FJ42 > 0, ROUNDDOWN(im2colAll_confW4!AO18:FJ42/2^4, 0), ROUNDUP(im2colAll_confW4!AO18:FJ42/2^4, 0))","v":-12},{"$f":"IF(im2colAll_confW4!AP18:FK42 > 0, ROUNDDOWN(im2colAll_confW4!AP18:FK42/2^4, 0), ROUNDUP(im2colAll_confW4!AP18:FK42/2^4, 0))","v":-96},{"$f":"IF(im2colAll_confW4!AQ18:FL42 > 0, ROUNDDOWN(im2colAll_confW4!AQ18:FL42/2^4, 0), ROUNDUP(im2colAll_confW4!AQ18:FL42/2^4, 0))","v":145},{"$f":"IF(im2colAll_confW4!AR18:FM42 > 0, ROUNDDOWN(im2colAll_confW4!AR18:FM42/2^4, 0), ROUNDUP(im2colAll_confW4!AR18:FM42/2^4, 0))","v":-32},{"$f":"IF(im2colAll_confW4!AS18:FN42 > 0, ROUNDDOWN(im2colAll_confW4!AS18:FN42/2^4, 0), ROUNDUP(im2colAll_confW4!AS18:FN42/2^4, 0))","v":26},{"$f":"IF(im2colAll_confW4!AT18:FO42 > 0, ROUNDDOWN(im2colAll_confW4!AT18:FO42/2^4, 0), ROUNDUP(im2colAll_confW4!AT18:FO42/2^4, 0))","v":4},{"$f":"IF(im2colAll_confW4!AU18:FP42 > 0, ROUNDDOWN(im2colAll_confW4!AU18:FP42/2^4, 0), ROUNDUP(im2colAll_confW4!AU18:FP42/2^4, 0))","v":-17},{"$f":"IF(im2colAll_confW4!AV18:FQ42 > 0, ROUNDDOWN(im2colAll_confW4!AV18:FQ42/2^4, 0), ROUNDUP(im2colAll_confW4!AV18:FQ42/2^4, 0))","v":-65},{"$f":"IF(im2colAll_confW4!AW18:FR42 > 0, ROUNDDOWN(im2colAll_confW4!AW18:FR42/2^4, 0), ROUNDUP(im2colAll_confW4!AW18:FR42/2^4, 0))","v":-70},{"$f":"IF(im2colAll_confW4!AX18:FS42 > 0, ROUNDDOWN(im2colAll_confW4!AX18:FS42/2^4, 0), ROUNDUP(im2colAll_confW4!AX18:FS42/2^4, 0))","v":-18},{"$f":"IF(im2colAll_confW4!AY18:FT42 > 0, ROUNDDOWN(im2colAll_confW4!AY18:FT42/2^4, 0), ROUNDUP(im2colAll_confW4!AY18:FT42/2^4, 0))","v":-22},{"$f":"IF(im2colAll_confW4!AZ18:FU42 > 0, ROUNDDOWN(im2colAll_confW4!AZ18:FU42/2^4, 0), ROUNDUP(im2colAll_confW4!AZ18:FU42/2^4, 0))","v":-27},{"$f":"IF(im2colAll_confW4!BA18:FV42 > 0, ROUNDDOWN(im2colAll_confW4!BA18:FV42/2^4, 0), ROUNDUP(im2colAll_confW4!BA18:FV42/2^4, 0))","v":26},{"$f":"IF(im2colAll_confW4!BB18:FW42 > 0, ROUNDDOWN(im2colAll_confW4!BB18:FW42/2^4, 0), ROUNDUP(im2colAll_confW4!BB18:FW42/2^4, 0))","v":-22},{"$f":"IF(im2colAll_confW4!BC18:FX42 > 0, ROUNDDOWN(im2colAll_confW4!BC18:FX42/2^4, 0), ROUNDUP(im2colAll_confW4!BC18:FX42/2^4, 0))","v":48},{"$f":"IF(im2colAll_confW4!BD18:FY42 > 0, ROUNDDOWN(im2colAll_confW4!BD18:FY42/2^4, 0), ROUNDUP(im2colAll_confW4!BD18:FY42/2^4, 0))","v":89},{"$f":"IF(im2colAll_confW4!BE18:FZ42 > 0, ROUNDDOWN(im2colAll_confW4!BE18:FZ42/2^4, 0), ROUNDUP(im2colAll_confW4!BE18:FZ42/2^4, 0))","v":-19},{"$f":"IF(im2colAll_confW4!BF18:GA42 > 0, ROUNDDOWN(im2colAll_confW4!BF18:GA42/2^4, 0), ROUNDUP(im2colAll_confW4!BF18:GA42/2^4, 0))","v":39},{"$f":"IF(im2colAll_confW4!BG18:GB42 > 0, ROUNDDOWN(im2colAll_confW4!BG18:GB42/2^4, 0), ROUNDUP(im2colAll_confW4!BG18:GB42/2^4, 0))","v":-33},{"$f":"IF(im2colAll_confW4!BH18:GC42 > 0, ROUNDDOWN(im2colAll_confW4!BH18:GC42/2^4, 0), ROUNDUP(im2colAll_confW4!BH18:GC42/2^4, 0))","v":21},{"$f":"IF(im2colAll_confW4!BI18:GD42 > 0, ROUNDDOWN(im2colAll_confW4!BI18:GD42/2^4, 0), ROUNDUP(im2colAll_confW4!BI18:GD42/2^4, 0))","v":14},{"$f":"IF(im2colAll_confW4!BJ18:GE42 > 0, ROUNDDOWN(im2colAll_confW4!BJ18:GE42/2^4, 0), ROUNDUP(im2colAll_confW4!BJ18:GE42/2^4, 0))","v":-21},{"$f":"IF(im2colAll_confW4!BK18:GF42 > 0, ROUNDDOWN(im2colAll_confW4!BK18:GF42/2^4, 0), ROUNDUP(im2colAll_confW4!BK18:GF42/2^4, 0))","v":-67},{"$f":"IF(im2colAll_confW4!BL18:GG42 > 0, ROUNDDOWN(im2colAll_confW4!BL18:GG42/2^4, 0), ROUNDUP(im2colAll_confW4!BL18:GG42/2^4, 0))","v":148},{"$f":"IF(im2colAll_confW4!BM18:GH42 > 0, ROUNDDOWN(im2colAll_confW4!BM18:GH42/2^4, 0), ROUNDUP(im2colAll_confW4!BM18:GH42/2^4, 0))","v":-24},{"$f":"IF(im2colAll_confW4!BN18:GI42 > 0, ROUNDDOWN(im2colAll_confW4!BN18:GI42/2^4, 0), ROUNDUP(im2colAll_confW4!BN18:GI42/2^4, 0))","v":36},{"$f":"IF(im2colAll_confW4!BO18:GJ42 > 0, ROUNDDOWN(im2colAll_confW4!BO18:GJ42/2^4, 0), ROUNDUP(im2colAll_confW4!BO18:GJ42/2^4, 0))","v":-1},{"$f":"IF(im2colAll_confW4!BP18:GK42 > 0, ROUNDDOWN(im2colAll_confW4!BP18:GK42/2^4, 0), ROUNDUP(im2colAll_confW4!BP18:GK42/2^4, 0))","v":-47},{"$f":"IF(im2colAll_confW4!BQ18:GL42 > 0, ROUNDDOWN(im2colAll_confW4!BQ18:GL42/2^4, 0), ROUNDUP(im2colAll_confW4!BQ18:GL42/2^4, 0))","v":-77},{"$f":"IF(im2colAll_confW4!BR18:GM42 > 0, ROUNDDOWN(im2colAll_confW4!BR18:GM42/2^4, 0), ROUNDUP(im2colAll_confW4!BR18:GM42/2^4, 0))","v":-63},{"$f":"IF(im2colAll_confW4!BS18:GN42 > 0, ROUNDDOWN(im2colAll_confW4!BS18:GN42/2^4, 0), ROUNDUP(im2colAll_confW4!BS18:GN42/2^4, 0))","v":-21},{"$f":"IF(im2colAll_confW4!BT18:GO42 > 0, ROUNDDOWN(im2colAll_confW4!BT18:GO42/2^4, 0), ROUNDUP(im2colAll_confW4!BT18:GO42/2^4, 0))","v":-12},{"$f":"IF(im2colAll_confW4!BU18:GP42 > 0, ROUNDDOWN(im2colAll_confW4!BU18:GP42/2^4, 0), ROUNDUP(im2colAll_confW4!BU18:GP42/2^4, 0))","v":-14},{"$f":"IF(im2colAll_confW4!BV18:GQ42 > 0, ROUNDDOWN(im2colAll_confW4!BV18:GQ42/2^4, 0), ROUNDUP(im2colAll_confW4!BV18:GQ42/2^4, 0))","v":19},{"$f":"IF(im2colAll_confW4!BW18:GR42 > 0, ROUNDDOWN(im2colAll_confW4!BW18:GR42/2^4, 0), ROUNDUP(im2colAll_confW4!BW18:GR42/2^4, 0))","v":-38},{"$f":"IF(im2colAll_confW4!BX18:GS42 > 0, ROUNDDOWN(im2colAll_confW4!BX18:GS42/2^4, 0), ROUNDUP(im2colAll_confW4!BX18:GS42/2^4, 0))","v":45},{"$f":"IF(im2colAll_confW4!BY18:GT42 > 0, ROUNDDOWN(im2colAll_confW4!BY18:GT42/2^4, 0), ROUNDUP(im2colAll_confW4!BY18:GT42/2^4, 0))","v":78},{"$f":"IF(im2colAll_confW4!BZ18:GU42 > 0, ROUNDDOWN(im2colAll_confW4!BZ18:GU42/2^4, 0), ROUNDUP(im2colAll_confW4!BZ18:GU42/2^4, 0))","v":-7},{"$f":"IF(im2colAll_confW4!CA18:GV42 > 0, ROUNDDOWN(im2colAll_confW4!CA18:GV42/2^4, 0), ROUNDUP(im2colAll_confW4!CA18:GV42/2^4, 0))","v":67},{"$f":"IF(im2colAll_confW4!CB18:GW42 > 0, ROUNDDOWN(im2colAll_confW4!CB18:GW42/2^4, 0), ROUNDUP(im2colAll_confW4!CB18:GW42/2^4, 0))","v":-54},{"$f":"IF(im2colAll_confW4!CC18:GX42 > 0, ROUNDDOWN(im2colAll_confW4!CC18:GX42/2^4, 0), ROUNDUP(im2colAll_confW4!CC18:GX42/2^4, 0))","v":1},{"$f":"IF(im2colAll_confW4!CD18:GY42 > 0, ROUNDDOWN(im2colAll_confW4!CD18:GY42/2^4, 0), ROUNDUP(im2colAll_confW4!CD18:GY42/2^4, 0))","v":6},{"$f":"IF(im2colAll_confW4!CE18:GZ42 > 0, ROUNDDOWN(im2colAll_confW4!CE18:GZ42/2^4, 0), ROUNDUP(im2colAll_confW4!CE18:GZ42/2^4, 0))","v":-19},{"$f":"IF(im2colAll_confW4!CF18:HA42 > 0, ROUNDDOWN(im2colAll_confW4!CF18:HA42/2^4, 0), ROUNDUP(im2colAll_confW4!CF18:HA42/2^4, 0))","v":-74},{"$f":"IF(im2colAll_confW4!CG18:HB42 > 0, ROUNDDOWN(im2colAll_confW4!CG18:HB42/2^4, 0), ROUNDUP(im2colAll_confW4!CG18:HB42/2^4, 0))","v":177},{"$f":"IF(im2colAll_confW4!CH18:HC42 > 0, ROUNDDOWN(im2colAll_confW4!CH18:HC42/2^4, 0), ROUNDUP(im2colAll_confW4!CH18:HC42/2^4, 0))","v":-33},{"$f":"IF(im2colAll_confW4!CI18:HD42 > 0, ROUNDDOWN(im2colAll_confW4!CI18:HD42/2^4, 0), ROUNDUP(im2colAll_confW4!CI18:HD42/2^4, 0))","v":29},{"$f":"IF(im2colAll_confW4!CJ18:HE42 > 0, ROUNDDOWN(im2colAll_confW4!CJ18:HE42/2^4, 0), ROUNDUP(im2colAll_confW4!CJ18:HE42/2^4, 0))","v":-3},{"$f":"IF(im2colAll_confW4!CK18:HF42 > 0, ROUNDDOWN(im2colAll_confW4!CK18:HF42/2^4, 0), ROUNDUP(im2colAll_confW4!CK18:HF42/2^4, 0))","v":-25},{"$f":"IF(im2colAll_confW4!CL18:HG42 > 0, ROUNDDOWN(im2colAll_confW4!CL18:HG42/2^4, 0), ROUNDUP(im2colAll_confW4!CL18:HG42/2^4, 0))","v":-50},{"$f":"IF(im2colAll_confW4!CM18:HH42 > 0, ROUNDDOWN(im2colAll_confW4!CM18:HH42/2^4, 0), ROUNDUP(im2colAll_confW4!CM18:HH42/2^4, 0))","v":-69},{"$f":"IF(im2colAll_confW4!CN18:HI42 > 0, ROUNDDOWN(im2colAll_confW4!CN18:HI42/2^4, 0), ROUNDUP(im2colAll_confW4!CN18:HI42/2^4, 0))","v":-19},{"$f":"IF(im2colAll_confW4!CO18:HJ42 > 0, ROUNDDOWN(im2colAll_confW4!CO18:HJ42/2^4, 0), ROUNDUP(im2colAll_confW4!CO18:HJ42/2^4, 0))","v":-17},{"$f":"IF(im2colAll_confW4!CP18:HK42 > 0, ROUNDDOWN(im2colAll_confW4!CP18:HK42/2^4, 0), ROUNDUP(im2colAll_confW4!CP18:HK42/2^4, 0))","v":-10},{"$f":"IF(im2colAll_confW4!CQ18:HL42 > 0, ROUNDDOWN(im2colAll_confW4!CQ18:HL42/2^4, 0), ROUNDUP(im2colAll_confW4!CQ18:HL42/2^4, 0))","v":29},{"$f":"IF(im2colAll_confW4!CR18:HM42 > 0, ROUNDDOWN(im2colAll_confW4!CR18:HM42/2^4, 0), ROUNDUP(im2colAll_confW4!CR18:HM42/2^4, 0))","v":-5},{"$f":"IF(im2colAll_confW4!CS18:HN42 > 0, ROUNDDOWN(im2colAll_confW4!CS18:HN42/2^4, 0), ROUNDUP(im2colAll_confW4!CS18:HN42/2^4, 0))","v":36},{"$f":"IF(im2colAll_confW4!CT18:HO42 > 0, ROUNDDOWN(im2colAll_confW4!CT18:HO42/2^4, 0), ROUNDUP(im2colAll_confW4!CT18:HO42/2^4, 0))","v":77},{"$f":"IF(im2colAll_confW4!CU18:HP42 > 0, ROUNDDOWN(im2colAll_confW4!CU18:HP42/2^4, 0), ROUNDUP(im2colAll_confW4!CU18:HP42/2^4, 0))","v":1},{"$f":"IF(im2colAll_confW4!CV18:HQ42 > 0, ROUNDDOWN(im2colAll_confW4!CV18:HQ42/2^4, 0), ROUNDUP(im2colAll_confW4!CV18:HQ42/2^4, 0))","v":24},{"$f":"IF(im2colAll_confW4!CW18:HR42 > 0, ROUNDDOWN(im2colAll_confW4!CW18:HR42/2^4, 0), ROUNDUP(im2colAll_confW4!CW18:HR42/2^4, 0))","v":-13},{"$f":"IF(im2colAll_confW4!CX18:HS42 > 0, ROUNDDOWN(im2colAll_confW4!CX18:HS42/2^4, 0), ROUNDUP(im2colAll_confW4!CX18:HS42/2^4, 0))","v":12},{"$f":"IF(im2colAll_confW4!CY18:HT42 > 0, ROUNDDOWN(im2colAll_confW4!CY18:HT42/2^4, 0), ROUNDUP(im2colAll_confW4!CY18:HT42/2^4, 0))","v":10},{"$f":"IF(im2colAll_confW4!CZ18:HU42 > 0, ROUNDDOWN(im2colAll_confW4!CZ18:HU42/2^4, 0), ROUNDUP(im2colAll_confW4!CZ18:HU42/2^4, 0))","v":-2},{"$f":"IF(im2colAll_confW4!DA18:HV42 > 0, ROUNDDOWN(im2colAll_confW4!DA18:HV42/2^4, 0), ROUNDUP(im2colAll_confW4!DA18:HV42/2^4, 0))","v":-55},{"$f":"IF(im2colAll_confW4!DB18:HW42 > 0, ROUNDDOWN(im2colAll_confW4!DB18:HW42/2^4, 0), ROUNDUP(im2colAll_confW4!DB18:HW42/2^4, 0))","v":175},{"$f":"IF(im2colAll_confW4!DC18:HX42 > 0, ROUNDDOWN(im2colAll_confW4!DC18:HX42/2^4, 0), ROUNDUP(im2colAll_confW4!DC18:HX42/2^4, 0))","v":-5},{"$f":"IF(im2colAll_confW4!DD18:HY42 > 0, ROUNDDOWN(im2colAll_confW4!DD18:HY42/2^4, 0), ROUNDUP(im2colAll_confW4!DD18:HY42/2^4, 0))","v":10},{"$f":"IF(im2colAll_confW4!DE18:HZ42 > 0, ROUNDDOWN(im2colAll_confW4!DE18:HZ42/2^4, 0), ROUNDUP(im2colAll_confW4!DE18:HZ42/2^4, 0))","v":-12},{"$f":"IF(im2colAll_confW4!DF18:IA42 > 0, ROUNDDOWN(im2colAll_confW4!DF18:IA42/2^4, 0), ROUNDUP(im2colAll_confW4!DF18:IA42/2^4, 0))","v":-44},{"$f":"IF(im2colAll_confW4!DG18:IB42 > 0, ROUNDDOWN(im2colAll_confW4!DG18:IB42/2^4, 0), ROUNDUP(im2colAll_confW4!DG18:IB42/2^4, 0))","v":-75},{"$f":"IF(im2colAll_confW4!DH18:IC42 > 0, ROUNDDOWN(im2colAll_confW4!DH18:IC42/2^4, 0), ROUNDUP(im2colAll_confW4!DH18:IC42/2^4, 0))","v":-65},{"$f":"IF(im2colAll_confW4!DI18:ID42 > 0, ROUNDDOWN(im2colAll_confW4!DI18:ID42/2^4, 0), ROUNDUP(im2colAll_confW4!DI18:ID42/2^4, 0))","v":-17},{"$f":"IF(im2colAll_confW4!DJ18:IE42 > 0, ROUNDDOWN(im2colAll_confW4!DJ18:IE42/2^4, 0), ROUNDUP(im2colAll_confW4!DJ18:IE42/2^4, 0))","v":-22},{"$f":"IF(im2colAll_confW4!DK18:IF42 > 0, ROUNDDOWN(im2colAll_confW4!DK18:IF42/2^4, 0), ROUNDUP(im2colAll_confW4!DK18:IF42/2^4, 0))","v":11},{"$f":"IF(im2colAll_confW4!DL18:IG42 > 0, ROUNDDOWN(im2colAll_confW4!DL18:IG42/2^4, 0), ROUNDUP(im2colAll_confW4!DL18:IG42/2^4, 0))","v":15},{"$f":"IF(im2colAll_confW4!DM18:IH42 > 0, ROUNDDOWN(im2colAll_confW4!DM18:IH42/2^4, 0), ROUNDUP(im2colAll_confW4!DM18:IH42/2^4, 0))","v":-15},{"$f":"IF(im2colAll_confW4!DN18:II42 > 0, ROUNDDOWN(im2colAll_confW4!DN18:II42/2^4, 0), ROUNDUP(im2colAll_confW4!DN18:II42/2^4, 0))","v":28},{"$f":"IF(im2colAll_confW4!DO18:IJ42 > 0, ROUNDDOWN(im2colAll_confW4!DO18:IJ42/2^4, 0), ROUNDUP(im2colAll_confW4!DO18:IJ42/2^4, 0))","v":58},{"$f":"IF(im2colAll_confW4!DP18:IK42 > 0, ROUNDDOWN(im2colAll_confW4!DP18:IK42/2^4, 0), ROUNDUP(im2colAll_confW4!DP18:IK42/2^4, 0))","v":0},{"$f":"IF(im2colAll_confW4!DQ18:IL42 > 0, ROUNDDOWN(im2colAll_confW4!DQ18:IL42/2^4, 0), ROUNDUP(im2colAll_confW4!DQ18:IL42/2^4, 0))","v":88},{"$f":"IF(im2colAll_confW4!DR18:IM42 > 0, ROUNDDOWN(im2colAll_confW4!DR18:IM42/2^4, 0), ROUNDUP(im2colAll_confW4!DR18:IM42/2^4, 0))","v":-47},{"$f":"IF(im2colAll_confW4!DS18:IN42 > 0, ROUNDDOWN(im2colAll_confW4!DS18:IN42/2^4, 0), ROUNDUP(im2colAll_confW4!DS18:IN42/2^4, 0))","v":-16},{"$f":"IF(im2colAll_confW4!DT18:IO42 > 0, ROUNDDOWN(im2colAll_confW4!DT18:IO42/2^4, 0), ROUNDUP(im2colAll_confW4!DT18:IO42/2^4, 0))","v":-4},{"$f":"IF(im2colAll_confW4!DU18:IP42 > 0, ROUNDDOWN(im2colAll_confW4!DU18:IP42/2^4, 0), ROUNDUP(im2colAll_confW4!DU18:IP42/2^4, 0))","v":-13},{"$f":"IF(im2colAll_confW4!DV18:IQ42 > 0, ROUNDDOWN(im2colAll_confW4!DV18:IQ42/2^4, 0), ROUNDUP(im2colAll_confW4!DV18:IQ42/2^4, 0))","v":-62}]
[{"$f":"IF(im2colAll_confW4!A19:DV43 > 0, ROUNDDOWN(im2colAll_confW4!A19:DV43/2^4, 0), ROUNDUP(im2colAll_confW4!A19:DV43/2^4, 0))","v":194},{"$f":"IF(im2colAll_confW4!B19:DW43 > 0, ROUNDDOWN(im2colAll_confW4!B19:DW43/2^4, 0), ROUNDUP(im2colAll_confW4!B19:DW43/2^4, 0))","v":-4},{"$f":"IF(im2colAll_confW4!C19:DX43 > 0, ROUNDDOWN(im2colAll_confW4!C19:DX43/2^4, 0), ROUNDUP(im2colAll_confW4!C19:DX43/2^4, 0))","v":24},{"$f":"IF(im2colAll_confW4!D19:DY43 > 0, ROUNDDOWN(im2colAll_confW4!D19:DY43/2^4, 0), ROUNDUP(im2colAll_confW4!D19:DY43/2^4, 0))","v":-15},{"$f":"IF(im2colAll_confW4!E19:DZ43 > 0, ROUNDDOWN(im2colAll_confW4!E19:DZ43/2^4, 0), ROUNDUP(im2colAll_confW4!E19:DZ43/2^4, 0))","v":-38},{"$f":"IF(im2colAll_confW4!F19:EA43 > 0, ROUNDDOWN(im2colAll_confW4!F19:EA43/2^4, 0), ROUNDUP(im2colAll_confW4!F19:EA43/2^4, 0))","v":-64},{"$f":"IF(im2colAll_confW4!G19:EB43 > 0, ROUNDDOWN(im2colAll_confW4!G19:EB43/2^4, 0), ROUNDUP(im2colAll_confW4!G19:EB43/2^4, 0))","v":-82},{"$f":"IF(im2colAll_confW4!H19:EC43 > 0, ROUNDDOWN(im2colAll_confW4!H19:EC43/2^4, 0), ROUNDUP(im2colAll_confW4!H19:EC43/2^4, 0))","v":-30},{"$f":"IF(im2colAll_confW4!I19:ED43 > 0, ROUNDDOWN(im2colAll_confW4!I19:ED43/2^4, 0), ROUNDUP(im2colAll_confW4!I19:ED43/2^4, 0))","v":-31},{"$f":"IF(im2colAll_confW4!J19:EE43 > 0, ROUNDDOWN(im2colAll_confW4!J19:EE43/2^4, 0), ROUNDUP(im2colAll_confW4!J19:EE43/2^4, 0))","v":-2},{"$f":"IF(im2colAll_confW4!K19:EF43 > 0, ROUNDDOWN(im2colAll_confW4!K19:EF43/2^4, 0), ROUNDUP(im2colAll_confW4!K19:EF43/2^4, 0))","v":22},{"$f":"IF(im2colAll_confW4!L19:EG43 > 0, ROUNDDOWN(im2colAll_confW4!L19:EG43/2^4, 0), ROUNDUP(im2colAll_confW4!L19:EG43/2^4, 0))","v":-10},{"$f":"IF(im2colAll_confW4!M19:EH43 > 0, ROUNDDOWN(im2colAll_confW4!M19:EH43/2^4, 0), ROUNDUP(im2colAll_confW4!M19:EH43/2^4, 0))","v":45},{"$f":"IF(im2colAll_confW4!N19:EI43 > 0, ROUNDDOWN(im2colAll_confW4!N19:EI43/2^4, 0), ROUNDUP(im2colAll_confW4!N19:EI43/2^4, 0))","v":66},{"$f":"IF(im2colAll_confW4!O19:EJ43 > 0, ROUNDDOWN(im2colAll_confW4!O19:EJ43/2^4, 0), ROUNDUP(im2colAll_confW4!O19:EJ43/2^4, 0))","v":-16},{"$f":"IF(im2colAll_confW4!P19:EK43 > 0, ROUNDDOWN(im2colAll_confW4!P19:EK43/2^4, 0), ROUNDUP(im2colAll_confW4!P19:EK43/2^4, 0))","v":59},{"$f":"IF(im2colAll_confW4!Q19:EL43 > 0, ROUNDDOWN(im2colAll_confW4!Q19:EL43/2^4, 0), ROUNDUP(im2colAll_confW4!Q19:EL43/2^4, 0))","v":-38},{"$f":"IF(im2colAll_confW4!R19:EM43 > 0, ROUNDDOWN(im2colAll_confW4!R19:EM43/2^4, 0), ROUNDUP(im2colAll_confW4!R19:EM43/2^4, 0))","v":9},{"$f":"IF(im2colAll_confW4!S19:EN43 > 0, ROUNDDOWN(im2colAll_confW4!S19:EN43/2^4, 0), ROUNDUP(im2colAll_confW4!S19:EN43/2^4, 0))","v":3},{"$f":"IF(im2colAll_confW4!T19:EO43 > 0, ROUNDDOWN(im2colAll_confW4!T19:EO43/2^4, 0), ROUNDUP(im2colAll_confW4!T19:EO43/2^4, 0))","v":-21},{"$f":"IF(im2colAll_confW4!U19:EP43 > 0, ROUNDDOWN(im2colAll_confW4!U19:EP43/2^4, 0), ROUNDUP(im2colAll_confW4!U19:EP43/2^4, 0))","v":-101},{"$f":"IF(im2colAll_confW4!V19:EQ43 > 0, ROUNDDOWN(im2colAll_confW4!V19:EQ43/2^4, 0), ROUNDUP(im2colAll_confW4!V19:EQ43/2^4, 0))","v":160},{"$f":"IF(im2colAll_confW4!W19:ER43 > 0, ROUNDDOWN(im2colAll_confW4!W19:ER43/2^4, 0), ROUNDUP(im2colAll_confW4!W19:ER43/2^4, 0))","v":-32},{"$f":"IF(im2colAll_confW4!X19:ES43 > 0, ROUNDDOWN(im2colAll_confW4!X19:ES43/2^4, 0), ROUNDUP(im2colAll_confW4!X19:ES43/2^4, 0))","v":26},{"$f":"IF(im2colAll_confW4!Y19:ET43 > 0, ROUNDDOWN(im2colAll_confW4!Y19:ET43/2^4, 0), ROUNDUP(im2colAll_confW4!Y19:ET43/2^4, 0))","v":-3},{"$f":"IF(im2colAll_confW4!Z19:EU43 > 0, ROUNDDOWN(im2colAll_confW4!Z19:EU43/2^4, 0), ROUNDUP(im2colAll_confW4!Z19:EU43/2^4, 0))","v":-27},{"$f":"IF(im2colAll_confW4!AA19:EV43 > 0, ROUNDDOWN(im2colAll_confW4!AA19:EV43/2^4, 0), ROUNDUP(im2colAll_confW4!AA19:EV43/2^4, 0))","v":-85},{"$f":"IF(im2colAll_confW4!AB19:EW43 > 0, ROUNDDOWN(im2colAll_confW4!AB19:EW43/2^4, 0), ROUNDUP(im2colAll_confW4!AB19:EW43/2^4, 0))","v":-88},{"$f":"IF(im2colAll_confW4!AC19:EX43 > 0, ROUNDDOWN(im2colAll_confW4!AC19:EX43/2^4, 0), ROUNDUP(im2colAll_confW4!AC19:EX43/2^4, 0))","v":-5},{"$f":"IF(im2colAll_confW4!AD19:EY43 > 0, ROUNDDOWN(im2colAll_confW4!AD19:EY43/2^4, 0), ROUNDUP(im2colAll_confW4!AD19:EY43/2^4, 0))","v":-41},{"$f":"IF(im2colAll_confW4!AE19:EZ43 > 0, ROUNDDOWN(im2colAll_confW4!AE19:EZ43/2^4, 0), ROUNDUP(im2colAll_confW4!AE19:EZ43/2^4, 0))","v":-8},{"$f":"IF(im2colAll_confW4!AF19:FA43 > 0, ROUNDDOWN(im2colAll_confW4!AF19:FA43/2^4, 0), ROUNDUP(im2colAll_confW4!AF19:FA43/2^4, 0))","v":8},{"$f":"IF(im2colAll_confW4!AG19:FB43 > 0, ROUNDDOWN(im2colAll_confW4!AG19:FB43/2^4, 0), ROUNDUP(im2colAll_confW4!AG19:FB43/2^4, 0))","v":-19},{"$f":"IF(im2colAll_confW4!AH19:FC43 > 0, ROUNDDOWN(im2colAll_confW4!AH19:FC43/2^4, 0), ROUNDUP(im2colAll_confW4!AH19:FC43/2^4, 0))","v":37},{"$f":"IF(im2colAll_confW4!AI19:FD43 > 0, ROUNDDOWN(im2colAll_confW4!AI19:FD43/2^4, 0), ROUNDUP(im2colAll_confW4!AI19:FD43/2^4, 0))","v":62},{"$f":"IF(im2colAll_confW4!AJ19:FE43 > 0, ROUNDDOWN(im2colAll_confW4!AJ19:FE43/2^4, 0), ROUNDUP(im2colAll_confW4!AJ19:FE43/2^4, 0))","v":-13},{"$f":"IF(im2colAll_confW4!AK19:FF43 > 0, ROUNDDOWN(im2colAll_confW4!AK19:FF43/2^4, 0), ROUNDUP(im2colAll_confW4!AK19:FF43/2^4, 0))","v":61},{"$f":"IF(im2colAll_confW4!AL19:FG43 > 0, ROUNDDOWN(im2colAll_confW4!AL19:FG43/2^4, 0), ROUNDUP(im2colAll_confW4!AL19:FG43/2^4, 0))","v":-21},{"$f":"IF(im2colAll_confW4!AM19:FH43 > 0, ROUNDDOWN(im2colAll_confW4!AM19:FH43/2^4, 0), ROUNDUP(im2colAll_confW4!AM19:FH43/2^4, 0))","v":-4},{"$f":"IF(im2colAll_confW4!AN19:FI43 > 0, ROUNDDOWN(im2colAll_confW4!AN19:FI43/2^4, 0), ROUNDUP(im2colAll_confW4!AN19:FI43/2^4, 0))","v":11},{"$f":"IF(im2colAll_confW4!AO19:FJ43 > 0, ROUNDDOWN(im2colAll_confW4!AO19:FJ43/2^4, 0), ROUNDUP(im2colAll_confW4!AO19:FJ43/2^4, 0))","v":-18},{"$f":"IF(im2colAll_confW4!AP19:FK43 > 0, ROUNDDOWN(im2colAll_confW4!AP19:FK43/2^4, 0), ROUNDUP(im2colAll_confW4!AP19:FK43/2^4, 0))","v":-86},{"$f":"IF(im2colAll_confW4!AQ19:FL43 > 0, ROUNDDOWN(im2colAll_confW4!AQ19:FL43/2^4, 0), ROUNDUP(im2colAll_confW4!AQ19:FL43/2^4, 0))","v":191},{"$f":"IF(im2colAll_confW4!AR19:FM43 > 0, ROUNDDOWN(im2colAll_confW4!AR19:FM43/2^4, 0), ROUNDUP(im2colAll_confW4!AR19:FM43/2^4, 0))","v":-45},{"$f":"IF(im2colAll_confW4!AS19:FN43 > 0, ROUNDDOWN(im2colAll_confW4!AS19:FN43/2^4, 0), ROUNDUP(im2colAll_confW4!AS19:FN43/2^4, 0))","v":5},{"$f":"IF(im2colAll_confW4!AT19:FO43 > 0, ROUNDDOWN(im2colAll_confW4!AT19:FO43/2^4, 0), ROUNDUP(im2colAll_confW4!AT19:FO43/2^4, 0))","v":-2},{"$f":"IF(im2colAll_confW4!AU19:FP43 > 0, ROUNDDOWN(im2colAll_confW4!AU19:FP43/2^4, 0), ROUNDUP(im2colAll_confW4!AU19:FP43/2^4, 0))","v":-27},{"$f":"IF(im2colAll_confW4!AV19:FQ43 > 0, ROUNDDOWN(im2colAll_confW4!AV19:FQ43/2^4, 0), ROUNDUP(im2colAll_confW4!AV19:FQ43/2^4, 0))","v":-55},{"$f":"IF(im2colAll_confW4!AW19:FR43 > 0, ROUNDDOWN(im2colAll_confW4!AW19:FR43/2^4, 0), ROUNDUP(im2colAll_confW4!AW19:FR43/2^4, 0))","v":-55},{"$f":"IF(im2colAll_confW4!AX19:FS43 > 0, ROUNDDOWN(im2colAll_confW4!AX19:FS43/2^4, 0), ROUNDUP(im2colAll_confW4!AX19:FS43/2^4, 0))","v":-46},{"$f":"IF(im2colAll_confW4!AY19:FT43 > 0, ROUNDDOWN(im2colAll_confW4!AY19:FT43/2^4, 0), ROUNDUP(im2colAll_confW4!AY19:FT43/2^4, 0))","v":-36},{"$f":"IF(im2colAll_confW4!AZ19:FU43 > 0, ROUNDDOWN(im2colAll_confW4!AZ19:FU43/2^4, 0), ROUNDUP(im2colAll_confW4!AZ19:FU43/2^4, 0))","v":-14},{"$f":"IF(im2colAll_confW4!BA19:FV43 > 0, ROUNDDOWN(im2colAll_confW4!BA19:FV43/2^4, 0), ROUNDUP(im2colAll_confW4!BA19:FV43/2^4, 0))","v":7},{"$f":"IF(im2colAll_confW4!BB19:FW43 > 0, ROUNDDOWN(im2colAll_confW4!BB19:FW43/2^4, 0), ROUNDUP(im2colAll_confW4!BB19:FW43/2^4, 0))","v":-11},{"$f":"IF(im2colAll_confW4!BC19:FX43 > 0, ROUNDDOWN(im2colAll_confW4!BC19:FX43/2^4, 0), ROUNDUP(im2colAll_confW4!BC19:FX43/2^4, 0))","v":42},{"$f":"IF(im2colAll_confW4!BD19:FY43 > 0, ROUNDDOWN(im2colAll_confW4!BD19:FY43/2^4, 0), ROUNDUP(im2colAll_confW4!BD19:FY43/2^4, 0))","v":65},{"$f":"IF(im2colAll_confW4!BE19:FZ43 > 0, ROUNDDOWN(im2colAll_confW4!BE19:FZ43/2^4, 0), ROUNDUP(im2colAll_confW4!BE19:FZ43/2^4, 0))","v":-5},{"$f":"IF(im2colAll_confW4!BF19:GA43 > 0, ROUNDDOWN(im2colAll_confW4!BF19:GA43/2^4, 0), ROUNDUP(im2colAll_confW4!BF19:GA43/2^4, 0))","v":45},{"$f":"IF(im2colAll_confW4!BG19:GB43 > 0, ROUNDDOWN(im2colAll_confW4!BG19:GB43/2^4, 0), ROUNDUP(im2colAll_confW4!BG19:GB43/2^4, 0))","v":-14},{"$f":"IF(im2colAll_confW4!BH19:GC43 > 0, ROUNDDOWN(im2colAll_confW4!BH19:GC43/2^4, 0), ROUNDUP(im2colAll_confW4!BH19:GC43/2^4, 0))","v":11},{"$f":"IF(im2colAll_confW4!BI19:GD43 > 0, ROUNDDOWN(im2colAll_confW4!BI19:GD43/2^4, 0), ROUNDUP(im2colAll_confW4!BI19:GD43/2^4, 0))","v":10},{"$f":"IF(im2colAll_confW4!BJ19:GE43 > 0, ROUNDDOWN(im2colAll_confW4!BJ19:GE43/2^4, 0), ROUNDUP(im2colAll_confW4!BJ19:GE43/2^4, 0))","v":-9},{"$f":"IF(im2colAll_confW4!BK19:GF43 > 0, ROUNDDOWN(im2colAll_confW4!BK19:GF43/2^4, 0), ROUNDUP(im2colAll_confW4!BK19:GF43/2^4, 0))","v":-61},{"$f":"IF(im2colAll_confW4!BL19:GG43 > 0, ROUNDDOWN(im2colAll_confW4!BL19:GG43/2^4, 0), ROUNDUP(im2colAll_confW4!BL19:GG43/2^4, 0))","v":193},{"$f":"IF(im2colAll_confW4!BM19:GH43 > 0, ROUNDDOWN(im2colAll_confW4!BM19:GH43/2^4, 0), ROUNDUP(im2colAll_confW4!BM19:GH43/2^4, 0))","v":-25},{"$f":"IF(im2colAll_confW4!BN19:GI43 > 0, ROUNDDOWN(im2colAll_confW4!BN19:GI43/2^4, 0), ROUNDUP(im2colAll_confW4!BN19:GI43/2^4, 0))","v":14},{"$f":"IF(im2colAll_confW4!BO19:GJ43 > 0, ROUNDDOWN(im2colAll_confW4!BO19:GJ43/2^4, 0), ROUNDUP(im2colAll_confW4!BO19:GJ43/2^4, 0))","v":-7},{"$f":"IF(im2colAll_confW4!BP19:GK43 > 0, ROUNDDOWN(im2colAll_confW4!BP19:GK43/2^4, 0), ROUNDUP(im2colAll_confW4!BP19:GK43/2^4, 0))","v":-56},{"$f":"IF(im2colAll_confW4!BQ19:GL43 > 0, ROUNDDOWN(im2colAll_confW4!BQ19:GL43/2^4, 0), ROUNDUP(im2colAll_confW4!BQ19:GL43/2^4, 0))","v":-53},{"$f":"IF(im2colAll_confW4!BR19:GM43 > 0, ROUNDDOWN(im2colAll_confW4!BR19:GM43/2^4, 0), ROUNDUP(im2colAll_confW4!BR19:GM43/2^4, 0))","v":-76},{"$f":"IF(im2colAll_confW4!BS19:GN43 > 0, ROUNDDOWN(im2colAll_confW4!BS19:GN43/2^4, 0), ROUNDUP(im2colAll_confW4!BS19:GN43/2^4, 0))","v":-18},{"$f":"IF(im2colAll_confW4!BT19:GO43 > 0, ROUNDDOWN(im2colAll_confW4!BT19:GO43/2^4, 0), ROUNDUP(im2colAll_confW4!BT19:GO43/2^4, 0))","v":-27},{"$f":"IF(im2colAll_confW4!BU19:GP43 > 0, ROUNDDOWN(im2colAll_confW4!BU19:GP43/2^4, 0), ROUNDUP(im2colAll_confW4!BU19:GP43/2^4, 0))","v":-27},{"$f":"IF(im2colAll_confW4!BV19:GQ43 > 0, ROUNDDOWN(im2colAll_confW4!BV19:GQ43/2^4, 0), ROUNDUP(im2colAll_confW4!BV19:GQ43/2^4, 0))","v":14},{"$f":"IF(im2colAll_confW4!BW19:GR43 > 0, ROUNDDOWN(im2colAll_confW4!BW19:GR43/2^4, 0), ROUNDUP(im2colAll_confW4!BW19:GR43/2^4, 0))","v":-39},{"$f":"IF(im2colAll_confW4!BX19:GS43 > 0, ROUNDDOWN(im2colAll_confW4!BX19:GS43/2^4, 0), ROUNDUP(im2colAll_confW4!BX19:GS43/2^4, 0))","v":57},{"$f":"IF(im2colAll_confW4!BY19:GT43 > 0, ROUNDDOWN(im2colAll_confW4!BY19:GT43/2^4, 0), ROUNDUP(im2colAll_confW4!BY19:GT43/2^4, 0))","v":59},{"$f":"IF(im2colAll_confW4!BZ19:GU43 > 0, ROUNDDOWN(im2colAll_confW4!BZ19:GU43/2^4, 0), ROUNDUP(im2colAll_confW4!BZ19:GU43/2^4, 0))","v":-13},{"$f":"IF(im2colAll_confW4!CA19:GV43 > 0, ROUNDDOWN(im2colAll_confW4!CA19:GV43/2^4, 0), ROUNDUP(im2colAll_confW4!CA19:GV43/2^4, 0))","v":75},{"$f":"IF(im2colAll_confW4!CB19:GW43 > 0, ROUNDDOWN(im2colAll_confW4!CB19:GW43/2^4, 0), ROUNDUP(im2colAll_confW4!CB19:GW43/2^4, 0))","v":-36},{"$f":"IF(im2colAll_confW4!CC19:GX43 > 0, ROUNDDOWN(im2colAll_confW4!CC19:GX43/2^4, 0), ROUNDUP(im2colAll_confW4!CC19:GX43/2^4, 0))","v":-13},{"$f":"IF(im2colAll_confW4!CD19:GY43 > 0, ROUNDDOWN(im2colAll_confW4!CD19:GY43/2^4, 0), ROUNDUP(im2colAll_confW4!CD19:GY43/2^4, 0))","v":-12},{"$f":"IF(im2colAll_confW4!CE19:GZ43 > 0, ROUNDDOWN(im2colAll_confW4!CE19:GZ43/2^4, 0), ROUNDUP(im2colAll_confW4!CE19:GZ43/2^4, 0))","v":-51},{"$f":"IF(im2colAll_confW4!CF19:HA43 > 0, ROUNDDOWN(im2colAll_confW4!CF19:HA43/2^4, 0), ROUNDUP(im2colAll_confW4!CF19:HA43/2^4, 0))","v":-72},{"$f":"IF(im2colAll_confW4!CG19:HB43 > 0, ROUNDDOWN(im2colAll_confW4!CG19:HB43/2^4, 0), ROUNDUP(im2colAll_confW4!CG19:HB43/2^4, 0))","v":180},{"$f":"IF(im2colAll_confW4!CH19:HC43 > 0, ROUNDDOWN(im2colAll_confW4!CH19:HC43/2^4, 0), ROUNDUP(im2colAll_confW4!CH19:HC43/2^4, 0))","v":-14},{"$f":"IF(im2colAll_confW4!CI19:HD43 > 0, ROUNDDOWN(im2colAll_confW4!CI19:HD43/2^4, 0), ROUNDUP(im2colAll_confW4!CI19:HD43/2^4, 0))","v":18},{"$f":"IF(im2colAll_confW4!CJ19:HE43 > 0, ROUNDDOWN(im2colAll_confW4!CJ19:HE43/2^4, 0), ROUNDUP(im2colAll_confW4!CJ19:HE43/2^4, 0))","v":-10},{"$f":"IF(im2colAll_confW4!CK19:HF43 > 0, ROUNDDOWN(im2colAll_confW4!CK19:HF43/2^4, 0), ROUNDUP(im2colAll_confW4!CK19:HF43/2^4, 0))","v":-26},{"$f":"IF(im2colAll_confW4!CL19:HG43 > 0, ROUNDDOWN(im2colAll_confW4!CL19:HG43/2^4, 0), ROUNDUP(im2colAll_confW4!CL19:HG43/2^4, 0))","v":-37},{"$f":"IF(im2colAll_confW4!CM19:HH43 > 0, ROUNDDOWN(im2colAll_confW4!CM19:HH43/2^4, 0), ROUNDUP(im2colAll_confW4!CM19:HH43/2^4, 0))","v":-71},{"$f":"IF(im2colAll_confW4!CN19:HI43 > 0, ROUNDDOWN(im2colAll_confW4!CN19:HI43/2^4, 0), ROUNDUP(im2colAll_confW4!CN19:HI43/2^4, 0))","v":-25},{"$f":"IF(im2colAll_confW4!CO19:HJ43 > 0, ROUNDDOWN(im2colAll_confW4!CO19:HJ43/2^4, 0), ROUNDUP(im2colAll_confW4!CO19:HJ43/2^4, 0))","v":-16},{"$f":"IF(im2colAll_confW4!CP19:HK43 > 0, ROUNDDOWN(im2colAll_confW4!CP19:HK43/2^4, 0), ROUNDUP(im2colAll_confW4!CP19:HK43/2^4, 0))","v":3},{"$f":"IF(im2colAll_confW4!CQ19:HL43 > 0, ROUNDDOWN(im2colAll_confW4!CQ19:HL43/2^4, 0), ROUNDUP(im2colAll_confW4!CQ19:HL43/2^4, 0))","v":35},{"$f":"IF(im2colAll_confW4!CR19:HM43 > 0, ROUNDDOWN(im2colAll_confW4!CR19:HM43/2^4, 0), ROUNDUP(im2colAll_confW4!CR19:HM43/2^4, 0))","v":-7},{"$f":"IF(im2colAll_confW4!CS19:HN43 > 0, ROUNDDOWN(im2colAll_confW4!CS19:HN43/2^4, 0), ROUNDUP(im2colAll_confW4!CS19:HN43/2^4, 0))","v":23},{"$f":"IF(im2colAll_confW4!CT19:HO43 > 0, ROUNDDOWN(im2colAll_confW4!CT19:HO43/2^4, 0), ROUNDUP(im2colAll_confW4!CT19:HO43/2^4, 0))","v":51},{"$f":"IF(im2colAll_confW4!CU19:HP43 > 0, ROUNDDOWN(im2colAll_confW4!CU19:HP43/2^4, 0), ROUNDUP(im2colAll_confW4!CU19:HP43/2^4, 0))","v":1},{"$f":"IF(im2colAll_confW4!CV19:HQ43 > 0, ROUNDDOWN(im2colAll_confW4!CV19:HQ43/2^4, 0), ROUNDUP(im2colAll_confW4!CV19:HQ43/2^4, 0))","v":37},{"$f":"IF(im2colAll_confW4!CW19:HR43 > 0, ROUNDDOWN(im2colAll_confW4!CW19:HR43/2^4, 0), ROUNDUP(im2colAll_confW4!CW19:HR43/2^4, 0))","v":-7},{"$f":"IF(im2colAll_confW4!CX19:HS43 > 0, ROUNDDOWN(im2colAll_confW4!CX19:HS43/2^4, 0), ROUNDUP(im2colAll_confW4!CX19:HS43/2^4, 0))","v":18},{"$f":"IF(im2colAll_confW4!CY19:HT43 > 0, ROUNDDOWN(im2colAll_confW4!CY19:HT43/2^4, 0), ROUNDUP(im2colAll_confW4!CY19:HT43/2^4, 0))","v":17},{"$f":"IF(im2colAll_confW4!CZ19:HU43 > 0, ROUNDDOWN(im2colAll_confW4!CZ19:HU43/2^4, 0), ROUNDUP(im2colAll_confW4!CZ19:HU43/2^4, 0))","v":-14},{"$f":"IF(im2colAll_confW4!DA19:HV43 > 0, ROUNDDOWN(im2colAll_confW4!DA19:HV43/2^4, 0), ROUNDUP(im2colAll_confW4!DA19:HV43/2^4, 0))","v":-51},{"$f":"IF(im2colAll_confW4!DB19:HW43 > 0, ROUNDDOWN(im2colAll_confW4!DB19:HW43/2^4, 0), ROUNDUP(im2colAll_confW4!DB19:HW43/2^4, 0))","v":182},{"$f":"IF(im2colAll_confW4!DC19:HX43 > 0, ROUNDDOWN(im2colAll_confW4!DC19:HX43/2^4, 0), ROUNDUP(im2colAll_confW4!DC19:HX43/2^4, 0))","v":0},{"$f":"IF(im2colAll_confW4!DD19:HY43 > 0, ROUNDDOWN(im2colAll_confW4!DD19:HY43/2^4, 0), ROUNDUP(im2colAll_confW4!DD19:HY43/2^4, 0))","v":0},{"$f":"IF(im2colAll_confW4!DE19:HZ43 > 0, ROUNDDOWN(im2colAll_confW4!DE19:HZ43/2^4, 0), ROUNDUP(im2colAll_confW4!DE19:HZ43/2^4, 0))","v":-8},{"$f":"IF(im2colAll_confW4!DF19:IA43 > 0, ROUNDDOWN(im2colAll_confW4!DF19:IA43/2^4, 0), ROUNDUP(im2colAll_confW4!DF19:IA43/2^4, 0))","v":-39},{"$f":"IF(im2colAll_confW4!DG19:IB43 > 0, ROUNDDOWN(im2colAll_confW4!DG19:IB43/2^4, 0), ROUNDUP(im2colAll_confW4!DG19:IB43/2^4, 0))","v":-64},{"$f":"IF(im2colAll_confW4!DH19:IC43 > 0, ROUNDDOWN(im2colAll_confW4!DH19:IC43/2^4, 0), ROUNDUP(im2colAll_confW4!DH19:IC43/2^4, 0))","v":-65},{"$f":"IF(im2colAll_confW4!DI19:ID43 > 0, ROUNDDOWN(im2colAll_confW4!DI19:ID43/2^4, 0), ROUNDUP(im2colAll_confW4!DI19:ID43/2^4, 0))","v":-15},{"$f":"IF(im2colAll_confW4!DJ19:IE43 > 0, ROUNDDOWN(im2colAll_confW4!DJ19:IE43/2^4, 0), ROUNDUP(im2colAll_confW4!DJ19:IE43/2^4, 0))","v":-20},{"$f":"IF(im2colAll_confW4!DK19:IF43 > 0, ROUNDDOWN(im2colAll_confW4!DK19:IF43/2^4, 0), ROUNDUP(im2colAll_confW4!DK19:IF43/2^4, 0))","v":-14},{"$f":"IF(im2colAll_confW4!DL19:IG43 > 0, ROUNDDOWN(im2colAll_confW4!DL19:IG43/2^4, 0), ROUNDUP(im2colAll_confW4!DL19:IG43/2^4, 0))","v":4},{"$f":"IF(im2colAll_confW4!DM19:IH43 > 0, ROUNDDOWN(im2colAll_confW4!DM19:IH43/2^4, 0), ROUNDUP(im2colAll_confW4!DM19:IH43/2^4, 0))","v":-17},{"$f":"IF(im2colAll_confW4!DN19:II43 > 0, ROUNDDOWN(im2colAll_confW4!DN19:II43/2^4, 0), ROUNDUP(im2colAll_confW4!DN19:II43/2^4, 0))","v":3},{"$f":"IF(im2colAll_confW4!DO19:IJ43 > 0, ROUNDDOWN(im2colAll_confW4!DO19:IJ43/2^4, 0), ROUNDUP(im2colAll_confW4!DO19:IJ43/2^4, 0))","v":38},{"$f":"IF(im2colAll_confW4!DP19:IK43 > 0, ROUNDDOWN(im2colAll_confW4!DP19:IK43/2^4, 0), ROUNDUP(im2colAll_confW4!DP19:IK43/2^4, 0))","v":-36},{"$f":"IF(im2colAll_confW4!DQ19:IL43 > 0, ROUNDDOWN(im2colAll_confW4!DQ19:IL43/2^4, 0), ROUNDUP(im2colAll_confW4!DQ19:IL43/2^4, 0))","v":81},{"$f":"IF(im2colAll_confW4!DR19:IM43 > 0, ROUNDDOWN(im2colAll_confW4!DR19:IM43/2^4, 0), ROUNDUP(im2colAll_confW4!DR19:IM43/2^4, 0))","v":-26},{"$f":"IF(im2colAll_confW4!DS19:IN43 > 0, ROUNDDOWN(im2colAll_confW4!DS19:IN43/2^4, 0), ROUNDUP(im2colAll_confW4!DS19:IN43/2^4, 0))","v":-12},{"$f":"IF(im2colAll_confW4!DT19:IO43 > 0, ROUNDDOWN(im2colAll_confW4!DT19:IO43/2^4, 0), ROUNDUP(im2colAll_confW4!DT19:IO43/2^4, 0))","v":3},{"$f":"IF(im2colAll_confW4!DU19:IP43 > 0, ROUNDDOWN(im2colAll_confW4!DU19:IP43/2^4, 0), ROUNDUP(im2colAll_confW4!DU19:IP43/2^4, 0))","v":-13},{"$f":"IF(im2colAll_confW4!DV19:IQ43 > 0, ROUNDDOWN(im2colAll_confW4!DV19:IQ43/2^4, 0), ROUNDUP(im2colAll_confW4!DV19:IQ43/2^4, 0))","v":-59}]
[{"$f":"IF(im2colAll_confW4!A20:DV44 > 0, ROUNDDOWN(im2colAll_confW4!A20:DV44/2^4, 0), ROUNDUP(im2colAll_confW4!A20:DV44/2^4, 0))","v":133},{"$f":"IF(im2colAll_confW4!B20:DW44 > 0, ROUNDDOWN(im2colAll_confW4!B20:DW44/2^4, 0), ROUNDUP(im2colAll_confW4!B20:DW44/2^4, 0))","v":-10},{"$f":"IF(im2colAll_confW4!C20:DX44 > 0, ROUNDDOWN(im2colAll_confW4!C20:DX44/2^4, 0), ROUNDUP(im2colAll_confW4!C20:DX44/2^4, 0))","v":12},{"$f":"IF(im2colAll_confW4!D20:DY44 > 0, ROUNDDOWN(im2colAll_confW4!D20:DY44/2^4, 0), ROUNDUP(im2colAll_confW4!D20:DY44/2^4, 0))","v":-22},{"$f":"IF(im2colAll_confW4!E20:DZ44 > 0, ROUNDDOWN(im2colAll_confW4!E20:DZ44/2^4, 0), ROUNDUP(im2colAll_confW4!E20:DZ44/2^4, 0))","v":-14},{"$f":"IF(im2colAll_confW4!F20:EA44 > 0, ROUNDDOWN(im2colAll_confW4!F20:EA44/2^4, 0), ROUNDUP(im2colAll_confW4!F20:EA44/2^4, 0))","v":-36},{"$f":"IF(im2colAll_confW4!G20:EB44 > 0, ROUNDDOWN(im2colAll_confW4!G20:EB44/2^4, 0), ROUNDUP(im2colAll_confW4!G20:EB44/2^4, 0))","v":-38},{"$f":"IF(im2colAll_confW4!H20:EC44 > 0, ROUNDDOWN(im2colAll_confW4!H20:EC44/2^4, 0), ROUNDUP(im2colAll_confW4!H20:EC44/2^4, 0))","v":-12},{"$f":"IF(im2colAll_confW4!I20:ED44 > 0, ROUNDDOWN(im2colAll_confW4!I20:ED44/2^4, 0), ROUNDUP(im2colAll_confW4!I20:ED44/2^4, 0))","v":-21},{"$f":"IF(im2colAll_confW4!J20:EE44 > 0, ROUNDDOWN(im2colAll_confW4!J20:EE44/2^4, 0), ROUNDUP(im2colAll_confW4!J20:EE44/2^4, 0))","v":26},{"$f":"IF(im2colAll_confW4!K20:EF44 > 0, ROUNDDOWN(im2colAll_confW4!K20:EF44/2^4, 0), ROUNDUP(im2colAll_confW4!K20:EF44/2^4, 0))","v":6},{"$f":"IF(im2colAll_confW4!L20:EG44 > 0, ROUNDDOWN(im2colAll_confW4!L20:EG44/2^4, 0), ROUNDUP(im2colAll_confW4!L20:EG44/2^4, 0))","v":4},{"$f":"IF(im2colAll_confW4!M20:EH44 > 0, ROUNDDOWN(im2colAll_confW4!M20:EH44/2^4, 0), ROUNDUP(im2colAll_confW4!M20:EH44/2^4, 0))","v":24},{"$f":"IF(im2colAll_confW4!N20:EI44 > 0, ROUNDDOWN(im2colAll_confW4!N20:EI44/2^4, 0), ROUNDUP(im2colAll_confW4!N20:EI44/2^4, 0))","v":28},{"$f":"IF(im2colAll_confW4!O20:EJ44 > 0, ROUNDDOWN(im2colAll_confW4!O20:EJ44/2^4, 0), ROUNDUP(im2colAll_confW4!O20:EJ44/2^4, 0))","v":-16},{"$f":"IF(im2colAll_confW4!P20:EK44 > 0, ROUNDDOWN(im2colAll_confW4!P20:EK44/2^4, 0), ROUNDUP(im2colAll_confW4!P20:EK44/2^4, 0))","v":58},{"$f":"IF(im2colAll_confW4!Q20:EL44 > 0, ROUNDDOWN(im2colAll_confW4!Q20:EL44/2^4, 0), ROUNDUP(im2colAll_confW4!Q20:EL44/2^4, 0))","v":-23},{"$f":"IF(im2colAll_confW4!R20:EM44 > 0, ROUNDDOWN(im2colAll_confW4!R20:EM44/2^4, 0), ROUNDUP(im2colAll_confW4!R20:EM44/2^4, 0))","v":-5},{"$f":"IF(im2colAll_confW4!S20:EN44 > 0, ROUNDDOWN(im2colAll_confW4!S20:EN44/2^4, 0), ROUNDUP(im2colAll_confW4!S20:EN44/2^4, 0))","v":0},{"$f":"IF(im2colAll_confW4!T20:EO44 > 0, ROUNDDOWN(im2colAll_confW4!T20:EO44/2^4, 0), ROUNDUP(im2colAll_confW4!T20:EO44/2^4, 0))","v":-15},{"$f":"IF(im2colAll_confW4!U20:EP44 > 0, ROUNDDOWN(im2colAll_confW4!U20:EP44/2^4, 0), ROUNDUP(im2colAll_confW4!U20:EP44/2^4, 0))","v":-56},{"$f":"IF(im2colAll_confW4!V20:EQ44 > 0, ROUNDDOWN(im2colAll_confW4!V20:EQ44/2^4, 0), ROUNDUP(im2colAll_confW4!V20:EQ44/2^4, 0))","v":129},{"$f":"IF(im2colAll_confW4!W20:ER44 > 0, ROUNDDOWN(im2colAll_confW4!W20:ER44/2^4, 0), ROUNDUP(im2colAll_confW4!W20:ER44/2^4, 0))","v":-41},{"$f":"IF(im2colAll_confW4!X20:ES44 > 0, ROUNDDOWN(im2colAll_confW4!X20:ES44/2^4, 0), ROUNDUP(im2colAll_confW4!X20:ES44/2^4, 0))","v":10},{"$f":"IF(im2colAll_confW4!Y20:ET44 > 0, ROUNDDOWN(im2colAll_confW4!Y20:ET44/2^4, 0), ROUNDUP(im2colAll_confW4!Y20:ET44/2^4, 0))","v":0},{"$f":"IF(im2colAll_confW4!Z20:EU44 > 0, ROUNDDOWN(im2colAll_confW4!Z20:EU44/2^4, 0), ROUNDUP(im2colAll_confW4!Z20:EU44/2^4, 0))","v":-19},{"$f":"IF(im2colAll_confW4!AA20:EV44 > 0, ROUNDDOWN(im2colAll_confW4!AA20:EV44/2^4, 0), ROUNDUP(im2colAll_confW4!AA20:EV44/2^4, 0))","v":-54},{"$f":"IF(im2colAll_confW4!AB20:EW44 > 0, ROUNDDOWN(im2colAll_confW4!AB20:EW44/2^4, 0), ROUNDUP(im2colAll_confW4!AB20:EW44/2^4, 0))","v":-58},{"$f":"IF(im2colAll_confW4!AC20:EX44 > 0, ROUNDDOWN(im2colAll_confW4!AC20:EX44/2^4, 0), ROUNDUP(im2colAll_confW4!AC20:EX44/2^4, 0))","v":-6},{"$f":"IF(im2colAll_confW4!AD20:EY44 > 0, ROUNDDOWN(im2colAll_confW4!AD20:EY44/2^4, 0), ROUNDUP(im2colAll_confW4!AD20:EY44/2^4, 0))","v":-29},{"$f":"IF(im2colAll_confW4!AE20:EZ44 > 0, ROUNDDOWN(im2colAll_confW4!AE20:EZ44/2^4, 0), ROUNDUP(im2colAll_confW4!AE20:EZ44/2^4, 0))","v":-4},{"$f":"IF(im2colAll_confW4!AF20:FA44 > 0, ROUNDDOWN(im2colAll_confW4!AF20:FA44/2^4, 0), ROUNDUP(im2colAll_confW4!AF20:FA44/2^4, 0))","v":3},{"$f":"IF(im2colAll_confW4!AG20:FB44 > 0, ROUNDDOWN(im2colAll_confW4!AG20:FB44/2^4, 0), ROUNDUP(im2colAll_confW4!AG20:FB44/2^4, 0))","v":2},{"$f":"IF(im2colAll_confW4!AH20:FC44 > 0, ROUNDDOWN(im2colAll_confW4!AH20:FC44/2^4, 0), ROUNDUP(im2colAll_confW4!AH20:FC44/2^4, 0))","v":15},{"$f":"IF(im2colAll_confW4!AI20:FD44 > 0, ROUNDDOWN(im2colAll_confW4!AI20:FD44/2^4, 0), ROUNDUP(im2colAll_confW4!AI20:FD44/2^4, 0))","v":31},{"$f":"IF(im2colAll_confW4!AJ20:FE44 > 0, ROUNDDOWN(im2colAll_confW4!AJ20:FE44/2^4, 0), ROUNDUP(im2colAll_confW4!AJ20:FE44/2^4, 0))","v":-18},{"$f":"IF(im2colAll_confW4!AK20:FF44 > 0, ROUNDDOWN(im2colAll_confW4!AK20:FF44/2^4, 0), ROUNDUP(im2colAll_confW4!AK20:FF44/2^4, 0))","v":61},{"$f":"IF(im2colAll_confW4!AL20:FG44 > 0, ROUNDDOWN(im2colAll_confW4!AL20:FG44/2^4, 0), ROUNDUP(im2colAll_confW4!AL20:FG44/2^4, 0))","v":5},{"$f":"IF(im2colAll_confW4!AM20:FH44 > 0, ROUNDDOWN(im2colAll_confW4!AM20:FH44/2^4, 0), ROUNDUP(im2colAll_confW4!AM20:FH44/2^4, 0))","v":-15},{"$f":"IF(im2colAll_confW4!AN20:FI44 > 0, ROUNDDOWN(im2colAll_confW4!AN20:FI44/2^4, 0), ROUNDUP(im2colAll_confW4!AN20:FI44/2^4, 0))","v":-1},{"$f":"IF(im2colAll_confW4!AO20:FJ44 > 0, ROUNDDOWN(im2colAll_confW4!AO20:FJ44/2^4, 0), ROUNDUP(im2colAll_confW4!AO20:FJ44/2^4, 0))","v":-30},{"$f":"IF(im2colAll_confW4!AP20:FK44 > 0, ROUNDDOWN(im2colAll_confW4!AP20:FK44/2^4, 0), ROUNDUP(im2colAll_confW4!AP20:FK44/2^4, 0))","v":-40},{"$f":"IF(im2colAll_confW4!AQ20:FL44 > 0, ROUNDDOWN(im2colAll_confW4!AQ20:FL44/2^4, 0), ROUNDUP(im2colAll_confW4!AQ20:FL44/2^4, 0))","v":143},{"$f":"IF(im2colAll_confW4!AR20:FM44 > 0, ROUNDDOWN(im2colAll_confW4!AR20:FM44/2^4, 0), ROUNDUP(im2colAll_confW4!AR20:FM44/2^4, 0))","v":-34},{"$f":"IF(im2colAll_confW4!AS20:FN44 > 0, ROUNDDOWN(im2colAll_confW4!AS20:FN44/2^4, 0), ROUNDUP(im2colAll_confW4!AS20:FN44/2^4, 0))","v":2},{"$f":"IF(im2colAll_confW4!AT20:FO44 > 0, ROUNDDOWN(im2colAll_confW4!AT20:FO44/2^4, 0), ROUNDUP(im2colAll_confW4!AT20:FO44/2^4, 0))","v":-14},{"$f":"IF(im2colAll_confW4!AU20:FP44 > 0, ROUNDDOWN(im2colAll_confW4!AU20:FP44/2^4, 0), ROUNDUP(im2colAll_confW4!AU20:FP44/2^4, 0))","v":-5},{"$f":"IF(im2colAll_confW4!AV20:FQ44 > 0, ROUNDDOWN(im2colAll_confW4!AV20:FQ44/2^4, 0), ROUNDUP(im2colAll_confW4!AV20:FQ44/2^4, 0))","v":-24},{"$f":"IF(im2colAll_confW4!AW20:FR44 > 0, ROUNDDOWN(im2colAll_confW4!AW20:FR44/2^4, 0), ROUNDUP(im2colAll_confW4!AW20:FR44/2^4, 0))","v":-42},{"$f":"IF(im2colAll_confW4!AX20:FS44 > 0, ROUNDDOWN(im2colAll_confW4!AX20:FS44/2^4, 0), ROUNDUP(im2colAll_confW4!AX20:FS44/2^4, 0))","v":-49},{"$f":"IF(im2colAll_confW4!AY20:FT44 > 0, ROUNDDOWN(im2colAll_confW4!AY20:FT44/2^4, 0), ROUNDUP(im2colAll_confW4!AY20:FT44/2^4, 0))","v":-27},{"$f":"IF(im2colAll_confW4!AZ20:FU44 > 0, ROUNDDOWN(im2colAll_confW4!AZ20:FU44/2^4, 0), ROUNDUP(im2colAll_confW4!AZ20:FU44/2^4, 0))","v":9},{"$f":"IF(im2colAll_confW4!BA20:FV44 > 0, ROUNDDOWN(im2colAll_confW4!BA20:FV44/2^4, 0), ROUNDUP(im2colAll_confW4!BA20:FV44/2^4, 0))","v":0},{"$f":"IF(im2colAll_confW4!BB20:FW44 > 0, ROUNDDOWN(im2colAll_confW4!BB20:FW44/2^4, 0), ROUNDUP(im2colAll_confW4!BB20:FW44/2^4, 0))","v":9},{"$f":"IF(im2colAll_confW4!BC20:FX44 > 0, ROUNDDOWN(im2colAll_confW4!BC20:FX44/2^4, 0), ROUNDUP(im2colAll_confW4!BC20:FX44/2^4, 0))","v":13},{"$f":"IF(im2colAll_confW4!BD20:FY44 > 0, ROUNDDOWN(im2colAll_confW4!BD20:FY44/2^4, 0), ROUNDUP(im2colAll_confW4!BD20:FY44/2^4, 0))","v":23},{"$f":"IF(im2colAll_confW4!BE20:FZ44 > 0, ROUNDDOWN(im2colAll_confW4!BE20:FZ44/2^4, 0), ROUNDUP(im2colAll_confW4!BE20:FZ44/2^4, 0))","v":-3},{"$f":"IF(im2colAll_confW4!BF20:GA44 > 0, ROUNDDOWN(im2colAll_confW4!BF20:GA44/2^4, 0), ROUNDUP(im2colAll_confW4!BF20:GA44/2^4, 0))","v":39},{"$f":"IF(im2colAll_confW4!BG20:GB44 > 0, ROUNDDOWN(im2colAll_confW4!BG20:GB44/2^4, 0), ROUNDUP(im2colAll_confW4!BG20:GB44/2^4, 0))","v":-2},{"$f":"IF(im2colAll_confW4!BH20:GC44 > 0, ROUNDDOWN(im2colAll_confW4!BH20:GC44/2^4, 0), ROUNDUP(im2colAll_confW4!BH20:GC44/2^4, 0))","v":0},{"$f":"IF(im2colAll_confW4!BI20:GD44 > 0, ROUNDDOWN(im2colAll_confW4!BI20:GD44/2^4, 0), ROUNDUP(im2colAll_confW4!BI20:GD44/2^4, 0))","v":-14},{"$f":"IF(im2colAll_confW4!BJ20:GE44 > 0, ROUNDDOWN(im2colAll_confW4!BJ20:GE44/2^4, 0), ROUNDUP(im2colAll_confW4!BJ20:GE44/2^4, 0))","v":-19},{"$f":"IF(im2colAll_confW4!BK20:GF44 > 0, ROUNDDOWN(im2colAll_confW4!BK20:GF44/2^4, 0), ROUNDUP(im2colAll_confW4!BK20:GF44/2^4, 0))","v":-21},{"$f":"IF(im2colAll_confW4!BL20:GG44 > 0, ROUNDDOWN(im2colAll_confW4!BL20:GG44/2^4, 0), ROUNDUP(im2colAll_confW4!BL20:GG44/2^4, 0))","v":124},{"$f":"IF(im2colAll_confW4!BM20:GH44 > 0, ROUNDDOWN(im2colAll_confW4!BM20:GH44/2^4, 0), ROUNDUP(im2colAll_confW4!BM20:GH44/2^4, 0))","v":-27},{"$f":"IF(im2colAll_confW4!BN20:GI44 > 0, ROUNDDOWN(im2colAll_confW4!BN20:GI44/2^4, 0), ROUNDUP(im2colAll_confW4!BN20:GI44/2^4, 0))","v":-1},{"$f":"IF(im2colAll_confW4!BO20:GJ44 > 0, ROUNDDOWN(im2colAll_confW4!BO20:GJ44/2^4, 0), ROUNDUP(im2colAll_confW4!BO20:GJ44/2^4, 0))","v":-15},{"$f":"IF(im2colAll_confW4!BP20:GK44 > 0, ROUNDDOWN(im2colAll_confW4!BP20:GK44/2^4, 0), ROUNDUP(im2colAll_confW4!BP20:GK44/2^4, 0))","v":-35},{"$f":"IF(im2colAll_confW4!BQ20:GL44 > 0, ROUNDDOWN(im2colAll_confW4!BQ20:GL44/2^4, 0), ROUNDUP(im2colAll_confW4!BQ20:GL44/2^4, 0))","v":-20},{"$f":"IF(im2colAll_confW4!BR20:GM44 > 0, ROUNDDOWN(im2colAll_confW4!BR20:GM44/2^4, 0), ROUNDUP(im2colAll_confW4!BR20:GM44/2^4, 0))","v":-58},{"$f":"IF(im2colAll_confW4!BS20:GN44 > 0, ROUNDDOWN(im2colAll_confW4!BS20:GN44/2^4, 0), ROUNDUP(im2colAll_confW4!BS20:GN44/2^4, 0))","v":-5},{"$f":"IF(im2colAll_confW4!BT20:GO44 > 0, ROUNDDOWN(im2colAll_confW4!BT20:GO44/2^4, 0), ROUNDUP(im2colAll_confW4!BT20:GO44/2^4, 0))","v":-24},{"$f":"IF(im2colAll_confW4!BU20:GP44 > 0, ROUNDDOWN(im2colAll_confW4!BU20:GP44/2^4, 0), ROUNDUP(im2colAll_confW4!BU20:GP44/2^4, 0))","v":-4},{"$f":"IF(im2colAll_confW4!BV20:GQ44 > 0, ROUNDDOWN(im2colAll_confW4!BV20:GQ44/2^4, 0), ROUNDUP(im2colAll_confW4!BV20:GQ44/2^4, 0))","v":7},{"$f":"IF(im2colAll_confW4!BW20:GR44 > 0, ROUNDDOWN(im2colAll_confW4!BW20:GR44/2^4, 0), ROUNDUP(im2colAll_confW4!BW20:GR44/2^4, 0))","v":-28},{"$f":"IF(im2colAll_confW4!BX20:GS44 > 0, ROUNDDOWN(im2colAll_confW4!BX20:GS44/2^4, 0), ROUNDUP(im2colAll_confW4!BX20:GS44/2^4, 0))","v":32},{"$f":"IF(im2colAll_confW4!BY20:GT44 > 0, ROUNDDOWN(im2colAll_confW4!BY20:GT44/2^4, 0), ROUNDUP(im2colAll_confW4!BY20:GT44/2^4, 0))","v":16},{"$f":"IF(im2colAll_confW4!BZ20:GU44 > 0, ROUNDDOWN(im2colAll_confW4!BZ20:GU44/2^4, 0), ROUNDUP(im2colAll_confW4!BZ20:GU44/2^4, 0))","v":-21},{"$f":"IF(im2colAll_confW4!CA20:GV44 > 0, ROUNDDOWN(im2colAll_confW4!CA20:GV44/2^4, 0), ROUNDUP(im2colAll_confW4!CA20:GV44/2^4, 0))","v":57},{"$f":"IF(im2colAll_confW4!CB20:GW44 > 0, ROUNDDOWN(im2colAll_confW4!CB20:GW44/2^4, 0), ROUNDUP(im2colAll_confW4!CB20:GW44/2^4, 0))","v":8},{"$f":"IF(im2colAll_confW4!CC20:GX44 > 0, ROUNDDOWN(im2colAll_confW4!CC20:GX44/2^4, 0), ROUNDUP(im2colAll_confW4!CC20:GX44/2^4, 0))","v":-18},{"$f":"IF(im2colAll_confW4!CD20:GY44 > 0, ROUNDDOWN(im2colAll_confW4!CD20:GY44/2^4, 0), ROUNDUP(im2colAll_confW4!CD20:GY44/2^4, 0))","v":-21},{"$f":"IF(im2colAll_confW4!CE20:GZ44 > 0, ROUNDDOWN(im2colAll_confW4!CE20:GZ44/2^4, 0), ROUNDUP(im2colAll_confW4!CE20:GZ44/2^4, 0))","v":-30},{"$f":"IF(im2colAll_confW4!CF20:HA44 > 0, ROUNDDOWN(im2colAll_confW4!CF20:HA44/2^4, 0), ROUNDUP(im2colAll_confW4!CF20:HA44/2^4, 0))","v":-35},{"$f":"IF(im2colAll_confW4!CG20:HB44 > 0, ROUNDDOWN(im2colAll_confW4!CG20:HB44/2^4, 0), ROUNDUP(im2colAll_confW4!CG20:HB44/2^4, 0))","v":140},{"$f":"IF(im2colAll_confW4!CH20:HC44 > 0, ROUNDDOWN(im2colAll_confW4!CH20:HC44/2^4, 0), ROUNDUP(im2colAll_confW4!CH20:HC44/2^4, 0))","v":-21},{"$f":"IF(im2colAll_confW4!CI20:HD44 > 0, ROUNDDOWN(im2colAll_confW4!CI20:HD44/2^4, 0), ROUNDUP(im2colAll_confW4!CI20:HD44/2^4, 0))","v":32},{"$f":"IF(im2colAll_confW4!CJ20:HE44 > 0, ROUNDDOWN(im2colAll_confW4!CJ20:HE44/2^4, 0), ROUNDUP(im2colAll_confW4!CJ20:HE44/2^4, 0))","v":-15},{"$f":"IF(im2colAll_confW4!CK20:HF44 > 0, ROUNDDOWN(im2colAll_confW4!CK20:HF44/2^4, 0), ROUNDUP(im2colAll_confW4!CK20:HF44/2^4, 0))","v":-10},{"$f":"IF(im2colAll_confW4!CL20:HG44 > 0, ROUNDDOWN(im2colAll_confW4!CL20:HG44/2^4, 0), ROUNDUP(im2colAll_confW4!CL20:HG44/2^4, 0))","v":-26},{"$f":"IF(im2colAll_confW4!CM20:HH44 > 0, ROUNDDOWN(im2colAll_confW4!CM20:HH44/2^4, 0), ROUNDUP(im2colAll_confW4!CM20:HH44/2^4, 0))","v":-47},{"$f":"IF(im2colAll_confW4!CN20:HI44 > 0, ROUNDDOWN(im2colAll_confW4!CN20:HI44/2^4, 0), ROUNDUP(im2colAll_confW4!CN20:HI44/2^4, 0))","v":-18},{"$f":"IF(im2colAll_confW4!CO20:HJ44 > 0, ROUNDDOWN(im2colAll_confW4!CO20:HJ44/2^4, 0), ROUNDUP(im2colAll_confW4!CO20:HJ44/2^4, 0))","v":-15},{"$f":"IF(im2colAll_confW4!CP20:HK44 > 0, ROUNDDOWN(im2colAll_confW4!CP20:HK44/2^4, 0), ROUNDUP(im2colAll_confW4!CP20:HK44/2^4, 0))","v":4},{"$f":"IF(im2colAll_confW4!CQ20:HL44 > 0, ROUNDDOWN(im2colAll_confW4!CQ20:HL44/2^4, 0), ROUNDUP(im2colAll_confW4!CQ20:HL44/2^4, 0))","v":19},{"$f":"IF(im2colAll_confW4!CR20:HM44 > 0, ROUNDDOWN(im2colAll_confW4!CR20:HM44/2^4, 0), ROUNDUP(im2colAll_confW4!CR20:HM44/2^4, 0))","v":-4},{"$f":"IF(im2colAll_confW4!CS20:HN44 > 0, ROUNDDOWN(im2colAll_confW4!CS20:HN44/2^4, 0), ROUNDUP(im2colAll_confW4!CS20:HN44/2^4, 0))","v":4},{"$f":"IF(im2colAll_confW4!CT20:HO44 > 0, ROUNDDOWN(im2colAll_confW4!CT20:HO44/2^4, 0), ROUNDUP(im2colAll_confW4!CT20:HO44/2^4, 0))","v":20},{"$f":"IF(im2colAll_confW4!CU20:HP44 > 0, ROUNDDOWN(im2colAll_confW4!CU20:HP44/2^4, 0), ROUNDUP(im2colAll_confW4!CU20:HP44/2^4, 0))","v":9},{"$f":"IF(im2colAll_confW4!CV20:HQ44 > 0, ROUNDDOWN(im2colAll_confW4!CV20:HQ44/2^4, 0), ROUNDUP(im2colAll_confW4!CV20:HQ44/2^4, 0))","v":28},{"$f":"IF(im2colAll_confW4!CW20:HR44 > 0, ROUNDDOWN(im2colAll_confW4!CW20:HR44/2^4, 0), ROUNDUP(im2colAll_confW4!CW20:HR44/2^4, 0))","v":-3},{"$f":"IF(im2colAll_confW4!CX20:HS44 > 0, ROUNDDOWN(im2colAll_confW4!CX20:HS44/2^4, 0), ROUNDUP(im2colAll_confW4!CX20:HS44/2^4, 0))","v":4},{"$f":"IF(im2colAll_confW4!CY20:HT44 > 0, ROUNDDOWN(im2colAll_confW4!CY20:HT44/2^4, 0), ROUNDUP(im2colAll_confW4!CY20:HT44/2^4, 0))","v":16},{"$f":"IF(im2colAll_confW4!CZ20:HU44 > 0, ROUNDDOWN(im2colAll_confW4!CZ20:HU44/2^4, 0), ROUNDUP(im2colAll_confW4!CZ20:HU44/2^4, 0))","v":-21},{"$f":"IF(im2colAll_confW4!DA20:HV44 > 0, ROUNDDOWN(im2colAll_confW4!DA20:HV44/2^4, 0), ROUNDUP(im2colAll_confW4!DA20:HV44/2^4, 0))","v":-18},{"$f":"IF(im2colAll_confW4!DB20:HW44 > 0, ROUNDDOWN(im2colAll_confW4!DB20:HW44/2^4, 0), ROUNDUP(im2colAll_confW4!DB20:HW44/2^4, 0))","v":100},{"$f":"IF(im2colAll_confW4!DC20:HX44 > 0, ROUNDDOWN(im2colAll_confW4!DC20:HX44/2^4, 0), ROUNDUP(im2colAll_confW4!DC20:HX44/2^4, 0))","v":-14},{"$f":"IF(im2colAll_confW4!DD20:HY44 > 0, ROUNDDOWN(im2colAll_confW4!DD20:HY44/2^4, 0), ROUNDUP(im2colAll_confW4!DD20:HY44/2^4, 0))","v":3},{"$f":"IF(im2colAll_confW4!DE20:HZ44 > 0, ROUNDDOWN(im2colAll_confW4!DE20:HZ44/2^4, 0), ROUNDUP(im2colAll_confW4!DE20:HZ44/2^4, 0))","v":-7},{"$f":"IF(im2colAll_confW4!DF20:IA44 > 0, ROUNDDOWN(im2colAll_confW4!DF20:IA44/2^4, 0), ROUNDUP(im2colAll_confW4!DF20:IA44/2^4, 0))","v":-26},{"$f":"IF(im2colAll_confW4!DG20:IB44 > 0, ROUNDDOWN(im2colAll_confW4!DG20:IB44/2^4, 0), ROUNDUP(im2colAll_confW4!DG20:IB44/2^4, 0))","v":-16},{"$f":"IF(im2colAll_confW4!DH20:IC44 > 0, ROUNDDOWN(im2colAll_confW4!DH20:IC44/2^4, 0), ROUNDUP(im2colAll_confW4!DH20:IC44/2^4, 0))","v":-42},{"$f":"IF(im2colAll_confW4!DI20:ID44 > 0, ROUNDDOWN(im2colAll_confW4!DI20:ID44/2^4, 0), ROUNDUP(im2colAll_confW4!DI20:ID44/2^4, 0))","v":-19},{"$f":"IF(im2colAll_confW4!DJ20:IE44 > 0, ROUNDDOWN(im2colAll_confW4!DJ20:IE44/2^4, 0), ROUNDUP(im2colAll_confW4!DJ20:IE44/2^4, 0))","v":-18},{"$f":"IF(im2colAll_confW4!DK20:IF44 > 0, ROUNDDOWN(im2colAll_confW4!DK20:IF44/2^4, 0), ROUNDUP(im2colAll_confW4!DK20:IF44/2^4, 0))","v":-9},{"$f":"IF(im2colAll_confW4!DL20:IG44 > 0, ROUNDDOWN(im2colAll_confW4!DL20:IG44/2^4, 0), ROUNDUP(im2colAll_confW4!DL20:IG44/2^4, 0))","v":0},{"$f":"IF(im2colAll_confW4!DM20:IH44 > 0, ROUNDDOWN(im2colAll_confW4!DM20:IH44/2^4, 0), ROUNDUP(im2colAll_confW4!DM20:IH44/2^4, 0))","v":-3},{"$f":"IF(im2colAll_confW4!DN20:II44 > 0, ROUNDDOWN(im2colAll_confW4!DN20:II44/2^4, 0), ROUNDUP(im2colAll_confW4!DN20:II44/2^4, 0))","v":4},{"$f":"IF(im2colAll_confW4!DO20:IJ44 > 0, ROUNDDOWN(im2colAll_confW4!DO20:IJ44/2^4, 0), ROUNDUP(im2colAll_confW4!DO20:IJ44/2^4, 0))","v":5},{"$f":"IF(im2colAll_confW4!DP20:IK44 > 0, ROUNDDOWN(im2colAll_confW4!DP20:IK44/2^4, 0), ROUNDUP(im2colAll_confW4!DP20:IK44/2^4, 0))","v":-22},{"$f":"IF(im2colAll_confW4!DQ20:IL44 > 0, ROUNDDOWN(im2colAll_confW4!DQ20:IL44/2^4, 0), ROUNDUP(im2colAll_confW4!DQ20:IL44/2^4, 0))","v":53},{"$f":"IF(im2colAll_confW4!DR20:IM44 > 0, ROUNDDOWN(im2colAll_confW4!DR20:IM44/2^4, 0), ROUNDUP(im2colAll_confW4!DR20:IM44/2^4, 0))","v":-1},{"$f":"IF(im2colAll_confW4!DS20:IN44 > 0, ROUNDDOWN(im2colAll_confW4!DS20:IN44/2^4, 0), ROUNDUP(im2colAll_confW4!DS20:IN44/2^4, 0))","v":-6},{"$f":"IF(im2colAll_confW4!DT20:IO44 > 0, ROUNDDOWN(im2colAll_confW4!DT20:IO44/2^4, 0), ROUNDUP(im2colAll_confW4!DT20:IO44/2^4, 0))","v":-1},{"$f":"IF(im2colAll_confW4!DU20:IP44 > 0, ROUNDDOWN(im2colAll_confW4!DU20:IP44/2^4, 0), ROUNDUP(im2colAll_confW4!DU20:IP44/2^4, 0))","v":-10},{"$f":"IF(im2colAll_confW4!DV20:IQ44 > 0, ROUNDDOWN(im2colAll_confW4!DV20:IQ44/2^4, 0), ROUNDUP(im2colAll_confW4!DV20:IQ44/2^4, 0))","v":-27}]
[{"$f":"IF(im2colAll_confW4!A21:DV45 > 0, ROUNDDOWN(im2colAll_confW4!A21:DV45/2^4, 0), ROUNDUP(im2colAll_confW4!A21:DV45/2^4, 0))","v":92},{"$f":"IF(im2colAll_confW4!B21:DW45 > 0, ROUNDDOWN(im2colAll_confW4!B21:DW45/2^4, 0), ROUNDUP(im2colAll_confW4!B21:DW45/2^4, 0))","v":-4},{"$f":"IF(im2colAll_confW4!C21:DX45 > 0, ROUNDDOWN(im2colAll_confW4!C21:DX45/2^4, 0), ROUNDUP(im2colAll_confW4!C21:DX45/2^4, 0))","v":11},{"$f":"IF(im2colAll_confW4!D21:DY45 > 0, ROUNDDOWN(im2colAll_confW4!D21:DY45/2^4, 0), ROUNDUP(im2colAll_confW4!D21:DY45/2^4, 0))","v":10},{"$f":"IF(im2colAll_confW4!E21:DZ45 > 0, ROUNDDOWN(im2colAll_confW4!E21:DZ45/2^4, 0), ROUNDUP(im2colAll_confW4!E21:DZ45/2^4, 0))","v":-4},{"$f":"IF(im2colAll_confW4!F21:EA45 > 0, ROUNDDOWN(im2colAll_confW4!F21:EA45/2^4, 0), ROUNDUP(im2colAll_confW4!F21:EA45/2^4, 0))","v":-21},{"$f":"IF(im2colAll_confW4!G21:EB45 > 0, ROUNDDOWN(im2colAll_confW4!G21:EB45/2^4, 0), ROUNDUP(im2colAll_confW4!G21:EB45/2^4, 0))","v":-25},{"$f":"IF(im2colAll_confW4!H21:EC45 > 0, ROUNDDOWN(im2colAll_confW4!H21:EC45/2^4, 0), ROUNDUP(im2colAll_confW4!H21:EC45/2^4, 0))","v":-7},{"$f":"IF(im2colAll_confW4!I21:ED45 > 0, ROUNDDOWN(im2colAll_confW4!I21:ED45/2^4, 0), ROUNDUP(im2colAll_confW4!I21:ED45/2^4, 0))","v":-14},{"$f":"IF(im2colAll_confW4!J21:EE45 > 0, ROUNDDOWN(im2colAll_confW4!J21:EE45/2^4, 0), ROUNDUP(im2colAll_confW4!J21:EE45/2^4, 0))","v":-13},{"$f":"IF(im2colAll_confW4!K21:EF45 > 0, ROUNDDOWN(im2colAll_confW4!K21:EF45/2^4, 0), ROUNDUP(im2colAll_confW4!K21:EF45/2^4, 0))","v":-11},{"$f":"IF(im2colAll_confW4!L21:EG45 > 0, ROUNDDOWN(im2colAll_confW4!L21:EG45/2^4, 0), ROUNDUP(im2colAll_confW4!L21:EG45/2^4, 0))","v":-9},{"$f":"IF(im2colAll_confW4!M21:EH45 > 0, ROUNDDOWN(im2colAll_confW4!M21:EH45/2^4, 0), ROUNDUP(im2colAll_confW4!M21:EH45/2^4, 0))","v":10},{"$f":"IF(im2colAll_confW4!N21:EI45 > 0, ROUNDDOWN(im2colAll_confW4!N21:EI45/2^4, 0), ROUNDUP(im2colAll_confW4!N21:EI45/2^4, 0))","v":14},{"$f":"IF(im2colAll_confW4!O21:EJ45 > 0, ROUNDDOWN(im2colAll_confW4!O21:EJ45/2^4, 0), ROUNDUP(im2colAll_confW4!O21:EJ45/2^4, 0))","v":5},{"$f":"IF(im2colAll_confW4!P21:EK45 > 0, ROUNDDOWN(im2colAll_confW4!P21:EK45/2^4, 0), ROUNDUP(im2colAll_confW4!P21:EK45/2^4, 0))","v":25},{"$f":"IF(im2colAll_confW4!Q21:EL45 > 0, ROUNDDOWN(im2colAll_confW4!Q21:EL45/2^4, 0), ROUNDUP(im2colAll_confW4!Q21:EL45/2^4, 0))","v":-16},{"$f":"IF(im2colAll_confW4!R21:EM45 > 0, ROUNDDOWN(im2colAll_confW4!R21:EM45/2^4, 0), ROUNDUP(im2colAll_confW4!R21:EM45/2^4, 0))","v":-12},{"$f":"IF(im2colAll_confW4!S21:EN45 > 0, ROUNDDOWN(im2colAll_confW4!S21:EN45/2^4, 0), ROUNDUP(im2colAll_confW4!S21:EN45/2^4, 0))","v":3},{"$f":"IF(im2colAll_confW4!T21:EO45 > 0, ROUNDDOWN(im2colAll_confW4!T21:EO45/2^4, 0), ROUNDUP(im2colAll_confW4!T21:EO45/2^4, 0))","v":-4},{"$f":"IF(im2colAll_confW4!U21:EP45 > 0, ROUNDDOWN(im2colAll_confW4!U21:EP45/2^4, 0), ROUNDUP(im2colAll_confW4!U21:EP45/2^4, 0))","v":-31},{"$f":"IF(im2colAll_confW4!V21:EQ45 > 0, ROUNDDOWN(im2colAll_confW4!V21:EQ45/2^4, 0), ROUNDUP(im2colAll_confW4!V21:EQ45/2^4, 0))","v":89},{"$f":"IF(im2colAll_confW4!W21:ER45 > 0, ROUNDDOWN(im2colAll_confW4!W21:ER45/2^4, 0), ROUNDUP(im2colAll_confW4!W21:ER45/2^4, 0))","v":-14},{"$f":"IF(im2colAll_confW4!X21:ES45 > 0, ROUNDDOWN(im2colAll_confW4!X21:ES45/2^4, 0), ROUNDUP(im2colAll_confW4!X21:ES45/2^4, 0))","v":6},{"$f":"IF(im2colAll_confW4!Y21:ET45 > 0, ROUNDDOWN(im2colAll_confW4!Y21:ET45/2^4, 0), ROUNDUP(im2colAll_confW4!Y21:ET45/2^4, 0))","v":4},{"$f":"IF(im2colAll_confW4!Z21:EU45 > 0, ROUNDDOWN(im2colAll_confW4!Z21:EU45/2^4, 0), ROUNDUP(im2colAll_confW4!Z21:EU45/2^4, 0))","v":4},{"$f":"IF(im2colAll_confW4!AA21:EV45 > 0, ROUNDDOWN(im2colAll_confW4!AA21:EV45/2^4, 0), ROUNDUP(im2colAll_confW4!AA21:EV45/2^4, 0))","v":-32},{"$f":"IF(im2colAll_confW4!AB21:EW45 > 0, ROUNDDOWN(im2colAll_confW4!AB21:EW45/2^4, 0), ROUNDUP(im2colAll_confW4!AB21:EW45/2^4, 0))","v":-25},{"$f":"IF(im2colAll_confW4!AC21:EX45 > 0, ROUNDDOWN(im2colAll_confW4!AC21:EX45/2^4, 0), ROUNDUP(im2colAll_confW4!AC21:EX45/2^4, 0))","v":-11},{"$f":"IF(im2colAll_confW4!AD21:EY45 > 0, ROUNDDOWN(im2colAll_confW4!AD21:EY45/2^4, 0), ROUNDUP(im2colAll_confW4!AD21:EY45/2^4, 0))","v":-20},{"$f":"IF(im2colAll_confW4!AE21:EZ45 > 0, ROUNDDOWN(im2colAll_confW4!AE21:EZ45/2^4, 0), ROUNDUP(im2colAll_confW4!AE21:EZ45/2^4, 0))","v":-5},{"$f":"IF(im2colAll_confW4!AF21:FA45 > 0, ROUNDDOWN(im2colAll_confW4!AF21:FA45/2^4, 0), ROUNDUP(im2colAll_confW4!AF21:FA45/2^4, 0))","v":0},{"$f":"IF(im2colAll_confW4!AG21:FB45 > 0, ROUNDDOWN(im2colAll_confW4!AG21:FB45/2^4, 0), ROUNDUP(im2colAll_confW4!AG21:FB45/2^4, 0))","v":0},{"$f":"IF(im2colAll_confW4!AH21:FC45 > 0, ROUNDDOWN(im2colAll_confW4!AH21:FC45/2^4, 0), ROUNDUP(im2colAll_confW4!AH21:FC45/2^4, 0))","v":11},{"$f":"IF(im2colAll_confW4!AI21:FD45 > 0, ROUNDDOWN(im2colAll_confW4!AI21:FD45/2^4, 0), ROUNDUP(im2colAll_confW4!AI21:FD45/2^4, 0))","v":14},{"$f":"IF(im2colAll_confW4!AJ21:FE45 > 0, ROUNDDOWN(im2colAll_confW4!AJ21:FE45/2^4, 0), ROUNDUP(im2colAll_confW4!AJ21:FE45/2^4, 0))","v":-2},{"$f":"IF(im2colAll_confW4!AK21:FF45 > 0, ROUNDDOWN(im2colAll_confW4!AK21:FF45/2^4, 0), ROUNDUP(im2colAll_confW4!AK21:FF45/2^4, 0))","v":33},{"$f":"IF(im2colAll_confW4!AL21:FG45 > 0, ROUNDDOWN(im2colAll_confW4!AL21:FG45/2^4, 0), ROUNDUP(im2colAll_confW4!AL21:FG45/2^4, 0))","v":-12},{"$f":"IF(im2colAll_confW4!AM21:FH45 > 0, ROUNDDOWN(im2colAll_confW4!AM21:FH45/2^4, 0), ROUNDUP(im2colAll_confW4!AM21:FH45/2^4, 0))","v":-6},{"$f":"IF(im2colAll_confW4!AN21:FI45 > 0, ROUNDDOWN(im2colAll_confW4!AN21:FI45/2^4, 0), ROUNDUP(im2colAll_confW4!AN21:FI45/2^4, 0))","v":0},{"$f":"IF(im2colAll_confW4!AO21:FJ45 > 0, ROUNDDOWN(im2colAll_confW4!AO21:FJ45/2^4, 0), ROUNDUP(im2colAll_confW4!AO21:FJ45/2^4, 0))","v":-19},{"$f":"IF(im2colAll_confW4!AP21:FK45 > 0, ROUNDDOWN(im2colAll_confW4!AP21:FK45/2^4, 0), ROUNDUP(im2colAll_confW4!AP21:FK45/2^4, 0))","v":-30},{"$f":"IF(im2colAll_confW4!AQ21:FL45 > 0, ROUNDDOWN(im2colAll_confW4!AQ21:FL45/2^4, 0), ROUNDUP(im2colAll_confW4!AQ21:FL45/2^4, 0))","v":82},{"$f":"IF(im2colAll_confW4!AR21:FM45 > 0, ROUNDDOWN(im2colAll_confW4!AR21:FM45/2^4, 0), ROUNDUP(im2colAll_confW4!AR21:FM45/2^4, 0))","v":-15},{"$f":"IF(im2colAll_confW4!AS21:FN45 > 0, ROUNDDOWN(im2colAll_confW4!AS21:FN45/2^4, 0), ROUNDUP(im2colAll_confW4!AS21:FN45/2^4, 0))","v":5},{"$f":"IF(im2colAll_confW4!AT21:FO45 > 0, ROUNDDOWN(im2colAll_confW4!AT21:FO45/2^4, 0), ROUNDUP(im2colAll_confW4!AT21:FO45/2^4, 0))","v":-1},{"$f":"IF(im2colAll_confW4!AU21:FP45 > 0, ROUNDDOWN(im2colAll_confW4!AU21:FP45/2^4, 0), ROUNDUP(im2colAll_confW4!AU21:FP45/2^4, 0))","v":0},{"$f":"IF(im2colAll_confW4!AV21:FQ45 > 0, ROUNDDOWN(im2colAll_confW4!AV21:FQ45/2^4, 0), ROUNDUP(im2colAll_confW4!AV21:FQ45/2^4, 0))","v":-10},{"$f":"IF(im2colAll_confW4!AW21:FR45 > 0, ROUNDDOWN(im2colAll_confW4!AW21:FR45/2^4, 0), ROUNDUP(im2colAll_confW4!AW21:FR45/2^4, 0))","v":-28},{"$f":"IF(im2colAll_confW4!AX21:FS45 > 0, ROUNDDOWN(im2colAll_confW4!AX21:FS45/2^4, 0), ROUNDUP(im2colAll_confW4!AX21:FS45/2^4, 0))","v":-7},{"$f":"IF(im2colAll_confW4!AY21:FT45 > 0, ROUNDDOWN(im2colAll_confW4!AY21:FT45/2^4, 0), ROUNDUP(im2colAll_confW4!AY21:FT45/2^4, 0))","v":-23},{"$f":"IF(im2colAll_confW4!AZ21:FU45 > 0, ROUNDDOWN(im2colAll_confW4!AZ21:FU45/2^4, 0), ROUNDUP(im2colAll_confW4!AZ21:FU45/2^4, 0))","v":-10},{"$f":"IF(im2colAll_confW4!BA21:FV45 > 0, ROUNDDOWN(im2colAll_confW4!BA21:FV45/2^4, 0), ROUNDUP(im2colAll_confW4!BA21:FV45/2^4, 0))","v":-8},{"$f":"IF(im2colAll_confW4!BB21:FW45 > 0, ROUNDDOWN(im2colAll_confW4!BB21:FW45/2^4, 0), ROUNDUP(im2colAll_confW4!BB21:FW45/2^4, 0))","v":-3},{"$f":"IF(im2colAll_confW4!BC21:FX45 > 0, ROUNDDOWN(im2colAll_confW4!BC21:FX45/2^4, 0), ROUNDUP(im2colAll_confW4!BC21:FX45/2^4, 0))","v":8},{"$f":"IF(im2colAll_confW4!BD21:FY45 > 0, ROUNDDOWN(im2colAll_confW4!BD21:FY45/2^4, 0), ROUNDUP(im2colAll_confW4!BD21:FY45/2^4, 0))","v":12},{"$f":"IF(im2colAll_confW4!BE21:FZ45 > 0, ROUNDDOWN(im2colAll_confW4!BE21:FZ45/2^4, 0), ROUNDUP(im2colAll_confW4!BE21:FZ45/2^4, 0))","v":-3},{"$f":"IF(im2colAll_confW4!BF21:GA45 > 0, ROUNDDOWN(im2colAll_confW4!BF21:GA45/2^4, 0), ROUNDUP(im2colAll_confW4!BF21:GA45/2^4, 0))","v":23},{"$f":"IF(im2colAll_confW4!BG21:GB45 > 0, ROUNDDOWN(im2colAll_confW4!BG21:GB45/2^4, 0), ROUNDUP(im2colAll_confW4!BG21:GB45/2^4, 0))","v":-10},{"$f":"IF(im2colAll_confW4!BH21:GC45 > 0, ROUNDDOWN(im2colAll_confW4!BH21:GC45/2^4, 0), ROUNDUP(im2colAll_confW4!BH21:GC45/2^4, 0))","v":-1},{"$f":"IF(im2colAll_confW4!BI21:GD45 > 0, ROUNDDOWN(im2colAll_confW4!BI21:GD45/2^4, 0), ROUNDUP(im2colAll_confW4!BI21:GD45/2^4, 0))","v":-5},{"$f":"IF(im2colAll_confW4!BJ21:GE45 > 0, ROUNDDOWN(im2colAll_confW4!BJ21:GE45/2^4, 0), ROUNDUP(im2colAll_confW4!BJ21:GE45/2^4, 0))","v":-15},{"$f":"IF(im2colAll_confW4!BK21:GF45 > 0, ROUNDDOWN(im2colAll_confW4!BK21:GF45/2^4, 0), ROUNDUP(im2colAll_confW4!BK21:GF45/2^4, 0))","v":-25},{"$f":"IF(im2colAll_confW4!BL21:GG45 > 0, ROUNDDOWN(im2colAll_confW4!BL21:GG45/2^4, 0), ROUNDUP(im2colAll_confW4!BL21:GG45/2^4, 0))","v":93},{"$f":"IF(im2colAll_confW4!BM21:GH45 > 0, ROUNDDOWN(im2colAll_confW4!BM21:GH45/2^4, 0), ROUNDUP(im2colAll_confW4!BM21:GH45/2^4, 0))","v":2},{"$f":"IF(im2colAll_confW4!BN21:GI45 > 0, ROUNDDOWN(im2colAll_confW4!BN21:GI45/2^4, 0), ROUNDUP(im2colAll_confW4!BN21:GI45/2^4, 0))","v":3},{"$f":"IF(im2colAll_confW4!BO21:GJ45 > 0, ROUNDDOWN(im2colAll_confW4!BO21:GJ45/2^4, 0), ROUNDUP(im2colAll_confW4!BO21:GJ45/2^4, 0))","v":10},{"$f":"IF(im2colAll_confW4!BP21:GK45 > 0, ROUNDDOWN(im2colAll_confW4!BP21:GK45/2^4, 0), ROUNDUP(im2colAll_confW4!BP21:GK45/2^4, 0))","v":-10},{"$f":"IF(im2colAll_confW4!BQ21:GL45 > 0, ROUNDDOWN(im2colAll_confW4!BQ21:GL45/2^4, 0), ROUNDUP(im2colAll_confW4!BQ21:GL45/2^4, 0))","v":-24},{"$f":"IF(im2colAll_confW4!BR21:GM45 > 0, ROUNDDOWN(im2colAll_confW4!BR21:GM45/2^4, 0), ROUNDUP(im2colAll_confW4!BR21:GM45/2^4, 0))","v":-8},{"$f":"IF(im2colAll_confW4!BS21:GN45 > 0, ROUNDDOWN(im2colAll_confW4!BS21:GN45/2^4, 0), ROUNDUP(im2colAll_confW4!BS21:GN45/2^4, 0))","v":-12},{"$f":"IF(im2colAll_confW4!BT21:GO45 > 0, ROUNDDOWN(im2colAll_confW4!BT21:GO45/2^4, 0), ROUNDUP(im2colAll_confW4!BT21:GO45/2^4, 0))","v":-14},{"$f":"IF(im2colAll_confW4!BU21:GP45 > 0, ROUNDDOWN(im2colAll_confW4!BU21:GP45/2^4, 0), ROUNDUP(im2colAll_confW4!BU21:GP45/2^4, 0))","v":-7},{"$f":"IF(im2colAll_confW4!BV21:GQ45 > 0, ROUNDDOWN(im2colAll_confW4!BV21:GQ45/2^4, 0), ROUNDUP(im2colAll_confW4!BV21:GQ45/2^4, 0))","v":-2},{"$f":"IF(im2colAll_confW4!BW21:GR45 > 0, ROUNDDOWN(im2colAll_confW4!BW21:GR45/2^4, 0), ROUNDUP(im2colAll_confW4!BW21:GR45/2^4, 0))","v":-5},{"$f":"IF(im2colAll_confW4!BX21:GS45 > 0, ROUNDDOWN(im2colAll_confW4!BX21:GS45/2^4, 0), ROUNDUP(im2colAll_confW4!BX21:GS45/2^4, 0))","v":3},{"$f":"IF(im2colAll_confW4!BY21:GT45 > 0, ROUNDDOWN(im2colAll_confW4!BY21:GT45/2^4, 0), ROUNDUP(im2colAll_confW4!BY21:GT45/2^4, 0))","v":9},{"$f":"IF(im2colAll_confW4!BZ21:GU45 > 0, ROUNDDOWN(im2colAll_confW4!BZ21:GU45/2^4, 0), ROUNDUP(im2colAll_confW4!BZ21:GU45/2^4, 0))","v":-6},{"$f":"IF(im2colAll_confW4!CA21:GV45 > 0, ROUNDDOWN(im2colAll_confW4!CA21:GV45/2^4, 0), ROUNDUP(im2colAll_confW4!CA21:GV45/2^4, 0))","v":42},{"$f":"IF(im2colAll_confW4!CB21:GW45 > 0, ROUNDDOWN(im2colAll_confW4!CB21:GW45/2^4, 0), ROUNDUP(im2colAll_confW4!CB21:GW45/2^4, 0))","v":-1},{"$f":"IF(im2colAll_confW4!CC21:GX45 > 0, ROUNDDOWN(im2colAll_confW4!CC21:GX45/2^4, 0), ROUNDUP(im2colAll_confW4!CC21:GX45/2^4, 0))","v":5},{"$f":"IF(im2colAll_confW4!CD21:GY45 > 0, ROUNDDOWN(im2colAll_confW4!CD21:GY45/2^4, 0), ROUNDUP(im2colAll_confW4!CD21:GY45/2^4, 0))","v":-2},{"$f":"IF(im2colAll_confW4!CE21:GZ45 > 0, ROUNDDOWN(im2colAll_confW4!CE21:GZ45/2^4, 0), ROUNDUP(im2colAll_confW4!CE21:GZ45/2^4, 0))","v":-6},{"$f":"IF(im2colAll_confW4!CF21:HA45 > 0, ROUNDDOWN(im2colAll_confW4!CF21:HA45/2^4, 0), ROUNDUP(im2colAll_confW4!CF21:HA45/2^4, 0))","v":-23},{"$f":"IF(im2colAll_confW4!CG21:HB45 > 0, ROUNDDOWN(im2colAll_confW4!CG21:HB45/2^4, 0), ROUNDUP(im2colAll_confW4!CG21:HB45/2^4, 0))","v":89},{"$f":"IF(im2colAll_confW4!CH21:HC45 > 0, ROUNDDOWN(im2colAll_confW4!CH21:HC45/2^4, 0), ROUNDUP(im2colAll_confW4!CH21:HC45/2^4, 0))","v":-17},{"$f":"IF(im2colAll_confW4!CI21:HD45 > 0, ROUNDDOWN(im2colAll_confW4!CI21:HD45/2^4, 0), ROUNDUP(im2colAll_confW4!CI21:HD45/2^4, 0))","v":-2},{"$f":"IF(im2colAll_confW4!CJ21:HE45 > 0, ROUNDDOWN(im2colAll_confW4!CJ21:HE45/2^4, 0), ROUNDUP(im2colAll_confW4!CJ21:HE45/2^4, 0))","v":4},{"$f":"IF(im2colAll_confW4!CK21:HF45 > 0, ROUNDDOWN(im2colAll_confW4!CK21:HF45/2^4, 0), ROUNDUP(im2colAll_confW4!CK21:HF45/2^4, 0))","v":6},{"$f":"IF(im2colAll_confW4!CL21:HG45 > 0, ROUNDDOWN(im2colAll_confW4!CL21:HG45/2^4, 0), ROUNDUP(im2colAll_confW4!CL21:HG45/2^4, 0))","v":-24},{"$f":"IF(im2colAll_confW4!CM21:HH45 > 0, ROUNDDOWN(im2colAll_confW4!CM21:HH45/2^4, 0), ROUNDUP(im2colAll_confW4!CM21:HH45/2^4, 0))","v":-20},{"$f":"IF(im2colAll_confW4!CN21:HI45 > 0, ROUNDDOWN(im2colAll_confW4!CN21:HI45/2^4, 0), ROUNDUP(im2colAll_confW4!CN21:HI45/2^4, 0))","v":-11},{"$f":"IF(im2colAll_confW4!CO21:HJ45 > 0, ROUNDDOWN(im2colAll_confW4!CO21:HJ45/2^4, 0), ROUNDUP(im2colAll_confW4!CO21:HJ45/2^4, 0))","v":-4},{"$f":"IF(im2colAll_confW4!CP21:HK45 > 0, ROUNDDOWN(im2colAll_confW4!CP21:HK45/2^4, 0), ROUNDUP(im2colAll_confW4!CP21:HK45/2^4, 0))","v":-7},{"$f":"IF(im2colAll_confW4!CQ21:HL45 > 0, ROUNDDOWN(im2colAll_confW4!CQ21:HL45/2^4, 0), ROUNDUP(im2colAll_confW4!CQ21:HL45/2^4, 0))","v":3},{"$f":"IF(im2colAll_confW4!CR21:HM45 > 0, ROUNDDOWN(im2colAll_confW4!CR21:HM45/2^4, 0), ROUNDUP(im2colAll_confW4!CR21:HM45/2^4, 0))","v":3},{"$f":"IF(im2colAll_confW4!CS21:HN45 > 0, ROUNDDOWN(im2colAll_confW4!CS21:HN45/2^4, 0), ROUNDUP(im2colAll_confW4!CS21:HN45/2^4, 0))","v":10},{"$f":"IF(im2colAll_confW4!CT21:HO45 > 0, ROUNDDOWN(im2colAll_confW4!CT21:HO45/2^4, 0), ROUNDUP(im2colAll_confW4!CT21:HO45/2^4, 0))","v":15},{"$f":"IF(im2colAll_confW4!CU21:HP45 > 0, ROUNDDOWN(im2colAll_confW4!CU21:HP45/2^4, 0), ROUNDUP(im2colAll_confW4!CU21:HP45/2^4, 0))","v":8},{"$f":"IF(im2colAll_confW4!CV21:HQ45 > 0, ROUNDDOWN(im2colAll_confW4!CV21:HQ45/2^4, 0), ROUNDUP(im2colAll_confW4!CV21:HQ45/2^4, 0))","v":13},{"$f":"IF(im2colAll_confW4!CW21:HR45 > 0, ROUNDDOWN(im2colAll_confW4!CW21:HR45/2^4, 0), ROUNDUP(im2colAll_confW4!CW21:HR45/2^4, 0))","v":-7},{"$f":"IF(im2colAll_confW4!CX21:HS45 > 0, ROUNDDOWN(im2colAll_confW4!CX21:HS45/2^4, 0), ROUNDUP(im2colAll_confW4!CX21:HS45/2^4, 0))","v":3},{"$f":"IF(im2colAll_confW4!CY21:HT45 > 0, ROUNDDOWN(im2colAll_confW4!CY21:HT45/2^4, 0), ROUNDUP(im2colAll_confW4!CY21:HT45/2^4, 0))","v":-6},{"$f":"IF(im2colAll_confW4!CZ21:HU45 > 0, ROUNDDOWN(im2colAll_confW4!CZ21:HU45/2^4, 0), ROUNDUP(im2colAll_confW4!CZ21:HU45/2^4, 0))","v":-3},{"$f":"IF(im2colAll_confW4!DA21:HV45 > 0, ROUNDDOWN(im2colAll_confW4!DA21:HV45/2^4, 0), ROUNDUP(im2colAll_confW4!DA21:HV45/2^4, 0))","v":-20},{"$f":"IF(im2colAll_confW4!DB21:HW45 > 0, ROUNDDOWN(im2colAll_confW4!DB21:HW45/2^4, 0), ROUNDUP(im2colAll_confW4!DB21:HW45/2^4, 0))","v":92},{"$f":"IF(im2colAll_confW4!DC21:HX45 > 0, ROUNDDOWN(im2colAll_confW4!DC21:HX45/2^4, 0), ROUNDUP(im2colAll_confW4!DC21:HX45/2^4, 0))","v":-17},{"$f":"IF(im2colAll_confW4!DD21:HY45 > 0, ROUNDDOWN(im2colAll_confW4!DD21:HY45/2^4, 0), ROUNDUP(im2colAll_confW4!DD21:HY45/2^4, 0))","v":6},{"$f":"IF(im2colAll_confW4!DE21:HZ45 > 0, ROUNDDOWN(im2colAll_confW4!DE21:HZ45/2^4, 0), ROUNDUP(im2colAll_confW4!DE21:HZ45/2^4, 0))","v":6},{"$f":"IF(im2colAll_confW4!DF21:IA45 > 0, ROUNDDOWN(im2colAll_confW4!DF21:IA45/2^4, 0), ROUNDUP(im2colAll_confW4!DF21:IA45/2^4, 0))","v":-9},{"$f":"IF(im2colAll_confW4!DG21:IB45 > 0, ROUNDDOWN(im2colAll_confW4!DG21:IB45/2^4, 0), ROUNDUP(im2colAll_confW4!DG21:IB45/2^4, 0))","v":-24},{"$f":"IF(im2colAll_confW4!DH21:IC45 > 0, ROUNDDOWN(im2colAll_confW4!DH21:IC45/2^4, 0), ROUNDUP(im2colAll_confW4!DH21:IC45/2^4, 0))","v":-17},{"$f":"IF(im2colAll_confW4!DI21:ID45 > 0, ROUNDDOWN(im2colAll_confW4!DI21:ID45/2^4, 0), ROUNDUP(im2colAll_confW4!DI21:ID45/2^4, 0))","v":-10},{"$f":"IF(im2colAll_confW4!DJ21:IE45 > 0, ROUNDDOWN(im2colAll_confW4!DJ21:IE45/2^4, 0), ROUNDUP(im2colAll_confW4!DJ21:IE45/2^4, 0))","v":-10},{"$f":"IF(im2colAll_confW4!DK21:IF45 > 0, ROUNDDOWN(im2colAll_confW4!DK21:IF45/2^4, 0), ROUNDUP(im2colAll_confW4!DK21:IF45/2^4, 0))","v":-3},{"$f":"IF(im2colAll_confW4!DL21:IG45 > 0, ROUNDDOWN(im2colAll_confW4!DL21:IG45/2^4, 0), ROUNDUP(im2colAll_confW4!DL21:IG45/2^4, 0))","v":2},{"$f":"IF(im2colAll_confW4!DM21:IH45 > 0, ROUNDDOWN(im2colAll_confW4!DM21:IH45/2^4, 0), ROUNDUP(im2colAll_confW4!DM21:IH45/2^4, 0))","v":-9},{"$f":"IF(im2colAll_confW4!DN21:II45 > 0, ROUNDDOWN(im2colAll_confW4!DN21:II45/2^4, 0), ROUNDUP(im2colAll_confW4!DN21:II45/2^4, 0))","v":-1},{"$f":"IF(im2colAll_confW4!DO21:IJ45 > 0, ROUNDDOWN(im2colAll_confW4!DO21:IJ45/2^4, 0), ROUNDUP(im2colAll_confW4!DO21:IJ45/2^4, 0))","v":10},{"$f":"IF(im2colAll_confW4!DP21:IK45 > 0, ROUNDDOWN(im2colAll_confW4!DP21:IK45/2^4, 0), ROUNDUP(im2colAll_confW4!DP21:IK45/2^4, 0))","v":-7},{"$f":"IF(im2colAll_confW4!DQ21:IL45 > 0, ROUNDDOWN(im2colAll_confW4!DQ21:IL45/2^4, 0), ROUNDUP(im2colAll_confW4!DQ21:IL45/2^4, 0))","v":27},{"$f":"IF(im2colAll_confW4!DR21:IM45 > 0, ROUNDDOWN(im2colAll_confW4!DR21:IM45/2^4, 0), ROUNDUP(im2colAll_confW4!DR21:IM45/2^4, 0))","v":-10},{"$f":"IF(im2colAll_confW4!DS21:IN45 > 0, ROUNDDOWN(im2colAll_confW4!DS21:IN45/2^4, 0), ROUNDUP(im2colAll_confW4!DS21:IN45/2^4, 0))","v":4},{"$f":"IF(im2colAll_confW4!DT21:IO45 > 0, ROUNDDOWN(im2colAll_confW4!DT21:IO45/2^4, 0), ROUNDUP(im2colAll_confW4!DT21:IO45/2^4, 0))","v":-1},{"$f":"IF(im2colAll_confW4!DU21:IP45 > 0, ROUNDDOWN(im2colAll_confW4!DU21:IP45/2^4, 0), ROUNDUP(im2colAll_confW4!DU21:IP45/2^4, 0))","v":-2},{"$f":"IF(im2colAll_confW4!DV21:IQ45 > 0, ROUNDDOWN(im2colAll_confW4!DV21:IQ45/2^4, 0), ROUNDUP(im2colAll_confW4!DV21:IQ45/2^4, 0))","v":-19}]
[{"$f":"IF(im2colAll_confW4!A22:DV46 > 0, ROUNDDOWN(im2colAll_confW4!A22:DV46/2^4, 0), ROUNDUP(im2colAll_confW4!A22:DV46/2^4, 0))","v":163},{"$f":"IF(im2colAll_confW4!B22:DW46 > 0, ROUNDDOWN(im2colAll_confW4!B22:DW46/2^4, 0), ROUNDUP(im2colAll_confW4!B22:DW46/2^4, 0))","v":-17},{"$f":"IF(im2colAll_confW4!C22:DX46 > 0, ROUNDDOWN(im2colAll_confW4!C22:DX46/2^4, 0), ROUNDUP(im2colAll_confW4!C22:DX46/2^4, 0))","v":21},{"$f":"IF(im2colAll_confW4!D22:DY46 > 0, ROUNDDOWN(im2colAll_confW4!D22:DY46/2^4, 0), ROUNDUP(im2colAll_confW4!D22:DY46/2^4, 0))","v":4},{"$f":"IF(im2colAll_confW4!E22:DZ46 > 0, ROUNDDOWN(im2colAll_confW4!E22:DZ46/2^4, 0), ROUNDUP(im2colAll_confW4!E22:DZ46/2^4, 0))","v":-7},{"$f":"IF(im2colAll_confW4!F22:EA46 > 0, ROUNDDOWN(im2colAll_confW4!F22:EA46/2^4, 0), ROUNDUP(im2colAll_confW4!F22:EA46/2^4, 0))","v":-34},{"$f":"IF(im2colAll_confW4!G22:EB46 > 0, ROUNDDOWN(im2colAll_confW4!G22:EB46/2^4, 0), ROUNDUP(im2colAll_confW4!G22:EB46/2^4, 0))","v":-48},{"$f":"IF(im2colAll_confW4!H22:EC46 > 0, ROUNDDOWN(im2colAll_confW4!H22:EC46/2^4, 0), ROUNDUP(im2colAll_confW4!H22:EC46/2^4, 0))","v":-32},{"$f":"IF(im2colAll_confW4!I22:ED46 > 0, ROUNDDOWN(im2colAll_confW4!I22:ED46/2^4, 0), ROUNDUP(im2colAll_confW4!I22:ED46/2^4, 0))","v":-23},{"$f":"IF(im2colAll_confW4!J22:EE46 > 0, ROUNDDOWN(im2colAll_confW4!J22:EE46/2^4, 0), ROUNDUP(im2colAll_confW4!J22:EE46/2^4, 0))","v":7},{"$f":"IF(im2colAll_confW4!K22:EF46 > 0, ROUNDDOWN(im2colAll_confW4!K22:EF46/2^4, 0), ROUNDUP(im2colAll_confW4!K22:EF46/2^4, 0))","v":-12},{"$f":"IF(im2colAll_confW4!L22:EG46 > 0, ROUNDDOWN(im2colAll_confW4!L22:EG46/2^4, 0), ROUNDUP(im2colAll_confW4!L22:EG46/2^4, 0))","v":-12},{"$f":"IF(im2colAll_confW4!M22:EH46 > 0, ROUNDDOWN(im2colAll_confW4!M22:EH46/2^4, 0), ROUNDUP(im2colAll_confW4!M22:EH46/2^4, 0))","v":20},{"$f":"IF(im2colAll_confW4!N22:EI46 > 0, ROUNDDOWN(im2colAll_confW4!N22:EI46/2^4, 0), ROUNDUP(im2colAll_confW4!N22:EI46/2^4, 0))","v":30},{"$f":"IF(im2colAll_confW4!O22:EJ46 > 0, ROUNDDOWN(im2colAll_confW4!O22:EJ46/2^4, 0), ROUNDUP(im2colAll_confW4!O22:EJ46/2^4, 0))","v":-5},{"$f":"IF(im2colAll_confW4!P22:EK46 > 0, ROUNDDOWN(im2colAll_confW4!P22:EK46/2^4, 0), ROUNDUP(im2colAll_confW4!P22:EK46/2^4, 0))","v":42},{"$f":"IF(im2colAll_confW4!Q22:EL46 > 0, ROUNDDOWN(im2colAll_confW4!Q22:EL46/2^4, 0), ROUNDUP(im2colAll_confW4!Q22:EL46/2^4, 0))","v":-26},{"$f":"IF(im2colAll_confW4!R22:EM46 > 0, ROUNDDOWN(im2colAll_confW4!R22:EM46/2^4, 0), ROUNDUP(im2colAll_confW4!R22:EM46/2^4, 0))","v":-5},{"$f":"IF(im2colAll_confW4!S22:EN46 > 0, ROUNDDOWN(im2colAll_confW4!S22:EN46/2^4, 0), ROUNDUP(im2colAll_confW4!S22:EN46/2^4, 0))","v":12},{"$f":"IF(im2colAll_confW4!T22:EO46 > 0, ROUNDDOWN(im2colAll_confW4!T22:EO46/2^4, 0), ROUNDUP(im2colAll_confW4!T22:EO46/2^4, 0))","v":-8},{"$f":"IF(im2colAll_confW4!U22:EP46 > 0, ROUNDDOWN(im2colAll_confW4!U22:EP46/2^4, 0), ROUNDUP(im2colAll_confW4!U22:EP46/2^4, 0))","v":-58},{"$f":"IF(im2colAll_confW4!V22:EQ46 > 0, ROUNDDOWN(im2colAll_confW4!V22:EQ46/2^4, 0), ROUNDUP(im2colAll_confW4!V22:EQ46/2^4, 0))","v":156},{"$f":"IF(im2colAll_confW4!W22:ER46 > 0, ROUNDDOWN(im2colAll_confW4!W22:ER46/2^4, 0), ROUNDUP(im2colAll_confW4!W22:ER46/2^4, 0))","v":-24},{"$f":"IF(im2colAll_confW4!X22:ES46 > 0, ROUNDDOWN(im2colAll_confW4!X22:ES46/2^4, 0), ROUNDUP(im2colAll_confW4!X22:ES46/2^4, 0))","v":14},{"$f":"IF(im2colAll_confW4!Y22:ET46 > 0, ROUNDDOWN(im2colAll_confW4!Y22:ET46/2^4, 0), ROUNDUP(im2colAll_confW4!Y22:ET46/2^4, 0))","v":7},{"$f":"IF(im2colAll_confW4!Z22:EU46 > 0, ROUNDDOWN(im2colAll_confW4!Z22:EU46/2^4, 0), ROUNDUP(im2colAll_confW4!Z22:EU46/2^4, 0))","v":-5},{"$f":"IF(im2colAll_confW4!AA22:EV46 > 0, ROUNDDOWN(im2colAll_confW4!AA22:EV46/2^4, 0), ROUNDUP(im2colAll_confW4!AA22:EV46/2^4, 0))","v":-61},{"$f":"IF(im2colAll_confW4!AB22:EW46 > 0, ROUNDDOWN(im2colAll_confW4!AB22:EW46/2^4, 0), ROUNDUP(im2colAll_confW4!AB22:EW46/2^4, 0))","v":-43},{"$f":"IF(im2colAll_confW4!AC22:EX46 > 0, ROUNDDOWN(im2colAll_confW4!AC22:EX46/2^4, 0), ROUNDUP(im2colAll_confW4!AC22:EX46/2^4, 0))","v":-24},{"$f":"IF(im2colAll_confW4!AD22:EY46 > 0, ROUNDDOWN(im2colAll_confW4!AD22:EY46/2^4, 0), ROUNDUP(im2colAll_confW4!AD22:EY46/2^4, 0))","v":-36},{"$f":"IF(im2colAll_confW4!AE22:EZ46 > 0, ROUNDDOWN(im2colAll_confW4!AE22:EZ46/2^4, 0), ROUNDUP(im2colAll_confW4!AE22:EZ46/2^4, 0))","v":-1},{"$f":"IF(im2colAll_confW4!AF22:FA46 > 0, ROUNDDOWN(im2colAll_confW4!AF22:FA46/2^4, 0), ROUNDUP(im2colAll_confW4!AF22:FA46/2^4, 0))","v":5},{"$f":"IF(im2colAll_confW4!AG22:FB46 > 0, ROUNDDOWN(im2colAll_confW4!AG22:FB46/2^4, 0), ROUNDUP(im2colAll_confW4!AG22:FB46/2^4, 0))","v":-4},{"$f":"IF(im2colAll_confW4!AH22:FC46 > 0, ROUNDDOWN(im2colAll_confW4!AH22:FC46/2^4, 0), ROUNDUP(im2colAll_confW4!AH22:FC46/2^4, 0))","v":23},{"$f":"IF(im2colAll_confW4!AI22:FD46 > 0, ROUNDDOWN(im2colAll_confW4!AI22:FD46/2^4, 0), ROUNDUP(im2colAll_confW4!AI22:FD46/2^4, 0))","v":19},{"$f":"IF(im2colAll_confW4!AJ22:FE46 > 0, ROUNDDOWN(im2colAll_confW4!AJ22:FE46/2^4, 0), ROUNDUP(im2colAll_confW4!AJ22:FE46/2^4, 0))","v":-6},{"$f":"IF(im2colAll_confW4!AK22:FF46 > 0, ROUNDDOWN(im2colAll_confW4!AK22:FF46/2^4, 0), ROUNDUP(im2colAll_confW4!AK22:FF46/2^4, 0))","v":42},{"$f":"IF(im2colAll_confW4!AL22:FG46 > 0, ROUNDDOWN(im2colAll_confW4!AL22:FG46/2^4, 0), ROUNDUP(im2colAll_confW4!AL22:FG46/2^4, 0))","v":-8},{"$f":"IF(im2colAll_confW4!AM22:FH46 > 0, ROUNDDOWN(im2colAll_confW4!AM22:FH46/2^4, 0), ROUNDUP(im2colAll_confW4!AM22:FH46/2^4, 0))","v":4},{"$f":"IF(im2colAll_confW4!AN22:FI46 > 0, ROUNDDOWN(im2colAll_confW4!AN22:FI46/2^4, 0), ROUNDUP(im2colAll_confW4!AN22:FI46/2^4, 0))","v":5},{"$f":"IF(im2colAll_confW4!AO22:FJ46 > 0, ROUNDDOWN(im2colAll_confW4!AO22:FJ46/2^4, 0), ROUNDUP(im2colAll_confW4!AO22:FJ46/2^4, 0))","v":-26},{"$f":"IF(im2colAll_confW4!AP22:FK46 > 0, ROUNDDOWN(im2colAll_confW4!AP22:FK46/2^4, 0), ROUNDUP(im2colAll_confW4!AP22:FK46/2^4, 0))","v":-46},{"$f":"IF(im2colAll_confW4!AQ22:FL46 > 0, ROUNDDOWN(im2colAll_confW4!AQ22:FL46/2^4, 0), ROUNDUP(im2colAll_confW4!AQ22:FL46/2^4, 0))","v":140},{"$f":"IF(im2colAll_confW4!AR22:FM46 > 0, ROUNDDOWN(im2colAll_confW4!AR22:FM46/2^4, 0), ROUNDUP(im2colAll_confW4!AR22:FM46/2^4, 0))","v":-35},{"$f":"IF(im2colAll_confW4!AS22:FN46 > 0, ROUNDDOWN(im2colAll_confW4!AS22:FN46/2^4, 0), ROUNDUP(im2colAll_confW4!AS22:FN46/2^4, 0))","v":2},{"$f":"IF(im2colAll_confW4!AT22:FO46 > 0, ROUNDDOWN(im2colAll_confW4!AT22:FO46/2^4, 0), ROUNDUP(im2colAll_confW4!AT22:FO46/2^4, 0))","v":-4},{"$f":"IF(im2colAll_confW4!AU22:FP46 > 0, ROUNDDOWN(im2colAll_confW4!AU22:FP46/2^4, 0), ROUNDUP(im2colAll_confW4!AU22:FP46/2^4, 0))","v":-20},{"$f":"IF(im2colAll_confW4!AV22:FQ46 > 0, ROUNDDOWN(im2colAll_confW4!AV22:FQ46/2^4, 0), ROUNDUP(im2colAll_confW4!AV22:FQ46/2^4, 0))","v":-31},{"$f":"IF(im2colAll_confW4!AW22:FR46 > 0, ROUNDDOWN(im2colAll_confW4!AW22:FR46/2^4, 0), ROUNDUP(im2colAll_confW4!AW22:FR46/2^4, 0))","v":-41},{"$f":"IF(im2colAll_confW4!AX22:FS46 > 0, ROUNDDOWN(im2colAll_confW4!AX22:FS46/2^4, 0), ROUNDUP(im2colAll_confW4!AX22:FS46/2^4, 0))","v":-28},{"$f":"IF(im2colAll_confW4!AY22:FT46 > 0, ROUNDDOWN(im2colAll_confW4!AY22:FT46/2^4, 0), ROUNDUP(im2colAll_confW4!AY22:FT46/2^4, 0))","v":-41},{"$f":"IF(im2colAll_confW4!AZ22:FU46 > 0, ROUNDDOWN(im2colAll_confW4!AZ22:FU46/2^4, 0), ROUNDUP(im2colAll_confW4!AZ22:FU46/2^4, 0))","v":-17},{"$f":"IF(im2colAll_confW4!BA22:FV46 > 0, ROUNDDOWN(im2colAll_confW4!BA22:FV46/2^4, 0), ROUNDUP(im2colAll_confW4!BA22:FV46/2^4, 0))","v":-6},{"$f":"IF(im2colAll_confW4!BB22:FW46 > 0, ROUNDDOWN(im2colAll_confW4!BB22:FW46/2^4, 0), ROUNDUP(im2colAll_confW4!BB22:FW46/2^4, 0))","v":10},{"$f":"IF(im2colAll_confW4!BC22:FX46 > 0, ROUNDDOWN(im2colAll_confW4!BC22:FX46/2^4, 0), ROUNDUP(im2colAll_confW4!BC22:FX46/2^4, 0))","v":22},{"$f":"IF(im2colAll_confW4!BD22:FY46 > 0, ROUNDDOWN(im2colAll_confW4!BD22:FY46/2^4, 0), ROUNDUP(im2colAll_confW4!BD22:FY46/2^4, 0))","v":14},{"$f":"IF(im2colAll_confW4!BE22:FZ46 > 0, ROUNDDOWN(im2colAll_confW4!BE22:FZ46/2^4, 0), ROUNDUP(im2colAll_confW4!BE22:FZ46/2^4, 0))","v":-18},{"$f":"IF(im2colAll_confW4!BF22:GA46 > 0, ROUNDDOWN(im2colAll_confW4!BF22:GA46/2^4, 0), ROUNDUP(im2colAll_confW4!BF22:GA46/2^4, 0))","v":33},{"$f":"IF(im2colAll_confW4!BG22:GB46 > 0, ROUNDDOWN(im2colAll_confW4!BG22:GB46/2^4, 0), ROUNDUP(im2colAll_confW4!BG22:GB46/2^4, 0))","v":-7},{"$f":"IF(im2colAll_confW4!BH22:GC46 > 0, ROUNDDOWN(im2colAll_confW4!BH22:GC46/2^4, 0), ROUNDUP(im2colAll_confW4!BH22:GC46/2^4, 0))","v":0},{"$f":"IF(im2colAll_confW4!BI22:GD46 > 0, ROUNDDOWN(im2colAll_confW4!BI22:GD46/2^4, 0), ROUNDUP(im2colAll_confW4!BI22:GD46/2^4, 0))","v":-4},{"$f":"IF(im2colAll_confW4!BJ22:GE46 > 0, ROUNDDOWN(im2colAll_confW4!BJ22:GE46/2^4, 0), ROUNDUP(im2colAll_confW4!BJ22:GE46/2^4, 0))","v":-25},{"$f":"IF(im2colAll_confW4!BK22:GF46 > 0, ROUNDDOWN(im2colAll_confW4!BK22:GF46/2^4, 0), ROUNDUP(im2colAll_confW4!BK22:GF46/2^4, 0))","v":-33},{"$f":"IF(im2colAll_confW4!BL22:GG46 > 0, ROUNDDOWN(im2colAll_confW4!BL22:GG46/2^4, 0), ROUNDUP(im2colAll_confW4!BL22:GG46/2^4, 0))","v":151},{"$f":"IF(im2colAll_confW4!BM22:GH46 > 0, ROUNDDOWN(im2colAll_confW4!BM22:GH46/2^4, 0), ROUNDUP(im2colAll_confW4!BM22:GH46/2^4, 0))","v":-6},{"$f":"IF(im2colAll_confW4!BN22:GI46 > 0, ROUNDDOWN(im2colAll_confW4!BN22:GI46/2^4, 0), ROUNDUP(im2colAll_confW4!BN22:GI46/2^4, 0))","v":2},{"$f":"IF(im2colAll_confW4!BO22:GJ46 > 0, ROUNDDOWN(im2colAll_confW4!BO22:GJ46/2^4, 0), ROUNDUP(im2colAll_confW4!BO22:GJ46/2^4, 0))","v":18},{"$f":"IF(im2colAll_confW4!BP22:GK46 > 0, ROUNDDOWN(im2colAll_confW4!BP22:GK46/2^4, 0), ROUNDUP(im2colAll_confW4!BP22:GK46/2^4, 0))","v":-21},{"$f":"IF(im2colAll_confW4!BQ22:GL46 > 0, ROUNDDOWN(im2colAll_confW4!BQ22:GL46/2^4, 0), ROUNDUP(im2colAll_confW4!BQ22:GL46/2^4, 0))","v":-39},{"$f":"IF(im2colAll_confW4!BR22:GM46 > 0, ROUNDDOWN(im2colAll_confW4!BR22:GM46/2^4, 0), ROUNDUP(im2colAll_confW4!BR22:GM46/2^4, 0))","v":-27},{"$f":"IF(im2colAll_confW4!BS22:GN46 > 0, ROUNDDOWN(im2colAll_confW4!BS22:GN46/2^4, 0), ROUNDUP(im2colAll_confW4!BS22:GN46/2^4, 0))","v":-14},{"$f":"IF(im2colAll_confW4!BT22:GO46 > 0, ROUNDDOWN(im2colAll_confW4!BT22:GO46/2^4, 0), ROUNDUP(im2colAll_confW4!BT22:GO46/2^4, 0))","v":-32},{"$f":"IF(im2colAll_confW4!BU22:GP46 > 0, ROUNDDOWN(im2colAll_confW4!BU22:GP46/2^4, 0), ROUNDUP(im2colAll_confW4!BU22:GP46/2^4, 0))","v":-1},{"$f":"IF(im2colAll_confW4!BV22:GQ46 > 0, ROUNDDOWN(im2colAll_confW4!BV22:GQ46/2^4, 0), ROUNDUP(im2colAll_confW4!BV22:GQ46/2^4, 0))","v":1},{"$f":"IF(im2colAll_confW4!BW22:GR46 > 0, ROUNDDOWN(im2colAll_confW4!BW22:GR46/2^4, 0), ROUNDUP(im2colAll_confW4!BW22:GR46/2^4, 0))","v":-12},{"$f":"IF(im2colAll_confW4!BX22:GS46 > 0, ROUNDDOWN(im2colAll_confW4!BX22:GS46/2^4, 0), ROUNDUP(im2colAll_confW4!BX22:GS46/2^4, 0))","v":21},{"$f":"IF(im2colAll_confW4!BY22:GT46 > 0, ROUNDDOWN(im2colAll_confW4!BY22:GT46/2^4, 0), ROUNDUP(im2colAll_confW4!BY22:GT46/2^4, 0))","v":14},{"$f":"IF(im2colAll_confW4!BZ22:GU46 > 0, ROUNDDOWN(im2colAll_confW4!BZ22:GU46/2^4, 0), ROUNDUP(im2colAll_confW4!BZ22:GU46/2^4, 0))","v":-13},{"$f":"IF(im2colAll_confW4!CA22:GV46 > 0, ROUNDDOWN(im2colAll_confW4!CA22:GV46/2^4, 0), ROUNDUP(im2colAll_confW4!CA22:GV46/2^4, 0))","v":54},{"$f":"IF(im2colAll_confW4!CB22:GW46 > 0, ROUNDDOWN(im2colAll_confW4!CB22:GW46/2^4, 0), ROUNDUP(im2colAll_confW4!CB22:GW46/2^4, 0))","v":0},{"$f":"IF(im2colAll_confW4!CC22:GX46 > 0, ROUNDDOWN(im2colAll_confW4!CC22:GX46/2^4, 0), ROUNDUP(im2colAll_confW4!CC22:GX46/2^4, 0))","v":2},{"$f":"IF(im2colAll_confW4!CD22:GY46 > 0, ROUNDDOWN(im2colAll_confW4!CD22:GY46/2^4, 0), ROUNDUP(im2colAll_confW4!CD22:GY46/2^4, 0))","v":7},{"$f":"IF(im2colAll_confW4!CE22:GZ46 > 0, ROUNDDOWN(im2colAll_confW4!CE22:GZ46/2^4, 0), ROUNDUP(im2colAll_confW4!CE22:GZ46/2^4, 0))","v":-14},{"$f":"IF(im2colAll_confW4!CF22:HA46 > 0, ROUNDDOWN(im2colAll_confW4!CF22:HA46/2^4, 0), ROUNDUP(im2colAll_confW4!CF22:HA46/2^4, 0))","v":-29},{"$f":"IF(im2colAll_confW4!CG22:HB46 > 0, ROUNDDOWN(im2colAll_confW4!CG22:HB46/2^4, 0), ROUNDUP(im2colAll_confW4!CG22:HB46/2^4, 0))","v":147},{"$f":"IF(im2colAll_confW4!CH22:HC46 > 0, ROUNDDOWN(im2colAll_confW4!CH22:HC46/2^4, 0), ROUNDUP(im2colAll_confW4!CH22:HC46/2^4, 0))","v":-27},{"$f":"IF(im2colAll_confW4!CI22:HD46 > 0, ROUNDDOWN(im2colAll_confW4!CI22:HD46/2^4, 0), ROUNDUP(im2colAll_confW4!CI22:HD46/2^4, 0))","v":4},{"$f":"IF(im2colAll_confW4!CJ22:HE46 > 0, ROUNDDOWN(im2colAll_confW4!CJ22:HE46/2^4, 0), ROUNDUP(im2colAll_confW4!CJ22:HE46/2^4, 0))","v":3},{"$f":"IF(im2colAll_confW4!CK22:HF46 > 0, ROUNDDOWN(im2colAll_confW4!CK22:HF46/2^4, 0), ROUNDUP(im2colAll_confW4!CK22:HF46/2^4, 0))","v":2},{"$f":"IF(im2colAll_confW4!CL22:HG46 > 0, ROUNDDOWN(im2colAll_confW4!CL22:HG46/2^4, 0), ROUNDUP(im2colAll_confW4!CL22:HG46/2^4, 0))","v":-20},{"$f":"IF(im2colAll_confW4!CM22:HH46 > 0, ROUNDDOWN(im2colAll_confW4!CM22:HH46/2^4, 0), ROUNDUP(im2colAll_confW4!CM22:HH46/2^4, 0))","v":-30},{"$f":"IF(im2colAll_confW4!CN22:HI46 > 0, ROUNDDOWN(im2colAll_confW4!CN22:HI46/2^4, 0), ROUNDUP(im2colAll_confW4!CN22:HI46/2^4, 0))","v":-25},{"$f":"IF(im2colAll_confW4!CO22:HJ46 > 0, ROUNDDOWN(im2colAll_confW4!CO22:HJ46/2^4, 0), ROUNDUP(im2colAll_confW4!CO22:HJ46/2^4, 0))","v":-10},{"$f":"IF(im2colAll_confW4!CP22:HK46 > 0, ROUNDDOWN(im2colAll_confW4!CP22:HK46/2^4, 0), ROUNDUP(im2colAll_confW4!CP22:HK46/2^4, 0))","v":-13},{"$f":"IF(im2colAll_confW4!CQ22:HL46 > 0, ROUNDDOWN(im2colAll_confW4!CQ22:HL46/2^4, 0), ROUNDUP(im2colAll_confW4!CQ22:HL46/2^4, 0))","v":5},{"$f":"IF(im2colAll_confW4!CR22:HM46 > 0, ROUNDDOWN(im2colAll_confW4!CR22:HM46/2^4, 0), ROUNDUP(im2colAll_confW4!CR22:HM46/2^4, 0))","v":9},{"$f":"IF(im2colAll_confW4!CS22:HN46 > 0, ROUNDDOWN(im2colAll_confW4!CS22:HN46/2^4, 0), ROUNDUP(im2colAll_confW4!CS22:HN46/2^4, 0))","v":6},{"$f":"IF(im2colAll_confW4!CT22:HO46 > 0, ROUNDDOWN(im2colAll_confW4!CT22:HO46/2^4, 0), ROUNDUP(im2colAll_confW4!CT22:HO46/2^4, 0))","v":22},{"$f":"IF(im2colAll_confW4!CU22:HP46 > 0, ROUNDDOWN(im2colAll_confW4!CU22:HP46/2^4, 0), ROUNDUP(im2colAll_confW4!CU22:HP46/2^4, 0))","v":7},{"$f":"IF(im2colAll_confW4!CV22:HQ46 > 0, ROUNDDOWN(im2colAll_confW4!CV22:HQ46/2^4, 0), ROUNDUP(im2colAll_confW4!CV22:HQ46/2^4, 0))","v":18},{"$f":"IF(im2colAll_confW4!CW22:HR46 > 0, ROUNDDOWN(im2colAll_confW4!CW22:HR46/2^4, 0), ROUNDUP(im2colAll_confW4!CW22:HR46/2^4, 0))","v":5},{"$f":"IF(im2colAll_confW4!CX22:HS46 > 0, ROUNDDOWN(im2colAll_confW4!CX22:HS46/2^4, 0), ROUNDUP(im2colAll_confW4!CX22:HS46/2^4, 0))","v":10},{"$f":"IF(im2colAll_confW4!CY22:HT46 > 0, ROUNDDOWN(im2colAll_confW4!CY22:HT46/2^4, 0), ROUNDUP(im2colAll_confW4!CY22:HT46/2^4, 0))","v":-3},{"$f":"IF(im2colAll_confW4!CZ22:HU46 > 0, ROUNDDOWN(im2colAll_confW4!CZ22:HU46/2^4, 0), ROUNDUP(im2colAll_confW4!CZ22:HU46/2^4, 0))","v":-7},{"$f":"IF(im2colAll_confW4!DA22:HV46 > 0, ROUNDDOWN(im2colAll_confW4!DA22:HV46/2^4, 0), ROUNDUP(im2colAll_confW4!DA22:HV46/2^4, 0))","v":-32},{"$f":"IF(im2colAll_confW4!DB22:HW46 > 0, ROUNDDOWN(im2colAll_confW4!DB22:HW46/2^4, 0), ROUNDUP(im2colAll_confW4!DB22:HW46/2^4, 0))","v":139},{"$f":"IF(im2colAll_confW4!DC22:HX46 > 0, ROUNDDOWN(im2colAll_confW4!DC22:HX46/2^4, 0), ROUNDUP(im2colAll_confW4!DC22:HX46/2^4, 0))","v":-35},{"$f":"IF(im2colAll_confW4!DD22:HY46 > 0, ROUNDDOWN(im2colAll_confW4!DD22:HY46/2^4, 0), ROUNDUP(im2colAll_confW4!DD22:HY46/2^4, 0))","v":12},{"$f":"IF(im2colAll_confW4!DE22:HZ46 > 0, ROUNDDOWN(im2colAll_confW4!DE22:HZ46/2^4, 0), ROUNDUP(im2colAll_confW4!DE22:HZ46/2^4, 0))","v":14},{"$f":"IF(im2colAll_confW4!DF22:IA46 > 0, ROUNDDOWN(im2colAll_confW4!DF22:IA46/2^4, 0), ROUNDUP(im2colAll_confW4!DF22:IA46/2^4, 0))","v":-28},{"$f":"IF(im2colAll_confW4!DG22:IB46 > 0, ROUNDDOWN(im2colAll_confW4!DG22:IB46/2^4, 0), ROUNDUP(im2colAll_confW4!DG22:IB46/2^4, 0))","v":-57},{"$f":"IF(im2colAll_confW4!DH22:IC46 > 0, ROUNDDOWN(im2colAll_confW4!DH22:IC46/2^4, 0), ROUNDUP(im2colAll_confW4!DH22:IC46/2^4, 0))","v":-32},{"$f":"IF(im2colAll_confW4!DI22:ID46 > 0, ROUNDDOWN(im2colAll_confW4!DI22:ID46/2^4, 0), ROUNDUP(im2colAll_confW4!DI22:ID46/2^4, 0))","v":-13},{"$f":"IF(im2colAll_confW4!DJ22:IE46 > 0, ROUNDDOWN(im2colAll_confW4!DJ22:IE46/2^4, 0), ROUNDUP(im2colAll_confW4!DJ22:IE46/2^4, 0))","v":-16},{"$f":"IF(im2colAll_confW4!DK22:IF46 > 0, ROUNDDOWN(im2colAll_confW4!DK22:IF46/2^4, 0), ROUNDUP(im2colAll_confW4!DK22:IF46/2^4, 0))","v":-4},{"$f":"IF(im2colAll_confW4!DL22:IG46 > 0, ROUNDDOWN(im2colAll_confW4!DL22:IG46/2^4, 0), ROUNDUP(im2colAll_confW4!DL22:IG46/2^4, 0))","v":2},{"$f":"IF(im2colAll_confW4!DM22:IH46 > 0, ROUNDDOWN(im2colAll_confW4!DM22:IH46/2^4, 0), ROUNDUP(im2colAll_confW4!DM22:IH46/2^4, 0))","v":-18},{"$f":"IF(im2colAll_confW4!DN22:II46 > 0, ROUNDDOWN(im2colAll_confW4!DN22:II46/2^4, 0), ROUNDUP(im2colAll_confW4!DN22:II46/2^4, 0))","v":6},{"$f":"IF(im2colAll_confW4!DO22:IJ46 > 0, ROUNDDOWN(im2colAll_confW4!DO22:IJ46/2^4, 0), ROUNDUP(im2colAll_confW4!DO22:IJ46/2^4, 0))","v":19},{"$f":"IF(im2colAll_confW4!DP22:IK46 > 0, ROUNDDOWN(im2colAll_confW4!DP22:IK46/2^4, 0), ROUNDUP(im2colAll_confW4!DP22:IK46/2^4, 0))","v":-20},{"$f":"IF(im2colAll_confW4!DQ22:IL46 > 0, ROUNDDOWN(im2colAll_confW4!DQ22:IL46/2^4, 0), ROUNDUP(im2colAll_confW4!DQ22:IL46/2^4, 0))","v":31},{"$f":"IF(im2colAll_confW4!DR22:IM46 > 0, ROUNDDOWN(im2colAll_confW4!DR22:IM46/2^4, 0), ROUNDUP(im2colAll_confW4!DR22:IM46/2^4, 0))","v":-14},{"$f":"IF(im2colAll_confW4!DS22:IN46 > 0, ROUNDDOWN(im2colAll_confW4!DS22:IN46/2^4, 0), ROUNDUP(im2colAll_confW4!DS22:IN46/2^4, 0))","v":7},{"$f":"IF(im2colAll_confW4!DT22:IO46 > 0, ROUNDDOWN(im2colAll_confW4!DT22:IO46/2^4, 0), ROUNDUP(im2colAll_confW4!DT22:IO46/2^4, 0))","v":-3},{"$f":"IF(im2colAll_confW4!DU22:IP46 > 0, ROUNDDOWN(im2colAll_confW4!DU22:IP46/2^4, 0), ROUNDUP(im2colAll_confW4!DU22:IP46/2^4, 0))","v":-14},{"$f":"IF(im2colAll_confW4!DV22:IQ46 > 0, ROUNDDOWN(im2colAll_confW4!DV22:IQ46/2^4, 0), ROUNDUP(im2colAll_confW4!DV22:IQ46/2^4, 0))","v":-42}]
[{"$f":"IF(im2colAll_confW4!A23:DV47 > 0, ROUNDDOWN(im2colAll_confW4!A23:DV47/2^4, 0), ROUNDUP(im2colAll_confW4!A23:DV47/2^4, 0))","v":158},{"$f":"IF(im2colAll_confW4!B23:DW47 > 0, ROUNDDOWN(im2colAll_confW4!B23:DW47/2^4, 0), ROUNDUP(im2colAll_confW4!B23:DW47/2^4, 0))","v":-6},{"$f":"IF(im2colAll_confW4!C23:DX47 > 0, ROUNDDOWN(im2colAll_confW4!C23:DX47/2^4, 0), ROUNDUP(im2colAll_confW4!C23:DX47/2^4, 0))","v":20},{"$f":"IF(im2colAll_confW4!D23:DY47 > 0, ROUNDDOWN(im2colAll_confW4!D23:DY47/2^4, 0), ROUNDUP(im2colAll_confW4!D23:DY47/2^4, 0))","v":11},{"$f":"IF(im2colAll_confW4!E23:DZ47 > 0, ROUNDDOWN(im2colAll_confW4!E23:DZ47/2^4, 0), ROUNDUP(im2colAll_confW4!E23:DZ47/2^4, 0))","v":-11},{"$f":"IF(im2colAll_confW4!F23:EA47 > 0, ROUNDDOWN(im2colAll_confW4!F23:EA47/2^4, 0), ROUNDUP(im2colAll_confW4!F23:EA47/2^4, 0))","v":-52},{"$f":"IF(im2colAll_confW4!G23:EB47 > 0, ROUNDDOWN(im2colAll_confW4!G23:EB47/2^4, 0), ROUNDUP(im2colAll_confW4!G23:EB47/2^4, 0))","v":-51},{"$f":"IF(im2colAll_confW4!H23:EC47 > 0, ROUNDDOWN(im2colAll_confW4!H23:EC47/2^4, 0), ROUNDUP(im2colAll_confW4!H23:EC47/2^4, 0))","v":-28},{"$f":"IF(im2colAll_confW4!I23:ED47 > 0, ROUNDDOWN(im2colAll_confW4!I23:ED47/2^4, 0), ROUNDUP(im2colAll_confW4!I23:ED47/2^4, 0))","v":-17},{"$f":"IF(im2colAll_confW4!J23:EE47 > 0, ROUNDDOWN(im2colAll_confW4!J23:EE47/2^4, 0), ROUNDUP(im2colAll_confW4!J23:EE47/2^4, 0))","v":-10},{"$f":"IF(im2colAll_confW4!K23:EF47 > 0, ROUNDDOWN(im2colAll_confW4!K23:EF47/2^4, 0), ROUNDUP(im2colAll_confW4!K23:EF47/2^4, 0))","v":3},{"$f":"IF(im2colAll_confW4!L23:EG47 > 0, ROUNDDOWN(im2colAll_confW4!L23:EG47/2^4, 0), ROUNDUP(im2colAll_confW4!L23:EG47/2^4, 0))","v":-24},{"$f":"IF(im2colAll_confW4!M23:EH47 > 0, ROUNDDOWN(im2colAll_confW4!M23:EH47/2^4, 0), ROUNDUP(im2colAll_confW4!M23:EH47/2^4, 0))","v":27},{"$f":"IF(im2colAll_confW4!N23:EI47 > 0, ROUNDDOWN(im2colAll_confW4!N23:EI47/2^4, 0), ROUNDUP(im2colAll_confW4!N23:EI47/2^4, 0))","v":45},{"$f":"IF(im2colAll_confW4!O23:EJ47 > 0, ROUNDDOWN(im2colAll_confW4!O23:EJ47/2^4, 0), ROUNDUP(im2colAll_confW4!O23:EJ47/2^4, 0))","v":-9},{"$f":"IF(im2colAll_confW4!P23:EK47 > 0, ROUNDDOWN(im2colAll_confW4!P23:EK47/2^4, 0), ROUNDUP(im2colAll_confW4!P23:EK47/2^4, 0))","v":31},{"$f":"IF(im2colAll_confW4!Q23:EL47 > 0, ROUNDDOWN(im2colAll_confW4!Q23:EL47/2^4, 0), ROUNDUP(im2colAll_confW4!Q23:EL47/2^4, 0))","v":-21},{"$f":"IF(im2colAll_confW4!R23:EM47 > 0, ROUNDDOWN(im2colAll_confW4!R23:EM47/2^4, 0), ROUNDUP(im2colAll_confW4!R23:EM47/2^4, 0))","v":19},{"$f":"IF(im2colAll_confW4!S23:EN47 > 0, ROUNDDOWN(im2colAll_confW4!S23:EN47/2^4, 0), ROUNDUP(im2colAll_confW4!S23:EN47/2^4, 0))","v":11},{"$f":"IF(im2colAll_confW4!T23:EO47 > 0, ROUNDDOWN(im2colAll_confW4!T23:EO47/2^4, 0), ROUNDUP(im2colAll_confW4!T23:EO47/2^4, 0))","v":-15},{"$f":"IF(im2colAll_confW4!U23:EP47 > 0, ROUNDDOWN(im2colAll_confW4!U23:EP47/2^4, 0), ROUNDUP(im2colAll_confW4!U23:EP47/2^4, 0))","v":-69},{"$f":"IF(im2colAll_confW4!V23:EQ47 > 0, ROUNDDOWN(im2colAll_confW4!V23:EQ47/2^4, 0), ROUNDUP(im2colAll_confW4!V23:EQ47/2^4, 0))","v":148},{"$f":"IF(im2colAll_confW4!W23:ER47 > 0, ROUNDDOWN(im2colAll_confW4!W23:ER47/2^4, 0), ROUNDUP(im2colAll_confW4!W23:ER47/2^4, 0))","v":-16},{"$f":"IF(im2colAll_confW4!X23:ES47 > 0, ROUNDDOWN(im2colAll_confW4!X23:ES47/2^4, 0), ROUNDUP(im2colAll_confW4!X23:ES47/2^4, 0))","v":17},{"$f":"IF(im2colAll_confW4!Y23:ET47 > 0, ROUNDDOWN(im2colAll_confW4!Y23:ET47/2^4, 0), ROUNDUP(im2colAll_confW4!Y23:ET47/2^4, 0))","v":19},{"$f":"IF(im2colAll_confW4!Z23:EU47 > 0, ROUNDDOWN(im2colAll_confW4!Z23:EU47/2^4, 0), ROUNDUP(im2colAll_confW4!Z23:EU47/2^4, 0))","v":-15},{"$f":"IF(im2colAll_confW4!AA23:EV47 > 0, ROUNDDOWN(im2colAll_confW4!AA23:EV47/2^4, 0), ROUNDUP(im2colAll_confW4!AA23:EV47/2^4, 0))","v":-70},{"$f":"IF(im2colAll_confW4!AB23:EW47 > 0, ROUNDDOWN(im2colAll_confW4!AB23:EW47/2^4, 0), ROUNDUP(im2colAll_confW4!AB23:EW47/2^4, 0))","v":-51},{"$f":"IF(im2colAll_confW4!AC23:EX47 > 0, ROUNDDOWN(im2colAll_confW4!AC23:EX47/2^4, 0), ROUNDUP(im2colAll_confW4!AC23:EX47/2^4, 0))","v":-18},{"$f":"IF(im2colAll_confW4!AD23:EY47 > 0, ROUNDDOWN(im2colAll_confW4!AD23:EY47/2^4, 0), ROUNDUP(im2colAll_confW4!AD23:EY47/2^4, 0))","v":-23},{"$f":"IF(im2colAll_confW4!AE23:EZ47 > 0, ROUNDDOWN(im2colAll_confW4!AE23:EZ47/2^4, 0), ROUNDUP(im2colAll_confW4!AE23:EZ47/2^4, 0))","v":-2},{"$f":"IF(im2colAll_confW4!AF23:FA47 > 0, ROUNDDOWN(im2colAll_confW4!AF23:FA47/2^4, 0), ROUNDUP(im2colAll_confW4!AF23:FA47/2^4, 0))","v":12},{"$f":"IF(im2colAll_confW4!AG23:FB47 > 0, ROUNDDOWN(im2colAll_confW4!AG23:FB47/2^4, 0), ROUNDUP(im2colAll_confW4!AG23:FB47/2^4, 0))","v":-8},{"$f":"IF(im2colAll_confW4!AH23:FC47 > 0, ROUNDDOWN(im2colAll_confW4!AH23:FC47/2^4, 0), ROUNDUP(im2colAll_confW4!AH23:FC47/2^4, 0))","v":28},{"$f":"IF(im2colAll_confW4!AI23:FD47 > 0, ROUNDDOWN(im2colAll_confW4!AI23:FD47/2^4, 0), ROUNDUP(im2colAll_confW4!AI23:FD47/2^4, 0))","v":40},{"$f":"IF(im2colAll_confW4!AJ23:FE47 > 0, ROUNDDOWN(im2colAll_confW4!AJ23:FE47/2^4, 0), ROUNDUP(im2colAll_confW4!AJ23:FE47/2^4, 0))","v":-8},{"$f":"IF(im2colAll_confW4!AK23:FF47 > 0, ROUNDDOWN(im2colAll_confW4!AK23:FF47/2^4, 0), ROUNDUP(im2colAll_confW4!AK23:FF47/2^4, 0))","v":44},{"$f":"IF(im2colAll_confW4!AL23:FG47 > 0, ROUNDDOWN(im2colAll_confW4!AL23:FG47/2^4, 0), ROUNDUP(im2colAll_confW4!AL23:FG47/2^4, 0))","v":-10},{"$f":"IF(im2colAll_confW4!AM23:FH47 > 0, ROUNDDOWN(im2colAll_confW4!AM23:FH47/2^4, 0), ROUNDUP(im2colAll_confW4!AM23:FH47/2^4, 0))","v":-3},{"$f":"IF(im2colAll_confW4!AN23:FI47 > 0, ROUNDDOWN(im2colAll_confW4!AN23:FI47/2^4, 0), ROUNDUP(im2colAll_confW4!AN23:FI47/2^4, 0))","v":8},{"$f":"IF(im2colAll_confW4!AO23:FJ47 > 0, ROUNDDOWN(im2colAll_confW4!AO23:FJ47/2^4, 0), ROUNDUP(im2colAll_confW4!AO23:FJ47/2^4, 0))","v":-21},{"$f":"IF(im2colAll_confW4!AP23:FK47 > 0, ROUNDDOWN(im2colAll_confW4!AP23:FK47/2^4, 0), ROUNDUP(im2colAll_confW4!AP23:FK47/2^4, 0))","v":-52},{"$f":"IF(im2colAll_confW4!AQ23:FL47 > 0, ROUNDDOWN(im2colAll_confW4!AQ23:FL47/2^4, 0), ROUNDUP(im2colAll_confW4!AQ23:FL47/2^4, 0))","v":167},{"$f":"IF(im2colAll_confW4!AR23:FM47 > 0, ROUNDDOWN(im2colAll_confW4!AR23:FM47/2^4, 0), ROUNDUP(im2colAll_confW4!AR23:FM47/2^4, 0))","v":-29},{"$f":"IF(im2colAll_confW4!AS23:FN47 > 0, ROUNDDOWN(im2colAll_confW4!AS23:FN47/2^4, 0), ROUNDUP(im2colAll_confW4!AS23:FN47/2^4, 0))","v":24},{"$f":"IF(im2colAll_confW4!AT23:FO47 > 0, ROUNDDOWN(im2colAll_confW4!AT23:FO47/2^4, 0), ROUNDUP(im2colAll_confW4!AT23:FO47/2^4, 0))","v":8},{"$f":"IF(im2colAll_confW4!AU23:FP47 > 0, ROUNDDOWN(im2colAll_confW4!AU23:FP47/2^4, 0), ROUNDUP(im2colAll_confW4!AU23:FP47/2^4, 0))","v":-23},{"$f":"IF(im2colAll_confW4!AV23:FQ47 > 0, ROUNDDOWN(im2colAll_confW4!AV23:FQ47/2^4, 0), ROUNDUP(im2colAll_confW4!AV23:FQ47/2^4, 0))","v":-26},{"$f":"IF(im2colAll_confW4!AW23:FR47 > 0, ROUNDDOWN(im2colAll_confW4!AW23:FR47/2^4, 0), ROUNDUP(im2colAll_confW4!AW23:FR47/2^4, 0))","v":-60},{"$f":"IF(im2colAll_confW4!AX23:FS47 > 0, ROUNDDOWN(im2colAll_confW4!AX23:FS47/2^4, 0), ROUNDUP(im2colAll_confW4!AX23:FS47/2^4, 0))","v":-33},{"$f":"IF(im2colAll_confW4!AY23:FT47 > 0, ROUNDDOWN(im2colAll_confW4!AY23:FT47/2^4, 0), ROUNDUP(im2colAll_confW4!AY23:FT47/2^4, 0))","v":-28},{"$f":"IF(im2colAll_confW4!AZ23:FU47 > 0, ROUNDDOWN(im2colAll_confW4!AZ23:FU47/2^4, 0), ROUNDUP(im2colAll_confW4!AZ23:FU47/2^4, 0))","v":-30},{"$f":"IF(im2colAll_confW4!BA23:FV47 > 0, ROUNDDOWN(im2colAll_confW4!BA23:FV47/2^4, 0), ROUNDUP(im2colAll_confW4!BA23:FV47/2^4, 0))","v":-1},{"$f":"IF(im2colAll_confW4!BB23:FW47 > 0, ROUNDDOWN(im2colAll_confW4!BB23:FW47/2^4, 0), ROUNDUP(im2colAll_confW4!BB23:FW47/2^4, 0))","v":5},{"$f":"IF(im2colAll_confW4!BC23:FX47 > 0, ROUNDDOWN(im2colAll_confW4!BC23:FX47/2^4, 0), ROUNDUP(im2colAll_confW4!BC23:FX47/2^4, 0))","v":25},{"$f":"IF(im2colAll_confW4!BD23:FY47 > 0, ROUNDDOWN(im2colAll_confW4!BD23:FY47/2^4, 0), ROUNDUP(im2colAll_confW4!BD23:FY47/2^4, 0))","v":31},{"$f":"IF(im2colAll_confW4!BE23:FZ47 > 0, ROUNDDOWN(im2colAll_confW4!BE23:FZ47/2^4, 0), ROUNDUP(im2colAll_confW4!BE23:FZ47/2^4, 0))","v":-20},{"$f":"IF(im2colAll_confW4!BF23:GA47 > 0, ROUNDDOWN(im2colAll_confW4!BF23:GA47/2^4, 0), ROUNDUP(im2colAll_confW4!BF23:GA47/2^4, 0))","v":31},{"$f":"IF(im2colAll_confW4!BG23:GB47 > 0, ROUNDDOWN(im2colAll_confW4!BG23:GB47/2^4, 0), ROUNDUP(im2colAll_confW4!BG23:GB47/2^4, 0))","v":-6},{"$f":"IF(im2colAll_confW4!BH23:GC47 > 0, ROUNDDOWN(im2colAll_confW4!BH23:GC47/2^4, 0), ROUNDUP(im2colAll_confW4!BH23:GC47/2^4, 0))","v":7},{"$f":"IF(im2colAll_confW4!BI23:GD47 > 0, ROUNDDOWN(im2colAll_confW4!BI23:GD47/2^4, 0), ROUNDUP(im2colAll_confW4!BI23:GD47/2^4, 0))","v":-13},{"$f":"IF(im2colAll_confW4!BJ23:GE47 > 0, ROUNDDOWN(im2colAll_confW4!BJ23:GE47/2^4, 0), ROUNDUP(im2colAll_confW4!BJ23:GE47/2^4, 0))","v":-27},{"$f":"IF(im2colAll_confW4!BK23:GF47 > 0, ROUNDDOWN(im2colAll_confW4!BK23:GF47/2^4, 0), ROUNDUP(im2colAll_confW4!BK23:GF47/2^4, 0))","v":-39},{"$f":"IF(im2colAll_confW4!BL23:GG47 > 0, ROUNDDOWN(im2colAll_confW4!BL23:GG47/2^4, 0), ROUNDUP(im2colAll_confW4!BL23:GG47/2^4, 0))","v":178},{"$f":"IF(im2colAll_confW4!BM23:GH47 > 0, ROUNDDOWN(im2colAll_confW4!BM23:GH47/2^4, 0), ROUNDUP(im2colAll_confW4!BM23:GH47/2^4, 0))","v":-5},{"$f":"IF(im2colAll_confW4!BN23:GI47 > 0, ROUNDDOWN(im2colAll_confW4!BN23:GI47/2^4, 0), ROUNDUP(im2colAll_confW4!BN23:GI47/2^4, 0))","v":1},{"$f":"IF(im2colAll_confW4!BO23:GJ47 > 0, ROUNDDOWN(im2colAll_confW4!BO23:GJ47/2^4, 0), ROUNDUP(im2colAll_confW4!BO23:GJ47/2^4, 0))","v":21},{"$f":"IF(im2colAll_confW4!BP23:GK47 > 0, ROUNDDOWN(im2colAll_confW4!BP23:GK47/2^4, 0), ROUNDUP(im2colAll_confW4!BP23:GK47/2^4, 0))","v":-29},{"$f":"IF(im2colAll_confW4!BQ23:GL47 > 0, ROUNDDOWN(im2colAll_confW4!BQ23:GL47/2^4, 0), ROUNDUP(im2colAll_confW4!BQ23:GL47/2^4, 0))","v":-53},{"$f":"IF(im2colAll_confW4!BR23:GM47 > 0, ROUNDDOWN(im2colAll_confW4!BR23:GM47/2^4, 0), ROUNDUP(im2colAll_confW4!BR23:GM47/2^4, 0))","v":-32},{"$f":"IF(im2colAll_confW4!BS23:GN47 > 0, ROUNDDOWN(im2colAll_confW4!BS23:GN47/2^4, 0), ROUNDUP(im2colAll_confW4!BS23:GN47/2^4, 0))","v":-29},{"$f":"IF(im2colAll_confW4!BT23:GO47 > 0, ROUNDDOWN(im2colAll_confW4!BT23:GO47/2^4, 0), ROUNDUP(im2colAll_confW4!BT23:GO47/2^4, 0))","v":-36},{"$f":"IF(im2colAll_confW4!BU23:GP47 > 0, ROUNDDOWN(im2colAll_confW4!BU23:GP47/2^4, 0), ROUNDUP(im2colAll_confW4!BU23:GP47/2^4, 0))","v":-6},{"$f":"IF(im2colAll_confW4!BV23:GQ47 > 0, ROUNDDOWN(im2colAll_confW4!BV23:GQ47/2^4, 0), ROUNDUP(im2colAll_confW4!BV23:GQ47/2^4, 0))","v":0},{"$f":"IF(im2colAll_confW4!BW23:GR47 > 0, ROUNDDOWN(im2colAll_confW4!BW23:GR47/2^4, 0), ROUNDUP(im2colAll_confW4!BW23:GR47/2^4, 0))","v":-16},{"$f":"IF(im2colAll_confW4!BX23:GS47 > 0, ROUNDDOWN(im2colAll_confW4!BX23:GS47/2^4, 0), ROUNDUP(im2colAll_confW4!BX23:GS47/2^4, 0))","v":24},{"$f":"IF(im2colAll_confW4!BY23:GT47 > 0, ROUNDDOWN(im2colAll_confW4!BY23:GT47/2^4, 0), ROUNDUP(im2colAll_confW4!BY23:GT47/2^4, 0))","v":26},{"$f":"IF(im2colAll_confW4!BZ23:GU47 > 0, ROUNDDOWN(im2colAll_confW4!BZ23:GU47/2^4, 0), ROUNDUP(im2colAll_confW4!BZ23:GU47/2^4, 0))","v":-14},{"$f":"IF(im2colAll_confW4!CA23:GV47 > 0, ROUNDDOWN(im2colAll_confW4!CA23:GV47/2^4, 0), ROUNDUP(im2colAll_confW4!CA23:GV47/2^4, 0))","v":30},{"$f":"IF(im2colAll_confW4!CB23:GW47 > 0, ROUNDDOWN(im2colAll_confW4!CB23:GW47/2^4, 0), ROUNDUP(im2colAll_confW4!CB23:GW47/2^4, 0))","v":0},{"$f":"IF(im2colAll_confW4!CC23:GX47 > 0, ROUNDDOWN(im2colAll_confW4!CC23:GX47/2^4, 0), ROUNDUP(im2colAll_confW4!CC23:GX47/2^4, 0))","v":-4},{"$f":"IF(im2colAll_confW4!CD23:GY47 > 0, ROUNDDOWN(im2colAll_confW4!CD23:GY47/2^4, 0), ROUNDUP(im2colAll_confW4!CD23:GY47/2^4, 0))","v":10},{"$f":"IF(im2colAll_confW4!CE23:GZ47 > 0, ROUNDDOWN(im2colAll_confW4!CE23:GZ47/2^4, 0), ROUNDUP(im2colAll_confW4!CE23:GZ47/2^4, 0))","v":-10},{"$f":"IF(im2colAll_confW4!CF23:HA47 > 0, ROUNDDOWN(im2colAll_confW4!CF23:HA47/2^4, 0), ROUNDUP(im2colAll_confW4!CF23:HA47/2^4, 0))","v":-35},{"$f":"IF(im2colAll_confW4!CG23:HB47 > 0, ROUNDDOWN(im2colAll_confW4!CG23:HB47/2^4, 0), ROUNDUP(im2colAll_confW4!CG23:HB47/2^4, 0))","v":161},{"$f":"IF(im2colAll_confW4!CH23:HC47 > 0, ROUNDDOWN(im2colAll_confW4!CH23:HC47/2^4, 0), ROUNDUP(im2colAll_confW4!CH23:HC47/2^4, 0))","v":-39},{"$f":"IF(im2colAll_confW4!CI23:HD47 > 0, ROUNDDOWN(im2colAll_confW4!CI23:HD47/2^4, 0), ROUNDUP(im2colAll_confW4!CI23:HD47/2^4, 0))","v":1},{"$f":"IF(im2colAll_confW4!CJ23:HE47 > 0, ROUNDDOWN(im2colAll_confW4!CJ23:HE47/2^4, 0), ROUNDUP(im2colAll_confW4!CJ23:HE47/2^4, 0))","v":3},{"$f":"IF(im2colAll_confW4!CK23:HF47 > 0, ROUNDDOWN(im2colAll_confW4!CK23:HF47/2^4, 0), ROUNDUP(im2colAll_confW4!CK23:HF47/2^4, 0))","v":5},{"$f":"IF(im2colAll_confW4!CL23:HG47 > 0, ROUNDDOWN(im2colAll_confW4!CL23:HG47/2^4, 0), ROUNDUP(im2colAll_confW4!CL23:HG47/2^4, 0))","v":-19},{"$f":"IF(im2colAll_confW4!CM23:HH47 > 0, ROUNDDOWN(im2colAll_confW4!CM23:HH47/2^4, 0), ROUNDUP(im2colAll_confW4!CM23:HH47/2^4, 0))","v":-33},{"$f":"IF(im2colAll_confW4!CN23:HI47 > 0, ROUNDDOWN(im2colAll_confW4!CN23:HI47/2^4, 0), ROUNDUP(im2colAll_confW4!CN23:HI47/2^4, 0))","v":-31},{"$f":"IF(im2colAll_confW4!CO23:HJ47 > 0, ROUNDDOWN(im2colAll_confW4!CO23:HJ47/2^4, 0), ROUNDUP(im2colAll_confW4!CO23:HJ47/2^4, 0))","v":-2},{"$f":"IF(im2colAll_confW4!CP23:HK47 > 0, ROUNDDOWN(im2colAll_confW4!CP23:HK47/2^4, 0), ROUNDUP(im2colAll_confW4!CP23:HK47/2^4, 0))","v":-10},{"$f":"IF(im2colAll_confW4!CQ23:HL47 > 0, ROUNDDOWN(im2colAll_confW4!CQ23:HL47/2^4, 0), ROUNDUP(im2colAll_confW4!CQ23:HL47/2^4, 0))","v":14},{"$f":"IF(im2colAll_confW4!CR23:HM47 > 0, ROUNDDOWN(im2colAll_confW4!CR23:HM47/2^4, 0), ROUNDUP(im2colAll_confW4!CR23:HM47/2^4, 0))","v":38},{"$f":"IF(im2colAll_confW4!CS23:HN47 > 0, ROUNDDOWN(im2colAll_confW4!CS23:HN47/2^4, 0), ROUNDUP(im2colAll_confW4!CS23:HN47/2^4, 0))","v":20},{"$f":"IF(im2colAll_confW4!CT23:HO47 > 0, ROUNDDOWN(im2colAll_confW4!CT23:HO47/2^4, 0), ROUNDUP(im2colAll_confW4!CT23:HO47/2^4, 0))","v":34},{"$f":"IF(im2colAll_confW4!CU23:HP47 > 0, ROUNDDOWN(im2colAll_confW4!CU23:HP47/2^4, 0), ROUNDUP(im2colAll_confW4!CU23:HP47/2^4, 0))","v":7},{"$f":"IF(im2colAll_confW4!CV23:HQ47 > 0, ROUNDDOWN(im2colAll_confW4!CV23:HQ47/2^4, 0), ROUNDUP(im2colAll_confW4!CV23:HQ47/2^4, 0))","v":9},{"$f":"IF(im2colAll_confW4!CW23:HR47 > 0, ROUNDDOWN(im2colAll_confW4!CW23:HR47/2^4, 0), ROUNDUP(im2colAll_confW4!CW23:HR47/2^4, 0))","v":4},{"$f":"IF(im2colAll_confW4!CX23:HS47 > 0, ROUNDDOWN(im2colAll_confW4!CX23:HS47/2^4, 0), ROUNDUP(im2colAll_confW4!CX23:HS47/2^4, 0))","v":7},{"$f":"IF(im2colAll_confW4!CY23:HT47 > 0, ROUNDDOWN(im2colAll_confW4!CY23:HT47/2^4, 0), ROUNDUP(im2colAll_confW4!CY23:HT47/2^4, 0))","v":7},{"$f":"IF(im2colAll_confW4!CZ23:HU47 > 0, ROUNDDOWN(im2colAll_confW4!CZ23:HU47/2^4, 0), ROUNDUP(im2colAll_confW4!CZ23:HU47/2^4, 0))","v":-3},{"$f":"IF(im2colAll_confW4!DA23:HV47 > 0, ROUNDDOWN(im2colAll_confW4!DA23:HV47/2^4, 0), ROUNDUP(im2colAll_confW4!DA23:HV47/2^4, 0))","v":-31},{"$f":"IF(im2colAll_confW4!DB23:HW47 > 0, ROUNDDOWN(im2colAll_confW4!DB23:HW47/2^4, 0), ROUNDUP(im2colAll_confW4!DB23:HW47/2^4, 0))","v":168},{"$f":"IF(im2colAll_confW4!DC23:HX47 > 0, ROUNDDOWN(im2colAll_confW4!DC23:HX47/2^4, 0), ROUNDUP(im2colAll_confW4!DC23:HX47/2^4, 0))","v":-35},{"$f":"IF(im2colAll_confW4!DD23:HY47 > 0, ROUNDDOWN(im2colAll_confW4!DD23:HY47/2^4, 0), ROUNDUP(im2colAll_confW4!DD23:HY47/2^4, 0))","v":12},{"$f":"IF(im2colAll_confW4!DE23:HZ47 > 0, ROUNDDOWN(im2colAll_confW4!DE23:HZ47/2^4, 0), ROUNDUP(im2colAll_confW4!DE23:HZ47/2^4, 0))","v":7},{"$f":"IF(im2colAll_confW4!DF23:IA47 > 0, ROUNDDOWN(im2colAll_confW4!DF23:IA47/2^4, 0), ROUNDUP(im2colAll_confW4!DF23:IA47/2^4, 0))","v":-20},{"$f":"IF(im2colAll_confW4!DG23:IB47 > 0, ROUNDDOWN(im2colAll_confW4!DG23:IB47/2^4, 0), ROUNDUP(im2colAll_confW4!DG23:IB47/2^4, 0))","v":-59},{"$f":"IF(im2colAll_confW4!DH23:IC47 > 0, ROUNDDOWN(im2colAll_confW4!DH23:IC47/2^4, 0), ROUNDUP(im2colAll_confW4!DH23:IC47/2^4, 0))","v":-41},{"$f":"IF(im2colAll_confW4!DI23:ID47 > 0, ROUNDDOWN(im2colAll_confW4!DI23:ID47/2^4, 0), ROUNDUP(im2colAll_confW4!DI23:ID47/2^4, 0))","v":-32},{"$f":"IF(im2colAll_confW4!DJ23:IE47 > 0, ROUNDDOWN(im2colAll_confW4!DJ23:IE47/2^4, 0), ROUNDUP(im2colAll_confW4!DJ23:IE47/2^4, 0))","v":-13},{"$f":"IF(im2colAll_confW4!DK23:IF47 > 0, ROUNDDOWN(im2colAll_confW4!DK23:IF47/2^4, 0), ROUNDUP(im2colAll_confW4!DK23:IF47/2^4, 0))","v":-15},{"$f":"IF(im2colAll_confW4!DL23:IG47 > 0, ROUNDDOWN(im2colAll_confW4!DL23:IG47/2^4, 0), ROUNDUP(im2colAll_confW4!DL23:IG47/2^4, 0))","v":16},{"$f":"IF(im2colAll_confW4!DM23:IH47 > 0, ROUNDDOWN(im2colAll_confW4!DM23:IH47/2^4, 0), ROUNDUP(im2colAll_confW4!DM23:IH47/2^4, 0))","v":-9},{"$f":"IF(im2colAll_confW4!DN23:II47 > 0, ROUNDDOWN(im2colAll_confW4!DN23:II47/2^4, 0), ROUNDUP(im2colAll_confW4!DN23:II47/2^4, 0))","v":17},{"$f":"IF(im2colAll_confW4!DO23:IJ47 > 0, ROUNDDOWN(im2colAll_confW4!DO23:IJ47/2^4, 0), ROUNDUP(im2colAll_confW4!DO23:IJ47/2^4, 0))","v":24},{"$f":"IF(im2colAll_confW4!DP23:IK47 > 0, ROUNDDOWN(im2colAll_confW4!DP23:IK47/2^4, 0), ROUNDUP(im2colAll_confW4!DP23:IK47/2^4, 0))","v":-19},{"$f":"IF(im2colAll_confW4!DQ23:IL47 > 0, ROUNDDOWN(im2colAll_confW4!DQ23:IL47/2^4, 0), ROUNDUP(im2colAll_confW4!DQ23:IL47/2^4, 0))","v":13},{"$f":"IF(im2colAll_confW4!DR23:IM47 > 0, ROUNDDOWN(im2colAll_confW4!DR23:IM47/2^4, 0), ROUNDUP(im2colAll_confW4!DR23:IM47/2^4, 0))","v":-19},{"$f":"IF(im2colAll_confW4!DS23:IN47 > 0, ROUNDDOWN(im2colAll_confW4!DS23:IN47/2^4, 0), ROUNDUP(im2colAll_confW4!DS23:IN47/2^4, 0))","v":7},{"$f":"IF(im2colAll_confW4!DT23:IO47 > 0, ROUNDDOWN(im2colAll_confW4!DT23:IO47/2^4, 0), ROUNDUP(im2colAll_confW4!DT23:IO47/2^4, 0))","v":-10},{"$f":"IF(im2colAll_confW4!DU23:IP47 > 0, ROUNDDOWN(im2colAll_confW4!DU23:IP47/2^4, 0), ROUNDUP(im2colAll_confW4!DU23:IP47/2^4, 0))","v":-18},{"$f":"IF(im2colAll_confW4!DV23:IQ47 > 0, ROUNDDOWN(im2colAll_confW4!DV23:IQ47/2^4, 0), ROUNDUP(im2colAll_confW4!DV23:IQ47/2^4, 0))","v":-54}]
[{"$f":"IF(im2colAll_confW4!A24:DV48 > 0, ROUNDDOWN(im2colAll_confW4!A24:DV48/2^4, 0), ROUNDUP(im2colAll_confW4!A24:DV48/2^4, 0))","v":170},{"$f":"IF(im2colAll_confW4!B24:DW48 > 0, ROUNDDOWN(im2colAll_confW4!B24:DW48/2^4, 0), ROUNDUP(im2colAll_confW4!B24:DW48/2^4, 0))","v":2},{"$f":"IF(im2colAll_confW4!C24:DX48 > 0, ROUNDDOWN(im2colAll_confW4!C24:DX48/2^4, 0), ROUNDUP(im2colAll_confW4!C24:DX48/2^4, 0))","v":27},{"$f":"IF(im2colAll_confW4!D24:DY48 > 0, ROUNDDOWN(im2colAll_confW4!D24:DY48/2^4, 0), ROUNDUP(im2colAll_confW4!D24:DY48/2^4, 0))","v":-3},{"$f":"IF(im2colAll_confW4!E24:DZ48 > 0, ROUNDDOWN(im2colAll_confW4!E24:DZ48/2^4, 0), ROUNDUP(im2colAll_confW4!E24:DZ48/2^4, 0))","v":-10},{"$f":"IF(im2colAll_confW4!F24:EA48 > 0, ROUNDDOWN(im2colAll_confW4!F24:EA48/2^4, 0), ROUNDUP(im2colAll_confW4!F24:EA48/2^4, 0))","v":-45},{"$f":"IF(im2colAll_confW4!G24:EB48 > 0, ROUNDDOWN(im2colAll_confW4!G24:EB48/2^4, 0), ROUNDUP(im2colAll_confW4!G24:EB48/2^4, 0))","v":-72},{"$f":"IF(im2colAll_confW4!H24:EC48 > 0, ROUNDDOWN(im2colAll_confW4!H24:EC48/2^4, 0), ROUNDUP(im2colAll_confW4!H24:EC48/2^4, 0))","v":-33},{"$f":"IF(im2colAll_confW4!I24:ED48 > 0, ROUNDDOWN(im2colAll_confW4!I24:ED48/2^4, 0), ROUNDUP(im2colAll_confW4!I24:ED48/2^4, 0))","v":-21},{"$f":"IF(im2colAll_confW4!J24:EE48 > 0, ROUNDDOWN(im2colAll_confW4!J24:EE48/2^4, 0), ROUNDUP(im2colAll_confW4!J24:EE48/2^4, 0))","v":-2},{"$f":"IF(im2colAll_confW4!K24:EF48 > 0, ROUNDDOWN(im2colAll_confW4!K24:EF48/2^4, 0), ROUNDUP(im2colAll_confW4!K24:EF48/2^4, 0))","v":-2},{"$f":"IF(im2colAll_confW4!L24:EG48 > 0, ROUNDDOWN(im2colAll_confW4!L24:EG48/2^4, 0), ROUNDUP(im2colAll_confW4!L24:EG48/2^4, 0))","v":-19},{"$f":"IF(im2colAll_confW4!M24:EH48 > 0, ROUNDDOWN(im2colAll_confW4!M24:EH48/2^4, 0), ROUNDUP(im2colAll_confW4!M24:EH48/2^4, 0))","v":15},{"$f":"IF(im2colAll_confW4!N24:EI48 > 0, ROUNDDOWN(im2colAll_confW4!N24:EI48/2^4, 0), ROUNDUP(im2colAll_confW4!N24:EI48/2^4, 0))","v":34},{"$f":"IF(im2colAll_confW4!O24:EJ48 > 0, ROUNDDOWN(im2colAll_confW4!O24:EJ48/2^4, 0), ROUNDUP(im2colAll_confW4!O24:EJ48/2^4, 0))","v":0},{"$f":"IF(im2colAll_confW4!P24:EK48 > 0, ROUNDDOWN(im2colAll_confW4!P24:EK48/2^4, 0), ROUNDUP(im2colAll_confW4!P24:EK48/2^4, 0))","v":40},{"$f":"IF(im2colAll_confW4!Q24:EL48 > 0, ROUNDDOWN(im2colAll_confW4!Q24:EL48/2^4, 0), ROUNDUP(im2colAll_confW4!Q24:EL48/2^4, 0))","v":-27},{"$f":"IF(im2colAll_confW4!R24:EM48 > 0, ROUNDDOWN(im2colAll_confW4!R24:EM48/2^4, 0), ROUNDUP(im2colAll_confW4!R24:EM48/2^4, 0))","v":17},{"$f":"IF(im2colAll_confW4!S24:EN48 > 0, ROUNDDOWN(im2colAll_confW4!S24:EN48/2^4, 0), ROUNDUP(im2colAll_confW4!S24:EN48/2^4, 0))","v":0},{"$f":"IF(im2colAll_confW4!T24:EO48 > 0, ROUNDDOWN(im2colAll_confW4!T24:EO48/2^4, 0), ROUNDUP(im2colAll_confW4!T24:EO48/2^4, 0))","v":-23},{"$f":"IF(im2colAll_confW4!U24:EP48 > 0, ROUNDDOWN(im2colAll_confW4!U24:EP48/2^4, 0), ROUNDUP(im2colAll_confW4!U24:EP48/2^4, 0))","v":-72},{"$f":"IF(im2colAll_confW4!V24:EQ48 > 0, ROUNDDOWN(im2colAll_confW4!V24:EQ48/2^4, 0), ROUNDUP(im2colAll_confW4!V24:EQ48/2^4, 0))","v":174},{"$f":"IF(im2colAll_confW4!W24:ER48 > 0, ROUNDDOWN(im2colAll_confW4!W24:ER48/2^4, 0), ROUNDUP(im2colAll_confW4!W24:ER48/2^4, 0))","v":-18},{"$f":"IF(im2colAll_confW4!X24:ES48 > 0, ROUNDDOWN(im2colAll_confW4!X24:ES48/2^4, 0), ROUNDUP(im2colAll_confW4!X24:ES48/2^4, 0))","v":8},{"$f":"IF(im2colAll_confW4!Y24:ET48 > 0, ROUNDDOWN(im2colAll_confW4!Y24:ET48/2^4, 0), ROUNDUP(im2colAll_confW4!Y24:ET48/2^4, 0))","v":8},{"$f":"IF(im2colAll_confW4!Z24:EU48 > 0, ROUNDDOWN(im2colAll_confW4!Z24:EU48/2^4, 0), ROUNDUP(im2colAll_confW4!Z24:EU48/2^4, 0))","v":-12},{"$f":"IF(im2colAll_confW4!AA24:EV48 > 0, ROUNDDOWN(im2colAll_confW4!AA24:EV48/2^4, 0), ROUNDUP(im2colAll_confW4!AA24:EV48/2^4, 0))","v":-65},{"$f":"IF(im2colAll_confW4!AB24:EW48 > 0, ROUNDDOWN(im2colAll_confW4!AB24:EW48/2^4, 0), ROUNDUP(im2colAll_confW4!AB24:EW48/2^4, 0))","v":-70},{"$f":"IF(im2colAll_confW4!AC24:EX48 > 0, ROUNDDOWN(im2colAll_confW4!AC24:EX48/2^4, 0), ROUNDUP(im2colAll_confW4!AC24:EX48/2^4, 0))","v":-39},{"$f":"IF(im2colAll_confW4!AD24:EY48 > 0, ROUNDDOWN(im2colAll_confW4!AD24:EY48/2^4, 0), ROUNDUP(im2colAll_confW4!AD24:EY48/2^4, 0))","v":-30},{"$f":"IF(im2colAll_confW4!AE24:EZ48 > 0, ROUNDDOWN(im2colAll_confW4!AE24:EZ48/2^4, 0), ROUNDUP(im2colAll_confW4!AE24:EZ48/2^4, 0))","v":-6},{"$f":"IF(im2colAll_confW4!AF24:FA48 > 0, ROUNDDOWN(im2colAll_confW4!AF24:FA48/2^4, 0), ROUNDUP(im2colAll_confW4!AF24:FA48/2^4, 0))","v":-5},{"$f":"IF(im2colAll_confW4!AG24:FB48 > 0, ROUNDDOWN(im2colAll_confW4!AG24:FB48/2^4, 0), ROUNDUP(im2colAll_confW4!AG24:FB48/2^4, 0))","v":-21},{"$f":"IF(im2colAll_confW4!AH24:FC48 > 0, ROUNDDOWN(im2colAll_confW4!AH24:FC48/2^4, 0), ROUNDUP(im2colAll_confW4!AH24:FC48/2^4, 0))","v":20},{"$f":"IF(im2colAll_confW4!AI24:FD48 > 0, ROUNDDOWN(im2colAll_confW4!AI24:FD48/2^4, 0), ROUNDUP(im2colAll_confW4!AI24:FD48/2^4, 0))","v":24},{"$f":"IF(im2colAll_confW4!AJ24:FE48 > 0, ROUNDDOWN(im2colAll_confW4!AJ24:FE48/2^4, 0), ROUNDUP(im2colAll_confW4!AJ24:FE48/2^4, 0))","v":-16},{"$f":"IF(im2colAll_confW4!AK24:FF48 > 0, ROUNDDOWN(im2colAll_confW4!AK24:FF48/2^4, 0), ROUNDUP(im2colAll_confW4!AK24:FF48/2^4, 0))","v":45},{"$f":"IF(im2colAll_confW4!AL24:FG48 > 0, ROUNDDOWN(im2colAll_confW4!AL24:FG48/2^4, 0), ROUNDUP(im2colAll_confW4!AL24:FG48/2^4, 0))","v":6},{"$f":"IF(im2colAll_confW4!AM24:FH48 > 0, ROUNDDOWN(im2colAll_confW4!AM24:FH48/2^4, 0), ROUNDUP(im2colAll_confW4!AM24:FH48/2^4, 0))","v":9},{"$f":"IF(im2colAll_confW4!AN24:FI48 > 0, ROUNDDOWN(im2colAll_confW4!AN24:FI48/2^4, 0), ROUNDUP(im2colAll_confW4!AN24:FI48/2^4, 0))","v":-1},{"$f":"IF(im2colAll_confW4!AO24:FJ48 > 0, ROUNDDOWN(im2colAll_confW4!AO24:FJ48/2^4, 0), ROUNDUP(im2colAll_confW4!AO24:FJ48/2^4, 0))","v":-38},{"$f":"IF(im2colAll_confW4!AP24:FK48 > 0, ROUNDDOWN(im2colAll_confW4!AP24:FK48/2^4, 0), ROUNDUP(im2colAll_confW4!AP24:FK48/2^4, 0))","v":-60},{"$f":"IF(im2colAll_confW4!AQ24:FL48 > 0, ROUNDDOWN(im2colAll_confW4!AQ24:FL48/2^4, 0), ROUNDUP(im2colAll_confW4!AQ24:FL48/2^4, 0))","v":153},{"$f":"IF(im2colAll_confW4!AR24:FM48 > 0, ROUNDDOWN(im2colAll_confW4!AR24:FM48/2^4, 0), ROUNDUP(im2colAll_confW4!AR24:FM48/2^4, 0))","v":-25},{"$f":"IF(im2colAll_confW4!AS24:FN48 > 0, ROUNDDOWN(im2colAll_confW4!AS24:FN48/2^4, 0), ROUNDUP(im2colAll_confW4!AS24:FN48/2^4, 0))","v":13},{"$f":"IF(im2colAll_confW4!AT24:FO48 > 0, ROUNDDOWN(im2colAll_confW4!AT24:FO48/2^4, 0), ROUNDUP(im2colAll_confW4!AT24:FO48/2^4, 0))","v":7},{"$f":"IF(im2colAll_confW4!AU24:FP48 > 0, ROUNDDOWN(im2colAll_confW4!AU24:FP48/2^4, 0), ROUNDUP(im2colAll_confW4!AU24:FP48/2^4, 0))","v":-20},{"$f":"IF(im2colAll_confW4!AV24:FQ48 > 0, ROUNDDOWN(im2colAll_confW4!AV24:FQ48/2^4, 0), ROUNDUP(im2colAll_confW4!AV24:FQ48/2^4, 0))","v":-30},{"$f":"IF(im2colAll_confW4!AW24:FR48 > 0, ROUNDDOWN(im2colAll_confW4!AW24:FR48/2^4, 0), ROUNDUP(im2colAll_confW4!AW24:FR48/2^4, 0))","v":-38},{"$f":"IF(im2colAll_confW4!AX24:FS48 > 0, ROUNDDOWN(im2colAll_confW4!AX24:FS48/2^4, 0), ROUNDUP(im2colAll_confW4!AX24:FS48/2^4, 0))","v":-29},{"$f":"IF(im2colAll_confW4!AY24:FT48 > 0, ROUNDDOWN(im2colAll_confW4!AY24:FT48/2^4, 0), ROUNDUP(im2colAll_confW4!AY24:FT48/2^4, 0))","v":-35},{"$f":"IF(im2colAll_confW4!AZ24:FU48 > 0, ROUNDDOWN(im2colAll_confW4!AZ24:FU48/2^4, 0), ROUNDUP(im2colAll_confW4!AZ24:FU48/2^4, 0))","v":-16},{"$f":"IF(im2colAll_confW4!BA24:FV48 > 0, ROUNDDOWN(im2colAll_confW4!BA24:FV48/2^4, 0), ROUNDUP(im2colAll_confW4!BA24:FV48/2^4, 0))","v":-18},{"$f":"IF(im2colAll_confW4!BB24:FW48 > 0, ROUNDDOWN(im2colAll_confW4!BB24:FW48/2^4, 0), ROUNDUP(im2colAll_confW4!BB24:FW48/2^4, 0))","v":-6},{"$f":"IF(im2colAll_confW4!BC24:FX48 > 0, ROUNDDOWN(im2colAll_confW4!BC24:FX48/2^4, 0), ROUNDUP(im2colAll_confW4!BC24:FX48/2^4, 0))","v":27},{"$f":"IF(im2colAll_confW4!BD24:FY48 > 0, ROUNDDOWN(im2colAll_confW4!BD24:FY48/2^4, 0), ROUNDUP(im2colAll_confW4!BD24:FY48/2^4, 0))","v":31},{"$f":"IF(im2colAll_confW4!BE24:FZ48 > 0, ROUNDDOWN(im2colAll_confW4!BE24:FZ48/2^4, 0), ROUNDUP(im2colAll_confW4!BE24:FZ48/2^4, 0))","v":-12},{"$f":"IF(im2colAll_confW4!BF24:GA48 > 0, ROUNDDOWN(im2colAll_confW4!BF24:GA48/2^4, 0), ROUNDUP(im2colAll_confW4!BF24:GA48/2^4, 0))","v":46},{"$f":"IF(im2colAll_confW4!BG24:GB48 > 0, ROUNDDOWN(im2colAll_confW4!BG24:GB48/2^4, 0), ROUNDUP(im2colAll_confW4!BG24:GB48/2^4, 0))","v":-4},{"$f":"IF(im2colAll_confW4!BH24:GC48 > 0, ROUNDDOWN(im2colAll_confW4!BH24:GC48/2^4, 0), ROUNDUP(im2colAll_confW4!BH24:GC48/2^4, 0))","v":14},{"$f":"IF(im2colAll_confW4!BI24:GD48 > 0, ROUNDDOWN(im2colAll_confW4!BI24:GD48/2^4, 0), ROUNDUP(im2colAll_confW4!BI24:GD48/2^4, 0))","v":-9},{"$f":"IF(im2colAll_confW4!BJ24:GE48 > 0, ROUNDDOWN(im2colAll_confW4!BJ24:GE48/2^4, 0), ROUNDUP(im2colAll_confW4!BJ24:GE48/2^4, 0))","v":-26},{"$f":"IF(im2colAll_confW4!BK24:GF48 > 0, ROUNDDOWN(im2colAll_confW4!BK24:GF48/2^4, 0), ROUNDUP(im2colAll_confW4!BK24:GF48/2^4, 0))","v":-46},{"$f":"IF(im2colAll_confW4!BL24:GG48 > 0, ROUNDDOWN(im2colAll_confW4!BL24:GG48/2^4, 0), ROUNDUP(im2colAll_confW4!BL24:GG48/2^4, 0))","v":181},{"$f":"IF(im2colAll_confW4!BM24:GH48 > 0, ROUNDDOWN(im2colAll_confW4!BM24:GH48/2^4, 0), ROUNDUP(im2colAll_confW4!BM24:GH48/2^4, 0))","v":-3},{"$f":"IF(im2colAll_confW4!BN24:GI48 > 0, ROUNDDOWN(im2colAll_confW4!BN24:GI48/2^4, 0), ROUNDUP(im2colAll_confW4!BN24:GI48/2^4, 0))","v":2},{"$f":"IF(im2colAll_confW4!BO24:GJ48 > 0, ROUNDDOWN(im2colAll_confW4!BO24:GJ48/2^4, 0), ROUNDUP(im2colAll_confW4!BO24:GJ48/2^4, 0))","v":25},{"$f":"IF(im2colAll_confW4!BP24:GK48 > 0, ROUNDDOWN(im2colAll_confW4!BP24:GK48/2^4, 0), ROUNDUP(im2colAll_confW4!BP24:GK48/2^4, 0))","v":-21},{"$f":"IF(im2colAll_confW4!BQ24:GL48 > 0, ROUNDDOWN(im2colAll_confW4!BQ24:GL48/2^4, 0), ROUNDUP(im2colAll_confW4!BQ24:GL48/2^4, 0))","v":-33},{"$f":"IF(im2colAll_confW4!BR24:GM48 > 0, ROUNDDOWN(im2colAll_confW4!BR24:GM48/2^4, 0), ROUNDUP(im2colAll_confW4!BR24:GM48/2^4, 0))","v":-52},{"$f":"IF(im2colAll_confW4!BS24:GN48 > 0, ROUNDDOWN(im2colAll_confW4!BS24:GN48/2^4, 0), ROUNDUP(im2colAll_confW4!BS24:GN48/2^4, 0))","v":-29},{"$f":"IF(im2colAll_confW4!BT24:GO48 > 0, ROUNDDOWN(im2colAll_confW4!BT24:GO48/2^4, 0), ROUNDUP(im2colAll_confW4!BT24:GO48/2^4, 0))","v":-25},{"$f":"IF(im2colAll_confW4!BU24:GP48 > 0, ROUNDDOWN(im2colAll_confW4!BU24:GP48/2^4, 0), ROUNDUP(im2colAll_confW4!BU24:GP48/2^4, 0))","v":-10},{"$f":"IF(im2colAll_confW4!BV24:GQ48 > 0, ROUNDDOWN(im2colAll_confW4!BV24:GQ48/2^4, 0), ROUNDUP(im2colAll_confW4!BV24:GQ48/2^4, 0))","v":-6},{"$f":"IF(im2colAll_confW4!BW24:GR48 > 0, ROUNDDOWN(im2colAll_confW4!BW24:GR48/2^4, 0), ROUNDUP(im2colAll_confW4!BW24:GR48/2^4, 0))","v":-35},{"$f":"IF(im2colAll_confW4!BX24:GS48 > 0, ROUNDDOWN(im2colAll_confW4!BX24:GS48/2^4, 0), ROUNDUP(im2colAll_confW4!BX24:GS48/2^4, 0))","v":31},{"$f":"IF(im2colAll_confW4!BY24:GT48 > 0, ROUNDDOWN(im2colAll_confW4!BY24:GT48/2^4, 0), ROUNDUP(im2colAll_confW4!BY24:GT48/2^4, 0))","v":22},{"$f":"IF(im2colAll_confW4!BZ24:GU48 > 0, ROUNDDOWN(im2colAll_confW4!BZ24:GU48/2^4, 0), ROUNDUP(im2colAll_confW4!BZ24:GU48/2^4, 0))","v":-12},{"$f":"IF(im2colAll_confW4!CA24:GV48 > 0, ROUNDDOWN(im2colAll_confW4!CA24:GV48/2^4, 0), ROUNDUP(im2colAll_confW4!CA24:GV48/2^4, 0))","v":48},{"$f":"IF(im2colAll_confW4!CB24:GW48 > 0, ROUNDDOWN(im2colAll_confW4!CB24:GW48/2^4, 0), ROUNDUP(im2colAll_confW4!CB24:GW48/2^4, 0))","v":-5},{"$f":"IF(im2colAll_confW4!CC24:GX48 > 0, ROUNDDOWN(im2colAll_confW4!CC24:GX48/2^4, 0), ROUNDUP(im2colAll_confW4!CC24:GX48/2^4, 0))","v":-1},{"$f":"IF(im2colAll_confW4!CD24:GY48 > 0, ROUNDDOWN(im2colAll_confW4!CD24:GY48/2^4, 0), ROUNDUP(im2colAll_confW4!CD24:GY48/2^4, 0))","v":-6},{"$f":"IF(im2colAll_confW4!CE24:GZ48 > 0, ROUNDDOWN(im2colAll_confW4!CE24:GZ48/2^4, 0), ROUNDUP(im2colAll_confW4!CE24:GZ48/2^4, 0))","v":-28},{"$f":"IF(im2colAll_confW4!CF24:HA48 > 0, ROUNDDOWN(im2colAll_confW4!CF24:HA48/2^4, 0), ROUNDUP(im2colAll_confW4!CF24:HA48/2^4, 0))","v":-57},{"$f":"IF(im2colAll_confW4!CG24:HB48 > 0, ROUNDDOWN(im2colAll_confW4!CG24:HB48/2^4, 0), ROUNDUP(im2colAll_confW4!CG24:HB48/2^4, 0))","v":156},{"$f":"IF(im2colAll_confW4!CH24:HC48 > 0, ROUNDDOWN(im2colAll_confW4!CH24:HC48/2^4, 0), ROUNDUP(im2colAll_confW4!CH24:HC48/2^4, 0))","v":-19},{"$f":"IF(im2colAll_confW4!CI24:HD48 > 0, ROUNDDOWN(im2colAll_confW4!CI24:HD48/2^4, 0), ROUNDUP(im2colAll_confW4!CI24:HD48/2^4, 0))","v":18},{"$f":"IF(im2colAll_confW4!CJ24:HE48 > 0, ROUNDDOWN(im2colAll_confW4!CJ24:HE48/2^4, 0), ROUNDUP(im2colAll_confW4!CJ24:HE48/2^4, 0))","v":10},{"$f":"IF(im2colAll_confW4!CK24:HF48 > 0, ROUNDDOWN(im2colAll_confW4!CK24:HF48/2^4, 0), ROUNDUP(im2colAll_confW4!CK24:HF48/2^4, 0))","v":8},{"$f":"IF(im2colAll_confW4!CL24:HG48 > 0, ROUNDDOWN(im2colAll_confW4!CL24:HG48/2^4, 0), ROUNDUP(im2colAll_confW4!CL24:HG48/2^4, 0))","v":-27},{"$f":"IF(im2colAll_confW4!CM24:HH48 > 0, ROUNDDOWN(im2colAll_confW4!CM24:HH48/2^4, 0), ROUNDUP(im2colAll_confW4!CM24:HH48/2^4, 0))","v":-44},{"$f":"IF(im2colAll_confW4!CN24:HI48 > 0, ROUNDDOWN(im2colAll_confW4!CN24:HI48/2^4, 0), ROUNDUP(im2colAll_confW4!CN24:HI48/2^4, 0))","v":-33},{"$f":"IF(im2colAll_confW4!CO24:HJ48 > 0, ROUNDDOWN(im2colAll_confW4!CO24:HJ48/2^4, 0), ROUNDUP(im2colAll_confW4!CO24:HJ48/2^4, 0))","v":-4},{"$f":"IF(im2colAll_confW4!CP24:HK48 > 0, ROUNDDOWN(im2colAll_confW4!CP24:HK48/2^4, 0), ROUNDUP(im2colAll_confW4!CP24:HK48/2^4, 0))","v":-14},{"$f":"IF(im2colAll_confW4!CQ24:HL48 > 0, ROUNDDOWN(im2colAll_confW4!CQ24:HL48/2^4, 0), ROUNDUP(im2colAll_confW4!CQ24:HL48/2^4, 0))","v":3},{"$f":"IF(im2colAll_confW4!CR24:HM48 > 0, ROUNDDOWN(im2colAll_confW4!CR24:HM48/2^4, 0), ROUNDUP(im2colAll_confW4!CR24:HM48/2^4, 0))","v":21},{"$f":"IF(im2colAll_confW4!CS24:HN48 > 0, ROUNDDOWN(im2colAll_confW4!CS24:HN48/2^4, 0), ROUNDUP(im2colAll_confW4!CS24:HN48/2^4, 0))","v":23},{"$f":"IF(im2colAll_confW4!CT24:HO48 > 0, ROUNDDOWN(im2colAll_confW4!CT24:HO48/2^4, 0), ROUNDUP(im2colAll_confW4!CT24:HO48/2^4, 0))","v":40},{"$f":"IF(im2colAll_confW4!CU24:HP48 > 0, ROUNDDOWN(im2colAll_confW4!CU24:HP48/2^4, 0), ROUNDUP(im2colAll_confW4!CU24:HP48/2^4, 0))","v":7},{"$f":"IF(im2colAll_confW4!CV24:HQ48 > 0, ROUNDDOWN(im2colAll_confW4!CV24:HQ48/2^4, 0), ROUNDUP(im2colAll_confW4!CV24:HQ48/2^4, 0))","v":18},{"$f":"IF(im2colAll_confW4!CW24:HR48 > 0, ROUNDDOWN(im2colAll_confW4!CW24:HR48/2^4, 0), ROUNDUP(im2colAll_confW4!CW24:HR48/2^4, 0))","v":6},{"$f":"IF(im2colAll_confW4!CX24:HS48 > 0, ROUNDDOWN(im2colAll_confW4!CX24:HS48/2^4, 0), ROUNDUP(im2colAll_confW4!CX24:HS48/2^4, 0))","v":7},{"$f":"IF(im2colAll_confW4!CY24:HT48 > 0, ROUNDDOWN(im2colAll_confW4!CY24:HT48/2^4, 0), ROUNDUP(im2colAll_confW4!CY24:HT48/2^4, 0))","v":4},{"$f":"IF(im2colAll_confW4!CZ24:HU48 > 0, ROUNDDOWN(im2colAll_confW4!CZ24:HU48/2^4, 0), ROUNDUP(im2colAll_confW4!CZ24:HU48/2^4, 0))","v":-14},{"$f":"IF(im2colAll_confW4!DA24:HV48 > 0, ROUNDDOWN(im2colAll_confW4!DA24:HV48/2^4, 0), ROUNDUP(im2colAll_confW4!DA24:HV48/2^4, 0))","v":-29},{"$f":"IF(im2colAll_confW4!DB24:HW48 > 0, ROUNDDOWN(im2colAll_confW4!DB24:HW48/2^4, 0), ROUNDUP(im2colAll_confW4!DB24:HW48/2^4, 0))","v":155},{"$f":"IF(im2colAll_confW4!DC24:HX48 > 0, ROUNDDOWN(im2colAll_confW4!DC24:HX48/2^4, 0), ROUNDUP(im2colAll_confW4!DC24:HX48/2^4, 0))","v":-10},{"$f":"IF(im2colAll_confW4!DD24:HY48 > 0, ROUNDDOWN(im2colAll_confW4!DD24:HY48/2^4, 0), ROUNDUP(im2colAll_confW4!DD24:HY48/2^4, 0))","v":1},{"$f":"IF(im2colAll_confW4!DE24:HZ48 > 0, ROUNDDOWN(im2colAll_confW4!DE24:HZ48/2^4, 0), ROUNDUP(im2colAll_confW4!DE24:HZ48/2^4, 0))","v":8},{"$f":"IF(im2colAll_confW4!DF24:IA48 > 0, ROUNDDOWN(im2colAll_confW4!DF24:IA48/2^4, 0), ROUNDUP(im2colAll_confW4!DF24:IA48/2^4, 0))","v":-15},{"$f":"IF(im2colAll_confW4!DG24:IB48 > 0, ROUNDDOWN(im2colAll_confW4!DG24:IB48/2^4, 0), ROUNDUP(im2colAll_confW4!DG24:IB48/2^4, 0))","v":-42},{"$f":"IF(im2colAll_confW4!DH24:IC48 > 0, ROUNDDOWN(im2colAll_confW4!DH24:IC48/2^4, 0), ROUNDUP(im2colAll_confW4!DH24:IC48/2^4, 0))","v":-32},{"$f":"IF(im2colAll_confW4!DI24:ID48 > 0, ROUNDDOWN(im2colAll_confW4!DI24:ID48/2^4, 0), ROUNDUP(im2colAll_confW4!DI24:ID48/2^4, 0))","v":-16},{"$f":"IF(im2colAll_confW4!DJ24:IE48 > 0, ROUNDDOWN(im2colAll_confW4!DJ24:IE48/2^4, 0), ROUNDUP(im2colAll_confW4!DJ24:IE48/2^4, 0))","v":-14},{"$f":"IF(im2colAll_confW4!DK24:IF48 > 0, ROUNDDOWN(im2colAll_confW4!DK24:IF48/2^4, 0), ROUNDUP(im2colAll_confW4!DK24:IF48/2^4, 0))","v":-11},{"$f":"IF(im2colAll_confW4!DL24:IG48 > 0, ROUNDDOWN(im2colAll_confW4!DL24:IG48/2^4, 0), ROUNDUP(im2colAll_confW4!DL24:IG48/2^4, 0))","v":-14},{"$f":"IF(im2colAll_confW4!DM24:IH48 > 0, ROUNDDOWN(im2colAll_confW4!DM24:IH48/2^4, 0), ROUNDUP(im2colAll_confW4!DM24:IH48/2^4, 0))","v":0},{"$f":"IF(im2colAll_confW4!DN24:II48 > 0, ROUNDDOWN(im2colAll_confW4!DN24:II48/2^4, 0), ROUNDUP(im2colAll_confW4!DN24:II48/2^4, 0))","v":12},{"$f":"IF(im2colAll_confW4!DO24:IJ48 > 0, ROUNDDOWN(im2colAll_confW4!DO24:IJ48/2^4, 0), ROUNDUP(im2colAll_confW4!DO24:IJ48/2^4, 0))","v":26},{"$f":"IF(im2colAll_confW4!DP24:IK48 > 0, ROUNDDOWN(im2colAll_confW4!DP24:IK48/2^4, 0), ROUNDUP(im2colAll_confW4!DP24:IK48/2^4, 0))","v":-20},{"$f":"IF(im2colAll_confW4!DQ24:IL48 > 0, ROUNDDOWN(im2colAll_confW4!DQ24:IL48/2^4, 0), ROUNDUP(im2colAll_confW4!DQ24:IL48/2^4, 0))","v":30},{"$f":"IF(im2colAll_confW4!DR24:IM48 > 0, ROUNDDOWN(im2colAll_confW4!DR24:IM48/2^4, 0), ROUNDUP(im2colAll_confW4!DR24:IM48/2^4, 0))","v":-4},{"$f":"IF(im2colAll_confW4!DS24:IN48 > 0, ROUNDDOWN(im2colAll_confW4!DS24:IN48/2^4, 0), ROUNDUP(im2colAll_confW4!DS24:IN48/2^4, 0))","v":11},{"$f":"IF(im2colAll_confW4!DT24:IO48 > 0, ROUNDDOWN(im2colAll_confW4!DT24:IO48/2^4, 0), ROUNDUP(im2colAll_confW4!DT24:IO48/2^4, 0))","v":3},{"$f":"IF(im2colAll_confW4!DU24:IP48 > 0, ROUNDDOWN(im2colAll_confW4!DU24:IP48/2^4, 0), ROUNDUP(im2colAll_confW4!DU24:IP48/2^4, 0))","v":-4},{"$f":"IF(im2colAll_confW4!DV24:IQ48 > 0, ROUNDDOWN(im2colAll_confW4!DV24:IQ48/2^4, 0), ROUNDUP(im2colAll_confW4!DV24:IQ48/2^4, 0))","v":-42}]
[{"$f":"IF(im2colAll_confW4!A25:DV49 > 0, ROUNDDOWN(im2colAll_confW4!A25:DV49/2^4, 0), ROUNDUP(im2colAll_confW4!A25:DV49/2^4, 0))","v":101},{"$f":"IF(im2colAll_confW4!B25:DW49 > 0, ROUNDDOWN(im2colAll_confW4!B25:DW49/2^4, 0), ROUNDUP(im2colAll_confW4!B25:DW49/2^4, 0))","v":-1},{"$f":"IF(im2colAll_confW4!C25:DX49 > 0, ROUNDDOWN(im2colAll_confW4!C25:DX49/2^4, 0), ROUNDUP(im2colAll_confW4!C25:DX49/2^4, 0))","v":10},{"$f":"IF(im2colAll_confW4!D25:DY49 > 0, ROUNDDOWN(im2colAll_confW4!D25:DY49/2^4, 0), ROUNDUP(im2colAll_confW4!D25:DY49/2^4, 0))","v":-8},{"$f":"IF(im2colAll_confW4!E25:DZ49 > 0, ROUNDDOWN(im2colAll_confW4!E25:DZ49/2^4, 0), ROUNDUP(im2colAll_confW4!E25:DZ49/2^4, 0))","v":6},{"$f":"IF(im2colAll_confW4!F25:EA49 > 0, ROUNDDOWN(im2colAll_confW4!F25:EA49/2^4, 0), ROUNDUP(im2colAll_confW4!F25:EA49/2^4, 0))","v":-19},{"$f":"IF(im2colAll_confW4!G25:EB49 > 0, ROUNDDOWN(im2colAll_confW4!G25:EB49/2^4, 0), ROUNDUP(im2colAll_confW4!G25:EB49/2^4, 0))","v":-45},{"$f":"IF(im2colAll_confW4!H25:EC49 > 0, ROUNDDOWN(im2colAll_confW4!H25:EC49/2^4, 0), ROUNDUP(im2colAll_confW4!H25:EC49/2^4, 0))","v":-18},{"$f":"IF(im2colAll_confW4!I25:ED49 > 0, ROUNDDOWN(im2colAll_confW4!I25:ED49/2^4, 0), ROUNDUP(im2colAll_confW4!I25:ED49/2^4, 0))","v":-17},{"$f":"IF(im2colAll_confW4!J25:EE49 > 0, ROUNDDOWN(im2colAll_confW4!J25:EE49/2^4, 0), ROUNDUP(im2colAll_confW4!J25:EE49/2^4, 0))","v":14},{"$f":"IF(im2colAll_confW4!K25:EF49 > 0, ROUNDDOWN(im2colAll_confW4!K25:EF49/2^4, 0), ROUNDUP(im2colAll_confW4!K25:EF49/2^4, 0))","v":-1},{"$f":"IF(im2colAll_confW4!L25:EG49 > 0, ROUNDDOWN(im2colAll_confW4!L25:EG49/2^4, 0), ROUNDUP(im2colAll_confW4!L25:EG49/2^4, 0))","v":-6},{"$f":"IF(im2colAll_confW4!M25:EH49 > 0, ROUNDDOWN(im2colAll_confW4!M25:EH49/2^4, 0), ROUNDUP(im2colAll_confW4!M25:EH49/2^4, 0))","v":15},{"$f":"IF(im2colAll_confW4!N25:EI49 > 0, ROUNDDOWN(im2colAll_confW4!N25:EI49/2^4, 0), ROUNDUP(im2colAll_confW4!N25:EI49/2^4, 0))","v":18},{"$f":"IF(im2colAll_confW4!O25:EJ49 > 0, ROUNDDOWN(im2colAll_confW4!O25:EJ49/2^4, 0), ROUNDUP(im2colAll_confW4!O25:EJ49/2^4, 0))","v":-10},{"$f":"IF(im2colAll_confW4!P25:EK49 > 0, ROUNDDOWN(im2colAll_confW4!P25:EK49/2^4, 0), ROUNDUP(im2colAll_confW4!P25:EK49/2^4, 0))","v":41},{"$f":"IF(im2colAll_confW4!Q25:EL49 > 0, ROUNDDOWN(im2colAll_confW4!Q25:EL49/2^4, 0), ROUNDUP(im2colAll_confW4!Q25:EL49/2^4, 0))","v":-18},{"$f":"IF(im2colAll_confW4!R25:EM49 > 0, ROUNDDOWN(im2colAll_confW4!R25:EM49/2^4, 0), ROUNDUP(im2colAll_confW4!R25:EM49/2^4, 0))","v":7},{"$f":"IF(im2colAll_confW4!S25:EN49 > 0, ROUNDDOWN(im2colAll_confW4!S25:EN49/2^4, 0), ROUNDUP(im2colAll_confW4!S25:EN49/2^4, 0))","v":-2},{"$f":"IF(im2colAll_confW4!T25:EO49 > 0, ROUNDDOWN(im2colAll_confW4!T25:EO49/2^4, 0), ROUNDUP(im2colAll_confW4!T25:EO49/2^4, 0))","v":-15},{"$f":"IF(im2colAll_confW4!U25:EP49 > 0, ROUNDDOWN(im2colAll_confW4!U25:EP49/2^4, 0), ROUNDUP(im2colAll_confW4!U25:EP49/2^4, 0))","v":-40},{"$f":"IF(im2colAll_confW4!V25:EQ49 > 0, ROUNDDOWN(im2colAll_confW4!V25:EQ49/2^4, 0), ROUNDUP(im2colAll_confW4!V25:EQ49/2^4, 0))","v":105},{"$f":"IF(im2colAll_confW4!W25:ER49 > 0, ROUNDDOWN(im2colAll_confW4!W25:ER49/2^4, 0), ROUNDUP(im2colAll_confW4!W25:ER49/2^4, 0))","v":-20},{"$f":"IF(im2colAll_confW4!X25:ES49 > 0, ROUNDDOWN(im2colAll_confW4!X25:ES49/2^4, 0), ROUNDUP(im2colAll_confW4!X25:ES49/2^4, 0))","v":5},{"$f":"IF(im2colAll_confW4!Y25:ET49 > 0, ROUNDDOWN(im2colAll_confW4!Y25:ET49/2^4, 0), ROUNDUP(im2colAll_confW4!Y25:ET49/2^4, 0))","v":7},{"$f":"IF(im2colAll_confW4!Z25:EU49 > 0, ROUNDDOWN(im2colAll_confW4!Z25:EU49/2^4, 0), ROUNDUP(im2colAll_confW4!Z25:EU49/2^4, 0))","v":-5},{"$f":"IF(im2colAll_confW4!AA25:EV49 > 0, ROUNDDOWN(im2colAll_confW4!AA25:EV49/2^4, 0), ROUNDUP(im2colAll_confW4!AA25:EV49/2^4, 0))","v":-36},{"$f":"IF(im2colAll_confW4!AB25:EW49 > 0, ROUNDDOWN(im2colAll_confW4!AB25:EW49/2^4, 0), ROUNDUP(im2colAll_confW4!AB25:EW49/2^4, 0))","v":-40},{"$f":"IF(im2colAll_confW4!AC25:EX49 > 0, ROUNDDOWN(im2colAll_confW4!AC25:EX49/2^4, 0), ROUNDUP(im2colAll_confW4!AC25:EX49/2^4, 0))","v":-17},{"$f":"IF(im2colAll_confW4!AD25:EY49 > 0, ROUNDDOWN(im2colAll_confW4!AD25:EY49/2^4, 0), ROUNDUP(im2colAll_confW4!AD25:EY49/2^4, 0))","v":-29},{"$f":"IF(im2colAll_confW4!AE25:EZ49 > 0, ROUNDDOWN(im2colAll_confW4!AE25:EZ49/2^4, 0), ROUNDUP(im2colAll_confW4!AE25:EZ49/2^4, 0))","v":-1},{"$f":"IF(im2colAll_confW4!AF25:FA49 > 0, ROUNDDOWN(im2colAll_confW4!AF25:FA49/2^4, 0), ROUNDUP(im2colAll_confW4!AF25:FA49/2^4, 0))","v":-14},{"$f":"IF(im2colAll_confW4!AG25:FB49 > 0, ROUNDDOWN(im2colAll_confW4!AG25:FB49/2^4, 0), ROUNDUP(im2colAll_confW4!AG25:FB49/2^4, 0))","v":-7},{"$f":"IF(im2colAll_confW4!AH25:FC49 > 0, ROUNDDOWN(im2colAll_confW4!AH25:FC49/2^4, 0), ROUNDUP(im2colAll_confW4!AH25:FC49/2^4, 0))","v":17},{"$f":"IF(im2colAll_confW4!AI25:FD49 > 0, ROUNDDOWN(im2colAll_confW4!AI25:FD49/2^4, 0), ROUNDUP(im2colAll_confW4!AI25:FD49/2^4, 0))","v":21},{"$f":"IF(im2colAll_confW4!AJ25:FE49 > 0, ROUNDDOWN(im2colAll_confW4!AJ25:FE49/2^4, 0), ROUNDUP(im2colAll_confW4!AJ25:FE49/2^4, 0))","v":-12},{"$f":"IF(im2colAll_confW4!AK25:FF49 > 0, ROUNDDOWN(im2colAll_confW4!AK25:FF49/2^4, 0), ROUNDUP(im2colAll_confW4!AK25:FF49/2^4, 0))","v":39},{"$f":"IF(im2colAll_confW4!AL25:FG49 > 0, ROUNDDOWN(im2colAll_confW4!AL25:FG49/2^4, 0), ROUNDUP(im2colAll_confW4!AL25:FG49/2^4, 0))","v":15},{"$f":"IF(im2colAll_confW4!AM25:FH49 > 0, ROUNDDOWN(im2colAll_confW4!AM25:FH49/2^4, 0), ROUNDUP(im2colAll_confW4!AM25:FH49/2^4, 0))","v":-4},{"$f":"IF(im2colAll_confW4!AN25:FI49 > 0, ROUNDDOWN(im2colAll_confW4!AN25:FI49/2^4, 0), ROUNDUP(im2colAll_confW4!AN25:FI49/2^4, 0))","v":-2},{"$f":"IF(im2colAll_confW4!AO25:FJ49 > 0, ROUNDDOWN(im2colAll_confW4!AO25:FJ49/2^4, 0), ROUNDUP(im2colAll_confW4!AO25:FJ49/2^4, 0))","v":-34},{"$f":"IF(im2colAll_confW4!AP25:FK49 > 0, ROUNDDOWN(im2colAll_confW4!AP25:FK49/2^4, 0), ROUNDUP(im2colAll_confW4!AP25:FK49/2^4, 0))","v":-32},{"$f":"IF(im2colAll_confW4!AQ25:FL49 > 0, ROUNDDOWN(im2colAll_confW4!AQ25:FL49/2^4, 0), ROUNDUP(im2colAll_confW4!AQ25:FL49/2^4, 0))","v":99},{"$f":"IF(im2colAll_confW4!AR25:FM49 > 0, ROUNDDOWN(im2colAll_confW4!AR25:FM49/2^4, 0), ROUNDUP(im2colAll_confW4!AR25:FM49/2^4, 0))","v":-19},{"$f":"IF(im2colAll_confW4!AS25:FN49 > 0, ROUNDDOWN(im2colAll_confW4!AS25:FN49/2^4, 0), ROUNDUP(im2colAll_confW4!AS25:FN49/2^4, 0))","v":15},{"$f":"IF(im2colAll_confW4!AT25:FO49 > 0, ROUNDDOWN(im2colAll_confW4!AT25:FO49/2^4, 0), ROUNDUP(im2colAll_confW4!AT25:FO49/2^4, 0))","v":-8},{"$f":"IF(im2colAll_confW4!AU25:FP49 > 0, ROUNDDOWN(im2colAll_confW4!AU25:FP49/2^4, 0), ROUNDUP(im2colAll_confW4!AU25:FP49/2^4, 0))","v":-9},{"$f":"IF(im2colAll_confW4!AV25:FQ49 > 0, ROUNDDOWN(im2colAll_confW4!AV25:FQ49/2^4, 0), ROUNDUP(im2colAll_confW4!AV25:FQ49/2^4, 0))","v":-19},{"$f":"IF(im2colAll_confW4!AW25:FR49 > 0, ROUNDDOWN(im2colAll_confW4!AW25:FR49/2^4, 0), ROUNDUP(im2colAll_confW4!AW25:FR49/2^4, 0))","v":-30},{"$f":"IF(im2colAll_confW4!AX25:FS49 > 0, ROUNDDOWN(im2colAll_confW4!AX25:FS49/2^4, 0), ROUNDUP(im2colAll_confW4!AX25:FS49/2^4, 0))","v":-41},{"$f":"IF(im2colAll_confW4!AY25:FT49 > 0, ROUNDDOWN(im2colAll_confW4!AY25:FT49/2^4, 0), ROUNDUP(im2colAll_confW4!AY25:FT49/2^4, 0))","v":-30},{"$f":"IF(im2colAll_confW4!AZ25:FU49 > 0, ROUNDDOWN(im2colAll_confW4!AZ25:FU49/2^4, 0), ROUNDUP(im2colAll_confW4!AZ25:FU49/2^4, 0))","v":-4},{"$f":"IF(im2colAll_confW4!BA25:FV49 > 0, ROUNDDOWN(im2colAll_confW4!BA25:FV49/2^4, 0), ROUNDUP(im2colAll_confW4!BA25:FV49/2^4, 0))","v":-14},{"$f":"IF(im2colAll_confW4!BB25:FW49 > 0, ROUNDDOWN(im2colAll_confW4!BB25:FW49/2^4, 0), ROUNDUP(im2colAll_confW4!BB25:FW49/2^4, 0))","v":-3},{"$f":"IF(im2colAll_confW4!BC25:FX49 > 0, ROUNDDOWN(im2colAll_confW4!BC25:FX49/2^4, 0), ROUNDUP(im2colAll_confW4!BC25:FX49/2^4, 0))","v":16},{"$f":"IF(im2colAll_confW4!BD25:FY49 > 0, ROUNDDOWN(im2colAll_confW4!BD25:FY49/2^4, 0), ROUNDUP(im2colAll_confW4!BD25:FY49/2^4, 0))","v":24},{"$f":"IF(im2colAll_confW4!BE25:FZ49 > 0, ROUNDDOWN(im2colAll_confW4!BE25:FZ49/2^4, 0), ROUNDUP(im2colAll_confW4!BE25:FZ49/2^4, 0))","v":-4},{"$f":"IF(im2colAll_confW4!BF25:GA49 > 0, ROUNDDOWN(im2colAll_confW4!BF25:GA49/2^4, 0), ROUNDUP(im2colAll_confW4!BF25:GA49/2^4, 0))","v":37},{"$f":"IF(im2colAll_confW4!BG25:GB49 > 0, ROUNDDOWN(im2colAll_confW4!BG25:GB49/2^4, 0), ROUNDUP(im2colAll_confW4!BG25:GB49/2^4, 0))","v":-7},{"$f":"IF(im2colAll_confW4!BH25:GC49 > 0, ROUNDDOWN(im2colAll_confW4!BH25:GC49/2^4, 0), ROUNDUP(im2colAll_confW4!BH25:GC49/2^4, 0))","v":8},{"$f":"IF(im2colAll_confW4!BI25:GD49 > 0, ROUNDDOWN(im2colAll_confW4!BI25:GD49/2^4, 0), ROUNDUP(im2colAll_confW4!BI25:GD49/2^4, 0))","v":-16},{"$f":"IF(im2colAll_confW4!BJ25:GE49 > 0, ROUNDDOWN(im2colAll_confW4!BJ25:GE49/2^4, 0), ROUNDUP(im2colAll_confW4!BJ25:GE49/2^4, 0))","v":-25},{"$f":"IF(im2colAll_confW4!BK25:GF49 > 0, ROUNDDOWN(im2colAll_confW4!BK25:GF49/2^4, 0), ROUNDUP(im2colAll_confW4!BK25:GF49/2^4, 0))","v":-38},{"$f":"IF(im2colAll_confW4!BL25:GG49 > 0, ROUNDDOWN(im2colAll_confW4!BL25:GG49/2^4, 0), ROUNDUP(im2colAll_confW4!BL25:GG49/2^4, 0))","v":104},{"$f":"IF(im2colAll_confW4!BM25:GH49 > 0, ROUNDDOWN(im2colAll_confW4!BM25:GH49/2^4, 0), ROUNDUP(im2colAll_confW4!BM25:GH49/2^4, 0))","v":-19},{"$f":"IF(im2colAll_confW4!BN25:GI49 > 0, ROUNDDOWN(im2colAll_confW4!BN25:GI49/2^4, 0), ROUNDUP(im2colAll_confW4!BN25:GI49/2^4, 0))","v":15},{"$f":"IF(im2colAll_confW4!BO25:GJ49 > 0, ROUNDDOWN(im2colAll_confW4!BO25:GJ49/2^4, 0), ROUNDUP(im2colAll_confW4!BO25:GJ49/2^4, 0))","v":12},{"$f":"IF(im2colAll_confW4!BP25:GK49 > 0, ROUNDDOWN(im2colAll_confW4!BP25:GK49/2^4, 0), ROUNDUP(im2colAll_confW4!BP25:GK49/2^4, 0))","v":-16},{"$f":"IF(im2colAll_confW4!BQ25:GL49 > 0, ROUNDDOWN(im2colAll_confW4!BQ25:GL49/2^4, 0), ROUNDUP(im2colAll_confW4!BQ25:GL49/2^4, 0))","v":0},{"$f":"IF(im2colAll_confW4!BR25:GM49 > 0, ROUNDDOWN(im2colAll_confW4!BR25:GM49/2^4, 0), ROUNDUP(im2colAll_confW4!BR25:GM49/2^4, 0))","v":-39},{"$f":"IF(im2colAll_confW4!BS25:GN49 > 0, ROUNDDOWN(im2colAll_confW4!BS25:GN49/2^4, 0), ROUNDUP(im2colAll_confW4!BS25:GN49/2^4, 0))","v":-11},{"$f":"IF(im2colAll_confW4!BT25:GO49 > 0, ROUNDDOWN(im2colAll_confW4!BT25:GO49/2^4, 0), ROUNDUP(im2colAll_confW4!BT25:GO49/2^4, 0))","v":-28},{"$f":"IF(im2colAll_confW4!BU25:GP49 > 0, ROUNDDOWN(im2colAll_confW4!BU25:GP49/2^4, 0), ROUNDUP(im2colAll_confW4!BU25:GP49/2^4, 0))","v":-2},{"$f":"IF(im2colAll_confW4!BV25:GQ49 > 0, ROUNDDOWN(im2colAll_confW4!BV25:GQ49/2^4, 0), ROUNDUP(im2colAll_confW4!BV25:GQ49/2^4, 0))","v":-3},{"$f":"IF(im2colAll_confW4!BW25:GR49 > 0, ROUNDDOWN(im2colAll_confW4!BW25:GR49/2^4, 0), ROUNDUP(im2colAll_confW4!BW25:GR49/2^4, 0))","v":-25},{"$f":"IF(im2colAll_confW4!BX25:GS49 > 0, ROUNDDOWN(im2colAll_confW4!BX25:GS49/2^4, 0), ROUNDUP(im2colAll_confW4!BX25:GS49/2^4, 0))","v":24},{"$f":"IF(im2colAll_confW4!BY25:GT49 > 0, ROUNDDOWN(im2colAll_confW4!BY25:GT49/2^4, 0), ROUNDUP(im2colAll_confW4!BY25:GT49/2^4, 0))","v":9},{"$f":"IF(im2colAll_confW4!BZ25:GU49 > 0, ROUNDDOWN(im2colAll_confW4!BZ25:GU49/2^4, 0), ROUNDUP(im2colAll_confW4!BZ25:GU49/2^4, 0))","v":-14},{"$f":"IF(im2colAll_confW4!CA25:GV49 > 0, ROUNDDOWN(im2colAll_confW4!CA25:GV49/2^4, 0), ROUNDUP(im2colAll_confW4!CA25:GV49/2^4, 0))","v":40},{"$f":"IF(im2colAll_confW4!CB25:GW49 > 0, ROUNDDOWN(im2colAll_confW4!CB25:GW49/2^4, 0), ROUNDUP(im2colAll_confW4!CB25:GW49/2^4, 0))","v":10},{"$f":"IF(im2colAll_confW4!CC25:GX49 > 0, ROUNDDOWN(im2colAll_confW4!CC25:GX49/2^4, 0), ROUNDUP(im2colAll_confW4!CC25:GX49/2^4, 0))","v":0},{"$f":"IF(im2colAll_confW4!CD25:GY49 > 0, ROUNDDOWN(im2colAll_confW4!CD25:GY49/2^4, 0), ROUNDUP(im2colAll_confW4!CD25:GY49/2^4, 0))","v":-7},{"$f":"IF(im2colAll_confW4!CE25:GZ49 > 0, ROUNDDOWN(im2colAll_confW4!CE25:GZ49/2^4, 0), ROUNDUP(im2colAll_confW4!CE25:GZ49/2^4, 0))","v":-18},{"$f":"IF(im2colAll_confW4!CF25:HA49 > 0, ROUNDDOWN(im2colAll_confW4!CF25:HA49/2^4, 0), ROUNDUP(im2colAll_confW4!CF25:HA49/2^4, 0))","v":-26},{"$f":"IF(im2colAll_confW4!CG25:HB49 > 0, ROUNDDOWN(im2colAll_confW4!CG25:HB49/2^4, 0), ROUNDUP(im2colAll_confW4!CG25:HB49/2^4, 0))","v":101},{"$f":"IF(im2colAll_confW4!CH25:HC49 > 0, ROUNDDOWN(im2colAll_confW4!CH25:HC49/2^4, 0), ROUNDUP(im2colAll_confW4!CH25:HC49/2^4, 0))","v":-11},{"$f":"IF(im2colAll_confW4!CI25:HD49 > 0, ROUNDDOWN(im2colAll_confW4!CI25:HD49/2^4, 0), ROUNDUP(im2colAll_confW4!CI25:HD49/2^4, 0))","v":20},{"$f":"IF(im2colAll_confW4!CJ25:HE49 > 0, ROUNDDOWN(im2colAll_confW4!CJ25:HE49/2^4, 0), ROUNDUP(im2colAll_confW4!CJ25:HE49/2^4, 0))","v":-3},{"$f":"IF(im2colAll_confW4!CK25:HF49 > 0, ROUNDDOWN(im2colAll_confW4!CK25:HF49/2^4, 0), ROUNDUP(im2colAll_confW4!CK25:HF49/2^4, 0))","v":8},{"$f":"IF(im2colAll_confW4!CL25:HG49 > 0, ROUNDDOWN(im2colAll_confW4!CL25:HG49/2^4, 0), ROUNDUP(im2colAll_confW4!CL25:HG49/2^4, 0))","v":-14},{"$f":"IF(im2colAll_confW4!CM25:HH49 > 0, ROUNDDOWN(im2colAll_confW4!CM25:HH49/2^4, 0), ROUNDUP(im2colAll_confW4!CM25:HH49/2^4, 0))","v":-30},{"$f":"IF(im2colAll_confW4!CN25:HI49 > 0, ROUNDDOWN(im2colAll_confW4!CN25:HI49/2^4, 0), ROUNDUP(im2colAll_confW4!CN25:HI49/2^4, 0))","v":-20},{"$f":"IF(im2colAll_confW4!CO25:HJ49 > 0, ROUNDDOWN(im2colAll_confW4!CO25:HJ49/2^4, 0), ROUNDUP(im2colAll_confW4!CO25:HJ49/2^4, 0))","v":-13},{"$f":"IF(im2colAll_confW4!CP25:HK49 > 0, ROUNDDOWN(im2colAll_confW4!CP25:HK49/2^4, 0), ROUNDUP(im2colAll_confW4!CP25:HK49/2^4, 0))","v":-10},{"$f":"IF(im2colAll_confW4!CQ25:HL49 > 0, ROUNDDOWN(im2colAll_confW4!CQ25:HL49/2^4, 0), ROUNDUP(im2colAll_confW4!CQ25:HL49/2^4, 0))","v":0},{"$f":"IF(im2colAll_confW4!CR25:HM49 > 0, ROUNDDOWN(im2colAll_confW4!CR25:HM49/2^4, 0), ROUNDUP(im2colAll_confW4!CR25:HM49/2^4, 0))","v":11},{"$f":"IF(im2colAll_confW4!CS25:HN49 > 0, ROUNDDOWN(im2colAll_confW4!CS25:HN49/2^4, 0), ROUNDUP(im2colAll_confW4!CS25:HN49/2^4, 0))","v":5},{"$f":"IF(im2colAll_confW4!CT25:HO49 > 0, ROUNDDOWN(im2colAll_confW4!CT25:HO49/2^4, 0), ROUNDUP(im2colAll_confW4!CT25:HO49/2^4, 0))","v":17},{"$f":"IF(im2colAll_confW4!CU25:HP49 > 0, ROUNDDOWN(im2colAll_confW4!CU25:HP49/2^4, 0), ROUNDUP(im2colAll_confW4!CU25:HP49/2^4, 0))","v":16},{"$f":"IF(im2colAll_confW4!CV25:HQ49 > 0, ROUNDDOWN(im2colAll_confW4!CV25:HQ49/2^4, 0), ROUNDUP(im2colAll_confW4!CV25:HQ49/2^4, 0))","v":10},{"$f":"IF(im2colAll_confW4!CW25:HR49 > 0, ROUNDDOWN(im2colAll_confW4!CW25:HR49/2^4, 0), ROUNDUP(im2colAll_confW4!CW25:HR49/2^4, 0))","v":2},{"$f":"IF(im2colAll_confW4!CX25:HS49 > 0, ROUNDDOWN(im2colAll_confW4!CX25:HS49/2^4, 0), ROUNDUP(im2colAll_confW4!CX25:HS49/2^4, 0))","v":-9},{"$f":"IF(im2colAll_confW4!CY25:HT49 > 0, ROUNDDOWN(im2colAll_confW4!CY25:HT49/2^4, 0), ROUNDUP(im2colAll_confW4!CY25:HT49/2^4, 0))","v":7},{"$f":"IF(im2colAll_confW4!CZ25:HU49 > 0, ROUNDDOWN(im2colAll_confW4!CZ25:HU49/2^4, 0), ROUNDUP(im2colAll_confW4!CZ25:HU49/2^4, 0))","v":-21},{"$f":"IF(im2colAll_confW4!DA25:HV49 > 0, ROUNDDOWN(im2colAll_confW4!DA25:HV49/2^4, 0), ROUNDUP(im2colAll_confW4!DA25:HV49/2^4, 0))","v":-22},{"$f":"IF(im2colAll_confW4!DB25:HW49 > 0, ROUNDDOWN(im2colAll_confW4!DB25:HW49/2^4, 0), ROUNDUP(im2colAll_confW4!DB25:HW49/2^4, 0))","v":101},{"$f":"IF(im2colAll_confW4!DC25:HX49 > 0, ROUNDDOWN(im2colAll_confW4!DC25:HX49/2^4, 0), ROUNDUP(im2colAll_confW4!DC25:HX49/2^4, 0))","v":-20},{"$f":"IF(im2colAll_confW4!DD25:HY49 > 0, ROUNDDOWN(im2colAll_confW4!DD25:HY49/2^4, 0), ROUNDUP(im2colAll_confW4!DD25:HY49/2^4, 0))","v":0},{"$f":"IF(im2colAll_confW4!DE25:HZ49 > 0, ROUNDDOWN(im2colAll_confW4!DE25:HZ49/2^4, 0), ROUNDUP(im2colAll_confW4!DE25:HZ49/2^4, 0))","v":-1},{"$f":"IF(im2colAll_confW4!DF25:IA49 > 0, ROUNDDOWN(im2colAll_confW4!DF25:IA49/2^4, 0), ROUNDUP(im2colAll_confW4!DF25:IA49/2^4, 0))","v":-8},{"$f":"IF(im2colAll_confW4!DG25:IB49 > 0, ROUNDDOWN(im2colAll_confW4!DG25:IB49/2^4, 0), ROUNDUP(im2colAll_confW4!DG25:IB49/2^4, 0))","v":-21},{"$f":"IF(im2colAll_confW4!DH25:IC49 > 0, ROUNDDOWN(im2colAll_confW4!DH25:IC49/2^4, 0), ROUNDUP(im2colAll_confW4!DH25:IC49/2^4, 0))","v":-20},{"$f":"IF(im2colAll_confW4!DI25:ID49 > 0, ROUNDDOWN(im2colAll_confW4!DI25:ID49/2^4, 0), ROUNDUP(im2colAll_confW4!DI25:ID49/2^4, 0))","v":-11},{"$f":"IF(im2colAll_confW4!DJ25:IE49 > 0, ROUNDDOWN(im2colAll_confW4!DJ25:IE49/2^4, 0), ROUNDUP(im2colAll_confW4!DJ25:IE49/2^4, 0))","v":-19},{"$f":"IF(im2colAll_confW4!DK25:IF49 > 0, ROUNDDOWN(im2colAll_confW4!DK25:IF49/2^4, 0), ROUNDUP(im2colAll_confW4!DK25:IF49/2^4, 0))","v":-5},{"$f":"IF(im2colAll_confW4!DL25:IG49 > 0, ROUNDDOWN(im2colAll_confW4!DL25:IG49/2^4, 0), ROUNDUP(im2colAll_confW4!DL25:IG49/2^4, 0))","v":-15},{"$f":"IF(im2colAll_confW4!DM25:IH49 > 0, ROUNDDOWN(im2colAll_confW4!DM25:IH49/2^4, 0), ROUNDUP(im2colAll_confW4!DM25:IH49/2^4, 0))","v":-1},{"$f":"IF(im2colAll_confW4!DN25:II49 > 0, ROUNDDOWN(im2colAll_confW4!DN25:II49/2^4, 0), ROUNDUP(im2colAll_confW4!DN25:II49/2^4, 0))","v":10},{"$f":"IF(im2colAll_confW4!DO25:IJ49 > 0, ROUNDDOWN(im2colAll_confW4!DO25:IJ49/2^4, 0), ROUNDUP(im2colAll_confW4!DO25:IJ49/2^4, 0))","v":12},{"$f":"IF(im2colAll_confW4!DP25:IK49 > 0, ROUNDDOWN(im2colAll_confW4!DP25:IK49/2^4, 0), ROUNDUP(im2colAll_confW4!DP25:IK49/2^4, 0))","v":-7},{"$f":"IF(im2colAll_confW4!DQ25:IL49 > 0, ROUNDDOWN(im2colAll_confW4!DQ25:IL49/2^4, 0), ROUNDUP(im2colAll_confW4!DQ25:IL49/2^4, 0))","v":33},{"$f":"IF(im2colAll_confW4!DR25:IM49 > 0, ROUNDDOWN(im2colAll_confW4!DR25:IM49/2^4, 0), ROUNDUP(im2colAll_confW4!DR25:IM49/2^4, 0))","v":8},{"$f":"IF(im2colAll_confW4!DS25:IN49 > 0, ROUNDDOWN(im2colAll_confW4!DS25:IN49/2^4, 0), ROUNDUP(im2colAll_confW4!DS25:IN49/2^4, 0))","v":-5},{"$f":"IF(im2colAll_confW4!DT25:IO49 > 0, ROUNDDOWN(im2colAll_confW4!DT25:IO49/2^4, 0), ROUNDUP(im2colAll_confW4!DT25:IO49/2^4, 0))","v":-6},{"$f":"IF(im2colAll_confW4!DU25:IP49 > 0, ROUNDDOWN(im2colAll_confW4!DU25:IP49/2^4, 0), ROUNDUP(im2colAll_confW4!DU25:IP49/2^4, 0))","v":0},{"$f":"IF(im2colAll_confW4!DV25:IQ49 > 0, ROUNDDOWN(im2colAll_confW4!DV25:IQ49/2^4, 0), ROUNDUP(im2colAll_confW4!DV25:IQ49/2^4, 0))","v":-23}]

{"sheet":"outCh","index":3,"n_rows":150,"n_cols":21,"rows_kept":150,"cut":false,"hidden":false,"merged":[]}
[{"$f":"OFFSET(INDIRECT(ADDRESS(1,1,,,\"truncate\")), 0, (ROW()-1-0)*21+(COLUMN()-1))","v":111},15,7,1,8,-8,-2,-7,-26,-6,{"$f":"OFFSET(INDIRECT(ADDRESS(1,1,,,\"truncate\")), 0, (ROW()-1-0)*21+(COLUMN()-1))","v":-5},11,-11,9,4,33,1,-31,-1,-9,-12]
[109,9,-4,-5,8,-21,-4,0,-42,-5,-7,-3,-14,7,-2,41,6,-26,-4,-11,-18]
[106,8,-13,-9,2,-22,-6,1,-41,-19,-3,-6,-15,4,-2,31,1,-24,-4,-6,-5]
[109,-11,-1,-4,3,-17,-2,-2,-30,-11,-15,-6,-22,6,7,32,2,-15,-6,-12,-18]
[108,6,-7,-1,3,-14,-14,-1,-28,-16,-1,2,-16,3,4,19,-1,-25,-9,5,-17]
[108,-12,-5,-11,11,-14,-10,-2,-24,0,-12,-13,-26,7,9,30,3,-11,-3,-10,-14]
[{"$f":"OFFSET(INDIRECT(ADDRESS(2,1,,,\"truncate\")), 0, (ROW()-1-6)*21+(COLUMN()-1))","v":190},13,-8,-12,3,-30,5,0,-44,4,{"$f":"OFFSET(INDIRECT(ADDRESS(2,1,,,\"truncate\")), 0, (ROW()-1-6)*21+(COLUMN()-1))","v":-2},9,-1,3,8,85,-8,-50,20,-20,-12]
[185,-11,-21,-8,11,-39,-11,7,-70,-7,1,-2,-6,6,-15,90,11,-51,7,-27,-33]
[170,3,-35,-18,-2,-34,-9,7,-63,-23,-12,-1,-12,-5,-2,78,1,-40,5,-19,-5]
[177,-33,-18,-7,-14,-23,1,1,-48,-5,-12,-9,-4,-1,3,74,-2,-35,2,-36,-14]
[183,-4,-21,-9,-4,-22,-4,-3,-44,-15,-6,1,-21,-3,4,48,-2,-43,6,-4,-19]
[160,-21,-22,-27,-4,-27,-29,-7,-31,10,-18,-19,-12,7,8,67,2,-30,7,-31,-26]
[{"$f":"OFFSET(INDIRECT(ADDRESS(3,1,,,\"truncate\")), 0, (ROW()-1-12)*21+(COLUMN()-1))","v":253},7,-35,-29,1,-40,0,3,-60,12,{"$f":"OFFSET(INDIRECT(ADDRESS(3,1,,,\"truncate\")), 0, (ROW()-1-12)*21+(COLUMN()-1))","v":12},6,2,-3,-3,110,-17,-72,32,-32,-11]
[237,-25,-32,-25,12,-55,-19,8,-90,-10,-3,-7,-11,-4,-15,105,-2,-74,21,-31,-25]
[225,-10,-50,-23,-6,-45,-9,3,-72,-17,-9,-1,-14,-19,-9,100,-11,-53,24,-21,1]
[220,-38,-38,-14,-21,-36,-17,3,-45,-5,-12,-12,9,-4,-19,122,-16,-59,1,-53,-8]
[205,-12,-21,-14,-3,-30,-23,5,-45,-10,1,-5,-18,0,5,71,-9,-67,15,-8,4]
[190,-36,-37,-31,-9,-25,-27,6,-25,17,-17,-18,-1,-1,-12,113,-13,-43,11,-29,-20]
[{"$f":"OFFSET(INDIRECT(ADDRESS(4,1,,,\"truncate\")), 0, (ROW()-1-18)*21+(COLUMN()-1))","v":191},-12,-34,-38,1,-37,2,4,-54,3,{"$f":"OFFSET(INDIRECT(ADDRESS(4,1,,,\"truncate\")), 0, (ROW()-1-18)*21+(COLUMN()-1))","v":-1},27,-8,-10,-18,77,-4,-56,32,-26,2]
[179,-33,-25,-15,-6,-50,-31,2,-76,-3,10,3,-24,-3,-19,83,-2,-59,20,-20,-21]
[178,-17,-40,-21,-5,-49,-10,11,-57,-14,-6,4,-12,-10,-15,74,2,-49,21,-19,0]
[170,-29,-30,-9,-23,-29,-26,0,-38,-5,0,-8,-3,-7,-15,78,6,-51,5,-36,-3]
[173,-15,-12,-12,-3,-35,-19,17,-36,-3,-3,-9,-8,13,-3,61,-10,-51,29,-5,-1]
[154,-20,-39,-22,-11,-26,-28,-16,-25,13,-7,-13,-14,0,-12,77,8,-31,14,-26,-25]
[{"$f":"OFFSET(INDIRECT(ADDRESS(5,1,,,\"truncate\")), 0, (ROW()-1-24)*21+(COLUMN()-1))","v":92},-9,-17,-8,2,-17,-6,6,-24,11,{"$f":"OFFSET(INDIRECT(ADDRESS(5,1,,,\"truncate\")), 0, (ROW()-1-24)*21+(COLUMN()-1))","v":-1},6,4,-3,0,36,-2,-21,5,-16,-6]
[96,-19,-4,-6,-2,-20,-22,7,-28,-7,5,1,-3,0,-8,34,-6,-39,5,-13,-18]
[110,-8,-13,-17,-3,-32,-9,2,-23,-2,-4,9,-3,-10,-4,33,2,-21,13,-7,-11]
[109,-17,-7,4,-16,-12,-31,3,-14,-2,3,4,11,-3,-16,31,2,-27,-9,-17,1]
[111,-5,4,-9,-7,-26,-14,5,-22,-7,-15,-8,-10,8,0,27,-4,-31,10,0,-1]
[92,-9,-20,-6,-11,-16,-23,-8,-16,-4,-5,-3,0,-3,-8,24,2,-12,-2,-15,-30]
[{"$f":"OFFSET(INDIRECT(ADDRESS(6,1,,,\"truncate\")), 0, (ROW()-1-30)*21+(COLUMN()-1))","v":134},-1,9,-13,5,-20,-14,5,-35,-3,{"$f":"OFFSET(INDIRECT(ADDRESS(6,1,,,\"truncate\")), 0, (ROW()-1-30)*21+(COLUMN()-1))","v":-16},4,-8,18,7,52,-9,-35,10,-10,-22]
[130,-4,0,-14,13,-29,-15,4,-46,-2,-6,6,-13,15,-4,56,1,-29,3,-17,-28]
[126,-8,-6,-20,9,-21,-17,5,-44,-13,-12,2,-16,12,6,49,-5,-21,0,-18,-10]
[128,-7,6,-11,-3,-23,-1,1,-39,2,-18,1,-14,15,-4,59,2,-17,0,-11,-28]
[123,-16,-1,-13,11,-22,-25,6,-31,-7,-6,11,-8,14,12,37,-4,-21,-1,5,-11]
[128,-25,3,-20,0,-23,-13,7,-31,7,-14,-3,-18,14,5,44,-3,-13,-1,-10,-11]
[{"$f":"OFFSET(INDIRECT(ADDRESS(7,1,,,\"truncate\")), 0, (ROW()-1-36)*21+(COLUMN()-1))","v":242},-10,-4,-31,0,-52,-19,22,-64,14,{"$f":"OFFSET(INDIRECT(ADDRESS(7,1,,,\"truncate\")), 0, (ROW()-1-36)*21+(COLUMN()-1))","v":-18},7,10,21,11,131,-35,-57,30,-32,-33]
[237,-37,0,-33,11,-68,-52,27,-87,-13,6,18,6,29,-6,124,-5,-61,25,-42,-48]
[206,-30,-13,-51,-3,-48,-30,13,-81,-34,-18,25,-13,14,17,104,-22,-39,19,-56,-18]
[222,-39,-6,-24,-41,-39,-32,13,-67,12,-15,-2,13,16,-4,124,-1,-50,12,-47,-51]
[218,-37,-6,-36,-5,-34,-33,9,-47,-4,-15,18,3,30,33,79,-12,-50,23,-14,-16]
[192,-37,6,-30,-33,-52,-29,10,-55,21,-6,1,3,23,6,86,-28,-34,11,-42,-44]
[{"$f":"OFFSET(INDIRECT(ADDRESS(8,1,,,\"truncate\")), 0, (ROW()-1-42)*21+(COLUMN()-1))","v":224},5,6,-54,-4,-63,-24,15,-79,14,{"$f":"OFFSET(INDIRECT(ADDRESS(8,1,,,\"truncate\")), 0, (ROW()-1-42)*21+(COLUMN()-1))","v":-10},-3,21,44,22,173,-72,-66,56,-40,-51]
[221,-50,12,-35,-1,-83,-51,40,-95,-14,-3,-5,20,41,26,144,-38,-73,44,-51,-56]
[230,-47,-6,-56,-10,-64,-38,15,-97,-38,-10,1,1,40,21,121,-51,-59,37,-45,-42]
[210,-25,0,-41,-52,-47,-58,15,-66,-3,-10,-14,39,26,-5,201,-41,-51,30,-57,-40]
[229,-38,15,-53,-1,-46,-52,16,-55,4,14,24,-5,46,38,91,-23,-52,44,-44,-21]
[202,-36,0,-29,-55,-45,-38,11,-50,28,-16,-1,23,29,4,185,-51,-42,25,-35,-46]
[{"$f":"OFFSET(INDIRECT(ADDRESS(9,1,,,\"truncate\")), 0, (ROW()-1-48)*21+(COLUMN()-1))","v":237},-33,-4,-60,-18,-62,-43,16,-70,30,{"$f":"OFFSET(INDIRECT(ADDRESS(9,1,,,\"truncate\")), 0, (ROW()-1-48)*21+(COLUMN()-1))","v":3},15,4,27,2,131,-37,-53,50,-49,-36]
[226,-46,3,-45,-8,-73,-48,21,-95,-15,14,17,4,20,7,115,-15,-70,19,-35,-44]
[196,-51,-14,-60,-19,-64,-42,16,-81,-27,-4,12,-5,30,9,113,-45,-50,42,-45,-37]
[216,-46,7,-40,-36,-45,-53,25,-67,12,4,-20,22,17,-10,134,-8,-54,9,-47,-34]
[192,-31,5,-38,-1,-38,-42,21,-44,7,12,31,0,39,23,90,-33,-44,48,-21,-31]
[197,-31,-26,-38,-45,-54,-38,20,-60,9,7,-7,5,31,-5,117,-16,-35,17,-39,-45]
[{"$f":"OFFSET(INDIRECT(ADDRESS(10,1,,,\"truncate\")), 0, (ROW()-1-54)*21+(COLUMN()-1))","v":127},-18,-6,-29,-2,-31,-19,11,-30,23,{"$f":"OFFSET(INDIRECT(ADDRESS(10,1,,,\"truncate\")), 0, (ROW()-1-54)*21+(COLUMN()-1))","v":-3},1,11,9,-15,63,-11,-23,16,-30,-10]
[133,-37,-8,-22,-4,-45,-31,14,-47,-5,2,3,11,2,-9,74,5,-22,0,-29,-32]
[116,-34,-7,-43,-10,-37,-27,1,-45,-9,-6,21,-3,13,9,44,-16,-24,17,-24,-32]
[118,-30,1,-13,-25,-3,-36,5,-35,9,2,-13,26,4,-9,50,4,-34,-2,-26,-6]
[133,-14,7,-27,-2,-14,-26,17,-28,3,-7,23,-5,22,16,48,-13,-26,26,-3,-26]
[106,-15,-7,-5,-31,-14,-21,5,-25,2,15,0,6,19,-8,43,-14,-16,4,-19,-33]
[{"$f":"OFFSET(INDIRECT(ADDRESS(11,1,,,\"truncate\")), 0, (ROW()-1-60)*21+(COLUMN()-1))","v":107},-6,19,-8,-3,-23,-28,3,-27,-1,{"$f":"OFFSET(INDIRECT(ADDRESS(11,1,,,\"truncate\")), 0, (ROW()-1-60)*21+(COLUMN()-1))","v":-14},1,-1,28,6,48,-14,-24,12,-7,-31]
[106,-11,8,-11,2,-38,-24,0,-39,1,-6,12,1,23,5,58,-9,-16,4,-14,-36]
[107,-14,4,-21,2,-28,-25,2,-40,-6,-14,0,-6,17,5,41,-15,-12,1,-20,-24]
[106,-14,8,-15,-11,-31,-11,-4,-27,2,-12,-4,-1,17,-6,63,-4,-7,-1,-8,-29]
[110,-29,8,-13,11,-25,-35,-2,-20,-4,-4,10,5,22,13,30,-7,-12,5,-4,-19]
[111,-28,3,-16,-8,-22,-12,-6,-28,12,-8,-3,-6,19,4,54,-8,-10,1,-9,-9]
[{"$f":"OFFSET(INDIRECT(ADDRESS(12,1,,,\"truncate\")), 0, (ROW()-1-66)*21+(COLUMN()-1))","v":198},-23,44,-39,-14,-49,-59,16,-45,13,{"$f":"OFFSET(INDIRECT(ADDRESS(12,1,,,\"truncate\")), 0, (ROW()-1-66)*21+(COLUMN()-1))","v":-7},14,21,63,13,96,-54,-17,29,-26,-60]
[165,-27,34,-29,-5,-73,-69,37,-69,-5,7,29,26,70,33,91,-37,-26,14,-29,-62]
[184,-41,17,-50,-21,-52,-45,9,-78,-17,-19,11,0,47,23,59,-51,-15,17,-42,-50]
[186,-26,17,-39,-50,-65,-57,-2,-43,13,-9,8,27,33,-6,120,-21,-37,6,-40,-73]
[192,-52,38,-35,-7,-29,-62,1,-38,-2,-9,19,28,60,30,38,-18,-26,18,-19,-54]
[180,-40,24,-25,-49,-58,-25,0,-48,25,1,8,17,42,13,102,-46,-26,8,-19,-54]
[{"$f":"OFFSET(INDIRECT(ADDRESS(13,1,,,\"truncate\")), 0, (ROW()-1-72)*21+(COLUMN()-1))","v":54},-2,68,-30,-21,-60,-67,42,-45,-2,{"$f":"OFFSET(INDIRECT(ADDRESS(13,1,,,\"truncate\")), 0, (ROW()-1-72)*21+(COLUMN()-1))","v":18},-13,42,134,52,91,-98,-3,35,-14,-85]
[17,-24,51,-25,-26,-89,-54,65,-50,-8,33,-15,57,122,66,100,-75,-15,33,-11,-86]
[120,-48,34,-45,-32,-65,-46,4,-64,-30,-1,-14,16,105,25,47,-75,-14,11,-38,-67]
[102,-24,35,-41,-62,-84,-86,4,-23,10,15,-21,39,92,12,138,-83,-16,25,-39,-77]
[184,-34,54,-29,-18,-54,-97,10,-31,-4,14,9,27,94,19,34,-45,-18,27,-22,-72]
[155,-11,29,-22,-51,-69,-28,-1,-48,28,-1,-7,29,70,21,176,-76,-35,12,-16,-75]
[{"$f":"OFFSET(INDIRECT(ADDRESS(14,1,,,\"truncate\")), 0, (ROW()-1-78)*21+(COLUMN()-1))","v":172},-37,32,-44,-34,-59,-81,17,-51,15,{"$f":"OFFSET(INDIRECT(ADDRESS(14,1,,,\"truncate\")), 0, (ROW()-1-78)*21+(COLUMN()-1))","v":25},6,34,86,2,91,-64,-18,26,-8,-87]
[115,-37,17,-46,-36,-82,-74,41,-58,-15,33,11,42,81,25,78,-33,-10,29,-5,-86]
[168,-45,-1,-52,-28,-55,-56,4,-62,-16,14,5,23,77,-8,51,-62,-9,28,-27,-65]
[182,-41,36,-48,-66,-61,-83,25,-40,5,17,-11,51,72,13,101,-45,-14,2,-34,-59]
[160,-30,28,-47,-17,-17,-70,17,-19,2,21,22,23,63,18,47,-44,3,27,-7,-62]
[196,-29,8,-24,-60,-68,-61,-2,-59,2,3,-7,12,49,-13,117,-50,-33,19,-27,-83]
[{"$f":"OFFSET(INDIRECT(ADDRESS(15,1,,,\"truncate\")), 0, (ROW()-1-84)*21+(COLUMN()-1))","v":115},-26,13,-43,-15,-32,-30,10,-21,25,{"$f":"OFFSET(INDIRECT(ADDRESS(15,1,,,\"truncate\")), 0, (ROW()-1-84)*21+(COLUMN()-1))","v":0},8,17,32,-16,67,-40,-24,9,-19,-47]
[107,-32,2,-19,-19,-52,-49,19,-30,-9,14,13,22,32,-12,77,-4,-6,-5,-23,-54]
[128,-35,-4,-42,-19,-18,-37,-12,-47,1,-4,18,-2,40,2,16,-32,-9,9,-17,-30]
[101,-21,15,-20,-42,-25,-61,10,-30,11,15,-14,35,17,-1,58,-3,-8,1,-29,-15]
[133,-18,18,-39,0,2,-56,8,-19,10,17,24,2,27,20,35,-17,-9,26,-1,-37]
[86,-14,8,-9,-43,-14,-41,-12,-23,3,11,9,7,19,-3,52,-22,-14,1,-16,-31]
[{"$f":"OFFSET(INDIRECT(ADDRESS(16,1,,,\"truncate\")), 0, (ROW()-1-90)*21+(COLUMN()-1))","v":110},-3,15,3,-3,-27,-27,-4,-19,-4,{"$f":"OFFSET(INDIRECT(ADDRESS(16,1,,,\"truncate\")), 0, (ROW()-1-90)*21+(COLUMN()-1))","v":-5},-10,7,31,-1,49,-13,-14,10,-12,-32]
[105,-14,4,-3,0,-39,-29,-10,-32,-4,1,-4,8,26,-2,53,-13,-11,7,-17,-38]
[100,-15,0,-9,-3,-30,-21,-1,-28,-14,-4,-8,12,16,-2,41,-12,-3,-4,-17,-22]
[104,-14,3,-6,-15,-35,-16,-12,-17,-5,-4,-7,1,15,-7,59,-8,-1,-1,-13,-29]
[101,-24,3,-2,5,-25,-26,-13,-10,-9,7,0,12,23,1,27,-8,-8,-5,-10,-23]
[105,-25,3,-7,-15,-25,-15,-7,-18,11,-3,-8,1,18,1,50,-8,-4,-1,-8,-16]
[{"$f":"OFFSET(INDIRECT(ADDRESS(17,1,,,\"truncate\")), 0, (ROW()-1-96)*21+(COLUMN()-1))","v":205},-18,25,-10,-21,-50,-44,-26,-28,7,{"$f":"OFFSET(INDIRECT(ADDRESS(17,1,,,\"truncate\")), 0, (ROW()-1-96)*21+(COLUMN()-1))","v":-8},-8,27,51,-11,74,-33,1,15,-9,-66]
[184,-30,32,-2,-12,-86,-59,-13,-57,4,4,1,31,47,-2,74,-24,-13,12,-28,-70]
[175,-34,9,-19,-25,-60,-44,-7,-44,-20,14,-2,35,33,-5,55,-9,7,5,-19,-44]
[188,-29,16,-1,-46,-64,-49,-14,-43,3,0,-6,36,26,-15,91,-19,-11,-7,-28,-66]
[165,-31,21,-12,-13,-34,-45,-16,-18,-18,14,4,18,46,11,34,-1,-5,7,-8,-54]
[173,-25,13,-3,-53,-70,-50,-10,-23,9,2,-22,16,33,-7,91,-31,-14,1,-21,-49]
[{"$f":"OFFSET(INDIRECT(ADDRESS(18,1,,,\"truncate\")), 0, (ROW()-1-102)*21+(COLUMN()-1))","v":118},2,32,7,-28,-58,-63,-3,-15,-13,{"$f":"OFFSET(INDIRECT(ADDRESS(18,1,,,\"truncate\")), 0, (ROW()-1-102)*21+(COLUMN()-1))","v":20},-27,49,104,1,56,-61,23,4,-5,-88]
[79,-11,40,19,-24,-92,-62,21,-28,0,27,-32,61,90,0,66,-51,-7,9,-12,-96]
[145,-32,26,4,-17,-65,-70,-18,-22,-27,26,-22,48,89,-19,39,-33,21,14,-21,-67]
[148,-24,36,-1,-47,-77,-63,-21,-12,-14,19,-38,45,78,-7,67,-54,1,6,-19,-74]
[177,-33,29,-3,-25,-50,-69,-19,-17,-10,29,-5,36,77,1,24,-13,12,10,-2,-55]
[175,-5,10,-12,-44,-75,-65,-17,-22,11,15,-15,28,58,0,88,-47,-16,-4,-13,-62]
[{"$f":"OFFSET(INDIRECT(ADDRESS(19,1,,,\"truncate\")), 0, (ROW()-1-108)*21+(COLUMN()-1))","v":194},-4,24,-15,-38,-64,-82,-30,-31,-2,{"$f":"OFFSET(INDIRECT(ADDRESS(19,1,,,\"truncate\")), 0, (ROW()-1-108)*21+(COLUMN()-1))","v":22},-10,45,66,-16,59,-38,9,3,-21,-101]
[160,-32,26,-3,-27,-85,-88,-5,-41,-8,8,-19,37,62,-13,61,-21,-4,11,-18,-86]
[191,-45,5,-2,-27,-55,-55,-46,-36,-14,7,-11,42,65,-5,45,-14,11,10,-9,-61]
[193,-25,14,-7,-56,-53,-76,-18,-27,-27,14,-39,57,59,-13,75,-36,-13,-12,-51,-72]
[180,-14,18,-10,-26,-37,-71,-25,-16,3,35,-7,23,51,1,37,-7,18,17,-14,-51]
[182,0,0,-8,-39,-64,-65,-15,-20,-14,4,-17,3,38,-36,81,-26,-12,3,-13,-59]
[{"$f":"OFFSET(INDIRECT(ADDRESS(20,1,,,\"truncate\")), 0, (ROW()-1-114)*21+(COLUMN()-1))","v":133},-10,12,-22,-14,-36,-38,-12,-21,26,{"$f":"OFFSET(INDIRECT(ADDRESS(20,1,,,\"truncate\")), 0, (ROW()-1-114)*21+(COLUMN()-1))","v":6},4,24,28,-16,58,-23,-5,0,-15,-56]
[129,-41,10,0,-19,-54,-58,-6,-29,-4,3,2,15,31,-18,61,5,-15,-1,-30,-40]
[143,-34,2,-14,-5,-24,-42,-49,-27,9,0,9,13,23,-3,39,-2,0,-14,-19,-21]
[124,-27,-1,-15,-35,-20,-58,-5,-24,-4,7,-28,32,16,-21,57,8,-18,-21,-30,-35]
[140,-21,32,-15,-10,-26,-47,-18,-15,4,19,-4,4,20,9,28,-3,4,16,-21,-18]
[100,-14,3,-7,-26,-16,-42,-19,-18,-9,0,-3,4,5,-22,53,-1,-6,-1,-10,-27]
[{"$f":"OFFSET(INDIRECT(ADDRESS(21,1,,,\"truncate\")), 0, (ROW()-1-120)*21+(COLUMN()-1))","v":92},-4,11,10,-4,-21,-25,-7,-14,-13,{"$f":"OFFSET(INDIRECT(ADDRESS(21,1,,,\"truncate\")), 0, (ROW()-1-120)*21+(COLUMN()-1))","v":-11},-9,10,14,5,25,-16,-12,3,-4,-31]
[89,-14,6,4,4,-32,-25,-11,-20,-5,0,0,11,14,-2,33,-12,-6,0,-19,-30]
[82,-15,5,-1,0,-10,-28,-7,-23,-10,-8,-3,8,12,-3,23,-10,-1,-5,-15,-25]
[93,2,3,10,-10,-24,-8,-12,-14,-7,-2,-5,3,9,-6,42,-1,5,-2,-6,-23]
[89,-17,-2,4,6,-24,-20,-11,-4,-7,3,3,10,15,8,13,-7,3,-6,-3,-20]
[92,-17,6,6,-9,-24,-17,-10,-10,-3,2,-9,-1,10,-7,27,-10,4,-1,-2,-19]
[{"$f":"OFFSET(INDIRECT(ADDRESS(22,1,,,\"truncate\")), 0, (ROW()-1-126)*21+(COLUMN()-1))","v":163},-17,21,4,-7,-34,-48,-32,-23,7,{"$f":"OFFSET(INDIRECT(ADDRESS(22,1,,,\"truncate\")), 0, (ROW()-1-126)*21+(COLUMN()-1))","v":-12},-12,20,30,-5,42,-26,-5,12,-8,-58]
[156,-24,14,7,-5,-61,-43,-24,-36,-1,5,-4,23,19,-6,42,-8,4,5,-26,-46]
[140,-35,2,-4,-20,-31,-41,-28,-41,-17,-6,10,22,14,-18,33,-7,0,-4,-25,-33]
[151,-6,2,18,-21,-39,-27,-14,-32,-1,1,-12,21,14,-13,54,0,2,7,-14,-29]
[147,-27,4,3,2,-20,-30,-25,-10,-13,5,9,6,22,7,18,5,10,-3,-7,-32]
[139,-35,12,14,-28,-57,-32,-13,-16,-4,2,-18,6,19,-20,31,-14,7,-3,-14,-42]
[{"$f":"OFFSET(INDIRECT(ADDRESS(23,1,,,\"truncate\")), 0, (ROW()-1-132)*21+(COLUMN()-1))","v":158},-6,20,11,-11,-52,-51,-28,-17,-10,{"$f":"OFFSET(INDIRECT(ADDRESS(23,1,,,\"truncate\")), 0, (ROW()-1-132)*21+(COLUMN()-1))","v":3},-24,27,45,-9,31,-21,19,11,-15,-69]
[148,-16,17,19,-15,-70,-51,-18,-23,-2,12,-8,28,40,-8,44,-10,-3,8,-21,-52]
[167,-29,24,8,-23,-26,-60,-33,-28,-30,-1,5,25,31,-20,31,-6,7,-13,-27,-39]
[178,-5,1,21,-29,-53,-32,-29,-36,-6,0,-16,24,26,-14,30,0,-4,10,-10,-35]
[161,-39,1,3,5,-19,-33,-31,-2,-10,14,38,20,34,7,9,4,7,7,-3,-31]
[168,-35,12,7,-20,-59,-41,-32,-13,-15,16,-9,17,24,-19,13,-19,7,-10,-18,-54]
[{"$f":"OFFSET(INDIRECT(ADDRESS(24,1,,,\"truncate\")), 0, (ROW()-1-138)*21+(COLUMN()-1))","v":170},2,27,-3,-10,-45,-72,-33,-21,-2,{"$f":"OFFSET(INDIRECT(ADDRESS(24,1,,,\"truncate\")), 0, (ROW()-1-138)*21+(COLUMN()-1))","v":-2},-19,15,34,0,40,-27,17,0,-23,-72]
[174,-18,8,8,-12,-65,-70,-39,-30,-6,-5,-21,20,24,-16,45,6,9,-1,-38,-60]
[153,-25,13,7,-20,-30,-38,-29,-35,-16,-18,-6,27,31,-12,46,-4,14,-9,-26,-46]
[181,-3,2,25,-21,-33,-52,-29,-25,-10,-6,-35,31,22,-12,48,-5,-1,-6,-28,-57]
[156,-19,18,10,8,-27,-44,-33,-4,-14,3,21,23,40,7,18,6,7,4,-14,-29]
[155,-10,1,8,-15,-42,-32,-16,-14,-11,-14,0,12,26,-20,30,-4,11,3,-4,-42]
[{"$f":"OFFSET(INDIRECT(ADDRESS(25,1,,,\"truncate\")), 0, (ROW()-1-144)*21+(COLUMN()-1))","v":101},-1,10,-8,6,-19,-45,-18,-17,14,{"$f":"OFFSET(INDIRECT(ADDRESS(25,1,,,\"truncate\")), 0, (ROW()-1-144)*21+(COLUMN()-1))","v":-1},-6,15,18,-10,41,-18,7,-2,-15,-40]
[105,-20,5,7,-5,-36,-40,-17,-29,-1,-14,-7,17,21,-12,39,15,-4,-2,-34,-32]
[99,-19,15,-8,-9,-19,-30,-41,-30,-4,-14,-3,16,24,-4,37,-7,8,-16,-25,-38]
[104,-19,15,12,-16,0,-39,-11,-28,-2,-3,-25,24,9,-14,40,10,0,-7,-18,-26]
[101,-11,20,-3,8,-14,-30,-20,-13,-10,0,11,5,17,16,10,2,-9,7,-21,-22]
[101,-20,0,-1,-8,-21,-20,-11,-19,-5,-15,-1,10,12,-7,33,8,-5,-6,0,-23]

{"sheet":"outOffset","index":4,"n_rows":150,"n_cols":21,"rows_kept":150,"cut":false,"hidden":false,"merged":[]}
[142,46,38,32,39,23,29,24,5,25,26,42,20,40,35,64,32,0,30,22,19]
[151,51,38,37,50,21,38,42,0,37,35,39,28,49,40,83,48,16,38,31,24]
[147,49,28,32,43,19,35,42,0,22,38,35,26,45,39,72,42,17,37,35,36]
[139,19,29,26,33,13,28,28,0,19,15,24,8,36,37,62,32,15,24,18,12]
[136,34,21,27,31,14,14,27,0,12,27,30,12,31,32,47,27,3,19,33,11]
[134,14,21,15,37,12,16,24,2,26,14,13,0,33,35,56,29,15,23,16,12]
[240,63,42,38,53,20,55,50,6,54,48,59,49,53,58,135,42,0,70,30,38]
[255,59,49,62,81,31,59,77,0,63,71,68,64,76,55,160,81,19,77,43,37]
[233,66,28,45,61,29,54,70,0,40,51,62,51,58,61,141,64,23,68,44,58]
[225,15,30,41,34,25,49,49,0,43,36,39,44,47,51,122,46,13,50,12,34]
[227,40,23,35,40,22,40,41,0,29,38,45,23,41,48,92,42,1,50,40,25]
[191,10,9,4,27,4,2,24,0,41,13,12,19,38,39,98,33,1,38,0,5]
[325,79,37,43,73,32,72,75,12,84,84,78,74,69,69,182,55,0,104,40,61]
[327,65,58,65,102,35,71,98,0,80,87,83,79,86,75,195,88,16,111,59,65]
[297,62,22,49,66,27,63,75,0,55,63,71,58,53,63,172,61,19,96,51,73]
[279,21,21,45,38,23,42,62,14,54,47,47,68,55,40,181,43,0,60,6,51]
[272,55,46,53,64,37,44,72,22,57,68,62,49,67,72,138,58,0,82,59,71]
[233,7,6,12,34,18,16,49,18,60,26,25,42,42,31,156,30,0,54,14,23]
[247,44,22,18,57,19,58,60,2,59,55,83,48,46,38,133,52,0,88,30,58]
[255,43,51,61,70,26,45,78,0,73,86,79,52,73,57,159,74,17,96,56,55]
[235,40,17,36,52,8,47,68,0,43,51,61,45,47,42,131,59,8,78,38,57]
[221,22,21,42,28,22,25,51,13,46,51,43,48,44,36,129,57,0,56,15,48]
[224,36,39,39,48,16,32,68,15,48,48,42,43,64,48,112,41,0,80,46,50]
[193,19,0,17,28,13,11,23,14,52,32,26,25,39,27,116,47,8,53,13,14]
[116,15,7,16,26,7,18,30,0,35,23,30,28,21,24,60,22,3,29,8,18]
[135,20,35,33,37,19,17,46,11,32,44,40,36,39,31,73,33,0,44,26,21]
[142,24,19,15,29,0,23,34,9,30,28,41,29,22,28,65,34,11,45,25,21]
[140,14,24,35,15,19,0,34,17,29,34,35,42,28,15,62,33,4,22,14,32]
[142,26,35,22,24,5,17,36,9,24,16,23,21,39,31,58,27,0,41,31,30]
[122,21,10,24,19,14,7,22,14,26,25,27,30,27,22,54,32,18,28,15,0]
[169,34,44,22,40,15,21,40,0,32,19,39,27,53,42,87,26,0,45,25,13]
[176,42,46,32,59,17,31,50,0,44,40,52,33,61,42,102,47,17,49,29,18]
[170,36,38,24,53,23,27,49,0,31,32,46,28,56,50,93,39,23,44,26,34]
[167,32,45,28,36,16,38,40,0,41,21,40,25,54,35,98,41,22,39,28,11]
[154,15,30,18,42,9,6,37,0,24,25,42,23,45,43,68,27,10,30,36,20]
[159,6,34,11,31,8,18,38,0,38,17,28,13,45,36,75,28,18,30,21,20]
[306,54,60,33,64,12,45,86,0,78,46,71,74,85,75,195,29,7,94,32,31]
[324,50,87,54,98,19,35,114,0,74,93,105,93,116,81,211,82,26,112,45,39]
[287,51,68,30,78,33,51,94,0,47,63,106,68,95,98,185,59,42,100,25,63]
[289,28,61,43,26,28,35,80,0,79,52,65,80,83,63,191,66,17,79,20,16]
[268,13,44,14,45,16,17,59,3,46,35,68,53,80,83,129,38,0,73,36,34]
[247,18,61,25,22,3,26,65,0,76,49,56,58,78,61,141,27,21,66,13,11]
[303,84,85,25,75,16,55,94,0,93,69,76,100,123,101,252,7,13,135,39,28]
[316,45,107,60,94,12,44,135,0,81,92,90,115,136,121,239,57,22,139,44,39]
[327,50,91,41,87,33,59,112,0,59,87,98,98,137,118,218,46,38,134,52,55]
[276,41,66,25,14,19,8,81,0,63,56,52,105,92,61,267,25,15,96,9,26]
[284,17,70,2,54,9,3,71,0,59,69,79,50,101,93,146,32,3,99,11,34]
[257,19,55,26,0,10,17,66,5,83,39,54,78,84,59,240,4,13,80,20,9]
[307,37,66,10,52,8,27,86,0,100,73,85,74,97,72,201,33,17,120,21,34]
[321,49,98,50,87,22,47,116,0,80,109,112,99,115,102,210,80,25,114,60,51]
[277,30,67,21,62,17,39,97,0,54,77,93,76,111,90,194,36,31,123,36,44]
[283,21,74,27,31,22,14,92,0,79,71,47,89,84,57,201,59,13,76,20,33]
[236,13,49,6,43,6,2,65,0,51,56,75,44,83,67,134,11,0,92,23,13]
[257,29,34,22,15,6,22,80,0,69,67,53,65,91,55,177,44,25,77,21,15]
[158,13,25,2,29,0,12,42,1,54,28,32,42,40,16,94,20,8,47,1,21]
[180,10,39,25,43,2,16,61,0,42,49,50,58,49,38,121,52,25,47,18,15]
[161,11,38,2,35,8,18,46,0,36,39,66,42,58,54,89,29,21,62,21,13]
[154,6,37,23,11,33,0,41,1,45,38,23,62,40,27,86,40,2,34,10,30]
[161,14,35,1,26,14,2,45,0,31,21,51,23,50,44,76,15,2,54,25,2]
[139,18,26,28,2,19,12,38,8,35,48,33,39,52,25,76,19,17,37,14,0]
[138,25,50,23,28,8,3,34,4,30,17,32,30,59,37,79,17,7,43,24,0]
[145,28,47,28,41,1,15,39,0,40,33,51,40,62,44,97,30,23,43,25,3]
[147,26,44,19,42,12,15,42,0,34,26,40,34,57,45,81,25,28,41,20,16]
[137,17,39,16,20,0,20,27,4,33,19,27,30,48,25,94,27,24,30,23,2]
[145,6,43,22,46,10,0,33,15,31,31,45,40,57,48,65,28,23,40,31,16]
[139,0,31,12,20,6,16,22,0,40,20,25,22,47,32,82,20,18,29,19,19]
[258,37,104,21,46,11,1,76,15,73,53,74,81,123,73,156,6,43,89,34,0]
[238,46,107,44,68,0,4,110,4,68,80,102,99,143,106,164,36,47,87,44,11]
[262,37,95,28,57,26,33,87,0,61,59,89,78,125,101,137,27,63,95,36,28]
[259,47,90,34,23,8,16,71,30,86,64,81,100,106,67,193,52,36,79,33,0]
[254,10,100,27,55,33,0,63,24,60,53,81,90,122,92,100,44,36,80,43,8]
[238,18,82,33,9,0,33,58,10,83,59,66,75,100,71,160,12,32,66,39,4]
[152,96,166,68,77,38,31,140,53,96,116,85,140,232,150,189,0,95,133,84,13]
[106,65,140,64,63,0,35,154,39,81,122,74,146,211,155,189,14,74,122,78,3]
[195,27,109,30,43,10,29,79,11,45,74,61,91,180,100,122,0,61,86,37,8]
[188,62,121,45,24,2,0,90,63,96,101,65,125,178,98,224,3,70,111,47,9]
[281,63,151,68,79,43,0,107,66,93,111,106,124,191,116,131,52,79,124,75,25]
[231,65,105,54,25,7,48,75,28,104,75,69,105,146,97,252,0,41,88,60,1]
[259,50,119,43,53,28,6,104,36,102,112,93,121,173,89,178,23,69,113,79,0]
[201,49,103,40,50,4,12,127,28,71,119,97,128,167,111,164,53,76,115,81,0]
[233,20,64,13,37,10,9,69,3,49,79,70,88,142,57,116,3,56,93,38,0]
[265,42,119,35,17,22,0,108,43,88,100,72,134,155,96,184,38,69,85,49,24]
[230,40,98,23,53,53,0,87,51,72,91,92,93,133,88,117,26,73,97,63,8]
[279,54,91,59,23,15,22,81,24,85,86,76,95,132,70,200,33,50,102,56,0]
[162,21,60,4,32,15,17,57,26,72,47,55,64,79,31,114,7,23,56,28,0]
[161,22,56,35,35,2,5,73,24,45,68,67,76,86,42,131,50,48,49,31,0]
[175,12,43,5,28,29,10,35,0,48,43,65,45,87,49,63,15,38,56,30,17]
[162,40,76,41,19,36,0,71,31,72,76,47,96,78,60,119,58,53,62,32,46]
[189,38,74,17,56,58,0,64,37,66,73,80,58,83,76,91,39,47,82,55,19]
[129,29,51,34,0,29,2,31,20,46,54,52,50,62,40,95,21,29,44,27,12]
[142,29,47,35,29,5,5,28,13,28,27,22,39,63,31,81,19,18,42,20,0]
[144,25,43,36,39,0,10,29,7,35,40,35,47,65,37,92,26,28,46,22,1]
[130,15,30,21,27,0,9,29,2,16,26,22,42,46,28,71,18,27,26,13,8]
[139,21,38,29,20,0,19,23,18,30,31,28,36,50,28,94,27,34,34,22,6]
[127,2,29,24,31,1,0,13,16,17,33,26,38,49,27,53,18,18,21,16,3]
[130,0,28,18,10,0,10,18,7,36,22,17,26,43,26,75,17,21,24,17,9]
[271,48,91,56,45,16,22,40,38,73,58,58,93,117,55,140,33,67,81,57,0]
[270,56,118,84,74,0,27,73,29,90,90,87,117,133,84,160,62,73,98,58,16]
[235,26,69,41,35,0,16,53,16,40,74,58,95,93,55,115,51,67,65,41,16]
[254,37,82,65,20,2,17,52,23,69,66,60,102,92,51,157,47,55,59,38,0]
[219,23,75,42,41,20,9,38,36,36,68,58,72,100,65,88,53,49,61,46,0]
[243,45,83,67,17,0,20,60,47,79,72,48,86,103,63,161,39,56,71,49,21]
[206,90,120,95,60,30,25,85,73,75,108,61,137,192,89,144,27,111,92,83,0]
[175,85,136,115,72,4,34,117,68,96,123,64,157,186,96,162,45,89,105,84,0]
[215,38,96,74,53,5,0,52,48,43,96,48,118,159,51,109,37,91,84,49,3]
[225,53,113,76,30,0,14,56,65,63,96,39,122,155,70,144,23,78,83,58,3]
[246,36,98,66,44,19,0,50,52,59,98,64,105,146,70,93,56,81,79,67,14]
[250,70,85,63,31,0,10,58,53,86,90,60,103,133,75,163,28,59,71,62,13]
[295,97,125,86,63,37,19,71,70,99,123,91,146,167,85,160,63,110,104,80,0]
[248,56,114,85,61,3,0,83,47,80,96,69,125,150,75,149,67,84,99,70,2]
[252,16,66,59,34,6,6,15,25,47,68,50,103,126,56,106,47,72,71,52,0]
[269,51,90,69,20,23,0,58,49,49,90,37,133,135,63,151,40,63,64,25,4]
[251,57,89,61,45,34,0,46,55,74,106,64,94,122,72,108,64,89,88,57,20]
[247,65,65,57,26,1,0,50,45,51,69,48,68,103,29,146,39,53,68,52,6]
[189,46,68,34,42,20,18,44,35,82,62,60,80,84,40,114,33,51,56,41,0]
[187,17,68,58,39,4,0,52,29,54,61,60,73,89,40,119,63,43,57,28,18]
[192,15,51,35,44,25,7,0,22,58,49,58,62,72,46,88,47,49,35,30,28]
[182,31,57,43,23,38,0,53,34,54,65,30,90,74,37,115,66,40,37,28,23]
[187,26,79,32,37,21,0,29,32,51,66,43,51,67,56,75,44,51,63,26,29]
[142,28,45,35,16,26,0,23,24,33,42,39,46,47,20,95,41,36,41,32,15]
[123,27,42,41,27,10,6,24,17,18,20,22,41,45,36,56,15,19,34,27,0]
[121,18,38,36,36,0,7,21,12,27,32,32,43,46,30,65,20,26,32,13,2]
[110,13,33,27,28,18,0,21,5,18,20,25,36,40,25,51,18,27,23,13,3]
[117,26,27,34,14,0,16,12,10,17,22,19,27,33,18,66,23,29,22,18,1]
[113,7,22,28,30,0,4,13,20,17,27,27,34,39,32,37,17,27,18,21,4]
[116,7,30,30,15,0,7,14,14,21,26,15,23,34,17,51,14,28,23,22,5]
[221,41,79,62,51,24,10,26,35,65,46,46,78,88,53,100,32,53,70,50,0]
[217,37,75,68,56,0,18,37,25,60,66,57,84,80,55,103,53,65,66,35,15]
[181,6,43,37,21,10,0,13,0,24,35,51,63,55,23,74,34,41,37,16,8]
[190,33,41,57,18,0,12,25,7,38,40,27,60,53,26,93,39,41,46,25,10]
[179,5,36,35,34,12,2,7,22,19,37,41,38,54,39,50,37,42,29,25,0]
[196,22,69,71,29,0,25,44,41,53,59,39,63,76,37,88,43,64,54,43,15]
[227,63,89,80,58,17,18,41,52,59,72,45,96,114,60,100,48,88,80,54,0]
[218,54,87,89,55,0,19,52,47,68,82,62,98,110,62,114,60,67,78,49,18]
[227,31,84,68,37,34,0,27,32,30,59,65,85,91,40,91,54,67,47,33,21]
[231,48,54,74,24,0,21,24,17,47,53,37,77,79,39,83,53,49,63,43,18]
[200,0,40,42,44,20,6,8,37,29,53,77,59,73,46,48,43,46,46,36,8]
[227,24,71,66,39,0,18,27,46,44,75,50,76,83,40,72,40,66,49,41,5]
[242,74,99,69,62,27,0,39,51,70,70,53,87,106,72,112,45,89,72,49,0]
[244,52,78,78,58,5,0,31,40,64,65,49,90,94,54,115,76,79,69,32,10]
[199,21,59,53,26,16,8,17,11,30,28,40,73,77,34,92,42,60,37,20,0]
[238,54,59,82,36,24,5,28,32,47,51,22,88,79,45,105,52,56,51,29,0]
[200,25,62,54,52,17,0,11,40,30,47,65,67,84,51,62,50,51,48,30,15]
[197,32,43,50,27,0,10,26,28,31,28,42,54,68,22,72,38,53,45,38,0]
[146,44,55,37,51,26,0,27,28,59,44,39,60,63,35,86,27,52,43,30,5]
[145,20,45,47,35,4,0,23,11,39,26,33,57,61,28,79,55,36,38,6,8]
[140,22,56,33,32,22,11,0,11,37,27,38,57,65,37,78,34,49,25,16,3]
[143,20,54,51,23,39,0,28,11,37,36,14,63,48,25,79,49,39,32,21,13]
[131,19,50,27,38,16,0,10,17,20,30,41,35,47,46,40,32,21,37,9,8]
[124,3,23,22,15,2,3,12,4,18,8,22,33,35,16,56,31,18,17,23,0]

{"sheet":"outAve","index":5,"n_rows":150,"n_cols":5,"rows_kept":150,"cut":false,"hidden":false,"merged":[]}
[34,142,0,null,8542]
[42,151,0,null,8543]
[39,147,0,null,8544]
[29,139,0,null,8545]
[27,136,0,null,8546]
[26,134,0,null,8547]
[57,240,0,null,8548]
[69,255,0,null,8549]
[61,233,0,null,8550]
[47,225,0,null,8551]
[44,227,0,null,8552]
[29,191,0,null,8553]
[78,325,0,null,8554]
[87,327,0,null,8555]
[70,297,0,null,8556]
[56,279,0,null,8557]
[68,272,0,null,8558]
[42,233,0,null,8559]
[57,247,0,null,8560]
[71,255,0,null,8561]
[54,235,0,null,8562]
[48,221,0,null,8563]
[54,224,0,null,8564]
[36,193,0,null,8565]
[25,116,0,null,8566]
[36,135,0,null,8567]
[32,142,0,null,8568]
[30,140,0,null,8569]
[31,142,0,null,8570]
[26,122,0,null,8571]
[37,169,0,null,8572]
[46,176,0,null,8573]
[43,170,0,null,8574]
[40,167,0,null,8575]
[33,154,0,null,8576]
[32,159,0,null,8577]
[69,306,0,null,8578]
[87,324,0,null,8579]
[77,287,0,null,8580]
[66,289,0,null,8581]
[54,268,0,null,8582]
[53,247,0,null,8583]
[83,303,0,null,8584]
[93,316,0,null,8585]
[91,327,0,null,8586]
[66,276,0,null,8587]
[60,284,0,null,8588]
[57,257,0,null,8589]
[72,307,0,null,8590]
[91,321,0,null,8591]
[74,277,0,null,8592]
[66,283,0,null,8593]
[50,236,0,null,8594]
[57,257,0,null,8595]
[32,158,0,null,8596]
[44,180,0,null,8597]
[40,161,0,null,8598]
[35,154,0,null,8599]
[33,161,0,null,8600]
[32,139,0,null,8601]
[33,138,0,null,8602]
[39,145,0,null,8603]
[37,147,0,null,8604]
[31,137,0,null,8605]
[36,145,0,null,8606]
[29,139,0,null,8607]
[64,258,0,null,8608]
[75,238,0,null,8609]
[72,262,0,null,8610]
[69,259,0,null,8611]
[64,254,0,null,8612]
[59,238,0,null,8613]
[101,232,13,"found",8614]
[90,211,13,"found",8615]
[66,195,0,null,8616]
[81,224,15,"found",8617]
[98,281,0,null,8618]
[78,252,15,"found",8619]
[87,259,0,null,8620]
[84,201,0,null,8621]
[59,233,0,null,8622]
[82,265,0,null,8623]
[75,230,0,null,8624]
[77,279,0,null,8625]
[45,162,0,null,8626]
[52,161,0,null,8627]
[42,175,0,null,8628]
[60,162,0,null,8629]
[61,189,0,null,8630]
[40,129,0,null,8631]
[34,142,0,null,8632]
[38,144,0,null,8633]
[28,130,0,null,8634]
[34,139,0,null,8635]
[27,127,0,null,8636]
[26,130,0,null,8637]
[69,271,0,null,8638]
[84,270,0,null,8639]
[59,235,0,null,8640]
[63,254,0,null,8641]
[56,219,0,null,8642]
[67,243,0,null,8643]
[89,206,0,null,8644]
[94,186,13,null,8645]
[69,215,0,null,8646]
[73,225,0,null,8647]
[72,246,0,null,8648]
[73,250,0,null,8649]
[98,295,0,null,8650]
[83,248,0,null,8651]
[60,252,0,null,8652]
[69,269,0,null,8653]
[75,251,0,null,8654]
[60,247,0,null,8655]
[56,189,0,null,8656]
[54,187,0,null,8657]
[48,192,0,null,8658]
[53,182,0,null,8659]
[50,187,0,null,8660]
[39,142,0,null,8661]
[30,123,0,null,8662]
[31,121,0,null,8663]
[26,110,0,null,8664]
[26,117,0,null,8665]
[25,113,0,null,8666]
[24,116,0,null,8667]
[57,221,0,null,8668]
[60,217,0,null,8669]
[36,181,0,null,8670]
[42,190,0,null,8671]
[35,179,0,null,8672]
[53,196,0,null,8673]
[69,227,0,null,8674]
[70,218,0,null,8675]
[57,227,0,null,8676]
[53,231,0,null,8677]
[45,200,0,null,8678]
[54,227,0,null,8679]
[70,242,0,null,8680]
[65,244,0,null,8681]
[44,199,0,null,8682]
[55,238,0,null,8683]
[50,200,0,null,8684]
[42,197,0,null,8685]
[45,146,0,null,8686]
[37,145,0,null,8687]
[37,140,0,null,8688]
[39,143,0,null,8689]
[32,131,0,null,8690]
[23,124,0,null,8691]

{"sheet":"coeffxx","index":6,"n_rows":126,"n_cols":7,"rows_kept":126,"cut":false,"hidden":false,"merged":[]}
["EW6Data(",{"$f":"(377 - (ROW()-1)*3)","v":377},"downto",{"$f":"(375 - (ROW()-1)*3)","v":375},") when EW6Sel = \"",{"$f":"DEC2BIN(ROW()-1, 8)","v":"00000000"},"\" else "]
["EW6Data(",{"$f":"(377 - (ROW()-1)*3)","v":374},"downto",{"$f":"(375 - (ROW()-1)*3)","v":372},") when EW6Sel = \"",{"$f":"DEC2BIN(ROW()-1, 8)","v":"00000001"},"\" else "]
["EW6Data(",371,"downto",369,") when EW6Sel = \"","00000010","\" else "]
["EW6Data(",368,"downto",366,") when EW6Sel = \"","00000011","\" else "]
["EW6Data(",365,"downto",363,") when EW6Sel = \"","00000100","\" else "]
["EW6Data(",362,"downto",360,") when EW6Sel = \"","00000101","\" else "]
["EW6Data(",359,"downto",357,") when EW6Sel = \"","00000110","\" else "]
["EW6Data(",356,"downto",354,") when EW6Sel = \"","00000111","\" else "]
["EW6Data(",353,"downto",351,") when EW6Sel = \"","00001000","\" else "]
["EW6Data(",350,"downto",348,") when EW6Sel = \"","00001001","\" else "]
["EW6Data(",347,"downto",345,") when EW6Sel = \"","00001010","\" else "]
["EW6Data(",344,"downto",342,") when EW6Sel = \"","00001011","\" else "]
["EW6Data(",341,"downto",339,") when EW6Sel = \"","00001100","\" else "]
["EW6Data(",338,"downto",336,") when EW6Sel = \"","00001101","\" else "]
["EW6Data(",335,"downto",333,") when EW6Sel = \"","00001110","\" else "]
["EW6Data(",332,"downto",330,") when EW6Sel = \"","00001111","\" else "]
["EW6Data(",329,"downto",327,") when EW6Sel = \"","00010000","\" else "]
["EW6Data(",326,"downto",324,") when EW6Sel = \"","00010001","\" else "]
["EW6Data(",323,"downto",321,") when EW6Sel = \"","00010010","\" else "]
["EW6Data(",320,"downto",318,") when EW6Sel = \"","00010011","\" else "]
["EW6Data(",317,"downto",315,") when EW6Sel = \"","00010100","\" else "]
["EW6Data(",314,"downto",312,") when EW6Sel = \"","00010101","\" else "]
["EW6Data(",311,"downto",309,") when EW6Sel = \"","00010110","\" else "]
["EW6Data(",308,"downto",306,") when EW6Sel = \"","00010111","\" else "]
["EW6Data(",305,"downto",303,") when EW6Sel = \"","00011000","\" else "]
["EW6Data(",302,"downto",300,") when EW6Sel = \"","00011001","\" else "]
["EW6Data(",299,"downto",297,") when EW6Sel = \"","00011010","\" else "]
["EW6Data(",296,"downto",294,") when EW6Sel = \"","00011011","\" else "]
["EW6Data(",293,"downto",291,") when EW6Sel = \"","00011100","\" else "]
["EW6Data(",290,"downto",288,") when EW6Sel = \"","00011101","\" else "]
["EW6Data(",287,"downto",285,") when EW6Sel = \"","00011110","\" else "]
["EW6Data(",284,"downto",282,") when EW6Sel = \"","00011111","\" else "]
["EW6Data(",281,"downto",279,") when EW6Sel = \"","00100000","\" else "]
["EW6Data(",278,"downto",276,") when EW6Sel = \"","00100001","\" else "]
["EW6Data(",275,"downto",273,") when EW6Sel = \"","00100010","\" else "]
["EW6Data(",272,"downto",270,") when EW6Sel = \"","00100011","\" else "]
["EW6Data(",269,"downto",267,") when EW6Sel = \"","00100100","\" else "]
["EW6Data(",266,"downto",264,") when EW6Sel = \"","00100101","\" else "]
["EW6Data(",263,"downto",261,") when EW6Sel = \"","00100110","\" else "]
["EW6Data(",260,"downto",258,") when EW6Sel = \"","00100111","\" else "]
["EW6Data(",257,"downto",255,") when EW6Sel = \"","00101000","\" else "]
["EW6Data(",254,"downto",252,") when EW6Sel = \"","00101001","\" else "]
["EW6Data(",251,"downto",249,") when EW6Sel = \"","00101010","\" else "]
["EW6Data(",248,"downto",246,") when EW6Sel = \"","00101011","\" else "]
["EW6Data(",245,"downto",243,") when EW6Sel = \"","00101100","\" else "]
["EW6Data(",242,"downto",240,") when EW6Sel = \"","00101101","\" else "]
["EW6Data(",239,"downto",237,") when EW6Sel = \"","00101110","\" else "]
["EW6Data(",236,"downto",234,") when EW6Sel = \"","00101111","\" else "]
["EW6Data(",233,"downto",231,") when EW6Sel = \"","00110000","\" else "]
["EW6Data(",230,"downto",228,") when EW6Sel = \"","00110001","\" else "]
["EW6Data(",227,"downto",225,") when EW6Sel = \"","00110010","\" else "]
["EW6Data(",224,"downto",222,") when EW6Sel = \"","00110011","\" else "]
["EW6Data(",221,"downto",219,") when EW6Sel = \"","00110100","\" else "]
["EW6Data(",218,"downto",216,") when EW6Sel = \"","00110101","\" else "]
["EW6Data(",215,"downto",213,") when EW6Sel = \"","00110110","\" else "]
["EW6Data(",212,"downto",210,") when EW6Sel = \"","00110111","\" else "]
["EW6Data(",209,"downto",207,") when EW6Sel = \"","00111000","\" else "]
["EW6Data(",206,"downto",204,") when EW6Sel = \"","00111001","\" else "]
["EW6Data(",203,"downto",201,") when EW6Sel = \"","00111010","\" else "]
["EW6Data(",200,"downto",198,") when EW6Sel = \"","00111011","\" else "]
["EW6Data(",197,"downto",195,") when EW6Sel = \"","00111100","\" else "]
["EW6Data(",194,"downto",192,") when EW6Sel = \"","00111101","\" else "]
["EW6Data(",191,"downto",189,") when EW6Sel = \"","00111110","\" else "]
["EW6Data(",188,"downto",186,") when EW6Sel = \"","00111111","\" else "]
["EW6Data(",185,"downto",183,") when EW6Sel = \"","01000000","\" else "]
["EW6Data(",{"$f":"(377 - (ROW()-1)*3)","v":182},"downto",{"$f":"(375 - (ROW()-1)*3)","v":180},") when EW6Sel = \"",{"$f":"DEC2BIN(ROW()-1, 8)","v":"01000001"},"\" else "]
["EW6Data(",179,"downto",177,") when EW6Sel = \"","01000010","\" else "]
["EW6Data(",176,"downto",174,") when EW6Sel = \"","01000011","\" else "]
["EW6Data(",173,"downto",171,") when EW6Sel = \"","01000100","\" else "]
["EW6Data(",170,"downto",168,") when EW6Sel = \"","01000101","\" else "]
["EW6Data(",167,"downto",165,") when EW6Sel = \"","01000110","\" else "]
["EW6Data(",164,"downto",162,") when EW6Sel = \"","01000111","\" else "]
["EW6Data(",161,"downto",159,") when EW6Sel = \"","01001000","\" else "]
["EW6Data(",158,"downto",156,") when EW6Sel = \"","01001001","\" else "]
["EW6Data(",155,"downto",153,") when EW6Sel = \"","01001010","\" else "]
["EW6Data(",152,"downto",150,") when EW6Sel = \"","01001011","\" else "]
["EW6Data(",149,"downto",147,") when EW6Sel = \"","01001100","\" else "]
["EW6Data(",146,"downto",144,") when EW6Sel = \"","01001101","\" else "]
["EW6Data(",143,"downto",141,") when EW6Sel = \"","01001110","\" else "]
["EW6Data(",140,"downto",138,") when EW6Sel = \"","01001111","\" else "]
["EW6Data(",137,"downto",135,") when EW6Sel = \"","01010000","\" else "]
["EW6Data(",134,"downto",132,") when EW6Sel = \"","01010001","\" else "]
["EW6Data(",131,"downto",129,") when EW6Sel = \"","01010010","\" else "]
["EW6Data(",128,"downto",126,") when EW6Sel = \"","01010011","\" else "]
["EW6Data(",125,"downto",123,") when EW6Sel = \"","01010100","\" else "]
["EW6Data(",122,"downto",120,") when EW6Sel = \"","01010101","\" else "]
["EW6Data(",119,"downto",117,") when EW6Sel = \"","01010110","\" else "]
["EW6Data(",116,"downto",114,") when EW6Sel = \"","01010111","\" else "]
["EW6Data(",113,"downto",111,") when EW6Sel = \"","01011000","\" else "]
["EW6Data(",110,"downto",108,") when EW6Sel = \"","01011001","\" else "]
["EW6Data(",107,"downto",105,") when EW6Sel = \"","01011010","\" else "]
["EW6Data(",104,"downto",102,") when EW6Sel = \"","01011011","\" else "]
["EW6Data(",101,"downto",99,") when EW6Sel = \"","01011100","\" else "]
["EW6Data(",98,"downto",96,") when EW6Sel = \"","01011101","\" else "]
["EW6Data(",95,"downto",93,") when EW6Sel = \"","01011110","\" else "]
["EW6Data(",92,"downto",90,") when EW6Sel = \"","01011111","\" else "]
["EW6Data(",89,"downto",87,") when EW6Sel = \"","01100000","\" else "]
["EW6Data(",86,"downto",84,") when EW6Sel = \"","01100001","\" else "]
["EW6Data(",83,"downto",81,") when EW6Sel = \"","01100010","\" else "]
["EW6Data(",80,"downto",78,") when EW6Sel = \"","01100011","\" else "]
["EW6Data(",77,"downto",75,") when EW6Sel = \"","01100100","\" else "]
["EW6Data(",74,"downto",72,") when EW6Sel = \"","01100101","\" else "]
["EW6Data(",71,"downto",69,") when EW6Sel = \"","01100110","\" else "]
["EW6Data(",68,"downto",66,") when EW6Sel = \"","01100111","\" else "]
["EW6Data(",65,"downto",63,") when EW6Sel = \"","01101000","\" else "]
["EW6Data(",62,"downto",60,") when EW6Sel = \"","01101001","\" else "]
["EW6Data(",59,"downto",57,") when EW6Sel = \"","01101010","\" else "]
["EW6Data(",56,"downto",54,") when EW6Sel = \"","01101011","\" else "]
["EW6Data(",53,"downto",51,") when EW6Sel = \"","01101100","\" else "]
["EW6Data(",50,"downto",48,") when EW6Sel = \"","01101101","\" else "]
["EW6Data(",47,"downto",45,") when EW6Sel = \"","01101110","\" else "]
["EW6Data(",44,"downto",42,") when EW6Sel = \"","01101111","\" else "]
["EW6Data(",41,"downto",39,") when EW6Sel = \"","01110000","\" else "]
["EW6Data(",38,"downto",36,") when EW6Sel = \"","01110001","\" else "]
["EW6Data(",35,"downto",33,") when EW6Sel = \"","01110010","\" else "]
["EW6Data(",32,"downto",30,") when EW6Sel = \"","01110011","\" else "]
["EW6Data(",29,"downto",27,") when EW6Sel = \"","01110100","\" else "]
["EW6Data(",26,"downto",24,") when EW6Sel = \"","01110101","\" else "]
["EW6Data(",23,"downto",21,") when EW6Sel = \"","01110110","\" else "]
["EW6Data(",20,"downto",18,") when EW6Sel = \"","01110111","\" else "]
["EW6Data(",17,"downto",15,") when EW6Sel = \"","01111000","\" else "]
["EW6Data(",14,"downto",12,") when EW6Sel = \"","01111001","\" else "]
["EW6Data(",11,"downto",9,") when EW6Sel = \"","01111010","\" else "]
["EW6Data(",8,"downto",6,") when EW6Sel = \"","01111011","\" else "]
["EW6Data(",5,"downto",3,") when EW6Sel = \"","01111100","\" else "]
["EW6Data(",2,"downto",0,") when EW6Sel = \"","01111101","\" else "]