{"text_format":"1","workbook":"xlsx","n_sheets":12,"sheets":["exW6_Bias","im2colAll_exW6","truncate","Relu","outCh000","outCh001","outCh002","outCh003","outCh252","outCh253","outCh254","outCh255"],"not_rendered":{"charts":0,"images":0,"macros":1,"external_links":0,"defined_names":0,"comments":0,"pivot_tables":0},"unopened":[],"bounds":{"document_bytes":16777216,"sheet_cells":100000,"rows_first":2000,"rows_last":500,"rows_between":2000,"halvings":0,"cell_chars":16384,"cell_head_chars":4096},"cells_cut":0,"cells_raw":0,"read":"whole","date_system":"1900"}

{"sheet":"exW6_Bias","index":0,"n_rows":1155,"n_cols":256,"rows_kept":281,"cut":true,"hidden":false,"merged":[],"bounds":{"rows_first":125,"rows_last":31,"rows_between":125,"halvings":4}}
[-1,1,-1,1,-1,-1,-1,-1,1,1,-1,-1,1,-1,1,1,1,1,1,-1,-1,-1,1,1,1,-1,1,1,1,1,-1,-1,1,-1,-1,-1,1,-1,1,-1,-1,1,1,-1,1,1,-1,1,1,-1,-1,-1,1,1,1,-1,1,1,-1,1,-1,-1,-1,1,1,-1,1,-1,1,-1,1,1,1,1,1,-1,-1,-1,-1,-1,-1,1,-1,-1,1,1,1,1,1,1,1,1,1,-1,-1,1,1,-1,-1,1,1,1,-1,-1,-1,1,-1,-1,-1,-1,-1,-1,1,1,1,1,1,1,-1,-1,1,-1,-1,-1,1,-1,-1,1,-1,1,-1,-1,1,1,1,1,1,-1,1,1,-1,1,1,1,-1,-1,1,1,-1,1,1,1,-1,-1,1,-1,-1,1,-1,1,1,-1,-1,1,1,1,1,-1,-1,1,-1,-1,-1,1,-1,1,1,1,-1,-1,-1,-1,1,1,1,1,-1,1,1,-1,-1,-1,-1,1,-1,1,1,-1,1,-1,1,1,-1,-1,-1,1,1,1,1,1,-1,-1,1,1,-1,-1,1,-1,1,-1,1,1,-1,-1,1,-1,-1,1,1,-1,1,-1,1,-1,1,1,-1,1,-1,-1,1,1,-1,1,-1,1,1,1,-1,1,-1,-1,-1,-1,-1,1]
[1,-1,-1,-1,-1,1,-1,-1,-1,1,1,1,1,1,1,-1,-1,-1,-1,1,1,-1,-1,1,-1,1,1,1,1,-1,-1,1,-1,-1,1,-1,1,1,1,1,1,1,-1,-1,-1,-1,-1,-1,1,-1,-1,-1,1,-1,1,-1,1,1,-1,1,-1,-1,1,-1,1,1,-1,-1,-1,-1,1,1,-1,1,1,1,-1,-1,1,-1,-1,-1,1,1,-1,1,1,1,1,1,1,-1,-1,1,1,-1,-1,1,1,-1,1,1,-1,1,-1,-1,1,-1,-1,-1,1,1,1,1,-1,-1,-1,-1,-1,-1,1,-1,-1,1,1,-1,-1,1,-1,1,1,-1,-1,-1,-1,1,1,1,-1,-1,-1,1,1,1,-1,-1,1,-1,1,-1,-1,1,-1,-1,-1,1,1,-1,1,1,-1,1,-1,1,1,-1,1,-1,-1,-1,1,-1,-1,-1,1,1,1,1,1,-1,-1,1,-1,1,-1,-1,-1,1,-1,1,-1,1,-1,-1,-1,1,1,-1,-1,-1,-1,1,1,1,1,-1,-1,1,1,1,1,1,-1,1,1,1,-1,1,1,-1,1,1,-1,-1,1,-1,1,1,-1,-1,-1,-1,-1,1,-1,-1,-1,-1,1,-1,-1,-1,1,-1,-1,-1,1,-1,-1,-1,1,-1,1,1,1,1]
[-1,1,-1,1,1,-1,1,1,1,1,1,-1,1,-1,1,-1,-1,1,-1,-1,-1,1,1,1,-1,-1,1,1,1,-1,-1,1,1,1,-1,-1,1,1,-1,-1,-1,-1,1,1,-1,-1,-1,-1,1,-1,1,-1,1,-1,-1,1,1,1,-1,-1,1,-1,1,1,1,-1,-1,-1,1,1,1,1,-1,-1,1,-1,-1,-1,-1,1,1,1,1,1,-1,1,-1,-1,1,1,-1,-1,1,-1,1,1,-1,-1,1,1,1,-1,1,-1,-1,1,-1,1,-1,-1,1,-1,-1,-1,-1,1,-1,1,-1,-1,-1,-1,1,-1,1,-1,1,1,1,-1,1,1,-1,-1,-1,-1,1,1,-1,-1,-1,-1,-1,-1,-1,1,-1,-1,1,1,-1,1,1,1,-1,1,1,-1,-1,1,-1,-1,-1,1,-1,1,-1,1,1,-1,-1,1,-1,1,-1,1,1,-1,1,-1,1,-1,-1,-1,1,1,-1,1,-1,1,1,1,-1,1,1,1,-1,-1,1,1,-1,1,1,1,-1,1,-1,-1,1,-1,-1,-1,-1,-1,1,1,-1,-1,1,-1,1,1,-1,-1,-1,-1,1,-1,1,1,-1,-1,1,1,-1,-1,-1,1,1,1,-1,1,1,-1,1,-1,-1,1,-1,-1,-1,-1,-1,1,1,1]
[-1,1,-1,-1,-1,-1,1,-1,-1,-1,-1,-1,1,1,-1,-1,1,1,1,-1,1,-1,-1,-1,-1,-1,-1,-1,1,-1,-1,1,-1,1,1,1,-1,-1,-1,-1,-1,-1,-1,1,1,-1,1,-1,-1,-1,1,-1,-1,-1,-1,1,1,-1,1,-1,1,1,-1,-1,1,-1,1,1,1,1,-1,1,1,1,-1,1,1,-1,-1,-1,1,1,-1,-1,1,1,1,1,-1,1,-1,-1,-1,1,-1,1,-1,1,-1,-1,-1,-1,1,1,1,-1,-1,-1,-1,1,1,1,1,1,-1,-1,1,-1,-1,-1,1,1,-1,-1,1,-1,-1,-1,1,1,1,-1,1,1,1,1,-1,1,1,-1,-1,1,1,-1,1,1,-1,1,1,1,-1,-1,-1,1,1,1,-1,-1,-1,1,1,1,-1,1,1,-1,1,-1,1,1,1,-1,1,-1,-1,-1,1,-1,1,1,1,1,1,1,-1,-1,-1,1,-1,1,1,-1,1,1,1,1,1,1,-1,1,1,1,1,-1,-1,1,-1,-1,1,-1,1,1,-1,1,1,-1,-1,-1,1,1,-1,-1,1,1,-1,-1,1,-1,1,-1,-1,-1,1,1,-1,-1,-1,-1,1,-1,1,1,1,-1,-1,-1,1,1,-1,-1,-1,-1,1,-1,-1,1]
[1,-1,1,1,1,-1,1,-1,1,-1,1,-1,1,-1,-1,1,-1,1,1,-1,-1,-1,-1,1,-1,-1,-1,-1,1,1,1,1,-1,-1,1,-1,-1,1,1,-1,-1,1,1,-1,-1,1,-1,1,-1,-1,1,1,1,1,1,-1,1,1,1,1,-1,-1,-1,1,1,-1,-1,-1,-1,1,-1,1,1,-1,-1,-1,1,1,-1,1,-1,-1,1,-1,1,1,1,-1,1,-1,-1,-1,1,1,1,-1,1,1,-1,-1,-1,1,1,1,1,1,1,-1,1,-1,-1,-1,1,-1,-1,-1,-1,-1,1,1,1,1,1,-1,1,-1,1,-1,-1,-1,-1,-1,-1,-1,1,1,1,1,-1,1,1,1,-1,-1,-1,1,1,-1,-1,-1,-1,1,1,-1,-1,-1,-1,1,-1,1,-1,1,1,-1,1,-1,-1,-1,1,1,1,-1,-1,-1,-1,1,-1,1,1,1,-1,-1,-1,1,1,1,-1,-1,1,1,1,-1,1,-1,-1,-1,1,-1,-1,-1,-1,-1,-1,1,1,-1,-1,1,1,-1,1,1,1,-1,1,1,1,-1,1,1,-1,-1,1,1,-1,-1,1,-1,-1,1,-1,-1,1,-1,-1,1,1,-1,1,1,1,1,-1,-1,1,-1,1,-1,-1,-1,1,1,-1,-1,-1,1]
[1,1,-1,1,1,-1,-1,1,1,1,-1,-1,-1,1,1,-1,1,-1,1,-1,-1,-1,1,1,-1,-1,-1,1,1,1,1,-1,1,1,1,-1,1,-1,-1,1,1,1,-1,1,1,1,-1,1,-1,1,-1,1,-1,1,-1,-1,1,1,-1,1,1,-1,-1,1,1,-1,1,-1,1,-1,1,-1,-1,-1,-1,1,-1,-1,1,-1,-1,1,1,-1,-1,-1,1,1,-1,-1,1,-1,-1,-1,1,1,-1,-1,-1,1,1,1,-1,1,1,1,-1,-1,1,-1,-1,1,-1,-1,1,-1,1,-1,-1,1,-1,-1,1,-1,1,1,1,-1,-1,1,-1,-1,1,-1,1,-1,1,1,1,-1,1,-1,-1,-1,-1,-1,-1,1,-1,1,-1,1,1,-1,1,1,1,-1,-1,-1,1,-1,-1,1,-1,-1,1,-1,1,-1,1,-1,1,-1,-1,-1,-1,1,1,1,-1,1,1,1,-1,-1,-1,-1,1,1,-1,-1,1,-1,-1,-1,-1,1,-1,1,-1,-1,1,-1,1,-1,-1,1,1,1,1,1,-1,-1,-1,-1,1,1,1,1,1,-1,-1,-1,-1,-1,-1,1,1,-1,-1,-1,-1,-1,-1,-1,1,1,1,1,-1,1,-1,1,1,1,-1,-1,-1,-1,1,1,-1,-1,-1,-1]
[1,-1,1,1,1,-1,1,-1,-1,-1,1,1,1,1,-1,-1,1,-1,-1,1,-1,1,1,1,1,-1,1,1,-1,-1,1,1,1,-1,-1,1,-1,1,-1,-1,-1,-1,-1,-1,-1,-1,-1,-1,1,-1,-1,1,-1,-1,1,-1,-1,-1,-1,-1,1,1,-1,-1,1,-1,-1,1,-1,1,1,-1,1,1,-1,-1,-1,-1,1,-1,-1,1,1,1,1,1,1,1,-1,1,-1,1,-1,1,-1,1,1,1,1,1,-1,1,1,1,-1,-1,1,1,-1,1,1,1,1,-1,-1,-1,-1,-1,1,-1,-1,-1,1,-1,1,-1,-1,-1,-1,-1,-1,-1,1,1,1,1,-1,1,-1,1,-1,-1,-1,-1,-1,1,1,1,1,-1,1,1,1,-1,-1,-1,-1,1,1,1,-1,-1,-1,-1,-1,1,1,1,1,1,-1,1,1,1,1,1,1,1,1,1,1,1,1,1,-1,1,-1,-1,1,-1,1,1,-1,-1,-1,-1,1,-1,-1,-1,1,-1,1,1,1,-1,-1,-1,1,-1,1,-1,1,1,1,-1,1,1,-1,-1,-1,1,-1,1,1,-1,1,-1,1,1,1,1,1,-1,-1,-1,-1,-1,-1,1,-1,-1,1,1,-1,1,1,-1,-1,1,-1,1,-1,1,-1,1]
[1,1,-1,-1,-1,1,1,-1,-1,-1,-1,-1,1,1,1,-1,1,1,1,-1,-1,1,1,-1,-1,-1,1,-1,-1,1,1,-1,1,1,-1,1,-1,1,1,1,1,1,-1,1,1,-1,1,1,1,1,-1,1,1,1,1,1,-1,-1,-1,1,-1,1,-1,1,-1,1,-1,1,-1,1,-1,-1,1,1,1,1,1,1,-1,-1,1,-1,-1,-1,1,1,-1,-1,-1,-1,-1,1,-1,-1,1,1,1,1,-1,1,1,-1,1,-1,1,-1,1,-1,1,-1,1,1,-1,1,1,-1,-1,1,-1,-1,1,-1,1,-1,-1,1,1,-1,1,-1,1,-1,-1,-1,1,-1,-1,-1,1,1,-1,1,1,1,1,-1,1,1,-1,-1,1,-1,-1,1,1,-1,1,-1,-1,-1,1,1,1,1,-1,-1,1,-1,-1,-1,1,1,-1,1,-1,1,-1,-1,-1,-1,-1,-1,1,-1,-1,1,-1,1,1,1,-1,-1,-1,-1,1,-1,1,-1,1,1,-1,-1,1,-1,-1,1,-1,1,1,1,1,-1,-1,-1,-1,1,1,1,1,-1,-1,1,-1,-1,-1,1,-1,-1,1,-1,1,1,1,-1,-1,1,-1,-1,-1,1,1,1,1,1,1,-1,1,-1,-1,-1,-1,-1,1,1,1,-1]
[-1,-1,-1,-1,-1,-1,1,-1,-1,1,1,1,-1,-1,-1,-1,-1,1,1,1,-1,-1,1,-1,-1,-1,-1,1,-1,-1,-1,1,1,-1,-1,1,1,1,-1,1,1,-1,1,1,-1,-1,1,-1,-1,-1,1,-1,1,1,-1,-1,1,1,1,-1,1,-1,1,1,1,-1,1,1,1,-1,1,-1,1,1,1,-1,-1,1,1,-1,-1,1,1,1,-1,-1,1,-1,1,1,-1,1,1,-1,-1,-1,-1,1,-1,1,1,-1,-1,-1,1,1,1,1,-1,-1,1,-1,-1,-1,-1,-1,1,1,-1,1,-1,1,1,1,1,-1,-1,1,1,1,-1,-1,1,1,1,-1,1,-1,1,-1,-1,1,1,-1,-1,-1,-1,-1,-1,1,1,1,1,1,-1,1,-1,1,1,1,1,1,-1,1,-1,-1,-1,-1,1,-1,-1,1,-1,1,-1,-1,1,-1,1,-1,1,-1,1,-1,-1,-1,1,1,1,-1,1,1,1,-1,1,-1,1,-1,-1,1,-1,-1,-1,1,1,-1,1,-1,1,1,-1,1,-1,1,-1,-1,-1,-1,-1,-1,-1,-1,-1,1,1,1,1,-1,1,1,-1,1,1,-1,-1,1,-1,1,1,1,-1,-1,-1,1,-1,-1,1,1,-1,-1,-1,1,1,-1,-1,-1]
[1,1,1,-1,-1,-1,1,-1,1,1,-1,-1,-1,1,-1,1,-1,1,1,-1,-1,-1,-1,1,-1,-1,-1,1,-1,-1,-1,1,-1,1,1,-1,-1,-1,-1,1,1,-1,1,-1,-1,-1,-1,-1,1,-1,1,-1,-1,1,-1,1,1,1,-1,-1,-1,1,1,-1,1,-1,-1,-1,1,-1,1,-1,1,1,1,1,-1,1,-1,1,1,-1,1,1,-1,1,1,1,1,-1,1,1,-1,-1,-1,-1,-1,-1,1,1,-1,1,-1,-1,1,1,-1,1,-1,1,1,1,1,1,-1,-1,-1,1,-1,-1,-1,1,-1,1,1,1,-1,-1,1,-1,1,1,1,1,1,-1,1,1,1,1,1,-1,1,-1,-1,1,-1,1,-1,1,-1,-1,1,1,-1,1,1,1,-1,1,-1,1,1,-1,-1,-1,1,-1,1,-1,-1,1,-1,1,1,-1,1,-1,-1,-1,1,1,-1,1,1,-1,-1,1,-1,-1,1,-1,1,1,1,-1,-1,1,-1,-1,-1,-1,1,1,-1,1,1,-1,-1,1,-1,1,1,-1,1,1,1,1,1,1,-1,1,-1,-1,1,1,1,-1,-1,-1,1,-1,-1,1,-1,1,1,-1,1,1,-1,1,-1,-1,-1,-1,-1,-1,1,-1,-1,1,1,1,-1,-1]
[-1,-1,-1,1,1,-1,-1,1,-1,1,1,1,-1,-1,-1,1,1,1,-1,1,-1,-1,1,-1,-1,1,-1,-1,-1,1,-1,-1,1,1,-1,1,1,1,1,-1,1,-1,1,-1,-1,1,-1,1,-1,-1,1,-1,1,1,1,-1,1,1,1,1,1,1,1,-1,-1,1,1,1,-1,1,-1,1,-1,-1,1,1,1,1,1,1,1,1,1,-1,1,-1,1,1,-1,1,-1,1,1,1,1,1,1,1,1,1,-1,-1,-1,1,-1,-1,-1,1,1,1,-1,-1,1,1,-1,1,1,1,-1,1,1,-1,1,-1,1,-1,-1,-1,-1,1,-1,1,1,1,1,-1,-1,-1,1,-1,-1,1,-1,1,1,-1,-1,-1,1,-1,1,1,-1,-1,1,-1,-1,1,-1,1,-1,1,1,-1,-1,1,-1,1,-1,1,-1,1,-1,1,1,1,1,1,-1,-1,-1,-1,-1,1,1,1,1,1,1,1,-1,1,1,-1,-1,-1,1,-1,-1,1,-1,1,-1,1,-1,1,1,-1,1,-1,1,1,-1,-1,1,1,1,-1,-1,-1,-1,1,1,1,1,1,-1,1,-1,1,-1,-1,1,1,-1,-1,-1,-1,-1,1,1,1,-1,1,1,-1,1,-1,-1,-1,1,-1,1,1,1,-1]
[1,1,1,1,1,1,-1,-1,-1,1,1,1,-1,1,1,1,-1,1,1,1,-1,-1,-1,-1,-1,1,-1,-1,-1,-1,1,-1,1,-1,1,1,-1,-1,1,1,1,-1,-1,1,-1,1,1,-1,1,1,-1,1,-1,1,1,1,1,-1,1,1,-1,1,1,-1,-1,1,-1,-1,1,1,-1,-1,1,1,1,1,-1,-1,1,1,-1,-1,1,1,1,-1,1,1,1,-1,1,1,-1,-1,1,1,-1,-1,1,-1,1,1,-1,1,1,1,-1,1,1,-1,-1,-1,-1,-1,1,1,-1,1,1,1,1,1,1,-1,1,1,1,-1,-1,1,1,1,-1,-1,1,1,1,1,-1,1,-1,-1,-1,1,1,-1,1,-1,-1,-1,-1,-1,-1,1,1,1,-1,1,-1,-1,-1,-1,-1,1,1,1,1,-1,1,1,-1,1,-1,1,-1,1,-1,-1,-1,1,1,-1,-1,-1,-1,-1,1,1,1,1,-1,1,1,1,1,-1,-1,1,-1,1,1,1,-1,-1,1,-1,-1,1,-1,-1,1,1,-1,1,-1,-1,1,1,-1,-1,-1,-1,1,1,1,-1,1,-1,-1,-1,1,1,1,-1,1,1,-1,-1,1,-1,1,-1,1,-1,1,1,1,-1,1,1,1,1,-1,1,-1,1]
[-1,1,1,-1,1,-1,-1,1,1,1,-1,-1,1,1,-1,-1,-1,1,1,1,1,1,1,-1,1,1,1,1,1,1,1,-1,-1,1,1,1,-1,1,-1,-1,-1,-1,-1,-1,-1,1,-1,1,1,-1,-1,-1,1,1,-1,-1,-1,-1,-1,1,-1,-1,-1,1,1,1,1,1,-1,1,-1,-1,1,1,1,-1,-1,1,1,-1,-1,1,1,1,-1,1,1,1,-1,-1,-1,1,1,-1,-1,1,1,-1,1,1,1,1,1,1,1,1,1,1,-1,-1,-1,-1,-1,-1,1,-1,1,-1,-1,-1,-1,1,1,-1,-1,-1,-1,1,-1,1,1,1,-1,-1,-1,-1,-1,1,1,-1,1,1,-1,1,-1,-1,-1,-1,1,1,-1,1,1,-1,-1,-1,1,-1,1,-1,-1,1,1,1,-1,-1,-1,-1,-1,-1,-1,1,1,1,1,1,1,1,1,-1,1,-1,-1,-1,1,1,-1,-1,-1,-1,1,1,-1,-1,1,1,-1,1,1,-1,-1,1,1,-1,-1,1,-1,-1,1,1,1,1,-1,-1,-1,-1,1,1,-1,-1,-1,1,1,-1,1,1,1,-1,1,1,-1,1,-1,-1,1,-1,1,-1,1,1,-1,-1,1,-1,-1,1,-1,1,1,-1,-1,1,1,1,-1,-1]
[1,-1,-1,1,1,1,-1,-1,1,1,-1,1,1,1,-1,1,1,-1,1,-1,1,-1,1,1,-1,1,1,1,1,1,-1,-1,-1,-1,-1,-1,-1,-1,-1,-1,-1,1,-1,1,1,1,1,-1,1,-1,1,-1,1,1,1,-1,-1,-1,-1,1,1,-1,-1,-1,1,1,1,1,-1,-1,1,-1,-1,1,-1,1,1,1,1,-1,-1,-1,-1,-1,1,1,-1,1,-1,-1,-1,1,1,-1,-1,-1,-1,1,1,-1,-1,-1,1,1,-1,1,-1,1,-1,1,-1,1,-1,-1,-1,1,1,-1,-1,1,1,1,-1,1,1,-1,-1,1,1,-1,-1,1,-1,1,1,-1,-1,1,1,1,1,1,-1,-1,-1,-1,-1,-1,-1,-1,-1,1,1,-1,-1,-1,-1,-1,1,-1,-1,1,-1,1,1,-1,1,1,-1,-1,-1,1,-1,1,1,-1,1,1,1,-1,1,-1,-1,1,1,-1,-1,-1,-1,-1,-1,1,1,-1,-1,1,-1,1,1,1,1,1,-1,-1,1,1,-1,1,-1,-1,1,1,-1,1,1,1,-1,1,-1,-1,1,-1,-1,1,1,-1,1,1,1,1,-1,1,-1,-1,-1,1,-1,1,1,-1,1,1,1,1,-1,-1,1,-1,1,-1,1,1,-1,-1,1,-1]
[-1,1,1,-1,1,-1,-1,-1,-1,-1,-1,1,1,-1,1,-1,-1,1,1,-1,-1,-1,-1,1,1,-1,1,1,-1,1,1,1,-1,1,1,1,1,-1,-1,-1,1,-1,-1,-1,-1,1,-1,-1,-1,1,-1,1,-1,1,1,-1,1,-1,-1,1,1,-1,1,-1,1,1,1,-1,-1,-1,-1,-1,1,-1,1,1,-1,1,-1,1,1,-1,1,1,-1,-1,-1,1,1,1,-1,-1,-1,1,-1,1,-1,-1,1,-1,1,1,-1,1,1,1,1,1,1,1,-1,1,1,-1,-1,-1,1,-1,-1,1,1,-1,-1,-1,1,-1,1,-1,-1,-1,-1,-1,-1,1,1,-1,1,1,-1,1,-1,-1,-1,1,1,-1,-1,1,1,1,1,-1,1,1,1,1,-1,-1,1,-1,-1,-1,1,-1,-1,-1,1,1,-1,-1,1,1,-1,-1,-1,1,-1,-1,-1,-1,-1,-1,-1,-1,1,-1,-1,-1,-1,-1,1,1,1,-1,1,1,1,-1,-1,1,1,-1,-1,1,1,-1,-1,-1,1,-1,-1,1,-1,-1,-1,-1,-1,-1,1,-1,-1,1,-1,-1,1,1,1,1,1,1,1,1,-1,1,1,1,-1,-1,1,1,1,-1,-1,1,1,1,1,-1,-1,1,1,1,-1,1,-1,1]
[-1,1,-1,1,-1,1,-1,1,-1,-1,-1,-1,-1,1,1,1,1,1,1,-1,-1,1,1,1,-1,-1,1,1,-1,1,-1,1,1,-1,1,1,-1,-1,1,1,-1,-1,1,-1,-1,-1,-1,-1,1,-1,1,-1,-1,-1,-1,1,-1,1,-1,-1,1,1,-1,-1,-1,1,1,-1,1,-1,-1,1,1,-1,1,-1,-1,1,-1,1,1,1,1,1,-1,1,1,1,-1,1,-1,1,1,-1,1,1,1,1,1,1,-1,1,1,-1,1,1,-1,1,-1,1,1,1,-1,-1,-1,-1,-1,1,-1,-1,-1,-1,1,-1,1,1,-1,1,-1,1,1,-1,-1,-1,-1,1,-1,-1,-1,-1,-1,-1,-1,-1,-1,1,1,-1,1,1,-1,-1,1,-1,-1,1,1,1,1,1,1,1,-1,-1,-1,1,-1,-1,-1,-1,1,1,1,1,1,1,1,1,1,1,1,-1,1,1,1,-1,1,-1,1,-1,1,-1,-1,-1,1,1,-1,-1,1,-1,-1,-1,1,1,1,-1,1,-1,1,-1,1,-1,-1,-1,-1,1,1,1,-1,-1,-1,-1,1,1,1,1,-1,1,-1,-1,1,1,-1,-1,-1,1,1,-1,-1,-1,-1,1,-1,-1,1,1,-1,-1,1,-1,-1,-1,1,1,1,1]
[-1,1,-1,-1,1,-1,1,-1,1,-1,1,-1,1,-1,1,-1,1,-1,-1,1,1,-1,-1,1,1,-1,-1,1,1,1,1,-1,-1,1,-1,1,1,1,-1,-1,-1,-1,1,1,1,-1,-1,-1,-1,-1,-1,-1,1,1,-1,-1,-1,-1,-1,1,1,-1,-1,-1,-1,-1,1,1,-1,1,-1,-1,1,1,1,-1,1,-1,-1,-1,-1,-1,-1,1,1,-1,1,1,1,-1,1,-1,-1,1,1,-1,1,1,1,1,-1,-1,-1,-1,1,1,1,1,1,-1,-1,-1,1,1,1,-1,1,1,-1,-1,1,-1,-1,1,-1,-1,1,-1,-1,1,1,-1,-1,1,1,-1,1,1,1,1,-1,1,1,-1,1,-1,1,-1,1,-1,-1,1,-1,1,1,1,-1,1,-1,1,1,-1,-1,1,1,-1,-1,-1,1,-1,-1,1,-1,1,1,-1,1,1,1,1,-1,1,1,-1,-1,1,1,-1,1,-1,-1,1,1,-1,1,1,-1,1,-1,1,-1,1,1,-1,1,1,1,-1,-1,1,1,-1,1,-1,1,1,-1,1,1,-1,1,1,-1,1,1,1,-1,-1,1,-1,-1,1,1,-1,-1,1,-1,-1,-1,1,-1,1,-1,-1,-1,-1,1,1,1,1,1,1,-1,-1,-1,1]
[-1,1,-1,-1,-1,-1,1,-1,1,1,-1,-1,-1,-1,1,1,-1,-1,-1,1,1,-1,-1,1,1,-1,-1,1,1,-1,-1,-1,-1,-1,-1,1,1,1,-1,-1,1,1,1,1,1,1,1,1,1,-1,-1,-1,1,1,-1,-1,-1,1,1,1,1,1,-1,1,1,1,-1,1,-1,-1,-1,1,-1,1,1,-1,1,1,-1,1,-1,1,1,1,-1,-1,-1,1,-1,-1,1,1,-1,-1,-1,1,-1,1,-1,1,1,1,-1,1,1,-1,1,1,1,1,-1,-1,-1,-1,1,-1,-1,-1,-1,1,1,1,1,1,1,-1,-1,1,-1,-1,1,1,-1,1,1,1,1,1,1,-1,-1,-1,1,1,1,1,-1,-1,1,1,1,1,1,1,-1,1,1,-1,-1,-1,1,-1,1,1,1,-1,1,1,1,-1,-1,1,-1,1,-1,-1,-1,1,-1,-1,-1,1,-1,-1,-1,1,1,-1,-1,1,-1,1,1,-1,1,1,-1,-1,1,1,-1,-1,1,-1,-1,-1,1,-1,-1,-1,-1,1,1,-1,-1,1,-1,1,-1,1,1,-1,1,-1,1,1,1,1,1,-1,1,1,1,-1,-1,1,1,-1,-1,-1,-1,-1,-1,-1,1,1,-1,-1,-1,1,-1,1,-1,-1,1,-1]
[1,-1,-1,1,1,1,-1,1,-1,1,1,1,1,1,-1,-1,1,1,-1,1,1,1,-1,-1,1,1,1,1,1,-1,-1,1,1,1,1,1,1,1,1,1,1,1,1,-1,1,1,1,-1,1,-1,1,-1,-1,-1,1,1,1,-1,-1,1,-1,-1,1,-1,-1,1,1,1,-1,-1,1,1,-1,1,1,-1,1,1,-1,1,1,-1,1,-1,1,1,1,1,-1,1,1,-1,-1,-1,1,-1,1,-1,-1,-1,1,-1,-1,-1,1,-1,1,1,-1,1,-1,1,1,1,-1,1,-1,-1,1,1,1,1,1,1,1,1,-1,1,-1,1,1,-1,-1,1,1,-1,1,-1,1,1,1,-1,-1,1,-1,-1,1,-1,1,-1,-1,1,1,-1,1,-1,1,1,1,-1,1,1,-1,-1,-1,-1,-1,1,1,1,1,-1,-1,-1,1,1,-1,1,-1,-1,1,1,-1,-1,1,-1,1,1,-1,-1,-1,-1,-1,1,1,1,-1,1,-1,1,-1,1,1,-1,-1,1,1,1,-1,1,-1,-1,-1,-1,-1,1,-1,1,-1,1,-1,-1,1,-1,1,-1,1,-1,1,1,1,1,1,-1,1,-1,-1,-1,-1,-1,-1,1,1,-1,1,1,-1,1,-1,1,1,1,1,1,1,1]
[1,1,-1,1,-1,-1,1,-1,-1,-1,-1,1,-1,1,1,-1,1,1,-1,1,1,-1,1,1,1,-1,1,1,-1,-1,-1,-1,-1,1,-1,-1,1,1,-1,-1,-1,1,-1,1,1,1,-1,-1,1,1,-1,1,-1,-1,1,-1,-1,1,-1,-1,-1,-1,-1,-1,1,1,-1,1,1,1,1,1,1,1,-1,1,-1,-1,1,-1,1,1,1,-1,1,-1,1,-1,1,1,1,1,1,1,-1,-1,-1,-1,-1,-1,1,-1,1,1,1,-1,1,-1,1,1,1,-1,-1,-1,-1,-1,-1,-1,1,-1,1,-1,1,1,-1,-1,1,-1,1,-1,-1,-1,-1,-1,-1,-1,1,1,1,-1,1,-1,-1,-1,1,1,1,-1,1,1,-1,1,-1,-1,1,1,1,1,-1,-1,1,-1,1,1,1,1,-1,1,1,1,1,-1,1,1,-1,1,-1,-1,-1,-1,-1,1,1,-1,-1,-1,-1,1,1,-1,-1,-1,1,1,1,-1,-1,-1,-1,1,-1,1,-1,-1,1,1,-1,1,1,-1,-1,-1,-1,1,-1,-1,-1,1,1,1,-1,-1,1,1,1,-1,-1,1,1,-1,1,1,-1,-1,-1,-1,1,1,-1,1,-1,-1,-1,1,-1,1,-1,-1,-1,1,1,-1,1,1,-1,-1]
[1,1,-1,-1,-1,1,1,-1,1,-1,1,1,-1,-1,-1,1,1,-1,-1,1,1,1,1,1,-1,1,-1,-1,-1,1,-4,1,-1,1,1,1,1,1,-1,-1,-1,1,1,-1,1,1,-1,1,-1,-1,1,1,-1,1,-1,1,1,1,1,1,1,-1,-1,-1,1,-1,-1,1,-1,-1,1,1,-1,-1,1,-1,1,-1,-1,-1,-1,-1,-1,-1,-1,-1,1,1,-1,-1,1,1,-1,-1,1,1,1,-1,-1,1,1,-1,-1,1,-1,-1,1,-1,1,1,1,-1,1,-1,-1,-1,1,-1,-1,1,1,-1,-1,1,-1,-1,1,-1,-1,1,1,-1,-1,1,1,1,-1,1,1,-1,1,-1,-1,1,1,1,1,-1,1,1,1,-1,-1,-1,-1,1,-1,1,-1,1,1,-1,1,-1,1,1,1,-1,1,1,-1,-1,1,-1,1,-1,-1,-1,-1,1,1,-1,-1,-1,-1,-1,1,-1,-1,-1,-1,1,-1,1,-1,-1,1,1,1,-1,1,1,1,-1,1,-1,-1,-1,1,1,1,1,1,1,1,1,1,-1,1,-1,1,1,-1,1,1,-1,-1,1,1,1,-1,-1,1,-1,-1,-1,-1,1,-1,1,1,-1,-1,-1,1,1,-1,1,1,-1,-1,1,-1,-1,1,-1]
[-1,-1,-1,-1,-1,1,1,1,-1,1,-1,1,-1,-1,-1,-1,1,-1,1,1,-1,-1,1,-1,-1,-1,1,1,1,-1,1,-1,1,-1,-1,-1,1,1,1,1,-1,1,1,1,1,1,-1,1,1,-1,-1,-1,1,-1,1,-1,-1,-1,1,-1,1,-1,1,1,1,-1,1,-1,1,-1,1,1,1,1,-1,1,-1,1,-1,-1,-1,-1,-1,-1,1,1,1,1,1,-1,-1,-1,-1,-1,1,1,-1,-1,-1,-1,-1,-1,1,1,-1,1,1,1,-1,1,-1,-1,-1,1,-1,1,-1,1,1,1,-1,-1,1,-1,-1,1,1,1,-1,-1,1,1,-1,-1,1,-1,1,-1,-1,1,1,-1,-1,-1,1,-1,-1,-1,-1,-1,1,1,1,1,-1,-1,-1,1,1,1,-1,1,-1,-1,1,1,-1,1,1,1,1,1,-1,-1,-1,1,1,1,-1,-1,1,-1,1,1,1,1,1,1,-1,1,-1,-1,1,1,1,-1,-1,1,-1,-1,-1,-1,1,1,-1,-1,-1,1,-1,1,-1,1,1,-1,-1,1,1,-1,-1,1,1,1,1,1,1,1,-1,-1,1,-1,1,-1,-1,-1,-1,-1,-1,-1,-1,1,-1,-1,1,1,-1,1,1,-1,-1,-1,1,-1,1,1,-1,1]
[-1,-1,-1,1,-1,1,1,1,-1,1,-1,1,1,1,1,1,-1,1,-1,1,1,1,-1,-1,-1,1,1,1,-1,-1,1,-1,1,-1,-1,1,1,1,-1,1,-1,1,1,1,1,1,1,-1,1,1,-1,-1,1,-1,-1,1,-1,1,1,1,-1,-1,-1,-1,1,1,1,1,1,-1,-1,1,1,1,1,-1,-1,-1,-1,-1,1,1,1,1,1,1,1,1,1,-1,-1,-1,1,-1,-1,-1,1,-1,1,-1,1,-1,1,1,1,-1,-1,1,-1,1,-1,-1,-1,1,-1,1,-1,1,1,-1,-1,-1,1,-1,-1,-1,-1,1,-1,1,-1,-1,1,1,1,1,1,1,-1,-1,1,1,-1,1,1,1,-1,1,1,1,1,-1,-1,1,1,-1,-1,1,1,-1,1,-1,1,1,1,1,1,-1,1,1,1,-1,-1,-1,1,-1,-1,-1,1,1,1,-1,-1,1,1,-1,1,-1,-1,1,1,1,1,1,1,1,1,1,-1,1,1,-1,1,1,1,1,1,1,1,1,1,-1,-1,1,-1,-1,1,-1,1,1,1,-1,-1,-1,-1,1,1,-1,1,-1,1,-1,1,-1,1,-1,1,1,-1,1,-1,-1,1,1,-1,1,1,-1,-1,1,1,1,-1,-1,-1,-1]
[1,-1,-1,-1,1,-1,1,1,-1,1,1,1,-1,1,1,-1,-1,1,1,-1,-1,-1,-1,1,1,-1,1,-1,-1,-1,-1,-1,1,1,-1,-1,1,1,-1,-1,1,1,-1,-1,1,-1,1,1,-1,-1,-1,1,1,1,-1,1,-1,-1,1,-1,-1,1,-1,-1,-1,-1,-1,1,1,-1,1,1,1,-1,1,-1,-1,1,1,1,1,-1,1,1,-1,1,-1,1,1,1,-1,1,-1,1,-1,1,-1,1,-1,-1,1,-1,-1,-1,-1,1,1,1,1,-1,1,-1,-1,-1,-1,-1,1,1,1,1,1,-1,1,1,-1,1,-1,1,1,1,1,1,-1,1,1,1,1,1,-1,1,1,-1,1,-1,-1,1,-1,-1,1,1,1,-1,-1,1,-1,1,-1,1,1,-1,1,-1,-1,-1,-1,-1,-1,-1,-1,1,-1,1,1,-1,-1,-1,1,-1,1,-1,-1,-1,-1,-1,1,-1,1,-1,-1,1,-1,1,-1,-1,1,-1,-1,-1,-1,1,1,1,1,1,-1,-1,1,-1,1,-1,-1,1,-1,1,1,1,-1,1,1,1,-1,1,-1,-1,1,1,1,-1,-1,-1,1,1,1,-1,-1,-1,1,1,-1,-1,-1,-1,-1,-1,1,1,1,-1,-1,-1,-1,1,1,1,1,-1]
[-1,-1,1,1,1,1,-1,-1,1,-1,1,-1,1,1,1,-1,-1,-1,-1,1,1,1,1,1,1,1,1,-1,-1,1,-1,1,1,1,1,1,-1,1,-1,-1,1,-1,-1,1,1,-1,-1,1,1,-1,-1,-1,1,1,1,-1,1,-1,1,1,-1,-1,-1,1,-1,-1,1,-1,1,-1,-1,1,-1,1,-1,-1,-1,1,-1,1,-1,-1,-1,-1,1,1,-1,1,-1,-1,1,1,-1,1,1,1,-1,-1,-1,-1,1,-1,1,1,-1,-1,-1,-1,1,-1,-1,1,1,1,1,1,-1,1,-1,1,1,1,1,1,-1,1,1,1,1,-1,1,-1,1,-1,1,1,1,-1,1,-1,1,1,-1,-1,1,-1,-1,-1,-1,-1,1,-1,-1,1,-1,-1,1,-1,-1,-1,-1,-1,1,-1,-1,1,1,-1,1,-1,1,1,-1,-1,-1,-1,-1,1,1,1,1,-1,-1,1,-1,1,1,-1,1,1,-1,-1,-1,1,1,-1,1,-1,1,-1,1,-1,-1,1,1,1,-1,1,-1,1,1,1,-1,-1,-1,-1,1,-1,1,-1,-1,1,-1,-1,1,-1,1,1,1,-1,1,-1,-1,1,1,-1,1,-1,-1,-1,-1,1,-1,1,1,1,1,1,1,1,1,-1,1,1,1,-1]
[1,1,-1,1,-1,-1,1,-1,1,1,1,-1,1,1,-1,1,1,1,-1,1,1,1,1,1,-1,-1,1,1,-1,-1,1,-1,-1,1,1,1,1,1,1,1,-1,1,-1,-1,1,-1,-1,-1,1,1,1,-1,1,-1,1,-1,1,1,-1,-1,1,1,1,-1,-1,1,1,-1,-1,1,1,-1,-1,1,1,1,1,1,-1,1,1,1,-1,-1,-1,1,-1,1,1,-1,1,1,-1,1,1,1,-1,-1,1,-1,-1,-1,-1,-1,1,1,-1,1,1,-1,1,1,-1,1,1,1,1,1,1,1,-1,-1,1,1,1,-1,-1,1,-1,1,-1,1,1,1,1,1,-1,-1,1,-4,-1,1,-1,1,1,1,-1,1,-1,1,-1,-1,1,-1,1,1,1,1,-1,-1,1,-1,-1,-1,-1,1,1,-1,1,1,-1,-1,-1,-1,1,1,-1,1,1,1,1,-1,-1,1,1,-1,-1,1,1,-1,1,1,-1,1,1,-1,-1,1,-1,1,1,-1,-1,-1,1,1,1,1,-1,1,-1,-1,-1,1,-1,-1,-1,1,-1,-1,1,1,1,1,1,1,-1,-1,-1,-1,-1,-1,-1,1,-1,-1,1,-1,-1,1,1,-1,-1,1,-1,1,-1,-1,-1,-1,-1,1,-1,-1,1,-1]
[1,-1,-1,-1,1,-1,-1,-1,1,-1,-1,-1,-1,-1,-1,-1,1,-1,1,1,-1,-1,-1,1,-1,1,1,-1,-1,-1,-1,1,1,1,-1,1,-1,1,-1,1,-1,1,-1,-1,-1,-1,-1,1,-1,-1,1,-1,1,1,1,1,-1,1,-1,-1,-1,1,1,-1,-1,1,-1,1,-1,1,1,1,-1,-1,1,-1,1,1,1,1,1,1,1,-1,-1,1,1,1,1,-1,1,-1,1,-1,1,1,1,-1,1,-1,-1,1,1,1,1,-1,1,1,-1,1,1,1,-1,-1,1,-1,-1,1,-1,1,-1,-1,1,1,1,-1,1,-1,-1,1,-1,-1,-1,-1,1,1,-1,1,-1,-1,1,1,-1,1,-1,-1,-1,1,1,1,1,-1,-1,-1,-1,1,-1,1,-1,1,1,-1,1,1,1,1,-1,1,1,-1,1,1,1,-1,-1,-1,-1,1,-1,-1,-1,-1,1,-1,-1,-1,1,-1,-1,1,1,-1,-1,1,1,-1,-1,1,-1,1,-1,1,-1,-1,-1,-1,-1,-1,1,1,1,1,-1,1,1,1,-1,-1,-1,1,-1,-1,-1,1,-1,1,-1,-1,-1,1,1,-1,-1,-1,1,1,1,-1,1,1,1,1,1,-1,-1,1,-1,-1,1,1,-1,-1,1,1,1,1]
[1,-1,-1,-1,-1,-1,-1,1,-1,1,1,1,-1,1,1,-1,1,-1,-1,1,1,-1,-1,1,-1,1,1,1,1,1,-1,-1,-1,1,-1,-1,-1,1,1,-1,1,1,-1,-1,-1,1,-1,1,-1,-1,1,-1,-1,1,1,1,1,1,-1,1,1,-1,1,1,1,1,1,-1,1,-1,-1,-1,1,1,-1,1,1,-1,1,1,-1,1,1,1,1,1,1,-1,-1,-1,-1,-1,-1,-1,-1,-1,1,1,-1,-1,-1,-1,-1,-1,1,-1,-1,-1,1,-1,1,1,-1,1,-1,-1,1,-1,-1,1,-1,1,1,1,1,1,1,1,-1,1,1,-1,-1,1,-1,1,-1,-1,1,-1,1,1,1,-1,-1,1,1,1,-1,-1,-1,-1,1,1,-1,-1,-1,-1,-1,-1,1,1,-1,-1,-1,-1,-1,1,-1,1,-1,1,-1,-1,1,1,-1,-1,-1,-1,-1,-1,1,1,1,-1,-1,-1,1,-1,-1,1,-1,-1,1,-1,1,-1,-1,1,1,-1,1,-1,1,-1,1,1,1,-1,1,-1,1,-1,-1,-1,1,-1,1,1,-1,-1,1,-1,-1,-1,-1,-1,1,1,1,1,-1,-1,1,1,-1,-1,1,-1,-1,1,1,-1,1,-1,1,1,1,-1,1,1,1,1,-1,1]
[1,-1,1,1,1,-1,-1,1,1,-1,1,1,1,1,-1,-1,1,-1,-1,1,1,-1,1,-1,-1,-1,-1,-1,-1,1,1,-1,-1,1,-1,1,-1,1,1,-1,-1,1,-1,1,-1,1,-1,1,1,-1,1,-1,1,1,1,-1,-1,-1,1,1,-1,-1,-1,-1,1,-1,1,1,1,1,1,1,-1,1,1,-1,-1,1,1,-1,-1,1,1,1,1,1,-1,1,-1,1,1,1,-1,1,1,-1,1,1,1,1,1,1,1,-1,1,-1,-1,-1,1,1,-1,1,1,-1,-1,-1,-1,-1,1,1,1,-1,1,-1,1,-1,-1,-1,-1,-1,-1,1,1,1,1,-1,1,1,-1,-1,-1,-1,-1,1,1,1,1,1,-1,1,-1,-1,-1,1,-1,-1,-1,1,-1,-1,-1,-1,-1,-1,1,-1,-1,1,-1,-1,-1,1,-1,1,1,-1,1,-1,-1,-1,1,-1,1,1,-1,1,1,-1,-1,-1,1,1,-1,-1,1,-1,-1,-1,1,-1,-1,1,1,1,1,-1,-1,1,1,1,-1,-1,-1,1,-1,-1,1,1,-1,-1,1,-1,1,-1,1,1,1,1,1,1,-1,1,1,-1,1,1,-1,-1,1,-1,1,1,1,-1,-1,-1,1,1,1,1,1,1,1,-1,1,-1]
[-1,-1,-1,-1,-1,1,1,-1,-1,1,1,-1,-1,1,1,1,-1,-1,-1,1,1,-1,1,-1,-1,-1,-1,-1,1,-1,-1,-1,1,-1,-1,-1,-1,-1,-1,-1,1,-1,-1,-1,-1,1,1,-1,-1,-1,-1,-1,-1,-1,-1,1,-1,-1,1,1,1,1,1,1,1,1,-1,-1,-1,1,-1,1,-1,1,1,1,1,1,1,1,-1,1,1,1,1,-1,1,1,1,1,1,1,-1,1,1,1,-1,-1,-1,-1,-1,-1,-1,-1,1,-1,-1,-1,1,-1,-1,-1,-1,1,-1,-1,1,-1,1,-1,1,1,-1,-1,-1,1,1,-1,1,-1,-1,-1,1,-1,-1,1,1,1,1,1,1,1,-1,1,1,1,-1,1,-1,-1,1,-1,1,1,1,-1,1,-1,-1,-1,-1,1,-1,-1,1,1,-1,1,-1,1,1,-1,-1,-1,-1,-1,-1,-1,-1,1,-1,1,1,-1,1,-1,-1,1,1,-1,1,1,1,-1,-1,1,1,-1,1,-1,1,-1,-1,-1,1,-1,-1,-1,1,1,-1,1,-1,-1,1,1,-1,-1,1,-1,1,1,-1,-1,-1,1,-1,-1,1,-1,-1,-1,-1,1,1,-1,1,1,-1,1,-1,-1,-1,-1,1,1,1,-1,-1,1,-1,-1,1,-1,1,1]
[1,-1,1,-1,-1,-1,-1,1,1,-1,-1,-1,-1,-1,-1,1,1,1,-1,1,1,-1,-1,1,1,1,-1,-1,-1,-1,1,-1,1,1,1,-1,-1,1,1,1,-1,1,-1,1,-1,1,1,1,-1,1,1,-1,-1,1,1,-1,1,1,-1,-1,1,1,-1,1,-1,1,-1,1,1,-1,-1,-1,1,-1,1,1,1,1,1,1,-1,1,1,-1,1,1,1,1,1,-1,-1,1,1,1,-1,1,1,1,-1,-1,1,-1,1,1,-1,1,-1,1,1,1,-1,-1,-1,1,-1,-1,-1,-1,1,1,1,-1,1,-1,-1,-1,-1,-1,1,1,1,-1,1,1,-1,1,1,1,-1,1,1,1,1,-1,-1,1,1,1,1,1,-1,-1,1,-1,-1,1,-1,-1,1,1,-1,-1,1,-1,-1,1,-1,1,-1,-1,-1,1,-1,-1,-1,-1,-1,1,1,-1,1,-1,-1,-1,1,-1,1,1,-1,-1,-1,1,-1,-1,-1,1,-1,-1,-1,1,1,1,1,-1,1,1,-1,-1,1,1,1,-1,-1,-1,1,1,1,-1,1,-1,1,1,-1,-1,-1,1,1,1,1,-1,1,1,-1,-1,-1,-1,-1,-1,1,1,1,1,-1,-1,1,-1,1,1,-1,-1,-1,-1,1,1,-1,1]
[-1,1,-1,1,1,-1,-1,1,1,1,1,1,1,1,-1,-1,1,-1,-1,-1,1,-1,1,-1,-1,-1,-1,1,-1,-1,-1,-1,-1,1,1,-1,-1,1,1,1,-1,1,-1,-1,1,-1,-1,-1,1,1,-1,1,-1,-1,1,1,1,1,1,-1,1,1,1,1,1,1,-1,1,1,-1,-1,1,1,-1,1,-1,-1,-1,-1,1,1,-1,1,-1,-1,-1,1,1,1,1,1,-1,-1,1,-1,-1,-1,-1,1,1,-1,-1,1,1,-1,1,-1,-1,1,1,-1,-1,1,-1,-1,-1,-1,-1,-1,1,-1,-1,-1,1,1,-1,-1,-1,-1,1,1,1,1,-1,-1,1,1,-1,1,1,-1,1,-1,-1,1,-1,1,1,-1,-1,-1,-1,1,1,-1,-1,-1,1,-1,1,1,1,-1,-1,-1,1,-1,1,1,-1,1,-1,-1,1,-1,-1,1,1,1,-1,-1,-1,1,1,-1,1,-1,1,1,-1,-1,1,1,-1,-1,-1,1,1,1,1,1,1,1,-1,1,-1,1,1,1,1,1,1,-1,-1,-1,-1,1,1,-1,-1,1,1,-1,-1,-1,1,1,-1,1,-1,-1,1,1,1,1,-1,-1,-1,1,1,1,-1,1,-1,1,-1,-1,-1,1,1,-1,1,1,1,-1,1]
[-1,1,1,-1,-1,-1,1,-1,-1,1,-1,-1,-1,1,1,1,1,1,-1,-1,1,1,1,1,-1,-1,1,1,-1,1,1,-1,1,-1,1,1,1,1,1,-1,1,-1,1,-1,-1,-1,1,1,1,-1,1,-1,-1,-1,-1,1,-1,-1,-1,1,-1,1,-1,-1,1,-1,-1,1,1,-1,-1,-1,1,-1,1,1,-1,1,-1,1,-1,1,1,1,-1,1,-1,1,-1,-1,-1,-1,-1,1,1,-1,1,-1,-1,-1,-1,1,-1,1,1,-1,1,1,4,1,1,-1,1,1,-1,1,1,-1,-1,1,1,-1,-1,-1,-1,1,-1,-1,-1,-1,1,-1,1,1,1,-1,1,1,-1,-1,-1,-1,1,-1,1,1,-1,-1,1,-1,-1,-1,-1,1,-1,-1,-1,1,1,1,-1,-1,-1,1,1,1,1,-1,1,1,-1,1,-1,1,-1,-1,1,1,-1,-1,-1,1,1,1,-1,1,-1,1,-1,-1,1,-1,1,-1,-1,1,-1,1,-1,-1,1,-1,1,1,1,1,-1,-1,-1,1,1,1,1,1,-1,-1,1,1,1,1,1,1,-1,-1,-1,-1,-1,-1,1,1,1,-1,1,1,-1,1,-1,-1,-1,-1,1,-1,1,1,-1,-1,-1,-1,1,1,1,-1,1,1,-1,1]
[1,1,-1,-1,1,-1,-1,-1,1,1,1,-1,-1,1,-1,1,-1,1,1,1,1,-1,1,-1,-1,-1,1,1,-1,-1,-1,-1,-1,-1,1,-1,-1,-1,1,-1,1,-1,1,1,-1,1,1,1,-1,1,-1,-1,-1,1,1,-1,1,-1,-1,1,-1,-1,1,1,-1,1,-1,1,1,1,-1,1,-1,1,-1,1,-1,1,-1,-1,1,-1,1,1,1,1,1,1,-1,-1,-1,1,-1,1,1,-1,1,1,1,-1,1,-1,1,-1,1,1,1,-1,1,-1,1,1,-1,-1,-1,-1,-1,1,1,-1,1,1,1,1,-1,-1,-1,-1,1,1,1,-1,-1,1,1,1,1,1,-1,-1,-1,1,1,1,-1,1,1,1,-1,-1,-1,-1,1,1,-1,-1,-1,-1,1,-1,-1,-1,-1,-1,1,1,-1,1,-1,-1,-1,-1,1,1,-1,-1,1,1,1,1,1,1,-1,-1,-1,-1,-1,1,1,-1,1,1,-1,-1,-1,1,-1,1,1,1,1,1,1,1,-1,-1,1,1,1,-1,-1,-1,-1,1,1,1,-1,1,-1,-1,-1,1,1,1,-1,1,-1,1,1,1,-1,1,-1,1,1,-1,1,1,1,-1,1,1,1,-1,1,1,1,-1,-1,1,1,1,1,1,1,1]
[1,1,-1,-1,1,1,-1,-1,1,-1,1,1,1,1,-1,1,1,-1,-1,1,1,1,1,-1,1,1,-1,-1,1,-1,-1,1,-1,1,1,-1,1,-1,1,-1,1,1,1,1,-1,1,1,1,1,1,1,-1,1,1,1,-1,-1,1,1,-1,1,-1,-1,1,-1,1,-1,-1,1,1,-1,1,-1,-1,-1,1,-1,-1,-1,1,1,-1,-1,-1,1,1,1,-1,-1,-1,-1,1,1,-1,-1,-1,-1,1,1,1,1,1,1,1,1,1,-1,-1,-1,1,1,1,1,-1,1,1,-1,1,-1,1,1,1,1,-1,1,1,1,1,-1,-1,-1,-1,-1,1,1,1,-1,-1,-1,1,-1,1,-1,-1,1,-1,1,-1,-1,1,-1,-1,1,-1,1,-1,1,-1,-1,-1,1,1,-1,1,-1,1,-1,1,-1,1,1,1,1,1,-1,-1,1,1,1,-1,1,-1,1,-1,1,-1,1,-1,-1,1,1,-1,1,-1,1,1,1,1,-1,-1,-1,1,1,1,1,-1,-1,1,-1,-1,-1,-1,-1,1,1,-1,-1,1,1,1,-1,-1,1,-1,1,1,-1,1,-1,1,-1,1,1,1,-1,-1,1,1,-1,1,1,-1,1,-1,1,1,-1,-1,-1,1,-1,-1,1,1,1,-1]
[-1,-1,1,-1,1,-1,1,-1,-1,-1,1,1,-1,1,1,1,-1,-1,1,-1,1,-1,-1,1,-1,-1,-1,1,1,-1,1,-1,-1,-1,1,1,1,-1,-1,-1,1,1,-1,1,-1,1,1,1,-1,-1,-1,-1,-1,1,1,-1,-1,1,-1,1,-1,1,-1,1,-1,1,1,1,-1,1,1,1,1,-1,-1,1,1,1,1,1,-1,-1,-1,-1,1,1,1,1,-1,-1,1,1,1,1,1,1,1,-1,1,-1,1,-1,1,1,1,-1,-1,1,1,-1,1,1,1,1,-1,1,1,-1,-1,1,1,-1,-1,-1,-1,-1,1,1,-1,1,1,1,1,1,-1,1,1,-1,1,1,-1,1,-1,-1,-1,1,-1,1,1,-1,-1,1,1,1,1,1,1,1,1,1,-1,-1,-1,-1,-1,-1,1,-1,-1,-1,-1,-1,1,1,-1,1,1,-1,-1,-1,1,-1,-1,-1,1,-1,-1,-1,-1,1,-1,-1,1,-1,-1,-1,1,1,-1,-1,1,-1,-1,1,1,-1,-1,1,-1,-1,1,-1,1,1,1,-1,-1,-1,-1,-1,-1,1,-1,1,1,1,-1,-1,-1,1,-1,-1,-1,-1,1,-1,1,1,1,-1,1,-1,-1,1,-1,1,-1,-1,-1,1,-1,1,-1,-1,-1,1]
[1,-1,-1,-1,-1,-1,1,-1,-1,-1,1,-1,-1,-1,1,1,1,-1,-1,-1,1,1,1,-1,1,-1,-1,1,1,-1,-1,1,1,-1,1,1,1,1,-1,-1,-1,-1,1,-1,1,1,1,-1,1,1,-1,1,-1,-1,-1,1,-1,-1,1,-1,1,-1,1,1,-1,1,1,-1,-1,-1,-1,1,-1,1,1,-1,-1,-1,-1,1,1,1,-1,1,-1,1,-1,-1,1,1,-1,-1,1,1,1,1,-1,1,-1,-1,-1,-1,1,-1,1,-1,-1,-1,-1,-1,-1,1,-1,1,-1,1,-1,1,-1,4,1,1,1,-1,-1,1,1,-1,-1,1,-1,-1,1,1,1,1,-1,-1,-1,-1,-1,-1,1,1,-1,-1,1,-1,-1,1,-1,-1,1,1,-1,1,-1,1,1,-1,-1,1,1,-1,1,-1,1,-1,1,-1,1,1,-1,-1,1,1,-1,-1,-1,1,-1,-1,-1,-1,1,-1,-1,1,-1,-1,-1,-1,1,1,1,-1,1,1,1,-1,-1,-1,1,-1,1,-1,1,1,1,-1,-1,-1,-1,-1,-1,-1,1,1,-1,1,-1,1,-1,-1,-1,-1,-1,1,-1,1,1,1,-1,-1,-1,-1,1,-1,1,-1,1,1,1,1,1,1,1,1,1,1,1,-1,-1,1,1,-1]
[1,1,1,-1,-1,1,1,1,-1,1,-1,-1,1,-1,1,1,1,-1,-1,-1,-1,1,-1,1,1,-1,1,-1,-1,-1,1,1,-1,-1,-1,1,-1,-1,1,-1,-1,-1,1,-1,-1,-1,1,-1,1,1,-1,1,1,-1,-1,-1,-1,-1,1,-1,-1,1,1,-1,-1,1,-1,1,-1,-1,-1,-1,-1,-1,1,-1,1,-1,1,-1,1,1,-1,-1,-1,1,-1,1,1,-1,-1,-1,-1,1,-1,-1,1,-1,-1,1,-1,-1,1,1,-1,1,1,-1,-1,-1,-1,-1,-1,1,1,1,-1,1,1,1,1,-1,-1,-1,1,-1,-1,-1,1,1,1,1,1,-1,-1,-1,-1,1,1,-1,-1,-1,-1,-1,1,-1,-1,-1,1,1,-1,1,1,1,1,1,-1,-1,-1,-1,1,1,1,1,1,1,4,-1,1,1,1,-1,-1,1,-1,1,-1,1,1,-1,-1,-1,-1,1,1,-1,1,-1,-1,1,1,-1,-1,1,-1,1,1,-1,-1,-1,-1,-1,1,-1,1,-1,1,1,1,-1,1,-1,-1,-1,-1,-1,1,-1,-1,-1,-1,1,1,1,-1,1,-4,-1,-1,-1,1,1,1,1,1,1,1,1,-1,1,-1,1,-1,1,1,-1,1,1,1,1,-1,-1,-1,1,-1,-1]
[-1,1,1,-1,1,-1,-1,1,-1,1,1,1,-1,1,-1,1,-1,1,-1,1,-1,1,1,1,1,1,-1,-1,-1,-1,1,1,-1,1,1,1,-1,-1,1,1,-1,-1,-1,-1,-1,-1,-1,-1,1,1,1,-1,1,-1,1,-1,-1,1,1,-1,1,1,1,-1,-1,-1,1,-1,1,-1,1,1,1,-1,-1,-1,-1,1,-1,-1,1,-1,-1,-1,-1,-1,-1,-1,1,-1,1,-1,1,-1,-1,-1,1,-1,-1,1,1,1,-1,1,-1,1,-1,1,-1,1,-1,1,-1,-1,-1,1,-1,1,1,1,-1,1,-1,1,-1,1,1,-1,1,-1,1,1,-1,1,-1,1,-1,1,1,-1,-1,1,-1,-1,-1,1,-1,1,-1,-1,1,1,1,1,1,1,1,-1,-1,-1,1,-1,-1,1,-1,-1,1,1,1,-1,-1,1,-1,-1,-1,1,-1,1,-1,-1,1,1,-1,1,-1,-1,1,1,-1,1,-1,1,-1,1,-1,-1,1,1,1,1,1,1,-1,1,1,1,-1,1,1,1,-1,-1,-1,-1,1,-1,1,1,1,1,1,-1,1,-1,-1,-1,-1,1,1,1,-1,-1,1,-1,-1,-1,-1,1,1,1,-1,1,-1,-1,1,-1,1,1,-1,1,1,1,-1,-1,1,1]
[-1,1,1,1,1,1,-1,-1,1,1,-1,1,-1,-1,1,1,1,-1,1,-1,1,1,1,1,-1,-1,-1,-1,1,-1,1,1,1,1,-1,1,-1,1,-1,1,-1,1,-1,-1,1,1,-1,1,-1,-1,1,1,-1,-1,1,-1,-1,-1,-1,1,1,-1,-1,1,-1,-4,1,-1,-1,-1,-1,-1,-1,-1,-1,-1,-1,1,-1,1,1,-1,-1,-1,1,1,-1,-1,1,1,1,1,1,-1,-1,1,-1,-1,1,-1,1,1,1,1,-1,-1,1,1,-1,-1,1,-1,-1,1,-1,1,-1,-1,1,1,1,1,-1,-1,-1,1,1,-1,1,-1,1,1,-1,1,1,1,-1,1,-1,-1,-1,-1,-1,-1,-1,1,-1,1,1,1,-1,1,-1,1,1,-1,-1,-1,-1,1,1,1,-1,1,1,-1,-1,1,-1,-1,-1,-1,1,-1,-1,1,1,-1,1,-1,-1,-1,-1,1,-1,1,1,1,-1,-1,-1,1,-1,1,1,-1,1,-1,-1,-1,-1,1,-1,-1,1,-1,1,1,-1,-1,-1,1,1,-1,1,-1,-1,1,-1,1,-1,-1,-1,-1,1,-1,1,-1,1,-1,1,1,-1,1,-1,1,-1,-1,1,-1,-1,1,-1,1,-1,1,-1,1,1,-1,1,1,-1,-1,-1,-1]
[1,-1,-1,-1,-1,1,-1,-1,1,1,-1,-1,1,1,1,1,-1,-1,1,1,-1,-1,-1,-1,1,-1,-1,-1,-1,1,1,1,1,1,1,1,-1,1,1,1,-1,-1,-1,1,1,1,-1,-1,1,1,1,1,1,-1,-1,1,1,1,1,1,-1,1,-1,-1,-1,1,-1,-1,1,-1,-1,-1,1,1,-1,1,1,-1,-1,1,1,-1,1,1,-1,-1,1,-1,4,1,-1,1,-1,-1,1,1,-1,-1,1,-1,-1,1,1,1,-1,-1,-1,-1,-1,-1,1,-1,-1,-1,-1,1,1,-1,1,-1,-1,-1,1,-1,1,-1,1,1,1,1,1,1,1,1,-1,-1,-1,1,1,-1,1,-1,1,1,1,-1,-1,1,-1,1,1,-1,-1,1,-1,1,-1,1,1,-1,1,-1,1,1,1,-4,1,1,1,1,1,-1,-1,1,1,1,1,-1,-1,1,1,1,1,-1,1,-1,1,-1,1,1,-1,1,1,1,-1,1,-1,1,-1,-1,1,-4,-1,1,1,-1,1,-1,1,-1,1,-1,1,-1,-1,1,1,1,1,1,1,1,-1,-1,1,1,1,1,1,-1,-1,1,-1,1,-1,-1,1,-1,-1,1,-1,-1,-1,-1,-1,1,1,1,1,-1,-1,1,1,1,1,-1]
[1,1,-1,1,-1,-1,-1,-1,1,-1,1,1,-1,1,1,1,-1,1,-1,1,1,-1,1,-1,1,1,-1,-1,1,1,1,-1,1,1,1,1,1,-1,-1,1,-1,-1,1,-1,1,1,-1,1,1,1,1,1,-1,-1,1,-1,-1,-1,-1,-1,-1,-1,1,1,-1,-1,-1,-1,1,-1,-1,1,1,1,-1,-1,1,1,-1,-1,1,1,1,-1,-1,-1,1,-4,1,-1,1,1,-1,-1,-1,1,-1,-1,-1,-1,-1,-1,-1,-1,1,1,-1,1,1,-1,-1,-1,-1,-1,1,1,-1,-1,1,1,1,-1,-1,1,1,1,1,1,1,1,-1,1,-1,1,-1,1,1,1,1,-1,1,-1,1,-1,-1,-1,-1,1,1,1,1,-1,-1,-1,1,-1,-1,1,-1,1,1,-1,-1,-1,1,1,-1,1,-1,-1,1,1,1,1,-1,-1,1,1,-1,1,1,-1,-1,1,1,1,-1,1,1,1,1,1,-1,1,-1,1,-1,-1,-1,1,1,-1,-1,1,1,-1,1,1,1,1,1,-1,1,1,1,1,-1,-1,-1,1,1,1,1,-1,1,1,-1,-1,-1,1,1,-1,-1,1,1,1,1,-1,1,-1,-1,1,1,-1,1,-1,1,1,1,-1,1,1,-1,-1,1,-1]
[1,-1,-1,1,1,1,1,1,-1,1,-1,1,1,-1,1,1,-1,1,1,-1,1,-1,1,-1,-1,-1,1,-1,1,-1,-1,-1,-1,-1,1,1,-1,1,-1,-1,-1,-1,1,1,1,-1,1,1,-1,1,-1,-1,-1,-1,1,1,-1,1,1,1,1,-1,1,-1,-1,-1,-1,1,1,-1,-1,-1,-1,1,-1,-1,-1,-1,1,-1,1,-1,1,-1,1,1,-1,-1,1,-1,-1,-1,1,1,-1,1,-1,1,1,-1,-1,-1,-1,-1,1,1,-1,-1,1,-1,-1,1,1,-1,1,1,-1,-1,1,-1,-1,-1,1,1,-1,1,-1,-1,1,-1,-1,-1,1,-1,1,-1,1,-1,-1,-1,-1,-1,1,-1,1,-1,-1,-1,-1,1,1,1,1,-1,-1,1,1,1,1,-1,-1,-1,1,1,-1,-1,-1,-1,-1,-1,-1,-1,-1,1,-1,-1,1,1,-1,-1,-1,1,1,1,1,1,1,-1,1,-1,-1,-1,-1,-1,1,-1,1,1,1,1,1,1,1,-1,1,-1,1,1,1,-1,-1,1,1,-1,-1,1,-1,-1,-1,-1,-1,-1,1,-1,1,-1,1,-1,-1,-1,1,-1,1,1,1,1,-1,1,1,-1,-1,-1,1,1,-1,-1,-1,4,-1,-1,1,1,-1,-1,1,1]
[1,1,-1,1,-1,-1,1,1,-1,-1,1,1,1,-1,-1,1,-1,-1,-1,1,1,-1,-1,-1,1,-1,-1,1,-1,1,1,-1,1,-1,-1,1,-1,-1,-1,1,-1,-1,-1,1,1,1,1,1,-1,1,1,-1,-1,-1,-1,-1,-1,-1,1,-1,1,1,1,-1,-1,-1,1,-1,1,1,1,-1,-1,1,-1,1,-1,1,-1,1,-1,-1,1,1,-1,1,-1,-1,1,1,-1,-1,-1,-1,1,1,-1,-1,1,-1,-1,-1,-1,-1,-1,-1,-1,1,1,-1,-1,1,-1,-1,1,1,-1,1,1,-1,-1,-1,1,1,1,-1,-1,1,-1,1,1,1,1,-1,1,-1,1,-1,1,-4,1,-1,-1,-1,1,1,1,1,-1,1,-1,-1,-1,1,-1,1,-1,-1,-1,-1,1,1,1,-1,1,-1,-1,-1,-1,-1,-1,-1,1,1,-1,1,-1,1,1,-1,-1,-1,-1,-1,-1,-1,-1,1,-1,-1,1,-1,-1,1,-1,-1,-1,-1,1,1,-1,-1,-1,1,-1,-1,-1,1,1,-1,-1,-1,1,-1,1,1,1,1,-1,1,1,1,-1,-1,1,1,1,1,1,-1,-1,1,-1,1,1,1,1,1,1,-1,1,1,-1,-1,-1,-1,1,1,1,1,1,1,-1,-1,1,-1]
[-1,-1,1,1,-1,-1,1,-1,-1,-1,-1,1,1,-1,1,1,-1,-1,1,-1,1,-1,1,1,-1,1,-1,1,1,-1,1,1,-1,1,-1,1,-1,1,-1,1,-1,-1,1,1,1,-1,1,1,-1,1,-1,1,1,-4,-1,1,-1,-1,4,-1,-1,1,-1,1,1,-1,-1,1,1,1,1,1,1,-1,1,1,1,1,1,-1,-1,-1,-1,-1,-1,1,-1,-1,-1,1,1,-1,1,-1,1,1,-1,-1,1,-1,-1,1,-1,1,1,1,1,1,-1,-1,-1,-1,1,-1,1,-1,-1,1,1,1,1,-1,1,-1,-1,1,-1,1,-1,-1,-1,-1,-1,-1,-1,-1,-1,1,1,-1,1,-1,1,-1,-1,-1,1,1,-1,1,-1,1,1,-1,-1,1,1,1,-1,1,-1,1,-1,1,-1,-1,-1,1,1,-1,-1,-1,-1,1,1,1,-1,-1,-1,-1,-1,-1,-1,-1,-1,-1,-1,-1,1,-1,1,1,-1,-1,-1,-1,-1,-1,-1,1,-1,-1,-1,-1,-1,-1,-1,1,-1,-1,-1,1,1,-1,1,-1,-1,1,-1,1,1,-1,1,-1,1,1,1,-1,-1,1,1,1,1,1,-1,1,1,-1,1,1,-1,1,-1,1,-1,1,-1,1,-1,1,1,-1,-1,1,-1,1]
[-1,1,-1,1,-1,1,-1,1,-1,1,1,1,-1,-1,-1,1,1,-1,1,-1,-1,-1,-1,-1,-1,-1,1,1,-1,-1,-1,-1,1,-1,1,-1,1,-1,-1,-1,-1,-1,-1,-1,-1,-1,1,-1,-1,1,-1,1,1,-1,-1,-1,-1,1,-1,1,1,-1,-1,1,1,1,-1,-1,1,-1,-1,-1,1,-1,-1,1,-1,1,-1,-1,-1,-1,-1,1,1,-1,1,-1,-1,1,-1,1,-1,1,-1,-1,1,1,-1,-1,-1,1,1,1,-1,-1,-1,1,-1,-1,1,1,1,1,1,-1,-1,1,-1,-1,-1,1,1,-1,-1,-1,-1,-1,1,1,1,-1,1,1,-1,-1,1,1,1,-1,-1,1,1,-1,-1,-1,-1,1,-1,-1,1,-1,1,1,-1,-1,1,-1,1,1,-1,-1,1,1,1,1,1,-1,-1,-1,-1,1,-1,1,1,1,1,-1,1,1,1,1,-1,-1,-1,-1,-1,1,-1,1,1,1,1,-1,1,-1,1,1,1,-1,1,-1,1,-1,1,1,-1,1,-1,-1,-1,-1,-1,-1,-1,-1,-1,-1,1,1,-1,-1,1,1,-1,-1,1,1,1,-1,-1,1,1,1,1,1,1,1,1,-1,-1,-1,-1,1,1,-1,-1,-1,-1,-1,1,1,1,1,-1,1]
[1,1,-1,1,1,1,1,1,-1,1,1,-1,-1,1,-1,-1,-1,1,-1,1,-1,-1,1,1,1,1,-1,-1,-1,1,1,-1,-1,-1,1,-1,-1,1,-1,1,-1,1,-1,1,1,1,-1,1,-1,-1,1,-1,1,-1,1,-1,-1,-1,-1,-1,-1,1,-1,-1,1,1,-1,1,-1,-1,1,-1,1,-1,-1,-1,1,1,1,1,-1,1,-1,-1,-1,1,1,-1,-1,1,-1,1,1,-1,-1,-1,1,1,1,1,-1,-1,-1,1,1,-1,1,-1,-1,-1,1,1,-1,-1,-1,-1,1,-1,-1,-1,1,1,-1,-1,-1,-1,1,-1,1,1,1,1,-1,1,1,1,1,1,-1,1,1,1,1,1,-1,1,-1,-1,1,-1,1,-1,-1,1,1,-1,1,-1,-1,-1,-1,-1,1,1,-1,-1,1,-1,-1,1,1,1,1,-1,-1,-1,-1,-1,1,1,1,-1,-1,1,-1,1,-1,1,1,-1,-1,1,1,1,-1,-1,1,1,1,1,1,1,-1,-1,1,-1,1,-1,-1,1,-1,-1,1,1,-1,-1,1,-1,1,1,1,1,-1,-1,-1,-1,1,-1,1,-1,-1,-1,-1,1,1,-1,-1,-1,1,1,-1,1,-1,-1,1,-1,1,-1,1,1,-1,-1,1,1,-1,-1]
[-1,1,-1,-1,-1,1,-1,1,-1,-1,-1,-1,-1,-1,1,-1,-1,1,1,1,1,-1,1,-1,1,-1,1,-1,-1,-1,-1,-1,-1,1,1,1,1,1,-1,1,1,1,1,1,1,-1,-1,-1,-1,1,1,1,-1,1,-1,1,1,1,-1,-1,-1,1,1,1,1,-1,1,-1,-1,1,1,-1,1,-1,-1,1,1,-1,-1,1,-1,-1,1,-1,-1,1,1,1,-1,-1,-1,1,1,-1,1,-1,-1,1,1,-1,1,1,1,-1,1,-1,-1,-1,1,1,1,-1,-1,1,-1,-1,1,1,-1,-1,-1,1,-1,-1,-1,1,1,1,-1,-1,-1,-1,1,1,-1,1,1,-1,1,-1,-1,-1,1,1,-1,-1,-1,-1,1,1,-1,1,1,-1,1,-1,-1,1,1,1,-1,-1,1,1,1,-1,-1,1,1,-1,-1,-1,1,1,-1,1,1,1,-1,-1,1,1,1,1,-1,-1,-1,1,1,-1,1,-1,1,1,1,1,1,-1,1,-1,-1,1,-1,-1,-1,1,-1,-1,-1,1,1,-1,1,-1,1,1,1,-1,1,-1,-1,1,1,-1,1,1,1,1,1,1,1,1,1,-1,1,-1,-1,1,1,-1,-1,1,-1,1,1,1,1,-1,1,1,-1,-1,-1,1,1,-1]
[1,-1,1,-1,-4,-1,1,1,-1,1,-1,1,1,-1,1,-1,-1,1,-1,1,1,-1,1,1,1,-1,1,1,-1,1,-1,-1,1,-1,1,-1,1,-1,-1,1,1,1,-1,-1,-1,1,1,1,1,-1,1,1,-1,1,1,1,-1,-1,1,-1,1,1,1,1,1,-1,-1,1,1,-1,1,-1,-1,-1,1,1,1,1,1,1,-1,-1,1,-1,-1,1,1,1,-1,1,1,1,-1,-1,-1,1,1,-1,-1,1,1,-1,-1,-1,-1,1,1,-1,1,1,1,-1,1,1,-1,-1,-1,-1,1,-1,-1,-1,-1,1,-1,1,-1,1,-1,-1,1,1,1,1,-1,1,-1,-1,1,-1,1,-1,-1,-1,1,1,-1,-1,1,1,1,1,-1,-1,-1,1,1,-1,-1,-1,1,1,1,1,-1,-1,1,-1,1,-1,-1,1,-1,-1,-1,1,1,-1,-1,-1,1,-1,-1,1,1,-1,-1,1,1,-1,1,-1,1,1,1,-1,1,-1,1,1,-1,1,-1,1,1,1,1,1,1,-1,-1,1,-1,1,-1,1,1,-1,-1,1,-1,-1,-1,-1,-1,1,1,1,-1,1,1,1,-1,-1,-1,-1,-1,1,1,1,-1,-1,-1,1,1,-1,1,-1,1,1,-1,-1,1,-1,-1,1]
[1,-1,1,1,-1,-1,1,1,1,-1,1,1,-1,-1,1,1,-1,1,-1,1,-1,1,1,-1,1,1,-1,-1,1,-1,-1,-1,1,-1,1,1,-1,1,-1,1,1,1,1,1,-1,-1,-1,1,1,-1,1,1,-1,1,1,-1,1,1,-1,-1,1,-1,1,1,1,1,1,-1,1,-1,1,1,-1,1,1,1,-1,-1,-1,-1,1,1,-1,1,-1,1,1,-1,-1,-1,1,-1,-1,1,1,1,1,1,1,1,-1,1,1,1,-1,1,-1,-1,1,-1,-1,1,-1,-1,1,1,1,-1,1,-1,1,-1,1,-1,1,1,-1,1,-1,1,-1,-1,-1,1,-1,1,-1,-1,-1,1,-1,1,-1,1,1,-1,-1,-1,1,-1,-1,-1,1,1,1,1,1,1,1,1,1,1,1,1,1,-1,-1,1,1,-1,-1,1,-1,1,1,1,1,-1,1,-1,1,1,1,1,1,-1,-1,-1,1,1,1,-1,1,1,-1,-1,1,-1,-1,-1,1,-1,1,-1,1,-1,1,1,1,1,-1,1,-1,1,-1,-1,1,-1,-1,-1,1,1,-1,1,-1,-1,-1,-1,1,1,1,1,-1,-1,1,1,-1,1,-1,1,1,-1,1,1,1,1,-1,-1,-1,1,-1,1,-1,1,1,1]
[1,1,-1,1,1,-1,-1,-1,1,-1,1,1,1,-1,1,1,-1,1,1,1,-1,-1,-1,-1,1,-1,-1,-1,1,-1,-1,1,-1,1,1,1,-1,-1,-1,1,1,-1,1,1,-1,-1,1,1,1,-1,1,-1,1,1,-1,1,1,-1,1,1,-1,1,1,-1,1,-1,1,1,1,-1,1,-1,1,-1,1,1,-1,1,1,-1,1,1,-1,1,1,-1,-1,1,-1,-1,-1,1,-1,-1,1,1,1,-1,1,-1,1,1,1,-1,1,-1,-1,-1,1,1,-1,-1,1,-1,1,-1,1,1,-1,-1,-1,1,1,1,1,-1,-1,1,-1,-1,1,1,1,1,1,-1,1,-1,1,1,-1,-1,1,-1,1,1,-1,-1,1,1,1,-1,1,-1,1,-1,1,-1,-1,1,1,-1,-1,-1,-1,1,-1,-1,-1,-1,1,-1,-1,1,1,1,-1,-1,-1,1,1,1,1,-1,-1,-1,-1,1,-1,-1,-1,1,1,1,1,1,-1,-1,-1,-1,1,-1,-1,1,1,-1,1,1,1,-1,-1,1,1,1,1,1,-1,1,1,-1,1,-1,-1,-1,-1,1,-1,1,1,1,1,-1,1,-1,1,1,-1,1,-1,1,-1,1,1,1,-1,1,1,-1,-1,-1,-1,-1,1,-1,1,1]
[1,-1,-1,1,-4,1,1,-1,-1,-1,-1,1,1,-1,1,-1,1,-1,-1,1,-1,1,1,1,1,-1,1,-1,-1,1,-1,1,-1,1,-1,-1,-1,-1,-1,-1,1,1,1,-1,1,1,-1,1,1,1,-1,1,-1,-1,-1,1,-1,-1,-1,1,1,1,1,-1,1,1,1,-1,1,1,-1,1,1,-1,-1,1,-1,-1,1,-1,-1,1,1,-1,-1,-1,-1,1,-1,-1,-1,1,1,1,1,-1,-1,1,-1,1,-1,1,-1,1,-1,-1,-1,-1,-1,-1,-1,-1,-1,-1,-1,1,-1,-1,1,-1,-1,1,-1,1,-1,-1,1,1,1,1,-1,-1,1,-1,1,-1,-1,1,-1,-4,1,1,-1,-1,1,-1,-1,1,1,1,-1,1,-1,1,1,1,1,1,-1,1,-1,1,-1,1,-1,1,1,-1,-1,-1,-1,1,-1,1,-1,-1,-1,-1,1,-1,1,1,-1,1,-1,-1,-1,-1,1,-1,1,1,1,-1,1,1,1,-1,-1,1,-1,1,-1,-1,1,1,1,1,-1,-1,-1,-1,1,1,-1,-1,1,1,-1,-1,1,-1,-1,-1,-1,-1,-1,1,1,-1,1,1,1,1,1,1,1,1,-1,1,1,1,1,-1,-1,-1,-1,-1,-1,-1,-1,1,-1,1,1,-1]
[1,-1,1,-1,-1,1,1,1,-1,-1,1,1,-1,-1,1,1,-1,1,1,-1,1,-1,1,-1,-1,-1,-1,1,1,-1,1,1,-1,1,1,1,-1,-1,-1,-1,-1,-1,-1,-1,1,-1,1,1,-1,-1,-1,-1,1,-1,-1,-1,1,-1,1,1,1,1,1,1,1,1,1,1,1,1,1,-1,-1,1,1,-1,-1,1,1,1,1,1,1,-1,1,1,1,1,1,1,-1,1,1,1,-1,-1,1,1,-1,1,-1,1,-1,-1,1,1,1,1,1,-1,-1,1,-1,1,-1,1,-1,1,1,-1,1,-1,1,-1,-1,-1,-1,-1,1,1,-1,-1,1,-1,1,1,-1,1,-1,-1,1,1,-1,-1,-1,1,-1,-1,1,1,-1,1,-1,-1,-1,1,-1,1,-1,1,-1,1,1,-1,-1,1,-1,-1,-1,1,-1,1,-1,1,1,1,1,-1,-1,1,1,1,-1,-1,-1,1,-1,-1,1,1,-1,-1,-1,-1,-1,-1,1,-1,-1,-1,1,-1,-1,-1,-1,-1,1,-1,1,1,1,-1,1,1,-1,1,-1,1,-1,1,-1,1,-1,1,-1,-1,-1,1,1,1,-1,-1,-1,1,-1,1,-1,-1,1,1,1,-1,-1,-1,-1,-1,1,-1,-1,1,-1,-1,1,-1,1,1]
[-1,-1,-1,1,1,1,-1,-1,-1,1,-1,1,-1,-1,1,-1,1,-1,1,1,1,1,-1,1,-1,-1,1,-1,-1,-1,-1,-1,1,1,-1,1,-1,1,1,1,-1,-1,-1,1,1,-1,-1,1,1,-1,-1,-1,1,-1,1,-1,1,1,1,1,-1,1,-1,-1,-1,1,-1,-1,-1,1,1,1,-1,1,-1,-1,1,1,1,1,-1,1,-1,1,1,-1,1,1,1,1,1,1,-1,-1,-1,1,-1,-1,1,1,-1,-1,1,1,1,-1,-1,-1,1,1,-1,1,-1,1,1,1,1,-1,-1,-1,1,-1,1,-1,-1,1,1,1,1,-1,1,1,1,1,1,-1,1,1,-1,1,-1,1,-1,-1,-1,-1,1,1,1,-1,-1,-1,1,1,1,-1,-1,1,1,-1,-1,1,1,-1,-1,-1,1,1,1,-1,-1,1,1,-1,1,1,-1,1,-1,1,-1,1,-1,-1,-1,1,-1,-1,1,-1,1,-1,-1,-1,1,-1,-1,1,-1,1,-1,1,-1,1,1,-1,-1,-1,1,-1,1,1,1,1,1,1,1,1,-1,1,-1,-1,-1,-1,1,1,-1,1,1,1,1,1,-1,1,1,1,1,-1,-1,1,1,-1,1,1,-1,1,1,-1,1,-1,-1,-1,1,-1,1,1]
[1,1,-1,1,1,1,-1,-1,1,1,1,-1,-1,1,-1,1,-1,1,-1,-1,1,-1,1,-1,1,1,-1,-1,1,1,-1,-1,1,1,-1,-1,1,-1,-1,1,-1,1,1,1,1,1,1,-1,-1,1,1,1,1,-1,1,1,1,1,1,1,1,1,1,1,-1,1,-1,1,-1,-1,1,1,1,-1,1,1,-1,1,1,-1,1,-1,-1,1,1,-1,1,1,-1,-1,-1,-1,-1,1,-1,-1,1,1,-1,1,1,1,1,-1,-1,1,1,1,1,1,-1,-1,1,1,1,1,1,-1,-1,-1,1,-1,1,-1,1,-1,1,1,-1,1,-1,-1,-1,1,-1,1,-1,1,1,1,1,1,1,1,1,1,1,-1,-1,-1,-1,-1,1,1,-1,-1,1,-1,-1,1,-1,1,1,-1,-1,1,1,1,1,-1,1,-1,-1,1,1,-1,1,1,-1,1,1,-1,1,1,-1,1,1,-1,1,1,-1,1,-1,1,-1,1,-1,1,1,1,-1,-1,-1,-1,1,-1,1,-1,-1,1,1,1,1,-1,1,1,-1,-1,-1,-1,1,1,-1,-1,1,-1,1,-1,-1,-1,-1,-1,-1,-1,1,-1,1,1,1,-1,-1,-1,-1,-1,-1,1,-1,1,-1,-1,1,1,1,1,1,1]
[-1,1,-1,1,-1,1,-1,-1,-1,-1,1,-1,-1,1,1,-1,1,-1,1,1,-1,-1,-1,1,1,1,1,1,-1,-1,-1,-1,1,1,1,-1,-1,-1,1,1,1,1,-1,-1,1,-1,1,-1,1,1,1,1,1,1,1,1,-1,1,-1,1,1,-1,1,-1,1,1,1,1,1,-1,1,-1,1,-1,-1,1,1,-1,1,1,-1,1,-1,-1,1,1,1,-1,1,-1,1,1,-1,1,-1,-1,1,1,1,-1,1,1,-1,-1,-1,-1,1,-1,1,1,-1,-1,-1,1,-1,-1,1,-1,1,1,1,1,-1,-1,1,1,-1,-1,1,1,-1,-1,1,1,1,1,1,1,1,1,1,1,1,1,-1,-1,-1,-1,-1,-1,1,-1,1,-1,-1,1,-1,1,1,-1,1,-1,1,1,1,-1,1,1,1,1,-1,-1,-1,-1,-1,-1,-1,1,1,1,1,-1,1,-1,1,-1,1,1,-1,1,1,1,-1,-1,1,-1,1,-1,-1,1,-1,1,1,1,1,1,1,-1,-1,1,1,1,1,1,1,1,1,1,1,1,1,-1,-1,-1,1,1,1,-1,1,-1,1,1,1,-1,1,-1,1,-1,-1,-1,-1,1,-1,1,1,1,1,-1,-1,1,1,1,1,1,-1,-1]
[-1,1,-1,-1,1,-1,-1,-1,1,-1,1,-1,-1,-1,-1,-1,-1,-1,-1,1,1,1,1,-1,-1,-1,1,-1,-1,-1,1,-1,-1,-1,1,-1,-1,1,1,1,1,1,-1,-1,1,1,-1,-1,-1,-1,1,1,1,1,-1,-1,-1,-1,-1,-1,1,-1,1,-1,1,-1,1,1,1,-1,-1,1,1,1,1,-1,-1,1,1,1,-1,1,-1,1,1,1,1,-1,1,-1,1,1,1,-1,1,-1,1,1,1,-1,-1,1,-1,-1,-1,1,-1,1,-1,1,-1,1,1,-1,-1,1,-1,1,-1,1,1,1,1,-1,-1,-1,-1,1,1,1,1,-1,-1,1,1,1,1,-1,-1,1,-1,1,1,1,1,1,1,1,-1,-1,-1,1,1,-1,1,1,-1,-1,1,1,1,1,-1,1,1,1,-1,1,1,-1,-1,-1,1,1,-1,1,1,1,1,1,1,-1,1,1,1,-1,1,1,1,1,-1,1,-1,1,1,-1,1,-1,1,1,-1,-1,-1,-1,1,-1,1,-1,1,1,1,1,-1,-1,-1,-1,1,1,1,-1,1,-1,1,-1,1,1,-1,-1,1,-1,-1,-1,-1,-1,-1,-1,1,-1,1,1,-1,1,1,1,1,-1,1,-1,1,1,1,1,1,-1,-1,1]
[-1,-1,1,-1,1,-1,-1,-1,-1,1,-1,-1,-1,1,1,1,1,1,-1,1,-1,1,-1,1,1,-1,1,1,-1,-1,1,-1,1,-1,1,-1,1,1,1,1,-1,1,1,1,-1,-1,1,-1,1,1,-1,-1,1,-1,-1,1,1,-1,1,-1,1,1,1,-1,-1,1,-1,-1,-1,1,-1,1,-1,1,1,1,1,1,-1,1,-1,-1,-1,1,-1,1,-1,1,-1,1,-1,1,-1,1,-1,-1,-1,-1,1,1,-1,1,-1,1,-1,1,-1,-1,-1,1,1,-1,-1,1,1,1,-1,-1,1,-1,-1,1,-1,-1,1,1,-1,-1,1,-1,1,1,1,-1,1,-1,-1,1,1,-1,-1,1,1,-1,-1,-1,-1,1,1,1,1,1,1,1,-1,1,1,-1,-1,-1,1,-1,1,1,1,1,-1,1,-1,1,-1,1,1,-1,1,1,-1,1,1,-1,1,1,-1,1,-1,1,1,-1,1,-1,1,1,1,1,-1,-1,-1,1,-1,-1,1,1,1,1,-1,-1,-1,-1,1,1,1,-1,-1,-1,1,1,-1,-1,1,-1,-1,1,-1,1,1,1,1,-1,1,-1,-1,1,1,1,1,-1,-1,-1,-1,1,-1,1,1,-1,-1,1,-1,1,1,1,-1,1,-1,1,-1,1]
[1,1,-1,1,1,-1,-1,1,-1,1,1,1,-1,-1,1,1,-1,-1,1,-1,-1,1,1,1,-1,-1,1,-1,-1,-1,-1,1,1,1,-1,-1,1,1,1,1,-1,4,1,-1,1,1,1,-1,-1,-1,-1,1,-1,1,-1,1,1,1,-1,1,-1,-1,-1,-1,-1,1,1,-1,1,-1,-1,1,1,-1,-1,-1,1,1,1,1,-1,-1,1,-1,1,1,-1,-1,-1,1,1,1,1,-1,-1,-1,-1,-1,-1,1,-1,1,1,1,-1,-1,1,1,1,1,1,-1,1,-1,1,1,1,-1,-1,1,1,1,-1,-1,1,1,-1,-1,-1,1,-1,-1,1,1,1,-1,-1,1,1,-1,1,1,1,1,1,1,-1,-1,1,-1,-1,1,1,-1,-1,1,1,-1,1,-1,-1,-1,-1,1,-1,1,-1,1,-1,-1,-1,-1,-1,-1,1,-1,-1,1,1,1,-1,1,-1,-1,-1,-1,-1,-1,1,1,-1,-1,1,1,1,1,-1,1,-1,1,-1,1,1,1,1,-1,-1,-1,1,4,1,1,-1,-1,1,-1,-1,-1,-1,1,-1,-1,1,1,-1,-1,1,-1,-1,-1,-1,-1,1,-1,-1,1,-1,1,1,1,-1,-1,1,-1,1,1,1,1,1,1,1,-1,-1,1,1,1]
[-1,1,-1,1,1,1,-1,1,1,-1,-1,1,1,-1,1,-1,1,1,1,1,-1,-1,1,-1,1,-1,1,1,-1,1,-1,-1,-1,1,-1,-1,1,-1,1,1,-1,1,-1,-1,-1,1,1,1,-1,-1,1,-1,1,1,1,-1,1,1,1,1,-1,1,1,-1,1,-1,-1,1,1,-1,1,1,1,1,-1,-1,-1,-1,-1,-1,-1,1,1,-1,-1,1,-1,1,1,-1,1,1,-1,-1,-1,1,1,-1,1,-1,-1,-1,-1,1,1,1,1,1,-1,1,1,1,-1,1,1,-1,1,-1,1,-1,1,1,-1,-1,-1,1,1,-1,1,-1,-1,1,1,-1,-1,1,-1,-1,1,-1,-1,1,1,-1,1,1,1,-1,-1,-1,-1,1,-1,1,-1,1,-1,-1,1,1,-1,1,1,-1,-1,1,1,1,1,1,1,1,1,1,1,-1,-1,-1,-1,-1,-1,1,-1,-1,1,-1,-1,-1,1,1,-1,1,-1,-1,1,1,-1,1,1,1,1,-1,-1,1,1,-1,-1,-1,-1,1,-1,-1,-1,1,-1,-1,-1,1,1,1,1,1,-1,1,1,1,-1,1,1,-1,-1,1,1,-1,1,-1,1,-1,-1,1,-1,-1,1,-1,-1,1,-1,1,-1,-1,1,-1,1,1,1,1]
[1,1,-1,-1,1,-1,-1,-1,-1,-1,1,-1,-1,-1,1,1,1,1,-1,1,1,-1,1,1,1,-1,1,1,1,-1,1,-1,-1,1,1,-1,1,-1,1,-1,1,1,-1,-1,1,-1,1,-1,-1,1,-1,1,-1,1,1,1,-1,1,1,1,-1,-1,1,1,-1,1,-1,-1,-1,1,1,-1,1,1,1,-1,1,-1,1,1,-1,-1,1,-1,-1,-1,1,1,1,1,-1,1,-1,1,-1,1,1,1,-1,-1,1,1,-1,-1,1,1,-1,1,-1,-1,-1,1,-1,1,-1,1,1,-1,1,-1,1,-1,-1,-1,1,-1,1,1,-1,1,1,-1,1,-1,1,-1,1,1,-1,1,1,-1,1,1,1,1,1,1,1,-1,-1,1,-1,-1,-1,1,-1,-1,1,-1,1,-1,1,1,-1,-1,1,-1,1,1,1,-1,-1,-1,-1,1,1,1,1,1,-1,-1,1,-1,1,-1,1,-1,1,1,1,1,1,1,-1,-1,1,-1,-1,-1,-1,-1,-1,1,1,-1,1,-1,-1,-1,-1,-1,1,1,1,-1,1,1,-1,1,1,-1,1,1,1,-1,-1,1,-1,1,-1,1,-1,-1,-1,1,-1,-1,-1,1,1,-1,-1,-1,1,1,-1,-1,1,-1,-1,1,1,-1,1,-1]
[1,1,1,-1,1,1,-1,-1,1,-1,-1,1,-1,1,-1,1,1,1,1,1,1,-1,1,-1,1,1,-1,1,1,-1,-1,1,1,-1,-1,-1,-1,1,1,1,-1,1,1,-1,1,-1,1,-1,-1,-1,1,-1,1,1,-1,-1,-1,1,1,1,-1,-1,1,1,-1,1,-1,1,-1,-1,1,1,-1,-1,1,-1,1,1,1,1,-1,-1,1,-1,-1,-1,1,1,1,1,-1,-1,-1,-1,-1,1,-1,1,-1,1,-1,1,1,-1,1,-1,1,-1,1,-1,1,1,-1,1,1,1,-1,1,1,-1,-1,1,1,-1,-1,1,-1,-1,-1,-1,1,-1,-1,-1,-1,1,1,-1,-1,-1,1,-1,1,-1,-1,1,-1,1,1,-1,1,-1,-1,-1,-1,-1,1,-1,-1,1,1,1,1,-1,-1,-1,-1,1,1,1,-1,-1,-1,-1,1,-1,-1,-1,-1,1,-1,1,-1,-1,1,1,-1,-1,1,1,1,1,1,-1,1,-1,1,1,-1,1,1,1,1,1,-1,-1,1,1,-1,-1,1,-1,-1,1,1,1,1,1,1,-1,1,1,-1,-1,1,-1,-1,-1,1,1,-1,-1,1,-1,-1,-1,1,1,-1,1,-1,1,1,-1,1,-1,-1,-1,1,-1,1,1,-1,-1,1,-1]
[-1,1,-1,-1,-1,-1,1,-1,1,-1,-1,-1,-1,1,1,-1,-1,1,-1,1,1,-1,1,-1,1,-1,1,1,-1,-1,-1,1,-1,1,1,-1,1,1,1,1,1,-1,-1,1,-1,-1,1,-1,-1,1,1,-1,-1,1,-1,-1,-1,-1,-1,1,-1,1,-1,1,1,1,-1,-1,1,1,-1,1,-1,1,-1,-1,1,1,1,-1,1,-1,1,-1,1,1,-1,1,-1,1,1,1,1,1,-1,1,1,-1,1,-1,-1,1,-1,-1,1,-1,-1,1,1,1,-1,1,-1,-1,1,1,-1,-1,1,1,-1,1,-1,1,-1,1,1,-1,1,1,1,-1,-1,1,-1,-1,-1,1,-1,-1,1,-1,1,-1,-1,-1,1,-1,-1,1,1,-1,1,-1,-1,1,-1,1,1,1,1,-1,1,1,1,1,1,1,-1,1,1,1,-1,-1,1,1,1,-1,-1,-1,1,-1,1,1,1,-1,1,-1,-1,-1,1,-1,-1,1,-1,1,-1,1,1,-1,1,1,-1,1,1,1,1,-1,1,1,1,-1,1,-1,1,1,-1,1,1,1,1,1,1,1,1,1,-1,-1,1,-1,-1,1,-1,-1,-1,1,-1,-1,1,-1,1,1,1,-1,1,-1,1,-1,-1,-1,1,-1,-1,-1,1,1]
[1,-1,1,1,1,1,-1,1,-1,-1,1,1,1,-1,1,1,-1,1,-1,-1,-1,-1,1,1,1,-1,1,1,1,-1,1,-1,1,1,-1,1,1,-1,1,1,-1,-1,-1,-1,-1,1,1,-1,1,1,-1,1,-1,-1,1,-1,-1,1,-1,-1,-1,-1,1,1,1,-1,1,-1,1,-1,1,-1,1,1,1,-1,1,1,1,1,1,-1,-1,-1,1,1,-1,-1,1,1,1,1,1,-1,1,1,-1,-1,1,-1,1,-1,-1,1,-1,1,-1,1,-1,-1,-1,1,-1,-1,1,1,-1,-1,-1,1,1,-1,-1,-1,1,-1,1,1,-1,-1,1,-1,1,1,-1,-1,-1,-1,1,1,-1,-1,-1,1,-1,1,-1,-1,-1,1,-1,-1,-1,1,-1,1,1,-1,-1,-1,1,-1,1,1,1,-1,-1,1,1,-1,1,1,1,1,1,-1,1,1,-1,1,1,1,1,1,1,1,1,1,-1,-1,1,1,1,-1,-1,1,1,-1,1,1,-1,-1,-1,1,-1,-1,1,1,-1,-1,1,1,1,-1,1,1,1,-1,-1,1,1,1,1,1,1,1,-1,1,1,-1,1,-1,1,-1,1,1,-1,1,-1,1,-1,-1,1,1,1,-1,1,1,1,1,-1,-1,-1,-1,-1,-1]
[-1,-1,1,-1,1,1,1,1,-1,1,1,1,-1,-1,1,1,1,-1,-1,1,1,-1,1,1,-1,-1,-1,-1,1,1,1,1,1,1,-1,-1,1,-1,1,-1,-1,-1,-1,1,1,-1,-1,1,1,1,1,1,1,1,1,1,1,1,1,1,-1,1,-1,-1,1,-1,1,-1,-1,-1,-1,-1,1,1,1,-1,1,-1,1,-1,1,1,-1,-1,-1,-1,1,-1,-1,-1,1,-1,-1,1,1,1,-1,1,-1,-1,1,-1,1,1,1,1,1,-1,1,1,1,1,-1,-1,1,-1,-1,-1,1,-1,-1,1,-1,1,1,-1,-1,1,-1,1,1,1,-1,1,-1,1,1,1,1,1,1,-1,1,1,-1,1,-1,-1,-1,1,-1,-1,1,-1,1,-1,1,-1,1,-1,-1,1,-1,1,-1,1,1,-1,1,-1,-1,1,1,1,1,-1,-1,-1,-1,-1,1,1,-1,1,1,-1,-1,-1,-1,-1,1,1,1,1,-1,-1,-1,1,1,1,1,1,1,-1,-1,-1,-1,1,1,-1,-1,-1,1,1,-1,-1,-1,-1,-1,1,-1,-1,-1,-1,1,-1,1,1,1,1,-1,1,-1,1,1,-1,-1,-1,1,-1,1,1,-1,1,-1,-1,-1,-1,1,-1,-1,1,1,1,-1,1]
[1,-1,1,-1,1,-1,-1,1,-1,1,1,1,-1,-1,1,1,-1,-1,1,-1,-1,1,1,-1,1,-1,-1,1,1,1,1,-1,1,1,-1,-1,-1,-1,-1,-1,1,1,-1,1,1,-1,1,1,1,1,-1,1,1,-1,1,-1,1,-1,-1,-1,1,1,-1,1,1,1,1,1,-1,1,1,1,1,-1,1,-1,1,1,1,1,-1,1,-1,-1,1,-1,-1,1,-1,-1,1,-1,-1,1,1,-1,-1,1,-1,-1,1,1,1,-1,-1,-1,-1,1,-1,-1,1,1,1,-1,1,1,-1,1,-1,-1,-1,-1,1,1,1,1,1,-1,-1,1,1,1,-1,1,-1,-1,-1,-1,-1,1,1,-1,1,1,-1,-1,1,-1,1,-1,-1,-1,-1,-1,-1,-1,-1,1,1,1,1,1,1,-1,-1,-1,-1,4,-1,1,1,-1,-1,-1,1,-1,1,-1,1,1,-1,-1,1,-1,1,-1,-1,-1,1,-1,1,1,-1,1,1,1,1,1,1,-1,1,-1,1,-1,1,-1,1,1,-1,-1,-1,-1,-1,1,1,-1,1,-1,-1,-1,1,1,-1,-1,1,1,1,-1,-1,1,-1,-1,-1,1,-1,1,-1,1,-1,1,-1,1,-1,1,-1,-1,1,1,1,1,1,-1,1,1,-1,-1]
[1,1,-1,-1,-1,-1,1,-1,1,1,1,1,1,-1,-1,1,-1,-1,-1,1,-1,-1,1,-1,4,1,-1,1,1,1,1,1,-1,1,-1,-1,-1,1,1,-1,1,1,-1,-1,-1,1,-1,-1,1,1,-1,1,1,-1,-1,-1,1,-1,-1,1,1,1,1,1,1,-1,-1,1,-1,1,1,-1,1,-1,1,1,1,-1,1,-1,-1,1,1,-1,1,-1,-1,1,-1,1,1,-1,1,1,1,1,-1,1,-1,-1,1,-1,-1,-1,-1,-1,1,1,-1,-1,-1,1,1,-1,1,1,-1,1,-1,1,-1,-1,-1,1,1,1,1,-1,1,-1,-1,1,-1,1,-1,1,-1,-1,1,1,-1,-1,1,-1,1,1,1,-1,-1,-1,-1,-1,-1,-1,-1,-1,-1,-1,1,-1,1,-1,-1,1,-1,1,1,1,-1,-1,1,1,1,-1,-1,1,1,1,-1,-1,1,1,1,1,1,-1,-1,-1,-1,-1,1,-1,1,-1,1,-1,1,1,1,-1,-1,-1,-1,1,-1,-1,-1,-1,1,-1,-1,-1,1,1,-1,-1,-1,1,-1,1,-1,1,-1,-1,1,1,1,1,1,-1,1,1,-1,-1,-1,1,1,1,-1,1,1,-1,1,1,1,-1,1,1,-1,-1,-1,1,1,1,-1,-1]
[1,1,1,-1,1,-1,1,-1,1,1,-1,-1,1,1,-1,-1,1,1,-1,1,1,-1,1,1,-1,-1,-1,-1,1,-1,1,-1,-1,-1,1,1,1,1,1,1,-1,-1,-1,1,-1,-1,-1,1,1,1,1,1,-1,-1,-1,-1,-1,1,-1,1,1,-1,1,1,-1,-1,1,-1,1,-1,-1,1,1,1,-1,1,-1,1,1,-1,-1,1,-1,1,-1,-1,-1,1,-1,1,-1,1,1,-1,-1,-1,1,1,-1,-1,-1,1,1,1,-1,-1,1,-1,-1,1,-1,-1,-1,-1,-1,-1,1,-1,1,1,-1,1,1,-1,1,-1,-1,-1,-1,1,-1,1,1,-1,1,-1,1,1,1,-1,1,-1,-1,1,-1,1,1,1,1,1,1,1,1,-1,-1,1,-1,1,1,-1,1,1,-1,1,1,-1,1,1,-1,-1,-1,-1,1,-1,1,-1,1,1,-1,-1,1,-1,-1,1,-1,-1,-1,-1,-1,-1,1,-1,-1,1,-1,-1,-1,-1,1,-1,1,-1,1,-1,1,1,-1,1,-1,-1,1,-1,-1,-1,1,1,-1,1,-1,-1,1,1,1,1,1,-1,-1,1,-1,-1,1,1,1,-1,1,1,-1,-1,1,-1,-1,-1,1,-1,-1,-1,-1,1,-1,-1,1,-1,1,-1,-1,1]
[1,1,1,1,1,-1,-1,-1,-1,-1,-1,1,1,1,-1,1,-1,1,-1,-1,1,1,1,-1,-1,-1,-1,-1,1,-1,-1,-1,-1,1,-1,-1,1,-1,1,1,1,1,1,-1,1,-1,1,1,1,1,1,-1,1,1,1,1,-1,-1,-1,-1,1,-1,1,1,-1,-1,-1,-1,1,-1,1,1,-1,-1,1,1,1,1,1,-1,-1,-1,-1,1,1,-1,-1,-1,1,-1,1,1,1,-1,1,1,1,1,-1,1,-1,1,1,1,-1,1,-1,-1,-1,-1,1,-1,1,1,-1,-1,-1,1,-1,1,1,-1,-1,-1,1,1,1,1,-1,1,-1,-1,1,-1,-1,1,1,-1,1,1,-1,1,1,-1,-1,-1,1,-1,1,-1,1,-1,1,-1,-1,1,1,-1,-1,-1,1,1,-1,-1,-1,-1,1,1,-1,1,-1,1,-1,-1,-1,-1,-1,-1,1,-1,1,-1,-1,-1,1,1,1,1,-1,1,-1,1,1,1,1,-1,1,-1,1,-1,1,-1,-1,-1,-1,-1,-1,-1,-1,-1,-1,1,1,-1,1,-1,-1,-1,-1,1,1,-1,1,1,1,1,-1,-1,-1,1,1,-1,1,1,1,1,-1,-1,-1,1,-1,1,-1,1,1,-1,-1,1,1,-1,-1,-1,-1,-1,1,-1]
[-1,-1,-1,-1,-1,-1,1,-1,-1,1,1,-1,-1,1,-1,1,1,-1,-1,-1,-1,-1,1,-1,-1,-1,-1,1,1,1,1,-1,1,-1,-1,1,1,-1,1,1,-1,1,-1,-1,-1,1,-1,1,-1,-1,1,-1,1,-1,1,-1,-1,-1,-1,1,1,1,1,-1,1,-1,-1,-1,1,1,1,-1,-1,1,-1,1,1,1,1,1,1,1,-1,1,1,1,-1,-1,-1,-1,-1,1,1,-1,1,1,-1,-1,-1,-1,1,1,1,1,-1,1,1,-1,1,-1,-1,1,-1,-1,1,1,-1,1,1,1,-1,-1,-1,1,1,-1,1,-1,-1,-1,-1,-1,-1,-1,1,-1,-1,-1,-1,-1,1,-1,-1,-1,-1,1,1,1,-1,1,1,-1,1,-1,1,1,1,-1,-1,-1,1,-1,1,1,1,1,1,-1,-1,-1,1,-1,-1,-1,1,1,1,-1,1,1,1,-1,1,1,1,1,-1,1,-1,1,1,-1,-1,-1,1,1,-1,-1,1,1,1,1,-1,-1,-1,1,-1,-1,1,-1,-1,1,1,1,1,1,-1,1,1,-1,-1,1,-1,1,-1,1,1,-1,-1,-1,-1,-1,-1,1,1,-1,1,-1,1,-1,1,-1,1,1,1,-1,1,1,1,1,-1,1,1,-1,1,-1]
[-1,1,1,1,1,1,1,1,-1,-1,-1,1,1,1,1,-1,-1,1,1,1,1,1,-1,-1,1,1,-1,1,1,-1,1,1,1,-1,1,-1,-1,1,1,1,-1,1,1,-1,1,-1,-1,1,1,-1,1,1,-1,1,1,1,-1,-1,1,-1,1,1,1,-1,1,-1,1,1,1,1,-1,-1,-1,1,-1,-1,1,1,1,-1,1,-1,-1,1,1,-1,1,1,1,1,-1,1,-1,1,1,-1,-1,-1,-1,-1,1,1,-1,-1,1,-1,1,1,-1,-1,-1,1,-1,1,1,1,1,-1,-1,1,-1,1,-1,1,1,1,-1,-1,-1,1,-1,-1,-1,-1,1,1,-1,-1,-1,1,1,1,1,1,-1,1,-1,1,-1,1,1,-1,1,1,1,-1,-1,-1,-1,1,-1,1,1,1,-1,-1,1,1,1,1,-1,-1,1,1,-1,1,-1,1,1,1,1,-1,1,-1,-1,-1,1,-1,-1,-1,-1,1,-1,1,-1,1,-1,1,-1,-1,-1,1,-1,-1,-1,1,-1,-1,1,-1,1,-1,1,1,-1,1,1,1,1,1,-1,-1,1,1,-1,1,-1,1,1,1,1,1,-1,1,1,-1,-1,-1,-1,-1,1,-1,-1,1,1,-1,1,1,-1,1,-1,1,-1,-1,1,-1]
[-1,-1,1,-1,1,-1,-1,-1,-1,-1,1,1,-1,-1,-1,-1,-1,1,-1,1,-1,-1,1,-1,1,-1,-1,1,1,-1,1,1,-1,1,-1,1,1,1,1,-1,1,-1,1,-1,1,1,1,-1,1,-1,1,-1,1,1,1,-1,-1,-1,1,1,-1,-1,1,-1,-1,-1,1,1,-1,1,-1,-1,1,-1,-1,1,1,1,-1,1,-1,-1,1,1,-1,-1,-1,1,1,-1,-1,1,-1,1,-1,1,-1,1,-1,1,1,-1,-1,1,-1,1,-1,-1,-1,-1,1,1,-1,1,1,-1,-1,-1,-1,1,-1,1,1,-1,1,-1,-1,-1,1,-1,-1,1,1,-1,1,-1,1,-1,-1,1,1,-1,-1,1,1,-1,1,-1,1,1,1,1,-1,-1,-1,1,-1,-1,-1,1,1,-1,-1,-1,-1,-1,-1,1,1,1,-1,-1,-1,1,1,-1,-1,-1,-1,1,-1,-1,1,1,1,1,-1,-1,-1,-1,-1,1,-1,-1,-1,1,1,1,1,-1,1,1,-1,-1,-1,1,-1,1,1,-1,1,1,1,1,1,-1,1,1,-1,1,1,1,1,-1,-1,-1,1,-1,-1,1,1,1,-1,-1,-1,1,-1,-1,1,-1,1,1,-1,1,-1,-1,1,1,1,1,-1,1,-1,1,-1,-1]
[-1,1,-1,1,-1,-1,1,-1,1,-1,1,-1,1,1,-1,-1,-1,-1,1,1,-1,1,-1,-1,-1,-1,1,-1,-1,-1,-1,1,1,1,1,-1,-1,-1,-1,1,1,-1,-1,1,-1,-1,1,-1,-1,1,-1,1,-1,-1,-1,1,-1,-1,-1,1,1,-1,1,-1,-1,1,1,-1,1,1,-1,1,-1,-1,1,-1,1,-1,-1,-1,1,1,1,1,-1,1,-1,-1,1,1,1,1,-1,1,-1,-1,1,-1,1,-1,1,-1,1,-1,-1,1,1,1,1,-1,-1,-1,-1,1,-1,-1,-1,-1,-1,1,1,1,1,-1,-1,-1,1,1,-1,1,-1,-1,-1,-1,-1,-1,-1,1,1,-1,1,-1,-1,-1,-1,-1,-1,1,1,1,-1,-1,1,1,-1,1,1,1,1,1,-1,-1,1,-1,1,-1,-1,-1,1,-1,-1,1,-1,-1,-1,1,-1,-1,-1,1,-1,1,1,1,-1,-1,-1,1,1,-1,1,-1,-1,-1,-1,-1,1,-1,-1,-1,1,-1,1,1,1,-1,-1,-1,-1,1,1,-1,1,-1,1,-1,-1,-1,-1,-1,-1,1,1,-1,1,1,1,1,1,1,-1,1,1,-1,-1,-1,1,-1,1,1,1,1,1,-1,1,-1,1,1,1,-1,-1,1,-1,-1,1,-1]
[-1,1,-1,1,-1,1,1,-1,-1,1,1,1,-1,-1,-1,1,-1,1,-1,-1,-1,1,1,-1,-1,1,1,-1,-1,-1,-1,1,-1,1,1,-1,-1,-1,-1,1,-1,1,-1,1,-1,1,-1,1,1,-1,-1,1,1,1,1,1,1,-1,1,1,1,1,1,-1,-1,1,-1,-1,-1,-1,1,-1,-1,1,-1,1,-1,-1,-1,-1,-1,1,-1,-1,-1,1,1,-1,-1,1,1,-1,1,-1,1,-1,1,1,-1,1,1,1,1,1,-1,-1,-1,1,1,-1,-1,-1,-1,1,-1,-1,1,1,1,1,-1,-1,1,-1,1,-1,-1,1,-1,1,1,-1,1,-1,-1,-1,1,-1,-1,1,-1,1,1,-1,1,-1,1,1,-1,-1,1,-1,-1,1,-1,1,1,-1,-1,-1,1,-1,1,1,-1,1,1,-1,1,-1,-1,1,-1,1,-1,1,-1,1,1,1,1,-1,-1,1,-1,1,1,1,1,-1,1,-1,-1,-4,1,1,-1,1,-1,-1,1,1,-1,-1,1,-1,-1,-1,-1,1,1,1,-1,-1,-1,-1,-1,-1,1,-1,1,1,-1,1,-1,1,-1,-1,-1,-1,-1,1,1,-1,-1,-1,1,1,1,-1,-1,-1,-1,-1,-1,-1,-1,1,-1,-1,1,-1,1,1,1,-1]
[1,-1,-1,-1,1,1,-1,1,1,-1,-1,1,1,1,1,1,1,-1,1,-1,-1,1,1,-1,1,-1,1,-1,-1,-1,-1,-1,1,-1,1,-1,1,1,-1,-1,-1,1,-1,-1,-1,-1,1,-1,-1,1,1,1,1,1,-1,-1,1,1,1,1,1,-1,1,-1,-1,1,1,-1,-1,-1,1,1,1,-1,1,1,1,1,1,-1,-1,-1,1,1,1,1,-1,-1,-1,1,-1,-1,1,-1,1,1,1,-1,1,1,-1,-1,1,1,-1,-1,1,1,-1,-1,-1,-1,-1,-1,1,1,-1,-1,1,-1,1,1,-1,1,1,-1,1,1,1,-1,-1,1,1,1,1,-1,1,1,1,-1,-1,1,-1,-1,1,-1,1,1,-1,-1,-1,-1,-1,1,-1,-1,-1,1,-1,1,-1,1,1,1,-1,-1,1,1,-1,1,1,1,1,-1,1,-1,1,1,-1,1,-1,1,1,-1,-1,1,-1,1,1,1,-1,1,1,-1,1,-1,-1,1,1,1,1,-1,-1,-1,-1,-1,-1,-1,-1,1,1,1,1,1,1,-1,1,1,-1,-1,1,-1,1,1,-1,-1,1,-1,-1,1,-1,-1,1,1,1,1,-1,-1,1,-1,1,-1,-1,-1,1,-1,-1,1,-1,1,1,-1,1,-1,-1,-1]
[1,1,-1,1,-1,-1,1,1,1,1,1,1,1,1,-1,-1,-1,1,-1,1,1,1,1,-1,1,1,1,-1,1,1,1,-1,1,1,-1,1,1,-1,1,1,-1,-1,-1,-1,-1,-1,1,-1,1,1,1,-1,-1,-1,-1,-1,1,-1,1,-1,1,-1,-1,-1,-1,1,1,1,-1,1,1,-1,-1,-1,1,1,-1,-1,1,-1,1,1,1,-1,-1,1,-1,1,1,1,-1,-1,-1,1,-1,1,-1,-1,1,1,1,1,1,-1,-1,1,-1,1,-1,-1,-1,-1,1,1,1,-1,-1,-1,1,-1,1,1,-1,-1,1,1,-1,1,-1,-1,-1,1,-1,-1,-1,-1,-1,-1,1,1,1,1,1,-1,1,1,-1,1,-1,-1,-1,1,-1,1,1,1,1,-1,-1,1,1,1,-1,1,-1,-1,-1,-1,1,1,-1,-1,-1,1,1,-1,-1,-1,-1,1,-1,-1,-1,-1,-1,1,1,-1,1,-1,-1,-1,1,-1,1,-1,1,1,-1,-1,-1,-1,1,-1,-1,-1,-1,1,-1,-1,-1,-1,1,-1,1,1,1,-1,-1,1,-1,-1,1,-1,-1,-1,-1,-1,1,1,-1,1,1,-1,1,-1,-1,1,-1,1,1,-1,-1,1,-1,-1,-1,1,-1,1,-1,1,1,-1,1,-1]
[-1,1,-1,-1,-1,1,-1,-1,1,1,1,-1,1,-1,-1,-1,1,-1,-1,-1,-1,1,-1,1,1,-1,1,1,1,1,1,-1,1,-1,1,1,-1,-1,-1,1,1,-1,1,-1,-1,1,1,-1,1,-1,1,-1,-1,1,1,-1,1,1,-1,-1,-1,-1,-1,-1,1,1,1,1,1,1,1,-1,-1,-1,-1,-1,1,1,-1,1,-1,-1,-1,1,-1,1,1,1,-1,1,-1,-1,-1,-1,-1,-1,1,-1,1,1,1,1,1,-1,-1,-1,1,1,1,1,-1,-1,-1,-1,1,1,1,1,1,-1,1,-1,-1,1,1,1,-1,1,1,-1,1,1,1,1,1,1,1,1,1,-1,1,1,1,1,1,-1,1,1,1,-1,-1,1,-1,1,1,-1,-1,1,-1,1,1,1,1,1,-1,1,1,-1,1,-1,-1,-1,-1,1,1,1,1,-1,-1,1,1,-1,1,-1,1,-1,1,1,1,1,1,-1,-1,1,1,1,1,1,-1,1,1,1,1,-1,1,1,-1,-1,1,1,1,1,1,-1,-1,1,1,-1,-1,1,1,-1,-1,1,-1,1,1,1,1,1,-1,-1,1,-1,1,-1,-1,-1,1,-1,1,1,-1,1,-1,1,-1,1,-1,1,1,-1,1,1,1,1]
[1,1,-1,-1,1,-1,1,1,1,-1,-1,1,1,1,-1,-1,-1,-1,1,-1,1,1,-1,1,-1,1,1,1,-1,1,-1,1,-1,1,-1,-1,1,-1,1,1,1,1,-1,1,-1,-1,-1,-1,1,-1,1,-1,-1,1,-1,-1,1,-1,1,-1,-1,-1,-1,-1,-1,1,1,-1,-1,-1,-1,-1,-1,-1,1,1,1,1,1,-1,-1,1,1,-1,1,1,1,1,1,-1,1,-1,-1,1,-1,1,1,1,1,-1,1,-1,-1,1,-1,1,-1,-1,-1,-1,1,-1,-1,1,1,-1,-1,1,1,1,1,1,1,-1,1,-1,-1,-1,1,-1,1,-1,1,1,1,-1,-1,1,1,-1,1,-1,-1,-1,1,1,1,1,-1,-1,1,-1,-1,-1,-1,-1,1,-1,-1,1,1,1,1,1,1,1,-1,1,1,-1,-1,1,1,-1,1,-1,-1,-1,-1,1,-1,-1,1,-1,-1,1,1,1,-1,1,1,1,1,-1,-1,-1,1,-1,-1,-1,-1,-1,-1,-1,1,-1,1,1,1,1,1,1,1,-1,1,1,1,1,1,1,1,1,1,1,-1,-1,-1,1,1,-1,-1,-1,-1,-1,1,-1,1,-1,1,1,-1,-1,-1,1,1,-1,1,1,1,1,-1,1,1,1,-1,-1]
[-1,-1,-1,-1,-1,1,-1,1,1,-1,1,-1,-1,-1,1,-1,-1,-1,-1,-1,1,1,-1,1,1,1,1,1,-1,-1,-1,-1,1,1,1,1,1,1,1,1,1,1,-1,-1,-1,-1,1,1,1,-1,-1,-1,1,1,-1,1,1,-1,1,1,-1,1,1,1,-1,1,1,-1,-1,-1,-1,1,1,-1,1,-1,-1,1,-1,-1,1,-1,1,-1,1,-1,1,1,-1,1,-1,1,-1,1,1,-1,-1,1,1,-1,1,1,-1,-1,-1,1,-1,1,-1,1,-1,-1,-1,1,-1,-1,-1,-1,1,1,-1,1,-1,-1,1,-1,-1,-1,-1,-1,1,-1,1,1,1,1,-1,1,-1,-1,1,1,-1,1,1,-1,1,1,1,-1,-1,1,-1,1,1,-1,1,1,-1,-1,-1,1,-1,1,-1,-1,-1,-1,1,-1,1,1,1,-1,-1,-1,-1,1,-1,-1,1,-1,1,1,-1,-1,1,1,-1,1,-1,1,-1,-1,-1,1,1,-1,-1,-1,-1,1,-1,-1,-1,1,1,-1,1,1,1,-1,1,-1,1,-1,-1,1,1,1,1,-1,-1,1,1,-1,1,-1,1,1,-1,1,-1,1,-1,-1,-1,1,-1,1,-1,1,-1,-1,1,-1,1,1,-1,-1,-1,-1,-1,1,1,-1]
[-1,-1,1,-1,1,-1,-1,-1,4,1,-1,1,1,1,-1,-1,-1,1,-1,-1,-1,-1,1,-1,-1,-1,-1,-1,-1,1,-1,1,1,1,1,-1,-1,-1,-1,1,1,1,-1,1,-1,-1,-1,1,1,-1,1,-1,-1,1,1,-1,1,-1,-1,-1,-1,1,1,1,1,1,-1,1,-1,1,-1,1,-1,1,1,1,-1,1,1,-1,-1,-1,-1,-1,-1,-1,1,1,1,1,-1,-1,-1,-1,1,1,1,1,1,-1,1,1,-1,1,1,-1,1,-1,-1,1,1,-1,-1,-1,1,1,1,-1,-1,1,1,-1,-1,1,1,1,-1,-1,1,1,1,-1,1,1,1,-1,1,1,1,-1,-1,1,-1,1,1,1,-1,-1,-1,-1,1,-1,1,-1,-1,1,-1,-1,-1,-1,-1,-1,1,-1,-1,1,1,-1,1,1,1,-1,1,-1,1,-1,-1,1,1,1,1,1,-1,1,-1,-1,-1,1,-1,-1,-1,1,1,-1,1,1,-1,-1,-1,-1,-1,1,1,1,1,-1,1,-1,1,1,1,1,1,-1,-1,-1,-1,1,-1,1,-1,-1,-1,1,1,-1,1,-1,-1,1,-1,1,1,1,1,1,1,-1,1,1,-1,1,-1,-1,-1,1,-1,1,1,-1,-1,1,-1,1,-1,-1]
[1,-1,-1,1,1,-1,-1,-1,1,-1,-1,-1,-1,1,-1,1,-1,1,1,1,-1,-1,1,1,1,-1,1,1,-1,-1,-1,-1,-1,1,1,1,1,-1,-1,-1,-1,1,1,1,1,1,1,-1,1,1,1,-1,1,-1,-1,-1,1,-1,1,1,1,1,1,-1,-1,-1,-1,-1,-1,-1,-1,1,-1,1,-1,-1,1,-1,-1,-1,-1,1,1,-1,-1,1,1,1,-1,1,1,1,-1,-1,1,1,1,-1,1,1,1,1,-1,1,-1,-1,1,1,1,-1,-1,-1,-1,1,-1,1,-1,1,1,1,-1,-1,1,1,-1,1,-1,-1,1,1,1,-1,1,-1,-1,-1,1,1,-1,1,1,1,-1,-1,1,1,1,1,1,-1,1,-1,-1,1,-1,-1,1,-1,-1,1,1,1,1,1,1,1,-1,-1,-1,-1,1,-1,1,-1,-1,1,-1,-1,-1,1,1,-1,1,-1,-1,-1,-1,1,-1,1,-1,-1,-1,-1,1,-1,-1,1,1,-1,-1,1,-1,-1,1,-1,1,-1,1,1,1,-1,-1,1,1,-1,-1,1,1,1,-1,-1,1,-1,-1,1,-1,1,1,1,-1,-1,-1,-1,1,1,-1,-1,1,-1,-1,-1,1,-1,1,-1,1,1,-1,-1,-1,-1,1,-1,1,-1]
[-1,1,1,1,-1,-1,1,1,-1,1,-1,-1,1,-1,1,-1,1,-1,-1,1,1,1,-1,1,1,1,1,1,1,-1,1,1,1,1,-1,-1,-1,-1,-1,1,1,1,1,-1,-1,1,1,-1,1,-1,-1,-1,-1,-1,-1,-1,-1,1,1,1,-1,-1,-1,-1,-1,-1,-1,1,1,1,1,-1,1,1,-1,1,-1,1,-1,1,-1,-1,-1,-1,-1,-1,1,1,1,-1,-1,1,1,1,-1,1,1,-1,1,1,1,1,1,1,1,1,1,1,-1,1,-1,-1,-1,-1,1,1,-1,1,-1,-1,-1,1,-1,1,1,1,1,1,1,1,-1,1,1,-1,-1,1,-1,-1,1,-1,-1,1,-1,-1,1,1,1,1,-1,1,-1,-1,1,1,-1,1,1,1,1,1,1,1,1,-1,1,1,1,1,-1,1,1,1,1,-1,1,1,-1,1,1,1,-1,-1,-1,1,1,-1,1,-1,1,-1,1,-1,-1,1,1,-1,-1,-1,-1,1,-1,1,1,-1,-1,-1,-1,1,-1,-1,-1,-1,-1,-1,-1,-1,1,1,1,-1,-1,-1,1,-1,1,1,-1,1,-1,1,1,1,-1,1,1,1,-1,-1,1,-1,-1,-1,-1,1,1,-1,1,-1,-1,-1,-1,-1,1,-1,1,-1]
[-1,-1,-1,1,-1,1,-1,-1,-1,1,-1,-1,1,-1,1,1,-1,-1,-1,1,1,1,1,4,-1,-1,1,1,-1,-1,1,-1,-1,-1,1,-1,1,1,1,1,-1,-1,-1,-1,-1,-1,-1,1,-1,1,-1,-1,-1,1,1,-1,1,1,-1,-1,-1,-1,1,-1,1,1,-1,1,-1,1,1,1,-1,1,1,1,-1,1,-1,1,1,-1,1,-1,1,1,-1,1,1,1,1,-1,1,1,-1,1,1,-1,1,1,1,-1,1,-1,-1,-1,-1,-1,1,-1,-1,1,-1,1,1,1,-1,1,1,1,1,1,-1,-1,1,1,-1,-1,-1,1,1,-1,-1,1,1,-1,-1,1,-1,1,-1,1,1,-1,1,-1,1,-1,1,-1,1,-1,1,-1,-1,1,-1,1,-1,1,1,-1,1,1,1,1,4,1,1,-1,-1,1,1,-1,-1,1,-1,-1,-1,-1,-1,-1,-1,-1,-1,1,1,1,-1,1,1,-1,1,1,1,-1,1,1,1,-1,1,-1,1,1,-1,1,1,-1,-1,-1,1,-1,1,-1,1,-1,-1,1,1,-1,-1,1,-1,-1,1,1,1,-1,1,1,1,-1,1,-1,-1,1,1,1,1,-1,-1,-1,-1,1,1,1,1,-1,-1,1,1,1,1,1,-1,-1]
[1,-1,1,1,1,1,1,1,-1,1,-1,1,1,1,-1,-1,1,-1,-1,1,1,1,-1,1,-1,1,1,1,-1,-1,1,-1,1,-1,-1,-1,1,1,-1,-1,-1,1,-1,1,-1,-1,1,1,1,1,-1,-1,-1,1,-1,-1,-1,1,1,-1,-1,1,1,1,1,1,-1,-1,-1,1,-1,-1,1,1,1,1,1,1,-1,-1,1,1,1,-1,1,1,1,1,-1,1,-1,-1,1,-1,-1,-1,1,-1,-1,-1,1,1,-1,1,-1,1,-1,1,1,-1,-1,-1,-1,-1,-1,1,1,1,1,1,-1,1,1,-1,1,-1,1,-1,-1,-1,1,-1,-1,-1,-1,-1,-1,1,1,1,-1,1,-1,-1,1,-1,1,1,-1,1,1,-1,1,1,1,1,-1,1,1,1,-1,1,-1,1,-1,1,4,-1,1,1,-1,1,-1,-1,-1,1,1,-1,1,1,-1,1,-1,1,1,-1,1,1,1,-1,1,-1,1,1,1,-1,1,1,-1,1,1,-1,1,-1,1,-1,1,-1,-1,-1,-1,1,1,1,-1,1,-1,1,-1,-1,1,-1,-1,1,1,1,-1,1,-1,-1,1,-1,1,-1,1,-1,1,1,-1,-1,-1,-1,-1,1,1,1,1,-1,-1,1,1,1,-1,-1,1,-1]
[1,1,-1,1,1,-1,1,1,-1,-1,-1,-1,1,-1,-1,1,1,-1,1,1,1,1,1,1,1,1,1,1,1,-1,-1,-1,-1,1,-1,-1,-1,1,1,1,1,1,-1,1,1,1,1,1,1,1,1,1,-1,1,1,1,-1,1,-1,1,1,-1,1,-1,1,1,1,1,1,-1,1,-1,1,1,1,-1,-1,1,-1,-1,-1,1,1,-1,1,1,1,-1,1,1,1,1,1,1,1,1,-1,-1,1,1,1,-1,1,1,1,1,-1,-1,-1,-1,-1,1,1,-1,1,1,1,1,-1,-1,-1,-1,-1,-1,1,-1,-1,1,1,1,-1,-1,-1,1,-1,-1,1,-1,1,-1,-1,-1,1,-1,1,1,-1,1,1,1,1,1,1,-1,-1,1,1,-1,-1,-1,-1,1,1,-1,1,1,1,-1,-1,-1,-1,1,-1,-1,1,1,-1,1,-1,-1,-1,-1,-1,-1,1,1,-1,-1,-1,1,-1,1,-1,-1,1,-1,-1,1,1,-1,1,-1,-1,-1,-1,1,1,1,1,1,1,1,1,-1,-1,-1,-1,1,-1,-1,-1,-1,1,-1,-1,1,1,-1,1,-1,1,-1,-1,1,-1,1,1,-1,1,1,1,1,-1,1,-1,1,-1,1,1,-1,-1,1,1,-1,-1,1]
[-1,1,1,1,-1,1,1,1,-1,1,-1,1,-1,-1,-1,1,-1,-1,1,-1,1,-1,1,1,1,1,-1,1,-1,1,1,1,1,1,1,-1,1,1,1,1,-1,-1,1,1,1,-1,1,1,1,1,1,1,-1,1,-1,-1,-1,1,-1,-1,-1,-1,1,1,-1,-1,-1,1,-1,1,1,-1,1,-1,1,1,-1,-1,1,1,-1,-1,-1,1,1,1,-1,-1,-1,1,-1,-1,1,1,-1,1,-1,1,-1,-1,-1,-1,1,1,1,-1,1,1,1,-1,1,1,-1,-1,-1,1,1,1,1,-1,-1,1,1,1,1,1,1,1,1,-1,-1,-1,1,1,-1,-1,-1,1,1,1,-1,1,-1,-1,-1,1,-1,1,-1,1,1,-1,1,-1,-1,-1,1,-1,-1,-1,1,-1,-1,-1,1,-1,-1,1,1,1,1,-1,1,-1,1,-1,1,1,-1,-1,1,-1,-1,1,1,-1,-1,1,1,-1,-1,-1,-1,-1,-1,-1,1,1,-1,1,1,1,-1,-1,1,-1,-1,1,-1,1,1,-1,-1,1,-1,1,-1,-1,-1,-1,-1,-1,-1,1,1,1,1,1,1,-1,1,-1,1,1,1,1,-1,-1,-1,1,-1,1,1,-1,1,1,1,1,-1,-1,-1,1,-1,1,1,-1]
[1,-1,1,-1,-1,-1,-1,-1,1,1,-1,1,1,1,-1,1,1,1,-1,1,1,-1,-1,1,1,-1,-1,-1,1,1,-1,1,1,-1,1,-1,-1,-1,1,-1,1,-1,1,1,1,1,-1,1,1,-1,-1,1,1,-1,1,-1,1,1,-1,1,1,1,-1,1,-1,-1,-1,1,-1,1,-1,1,1,1,-1,1,1,1,1,-1,1,1,1,1,-1,-1,1,-1,1,1,-1,1,1,-1,-1,-1,1,1,-1,-1,1,-1,-1,-1,1,-1,-1,1,1,1,1,1,1,1,-1,1,-1,-1,-1,1,1,1,1,-1,1,1,-1,1,-1,-1,-1,-1,-1,-1,1,1,1,-1,1,1,-1,1,-1,1,1,1,1,1,1,1,-1,-1,1,-1,1,-1,-1,-1,-1,-1,1,-1,1,-1,-1,1,1,-1,1,1,-1,1,1,-1,-1,1,-1,1,1,1,1,-1,1,-1,1,-1,1,1,-1,1,1,1,1,1,-1,1,-1,-1,1,1,1,-1,-1,1,1,-1,1,1,1,1,1,1,1,-1,-1,-1,1,-1,-1,-1,1,1,-1,-1,1,1,1,-1,-1,-1,1,1,-1,1,-1,1,-1,1,-1,-1,-1,1,-1,1,-1,1,1,-1,1,1,1,-1,-1,1,1,1]
[1,1,-1,1,-1,-1,-1,1,-1,1,-1,-1,1,-1,-1,1,1,1,1,1,1,-1,1,1,4,-1,1,1,1,1,-1,-1,-1,-1,1,1,1,1,-1,-1,-1,1,1,1,-1,1,-1,-1,1,1,-1,1,-1,-1,-1,-1,-1,1,-1,-1,1,1,-1,-1,1,-1,1,1,1,-1,1,1,1,-1,-1,-1,-1,1,-1,1,-1,1,1,1,-1,1,-1,-1,1,-1,-1,-1,1,-1,1,1,1,-1,1,-1,1,1,-1,1,1,1,1,1,-1,1,1,-1,-1,-1,1,-1,-1,1,-1,-1,-1,-1,-1,-1,1,-1,-1,1,1,1,-1,1,-1,1,1,1,-1,-1,1,-1,1,-1,-1,1,-1,-1,-1,-1,1,1,-1,1,1,1,-1,-1,1,-1,-1,1,-1,1,1,-1,-1,1,-1,1,1,1,1,-1,-1,1,1,-1,-1,-1,-1,-1,-1,-1,-1,1,1,1,1,1,-1,-1,1,-1,1,1,-1,-1,-1,-1,-1,-1,-1,1,1,-1,-1,-1,1,-1,-1,-1,1,1,-1,1,-1,-1,-1,1,1,-1,-1,-1,1,-1,1,1,-1,-1,1,1,1,1,1,1,1,-1,1,-1,1,-1,1,1,-1,-1,1,1,-1,-1,-1,-1,1,-1,-1,-1,1,1]
[1,1,-1,1,-1,1,-1,1,1,1,1,1,1,1,1,1,-1,-1,1,-1,1,1,1,1,1,-1,-1,1,1,-1,1,-1,-1,-1,-1,-1,-1,1,1,-1,1,1,-1,1,1,1,1,-1,1,-1,1,1,1,-1,1,1,1,1,1,-1,1,1,-1,1,-1,-1,1,1,-1,1,-1,1,1,1,-1,-1,1,-1,-1,1,-1,1,1,-1,-1,1,1,1,1,1,-1,-1,-1,-1,-1,1,-1,1,-1,-1,1,1,1,-1,1,-1,1,1,-1,1,-1,-1,-1,-1,1,-1,-1,-1,-1,-1,1,1,1,1,-1,1,1,1,-1,1,-1,1,-1,1,-1,1,1,1,1,1,-1,-1,-1,-1,1,1,1,-4,-1,1,-1,1,-1,-1,-1,1,1,-1,-1,1,-1,-1,1,1,-1,-1,1,1,-1,1,-1,1,1,1,-1,1,-1,1,1,1,1,-1,-1,-1,1,-1,-1,1,1,-1,1,1,-1,-1,-1,-1,1,-1,-1,1,-1,1,-1,1,-1,1,1,-1,1,-1,1,1,1,-1,1,-1,-1,1,1,1,1,1,1,-1,4,-1,-1,1,-1,-1,1,-1,1,1,-1,-1,-1,-1,-1,-1,1,-1,1,1,-1,1,1,-1,-1,-1,-1,-1,1,1,1,-1]
[1,1,1,1,1,1,-1,-1,-1,1,-1,-1,-1,-1,-1,1,-1,1,-1,1,1,-1,-1,1,1,-1,1,-1,1,-1,-1,1,-1,-1,1,1,-1,1,-1,-1,1,1,-1,1,1,1,-1,-1,1,1,-1,4,-1,1,-1,1,-1,1,1,1,1,-1,-1,-1,-1,-1,-1,-1,1,-1,-1,1,-1,1,-1,-1,-1,-1,1,1,1,1,-1,1,-1,1,1,1,1,1,-1,1,-1,-1,-1,1,1,-1,-1,-1,1,1,1,-1,1,1,-1,1,1,-1,1,-1,1,-1,1,-1,1,-1,1,-1,-1,1,1,1,-1,-1,1,1,-1,-1,1,1,1,1,1,-1,-1,1,1,1,-1,1,-1,-1,1,1,1,-1,1,1,1,-1,-1,1,1,1,1,-1,-1,1,-1,-1,1,1,1,-1,-1,-1,1,-1,-1,1,1,1,1,1,1,-1,-1,1,-1,-1,1,-1,1,-1,1,-1,-1,-1,1,-1,1,1,1,-1,1,1,1,1,-1,-1,1,-1,-1,1,-1,-1,1,1,1,1,1,-1,1,-1,-1,-1,-1,-1,1,1,1,1,1,-1,-1,-1,1,1,1,1,-1,-1,1,-1,-1,-1,-1,-1,1,1,-1,-1,1,1,-1,-1,1,1,1,-1,-1,-1,-1,1]
[1,1,1,1,1,1,1,-1,1,1,-1,1,1,-1,-1,-1,1,-1,1,1,1,-1,-1,1,-1,-1,1,1,1,1,1,-1,-1,1,1,-1,-1,-1,1,-1,-1,-1,-1,1,1,1,1,1,1,1,1,1,1,1,1,1,1,-1,1,1,-1,-1,-1,-1,-1,-1,-1,-1,1,1,1,1,1,-1,1,-1,1,1,1,-1,1,1,1,1,-1,1,-1,-1,-1,-1,-1,1,-1,1,1,1,-1,1,1,1,1,1,1,-1,-1,-1,-1,-1,-1,-1,-1,-1,1,1,-1,1,1,1,1,1,1,1,-1,-1,1,-1,-1,1,-1,1,1,-1,1,-1,1,1,1,1,1,1,-1,-1,-1,-1,1,-1,-1,1,1,-1,-1,-1,-1,1,1,-1,-1,1,-1,1,-1,-1,1,1,1,-1,1,1,1,1,-1,1,-1,-1,-1,-1,1,-1,-1,-1,-1,1,-1,-1,-1,1,1,1,-1,1,-1,1,-1,1,-1,1,1,1,1,-1,1,-1,1,-1,-1,-1,1,-1,-1,1,1,-1,-1,1,-1,1,-1,1,-1,-1,1,1,-1,-1,-1,-1,1,1,1,-1,1,-1,-1,-1,-1,1,1,1,-1,-1,1,1,1,-1,-1,-1,-1,1,-1,-1,1,1,-1,1,1,-1]
[1,1,-1,1,1,1,-1,1,-1,1,1,1,-1,1,1,-1,1,1,-1,1,-1,1,-1,-1,1,-1,1,-1,1,-1,1,-1,-1,1,1,-1,1,-1,-1,1,1,1,-1,1,1,1,-1,-1,-1,-1,-1,-1,-1,1,-1,1,-1,1,1,1,-1,-1,1,1,1,1,-1,-1,-1,-1,1,-1,-1,-1,1,1,-1,1,1,1,-1,-1,1,-1,-1,-1,-1,-1,1,-1,1,-1,-1,1,1,1,1,1,1,-1,-1,-1,1,1,-1,-1,1,1,-1,1,1,-1,-1,-1,1,-1,1,-1,-1,1,1,-1,-1,-1,1,-1,1,1,-1,1,1,-1,1,1,-1,-1,-1,1,1,1,-1,1,-1,1,1,1,1,1,1,-1,-1,-1,-1,-1,1,1,-1,1,1,-1,1,-1,1,1,1,1,1,-1,-1,1,1,1,-1,-1,1,1,1,1,-1,-1,-1,1,-1,-1,1,1,1,-1,-1,-1,1,-1,-1,-1,-1,1,-1,-1,1,1,1,-1,-1,-1,1,1,-1,1,1,-1,1,-1,-1,1,-1,-1,1,-1,1,-1,-1,1,-1,-1,1,-1,1,1,-1,1,-1,1,-1,-1,-1,-1,1,1,-1,-1,1,-1,-1,1,1,1,-1,1,-1,1,-1,-1,1,1,-1,1]
[-1,-1,1,-1,-1,1,-1,1,1,1,-1,-1,1,-1,1,1,-1,-1,1,-1,1,1,1,1,-1,-1,-1,-1,1,-1,1,-1,-1,-1,1,1,-1,-1,-1,-1,-1,1,-1,1,-1,-1,1,-1,-1,-1,-1,1,-1,-1,-1,1,-1,-1,-1,1,1,1,1,1,1,-1,1,1,-1,-1,-1,1,-1,1,1,-1,1,-1,1,-1,-1,1,1,1,1,-1,-1,-1,-1,-1,-1,1,1,-1,1,1,1,1,-1,1,1,-1,-1,-1,-1,1,-1,1,-1,-1,-1,1,1,-1,1,1,-1,1,1,-1,1,-1,1,1,-1,-1,-1,-1,1,1,-1,-1,-1,1,-1,-1,1,1,-1,1,1,-1,-1,-1,-1,-1,1,1,1,1,1,1,-1,1,-1,-1,1,1,-1,-1,-1,1,1,-1,1,1,1,1,-1,-1,-1,-1,1,-1,-1,1,1,-1,-1,1,-1,-1,1,-1,-1,-1,1,1,-1,-1,1,-1,1,1,-1,1,-1,1,-1,-1,-1,1,-1,1,1,1,-1,1,-1,-1,1,-1,-1,1,-1,1,1,-1,1,-1,1,1,-1,1,1,1,1,1,-1,-1,1,1,1,-1,-1,-1,1,1,1,-1,1,1,-1,-1,-1,1,-1,1,-1,1,-1,1,1,-1,1,1]
[1,-1,1,1,-1,-1,-1,1,-1,1,-1,1,1,1,1,1,1,-1,1,-1,1,-1,1,-1,-1,-1,-1,1,1,1,1,1,-1,-1,1,-1,1,1,-1,-1,-1,1,-1,-1,1,-1,-1,1,-1,1,-1,1,-1,-1,1,-1,-1,-1,1,1,-1,1,-1,-1,1,-1,-1,-1,1,-1,-1,1,-1,1,1,-1,-1,1,-1,1,-1,-1,1,1,1,1,1,-1,1,-1,-1,1,1,-1,-1,-1,1,1,-1,1,1,-1,-1,-1,1,1,1,-1,1,-1,-1,1,-1,1,1,-1,-1,1,-1,-1,-1,1,1,1,-1,-1,1,-1,1,-1,1,-1,1,1,-1,-1,1,1,-1,-1,1,1,1,1,-1,1,1,1,1,1,-1,-1,-1,-1,1,1,1,-1,1,1,-1,1,1,-1,-1,1,1,-1,1,-1,1,1,-1,-1,-1,1,-1,1,1,1,1,1,-1,1,1,1,-1,-1,-1,-1,1,1,1,1,1,1,1,1,-1,1,-1,-1,1,1,-1,-1,-1,1,-1,1,1,-1,-1,1,-1,-1,1,-1,-1,1,-1,-1,1,-1,-1,1,1,1,1,-1,-1,-1,1,1,1,-1,-1,1,1,1,-1,-1,-1,-1,1,1,1,-1,-1,1,-1,1,1,-1,-1,-1]
[-1,1,1,1,-1,-1,-1,1,-1,1,1,-1,1,-1,1,-1,-1,-1,-1,1,-1,1,1,-1,1,1,1,1,1,-1,-1,-1,-1,1,-1,1,1,1,-1,-1,-1,-1,-1,1,-1,-1,1,-1,1,1,-1,1,1,-1,1,1,1,1,1,1,-1,-1,-1,1,-1,-1,1,1,1,-1,-1,-1,-1,-1,1,-1,-1,-1,1,1,1,1,-1,-1,-1,-1,1,-1,-1,1,1,-1,-1,1,1,-1,1,-1,1,1,1,1,1,1,-1,1,1,-1,-1,1,-1,1,-1,1,1,1,-1,-1,1,1,-1,1,1,1,1,1,-1,1,1,1,1,1,1,-1,1,1,1,1,-1,-1,-1,1,1,1,1,1,-1,1,1,1,1,1,-1,-1,-1,-1,1,1,1,1,-1,-1,-1,-1,-1,1,1,1,1,-1,1,-1,-1,1,-1,1,1,1,-1,1,-1,-1,1,-1,1,-1,-1,1,-1,-1,-1,1,1,1,-1,-1,1,1,-1,1,-1,-1,1,1,1,-1,1,1,-1,1,-1,-1,-1,-1,-1,1,1,1,1,-1,1,1,1,1,1,1,1,-1,-1,-1,1,-1,1,-1,-1,-1,1,1,-1,1,-1,-1,1,-1,-1,1,1,-1,1,1,1,-1,1,-1,1,-1]
[-1,-1,1,-1,1,-1,-1,-1,-1,-1,-1,-1,1,1,-1,-1,1,1,1,-1,-1,-1,-1,-1,-1,1,1,1,-1,-1,-1,-1,-1,-1,-1,-1,-1,1,-1,-1,1,-1,1,-1,1,1,-1,1,1,1,-1,1,1,1,-1,-1,1,-1,1,1,1,-1,-1,1,-1,1,-1,-1,1,1,1,-1,1,-1,-1,-1,-1,-1,-1,1,1,1,-1,-1,1,-1,1,-1,1,1,-1,1,-1,1,-1,-1,-1,1,-1,-1,1,1,1,-1,1,1,1,1,1,1,1,-1,-1,1,1,1,-1,1,1,1,-1,-1,-1,1,1,1,1,-1,1,1,1,1,1,-1,1,-1,1,1,-1,1,-1,1,-1,-1,1,-1,1,-1,-1,1,-1,-1,-1,-1,-1,-1,1,-1,-1,-1,-1,-1,-1,1,-1,-1,1,1,1,1,-1,1,1,-1,1,-1,-1,-1,1,-1,1,-1,-1,-1,1,1,1,1,1,-1,1,-1,1,1,-1,-1,1,1,-1,1,1,-1,1,1,1,-1,1,-1,-1,-1,1,1,1,-1,1,-1,-1,1,-1,-1,1,-1,1,1,1,1,-1,1,-1,-1,-1,1,-1,1,-1,-1,-1,1,-1,1,-1,1,-1,1,1,-1,-1,-1,1,-1,-1,-1,1,1,1,1]
[-1,1,1,-1,1,1,-1,-1,-1,-1,1,-1,-1,-1,-1,1,1,1,-1,1,-1,1,1,1,1,-1,1,1,-1,-1,1,1,1,1,-1,1,1,1,1,-1,1,1,-1,1,1,1,1,-1,-1,-1,1,-1,-1,1,1,-1,1,1,-1,-1,-1,-1,1,1,-1,-1,-1,-1,1,-1,-1,1,1,1,1,-1,1,1,1,-1,1,1,1,1,1,-1,1,-1,-1,1,1,-1,-1,1,-1,1,-1,1,1,-1,1,-1,1,-1,1,1,-1,1,-1,1,-1,-1,1,1,-1,-1,-1,1,-1,-1,1,1,-1,1,1,-1,-1,-1,-1,-1,-1,1,-1,1,1,-1,-1,-1,-1,-1,1,-1,-1,-1,-1,-1,1,1,-1,-1,1,-1,1,1,-1,-1,1,-1,-1,-1,-1,1,-1,1,-1,1,-1,1,1,-1,-1,-1,1,1,-1,-1,-1,1,1,-1,-1,-1,1,1,-1,1,-1,1,1,-1,-1,1,1,-1,1,1,1,1,1,-1,-1,-1,1,-1,-1,-1,1,-1,1,-1,-1,-1,1,1,1,1,-1,-1,-1,-1,1,1,1,1,1,1,-1,1,-1,1,-1,-1,1,1,1,1,-1,-1,1,-1,1,-1,1,1,1,1,1,1,-1,-1,1,1,1,-1,-1,-1]
[1,1,1,-1,-1,-1,-1,-1,-1,1,1,-1,-1,-1,-1,-1,1,-1,1,1,-1,1,-1,1,1,-1,-1,-1,1,-1,-1,-1,-1,-1,-1,-1,1,-1,-1,1,-1,1,-1,-1,1,1,1,-1,1,-1,1,-1,-1,-1,1,-1,1,-1,-1,-1,1,-1,-1,-1,-1,1,1,-1,1,1,-1,1,1,-1,-1,-1,-1,1,-1,1,-1,1,1,-1,1,1,1,1,1,-1,1,-1,1,1,1,-1,-1,1,1,-1,1,-1,1,-1,1,1,-1,1,1,-1,-1,1,1,-1,-1,-1,-1,1,-1,-1,1,-1,-1,-1,1,1,1,1,-1,-1,1,1,1,-1,-1,-1,1,-1,-1,-1,1,-1,1,1,-1,1,1,1,-1,1,-1,1,-1,-1,-1,-1,1,-1,-1,-1,1,-1,1,-1,-1,-1,1,1,-1,-1,-1,-1,1,-1,-1,-1,1,-1,1,1,-1,1,-1,-1,1,-1,1,-1,-1,1,1,-1,1,-1,1,-1,-1,-1,-1,-1,-1,-1,1,1,-1,1,1,1,-1,1,1,-1,1,1,1,1,-1,-1,1,-1,-1,1,-1,1,-1,-1,1,1,1,-1,-1,-1,1,1,1,-1,1,-1,1,1,-1,-1,1,-1,-1,1,-1,-1,-1,1,1,-1,1,1,-1,-1]
[1,1,1,-1,-1,1,1,1,1,1,1,-1,-1,1,1,-1,-1,-1,-1,1,1,-1,-1,1,1,-1,1,-1,-1,1,1,-1,-1,1,1,-1,1,-1,-1,-1,-1,-1,1,-1,-1,1,1,1,1,-1,1,-1,1,-1,-1,1,-1,-1,1,-1,-1,1,1,1,1,-1,-1,-1,1,1,-1,-1,-1,1,1,1,1,-1,1,1,1,-1,1,1,-1,-1,-1,1,1,1,1,-1,-1,-1,1,1,1,1,-1,1,-1,-1,-1,-1,-1,-1,-1,1,-1,1,1,-1,-1,-1,-1,-1,-1,-1,-1,1,-1,-1,1,-1,-1,1,1,1,-1,-1,-1,1,-1,1,1,1,-1,1,1,-1,1,-1,1,1,-1,-1,1,1,-1,-1,-1,-1,-1,-1,1,-1,-1,-1,1,-1,1,1,-1,1,-1,1,-1,1,1,1,1,-1,-1,1,1,1,1,1,-1,-1,-1,1,1,-1,1,1,-1,-1,1,1,1,-1,-1,1,-1,1,-1,1,1,-1,1,1,-1,-1,1,1,1,-1,-1,-1,1,-1,-1,-1,1,-1,-1,-1,-1,1,-1,1,-1,1,-1,1,-1,-1,-1,-1,1,1,-1,-1,1,1,1,1,1,1,1,-1,-1,-1,-1,1,-1,1,1,1,1,1,-1,-1,-1,-1]
[-1,-1,-1,1,-1,1,1,1,-1,-1,1,1,1,1,-1,1,-1,-1,-1,1,1,1,-1,1,-1,-1,1,-1,-1,-1,-1,-1,-1,-1,-1,1,1,-1,-1,-1,-1,-1,1,-1,1,1,-1,-1,1,-1,-1,1,1,-1,-1,-1,1,-1,1,-1,-1,-1,-1,1,1,1,-1,1,1,-1,1,-1,-1,1,1,1,-1,1,-1,-1,-1,-1,1,-1,-1,-1,-1,-1,1,-1,-1,1,1,1,1,-1,1,-1,-1,-1,1,1,-1,1,-1,1,1,1,-1,1,1,-1,-1,1,1,1,1,1,1,1,1,1,-1,-1,-1,1,1,-1,1,1,1,-1,1,1,-1,-1,-1,-1,1,-1,-1,1,1,1,-1,1,-1,1,1,1,-1,-1,1,-1,-1,1,1,-1,1,1,-1,1,-1,1,-1,1,1,1,1,1,-1,1,1,-1,1,1,-1,-1,1,-1,-1,1,-1,1,1,1,1,1,1,-1,-1,1,-1,-1,1,-1,1,-1,-1,1,1,-1,1,-1,1,1,-1,1,-1,1,-1,-1,-1,1,1,1,1,1,-1,1,1,1,1,-1,-1,-1,-1,-1,-1,-1,1,-1,-1,-1,-1,1,1,-1,-1,1,-1,-1,-1,-1,-1,-1,1,1,1,-1,-1,-1,-1,-1,-1,1]
[1,-1,-1,-1,-1,1,-1,1,-1,-1,-1,-1,1,-1,1,-1,1,-1,-1,1,1,1,-1,1,1,-1,1,1,1,-1,1,1,-1,1,-1,1,-1,1,1,-1,1,-1,-1,-1,-1,-1,-1,1,1,1,-1,-1,1,-1,1,1,-1,1,1,1,-1,-1,1,1,-1,1,1,-1,-1,1,-1,-1,-1,-1,1,-1,1,1,-1,-1,1,-1,1,-1,1,-1,-1,-1,1,-1,-1,1,-1,1,-1,-1,1,-1,1,1,1,1,-1,1,-1,1,-1,-1,-1,-1,1,1,-1,1,-1,-1,-1,1,-1,1,1,-1,-1,-1,1,-1,1,-1,-1,-1,1,1,1,-1,1,-1,1,-1,-1,-1,1,1,1,-1,-1,-1,-1,1,-1,1,-1,-1,1,1,1,1,-1,-1,1,-1,-1,-1,-1,1,1,1,-1,-1,1,1,1,1,1,1,-1,1,-1,1,-1,-1,1,-1,1,1,1,-1,1,-1,1,-1,-1,-1,1,1,1,-1,1,1,1,1,1,-1,1,1,-1,1,-1,1,-1,-1,-1,1,-1,1,1,-1,1,1,1,1,1,-1,-1,-1,1,1,-1,-1,-1,-1,1,1,-1,1,-1,-1,-1,-1,1,1,1,-1,1,-1,-1,1,1,1,-1,1,-1,1,1,1,-1,-1]
[-1,1,-1,-1,1,1,1,-1,-1,-1,1,-1,1,1,-1,1,1,-1,-1,1,1,1,1,1,1,-1,1,-1,-1,-1,1,-1,-1,-1,1,1,-1,1,-1,-1,-1,-1,-1,-1,-1,-1,-1,-1,1,1,1,-1,-1,1,1,-1,-1,-1,1,-1,-1,1,-1,1,-1,1,1,-1,1,1,-1,1,-1,1,-1,1,-1,-1,-1,1,1,-1,1,1,1,1,-1,-1,1,-1,-1,-1,1,1,-1,-1,-1,-1,-1,-1,-1,1,-1,1,1,1,1,1,-1,-1,1,-1,-1,1,-1,1,1,-1,1,1,-1,-1,-1,1,1,-1,1,-1,-1,1,1,1,-1,-1,1,1,-1,-1,-1,1,1,1,-1,-1,1,-1,1,1,-1,-1,-1,1,-1,1,1,1,1,1,1,1,-1,-1,-1,-1,1,1,1,1,-1,-1,-1,-1,1,-1,1,-1,-1,-1,1,-1,1,-1,-1,-1,1,-1,1,1,1,-1,-1,1,-1,-1,1,-1,1,1,-1,1,-1,-1,1,-1,1,-1,-1,1,-1,-1,-1,-1,1,1,-1,-1,-1,1,-1,-1,-1,-1,1,1,1,-1,-1,1,1,-1,1,1,-1,-1,1,1,1,-1,1,1,1,1,1,1,-1,1,-1,-1,-1,-1,1,1,1,-1,-1,1]
[1,-1,-1,1,-1,-1,-1,-1,1,1,1,-1,1,-1,1,-1,-1,-1,1,1,-1,-1,-1,-1,1,-1,-1,-1,1,1,-1,-1,-1,1,1,1,1,1,1,-1,1,-1,1,1,1,-1,1,1,-1,-1,1,1,1,-1,-1,-1,1,1,1,-1,1,1,-1,-1,1,1,1,-1,1,-1,-1,1,1,1,1,-1,1,-1,1,-1,-1,-1,-1,1,1,-1,-1,1,-1,1,1,1,-1,-1,1,1,1,-1,1,1,1,-1,1,1,-1,1,-1,1,-1,-1,1,-1,1,-1,-1,-1,1,1,-1,-1,1,1,1,-1,-1,1,1,-1,1,-1,-1,1,-1,1,1,-1,1,1,-1,1,-1,-1,-1,-1,1,-1,-1,1,1,-1,1,-1,1,-1,1,1,-1,1,1,-1,-1,1,1,1,-1,-1,1,-1,-1,1,-1,1,1,1,1,-1,1,1,1,-1,-1,1,1,-1,1,1,1,1,-1,1,-1,1,-1,1,1,1,1,-1,-1,-1,1,-1,1,1,-1,1,-1,-1,-1,-1,1,1,-1,-1,-1,1,1,1,-1,-1,1,1,1,-1,-1,1,-1,-1,-1,-1,-1,-1,-1,1,1,1,-1,-1,1,-1,-1,-1,-1,-1,-1,1,1,1,-1,1,1,1,1,-1,-1,-1]
[-1,-1,-1,-1,1,1,1,1,1,-1,1,1,1,1,1,1,1,1,1,1,1,-1,1,1,-1,1,-1,1,1,1,1,1,-1,-1,-1,-1,-1,1,-1,1,1,1,-1,1,-1,1,-1,-1,1,1,1,1,-1,1,1,1,1,-1,1,1,1,-1,-1,-1,-1,1,-1,-1,1,1,-1,1,-1,1,1,-1,1,-1,1,1,-1,-1,1,1,1,-1,-1,-1,-1,1,1,-1,1,1,-1,-1,-1,1,1,1,-1,-1,-1,-1,1,1,-1,1,-1,1,-1,1,-1,1,1,-1,1,1,-1,-1,1,1,1,-1,1,1,-1,1,1,1,-1,1,1,1,-1,-1,1,-1,-1,-1,-1,-1,-1,1,-1,-1,-1,-1,1,1,-1,-1,-1,1,-1,-1,-1,1,1,1,1,-1,1,1,1,-1,-1,-1,1,1,1,1,-1,-1,1,1,1,-1,1,-1,1,-1,-1,-1,1,1,-1,1,1,1,1,1,-1,-1,-1,-1,-1,-1,-1,-1,-1,-1,1,1,1,-1,1,1,-1,-1,1,-1,-1,1,1,1,-1,-1,1,-1,1,-1,1,-1,-1,1,1,-1,-1,-1,-1,1,1,1,-1,-1,1,1,-1,1,1,1,1,1,-1,1,1,1,-1,1,1,1,-1,-1,-1,1]
[1,1,1,-1,1,-1,-1,-1,1,-1,-1,1,-1,-1,1,-1,-1,-1,1,-1,-1,-1,1,1,1,-1,-1,1,-1,-1,1,1,-1,1,-1,-1,1,1,-1,1,-1,-1,1,-1,1,-1,-1,-1,-1,1,1,-1,-1,-1,-1,1,1,1,-1,-1,1,1,1,-1,1,1,-1,1,-1,1,-1,-1,1,1,-1,-1,1,1,1,-1,1,1,1,-1,1,-1,-1,-1,-1,-1,-1,-1,1,1,1,1,-1,1,-1,-1,-1,1,-1,-1,-1,1,1,1,-1,1,1,-1,-1,-1,-1,1,-1,-1,1,-1,-1,-1,-1,-1,1,1,1,1,-1,1,1,-1,-1,-1,-1,-1,-1,1,-1,-1,-1,1,1,-1,-1,-1,-1,1,-1,-1,1,1,-1,-1,1,1,1,1,1,-1,-1,-1,1,1,-1,-1,1,1,-1,1,1,-1,1,1,1,-1,1,1,-1,-1,-1,-1,1,1,1,-1,1,-1,-1,1,-1,-1,1,1,-1,-1,-1,-1,-1,1,-1,1,1,-1,1,-1,-1,-1,1,-1,-1,1,1,-1,1,1,1,1,-1,1,1,1,-1,1,1,-1,1,1,1,-1,1,1,-1,1,-1,1,1,1,-1,-1,-1,1,1,1,-1,-1,1,1,1,-1,1,-1,1,1,1,1]
[1,-1,1,-1,-1,1,1,-1,-1,1,1,-1,1,1,-1,1,1,1,-1,-1,-1,-1,1,1,1,-1,1,-1,1,1,-1,1,-1,-1,-1,1,-1,-1,1,1,-1,-1,1,-1,1,1,1,-1,-1,1,1,1,1,-1,-1,1,1,-1,1,-1,1,-1,1,1,1,-1,1,-1,-1,1,-1,1,1,-1,-1,1,1,-1,1,1,1,1,-1,-1,-1,-1,1,1,-1,-1,1,1,1,-1,1,1,-1,-1,-1,-1,-1,1,1,1,-1,-1,1,1,1,1,1,1,1,1,1,-1,1,-1,1,1,-1,-1,-1,1,1,-1,1,-1,1,-1,1,-1,1,1,-1,-1,-1,1,1,1,1,1,1,-1,1,-1,1,1,1,1,1,-1,-1,1,-1,1,1,-1,1,1,-1,-1,-1,1,1,-1,1,1,-1,1,1,-1,-1,1,-1,1,1,-1,1,-1,-1,-1,1,-1,1,1,1,1,1,-1,-1,-1,1,1,-1,1,-1,1,1,1,-1,1,-1,-1,1,1,1,-1,-1,1,-1,1,-1,-1,-1,1,-1,-1,-1,-1,-1,-1,-1,-1,1,-1,-1,-1,-1,-1,1,-1,1,-1,-1,1,1,1,1,1,1,1,1,1,1,-1,1,1,-1,-1,1,1,1,1,1,-1]
[1,-1,1,1,1,1,1,-1,-1,1,-1,1,1,-1,1,1,-1,-1,1,1,1,-1,-1,-1,1,-1,1,-1,1,1,1,1,-1,-1,1,1,1,-1,-1,-1,-1,-1,1,1,1,-1,-1,1,-1,1,-1,1,1,1,1,1,-1,1,1,-1,1,-1,1,-1,-1,1,1,1,-1,1,1,-1,1,-1,-1,1,-1,-1,1,-1,1,-1,-1,-1,1,1,-1,1,-1,1,1,1,-1,1,1,1,1,1,-1,-1,1,-1,-1,-1,1,1,1,1,-1,-1,1,1,1,-1,1,-1,-1,-1,1,1,-1,-1,-1,-1,1,-1,-1,1,1,1,-1,-1,-1,-1,-1,1,1,1,1,-1,1,-1,-1,-1,1,1,1,-1,-1,1,-1,-1,1,-1,-1,1,1,-1,1,-1,1,-1,-1,1,1,1,1,-1,1,-1,1,-1,1,1,1,-1,-1,1,1,-1,1,1,1,1,1,1,1,-1,1,1,1,1,1,1,1,1,1,1,1,-1,-1,1,-1,1,1,-1,1,1,1,1,-1,-1,-1,-1,-1,1,1,-1,-1,1,1,1,-1,1,4,-1,1,1,-1,-1,1,-1,-1,1,-1,-1,1,-1,-1,1,-1,1,1,1,-1,1,-1,1,1,-1,1,-1,-1,1,1,-1]
[1,-1,-1,-1,-1,-1,-1,1,1,1,-1,1,-1,-1,-1,1,-1,-1,1,1,1,-1,1,1,1,1,-1,-1,1,-1,1,1,-1,-1,-1,1,-1,1,-1,-1,1,-1,1,1,-1,-1,1,-1,1,1,-1,1,-1,-1,1,-1,1,1,1,-1,1,1,-1,1,1,1,-1,1,1,-1,-1,-1,-1,1,1,-1,1,-1,1,1,-1,-1,1,-1,1,-1,-1,-1,-1,1,1,1,-1,-1,-1,1,-1,-1,-1,1,-1,-1,-1,-1,1,1,1,1,-1,1,-1,-1,1,1,1,1,-1,1,1,-1,-1,-1,-1,-1,-1,1,1,-1,-1,-1,-1,1,-1,-1,-1,1,-1,1,1,-1,-1,-1,-1,-1,-1,1,1,-1,1,1,1,1,-1,1,-1,1,-1,1,-1,-1,1,-1,1,-1,1,-1,1,1,1,1,-1,1,-1,1,-1,1,1,1,-1,-1,1,1,1,-1,-1,1,-1,-1,-1,-1,-1,1,-1,1,-1,-1,-1,-1,-1,1,-1,1,1,1,1,-1,1,1,1,-1,-1,1,1,1,-1,1,1,1,1,1,-1,-1,1,1,1,1,1,-1,1,1,-1,1,1,1,1,1,1,-1,-1,1,1,1,1,-1,-1,-1,-1,1,1,1,-1,-1,1,1,1,-1]
[-1,-1,-1,-1,1,1,-1,-1,1,1,1,1,-1,-1,1,-1,-1,-1,-1,1,-1,-1,1,1,-1,1,-1,1,-1,1,1,1,1,1,1,1,-1,1,1,-1,1,1,1,1,-1,1,-1,-1,-1,-1,1,-1,-1,1,1,1,-1,-1,-1,-1,-1,-1,1,1,-1,-1,-1,-1,-1,-1,-1,-1,-1,-1,1,-1,1,1,1,-1,1,1,1,1,1,-1,1,1,-1,1,1,-1,-1,1,1,-1,-1,1,1,-1,-1,1,-1,-1,1,-1,-1,1,1,1,-1,1,-1,1,-1,-1,-1,-1,1,-1,-1,1,1,-1,1,-1,1,1,-1,-1,1,1,1,-1,1,-1,1,-1,1,1,1,-1,1,1,1,1,1,-1,1,-1,-1,1,-1,-1,-1,-1,-1,1,1,1,-1,-1,-1,1,-1,-1,-1,-1,1,-1,1,1,-1,1,-1,-4,-1,1,-1,-1,-1,1,1,-1,1,-1,1,-1,1,1,1,1,1,-1,-1,-1,1,-1,-1,1,-1,1,1,1,-1,1,1,1,1,-1,1,-1,1,1,-1,1,1,-1,-1,-1,1,-1,-1,1,1,1,1,1,1,1,1,-1,-1,1,1,1,-1,1,-1,1,1,1,1,1,1,1,-1,1,-1,1,-1,-1,1,-1,-1,-1]
[1,-1,-1,1,-1,1,-1,-1,-1,-1,1,-1,1,1,1,1,-1,-1,1,1,-1,-1,-1,-1,-1,-1,1,1,-1,-1,-1,1,-1,1,-1,-1,-1,-1,1,-1,1,-1,-1,-1,-1,-1,-1,-1,-1,1,-1,1,1,1,1,1,-1,1,-1,1,-1,1,-1,-1,1,1,-1,1,-1,-1,1,-1,1,-1,-1,1,1,1,1,-1,1,-1,-1,1,1,-1,1,-1,1,-1,-1,1,1,-1,1,-1,1,-1,1,-1,-1,1,1,-1,-1,-1,1,1,1,1,-1,-1,-1,-1,-1,-1,1,-1,-1,-1,1,-1,-1,-1,1,-1,-1,1,-1,1,-1,-1,1,-1,1,1,-1,-1,1,-1,-1,1,-1,-1,-1,-1,-1,-1,1,1,-1,1,-1,1,1,-1,-1,1,-1,1,-1,-1,-1,1,1,-1,-1,-1,-1,-1,-1,-1,-1,1,1,-4,-1,1,-1,-1,-1,1,1,-1,-1,-1,-1,1,-1,1,1,1,1,-1,-1,-1,1,-1,1,1,-1,1,-1,1,-1,1,-1,-1,-1,-1,1,1,1,-1,1,1,-1,-1,1,-1,-1,-1,-1,-1,1,1,1,1,-1,1,-1,-1,1,-1,1,1,-1,1,1,1,-1,-1,1,1,-1,-1,-1,1,-1,1,1,-1,1,1,-1,-1]
[-1,1,-1,1,1,1,-1,-1,-1,-1,-1,1,1,-1,-1,-1,-1,-1,1,1,-1,-1,1,-1,-1,-1,-1,1,1,-1,-1,1,1,1,-1,1,1,1,1,1,-1,-1,1,-1,1,-1,1,1,-1,-1,1,1,1,1,1,1,-1,1,-1,1,-1,-1,-1,-1,1,-1,-1,-1,-1,-1,1,1,-1,-1,-1,-1,1,1,-1,-1,1,-1,1,1,-1,-1,1,-1,-1,1,-1,-1,-1,1,1,-1,1,1,1,-1,-1,-1,1,1,-1,-1,1,-1,1,1,-1,1,1,-1,-1,-1,-1,-1,1,-1,-1,-1,1,-1,-1,-1,-1,-1,-1,1,-1,1,1,1,-1,-1,1,-1,1,1,-1,1,1,-1,-1,1,1,1,1,1,-1,-1,1,-1,-1,-1,-1,1,-1,-1,1,1,1,-1,1,-1,-1,1,-1,-1,-1,-1,-1,-1,-1,-1,1,1,1,-1,-1,-1,1,-1,-1,-1,-1,1,-1,1,-1,1,1,-1,-1,-1,-1,-1,-1,1,-1,-1,1,-1,1,1,1,-1,-1,-1,-1,-1,-1,1,-1,1,-1,-1,1,1,-1,1,-1,-1,1,-1,1,1,-1,1,1,-1,1,1,-1,1,-1,1,-1,-1,1,1,1,1,-1,-1,1,1,-1,1,-1,-1,-1,1,-1,1]
[-1,1,1,-1,-1,-1,-1,-1,-1,-1,-1,1,-1,-1,-1,1,1,1,1,1,1,1,1,1,1,1,-1,1,1,-1,-1,1,-1,-1,-1,-1,1,-1,1,-1,1,1,1,-1,1,-1,-1,1,1,1,1,-1,-1,1,-1,1,1,-1,1,1,-1,-1,-1,-1,-1,1,1,-1,1,-1,1,1,-1,1,1,1,-1,1,-1,-1,1,-1,1,1,-1,1,1,1,1,-1,-1,-1,1,1,-1,-1,1,1,-1,-1,1,-1,-1,1,-1,1,-1,-1,1,1,-1,1,1,-1,-1,-1,1,-1,1,1,-1,1,1,1,1,1,-1,1,-1,1,1,-1,1,1,-1,1,-1,1,-1,1,-1,1,1,-1,-1,-1,-1,1,1,1,1,1,-1,-1,-1,1,1,1,1,1,-1,1,-1,-1,-1,1,-1,1,1,1,1,1,-1,-1,1,1,-1,1,1,-1,-1,-1,-1,1,1,1,-1,-1,-1,1,-1,1,1,-1,1,1,1,1,-1,1,-1,-1,-1,1,1,1,1,1,-1,1,-1,1,1,1,1,1,1,4,-1,-1,1,1,-1,1,-1,-1,-1,-1,1,-1,-1,-1,-1,1,1,-1,-1,-1,-1,-1,-1,-1,1,1,1,-1,1,-1,-1,-1,-1,1,1,-1,1,-1]
[-1,1,1,-1,-1,1,-1,1,1,-1,-1,1,-1,1,1,-1,-1,1,1,1,-1,-1,1,1,1,-1,-1,-1,1,-1,-1,1,-1,1,-1,1,-1,1,1,1,1,-1,-1,-1,1,-1,-1,1,-1,1,-1,-1,-1,-1,1,-1,-1,-1,-1,1,1,-1,1,-1,-1,1,1,1,-1,1,-1,-1,1,-1,1,-1,1,1,-1,-1,1,-1,1,1,-1,1,1,4,1,1,1,1,1,-1,-1,1,1,1,1,-1,1,1,-1,-1,1,-1,1,1,1,1,1,-1,-1,-1,1,1,1,-1,1,1,-1,-1,1,-1,1,1,-1,1,-1,-1,-1,-1,-1,-1,-1,1,1,-1,1,1,-1,-1,-1,-1,1,-1,1,1,1,1,-1,1,1,1,1,-1,-1,1,1,-1,-1,1,-1,1,-1,1,-1,-1,-1,1,-1,1,1,1,-1,-1,1,-1,-1,-1,-1,1,-1,-1,1,-1,1,1,1,1,1,-1,1,-1,1,-1,-1,1,1,-1,1,1,1,1,-1,-1,1,-1,1,-1,-1,1,1,1,-1,1,1,1,-1,1,-1,1,1,1,1,-1,-1,1,-1,1,1,-1,1,-1,1,-1,-1,-1,-1,-1,1,1,-1,-1,1,-1,1,-1,-1,-1,-1,-1,1,-1,1,-1]
[-1,1,1,-1,-1,1,1,1,1,1,-1,1,-1,-1,1,-1,1,-1,1,1,1,1,1,1,-1,-1,1,1,4,1,1,1,-1,-1,1,1,-1,1,1,-1,-1,-1,1,-1,-1,-1,-1,1,-1,-1,1,-1,1,-1,1,1,1,-1,-1,1,1,-1,1,-1,-1,1,-1,1,1,1,-1,-1,1,-1,1,1,1,-1,-1,-1,1,-1,-1,1,-1,1,-1,-1,-1,1,1,-1,-1,1,1,-1,1,-1,1,-1,-1,-1,-1,1,-1,1,1,1,1,-1,-1,1,-1,1,-1,1,-1,-1,1,-1,1,-1,1,-1,1,-1,-1,1,1,1,1,-1,1,1,-1,1,1,1,1,1,-1,1,1,1,-1,-1,-1,1,1,-1,-1,1,-1,1,1,1,-1,-1,1,-1,1,1,-1,1,-1,1,1,-1,1,1,-1,1,1,1,-1,-1,1,-1,-1,-4,1,-1,1,-1,-1,1,1,1,-1,1,-1,-1,-1,-1,1,-1,1,-1,1,-1,-1,1,1,-1,-1,1,-1,-1,-1,-4,-1,1,-1,1,1,1,1,4,-1,-1,-1,1,1,-1,1,-1,1,-1,-1,-1,-1,-1,1,-1,1,-1,-1,1,-1,-1,-1,1,-1,1,1,-1,-1,1,-1,-1,-1,-1,-1,-1,1,1]
[1,-1,1,1,-1,-1,-1,-1,1,1,1,-1,1,-1,1,-1,-1,1,1,1,1,-1,-1,-1,1,1,-1,1,1,-1,-1,-1,1,1,-1,1,-1,1,1,-1,-1,-1,-1,1,1,1,1,1,1,1,-1,-1,1,-1,1,-1,1,-1,1,1,-1,1,1,-1,-1,1,1,-1,1,-1,1,1,1,1,-1,1,1,-1,-1,-1,1,-1,-1,1,1,1,-1,1,-1,-1,1,-1,-1,-1,1,-1,1,-1,-1,1,1,-1,1,1,1,1,-1,1,-1,-1,-1,1,-1,-1,1,1,1,1,1,-1,-1,-1,1,1,1,-1,-1,-1,-1,1,-1,-1,-1,-1,1,1,1,-1,-1,1,1,1,1,1,1,-1,-1,-1,-1,-1,1,1,1,-1,1,1,-1,1,-1,1,-1,1,-1,1,-1,1,-1,-1,-1,1,1,-1,1,1,1,1,-1,-1,-1,1,1,-1,1,1,-1,1,-1,-1,-1,1,1,1,-1,-1,-1,-1,1,-1,-1,1,1,1,1,1,1,-1,1,1,1,-1,1,1,-1,1,-1,1,-1,1,-1,-1,1,1,1,1,-1,1,1,-1,1,1,1,-1,1,-1,-1,-1,1,-1,1,-1,1,-1,-1,-1,1,-1,1,-1,1,1,-1,1,-1,-1,1,1]
[-1,1,-1,-1,1,-1,-1,1,1,-1,-1,-1,1,1,1,1,1,1,1,1,-1,1,1,-1,-1,-1,-1,-1,1,1,1,-1,-1,1,-1,1,1,-1,-1,1,-1,-1,1,-1,-1,1,1,1,1,-1,1,-1,-1,1,1,1,-1,-1,1,1,1,-1,-1,1,1,-1,-1,-1,-1,1,1,1,1,-1,1,1,1,1,1,-1,-1,-1,-1,1,-1,-1,1,1,-1,1,1,-1,1,1,-1,-1,1,1,-1,-1,-1,-1,1,1,-1,-1,-1,-1,1,-1,-1,-1,-1,-1,1,1,1,1,1,-1,1,1,-1,1,1,-1,1,-1,-1,-1,1,1,1,1,-1,-1,1,1,1,1,1,1,1,1,-1,-1,-1,1,1,1,-1,1,1,1,1,-1,-1,-1,-1,1,1,1,1,-1,1,-1,1,-1,1,-1,1,4,1,1,1,1,-1,1,1,1,-1,1,-1,-1,-1,-1,-1,1,1,-1,-1,-1,1,1,1,-1,-1,-1,-1,1,-1,1,-1,-1,1,1,1,1,1,-1,1,-1,-1,-1,1,1,-1,4,1,-1,-1,-1,1,-1,1,-1,1,-1,-1,1,1,1,1,-1,1,-1,1,-1,-1,-1,-1,1,-1,-1,1,-1,1,1,1,1,-1,-1,1,1,-1,1]
[1,-1,1,-1,-1,-1,1,-1,1,1,-1,1,-1,1,1,-4,-1,1,-1,1,-1,1,1,-1,-1,1,1,1,-1,1,-1,1,1,1,-1,-1,1,-1,-1,-1,-1,-1,-1,-1,-1,-1,1,-1,-1,-1,-1,-1,-1,1,1,1,-1,-1,-1,4,1,-1,-1,1,-1,1,1,-1,1,-1,-1,-1,1,-1,1,-1,-1,-1,-1,-1,1,-1,-1,1,1,1,1,1,1,1,1,-1,1,1,1,-1,1,1,1,-1,-1,1,1,-1,-1,-1,-1,1,1,1,1,1,-1,-1,1,-1,-1,1,-1,-1,1,-1,1,-1,1,-1,-1,-1,-1,1,-1,-1,1,1,-1,1,1,-1,1,-1,1,-1,-1,-1,-1,-1,1,1,1,1,-1,-1,-1,1,-1,1,-1,1,1,-1,-1,-1,-1,-1,-1,-1,-1,-1,-1,-1,-1,1,-1,-1,1,1,1,1,-1,-1,-1,-1,-1,1,1,-1,1,-1,1,-1,1,1,-1,-1,1,1,-1,1,1,-1,-1,1,1,-1,1,1,-1,-1,1,-1,-1,1,1,1,-1,1,1,1,1,1,-1,1,1,1,1,1,1,-1,-1,-1,1,-1,1,-1,-1,1,1,1,1,-1,1,-1,-1,1,-1,-1,-1,-1,-1,1,-1,1,-1,1,1,1]
[-1,-1,-1,1,-1,1,1,1,1,-1,-1,1,1,1,-1,-1,1,1,-1,-1,-1,-1,-1,1,1,1,-1,1,-1,-1,1,1,-1,1,-1,1,-1,1,-1,-1,1,-1,-1,-1,-1,1,1,-1,1,1,-1,1,-1,1,1,1,-1,-1,-1,-1,1,1,-1,-1,-1,1,-1,1,1,1,-1,1,-1,-1,-1,-1,1,-1,1,-1,-1,-1,1,1,1,-1,-1,1,1,1,1,-1,1,-1,1,1,1,-1,-1,1,1,1,1,1,1,1,-1,1,-1,1,1,1,-1,-1,1,-1,-1,-1,1,1,1,-1,1,-1,-1,1,-1,1,1,-1,-1,1,1,-1,-1,-1,-1,1,1,1,1,1,1,1,-1,-1,1,-1,-1,1,-1,1,-1,1,-1,1,1,1,-1,-1,1,1,-1,1,-1,1,-1,1,-1,-1,-1,-1,-1,1,1,-1,1,1,1,-1,-1,-1,-1,-1,1,1,-1,-1,-1,-1,-1,-1,1,1,1,1,1,1,1,1,1,1,1,-1,-1,1,-1,-1,-1,1,-1,-1,1,1,-1,1,1,-1,1,-1,-1,1,1,-1,-1,-1,1,1,1,1,1,1,-1,-1,1,-1,1,-1,-1,-1,1,-1,-1,-1,1,-1,1,-1,1,1,-1,-1,1,1,-1,1]
[-1,1,-1,1,1,-1,1,1,1,1,1,1,-1,-1,1,1,1,-1,-1,-1,-1,-1,-1,1,-1,-1,1,1,-1,1,1,-1,1,-1,-1,1,1,1,1,1,1,1,-1,1,1,-1,1,1,1,1,-1,1,-1,-1,-1,-1,1,-1,-1,1,-1,1,-1,-1,1,1,-1,-1,-1,1,1,-1,1,-1,-1,1,1,-1,-1,-1,1,1,1,1,1,-1,-1,-1,1,-1,1,1,1,-1,1,1,-1,-1,1,-1,1,1,-1,-1,1,1,-1,-1,-1,-1,1,1,1,1,1,-1,1,-1,1,1,1,1,-1,-1,1,-1,1,1,-1,1,-1,1,1,1,1,-1,1,-1,1,1,-1,-1,1,1,-1,1,1,1,-1,-1,1,-1,-1,1,1,-1,-1,1,-1,-1,-1,-1,-1,-1,1,1,-1,1,1,-1,1,-1,-1,1,-1,1,-1,1,1,1,-1,1,1,-1,1,-1,1,-1,-1,-1,1,1,-1,1,1,1,-1,1,1,-1,1,-1,-1,-1,1,1,-1,-1,-1,1,-1,-1,-1,-1,1,-1,1,-1,1,1,-1,1,1,-1,-1,1,-1,1,-1,1,-1,1,-1,-1,1,1,1,1,-1,1,1,1,1,1,-1,-1,-1,1,1,1,-1,-1,1,1,-1,1]
[1,1,-1,-1,-1,1,-1,-1,1,1,1,1,-1,1,1,1,1,-1,1,-1,-1,1,1,-1,1,-1,1,-1,-1,-1,1,1,-1,-1,-1,-1,1,-1,-1,1,1,1,1,1,1,1,-1,1,1,-1,1,1,1,1,1,1,1,1,1,1,1,-1,-1,1,-1,-1,-1,1,1,-1,1,-1,1,-1,-1,-1,1,1,1,1,-1,1,-1,-1,1,-1,-1,1,1,1,-1,-1,1,-1,1,1,1,-1,-1,-1,-1,-1,-1,-1,1,-1,-1,-1,-1,-1,1,1,-1,-1,-1,1,-1,-1,1,1,-1,1,1,1,-1,1,1,-1,1,-1,1,-1,1,-1,-1,-1,1,1,1,1,-1,1,1,1,1,1,1,1,1,-1,-1,1,-1,1,1,-1,1,1,1,1,1,1,-1,1,1,1,-1,-1,1,1,-1,1,1,1,1,1,-1,-1,-1,1,-1,1,-1,-1,1,1,-1,1,-1,-1,-1,1,-1,1,-1,-1,1,1,-1,1,-1,-1,1,-1,1,1,-1,-1,1,-1,-1,1,-1,-1,-1,-1,1,1,1,1,1,1,1,-1,1,-1,-1,-1,-1,1,-1,-1,1,1,1,1,1,-1,1,1,1,1,1,1,-1,-1,1,-1,-1,-1,1,1,1,-1,1,1]
[1,1,1,-1,-1,1,-1,-1,-1,1,1,1,1,-1,-1,-1,-1,1,-1,1,-1,1,-1,-1,1,-1,-1,-1,1,1,-1,1,1,1,1,-1,-1,1,1,-1,1,-1,-1,1,1,1,1,1,-1,1,1,1,-1,-1,1,1,1,-1,1,1,-1,-1,1,1,1,1,-1,1,-1,1,1,1,1,-1,1,1,-1,1,-1,1,1,1,1,-1,1,-1,-1,1,-1,1,-1,1,-1,-1,-1,-1,1,1,1,-1,-1,1,1,1,-1,1,-1,-1,1,1,-1,-1,1,-1,-1,1,1,-1,1,1,1,1,-1,1,1,1,-1,-1,-1,1,1,1,-1,-1,1,1,1,1,-1,-1,1,-1,1,-1,1,1,-1,1,-1,1,-1,-1,-1,1,-1,-1,-1,1,-1,1,1,1,-1,-1,-1,1,1,1,1,1,-1,1,-1,-1,1,1,1,-1,1,1,1,1,1,-1,-1,1,-1,-1,-1,1,-1,1,1,1,1,-1,-1,-1,1,1,-1,1,1,-1,1,-1,1,1,1,1,1,-1,1,1,1,-1,1,1,-1,1,-1,1,-1,1,1,-1,1,1,-1,-1,1,-1,1,1,1,-1,1,-1,1,1,1,1,-1,1,1,-1,-1,-1,1,-1,1,1,1,-1,-1,1]
[-1,-1,-1,-1,-1,-1,1,-1,1,-1,-1,-1,-1,1,1,1,1,-1,-1,-1,-1,-1,-1,1,1,1,1,1,-1,1,1,-1,-1,1,1,-1,-1,1,1,1,-1,1,1,-1,1,-1,-1,1,-1,1,1,-1,-1,1,1,-1,1,-1,-1,1,1,-1,1,1,1,1,-1,-1,-1,1,1,1,1,-1,-1,-1,-1,1,-1,-1,-1,1,1,1,1,1,1,1,-1,1,-1,1,-1,-1,1,-1,-1,-1,1,-1,1,1,1,-1,1,1,1,-1,1,1,1,-1,-1,-1,-1,1,1,1,-1,1,1,-1,1,-1,-1,1,-1,1,1,1,-1,1,1,1,-1,1,1,-1,1,-1,1,-1,1,1,-1,1,-1,-1,1,-1,1,1,1,1,1,-1,-1,1,1,-1,-1,-1,-1,1,-1,1,1,1,-1,-1,-1,-1,1,1,-1,1,1,1,1,1,1,-1,1,-1,1,-1,1,-1,1,-1,-1,1,1,-1,1,1,-1,-1,1,1,1,1,-1,-1,1,1,-1,-1,1,1,1,-1,-1,1,-1,1,1,-1,1,1,-1,-1,1,1,1,-1,-1,-1,-1,-1,-1,1,1,1,-1,-1,1,1,1,1,1,1,1,-1,1,1,-1,1,1,-1,1,-1,-1,1,-1,1]
[-1,-1,-1,1,-1,-1,1,-1,-1,-1,1,-1,1,1,1,-1,-1,1,1,-1,1,1,-1,-1,-1,-1,1,1,-1,1,-1,1,-1,-1,1,-1,1,-1,1,-1,-1,1,1,-1,1,1,-1,1,1,-1,-1,-1,1,-1,1,-1,1,-1,-1,1,1,-1,-1,1,1,1,-1,1,-1,1,-1,-1,1,1,-1,-1,1,-1,1,-1,-1,1,-1,-1,-1,1,1,1,1,1,-1,-1,-1,-1,-1,-1,-1,1,1,1,-1,1,-1,1,-1,1,1,-1,1,-1,1,1,1,-1,1,1,1,-1,1,1,1,1,-1,-1,-1,1,-1,-1,1,-1,1,-1,-1,-1,-1,-1,-1,-1,-1,-1,1,-1,-1,1,-1,1,-1,1,-1,1,-1,-1,-1,1,-1,1,-1,1,1,1,1,-1,1,-1,-1,1,-1,1,1,-1,1,1,1,-1,1,1,1,-1,-1,1,1,-1,1,1,1,-1,-1,-1,-1,-1,-1,1,1,-1,1,1,-1,1,-1,-1,1,1,-1,-1,1,-1,-1,1,1,1,-1,1,1,-1,-1,-1,1,-1,1,-1,1,-1,1,1,-1,-1,1,-1,1,1,-1,-1,1,-1,1,1,1,1,-1,1,1,-1,1,-1,1,-1,1,1,1,-1,-1,-1,1,1,-1,1]
[-1,1,-1,-1,1,1,1,1,-1,-1,1,1,1,-1,-1,1,1,1,-1,-1,1,-1,1,-1,1,1,1,-1,-1,1,1,-1,-1,-1,-1,-1,-1,-1,-1,1,1,1,1,-1,-1,-1,-1,-1,-1,-1,1,1,1,-1,1,-1,1,1,-1,1,-1,-1,1,1,1,1,1,1,-1,-1,-1,-1,-1,1,1,-1,1,1,-1,-1,-1,-1,-1,-1,1,1,-1,1,1,-1,-1,1,-1,1,-1,-1,1,-1,1,1,-1,-1,-1,-1,-1,-1,1,-1,1,-1,-1,-1,1,-1,1,-1,1,-1,1,1,-1,-1,1,-1,1,-1,1,1,-1,1,-1,1,-1,-1,-1,-1,-1,-1,-1,1,-1,1,1,1,-1,1,-1,1,-1,1,-1,-1,-1,1,1,-1,-1,1,-1,1,1,1,1,1,-1,1,1,-1,1,-1,-1,-1,-1,1,-1,-1,1,1,-1,1,1,-1,1,-1,1,1,-1,-1,1,-1,1,-1,-1,-1,1,1,-1,1,1,-1,1,-1,1,-1,1,-1,-1,-1,-1,1,1,1,-1,-1,1,1,1,1,1,-1,1,-1,-1,1,-1,1,-1,-1,-1,-1,1,-1,1,1,-1,1,-1,1,1,-1,1,-1,1,1,1,-1,-1,1,-1,1,1,-1,1,-1,1,-1]
[-1,-1,-1,-1,1,1,1,1,1,1,-1,1,-1,1,-1,1,1,1,-1,-1,-1,-1,-1,1,-1,1,-1,-1,-1,1,1,1,1,1,-1,1,1,-1,-1,-1,1,-1,-1,-1,-1,-1,1,-1,-1,-1,-1,-1,1,1,1,-1,-1,-1,1,1,-1,1,1,1,1,1,1,-1,-1,-1,1,-1,-1,-1,1,1,1,-1,-1,-1,-1,1,-1,1,-1,1,-1,1,-1,-1,-1,1,-1,1,1,-1,-1,1,-1,1,-1,1,-1,-1,-1,1,1,1,-1,-1,-1,1,-1,1,-1,1,1,1,1,1,-1,1,-1,-1,1,-1,1,-1,1,1,-1,-1,1,1,1,1,-1,-1,-1,-1,1,-1,1,-1,1,1,-1,1,-1,-1,1,-1,1,1,1,-1,-1,-1,1,1,-1,1,1,1,-1,1,-1,-1,1,1,1,1,-1,-1,1,-1,1,-1,-1,-1,-1,1,-1,1,1,-1,-1,1,1,1,1,-1,-1,-1,-1,1,1,1,-1,-1,-1,1,1,1,-1,-1,-1,-1,-1,-1,-1,1,1,1,-1,-1,-1,-1,-1,-1,1,-1,-1,-1,-1,-1,1,-1,1,1,-1,1,-1,-1,1,1,1,1,-1,1,-1,-1,1,1,-1,-1,-1,1,1,-1,-1,1,1,1,-1,-1]
[-1,1,1,1,-1,1,-1,-1,1,1,1,-1,1,1,1,1,-1,1,1,1,1,1,-1,-1,-1,-1,-1,-1,-1,1,-1,-1,1,1,1,-1,1,1,-1,-1,1,1,-1,1,-1,-1,1,-1,-1,1,1,-1,1,1,-1,-1,1,1,-1,1,1,1,-1,1,-1,1,-1,-1,1,1,1,1,1,1,1,1,1,-1,-1,1,-1,1,-1,1,-1,1,1,-1,1,-1,1,1,-1,1,1,1,1,1,-1,-1,1,1,1,-1,-1,1,-1,-1,1,1,-1,-1,1,1,1,1,1,-1,-1,1,1,1,-1,1,1,1,-1,-1,1,-1,1,-1,1,1,-1,-1,1,1,-1,-1,-1,-1,1,1,1,-1,1,1,1,-1,-1,-1,1,1,-1,1,-1,-1,-1,1,1,1,-1,-1,-1,1,1,-1,1,1,1,1,-1,1,1,1,1,-1,1,1,1,-1,-1,-1,-1,-1,-1,-1,-1,-1,1,1,-1,-1,1,-1,-1,1,1,-1,-1,1,-1,1,-1,1,1,-1,1,1,1,-1,1,-1,-1,-1,-1,-1,-1,-1,-1,1,-1,1,1,-1,-1,-1,-1,-1,-1,-1,-1,1,1,-1,-1,-1,-1,1,-1,1,1,1,1,1,1,-1,-1,-1,1,-1,-1,-1,-1,-1]
[-1,-1,1,1,-1,-1,-1,1,1,-1,-1,-1,1,1,1,-1,-1,-1,1,-1,1,1,-1,1,-1,1,1,-1,-1,1,-1,1,1,-1,1,1,1,1,1,-1,-1,1,1,1,-1,-1,1,-1,-1,-1,-1,1,-1,-1,-1,1,1,1,-1,1,-1,-1,1,1,1,-1,-1,1,1,1,1,1,-1,-1,-1,-1,1,-1,-1,1,1,1,-1,-1,1,1,-1,-1,1,1,-1,1,-1,-1,-1,-1,1,1,1,1,1,-1,1,1,1,1,1,1,1,-1,-1,1,1,-1,1,-1,1,-1,-1,-1,-1,1,1,1,-1,1,-1,-1,1,1,-1,1,1,1,-1,-1,1,1,1,1,1,-1,1,-1,-1,-1,-1,1,1,-1,-1,-1,-1,-1,1,-1,1,-1,-1,1,1,-1,1,1,-1,-1,-1,-1,1,1,-1,-1,-1,-1,1,1,-1,-1,-1,-1,1,-1,1,-1,1,-1,1,1,1,-1,-1,1,-1,-1,1,1,1,1,1,-1,1,-1,-1,1,-1,1,-1,-1,1,-1,1,1,1,-1,1,-1,1,1,-1,1,1,1,-1,1,-1,1,-1,-1,1,-1,1,1,1,-1,1,-1,-1,1,1,1,-1,-1,-1,1,1,1,-1,1,-1,1,1,-1,1,1,-1,1]
[-1,-1,-1,-1,1,1,1,-1,-1,-1,-1,-1,1,1,-1,-1,1,-1,1,1,-1,1,1,-1,1,-1,1,1,1,1,1,-1,-1,-1,-1,-1,1,-1,-1,-1,-1,1,1,1,1,-1,-1,1,-1,1,1,1,-1,-1,-1,-1,-1,-1,-1,1,1,-1,1,-1,-1,-1,1,1,-1,1,1,-1,-1,-1,1,-1,-1,1,-1,1,1,-1,-1,1,1,-1,-1,1,-1,1,-1,1,-1,1,-1,1,1,1,-1,1,-1,-1,-1,-1,-1,-1,-1,-1,1,1,-1,-1,-1,1,-1,-1,-1,1,-1,-1,1,-1,1,1,1,1,-1,-1,1,-1,1,1,1,1,1,-1,-1,1,1,1,1,-1,-1,1,1,1,-1,-1,1,-1,1,1,-1,-1,-1,-1,-1,1,-1,1,-1,1,-1,-1,1,1,-1,-1,1,-1,1,-1,-1,-1,1,-1,1,1,-1,1,-1,1,-1,1,-1,-1,-1,1,1,-1,-1,-1,-1,-1,-1,-1,1,1,-1,1,-1,1,-1,-1,1,-1,-1,1,1,-1,-1,1,1,-1,-1,-1,1,1,1,1,1,-1,-1,-1,1,1,1,-1,-1,-1,-1,-1,1,-1,-1,-1,1,1,1,1,1,1,-1,1,1,1,1,-1,-1,-1,-1,-1,-1,1,-1,1]
[1,-1,1,1,1,1,1,-1,1,-1,-1,-1,-1,-1,-1,1,1,1,-1,-1,1,1,-1,-1,1,-1,-1,-1,1,-1,-1,-1,1,-1,-1,-1,1,1,1,1,1,-1,-1,1,1,1,1,-1,1,1,-1,4,-1,1,-1,-1,1,1,-1,-1,1,1,1,-1,-1,-1,-1,-1,-1,1,1,1,1,1,-1,-1,-1,-1,1,-1,1,-1,1,1,-1,1,-1,-1,-1,1,-1,-1,1,-1,-1,-1,-1,1,-1,-1,1,1,-1,1,-1,1,1,-1,-1,-1,1,1,1,1,-1,-1,1,1,-1,-1,-1,1,-1,1,-1,1,-1,1,-1,-1,-1,-1,-1,1,-1,-1,1,-1,-1,-1,-1,-1,1,1,-1,1,-1,1,1,-1,1,-1,-1,-1,-1,1,1,-1,1,-1,1,-1,1,-1,1,-1,1,1,1,-1,1,-1,1,1,-1,-1,1,1,1,1,1,-1,1,1,1,-1,1,-1,-1,-1,-1,-1,-1,1,1,1,-1,1,-1,-1,-1,1,1,-1,-1,-1,1,-1,-1,1,1,1,-1,-1,-1,1,1,-1,1,1,1,1,-1,1,-1,-1,1,1,1,-1,-1,-1,-1,-1,-1,-1,1,1,-1,-1,1,-1,1,-1,-1,-1,-1,1,1,-1,1,-1,1,1,-1,1]
[1,1,-1,-1,-1,1,1,1,-1,1,-1,-1,1,-1,-1,1,-1,-1,-1,-1,-1,-1,1,-1,1,1,1,-1,-1,1,1,-1,-1,-1,1,-1,1,-1,1,-1,1,-1,-1,-1,1,-1,1,-1,-1,-1,1,1,-1,-1,-1,-1,-1,1,-1,-1,1,-1,-1,1,1,-1,-1,-1,1,-1,-1,1,1,-1,1,-1,1,-1,1,-1,-1,-1,1,1,-1,-1,1,1,1,1,-1,-1,-1,1,-1,-1,-1,1,1,1,-1,1,1,-1,1,-1,1,1,-1,1,-1,1,1,-1,-1,1,1,1,-1,1,1,1,-1,1,1,-1,1,1,-1,-1,-1,1,-1,-1,1,1,1,-1,-1,-1,-1,1,1,-1,-1,1,-1,-1,1,-1,1,-1,1,1,1,-1,-1,-1,1,-1,-1,-1,-1,1,-1,1,1,1,1,-1,1,1,-1,1,-1,1,1,-1,-1,-1,1,-1,-1,-1,-1,1,1,-1,1,1,-1,-1,1,-1,-1,-1,-1,-1,-1,-1,-1,-1,1,-1,1,-1,1,1,-1,1,-1,1,-1,1,1,1,1,-1,-1,-1,-1,1,-1,-1,-1,1,-1,1,1,-1,1,-1,1,-1,1,-1,-1,1,-1,1,1,1,-1,-1,-1,-1,-1,-1,1,1,-1,1,-1,-1,-1,-1]
[1,1,1,-1,1,-1,-1,1,-1,-1,-1,-1,1,-1,1,1,-1,-1,1,1,-1,-1,1,1,1,-1,1,-1,1,-1,1,1,1,-1,1,1,1,1,-1,1,-1,-1,-1,1,1,-1,-1,-1,1,1,1,1,1,-1,1,1,-1,-1,-1,-1,-1,-1,-1,1,-1,-1,-1,-1,1,1,1,-1,-1,-1,1,1,-1,1,1,-1,1,1,-1,1,1,1,1,1,-1,1,1,-1,-1,1,1,1,-1,-1,-1,1,1,1,1,-1,-1,-1,1,-1,-1,1,-1,-1,1,-1,1,1,1,1,-1,1,1,1,-1,1,1,-1,1,1,1,1,1,1,1,1,-1,-1,1,-1,1,1,-1,1,1,1,1,-1,-1,-1,1,1,1,-1,1,1,-1,-1,1,-1,-1,1,-1,1,-1,1,1,-1,1,1,1,1,1,-1,-1,-1,-1,-1,-1,1,1,-1,1,1,-1,-1,-1,-1,-1,-1,1,-1,1,1,1,1,1,1,-1,1,-1,-1,1,1,1,1,-1,1,-1,1,-1,-1,1,-1,1,1,1,1,1,1,1,-1,1,1,-1,1,1,-1,-1,1,1,1,1,1,-1,1,-1,1,-1,-1,-1,-1,1,-1,-1,1,1,1,1,1,-1,1,1,-1,1,-1,1,1]
[1,1,1,1,1,1,1,1,1,1,-1,-1,1,-1,1,1,1,-1,1,1,1,-1,-1,-1,1,-1,-1,-1,-1,-1,1,-1,-1,-1,-1,-1,1,1,-1,1,-1,-1,1,-1,-1,1,-1,-1,1,1,-1,-1,-1,-1,-1,-1,1,-1,-1,1,-1,1,1,1,-1,1,1,-1,1,1,-1,1,1,-1,1,-1,1,1,-1,1,-1,1,-1,-1,1,1,1,-1,-1,-1,1,-1,-1,-1,-1,-1,1,-1,1,-1,-1,-1,-1,1,-1,1,-1,1,1,1,-1,1,-1,-1,-1,1,1,-1,-1,-1,1,-1,-1,1,-1,-1,1,-1,1,1,1,1,-1,-1,-1,-1,-1,1,-1,-1,-1,-1,-1,1,-1,1,-1,-1,-1,1,1,1,1,-1,1,1,1,-1,1,1,-1,1,1,1,1,-1,1,1,-1,-1,-1,1,1,1,-1,-1,1,-1,1,-1,1,1,1,-1,1,-1,1,-1,-1,1,-1,1,-1,1,-1,-1,1,-1,-1,-1,-1,-1,-1,1,-1,1,1,-1,1,-1,1,1,1,-1,1,-1,1,1,1,1,-1,1,1,1,1,-1,1,-1,-1,1,-1,1,-1,1,-1,-1,-1,1,-1,1,1,-1,1,-1,1,1,-1,1,1,-1,1,1,-1,-1,1,1]
[-1,-1,-1,-1,1,-1,-1,-1,-1,-1,-1,1,1,1,1,1,-1,-1,-1,-1,-1,1,-1,1,-1,1,1,-1,-1,-1,-1,1,-1,1,-1,-1,1,-1,-1,1,1,-1,1,-1,-1,-1,-1,1,1,1,1,1,-1,1,1,-1,1,-1,-1,1,-1,-1,1,-1,1,-1,1,-1,-1,-1,-1,1,-1,1,1,1,1,1,-1,1,1,1,-1,-1,-1,-1,-1,-1,1,1,-1,1,1,1,1,-1,-1,-1,-1,1,1,1,-1,1,-1,1,1,-1,1,1,1,-1,1,-1,-1,1,-1,-1,-1,1,1,-1,1,1,-1,1,1,-1,-1,1,1,-1,-1,-1,-1,-1,-1,-1,1,1,1,1,-1,-1,-1,1,1,-1,-1,1,-1,1,1,-1,-1,1,1,1,1,1,-1,1,-1,1,-1,-1,-1,1,-1,-1,1,1,1,1,-1,1,-1,-1,1,-1,-1,1,-1,-1,1,-1,1,-1,1,1,-1,1,1,-1,1,1,1,1,1,1,1,-1,1,1,1,-1,1,-1,-1,-1,-1,-1,-1,-1,1,-1,1,-1,1,1,1,1,1,1,1,1,-1,1,-1,-1,1,1,1,-1,1,-1,1,1,-1,-1,-1,-1,-1,1,-1,-1,1,-1,1,-1,1,-1,-1,1,-1,-1]
[-1,1,1,1,-1,1,-1,-1,-1,-1,1,-1,-1,-1,1,-1,-1,-1,-1,1,-1,-1,-1,1,-1,-1,-1,1,1,-1,-1,1,1,-1,-1,-1,-1,-1,-1,-1,1,1,-1,1,1,-1,1,-1,1,-1,-1,1,-1,1,1,-1,1,1,-1,-1,1,1,-1,1,-1,-1,1,1,-1,1,1,-1,-1,-1,-1,-1,-1,-1,1,-1,1,-1,-1,-1,-1,-1,-1,-1,1,1,-1,-1,1,1,1,-1,-1,1,-1,-1,-1,-1,-1,-1,1,1,-1,1,1,-1,1,1,-1,-1,1,-1,1,-1,-1,-1,-1,-1,-1,-1,1,1,1,-1,1,1,-1,1,-1,-1,1,1,-1,-1,1,-1,1,-1,1,1,-1,-1,1,1,-1,-1,1,1,1,1,1,-1,-1,-1,1,-1,-1,-1,-1,-1,-1,-1,-1,-1,-1,-1,-1,-1,1,1,1,1,1,-1,-1,-1,1,-1,1,-1,-1,-1,1,-1,-1,-1,-1,-1,-1,-1,1,-1,1,1,-1,-1,-1,-1,-1,-1,-1,1,1,-1,-1,-1,-1,-1,1,-1,-1,-1,-1,1,1,-1,1,1,-1,-1,-1,-1,-1,-1,1,-1,-1,-1,-1,1,-1,1,-1,1,1,-1,-1,1,1,1,1,-1,1,1,1,1,-1,1,1,-1,-1,1]
[1,-1,1,-1,1,1,1,-1,1,-1,1,1,-1,1,-1,-1,-1,-1,1,1,-1,-1,1,1,1,1,1,-1,1,-1,-1,1,1,-1,1,-1,1,-1,-1,-1,1,-1,1,1,-1,1,-1,-1,-1,1,-1,1,1,1,-1,-1,-1,1,1,1,1,-1,1,1,-1,1,-1,-1,1,-1,-1,-1,1,1,1,1,-1,-1,1,-1,-1,1,-1,-1,1,1,1,-1,-1,1,1,1,1,1,1,1,1,-1,-1,1,1,-1,1,1,-1,-1,1,-1,1,1,1,-1,-1,1,-1,-1,1,1,1,-1,-1,-1,1,-1,-1,1,1,1,1,1,-1,1,-1,1,-1,1,-1,-1,1,1,-1,-1,1,1,1,1,1,1,1,-1,-1,1,-1,1,1,1,-1,1,1,-1,1,-1,-1,1,-1,1,1,-1,1,1,1,-1,-1,-1,1,-1,1,1,-1,-1,-1,-1,-1,-1,-1,1,-1,1,-1,1,1,-1,-1,1,-1,-1,-1,-1,1,1,-1,1,-1,1,-1,1,1,1,1,-1,-1,1,1,-1,-1,-1,-1,1,-1,1,-1,1,1,1,-1,1,1,1,1,1,1,-1,1,1,1,1,-1,1,1,-1,1,1,1,1,-1,1,1,1,1,-1,1,1,-1,1,1,-1]
[-1,1,1,1,-1,-1,-1,-1,1,1,-1,-1,1,1,-1,-1,-1,-1,1,-1,1,1,1,-1,1,-1,-1,1,1,1,1,1,-1,1,-1,1,1,-1,1,-1,1,1,-1,4,1,1,-1,1,-1,-1,1,1,-1,1,-1,-1,1,-1,1,-1,1,1,-1,-1,1,-1,1,1,-1,-1,1,1,1,-1,1,1,1,-1,1,1,-1,1,-1,1,-1,-1,1,1,1,1,-1,-1,1,-1,1,1,-1,-1,1,1,1,-1,-1,1,1,-1,-1,1,1,-1,1,1,1,-1,1,1,-1,-1,1,-1,1,-1,-1,1,1,-1,-1,-1,-1,-1,-1,-1,-1,1,-1,1,1,-1,1,1,1,-1,-1,1,1,1,-1,-1,-1,1,-1,-1,-1,-1,1,1,-1,1,1,-1,-1,-1,-1,-1,1,1,-1,-1,1,-1,-1,-1,1,1,1,1,1,1,1,-1,-1,-1,-1,1,1,-1,-1,-1,-1,-1,-1,-1,1,1,1,1,-1,-1,1,1,1,-1,-1,-1,-1,-1,1,1,1,1,1,-1,1,1,-1,1,-1,-1,1,-1,-1,-1,-1,-1,1,1,1,-1,-1,-1,1,1,1,1,-1,1,1,1,1,-1,-1,1,1,-1,1,1,1,-1,-1,1,-1,-1,1,-1,-1,1]
[1,1,-1,-1,1,1,1,-1,-1,1,-1,1,-1,-1,1,1,1,-1,1,-1,1,-1,1,-1,1,-1,-1,-1,-1,1,-1,1,1,-1,1,-1,1,1,-1,1,1,-1,-1,-1,-1,1,-1,-1,-1,1,-1,-1,1,1,1,-1,1,-1,-1,-1,1,-1,1,-1,-1,-1,-1,-1,-1,-1,1,1,1,1,1,-1,-1,1,1,1,1,1,-1,-1,1,-1,1,1,1,1,-1,1,-1,-1,-1,-1,1,1,1,-1,1,1,1,-1,1,-1,1,-1,1,1,-1,1,1,1,1,1,1,1,1,1,1,-1,1,1,1,-1,-1,1,1,-1,-1,1,-1,-1,-1,-1,1,-1,1,-1,1,1,1,1,-1,-1,1,1,1,1,1,1,1,-1,-1,-1,-1,1,-1,-1,1,-1,-1,1,1,1,-1,-1,1,-1,1,-1,-1,1,-1,-1,1,-1,-1,1,-1,1,-1,-1,1,1,1,-1,1,-1,1,-1,1,1,1,-1,-1,1,1,-1,-1,1,1,-1,-1,-1,1,1,1,-1,1,-1,-1,1,1,-1,-1,-1,1,-1,1,-1,1,-1,1,1,1,1,1,1,-1,1,-1,-1,1,1,-1,-1,1,-1,1,-1,1,1,-1,1,-1,-1,-1,-1,-1,-1,1,1,-1,1]
[1,1,1,-1,-1,1,-1,1,1,1,-1,1,1,1,-1,-1,1,-1,1,-1,-1,1,-1,1,1,-1,1,-1,1,1,1,1,-1,1,-1,1,-1,1,-1,1,1,-1,-1,-1,-1,-1,1,-1,1,1,-1,1,-1,1,-1,-1,1,1,-1,-1,-1,1,-1,-1,-1,1,1,1,-1,-1,-1,1,-1,1,-1,-1,-1,-1,-1,1,1,-1,-1,1,-1,1,-1,-1,1,1,-1,-1,-1,-1,-1,-1,1,1,1,1,-1,1,-1,-1,1,-1,1,-1,-1,1,-1,1,-1,-1,1,1,-1,-1,-1,1,1,-1,-1,1,-1,1,1,-1,-1,-1,1,1,-1,1,-1,-1,-1,-1,-1,-1,1,-1,-1,-1,1,1,-1,-1,1,1,-1,-1,1,1,1,1,1,-1,-1,-1,1,1,-1,-1,1,1,1,1,1,-1,1,1,-1,-1,1,-1,-1,1,-1,1,-1,-1,-1,-1,1,1,-1,1,1,-1,1,-1,1,-1,-1,-1,1,-1,1,1,-1,-1,1,1,-1,-1,1,1,-1,-1,-1,-1,-1,1,-1,-1,-1,-1,1,-1,-1,1,1,1,-1,1,-1,-1,-1,-1,1,-1,-1,-1,-1,-1,-1,1,-1,-1,-1,-1,-1,-1,-1,1,-1,1,-1,-1,1,-1,-1,1,1,-1]
[1,1,-1,-1,-1,-1,-1,-1,-1,-1,-1,-1,1,-1,-1,1,-1,-1,-1,-1,1,-1,1,1,-1,1,1,-1,1,-1,-1,-1,1,1,1,-1,1,-1,-1,1,1,1,-1,-1,-1,-1,-1,1,1,1,-1,-1,1,-1,1,1,1,-1,-1,1,1,-1,-1,-1,1,1,-1,-1,1,-1,-1,1,-1,1,-1,1,1,1,-1,-1,1,1,-1,1,-1,-1,1,-1,1,1,-1,1,1,1,-1,1,1,1,-1,-1,-1,1,1,-1,1,1,-1,1,1,1,-1,1,1,-1,-1,-1,1,1,1,1,-1,1,1,1,-1,1,-1,1,-1,1,1,1,1,1,-1,1,1,-1,1,-1,-1,1,-1,-1,-1,-1,1,1,-1,1,-1,-1,-1,-1,-1,-1,1,1,1,1,1,1,1,1,1,-1,-1,-1,-1,1,1,-1,-1,1,1,-1,1,1,-1,-1,1,-1,1,-1,1,-1,1,1,-1,-1,1,1,1,1,-1,1,-1,1,-1,-1,-1,-1,1,1,1,1,-1,1,1,-1,1,1,-1,-1,1,-1,1,1,1,-1,1,-1,-1,-1,-1,1,1,-1,-1,-1,-1,1,-1,1,-1,-1,1,1,-1,1,-1,1,-1,-1,1,-1,1,1,-1,-1,-1,1,1,-1,1,1]
[-1,1,1,-1,1,-1,1,-1,1,1,1,-1,-1,1,1,-1,1,1,-1,1,-1,1,1,1,1,1,1,-1,1,-1,-1,1,1,-1,-1,1,1,1,1,-1,-1,-1,-1,-1,-1,-1,1,1,-1,1,1,-1,-1,-1,1,1,1,1,1,-1,1,-1,-1,1,1,1,1,-1,1,1,-1,-1,1,-1,-1,1,-1,1,-1,-1,1,-1,1,1,-1,-1,-1,1,1,-1,-1,1,-1,1,1,1,1,1,1,1,1,1,1,-1,-1,-1,-1,1,1,-1,1,-1,1,-1,-1,1,1,-1,1,1,-1,-1,1,-1,1,1,1,1,-1,-1,-1,-1,1,-1,1,1,1,-1,1,-1,-1,1,1,1,1,-1,-1,1,-1,1,1,-1,1,1,1,1,1,-1,1,1,1,1,1,-1,1,1,1,1,-1,-1,1,1,-1,1,-1,1,1,-1,1,-1,-1,-1,-1,1,-1,-1,-1,-1,1,-1,4,1,1,-1,-1,1,-1,1,1,-1,-1,1,-1,1,1,-1,1,1,-1,-1,1,-1,-1,1,1,1,1,1,-1,1,1,1,-1,-1,-1,-1,-1,-1,-1,-1,-1,-1,1,-1,-1,1,1,1,1,1,1,1,-1,1,1,-1,1,1,1,1,-1,1,-1,1,-1,-1]
[-1,1,1,-1,-1,-1,1,-1,-1,-1,1,-1,-1,1,1,-1,-1,-1,1,1,1,1,1,1,1,1,1,-1,1,1,1,-1,-1,-1,1,1,-1,-1,1,1,1,-1,1,1,-1,1,-1,1,1,1,-1,-1,-1,-1,1,-1,1,-1,1,-1,1,-1,1,1,1,-1,1,1,-1,1,-1,1,1,1,1,1,-1,-1,1,-1,1,1,1,1,1,-1,1,-1,-1,-1,-1,1,1,-1,-1,1,1,-1,-1,-1,1,1,1,1,-1,1,1,-1,1,-1,1,-1,-1,-1,-1,1,-1,1,-1,-1,1,1,1,-1,1,1,1,1,-1,1,-1,-1,-1,1,1,1,-1,-1,-1,1,1,1,1,-1,1,1,1,1,-1,1,-1,1,1,-1,1,-1,-1,1,1,1,-1,1,-1,-1,-1,1,1,1,-1,-1,1,-1,1,-1,-1,1,1,-1,-1,-1,1,1,1,1,-1,1,1,-1,-1,-1,1,-1,1,-1,-1,-1,-1,-1,1,-1,1,-1,1,1,1,1,-1,-1,1,-1,1,1,-1,1,1,1,-1,1,1,1,1,-1,-1,-1,1,1,-1,-1,1,-1,-1,-1,-1,1,1,-1,1,-1,-1,-1,1,-1,-1,-1,-1,1,1,-1,-1,-1,1,-1,1,-1,1,-1]
[1,1,1,1,-1,1,-1,1,-1,1,1,1,-1,1,-1,-1,-1,-1,-1,-1,-1,-1,-1,-1,1,1,-1,-1,-1,-1,1,1,-1,-1,-1,1,1,1,-1,1,-1,-1,1,1,1,-1,-1,1,1,1,-1,-1,-1,-1,-1,1,1,1,-1,1,1,-1,1,-1,1,-1,-1,1,-1,-1,1,1,-1,-1,-1,-1,-1,1,-1,-1,-1,1,-1,1,-1,-1,-1,-1,1,-1,1,-1,-1,-1,1,-1,1,1,1,1,1,-1,-1,-1,-1,1,-1,1,-1,-1,1,1,-1,1,1,-1,1,1,-1,1,-1,-1,1,-1,1,1,-1,-1,1,-1,-1,-1,1,1,1,1,1,1,-1,-1,1,-1,1,-1,1,1,-1,-1,1,1,1,1,1,1,1,1,-1,1,1,1,1,1,-1,-1,1,-1,-1,1,-1,-1,-1,-1,1,1,-1,-1,-1,1,1,1,-1,-1,-1,-1,-1,1,-1,1,-1,1,1,-1,1,-1,1,1,-1,1,-1,1,1,1,1,1,-1,1,-1,1,-1,-1,-1,-1,-1,-1,-1,-1,1,-1,1,-1,1,1,1,-1,-1,1,-1,1,-1,1,-1,-1,1,-1,1,-1,1,-1,-1,1,1,1,-1,1,-1,1,-1,-1,-1,1,-1,1,-1,1,-1,-1]
[-1,1,-1,1,-1,1,-1,1,1,1,1,1,1,-1,-1,1,-1,1,-1,1,-1,-1,-1,-1,1,1,1,1,-1,-1,1,1,1,1,1,-1,-1,-1,1,-1,-1,1,1,-1,-1,1,1,-1,-1,1,-1,1,1,1,-1,1,1,-1,1,-1,-1,-1,1,1,1,1,-1,-1,-1,1,-1,1,-1,1,-1,1,1,1,-1,-1,-1,-1,1,-1,-1,1,1,1,-1,-1,-1,1,1,-1,-1,-1,-1,-1,1,1,-1,-1,-1,1,-1,-1,-1,-1,1,1,1,1,-1,-1,-1,-1,-1,-1,1,1,-1,1,1,-1,1,1,-1,-1,1,-1,1,-1,-1,1,1,-1,1,1,1,-1,1,1,1,1,-1,1,1,-1,1,-1,-1,1,-1,1,-1,1,-1,1,1,-1,1,1,-1,-1,1,-1,1,1,-1,1,1,-1,1,1,1,1,1,1,-1,-1,1,1,-1,-1,-1,1,-1,1,1,1,-1,-1,1,1,1,1,1,-1,-1,1,-1,-1,1,-1,-1,1,1,-1,-1,1,1,-1,1,1,1,-1,1,1,-1,1,-1,-1,1,1,-1,-1,-1,1,1,-1,1,1,1,1,-1,-1,-1,1,-1,1,-1,1,-1,-1,-1,1,1,-1,1,-1,1,-1,1,1,1,-1]
[1,1,1,1,-1,-1,-1,1,-1,-1,-1,1,-1,1,1,-1,-1,-1,1,1,1,1,-1,1,-1,-1,1,-1,1,1,1,1,-1,1,1,1,1,-1,-1,1,-1,1,-1,1,1,1,1,1,-1,1,-1,1,-1,-1,1,1,-1,1,-1,1,1,-1,-1,1,-1,-1,1,-1,-1,-1,1,-1,1,-1,-1,-1,1,1,-1,-1,1,-1,-1,-1,-1,-1,1,-1,1,-1,-1,1,1,1,-1,1,-1,1,1,1,-1,1,1,1,1,-1,-1,1,1,-1,1,-1,-1,1,-1,-1,1,-1,1,-1,1,-1,1,1,-1,1,1,-1,-1,-1,-1,1,-1,1,-1,-1,1,-1,-1,-1,1,-1,-1,1,1,1,1,1,-1,-1,1,1,1,1,1,-1,-1,-1,1,-1,-1,-1,-1,-1,-1,-1,1,-1,-1,-1,1,-1,1,-1,1,1,-1,-1,1,-1,-1,-1,-1,-1,1,1,-1,1,1,1,-1,1,1,1,1,1,-1,-1,1,1,-1,1,1,-1,1,1,1,1,1,-1,-1,-1,-1,1,1,-1,1,-1,1,-1,1,1,-1,-1,-1,-1,1,1,1,-1,-1,-1,1,1,-1,1,-1,-1,-1,1,1,1,1,1,1,-1,-1,-1,-1,-1,1,-1,1,-1,1,1]
[1,1,-1,-1,1,1,1,1,1,-1,1,-4,-1,-1,-1,1,1,1,1,1,-1,1,-1,1,1,-1,-1,1,1,-1,1,1,1,1,-1,-1,-1,1,1,1,1,-1,-1,1,1,-1,1,-1,1,1,-1,1,-1,1,-1,1,1,-1,1,-1,-1,-1,1,1,1,1,-1,-1,1,-1,-1,-1,1,1,-1,-1,1,-1,-1,1,-1,-1,-1,-1,-1,-1,1,-1,-1,1,1,-1,1,-1,1,-1,-1,1,1,-1,1,-1,1,1,-1,-1,1,-1,-1,1,1,-1,-1,-1,1,1,1,-1,-1,1,-1,1,1,1,-1,-1,1,1,-1,1,1,1,-1,1,-1,1,1,-1,-1,1,-1,1,4,1,-1,1,1,1,-1,1,1,1,-1,-1,1,-1,1,-1,1,-1,-1,1,1,1,-1,-1,1,1,1,-1,1,1,1,1,1,-1,-1,1,1,-1,-1,1,-1,-1,1,1,1,1,-1,-1,1,1,1,-1,1,-1,1,-1,1,-1,1,1,1,1,-1,1,-1,1,1,-1,1,-1,1,-1,-1,-1,1,-1,1,1,-1,-1,1,1,1,1,-1,-1,-1,1,-1,-1,-1,-1,1,1,1,-1,-1,1,1,1,1,-1,1,-4,-1,1,-1,-1,-1,1,-1,1,-1,1]
[-1,1,1,-1,1,-1,-1,-1,1,1,1,-1,-1,1,-1,-1,1,-1,1,-1,1,1,-1,-1,-1,-1,1,-1,-1,-1,1,-1,-1,-1,-1,1,1,1,-1,-1,-1,1,-1,1,-1,-1,1,1,1,1,1,1,-1,1,-1,1,1,-1,-1,-1,-1,-1,-1,-1,1,-1,1,1,1,-1,-1,-1,-1,1,1,1,1,1,1,-1,-1,-1,1,1,-1,1,-1,1,-1,-1,-1,-1,1,1,-1,1,-1,1,1,1,-1,-1,1,1,1,-1,1,-1,-1,-1,1,-1,-1,-1,-1,1,1,-1,1,1,1,-1,-1,1,-1,-1,-1,-1,-1,1,-1,-1,1,1,1,1,1,1,1,-1,-1,1,-1,1,-1,-1,1,1,-1,-1,1,-1,1,1,1,-1,-1,-1,1,-1,1,-1,-1,-1,-1,-1,-1,1,1,-1,1,-1,-1,-1,-1,1,1,1,1,1,1,1,-1,1,-1,-1,-1,1,-1,-1,1,1,1,-1,-1,-1,1,1,1,-1,-1,-1,-1,-1,1,-1,1,-1,1,-1,-1,-1,-1,1,1,-1,1,-1,-1,1,-1,-1,-1,-1,-1,1,1,-1,1,-1,1,1,-1,1,1,1,1,1,1,-1,-1,-1,1,1,-1,1,1,1,-1,1,-1,1,1,-1,1,1]
[-1,-1,-1,1,1,-1,1,-1,1,1,1,1,-1,-1,-1,-1,1,1,1,1,1,-1,1,-1,1,-1,-1,-1,-1,-1,-1,1,1,1,-1,-1,-1,-1,-1,1,-1,1,1,-1,1,1,1,-1,1,1,1,-1,-1,1,-1,-1,1,-1,1,1,-1,1,1,-1,1,1,1,1,1,1,1,-1,-1,-1,1,1,-1,1,1,1,-1,1,1,-1,-1,-1,-1,-1,-1,-1,-1,1,-1,1,1,1,-1,-1,-1,-1,1,1,-1,-1,1,-1,1,-1,-1,1,1,-1,-1,1,-1,1,1,-1,-1,-1,1,-1,-1,1,-1,-1,-1,1,-1,-1,-1,-1,-1,1,-1,1,1,-1,-1,1,1,1,-1,1,1,-1,1,1,-1,-1,1,1,1,-1,1,-1,1,1,-1,1,1,1,1,-1,1,-1,1,1,-1,1,1,-1,1,-1,-1,-1,-1,1,-1,1,-1,-1,1,-1,-1,1,1,1,1,-1,1,1,1,1,-1,-1,1,1,-1,-1,1,1,-1,-1,1,1,1,-1,1,1,1,1,1,-1,1,1,-1,-1,-1,1,1,1,-1,-1,1,1,1,-1,1,1,1,1,1,1,1,1,-1,-1,-1,1,1,1,1,1,1,-1,1,1,-1,1,-1,-1,1,-1,-1,-1]
[-1,-1,-1,1,1,1,1,1,-1,-1,1,1,-1,1,1,1,-1,-1,-1,-1,1,1,1,-1,-1,-1,-1,-1,-1,-1,-1,-1,-1,1,1,-1,-1,1,-1,1,-1,1,1,-1,1,1,1,1,1,1,1,-1,1,1,-1,-1,1,1,-1,1,1,-1,-1,-1,1,1,-1,1,1,-1,1,1,1,1,1,1,-1,-1,1,1,-1,-1,-1,-1,-1,-1,-1,-1,-1,1,-1,-1,1,-1,1,-1,1,1,-1,1,-1,1,-1,1,-1,1,1,1,-1,-1,-1,-1,-1,-1,-1,-1,1,1,1,-1,1,-1,-1,-1,1,1,1,-1,-1,-1,-1,1,1,-1,-1,-1,1,-1,-1,1,1,-1,1,1,-1,-1,1,1,1,-1,1,-1,-1,-1,1,-1,1,-1,1,1,-1,1,-1,1,1,-1,1,1,-1,-1,-1,1,1,-1,-1,-1,1,-1,1,1,1,-1,-1,1,-1,1,-1,1,1,1,1,1,-1,1,1,-1,1,-1,1,-1,-1,1,1,1,-1,-1,-1,-1,-1,-1,-1,1,1,-1,-1,1,-1,1,1,-1,1,-1,-1,-1,1,-1,-1,-1,-1,1,-1,1,1,-1,-1,-1,1,1,1,-1,-1,-1,1,1,-1,-1,-1,1,1,-1,1,-1,-1,-1,1,-1]
[1,-1,1,-1,-1,1,-1,1,-1,-1,-1,-1,-1,-1,-1,1,1,1,1,-1,1,1,1,1,-1,-1,1,1,-1,1,-1,-1,-1,-1,-1,-1,1,-1,-1,-1,1,-1,-1,-1,1,-1,1,1,-1,-1,-1,-1,1,-1,1,1,-1,-1,1,-1,-1,-1,-1,1,1,1,-1,1,-1,-1,1,-1,1,1,1,1,1,1,1,-1,1,-1,-1,-1,1,1,-1,1,1,-1,-1,1,1,-1,-1,-1,-1,-1,1,1,1,1,-1,1,-1,-1,-1,-1,1,1,1,-1,-1,-1,1,1,-1,-1,1,-1,1,1,1,-1,-1,1,1,1,1,-1,-1,1,-1,1,-1,1,1,1,1,-1,1,-1,-1,1,1,-1,1,1,-1,1,1,1,-1,1,-1,1,-1,-1,-1,1,-1,1,1,1,-1,1,1,-1,-1,1,-1,-1,-1,-1,1,1,-1,-1,-1,-1,1,-1,1,1,-1,1,1,1,-1,-1,-1,1,1,-1,-1,-1,-1,-1,1,1,1,-1,-1,-1,1,-1,-1,1,-1,1,-1,-1,1,-1,1,1,-1,1,-1,1,1,1,1,-1,1,1,1,-1,1,-1,1,1,-1,-1,1,-1,1,-1,1,1,-1,-1,-1,-1,1,-1,1,-1,1,-1,-1,-1,1,1,-1,1]
[-1,-1,1,1,-1,1,-1,-1,1,1,-1,-1,1,-1,-1,1,-1,-1,-1,-1,1,1,-1,-1,1,1,1,1,-1,1,-1,-1,1,-1,1,1,-1,-1,-1,1,1,1,1,1,-1,-1,1,1,1,-1,1,1,-1,-1,-1,-1,1,1,-1,-1,1,1,1,1,1,-1,1,1,-1,-1,-1,-1,-1,1,1,1,-1,1,-1,-1,1,1,-1,-1,-1,-1,1,-1,-1,1,-1,-1,1,1,1,1,1,-1,-1,-1,1,-1,1,-1,-1,1,1,1,-1,-1,1,-1,1,1,1,1,1,-1,-1,-1,-1,-1,-1,1,1,1,1,-1,1,1,1,-1,1,-1,-1,-1,-1,-1,1,-1,-1,1,-1,1,1,1,-1,1,1,1,1,1,1,-1,-1,-1,-1,-1,-1,1,1,1,1,-1,-1,1,1,1,-1,1,-1,-1,1,1,1,1,-1,-1,-1,1,1,1,-1,-1,-1,1,1,1,-1,1,-1,-1,-1,1,-1,1,-1,1,1,1,1,1,1,-1,1,-1,-1,-1,-1,-1,-1,1,-1,-1,1,1,1,-1,1,-1,-1,1,1,-1,1,1,-1,-1,1,1,-1,1,1,1,1,-1,1,-1,-1,-1,-1,-1,1,-1,-1,1,1,-1,-1,-1,-1,-1,-1,1,-1,1]
[-1,1,-1,-1,-1,-1,-1,-1,1,1,1,-1,-1,1,1,-1,-1,1,1,-1,-1,1,-1,1,-1,-1,1,-1,-1,1,-1,1,-1,1,-1,1,-1,-1,-1,-1,-1,1,-1,-1,1,-1,-1,1,-1,-1,-1,1,1,1,-1,-1,-1,-1,-1,-1,-1,1,1,1,-1,-1,1,-1,-1,1,1,-1,1,-1,-1,1,1,1,-1,-1,-1,1,-1,-1,-1,1,1,1,-1,1,-1,1,-1,1,1,1,1,1,-1,1,-1,1,1,1,1,1,1,1,-1,1,1,-1,1,-1,-1,-1,1,-1,1,1,-1,-1,1,-1,-1,1,-1,-1,-1,1,1,1,1,1,1,1,1,1,-1,-1,1,-1,1,1,1,-1,-1,1,1,-1,1,-1,1,1,-1,-1,-1,-1,1,-1,-1,1,-1,-1,-1,-1,-1,1,-1,1,-1,1,-1,-1,1,-1,1,-1,1,1,1,-1,-1,-1,1,-1,-1,1,-1,1,1,1,-1,1,-1,1,-1,1,1,1,1,1,1,-1,-1,1,-1,1,-1,1,-1,1,-1,-1,-1,1,1,-1,1,-1,-1,-1,1,-1,-1,-1,1,1,-1,1,1,-1,-1,-1,-1,1,-1,-1,-1,-1,1,-1,1,-1,1,-1,1,1,1,-1,-1,1,1,1,-1,-1]
[-1,1,-1,-1,1,-1,-1,-1,1,-1,1,-1,1,1,-1,-1,1,1,-1,1,1,1,-1,1,1,-1,-1,-1,-1,1,1,-1,1,1,-1,-1,-1,-1,-1,1,1,1,-1,-1,-1,-1,1,-1,1,-1,1,1,1,1,1,-1,-1,-1,1,1,-1,1,1,-1,-1,1,-1,-1,1,1,-1,-1,-1,1,-1,-1,1,-1,-1,1,1,1,1,-1,-1,1,1,-1,1,1,1,-1,-1,1,-1,1,1,-1,-1,1,1,1,1,1,1,1,1,1,1,-1,-1,-1,-1,-1,-1,1,-1,1,-1,1,-1,1,-1,-1,1,1,1,-1,-1,1,1,-1,1,1,1,-1,1,1,-1,1,1,1,-1,-1,1,-1,1,1,-1,-1,1,1,-1,1,1,4,1,1,-1,1,1,1,-1,1,-1,1,1,-1,1,-1,-1,1,1,1,-1,-1,1,-1,1,1,1,-1,1,-1,1,-1,1,1,-1,1,1,1,-1,1,1,-1,-1,-1,-1,1,1,-1,1,1,1,1,-1,1,1,1,-1,-1,-1,1,-1,1,1,1,1,-1,1,1,1,1,-1,-1,-1,-1,1,-1,1,-1,-1,1,1,-1,1,1,1,1,-1,1,1,-1,1,1,1,-1,-1,-1,1,1,-1,1,1,1]
[1,1,1,1,1,-1,1,1,1,-1,-1,-1,1,1,1,-1,-1,-1,-1,-1,-1,-1,1,-1,-1,1,-1,1,1,-1,-1,-1,-1,1,1,1,-1,-1,-1,1,1,1,-1,1,-1,-1,1,1,-1,1,-1,-1,-1,1,-1,1,1,1,-1,1,1,1,-1,1,-1,-1,-1,1,1,-1,1,-1,1,-1,-1,1,-1,-1,-1,1,-1,-1,-1,1,-1,-1,1,1,-1,1,-1,-1,-1,-1,1,1,1,1,1,-1,1,1,-1,-1,-1,-1,1,1,1,1,1,-1,1,-1,1,1,1,-1,-1,-1,1,-1,1,-1,-1,-1,1,1,1,-1,-1,1,1,1,-1,-1,1,1,1,-1,-1,-1,-1,1,1,-1,-1,-1,1,1,1,1,-1,-1,1,-1,-1,-1,-1,1,-1,-1,1,-1,1,-1,1,1,-1,1,-1,-1,1,1,-1,1,-1,1,-1,-1,1,-1,1,-1,1,1,-1,-1,-1,-1,-1,-1,1,-1,1,1,-1,1,-1,1,1,1,-1,-1,1,-1,1,1,1,1,1,1,1,-1,-1,-1,-1,1,1,1,-1,-1,-1,1,-1,1,-1,1,-1,1,1,1,-1,-1,1,-1,-1,1,-1,1,1,1,1,-1,1,1,1,-1,-1,1,-1,1,-1,1,-1,1]
[1,1,1,-1,-1,-1,1,1,1,1,-1,-1,1,1,1,1,1,1,1,1,1,1,-1,-1,1,1,-1,-1,1,1,1,-1,1,-1,1,1,1,-1,1,-1,1,1,-1,1,1,1,1,1,-1,-1,1,1,-1,1,1,1,-1,1,-1,-1,-1,-1,-1,1,1,-1,1,-1,-1,1,1,-1,-1,-1,-1,1,1,-1,1,1,-1,-1,-1,1,-1,-1,1,-1,1,-1,1,1,-1,-1,-1,-1,-4,-1,-1,-1,-1,1,-1,1,1,-1,1,1,1,-1,1,1,1,-1,1,1,1,1,-1,-1,1,1,-1,-1,-1,1,1,1,1,1,-1,1,-1,1,-1,1,1,1,1,-1,1,1,-1,1,-1,1,1,-1,-1,1,1,-1,-1,-1,1,-1,1,-1,-1,-1,1,-1,1,1,1,-1,-1,1,-1,-1,-1,-1,-1,-1,1,-1,-1,-1,-1,1,-1,1,-1,-1,-1,-1,1,1,1,1,1,-1,1,1,-1,-1,-1,1,-1,-1,-1,1,1,1,1,1,1,-1,1,-1,-1,1,1,1,-1,1,1,-1,-1,-1,-1,1,1,1,-1,1,1,-1,1,-1,-1,1,-1,1,-1,1,-1,-1,1,-1,-1,1,1,-1,1,1,1,1,1,1,-1,1,1,-1,1,1]
[-1,-1,-1,-1,-1,-1,1,1,1,-1,1,-1,1,-1,1,-1,-1,1,-1,-1,1,-1,1,1,1,1,1,-1,1,1,1,-1,-1,1,1,1,-1,-1,1,1,1,1,-1,1,1,1,-1,-1,1,1,1,-1,-1,1,-1,-1,1,-1,1,1,-1,-1,1,-1,1,1,1,-1,-1,1,1,1,1,-1,1,-1,-1,-1,1,-1,1,1,1,1,-1,1,-1,-1,-1,-1,1,1,1,1,1,1,-1,-1,1,-1,1,-1,1,1,-1,-1,-1,1,1,1,1,-1,-1,-1,-1,1,1,-1,-1,-1,1,1,-1,1,-1,1,-1,-1,-1,-1,-1,-1,1,-1,-1,-1,1,1,1,-1,-1,1,-1,1,1,1,1,1,1,1,1,1,1,-1,-1,1,-1,1,1,-1,1,1,1,1,1,-1,-1,1,-1,1,-1,-1,-1,1,-1,-1,-1,-1,1,1,1,1,1,1,-1,-1,1,-1,1,-1,1,-1,-1,-1,-1,1,-1,-1,-1,-1,-1,1,1,1,-1,-1,-1,-1,-1,-1,1,-1,-1,-1,-1,-1,-1,1,1,-1,1,1,-1,1,-1,1,-1,-1,1,1,-1,1,-1,1,1,-1,-1,-1,1,-1,1,1,-1,-1,-1,1,-1,-1,-1,-1,-1,-1,1,1,1,1]
[1,-1,1,-1,-1,1,1,1,-1,1,-1,1,1,-1,1,-1,-1,1,1,1,-1,1,-1,1,-1,-1,-1,-1,-1,1,1,-1,-1,-1,-1,1,-1,-1,-1,1,1,-1,1,1,-1,-1,1,1,1,1,-1,-1,1,1,-1,1,-1,-1,-1,1,1,1,-1,-1,-1,1,1,1,1,-1,-1,-1,1,1,1,1,1,-1,1,-1,1,-1,-1,-1,-1,1,1,-1,1,1,1,1,-1,-1,-1,-1,1,-1,-1,1,-1,1,1,1,-1,-1,1,1,1,-1,1,-1,1,1,1,1,-1,1,-1,1,1,1,1,1,1,-1,-1,1,1,-1,-1,-1,1,1,-1,1,1,-1,1,-1,-1,-1,-1,-1,1,1,-1,1,-1,1,-1,1,1,1,-1,-1,-1,1,-1,-1,-1,-1,-1,-1,-1,1,1,1,-1,-1,1,1,-1,-1,1,1,-1,1,-1,-1,1,-1,1,1,-1,1,1,1,1,-1,-1,-1,-1,-1,1,-1,-1,-1,1,1,-1,-1,-1,1,1,-1,-1,1,1,-1,1,1,-1,-1,1,1,1,1,1,1,-1,1,-1,1,1,-1,-1,-1,1,1,1,-1,1,1,1,-1,1,-1,-1,-1,1,1,-1,-1,-1,1,-1,-1,1,1,-1,1,-1,-1,1,-1]
[-1,-1,1,-1,1,-1,1,1,-1,-1,1,-1,-1,-1,-1,1,-1,1,-1,-1,1,1,1,1,1,-1,-1,1,-1,-1,1,1,1,1,1,-1,1,-1,-1,-1,1,-1,1,-1,1,1,-1,1,-1,-1,1,1,1,-1,-1,1,1,1,1,1,1,-1,-1,-1,1,-1,1,-1,1,1,1,-1,1,1,1,1,1,-1,-1,-1,-1,1,-1,1,1,1,1,1,1,1,1,1,1,-1,1,-1,-1,1,-1,-1,-1,-1,-1,-1,1,1,-1,1,1,1,-1,1,1,-1,1,-1,1,1,1,-1,-1,-1,1,-1,-1,1,-1,1,-1,-1,-1,-1,-1,-1,1,-1,-1,1,1,1,1,1,-1,-1,-1,-1,-1,-1,-1,1,1,1,1,1,1,1,-1,1,-1,1,-1,-1,-1,1,-1,1,-1,-1,-1,1,1,1,1,1,1,1,1,1,1,-1,-1,-1,-1,1,-1,1,1,-1,1,-1,-1,-1,-1,-1,1,-1,-1,1,-1,1,-1,-1,-1,-1,1,1,1,1,-1,1,-1,1,-1,-1,1,1,-1,-1,-1,1,1,1,-1,-1,-1,1,-1,1,-1,-1,1,-1,-1,1,1,-1,1,-1,1,-1,1,-1,-1,1,1,-1,-1,-1,1,-1,1,-1,-1,1,-1,-1]
[1,1,1,-1,-1,1,1,-1,1,-1,-1,1,-1,1,-1,-1,1,1,-1,-1,1,1,1,1,-1,1,1,-1,-1,1,-1,1,1,1,-1,-1,-1,1,1,1,1,1,1,-1,1,1,-1,-1,-1,1,-1,1,1,-1,-1,1,-1,1,1,-1,-1,1,-1,-1,1,1,1,-1,-1,1,1,-1,1,1,1,1,1,1,-1,1,1,1,1,1,1,1,1,1,-1,1,-1,-1,-1,-1,-1,-1,1,1,-1,-1,1,1,1,-1,1,1,-1,1,1,1,-1,1,1,1,-1,-1,-1,1,1,-1,-1,1,-1,-1,-1,-1,-1,-1,1,-1,-1,-1,1,1,-1,1,-1,1,-1,1,1,1,1,1,1,1,-1,-1,1,1,1,-1,1,1,1,1,1,1,1,1,1,-1,-1,-1,-1,1,1,-1,1,-1,1,1,1,1,-1,1,1,1,1,-1,-1,1,1,1,-1,-1,-1,-1,1,-1,1,-1,1,1,1,-1,-1,1,-1,1,-1,-1,1,1,1,-1,1,1,1,-1,-1,-1,-1,1,1,-1,1,-1,1,-1,-1,1,-1,-1,1,1,-1,-1,-1,-1,1,1,-1,1,1,1,1,1,-1,1,1,-1,1,1,1,1,1,-1,1,-1,-1,1,1,-1,-1,1]
[1,-1,-1,-1,-1,1,-1,-1,-1,-1,-1,-1,1,1,-1,-1,1,-1,1,-1,-1,-1,-1,-1,1,1,1,1,-1,1,1,-1,-1,1,-1,1,-1,1,-1,-1,-1,1,-1,1,-1,1,-1,-1,-1,-1,1,1,-1,-1,1,1,-1,1,1,1,1,-1,-1,1,1,-1,1,1,-1,1,1,-1,-1,-1,1,-1,-1,-1,-1,-1,-1,1,-1,1,1,-1,-1,1,-1,1,-1,-1,1,-1,1,1,1,-1,1,1,-1,-1,1,-1,-1,1,-1,-1,1,-1,1,1,1,-1,-1,1,1,1,1,-1,-1,-1,-1,-1,1,-1,-1,-1,-1,-1,1,1,1,-1,1,-1,-1,-1,-1,-1,-1,1,1,1,1,1,-1,1,-1,-1,1,-1,1,-1,-1,-1,1,-1,1,1,-1,-1,1,-1,1,1,1,-1,-1,-1,-1,1,-1,-1,-1,-1,-1,1,1,1,-1,1,1,1,-1,1,-1,-1,1,-1,-1,-1,-1,1,1,-1,-1,-1,1,-1,-1,-1,-1,1,-1,-1,-1,1,1,-1,-1,4,1,1,-1,1,1,1,1,1,-1,-1,1,1,1,1,-1,-1,-1,1,1,-1,1,-1,-1,1,-1,1,-1,-1,1,1,-1,1,-1,-1,1,1,-1,1,1,-1,-1,-1,1,1]
[1,1,1,-1,1,-1,1,-1,-1,1,1,1,-1,-1,-1,-1,-1,-1,-1,1,1,-1,1,-1,-1,-1,1,-1,-1,-1,1,-1,1,-1,-1,-1,-1,1,1,1,1,1,-1,-1,1,-1,1,1,1,-1,1,-1,1,1,-1,-1,-1,1,1,-1,1,-1,-1,-1,-1,1,-1,-1,1,1,1,1,1,1,-1,1,-1,1,-1,-1,-1,-1,1,1,-1,-1,-1,-1,-1,1,-1,1,1,-1,1,-1,1,1,-1,-1,-1,-1,1,1,1,1,1,1,1,-1,-1,1,-1,1,1,-1,1,-1,1,1,1,1,-1,1,-1,-1,1,1,1,1,-1,1,-1,-1,1,-1,-1,-1,1,1,-1,-1,1,-1,1,-1,-1,-1,1,-1,-1,-1,-1,1,-1,-1,-1,-1,-1,-1,-1,-1,-1,1,-1,1,-1,1,1,-1,-1,1,-1,-1,-1,-1,-1,-1,1,-1,-1,1,-1,-1,-1,1,1,1,-1,1,-1,-1,1,-1,-1,-1,1,1,-1,-1,-1,1,1,1,-1,-1,1,-1,-1,1,1,-1,1,1,-1,-1,1,1,1,1,-1,-1,1,1,-1,-1,1,1,-1,1,-1,1,1,1,1,1,1,-1,1,1,-1,-1,1,1,-1,1,-1,1,1,-1,1,1,-1,1,-1,1]
[-1,1,-1,-1,-1,1,1,1,1,1,1,-1,1,-1,-1,-1,-1,-1,-1,-1,-1,-1,1,1,1,-1,1,-1,-1,1,1,1,1,1,-1,1,-1,1,-1,-1,1,1,1,-1,1,1,1,-1,-1,1,1,1,-1,1,-1,1,1,-1,-1,1,1,1,-1,-1,1,-1,-1,1,1,-1,-1,-1,1,-1,-1,-1,1,1,1,-1,1,-1,1,1,-1,1,-1,1,-1,1,-1,-1,-1,-1,-1,-1,1,1,1,-1,1,-1,-1,-1,-1,-1,-1,1,-1,-1,1,1,1,1,-1,-1,-1,-1,1,-1,-1,-1,1,-1,-1,1,1,-1,1,-1,-1,1,1,1,1,1,1,-1,1,-1,-1,1,1,-1,1,1,1,1,1,1,-1,-1,1,-1,1,1,-1,-1,1,1,1,1,1,-1,-1,-1,1,-1,-1,-1,1,1,1,1,1,-1,1,-1,-1,-1,-1,-1,1,1,1,1,-1,1,1,-1,-1,-1,-1,-1,-1,-1,1,-1,1,-1,1,1,-1,1,1,-1,-1,-1,1,1,1,-1,-1,-1,1,-1,1,1,1,-1,1,1,-1,1,1,1,1,1,-1,-1,-1,-1,-1,1,1,1,1,-1,1,1,1,-1,1,-1,-1,1,-1,-1,1,1,1,1,1,-1,-1,-1]
[-1,-1,-1,-1,-1,-1,1,-1,-1,-1,-1,1,1,1,1,1,-1,1,1,-1,-1,1,1,1,-1,-1,-1,-1,1,-1,-1,1,1,-1,-1,-1,1,-1,1,-1,-1,1,1,-1,1,1,1,-1,1,1,-1,-1,1,1,1,-1,1,1,1,-1,-1,1,-1,1,-1,-1,1,-1,-1,-1,-1,-1,1,-1,1,-1,1,1,1,1,-1,-1,1,1,-1,-1,1,-1,1,-1,-1,-1,1,1,-1,1,-1,-1,1,-1,-1,1,-1,-1,-1,1,1,1,1,1,-1,-1,-1,-1,-1,1,-1,1,1,1,1,1,1,1,-1,-1,-1,-1,-1,1,-1,1,-1,1,-1,-1,1,-1,1,1,-1,-1,-1,1,-1,1,1,-1,-1,1,1,1,1,-1,-1,-1,-1,-1,-1,-1,-1,-1,-1,-1,1,1,-1,1,1,-1,1,-1,1,-1,-1,-1,1,1,1,4,-1,-1,-1,-1,-1,1,-1,-1,-1,-1,-1,1,-1,1,1,-1,1,1,1,-1,1,-1,1,1,-1,1,1,-1,1,1,1,-1,-1,-1,-1,1,-1,1,1,-1,-1,-1,-1,-1,1,-1,-1,1,1,-1,1,1,-1,1,1,1,-1,1,1,1,1,1,1,1,-1,-1,-1,1,-1,1,-1,-1,-1,-1,1,1]
[1,1,-1,1,1,1,1,-1,-1,1,-1,-1,-1,1,1,-1,1,-1,-1,1,-1,-1,-1,1,-1,1,1,1,1,-1,1,-1,-1,-1,-1,-1,1,1,1,1,1,-1,1,-1,-1,-1,1,1,-1,1,-1,1,-1,-1,1,-1,1,1,1,1,1,1,-1,-1,-1,1,1,-1,-1,1,1,-1,1,-1,1,-1,1,-1,1,1,1,1,-1,-1,1,1,1,-1,-1,1,-1,1,-1,-1,-1,1,-1,-1,-1,1,-1,-1,1,1,1,1,-1,-1,1,-1,1,1,-1,-1,1,1,-1,-1,1,-1,1,1,1,1,-1,-1,1,-1,-1,1,1,-1,-1,-1,-1,-1,-1,-1,1,-1,-1,1,1,1,1,1,-1,1,-1,1,1,-1,1,1,1,-1,-1,-1,-1,-1,1,-1,-1,-1,1,1,1,1,-1,1,-1,1,-1,1,1,1,1,-1,-1,-1,1,1,1,1,-1,1,-1,1,-1,1,-1,1,1,-1,-1,1,1,1,1,1,-1,1,-1,-1,1,1,1,-1,1,-1,1,1,-1,-1,1,1,1,1,1,1,-1,1,1,1,1,1,1,1,1,1,-1,1,1,-1,-1,1,-1,1,-1,1,-1,-1,-1,-1,-1,-1,1,1,-1,1,1,1,1,1,-1,1]
[1,-1,-1,-1,-1,-1,-1,-1,1,-1,1,1,-1,-1,1,1,-1,1,-1,-1,-1,1,-1,-1,-1,-1,-1,1,-1,-1,-1,1,1,-1,-1,-1,1,1,1,1,1,-1,1,-1,1,-1,-1,1,1,-1,1,-1,1,-1,1,1,-1,-1,1,1,1,1,1,-1,-1,1,1,1,1,-1,-1,-1,-1,1,1,1,-1,-1,-1,-1,1,1,1,-1,-1,1,-1,1,1,-1,1,-1,-1,1,-1,1,-1,1,-1,1,-1,-1,-1,-1,-1,-1,1,-1,1,1,1,1,-1,1,1,1,-1,-1,1,-1,-1,-1,1,-1,-1,-1,1,1,1,-1,-1,1,1,-1,1,1,-1,-1,1,1,1,-1,1,-1,1,1,1,-1,-1,-1,-1,-1,1,1,1,1,-1,1,1,-1,1,-1,1,1,-1,1,1,-1,1,-1,1,1,1,1,-1,1,-1,1,-1,1,-1,-1,-1,1,1,-1,-1,1,-1,1,-1,1,-1,1,-1,-1,-1,-1,1,1,-1,1,-1,1,1,1,1,1,1,-1,-1,-1,1,1,-1,1,1,1,-1,1,-1,-1,1,-1,1,1,1,-1,1,1,1,1,-1,1,1,-1,-1,1,1,1,-1,1,1,-1,-1,1,-1,1,-1,1,1,1,1,1,1,-1]
[-1,-1,-1,1,1,-1,1,-1,1,1,1,-1,1,1,1,-1,-1,1,-1,1,1,-1,1,1,1,-1,-1,1,1,-1,1,1,1,1,-1,-1,-1,-1,-1,-1,1,-1,-1,1,-1,1,-1,-1,-1,-1,-1,1,-1,1,1,-1,-1,1,1,-1,-1,1,1,1,1,-1,-1,-1,-1,1,-1,1,1,1,1,1,-1,1,1,1,1,1,1,-1,1,1,-1,-1,-1,1,-1,-1,1,1,1,-1,1,1,-1,1,1,1,1,-1,-1,1,-1,1,-1,1,-1,1,1,1,1,-1,-1,1,1,1,-1,1,-1,-1,-1,-1,1,1,-1,-1,1,1,1,1,1,-1,1,-1,-1,-1,-1,-1,-1,1,1,-1,-1,1,-1,-1,-1,1,1,-1,-1,-1,-1,1,-1,-1,-1,-1,-1,-1,1,-1,-1,-1,-1,1,1,1,1,-1,-1,-1,-1,1,1,1,1,1,-1,1,1,1,-1,-1,-1,-1,-1,1,1,-1,-1,1,-1,1,1,1,-1,-1,-1,1,-1,-1,1,1,1,-1,-1,-1,1,-1,-1,1,-1,1,-1,1,1,1,1,-1,1,1,1,1,1,1,-1,-1,1,1,-1,1,1,1,-1,-1,1,-1,-1,1,1,1,-1,1,-1,1,-1,1,-1,1,-1,1]
[-1,-1,-1,1,-1,-1,1,-1,-1,1,1,-1,-1,1,1,-1,-1,1,-1,-1,1,-1,1,1,1,-1,-1,-1,1,1,-1,1,-1,-1,1,-1,-1,-1,-1,-1,1,1,-1,-1,1,-1,-1,-1,-1,-1,-1,-1,-1,-1,-1,1,1,-1,1,-1,1,-1,1,1,-1,-1,-1,-1,1,-1,1,-1,-1,1,-1,1,1,1,-1,1,-1,-1,-1,-1,1,-1,-1,-1,1,1,1,-1,1,1,-1,1,1,1,1,1,1,1,-1,1,-1,1,-1,-1,-1,1,-1,1,-1,1,-1,1,-1,1,1,1,-1,1,-1,-1,-1,1,1,1,-1,-1,1,1,1,-1,1,-1,-1,-1,-1,1,1,1,-1,-1,-1,1,1,-1,1,1,-1,-1,-1,1,-1,-1,1,-1,1,1,1,-1,-1,-1,-1,-1,-1,-1,1,1,1,-1,1,1,-1,-1,-1,-1,1,-1,1,1,1,1,-1,-1,1,-1,1,1,1,1,-1,-1,1,1,-1,-1,-1,-1,-1,1,1,-1,1,-1,-1,1,-1,-1,-1,1,1,-1,1,-1,1,-1,1,-1,-1,-1,1,-1,-1,-1,1,-1,-1,1,-1,1,-1,1,1,-1,1,1,1,1,1,1,1,1,-1,1,1,1,1,-1,1,-1,-1,1,-1,-1]
[-1,1,-1,1,1,1,-1,1,-1,-1,-1,-1,1,1,-1,-1,1,-1,-1,-1,1,-1,1,-1,1,-1,-1,-1,-1,-1,-1,-1,-1,1,1,1,-1,1,1,-1,1,1,-1,-1,-1,-1,1,1,-1,-1,-1,1,-1,-1,1,1,-1,-1,1,-1,1,1,-1,1,1,1,-1,1,1,1,-1,1,1,-1,1,1,-1,1,-1,1,-1,-1,-1,-1,1,1,-1,1,-1,1,-1,1,1,-1,1,1,1,1,-1,1,-1,1,1,-1,-1,1,-1,-1,1,1,-1,-1,1,-1,-1,1,-1,-1,1,-1,1,-1,-1,-1,-1,-1,1,-1,1,1,-1,1,1,-1,1,-1,-1,-1,-1,-1,1,-1,1,-1,-1,1,1,-1,-1,-1,1,-1,-1,1,-1,-1,1,1,1,-1,-1,1,-1,1,-1,1,1,1,1,1,-1,1,-1,1,-1,1,1,1,1,1,-1,1,-1,-1,1,-1,1,-1,-1,1,-1,1,-1,-1,-1,-1,1,1,-1,-1,-1,1,-1,1,-1,-1,-1,-1,-1,1,-1,-1,-1,1,1,1,-1,1,-1,1,-1,1,1,1,-1,-1,-1,1,-1,1,-1,-1,-1,1,-1,1,1,-1,1,1,-1,-1,1,-1,1,1,-1,-1,-1,-1,1,1,1,1,1,1]
[-1,1,1,1,-1,1,-1,-1,1,1,-1,1,-1,-1,1,-1,-1,-1,1,-1,1,1,-1,-1,-1,1,-1,-1,-1,1,-1,-1,1,-1,1,1,1,-1,1,1,-1,1,-1,1,-1,-1,-1,-1,-1,1,-1,-1,1,-1,-1,1,-1,1,-1,-1,-1,-1,-1,1,-1,-1,-1,-1,-1,-1,1,-1,1,1,1,-1,-1,1,1,-1,-1,-1,1,1,1,-1,-1,-1,1,1,1,-1,1,-1,1,1,-1,1,1,1,1,-1,1,1,-1,1,-1,1,1,1,1,-1,-1,1,-1,-1,-1,1,1,1,-1,-1,-1,-1,-1,-1,1,1,-1,-1,-1,1,1,1,-1,1,-1,-1,1,-1,1,1,1,1,-1,-1,-1,-1,-1,1,1,1,-1,-1,1,-1,1,-1,-1,-1,-1,-1,-1,1,1,1,1,1,-1,-1,-1,-1,1,-1,1,1,-1,1,-1,1,-1,-1,1,-1,1,-1,-1,-1,-1,-1,-1,-1,-1,-1,1,1,-1,1,1,-1,-1,1,1,1,1,1,-1,1,1,-1,1,1,-1,1,-1,1,-1,-1,1,-1,-1,-1,-1,-1,1,1,1,1,-1,1,1,1,1,-1,1,1,-1,-1,1,-1,-1,1,1,-1,-1,-1,-1,-1,1,-1,-1,-1,1,-1,1,-1]
[1,1,1,-1,-1,-1,1,-1,1,1,-1,-1,-1,-1,1,-1,1,1,-1,-1,-1,1,-1,-1,1,-1,1,-1,1,-1,1,1,1,1,1,-1,-1,-1,1,-1,1,1,1,-1,1,-1,1,-1,-1,1,-1,-1,1,-1,-1,1,1,1,1,1,1,-1,-1,1,-1,-1,-1,1,1,-1,-1,1,1,1,1,1,-1,1,-1,-1,1,1,1,1,-1,1,1,1,1,1,-1,-1,1,-1,1,1,1,-1,1,1,-1,1,1,1,1,1,-1,-1,-1,-1,-1,1,1,-1,1,-1,1,1,1,1,1,-1,1,-1,1,1,1,1,-1,1,-1,-1,-1,1,-1,1,1,1,1,1,-1,-1,-1,1,1,-1,-1,-1,-1,1,1,-1,1,1,1,-1,-1,-1,1,1,-1,1,1,-1,-1,-1,1,-1,-1,1,1,1,1,1,1,1,1,-1,-1,-1,-1,1,1,-1,-1,1,-1,1,1,-1,-1,-1,1,-1,1,1,-1,-1,-1,1,-1,1,-1,-1,-1,1,-1,-1,1,-1,-1,-1,1,1,-1,1,1,1,-1,-1,-1,-1,-1,-1,1,-1,-1,-1,1,1,1,-1,-1,1,1,-1,-1,-1,1,-1,1,-1,1,-1,-1,1,1,-1,1,-1,-1,-1,-1,-1,-1,1]
[1,-1,-1,-1,1,-1,1,-1,1,1,-1,1,1,-1,-1,-1,1,1,1,-1,1,1,-1,1,1,-1,1,-1,1,-1,-1,1,1,1,-1,-1,-1,-1,-1,-1,-1,-1,1,1,1,-1,1,1,1,-1,1,1,1,1,1,-1,1,1,-1,-1,1,-1,1,1,-1,-1,1,-1,-1,1,1,-1,1,-1,-1,-1,1,1,-1,-1,1,-1,1,1,-1,1,1,1,1,-1,-1,1,-1,-1,-1,-1,-1,1,-1,-1,-1,-1,-1,1,-1,1,1,-1,-1,-1,1,-1,-1,1,1,1,-1,-1,1,1,1,1,1,-1,1,1,-1,1,-1,-1,-1,1,1,1,1,1,-1,-1,-1,1,1,1,1,-1,1,1,-1,1,1,1,-1,-1,-1,1,-1,-1,-1,-1,-1,-1,1,1,1,1,1,1,1,1,-1,1,1,1,1,-1,1,1,1,-1,-1,1,-1,1,-1,1,1,1,1,1,-1,-1,1,-1,-1,-1,1,1,-1,-1,-1,1,-1,-1,-1,-1,-1,-1,-1,1,1,-1,-1,1,-1,1,1,-1,-1,-1,1,1,-1,1,1,-1,-1,1,-1,1,-1,-1,-1,-1,-1,1,-1,1,-1,1,1,-1,-1,1,1,1,1,1,-1,-1,1,1,-1,-1,-1,-1,-1,-1]
[1,1,1,-1,-1,1,-1,-1,-1,-1,1,1,-1,1,-1,-1,1,1,1,1,-1,-1,1,1,1,-1,-1,1,1,1,-1,1,1,1,1,-1,1,-1,-1,1,-1,1,-1,1,1,-1,1,1,1,1,1,1,-1,-1,1,1,-1,-1,1,1,-1,1,1,-1,1,1,1,1,-1,1,1,1,1,-1,-1,-1,-1,-1,-1,1,1,1,-1,-1,-1,1,-1,-1,1,-1,-1,1,1,1,-1,-1,1,-1,1,1,-1,-1,1,-1,1,1,-1,1,-1,-1,-1,-1,-1,1,1,-1,1,-1,-1,-1,1,1,-1,-1,1,-1,-1,1,-1,-1,1,-1,-1,1,1,-1,-1,-1,1,1,1,-1,-1,-1,1,1,-1,-1,1,-1,1,-1,-1,-1,-1,-1,-1,-1,1,-1,-1,-1,-1,-1,1,1,-1,1,1,-1,-1,1,1,1,-1,-1,1,1,1,1,1,-1,-1,-1,-1,1,1,1,1,1,1,-1,-1,1,1,-1,1,1,-1,-1,1,1,1,-1,-1,1,1,1,-1,1,-1,-1,-1,1,-1,-1,-1,1,1,-1,-1,-1,1,-1,-1,-1,-1,-1,1,-1,-1,-1,1,1,1,1,1,-1,1,-1,-1,-1,-1,-1,-1,-1,1,-1,-1,-1,1,-1,-1,-1,1,-1]
[1,1,1,1,-1,-1,-1,1,-1,1,-1,1,-1,-1,-1,1,-1,1,1,1,-1,1,-1,-1,1,-1,1,1,1,-1,-1,1,-1,1,1,-1,1,1,1,1,-1,-1,-1,1,1,1,1,1,1,1,1,1,-1,-1,-1,-1,-1,1,-1,-1,-1,1,-1,-1,1,-1,-1,-1,-1,-1,1,-1,1,-1,1,-1,1,-1,-1,1,1,1,-1,1,-1,1,1,-1,1,-1,-1,1,1,1,1,1,-1,1,-1,1,-1,1,1,-1,1,-1,-1,1,1,-1,1,1,1,1,-1,-1,1,1,1,1,-1,1,1,1,-1,1,-1,-1,1,-1,1,-1,-1,-1,1,-1,-1,1,-1,1,1,1,1,-1,-1,1,1,-1,-1,1,1,1,1,1,-1,-1,-1,1,1,-1,1,-1,1,1,1,1,-1,-1,1,1,-1,1,-1,-1,1,-1,1,1,1,1,1,-1,1,-1,-1,1,-1,-1,1,-1,1,-1,1,-1,1,1,-1,1,-1,-1,-1,-1,1,-1,-1,1,1,-1,1,1,1,-1,1,1,-1,-1,1,1,1,1,-1,1,-1,-1,1,-1,1,1,1,-1,1,-1,-1,1,1,-1,-1,-1,1,-1,-1,-1,1,1,-1,-1,-1,-1,1,1,-1,1,1,1,-1,1]
[1,1,-1,1,1,-1,-1,1,-1,-1,-1,1,-1,1,-1,1,1,-1,-1,1,-1,-1,1,-1,-1,1,-1,-1,-1,-1,1,1,-1,-1,1,-1,-1,1,-1,-1,-1,1,-1,1,-1,1,1,1,-1,1,1,1,1,-1,-1,-1,-1,-1,-1,-1,-1,-1,-1,1,-1,1,1,1,1,1,-1,1,1,-1,-1,1,-1,-1,1,1,-1,-1,-1,-1,1,1,-1,1,1,-1,1,1,1,1,1,1,-1,-1,1,-1,-1,1,1,1,-1,1,-1,-1,-1,1,1,1,-1,-1,-1,1,-1,-1,1,1,-1,1,-1,1,-1,1,-1,1,-1,-1,1,1,-1,1,1,-1,1,1,-1,1,1,-1,-1,1,1,1,-1,1,1,-1,-1,1,1,1,1,-1,-1,-1,1,-1,1,1,1,1,-1,-1,1,-1,-1,1,-1,-1,1,-1,1,-1,-1,-1,1,1,1,1,1,1,-1,-1,-1,-1,-1,-1,-1,-1,-1,1,-1,-1,-1,-1,-1,1,-1,-1,1,-1,1,1,1,1,-1,-1,1,1,1,1,1,-1,-1,1,1,-1,-1,1,1,1,1,-1,-1,1,-1,-1,1,-1,1,1,1,-1,-1,-1,1,-1,1,1,1,-1,-1,-1,1,1,1,1,1,-1,1,-1,-1,1]
[1,1,1,1,1,1,1,1,-1,-1,-1,-1,1,-1,-1,1,1,1,-1,-1,-1,1,1,1,-1,1,-1,-1,-1,1,1,-1,1,-1,1,-1,1,1,-1,1,-1,-1,-1,-1,-1,-1,-1,-1,-1,1,1,1,-1,-1,-1,-1,1,1,1,-1,1,-1,1,1,1,-1,-1,1,1,-1,-1,-1,1,-1,1,1,-1,-1,-1,1,-1,-1,1,-1,1,1,-1,1,-1,1,1,1,-1,-1,1,1,-1,-1,1,1,1,-1,-1,1,1,-1,1,1,1,1,-1,-1,1,1,1,1,1,-1,-1,1,1,1,-1,-1,-1,-1,1,1,-1,-1,-1,1,1,1,-1,-1,1,-1,1,1,-1,1,1,1,-1,-1,1,-1,-1,-1,-1,-1,1,1,1,-1,-1,1,-1,-1,1,-1,-1,-1,1,-1,1,1,-1,1,-1,-1,1,1,-1,1,1,-1,1,1,1,1,-1,-1,1,-1,1,1,-1,-1,1,1,1,1,-1,-1,1,-1,1,-1,1,1,1,1,1,1,1,1,1,1,-1,1,1,-1,-1,-1,1,-1,-1,1,1,1,1,-1,1,1,1,1,1,-1,-1,-1,-1,-1,-1,1,-1,-1,-1,1,-1,1,1,-1,1,1,1,1,1,-1,1,1,-1,1,-1,-1]
[-1,1,-1,1,1,-1,1,-1,1,-1,1,1,-1,1,1,-1,1,1,-1,-1,1,1,-1,-1,-1,-1,1,1,1,1,1,-1,-1,-1,1,-1,1,-1,1,-1,1,1,-1,-1,-1,1,-1,-1,-1,-1,-1,1,-1,1,-1,-1,1,1,1,-1,1,-1,1,1,-1,1,-1,1,1,1,-1,-1,-1,-1,-1,-1,1,-1,1,-1,-1,1,1,-1,-1,-1,1,-1,-1,-1,-1,-1,-1,-1,-1,1,-1,-1,-1,1,-1,1,-1,-1,1,1,1,-1,1,1,1,1,-1,-1,1,1,1,-1,-1,1,1,1,-1,-1,1,1,-1,-1,1,1,-1,-1,1,1,-1,-1,1,-1,-1,1,1,-1,-1,-1,1,-1,-1,-1,1,-1,1,1,1,1,1,-1,-1,-1,-1,1,-1,1,-1,1,1,1,1,1,1,1,-1,1,-1,1,-1,-1,-1,-1,-1,1,-1,-1,1,-1,1,-1,-1,-1,-1,-1,-1,-1,-1,-1,1,1,-1,-1,1,1,1,-1,1,-1,1,-1,-1,-1,-1,-1,-1,1,-1,1,1,1,1,-1,-1,1,-1,-1,-1,-1,-1,-1,1,-1,1,1,-1,1,-1,-1,1,-1,1,-1,-1,1,-1,-1,1,1,1,1,-1,-1,1,1,1,-1,1,-1,-1,1]
[1,1,1,1,-1,-1,1,-1,1,1,-1,-1,-1,-1,-1,-1,1,-1,1,-1,1,1,-1,1,1,-1,1,1,1,1,-1,-1,-1,-1,-1,-1,1,1,1,1,1,-1,-1,-1,1,-1,-1,-1,-1,-1,-1,1,-1,-1,-1,-1,1,-1,1,-1,1,1,-1,-1,-1,1,-1,-1,-1,-1,-1,-1,1,-1,1,-1,1,-1,-1,1,-1,-1,1,1,1,1,1,1,1,-1,1,-1,-1,1,1,1,1,1,1,-1,-1,-1,-1,-1,1,1,1,-1,-1,1,-1,1,1,-1,-1,-1,-1,-1,1,-1,-1,-1,1,-1,-1,-1,-1,1,1,-1,-1,-1,1,1,1,1,-1,-1,-1,1,-1,-1,1,-1,1,-1,-1,1,1,1,-1,1,-1,1,1,1,-1,1,-1,-1,-1,1,-1,1,1,1,1,-1,1,1,-1,-1,1,1,1,-1,-1,1,-1,1,1,-1,-1,1,-1,1,-1,1,-1,1,1,-1,-1,1,1,-1,-1,-1,-1,1,-1,1,-1,1,-1,1,-1,-1,1,1,-1,1,-1,1,-1,1,1,1,-1,-1,-1,1,-1,-1,-1,1,-1,-1,1,-1,-1,-1,1,1,1,-1,-1,1,1,-1,1,1,1,1,1,-1,-1,-1,-1,-1,1,-1,-1,-1,-1,1]
[1,-1,-1,1,-1,-1,1,1,1,1,1,1,-1,-1,1,1,-1,-1,-1,1,1,-1,1,-1,-1,1,1,-1,1,-1,-1,-1,-1,-1,-1,-1,1,1,1,1,1,1,1,1,1,1,1,1,-1,1,-1,1,1,-1,1,-1,1,-1,-1,1,1,1,-1,1,-1,1,-1,-1,-1,1,1,1,1,-1,-1,1,-1,-1,-1,1,1,-1,-1,1,1,-1,1,-1,-1,1,-1,1,-1,1,1,1,-1,1,-1,1,1,1,1,1,-1,1,-1,1,1,-1,1,1,1,1,1,-1,-1,1,-1,-1,1,1,-1,1,1,-1,-1,1,-1,1,1,1,1,-1,1,1,-1,-1,1,1,1,1,-1,-1,1,-1,1,1,1,1,1,1,1,-1,1,1,1,1,1,-1,1,1,1,-1,-1,1,-1,1,1,-1,-1,1,1,-1,-1,-1,1,-1,-1,1,-1,-1,-1,-1,1,1,1,1,1,1,-1,1,-1,1,1,-1,-1,1,1,1,1,1,-1,-1,-1,1,1,1,-1,-1,-1,1,1,1,-1,-1,1,-1,1,-1,-1,-1,-1,-1,1,1,-1,1,1,1,1,-1,-1,-1,-1,-1,-1,-1,1,-1,-1,-1,1,-1,1,1,1,-1,1,1,-1,-1,1,1,1,-1]
[-1,-1,1,-1,1,1,1,1,-1,1,-1,-1,1,-1,1,-1,1,-1,-1,1,1,-1,1,1,1,-1,1,-1,1,1,-1,-1,-1,-1,1,1,1,-1,1,-1,1,1,1,1,1,-1,1,1,-1,-1,1,-1,1,1,1,-1,-1,1,-1,1,1,1,-1,-1,-1,1,-1,-1,1,-1,-1,-1,1,-1,1,1,-1,1,1,-1,-1,-1,-1,-1,1,1,1,1,-1,-1,1,-1,-1,1,1,-1,1,-1,-1,-1,-1,-1,-1,-1,-1,-1,1,-1,1,-1,-1,-1,-1,1,1,1,1,-1,-1,1,-1,-1,1,-1,1,1,-1,1,-1,-1,1,1,1,1,1,-1,-1,-1,-1,1,-1,1,-1,1,1,-1,-1,1,1,1,1,1,-1,1,-1,1,1,-1,1,1,1,-1,-1,-1,1,-1,1,1,-1,1,-1,1,-1,1,1,-1,-1,1,1,-1,1,-1,1,-1,1,1,1,1,-1,-1,1,-1,1,-1,1,-1,-1,1,1,1,-1,1,1,1,1,-1,-1,-1,1,-1,1,-1,1,1,1,1,-1,1,-1,1,-1,-1,1,-1,1,-1,-1,1,-1,-1,1,-1,1,-1,1,-1,-1,1,-1,-1,1,1,-1,-1,1,-1,-1,1,-1,-1,1,-1,-1,-1,-1,-1]
[-1,1,1,1,-1,-1,-1,1,1,-1,-1,-1,1,1,1,1,1,1,1,-1,-1,1,-1,-1,1,-1,1,1,1,-1,-1,-1,-1,1,-1,-1,1,-1,1,1,1,1,1,-1,1,1,1,1,1,-1,1,1,1,1,-1,1,1,1,1,1,-1,-1,-1,1,-1,1,1,-1,-1,1,1,1,-1,-1,1,-1,1,1,1,-1,-1,1,1,-1,1,1,1,-1,1,-1,-1,1,-1,-1,1,-1,-1,1,-1,1,1,-1,1,1,-1,1,-1,1,1,-1,1,-1,1,-1,1,-1,1,-1,1,-1,1,-1,1,-1,1,-1,1,-1,1,1,1,1,1,-1,-1,-1,1,1,-1,-1,1,1,-1,-1,-1,-1,1,1,-1,1,1,-1,1,-1,-1,1,-1,1,-1,1,1,1,-1,-1,1,-1,1,-1,1,-1,-1,-1,1,1,1,1,-1,1,1,-1,-1,1,1,-1,1,-1,-1,1,1,1,1,1,-1,-1,1,-1,1,-1,-1,-1,1,-1,1,1,1,1,-1,-1,-1,-1,-1,-1,1,1,1,1,-1,-1,-1,-1,-1,-1,1,1,1,-1,-1,-1,1,-1,-1,1,1,1,1,-1,1,-1,1,-1,-1,1,-1,1,-1,-1,1,-1,-1,1,1,1,1,1,-1,-1]
[1,-1,-1,-1,1,1,-1,1,-1,-1,1,-1,-1,-1,-1,1,-1,1,-1,1,-1,1,1,1,-1,-1,1,-1,-1,-1,-1,-1,1,1,1,1,1,1,-1,-1,-1,1,1,1,1,-1,1,1,-1,-1,1,-1,1,-1,1,-1,1,1,-1,1,-1,-1,-1,1,1,-1,-1,1,-1,1,1,-1,1,1,-1,1,-1,1,1,-1,-1,-1,1,-1,1,1,1,-1,-1,-1,1,1,1,-1,1,-1,-1,-1,-1,-1,1,1,-1,1,-1,-1,-1,1,-1,1,-1,-1,1,1,-1,-1,1,-1,1,1,1,-1,-1,1,1,1,-1,1,-1,1,-1,1,-1,-1,1,1,1,-1,1,1,1,-1,-1,1,-1,1,1,1,-1,-1,1,-1,-1,-1,1,-1,-1,-1,1,1,1,-1,-1,-1,1,-1,1,-1,-1,1,1,-1,1,1,1,-1,-1,-1,1,1,-1,-1,1,-1,-1,-1,-1,1,1,1,-1,-1,-1,1,1,-1,-1,-1,1,1,-1,1,-1,-1,1,-1,-1,1,-1,-1,1,-1,-1,1,-1,-1,1,1,1,1,1,-1,-1,1,1,1,-1,-1,1,1,-1,1,-1,-1,-1,1,1,1,-1,1,1,1,-1,1,1,1,1,1,-1,1,-1,-1,-1,1,1,-1]
[-1,-1,1,-1,-1,1,-1,-1,-1,-1,1,1,1,1,1,-1,1,-1,-1,1,-1,1,-1,1,1,-1,-1,-1,-1,-1,-1,1,1,1,1,-1,1,1,1,-1,1,1,1,-1,-1,-1,-1,-1,-1,-1,1,-1,-1,1,-1,-1,1,1,1,-1,1,1,1,1,-1,-1,-1,1,-1,1,1,1,-1,1,1,1,1,1,1,-1,-1,1,1,1,1,1,1,1,-1,-1,1,1,-1,-1,-1,-1,1,-1,1,1,1,-1,-1,1,-1,1,-1,1,-1,1,1,-1,-1,1,-1,-1,1,1,-1,-1,-1,-1,1,1,-1,1,-1,1,1,1,-1,-1,1,1,1,-1,1,-1,-1,-1,-1,-1,-1,-1,1,1,1,1,-1,1,1,-1,-1,-1,-1,1,1,-1,-1,1,1,1,1,-1,-1,1,-1,1,-1,1,1,-1,1,1,-1,-1,1,1,1,-1,1,-1,-1,-1,-1,1,1,-1,-1,1,1,-1,-1,-1,1,1,1,1,1,1,1,-1,-1,-1,1,1,-1,1,1,1,-1,-1,1,1,-1,1,-1,-1,1,-1,-1,-1,1,1,1,-1,-1,-1,1,-1,1,-1,1,-1,-1,1,-1,-1,-1,1,-1,-1,1,1,1,-1,1,-1,1,1,1,1,1,-1,-1,-1]
[1,1,1,1,-1,-1,1,1,1,-1,-1,-1,1,-1,1,1,-1,1,-1,-1,1,1,-1,1,1,-1,1,-1,-1,-1,1,-1,-1,1,-1,1,-1,-1,1,-1,1,1,-1,1,1,1,-1,-1,-1,-1,1,1,1,-1,-1,1,1,1,-1,-1,1,1,1,-1,1,1,1,-1,1,1,-1,-1,-1,-1,-1,-1,-1,1,1,1,-1,-1,-1,-1,-1,-1,-1,1,1,1,1,-1,1,1,-1,1,-1,1,-1,1,-1,-1,-1,1,-1,-1,-1,-1,-1,-1,-1,-1,1,1,1,-1,1,-1,1,1,-1,1,-1,1,-1,-1,1,-1,-1,-1,-1,-1,1,1,-1,-1,-1,-1,-1,-1,1,1,-1,1,1,-1,1,1,-1,-1,1,1,-1,-1,-1,-1,-1,1,1,1,1,1,1,1,-1,1,1,-1,-1,1,-1,-1,1,1,-1,1,-1,1,-1,-1,-1,-1,-1,-1,1,1,-1,1,-1,-1,-1,-1,-1,-1,1,-1,-1,-1,1,1,-1,1,1,1,1,-1,1,1,-1,1,-1,-1,-1,-1,-1,-1,1,-1,1,-1,1,-1,-1,1,-1,1,-1,-1,1,1,-1,-1,1,-1,1,-1,-1,-1,1,1,-1,1,1,-1,-1,1,1,-1,1,-1,1,1,1,-1,-1,1]
[1,1,1,1,1,1,1,1,-1,-1,-1,-1,1,-1,1,1,1,-1,1,1,1,-1,-1,-1,-1,-1,-1,1,-1,1,-1,1,1,-1,1,-1,1,-1,1,-1,-1,1,-1,-1,1,-1,1,1,-1,-1,1,-1,-1,-1,1,1,1,1,-1,-1,1,1,-1,1,1,1,1,1,-1,1,1,-1,-1,1,1,-1,-1,-1,1,1,-1,1,1,1,-1,-1,1,-1,1,-1,-1,1,1,1,-1,1,1,-1,1,1,1,-1,-1,-1,-1,-1,-1,-1,1,-1,-1,-1,1,1,-1,1,-1,-1,-1,-1,1,-1,-1,1,1,1,1,1,1,1,1,-1,1,-1,1,-1,-1,-1,1,-1,-1,1,-1,-1,-1,-1,-1,-1,1,-1,-1,-1,-1,-1,-1,-1,-1,1,1,-1,-1,1,-1,1,-1,-1,1,-1,-1,1,-1,1,1,-1,-1,-1,1,-1,-1,-1,1,1,-1,-1,1,1,1,1,1,-1,1,-1,-1,-1,-1,-1,-1,-1,-1,-1,-1,-1,1,-1,1,1,1,1,-1,1,-1,-1,1,-1,-1,-1,-1,-1,-1,1,-1,1,1,-1,-1,1,1,1,1,1,1,-1,-1,-1,1,1,-1,1,1,1,1,1,-1,1,-1,-1,-1,1,-1,-1,1,1,1,1,1,1]
[-1,1,1,-1,-1,1,1,-1,1,-1,-1,-1,1,-1,-1,-1,1,-1,1,-1,-1,1,-1,1,-1,-1,1,-1,1,-1,1,1,1,-1,1,1,1,1,1,1,1,-1,-1,-1,-1,1,-1,1,-1,-1,1,-1,-1,-1,1,-1,1,1,-1,1,1,-1,-1,-1,1,-1,-1,-1,1,1,1,1,-1,1,-1,1,-1,-1,1,1,1,-1,-1,1,1,1,1,-1,1,1,-1,-1,-1,1,-1,1,1,1,1,1,1,-1,-1,1,1,1,-1,1,1,-1,1,1,-1,-1,1,1,-1,1,-1,1,1,-1,1,-1,1,-1,1,1,1,-1,1,-1,1,1,1,1,1,1,-1,-1,-1,-1,1,-1,-1,-1,-1,-1,-1,4,-1,1,1,-1,-1,1,-1,1,1,-1,-1,-1,-1,-1,-1,-1,-1,1,1,-1,1,1,-1,1,-1,-1,1,1,-1,-1,-1,1,-1,-1,1,1,-1,-1,-1,1,1,1,1,1,1,1,1,1,-1,-1,-1,1,1,-1,-1,1,1,1,-1,-1,-1,1,1,1,1,1,-1,1,-1,1,1,1,1,-1,-1,1,-1,-1,-1,1,1,1,-1,-1,1,1,1,-1,-1,-1,-1,-1,-1,-1,-1,-1,1,-1,-1,1,-1,1,-1,1,1,-1]
[-1,1,1,-1,-1,-1,1,1,1,1,1,1,1,-1,1,-1,-1,-1,-1,1,-1,-1,1,1,-1,1,-1,-1,-1,-1,-1,-1,-1,-1,-1,1,1,1,-1,-1,-1,1,-1,1,1,-1,1,1,1,-1,-1,-1,-1,1,1,-1,-1,1,1,1,-1,-1,-1,-1,1,-1,1,-1,-1,-1,-1,1,-1,1,1,1,-1,1,-1,1,-1,-1,1,-1,1,1,1,-1,-1,-1,-1,1,-1,1,1,-1,-1,-1,1,1,-1,-1,-1,-1,-1,1,1,1,1,-1,-1,1,-1,1,1,-1,-1,1,1,1,1,-1,-1,-1,1,-1,-1,-1,1,-1,-1,1,1,1,1,-1,1,-1,-1,-1,1,1,-1,-1,-1,-1,1,-1,-1,-1,1,-1,-1,1,-1,1,1,1,-1,-1,1,-1,1,-1,-1,1,1,-1,-1,1,1,-1,1,-1,-1,-1,-1,1,-1,1,1,-1,1,1,-1,1,1,1,-1,-1,-1,-1,-1,-1,1,-1,-1,1,-1,1,1,-1,1,1,-1,1,1,1,1,-1,1,1,1,-1,1,-1,-1,-1,-1,-1,-1,1,-1,-1,-1,-1,-1,1,1,-1,1,1,-1,-1,-1,1,1,1,-1,-1,-1,-1,1,-1,-1,1,1,-1,-1,-1,-1,-1,-1,-1,1,-1]
[1,-1,1,-1,1,-1,1,1,-1,-1,1,-1,1,1,-1,1,1,-1,1,-1,-1,-1,-1,-1,-1,-1,1,-1,1,-1,-1,-1,1,1,-1,-1,1,-1,-1,1,-1,1,1,1,-1,-1,1,1,-1,1,1,1,1,-1,1,-1,-1,1,1,1,-1,1,1,-1,1,-1,1,-1,1,-1,-1,-1,1,1,-1,1,1,-1,1,1,1,-1,1,1,-1,-1,1,1,1,1,-1,1,-1,1,1,1,1,1,-1,1,-1,1,-1,1,1,-1,1,-1,1,1,-1,-1,1,-1,1,-1,-1,-1,-1,1,-1,-1,-1,1,1,1,-1,1,-1,1,1,-1,1,-1,-1,-1,-1,-1,1,1,1,-1,-1,-1,1,1,1,-1,-1,1,-1,1,-1,-1,-1,-1,1,-1,-1,1,1,1,1,1,1,1,-1,1,1,-1,-1,1,1,1,-1,1,1,1,1,1,1,1,1,-1,-1,1,-1,-1,1,1,1,-1,1,1,1,-1,1,-1,-1,-1,1,-1,1,-1,-1,1,1,1,1,1,1,1,1,1,1,1,-1,1,1,1,1,1,1,1,-1,-1,-1,-1,1,1,1,1,1,-1,-1,1,-1,1,1,-1,1,-1,-1,1,-1,-1,1,1,-1,1,1,-1,1,1,-1,-1]
[-1,1,1,1,1,1,-1,1,1,-1,1,1,1,-1,1,1,-1,-1,1,-1,1,-1,-1,-1,-1,1,-1,-1,1,-1,-1,-1,-1,1,-1,-1,1,1,-1,-1,-1,-1,-1,-1,1,-1,-1,1,-1,-1,-1,1,-1,-1,-1,1,1,1,-1,-1,-1,1,1,-1,-1,1,1,1,-1,-1,-1,1,-1,-1,-1,-1,1,1,-1,1,1,-1,1,-1,1,-1,-1,1,-1,-1,-1,-1,1,1,1,1,1,1,-1,-1,-1,-1,1,1,-1,1,-1,-1,1,-1,-1,-1,-1,-1,-1,1,1,1,1,1,-1,1,1,1,-1,1,1,-1,-1,-1,-1,1,-1,1,1,-1,-1,1,-1,1,-1,-1,1,1,-1,1,1,-1,-1,-1,1,1,1,1,-1,-1,-1,1,1,-1,-1,1,1,1,1,-1,1,1,1,1,-1,-1,1,1,1,1,-1,-1,-1,1,1,-1,1,1,-1,-1,1,1,1,1,-1,-1,-1,-1,1,-1,-1,1,-1,-1,-1,-1,-1,-1,1,-1,-1,1,-1,-1,-1,-1,-1,-1,1,-1,-1,1,-1,1,-1,-1,1,1,-1,1,1,-1,-1,1,-1,-1,-1,1,-1,1,1,1,1,1,-1,-1,-1,-1,1,1,-1,-1,-1,-1,1,1,1,1,1,-1]
[-1,-1,1,1,1,1,1,-1,1,-1,1,1,1,-1,-1,1,1,1,-1,1,-1,1,-1,1,1,-1,-1,-1,1,-1,1,-1,1,1,1,1,-1,-1,-1,-1,1,1,-1,1,-1,-1,-1,1,-1,-1,1,1,1,-1,-1,-1,1,-1,-1,-1,1,-1,1,-1,-1,-1,-1,1,1,1,-1,-1,1,1,1,1,1,1,-1,1,-1,1,1,-1,-1,-1,1,1,1,1,-1,-1,-1,1,-1,1,-1,-1,-1,-1,1,1,1,-1,-1,1,-1,1,-1,-1,1,-1,1,-1,1,-1,1,-1,-1,-1,-1,-1,1,-1,-1,1,-1,-1,1,-1,1,-1,-1,1,1,-1,-1,-1,1,1,-1,1,1,1,1,-1,-1,1,-1,-1,-1,1,1,1,1,1,1,1,1,-1,1,-1,-1,1,1,-1,1,-1,-1,-1,1,1,-1,1,1,-1,1,1,-1,1,-1,1,1,-1,-1,-1,-1,1,1,-1,1,-1,-1,1,1,1,-1,1,1,-1,-1,1,1,-1,1,1,-1,-1,-1,1,-1,-1,-1,-1,1,-1,1,-1,1,-1,1,-1,-1,-1,-1,1,1,-1,-1,1,-1,-1,1,-1,-1,1,1,1,1,1,-1,1,-1,1,1,1,1,1,-1,-1,-1,-1,1,1,1,-1]
[-1,1,1,1,-1,-1,-1,1,-1,1,1,1,-1,-1,-1,-1,1,-1,1,1,-1,-1,1,1,-1,1,1,-1,-1,1,-1,-1,-1,1,1,-1,-1,-1,1,-1,1,1,1,-1,1,-1,1,1,1,1,1,1,-1,1,1,1,-1,1,1,1,-1,-1,-1,-1,1,1,1,-1,1,1,1,1,1,-1,1,-1,-1,-1,1,1,1,-1,-1,-1,1,1,1,-1,-1,-1,-1,-1,-1,-1,1,1,1,-1,-1,1,1,1,-1,1,1,-1,-1,1,-1,-1,-1,1,-1,-1,-1,-1,1,1,-1,1,1,-1,-1,-1,1,-1,-1,1,1,1,1,-1,-1,-1,-1,1,1,-1,1,-1,1,1,-1,1,-1,-1,-1,1,-1,1,-1,1,1,1,-1,1,1,1,1,1,-1,-1,1,-1,1,1,-1,-1,-1,-1,-1,1,1,-1,1,-1,-1,1,-1,-1,1,-1,-1,-1,-1,-1,1,1,-1,1,1,-1,-1,1,-1,1,1,-1,1,1,1,1,-1,1,-1,1,1,-1,-1,-1,-1,-1,1,-1,-1,-1,-1,-1,-1,-1,-1,1,1,-1,1,-1,1,1,-1,1,-1,1,1,1,-1,-1,1,1,-1,-1,1,-1,1,-1,1,1,-1,1,-1,1,1,-1,-1,1,1,1]
[1,1,-1,1,-1,-1,1,-1,1,-1,1,-1,1,-1,1,-1,-1,-1,1,1,-1,1,1,-1,-1,1,1,1,1,1,-1,-1,-1,1,-1,-1,1,-1,-1,-1,-1,1,-1,-1,-1,-1,1,1,-1,-1,1,-1,-1,1,-1,-1,-1,-1,-1,-1,1,1,-1,-1,-1,1,-1,-1,-1,1,1,1,-1,1,1,1,1,-1,1,-1,-1,-1,1,-1,1,1,4,1,1,1,1,-1,1,-1,-1,-1,-1,1,1,-1,-1,1,-1,-1,1,-1,1,1,1,-1,-1,-1,1,1,1,1,1,1,-1,-1,1,-1,1,1,-1,-1,1,-1,-1,-1,1,1,1,1,1,-1,1,-1,1,-1,1,-1,-1,1,-1,-1,-1,-1,-1,-1,1,-1,-1,1,1,-1,1,1,-1,1,1,-1,-1,1,-1,1,-1,-1,-1,-1,1,1,1,1,-1,-1,-1,1,-1,-1,1,-1,1,-1,1,-1,1,1,-1,1,1,-1,-1,-4,1,1,1,1,-1,-1,1,-1,-1,-1,-1,-1,1,1,-1,1,1,1,-1,1,1,-1,-1,-1,1,1,-1,-1,-1,1,-1,-1,-1,-1,1,1,1,1,-1,1,-1,1,1,-1,1,1,1,-1,-1,-1,1,1,-1,1,1,1,-1,1,-1,-1,1,-1]
[1,-1,-1,-1,1,-1,-1,-1,1,1,-1,1,1,-1,1,-1,-1,1,1,-1,1,1,1,1,-1,-1,1,1,1,-1,-1,-1,1,-1,-1,1,1,-1,1,1,1,1,1,1,-1,-1,-1,-1,-1,-1,-1,1,-1,-1,-1,-1,1,1,1,1,1,-1,-1,1,1,1,1,-1,1,1,-1,-1,-1,1,1,1,1,-1,-1,-1,-1,1,-1,-1,1,1,1,1,1,-1,1,-1,-1,1,1,-1,-1,1,-1,-1,1,-1,-1,1,1,-1,1,1,-1,1,-1,-1,-1,-1,1,-1,-1,1,-1,1,1,1,1,1,1,1,1,1,1,-1,1,-1,1,1,1,1,-1,1,-1,1,1,-1,-1,-1,-1,1,-1,-1,1,-1,-1,1,-1,1,-1,-1,1,1,1,-1,-1,-1,-1,1,1,1,-1,-1,1,1,1,1,-1,1,1,1,1,-1,-1,1,-1,-1,1,1,-1,-1,-1,-1,1,1,-1,-1,-1,-1,-1,-1,-1,1,-1,1,-1,-1,-1,-1,1,-1,1,-1,1,1,1,-1,1,-1,-1,1,1,-1,-1,1,1,1,1,1,-1,-1,-1,1,1,1,-1,1,-1,-1,1,-1,-1,1,-1,1,-1,1,1,1,-1,-1,1,-1,1,1,-1,-1,-1,1,-1,-1]
[-1,-1,-1,1,-1,-1,1,1,1,-1,-1,-1,-1,-1,-1,-1,-1,1,-1,-1,-1,1,-1,-1,1,-1,1,1,-1,-1,1,-1,1,-1,-1,-1,1,1,-1,1,-1,1,1,1,1,1,1,-1,1,-1,-1,-1,1,1,-1,1,1,-1,-1,-1,1,1,1,1,1,1,1,1,1,1,-1,1,1,1,1,-1,-1,-1,1,1,1,1,1,1,1,1,1,-1,1,1,1,-1,-1,1,1,-1,1,1,1,1,1,-1,-1,1,-1,-1,1,-1,1,-1,-1,-1,1,1,1,-1,-1,1,1,-1,1,1,-1,-1,1,-1,-1,1,1,-1,-1,-1,1,1,-1,1,-1,-1,1,1,1,-1,-1,1,-1,-1,-1,-1,-1,1,1,-1,-1,-1,1,-1,-1,-1,1,1,1,-1,-1,-1,1,-1,1,-1,-1,1,-1,1,-1,1,-1,-1,1,1,1,-1,-1,1,1,-1,1,1,-1,1,1,-1,1,1,-1,-1,-1,-1,1,-1,1,1,1,-1,-1,-1,1,-1,1,1,1,-1,-1,1,1,1,1,-1,-1,-1,-1,-1,-1,-1,1,-1,-1,1,1,1,-1,-1,-1,-1,-1,1,-1,-1,-1,1,1,-1,-1,-1,-1,1,-1,-1,1,-1,1,-1,-1,-1,1,1,1,-1]
[1,1,-1,-1,1,1,-1,1,1,-1,-1,1,1,1,1,1,-1,1,1,1,-1,1,1,1,1,-1,1,-1,-1,-1,-1,-1,1,1,-1,1,-1,1,-1,-1,1,1,-1,1,-1,-1,-1,-1,1,-1,-1,-1,-1,-1,1,1,1,1,1,-4,-1,-1,1,1,-1,1,-1,-1,1,1,1,-1,1,-1,1,1,-1,1,-1,1,1,1,1,1,1,1,1,-1,1,-1,1,1,1,1,-1,-1,-1,1,-1,-1,-1,1,1,-1,-1,1,-1,1,-1,1,-1,1,1,1,-1,-1,1,1,-1,1,-1,-1,1,1,1,-1,-1,1,-1,1,-1,-1,-1,-1,1,1,-1,1,-1,4,-1,-1,-1,1,-1,-1,1,-1,1,-1,1,1,1,1,1,1,-1,-1,-1,-1,-1,1,-1,1,-1,1,1,-1,-1,-1,-1,-1,1,1,1,-1,-1,-1,-1,-1,1,1,-1,-1,-1,1,1,1,-1,1,1,-1,-1,1,1,1,1,1,1,-1,-1,1,-1,1,-1,-1,-1,-1,1,1,1,1,-1,-1,-1,-1,-1,1,1,1,1,1,1,-1,-1,1,-1,-1,-1,1,1,-1,-1,-1,1,-1,-1,1,-1,1,-1,-1,1,1,1,1,1,-1,-1,1,1,1,-1,-1,1,-1]
[1,-1,1,1,1,-1,1,-1,1,-1,1,1,-1,1,1,-1,1,-1,1,-1,-1,-1,-1,-1,-1,-1,1,-1,1,1,-1,1,1,-1,1,-1,-1,-1,1,1,-1,-1,1,1,1,-1,-1,1,1,-1,1,1,-1,1,1,1,1,-1,-1,-1,1,1,-1,1,1,-1,1,1,1,-1,1,1,-1,1,1,1,1,1,1,1,-1,-1,-1,1,-1,1,-1,1,-1,-1,-1,-1,1,-1,1,-1,-1,-1,1,-1,-1,-1,-1,1,1,1,1,-1,-1,-1,1,1,-1,1,-1,-1,-1,1,-1,1,-1,-1,-1,1,1,-1,1,-1,-1,1,-1,1,1,1,-1,-1,1,-1,1,1,1,-1,1,-1,-1,1,1,1,-1,-1,1,1,1,1,-1,1,-1,-1,-1,-1,1,-1,-1,1,1,1,1,1,1,1,-1,-1,1,1,-1,1,1,-1,1,1,1,-1,1,1,-1,-1,-1,-1,-1,-1,-1,-1,-1,-1,-1,-1,-1,1,-1,1,-1,1,-1,-1,-1,-1,1,1,1,1,1,1,-1,1,1,-1,1,1,1,1,-1,1,1,1,-1,1,-1,-1,1,1,1,1,1,-1,1,-1,-1,-1,-1,1,-1,1,1,1,1,-1,1,1,-1,1,-1,1,-1,-1,-1,-1]
[1,-1,-1,1,-1,-1,-1,1,1,-1,-1,1,1,-1,1,1,-1,1,-1,1,1,-1,-1,-1,1,1,-1,-1,-1,1,1,1,1,1,-1,1,1,1,1,-1,1,1,1,1,1,-1,1,-1,1,1,1,-1,-1,-1,-1,-1,-1,1,-1,1,1,1,-1,1,1,-1,1,-1,-1,-1,1,-1,-1,1,1,1,1,1,-1,-1,-1,1,1,-1,-1,-1,-1,-1,-1,1,1,-1,1,1,-1,1,-1,-1,1,-1,-1,-1,1,1,1,-1,-1,1,-1,-1,-1,-1,1,1,1,1,1,-1,-1,-1,-1,-1,1,1,1,1,1,1,-1,1,-1,1,1,-1,1,1,-1,1,1,-1,1,1,-1,1,-1,-1,-1,1,1,-1,-1,1,-1,1,-1,-1,1,1,-1,-1,-1,1,1,1,1,1,-1,1,1,1,1,1,-1,1,1,1,1,-1,1,-1,1,-1,-1,1,-1,1,-1,-1,1,1,-1,1,1,1,-1,1,1,-1,-1,1,-1,1,-1,1,1,1,1,-1,-1,-1,1,1,1,1,-1,1,-1,1,1,-1,-1,1,1,-1,-1,1,-1,-1,-1,1,1,-1,1,1,-1,-1,-1,-1,-1,-1,1,1,1,-1,1,-1,1,-1,1,-1,-1,1,-1,-1,-1,-1]
[1,1,-1,-1,1,-1,-1,-1,1,1,-1,1,-1,-1,-1,-1,1,-1,1,-1,-1,-1,-1,-1,-1,-1,1,1,1,1,-1,-1,-1,1,1,1,1,1,-1,1,1,1,-1,-1,1,-1,-1,-1,1,1,-1,1,1,-1,-1,1,-1,-1,-1,1,1,-1,-1,1,-1,1,1,1,-1,-1,1,-1,1,1,1,1,-1,-1,1,1,-1,-1,1,-1,-1,1,-1,1,1,-1,1,-1,1,-1,1,-1,1,-1,1,1,1,-1,-1,-1,1,1,-1,1,-1,-1,1,-1,-1,1,1,-1,-1,1,1,1,-1,-1,-1,1,-1,1,-1,1,-1,1,-1,1,-1,-1,1,1,-1,-1,1,1,-1,-1,4,1,-1,1,1,1,1,-1,-1,1,1,1,-1,-1,1,1,-1,1,-1,1,1,-1,-1,-1,1,1,-1,1,1,1,1,-1,1,-1,1,1,1,1,-1,1,1,1,-1,-1,-1,-1,-1,1,1,1,-1,1,1,-1,-1,1,1,1,1,1,1,1,1,1,1,-1,1,1,1,-1,-1,1,-1,-1,1,1,-1,1,-1,-1,1,-1,1,1,1,1,-1,1,1,1,1,-1,1,-1,1,1,1,1,1,-1,1,1,-1,1,-1,1,-1,-1,-1,-1,-1,-1,-1,1]
[1,1,1,1,1,-1,1,1,-1,1,-1,1,-1,1,-1,-1,1,-1,-1,1,-1,-1,-1,-1,-1,-1,-1,1,-1,-1,1,-1,1,-1,1,-1,-1,1,-1,-1,-1,-1,-1,-1,1,1,1,-1,1,1,1,-1,-1,1,-1,1,-1,-1,-1,-1,1,-1,-1,1,-1,-1,-1,1,-1,1,-1,-1,1,-1,1,1,-1,-1,1,1,1,-1,1,-1,-1,1,-1,-1,-1,-1,1,1,-1,1,1,1,1,1,-1,1,-1,-1,-1,1,-1,-1,-1,1,-1,1,-1,-1,1,1,-1,1,1,1,-1,1,-1,-1,-1,-1,1,-1,-1,-1,-1,1,-1,-1,-1,1,1,-1,-1,1,1,1,1,-1,1,1,-1,-1,-1,1,-1,-1,-1,1,1,-1,1,1,1,-1,1,1,-1,1,-1,1,1,1,1,1,-1,1,-1,1,1,-1,1,1,-1,1,-1,1,-1,1,1,-1,1,1,1,-1,1,1,1,1,1,1,1,1,1,-1,-1,-1,-1,1,-1,1,-1,-1,1,-1,1,1,1,-1,1,-1,-1,1,-1,1,-1,-1,-1,1,1,1,-1,-1,1,-1,1,-1,-1,1,-1,-1,-1,-1,1,-1,-1,-1,1,1,1,1,-1,-1,1,-1,-1,1,1,-1,1,-1,-1,-1]
[1,1,1,1,-1,-1,-1,1,1,1,-1,-1,1,-1,-1,-1,-1,1,-1,1,1,-1,-1,1,-1,-1,1,1,-1,-1,1,1,1,-1,1,1,-1,1,1,-1,1,1,-1,-1,-1,-1,1,1,-1,1,1,1,1,-1,1,1,-1,1,-1,1,-1,-1,1,-1,-1,-1,-1,-1,-1,1,1,1,-1,-1,-1,-1,-1,-1,-1,4,1,-1,-1,1,-1,-1,1,1,-1,-1,-1,1,1,-1,-1,-1,-1,-1,-1,1,1,-1,-1,-1,-1,-1,1,1,-1,-1,1,-1,-1,1,-1,-1,-1,1,1,-1,-1,-1,-1,-1,-1,-1,1,-1,1,1,1,1,-1,1,-1,1,1,1,1,-1,-1,1,-1,-1,-1,-1,-1,1,1,-1,1,-1,1,1,1,1,1,-1,1,-1,-1,-1,-1,-1,-1,-1,1,1,1,-1,-1,-1,-1,1,-1,1,1,-1,-1,1,-1,-1,-1,1,1,-1,-1,-1,-1,1,-1,1,-1,1,1,1,1,1,-1,1,-1,1,1,1,1,-1,1,-1,-1,-1,1,-1,-1,-1,-1,-1,-1,-1,-1,-1,1,-1,1,-1,1,1,1,-1,1,1,-1,-1,1,-1,-1,-1,-1,1,1,-1,1,-1,1,-1,-1,1,-1,1,-1,-1,-1,-1,-1,-1,1,-1]
[-1,1,-1,1,-1,1,1,-1,1,-1,1,-1,1,-1,-1,1,-1,-1,1,1,-1,1,-1,-1,-1,-1,-1,1,-1,-1,1,-1,1,1,1,-1,-1,1,-1,-1,1,-1,1,-1,1,-1,-1,-1,-1,-1,-1,1,1,1,-1,-1,1,-1,1,1,4,-1,1,1,-1,-1,1,-1,-1,1,-1,1,1,1,-1,1,-1,-1,-1,-1,1,1,-1,-1,1,-1,1,-1,1,-1,-1,-1,1,1,-1,-1,1,1,1,1,-1,1,-1,1,-1,1,1,1,-1,-1,1,-1,1,1,1,1,-1,-1,1,-1,1,1,1,1,-1,1,-1,-1,1,1,1,-1,-1,1,1,-1,-1,-1,1,-1,4,1,1,1,1,1,-1,1,1,-1,-1,-1,-1,-1,1,-1,-1,1,1,-1,1,-1,1,-1,-1,-1,1,-1,1,1,1,1,1,1,1,1,-1,-1,1,-1,-1,-1,-1,1,-1,1,-1,-1,1,-1,-1,-1,-1,1,-1,-1,-1,1,1,-1,1,-1,1,1,-1,1,1,1,-1,1,1,-1,1,1,1,1,1,1,1,-1,1,-1,1,1,1,1,-1,1,1,-1,1,1,1,-1,-1,-1,-1,1,1,-1,1,1,-1,-1,-1,1,1,1,1,1,-1,1,1,-1,1,1]
[-1,-1,1,-1,1,-1,-1,-1,-1,1,-1,-1,1,1,1,1,1,-1,-1,1,1,1,1,1,1,1,-1,-1,1,1,-1,1,-1,1,-1,1,1,1,1,1,1,1,-1,-1,1,1,1,-1,-1,1,1,1,-1,-1,1,1,1,1,1,1,-1,-1,-1,-1,1,-1,-1,1,-1,-1,1,1,-1,-1,1,-1,1,1,1,1,1,-1,1,1,-1,-1,1,1,1,-1,1,1,1,-1,1,1,1,-1,1,1,-1,-1,-1,1,-1,-1,-1,-1,1,-1,-1,1,-1,1,-1,-1,1,1,1,1,-1,1,-1,-1,-1,1,1,1,-1,1,1,1,-1,-1,-1,-1,1,-1,-1,-1,-1,-1,-1,1,-1,-1,-1,-1,-1,-1,-1,1,1,1,1,-1,1,1,1,-1,-1,-1,1,-1,-1,-1,-1,1,1,1,1,1,1,-1,-1,-1,-1,-1,1,1,-1,1,-1,-1,-1,-1,1,1,-1,-1,1,-1,1,1,1,-1,-1,-1,1,-1,-1,1,1,-1,1,1,1,-1,1,1,1,1,1,1,1,1,1,1,-1,-1,1,1,-1,1,-1,-1,1,-1,1,-1,-1,-1,-1,1,-1,1,-1,-1,-1,1,-1,-1,-1,-1,-1,1,-1,-1,1,1,-1,1,-1,1,-1,1]
[1,-1,-1,1,-1,1,1,-1,-1,1,-1,-1,-1,-1,-1,1,1,1,-1,-1,1,1,-1,1,-1,1,1,1,-1,-1,-1,-1,-1,-1,1,1,1,1,1,-1,1,1,1,-1,1,1,-1,-1,-1,-1,-1,-1,-1,-1,-1,-1,1,1,-1,1,1,-1,-1,-1,1,-1,-1,1,-1,1,1,-1,-1,1,1,-1,-1,-1,-1,-1,1,-1,1,1,1,1,1,-1,1,1,-1,1,-1,-1,1,1,1,1,1,1,-1,-1,1,-1,1,1,-1,-1,1,1,1,-1,1,-1,1,-1,-1,-1,1,1,-1,1,-1,1,-1,1,1,-1,-1,-1,1,-1,-1,-1,-1,-1,1,-1,-1,-1,1,-1,-1,1,-1,1,-1,1,-1,-1,1,1,1,1,-1,-1,-1,-1,-1,-1,1,-1,1,1,-1,1,1,1,-1,1,-1,1,1,-1,1,1,-1,1,1,1,1,-1,1,1,1,-1,-1,1,-1,-1,-1,1,-1,1,1,-1,1,1,-1,-1,1,1,1,1,-1,-1,-1,-1,1,1,1,-1,1,1,1,-1,-1,-1,1,1,-1,-1,-1,1,-1,-1,-1,1,-1,1,1,1,1,1,-1,-1,-1,1,-1,-1,1,-1,-1,-1,1,-1,-1,-1,-1,-1,1,-1,1,-1,-1,1]
[-1,1,-1,1,-1,-1,-1,-1,-1,-1,1,1,-1,-1,-1,1,-1,1,-1,1,-1,1,1,1,-1,-1,1,-1,1,1,1,-1,1,-1,-1,-1,1,1,1,1,1,1,-1,1,1,1,-1,-1,1,-1,-1,-1,-1,1,-1,1,-1,-1,1,1,1,-1,-1,1,-1,1,-1,1,-1,1,-1,-1,-1,-1,1,-1,1,1,-1,1,1,1,-1,1,1,-1,-1,-1,1,1,-1,1,1,1,1,1,1,-1,1,1,-1,1,-1,-1,-1,1,1,1,-1,1,-1,-1,1,-1,1,1,1,1,-1,-1,1,1,1,1,-1,1,-1,-1,1,-1,-1,1,-1,1,1,-1,-1,-1,-1,1,1,1,1,1,-1,-1,1,-1,-1,-1,-1,1,1,1,-1,1,1,1,-1,-1,1,-1,-1,1,-1,-1,-1,-1,-1,1,1,1,1,-1,-1,1,-1,1,1,1,1,1,-1,1,-1,1,1,1,-1,1,1,-1,-1,-1,1,-1,-1,1,1,1,1,-1,-1,-1,1,-1,1,-1,1,1,1,-1,1,-1,-1,-1,1,1,-1,-1,1,-1,1,-1,1,1,1,1,-1,1,1,-1,-1,1,-1,-1,-1,1,-1,-1,-1,-1,-1,1,-1,1,1,1,-1,1,1,-1,-1,1,-1,1]
[-1,-1,-1,-1,-1,-1,1,1,1,-1,-1,1,1,-1,1,1,1,1,1,-1,1,-1,-1,1,-1,-1,-1,-1,-1,1,-1,1,-1,-1,-1,-1,1,-1,1,1,-1,1,1,-1,1,1,-1,1,1,-1,-1,1,-1,-1,1,-1,-1,-1,-1,1,-1,-1,1,-1,-1,-1,1,-1,1,-1,1,-1,-1,1,1,1,1,-1,-1,-1,-1,-1,-1,-1,1,1,-1,-1,-1,1,-1,1,1,-1,-1,1,-1,1,-1,1,1,-1,1,1,1,1,-1,-1,1,1,-1,1,1,1,1,1,-1,1,1,1,-1,1,-1,-1,-1,1,-1,-1,-1,1,1,1,-1,1,-1,-1,-1,1,-1,-1,1,1,1,1,-1,1,1,-1,-1,1,1,1,-1,1,1,1,-1,-1,1,-1,1,1,-1,1,-1,-1,1,-1,1,-1,1,-1,-1,1,1,1,-1,-1,-1,1,1,1,-1,1,1,-1,1,-1,1,1,1,-1,1,-1,1,-1,-1,-1,-1,-1,1,-1,1,-1,-1,1,1,-1,-1,1,-1,-1,-1,-1,-1,-1,1,-1,1,-1,1,1,-1,1,-1,-1,-1,1,-1,-1,1,-1,1,1,1,1,-1,1,-1,1,-1,-1,-1,1,1,1,-1,-1,-1,-1,-1,1,1,1,1,-1]
[-1,-1,1,1,1,1,-1,-1,1,-1,-1,-1,-1,1,-1,-1,-1,1,1,-1,1,1,-1,1,-1,-1,1,1,-1,1,1,-1,1,1,1,-1,-1,1,1,-1,1,1,1,1,-1,1,1,1,1,1,-1,1,1,1,-1,1,1,-1,1,-1,-1,1,-1,1,1,-1,-1,-1,-1,-1,-1,1,1,1,-1,-1,1,-1,-1,-1,1,-1,-1,1,-1,1,1,-1,-1,-1,-1,1,-1,1,-1,1,-1,1,-1,-1,1,-1,1,1,-1,-1,-1,1,1,-1,-1,1,-1,1,-1,-1,1,-1,-1,1,-1,-1,1,-1,1,1,1,-1,1,-1,1,1,1,-1,-1,-1,1,-1,1,-1,-1,1,1,-1,-1,-1,-1,-1,1,-1,1,-1,-1,1,-1,1,-1,-1,1,1,-1,-1,-1,-1,1,1,-1,1,-1,1,1,1,-1,1,-1,-1,1,-1,1,1,-1,1,1,1,1,-1,-1,1,-1,1,1,-1,1,-1,1,-1,1,-1,1,1,-1,-1,1,1,1,1,-1,-1,1,1,1,-1,1,1,1,-1,-1,1,-1,-1,1,1,1,1,1,1,-1,1,1,1,1,-1,1,1,1,1,-1,-1,-1,1,-1,1,-1,-1,-1,-1,1,1,1,-1,-1,1,1,1,-1,1]
[-1,1,1,-1,-1,1,-1,1,-1,-1,-1,-1,1,-1,-1,-1,-1,1,1,-1,-1,-1,1,1,1,1,-1,-1,-1,-1,1,1,-1,-1,1,1,-1,-1,1,-1,1,1,1,-1,1,-1,1,-1,1,-1,-1,-1,-1,-1,-1,1,-1,1,1,-1,1,1,-1,-1,1,-1,1,1,-1,1,-1,1,1,1,1,-1,-1,-1,-1,-1,-1,-1,1,1,-1,-1,1,1,-1,1,-1,1,1,1,1,-1,-1,1,1,1,1,-1,-1,1,1,1,1,1,-1,-1,-1,-1,-1,1,1,1,-1,-1,-1,1,1,1,-1,-1,-1,-1,-1,-1,1,1,-1,-1,-1,-1,1,1,1,-1,1,-1,1,1,-1,1,1,1,-1,1,-1,1,-1,1,-1,-1,1,-1,1,-1,-1,-1,1,-1,1,1,-1,-1,1,1,1,-1,-1,-1,-1,1,-1,-1,-1,1,1,1,1,-1,-1,-1,1,1,-1,1,-1,1,-1,-1,1,-1,-1,-1,-1,1,1,1,-1,1,1,-1,-1,1,1,1,1,1,1,1,-1,-1,-1,-1,-1,-1,1,1,-1,1,-1,1,-1,-1,1,1,-1,1,-1,1,-1,-1,1,-1,-1,-1,-1,-1,1,1,1,-1,1,-1,-1,-1,-1,-1,-1,1,1,-1,-1,-1]
[1,-1,-1,-1,-1,1,1,-1,1,1,-1,-1,-1,1,-1,1,1,1,-1,1,-1,1,-1,1,1,1,-1,-1,-1,1,-1,-1,-1,-1,-1,-1,-1,1,-1,-1,-1,1,-1,-1,1,-1,-1,1,-1,-1,1,-1,1,-1,1,-1,-1,1,1,1,-1,1,-1,1,1,1,-1,-1,1,1,-1,-1,-1,1,-1,1,-1,1,-1,1,-1,-1,-1,-1,1,1,1,1,-1,1,1,1,1,1,1,-1,-1,1,1,-1,1,1,1,1,1,1,1,-1,-1,1,1,-1,1,-1,-1,1,-1,-1,1,1,1,1,-1,1,1,-1,-1,-1,1,1,-1,1,-1,1,1,-1,1,1,-1,-1,-1,1,1,-1,1,-1,-1,-1,1,-1,-1,-1,1,-1,-1,-1,1,-1,1,-1,1,1,-1,-1,1,1,-1,-1,-1,1,1,-1,-1,-1,1,1,1,1,-1,-1,-1,-1,1,-1,1,-1,-1,-1,1,-1,1,-1,1,-1,1,-1,-1,1,1,-1,-1,-1,-1,1,-1,-1,1,-1,1,-1,-1,1,-1,1,-1,1,-1,1,-1,-1,-1,1,-1,1,1,1,1,-1,1,1,1,1,1,-1,1,-1,1,1,-1,1,1,-1,1,-1,-1,-1,1,-1,1,-1,1,1,1,1,-1,-1]
[-1,1,1,-1,1,-1,1,-1,1,1,-1,1,-1,1,1,-1,1,-1,-1,1,1,-1,-1,1,1,-1,-1,-1,-1,-1,1,-1,-1,1,-1,1,-1,-1,1,1,-1,1,-1,-1,-1,1,-1,1,1,-1,-1,1,-1,-1,-1,1,-1,1,-1,1,-1,1,1,1,1,-1,1,-1,1,-1,-1,-1,-1,1,-1,1,1,1,1,-1,1,-1,-1,1,1,1,-1,1,1,-1,1,-1,1,-1,-1,1,1,-1,-1,1,1,-1,1,-1,1,1,1,1,-1,1,1,1,1,-1,1,1,1,-1,1,-1,1,1,-1,1,1,1,-1,-1,1,-1,1,1,1,-1,1,-1,1,1,-1,-1,-1,-1,1,1,-1,1,-1,1,-1,-1,1,-1,-1,1,-1,1,1,1,-1,-1,1,-1,1,1,1,1,-1,1,-1,-1,1,1,1,-1,-1,-1,-1,-1,-1,1,1,-1,1,1,1,-1,1,1,-1,1,1,-1,-1,-1,1,-1,-1,1,1,1,1,-1,-1,-1,-1,-1,-1,1,1,1,1,-1,-1,1,1,-1,1,-1,1,1,1,1,-1,-1,-1,-1,-1,1,-1,1,-1,-1,-1,1,-1,1,1,1,-1,1,1,-1,1,-1,1,-1,1,-1,1,1,-1,1,1,-1,-1,-1]
[-1,-1,-1,1,1,-1,-1,1,-1,-1,-1,1,-1,1,1,1,1,-1,1,-1,1,1,-1,1,1,-1,1,-1,1,1,-1,1,1,-1,1,-1,1,-1,1,-1,1,1,1,-1,-1,1,-1,1,-1,1,1,-1,1,-1,-1,1,-1,1,-1,-1,-1,-1,1,1,1,1,1,-1,-1,-1,1,1,-1,-1,-1,1,1,-1,1,1,1,1,1,1,-1,-1,1,-1,-1,1,-1,1,-1,-1,1,-1,-1,-1,1,1,1,-1,-1,-1,-1,-1,-1,-1,1,-1,1,1,-1,-1,1,-1,-1,1,1,-1,1,1,1,-1,1,1,-1,1,1,-1,-1,1,-1,1,-1,-1,-1,-1,1,1,-1,-1,1,1,1,-1,-1,-1,1,-1,-1,-1,-1,-1,1,-1,-1,1,-1,-1,-1,1,1,-1,-1,1,1,-1,1,-1,-1,-1,-1,-1,1,-1,1,-1,1,1,1,-1,1,1,-1,1,-1,-1,-1,-1,-1,1,1,1,-1,1,-1,-1,-1,-1,1,-1,1,-1,1,-1,1,1,1,-1,1,1,1,-1,-1,1,-1,-1,1,-1,-1,-1,1,1,1,1,-1,1,1,1,-1,1,1,1,1,-1,-1,1,1,-1,1,-1,1,-1,1,1,1,1,1,-1,1,-1,1,1,1,1]
[-1,-1,-1,1,1,1,-1,-1,1,-1,-1,-1,1,-1,-1,1,1,1,1,-1,-1,1,1,1,-1,1,-1,-1,1,1,-1,1,1,-1,-1,1,-1,1,-1,1,-1,-1,-1,-1,-1,-1,1,1,1,1,1,-1,-1,1,-1,-1,-1,1,1,-1,-1,-1,-1,1,1,-1,1,1,-1,-1,-1,-1,1,-1,1,-1,1,-1,1,1,1,1,-1,1,1,1,-1,-1,-1,1,-1,1,1,-1,1,1,1,1,-1,1,-1,-1,1,-1,1,1,-1,-1,-1,-1,-1,1,-1,-1,-1,1,-1,1,-1,1,1,-1,-1,-1,-1,-1,1,1,1,1,-1,-1,1,-1,1,1,-1,1,-1,1,-1,-1,1,1,1,-1,1,-1,1,1,-1,-1,1,-1,1,-1,1,1,1,1,-1,-1,1,1,1,1,-1,-1,1,-1,-1,-1,-1,-1,-1,1,-1,-1,-1,1,1,1,-1,1,1,1,1,-1,-1,-1,1,-1,1,1,1,1,1,1,1,-1,1,1,-1,-1,1,1,1,1,1,-1,-1,1,-1,-1,1,-1,1,1,1,-1,-1,1,-1,1,1,1,-1,1,1,1,1,-1,-1,1,1,1,-1,-1,1,-1,-1,1,1,1,-1,1,-1,-1,1,-1,1,-1,-1,1,1,-1]
[1,1,-1,-1,-1,-1,-1,-1,1,-1,1,1,-1,-1,-1,-1,1,1,1,1,1,1,1,1,1,-1,1,1,1,-1,1,-1,-1,1,-1,1,1,-1,1,-1,1,1,1,-1,-1,-1,-1,1,1,-1,-1,-1,1,-1,-1,-1,-1,1,1,-1,-1,1,-1,1,1,-1,-1,1,-1,-1,1,-1,1,-1,1,1,1,1,1,-1,1,-1,1,1,1,-1,-1,1,1,-1,-1,1,1,1,-1,1,-1,-1,1,1,-1,-1,1,-1,1,1,-1,-1,-1,1,1,-1,-1,1,1,-1,-1,1,-1,1,-1,-1,-1,1,1,1,-1,1,1,-1,1,1,-1,1,-1,-1,-1,-1,-1,-1,1,1,1,-1,1,-1,1,-1,1,-1,1,-1,1,-1,-1,-1,1,-1,1,1,-1,-1,1,-1,1,-1,1,1,-1,1,-1,-1,1,-1,-1,-1,-1,-1,-1,-1,1,-1,1,1,1,-1,-1,-1,1,1,-1,-1,-1,-1,1,-1,-1,-1,-1,-1,-1,1,-1,1,1,1,-1,1,1,-1,1,1,-1,1,1,-1,1,-1,1,1,1,1,-1,-1,-1,1,-1,1,-1,1,-1,1,-1,1,-1,-1,1,1,1,1,1,1,-1,1,1,-1,1,-1,1,1,-1,-1,1,-1,1,1]
[1,-1,-1,-1,-1,-1,-1,1,-1,1,-1,-1,-1,1,-1,1,-1,1,-1,-1,-1,-1,-1,-1,-1,-1,1,1,-1,1,-1,-1,-1,-1,-1,1,-1,-1,-1,1,-1,1,1,1,1,-1,1,-1,1,-1,-1,1,1,-1,-1,1,-1,-1,1,1,-1,-1,1,1,-1,-1,1,-1,-1,-1,-1,1,1,-1,-1,1,-1,-1,-1,1,-1,-1,-1,-1,1,-1,-1,-1,-1,-1,-1,-1,-1,-1,-1,-1,1,-1,-1,1,1,1,-1,1,1,-1,-1,1,1,-1,1,-1,-1,1,1,1,-1,1,-1,1,1,-1,-1,-1,1,1,-1,1,-1,-1,-1,1,1,1,1,-1,1,1,-1,1,-1,-1,-1,1,-1,1,-1,-1,-1,-1,-1,-1,1,1,-1,1,1,1,-1,-1,1,1,1,-1,1,-1,1,-1,-1,1,1,1,1,1,-1,-1,1,-1,1,-1,-1,-1,1,1,-1,1,-1,-1,-1,-1,-1,-1,1,1,-1,-1,-1,1,1,-1,-1,-1,1,1,-1,-1,-1,-1,1,1,1,-1,1,-1,-1,-1,1,1,-1,1,1,1,-1,1,-1,-1,-1,-1,-1,-1,1,1,1,-1,1,-1,1,1,-1,1,1,1,1,1,-1,-1,1,-1,-1,1,1,-1,1,1,-1,1]
[-1,1,1,1,-1,-1,-1,1,-1,1,-1,-1,1,-1,1,-1,1,-1,1,-1,1,-1,1,1,1,-1,-1,1,-1,-1,-1,1,1,-1,1,1,-1,1,-1,-1,1,1,1,-1,1,1,1,1,1,1,1,1,-1,-1,-1,1,1,1,-1,1,-1,-1,-1,-1,1,1,1,1,-1,1,-1,-1,1,-1,-1,-1,1,1,1,-1,1,-1,-1,1,-1,1,-1,1,-1,1,-1,-1,1,1,-1,-1,1,1,1,1,-1,-1,-1,-1,-1,-1,-1,1,-1,1,1,-1,1,1,-1,-1,1,-1,1,1,-1,-1,1,-1,1,-1,-1,-1,-1,1,1,1,-1,-1,-1,-1,1,1,-1,1,1,-1,1,1,-1,-1,-1,1,-1,1,1,1,-1,1,-1,-1,-1,1,-1,1,1,1,1,1,-1,-1,1,-1,-1,-1,-1,1,-1,1,-1,1,1,-1,1,1,-1,1,1,-1,1,-1,1,-1,-1,-1,-1,1,-1,1,-1,1,-1,-1,1,1,-1,1,1,-1,1,-1,-1,-1,-1,-1,-1,1,-1,-1,1,-1,1,-1,-1,-1,1,1,1,1,-1,-1,1,-1,-1,1,1,1,1,1,-1,1,-1,-1,-1,1,-1,-1,1,1,1,-1,1,1,1,1,-1,1,1,-1,1,1]
[-1,-1,-1,-1,1,1,1,1,1,1,1,1,1,1,-1,1,-1,1,1,-1,1,-1,-1,-1,-1,-1,1,-1,1,-1,-1,-1,-1,1,1,1,1,-1,-1,1,-1,-1,-1,1,1,-1,1,-1,1,1,-1,-1,1,-1,1,-1,1,-1,-1,1,-1,1,-1,-1,1,1,1,1,1,-1,1,1,-1,-1,1,-1,1,1,1,-1,-1,-1,1,1,-1,-1,1,1,-1,1,-1,-1,1,-1,1,1,-1,-1,1,1,-1,1,-1,1,1,1,-1,1,-1,1,-1,-1,-1,1,1,-1,-1,-1,1,1,-1,1,1,1,1,1,-1,-1,-1,-1,1,1,1,-1,-1,-1,1,1,-1,1,-1,1,1,-1,-1,-1,1,-1,1,-1,1,-1,-1,-1,1,-1,-1,-1,-1,1,1,1,-1,1,1,-1,1,1,-1,-1,1,-1,-1,-1,-1,1,-1,1,-1,-1,1,-1,-1,1,1,1,1,1,-1,-1,-1,1,-1,1,1,-1,1,1,-1,-1,-1,1,1,1,-1,-1,-1,-1,1,-1,1,-1,-1,1,-1,1,1,1,-1,-1,1,1,1,-1,1,-1,-1,1,-1,1,-1,1,-1,-1,-1,1,1,-1,-1,-1,1,1,-1,-1,1,-1,-1,-1,-1,-1,1,-1,1,1,-1,1]
[-1,-1,-1,1,1,-1,1,-1,-1,1,1,-1,1,-1,1,-1,1,1,-1,1,1,-1,1,1,1,1,-1,1,1,-1,-1,1,-1,1,-1,1,1,1,1,1,-1,-1,-1,1,1,-1,-1,-1,1,-1,-1,-1,1,-1,-1,-1,-1,-1,-1,-1,1,1,1,-1,-1,1,-1,-1,1,-1,-1,1,1,1,1,1,-1,1,-1,1,1,-1,1,-1,1,-1,-1,1,-1,-1,1,-1,1,1,1,-1,1,-1,-1,1,-1,1,-1,1,1,-1,-1,-1,1,1,1,-1,1,1,1,-1,-1,-1,1,-1,1,-1,-1,1,1,1,-1,1,-1,-1,-1,-1,-1,1,-1,1,-1,-1,1,1,-1,1,-1,-1,1,-1,-1,1,1,1,1,-1,-1,1,1,-1,1,1,-1,-1,-1,1,-1,-1,1,1,1,1,-1,-1,1,-1,-1,-1,-1,1,1,-1,-1,-1,-1,1,1,1,-1,-1,-1,-1,1,1,1,1,-1,-1,-1,-1,-1,-1,1,-1,1,1,-1,-1,1,-1,-1,-1,-1,-1,1,1,1,-1,-1,1,1,1,1,-1,-1,1,1,-1,-1,-1,1,1,-1,1,1,1,1,-1,-1,1,-1,1,-1,-1,1,1,-1,-1,-1,1,-1,-1,1,1,1,1,1,1,1,1]
[-1,-1,-1,-1,-1,-1,-1,-1,1,-1,1,1,-1,1,1,-1,1,-1,1,1,1,1,-1,1,1,-1,1,1,1,1,1,-1,1,1,1,1,-1,-1,1,1,-1,-1,-1,-1,-1,-1,-1,-1,1,1,1,1,-1,1,1,1,-1,1,-1,1,1,-1,1,1,1,1,1,-1,1,-1,-1,-1,1,1,1,1,-1,-1,-1,-1,1,-1,1,1,1,-1,1,-1,-1,1,1,-1,1,-1,1,-1,1,-1,-1,-1,1,1,-1,1,-1,1,-1,1,1,1,-1,-1,-1,1,-1,1,-1,-1,1,1,1,-1,-1,1,1,-1,1,1,-1,1,1,1,1,-1,1,-1,-1,-1,-1,1,-1,1,1,-1,-1,-1,-1,1,-1,1,-1,1,1,-1,1,-1,1,-1,1,1,1,1,1,-1,1,-1,4,1,1,1,-1,1,-1,1,1,-1,-1,-1,1,-1,-1,1,1,-1,-1,1,1,1,1,-1,1,1,1,1,-1,-1,-1,-1,-1,-1,-1,1,1,1,1,1,-1,-1,-1,-1,1,-1,-1,-1,1,-1,1,1,-1,1,1,-1,1,-1,-1,-1,-1,1,-1,1,-1,-1,1,-1,1,-1,1,1,-1,1,1,-1,1,-1,-1,-1,-1,1,-1,-1,-1,1,1,1,-1,1]
[-1,-1,-1,1,-1,1,1,-1,1,1,-1,1,-1,-1,1,-1,-1,-1,-1,1,1,-1,-4,-1,-1,1,-1,1,1,-1,-1,-1,-1,1,1,-1,-1,1,1,-1,1,-1,1,1,-1,-1,1,1,-1,1,-1,1,1,1,-1,-1,1,1,-1,-1,-1,-1,1,-1,1,1,-1,1,1,-1,1,1,-1,1,-1,1,1,1,1,1,1,1,-1,1,1,-1,-1,1,1,1,-1,-1,-1,-1,1,1,1,-1,1,-1,-1,-1,1,1,1,1,1,1,-1,1,-1,1,-1,-1,-1,-1,-1,1,1,1,-1,1,1,1,1,-1,-1,1,-1,-1,1,1,-1,-1,1,1,1,-1,1,-4,1,1,1,-1,-1,1,-1,-1,1,-1,1,-1,1,-1,-1,1,-1,1,-1,-1,1,-1,1,1,-1,-1,1,1,-1,1,-1,1,-1,-1,1,-1,1,-1,-1,-1,-1,-1,1,-1,1,-1,1,-1,-1,-1,-1,1,1,-1,-1,1,-1,1,-1,1,-1,-1,1,1,1,1,-1,1,-1,-1,1,-1,1,1,1,1,-1,1,1,-1,1,-1,-1,1,1,1,-1,-1,-1,1,-1,-1,1,1,-1,-1,-1,-1,-1,1,-1,-1,-1,-1,-1,-1,-1,1,-1,1,1,-1,1,-1,-1,1]
[-1,1,-1,-1,1,1,-1,1,1,-1,-1,1,-1,-1,1,1,-1,-1,1,1,1,-1,-1,1,-1,1,1,1,-1,-1,1,-1,-1,1,-1,1,1,1,-1,1,-1,-1,-1,-1,1,1,1,-1,1,-1,1,-1,1,-1,-1,-1,1,-1,1,-1,-1,1,-1,-1,1,1,1,-1,-1,1,-1,-1,1,-1,-1,1,-1,1,-1,-1,-1,1,-1,1,1,-1,1,1,-1,-1,-1,1,1,1,-1,1,-1,1,1,-1,-1,-1,-1,-1,-1,1,-1,-1,1,1,1,-1,-1,-1,-1,-1,1,-1,1,1,-1,-1,-1,1,1,-1,1,1,1,1,1,1,1,-1,-1,-1,1,-1,-1,-1,1,-1,1,1,-1,1,-1,1,-1,1,-1,-1,-1,-1,1,1,-1,1,-1,-1,-1,1,-1,1,-1,1,1,-1,1,-1,-1,-1,1,-1,-1,-1,1,-1,-1,1,1,-1,-1,1,-1,1,-1,-1,-1,-1,-1,1,-1,-1,-1,1,1,-1,-1,-1,1,-1,-1,1,-1,1,1,-1,1,1,1,1,-1,1,-1,1,1,1,-1,-1,-1,-1,1,-1,1,1,-1,1,1,1,1,1,-1,1,-1,1,1,-1,1,-1,1,-1,1,-1,1,-1,-1,1,-1,-1,1,1,1,-1,1,-1]
[-1,1,1,-1,1,1,-1,-1,1,-1,-1,1,1,1,-1,1,1,1,1,1,-1,-1,1,1,1,-1,-1,1,1,-1,1,1,1,1,-1,1,-1,1,-1,-1,-1,-1,1,-1,1,1,-1,-1,1,1,-1,1,1,1,1,1,1,-1,1,-1,1,1,-1,-1,1,-1,1,1,1,-1,1,-1,-1,1,-1,-1,1,-1,-1,1,-1,-1,1,-1,1,1,-1,-1,-1,-1,1,1,1,1,-1,1,1,1,-1,1,-1,1,1,-1,-1,1,1,-1,-1,-1,1,-1,1,1,1,-1,1,1,-1,-1,1,-1,1,-1,1,1,-1,1,-1,-1,1,-1,1,1,1,-1,1,-1,1,-1,-1,1,-1,1,1,1,-1,1,-1,-1,-1,-1,1,-1,1,1,1,1,-1,1,1,1,1,1,-1,-1,-1,1,1,-1,1,1,1,1,1,1,1,1,1,-1,-1,1,-1,-1,-1,-1,-1,-1,-1,-1,-1,1,1,1,-1,1,1,1,-1,1,1,1,1,1,-1,1,1,-1,-1,1,1,-1,-1,1,1,-1,-1,1,1,-1,-1,-1,1,-1,1,-1,1,-1,1,-1,-1,-1,1,-1,1,-1,-1,-1,-1,1,-1,1,1,1,-1,-1,-1,-1,-1,-1,-1,1,1,1,-1,-1]
[-1,1,-1,-1,1,1,-1,1,-1,-1,-1,-1,1,1,1,1,-1,-1,-1,-1,-1,1,1,1,-1,1,-1,1,1,-1,1,-1,1,1,-1,1,-1,-1,1,1,1,-1,1,-1,1,-1,-1,-1,1,1,1,-1,-1,1,-1,-1,1,1,1,1,-1,1,-1,-1,1,1,1,-1,1,-1,1,1,1,-1,-1,-1,1,1,-1,1,1,1,-1,1,-1,-1,-1,-1,-1,-1,1,1,-1,1,-1,1,1,-1,1,-1,-1,1,1,-1,1,1,1,1,1,1,-1,1,-1,-1,1,1,1,-1,-1,-1,-1,-1,-1,-1,1,-1,-1,-1,-1,1,-1,1,1,1,1,-1,-1,-1,1,-1,1,1,1,1,1,-1,1,1,1,1,-1,1,1,-1,-1,1,1,1,1,1,1,1,1,1,-1,1,1,-1,1,1,1,1,-1,1,-1,-1,-1,1,-1,-1,1,-1,1,-1,1,-1,-1,1,-1,-1,-1,1,1,1,-1,1,1,1,-1,-1,1,-1,-1,-1,1,-1,1,-1,-1,-1,1,1,-1,1,1,-1,1,-1,1,-1,1,1,1,-1,1,-1,-1,1,-1,-1,-1,-1,-1,1,-1,-1,1,1,1,-1,-1,1,1,-1,1,-1,1,-1,1,-1,-1,-1,-1,-1,-1,1]
[-1,-1,1,1,1,1,-1,1,1,1,-1,1,-1,1,1,-1,-1,-1,-1,1,1,1,-1,1,1,1,-1,-1,1,1,1,1,1,1,1,1,-1,1,-1,1,-1,-1,1,1,1,-1,-1,-1,1,1,-1,-1,1,1,-1,-1,4,1,1,1,-1,1,1,-1,-1,1,1,1,1,1,1,-1,1,-1,1,1,-1,1,1,1,1,1,1,1,1,-1,1,1,1,1,1,-1,-1,-1,-1,-1,1,-1,1,1,1,1,1,-1,-1,-1,-1,-1,-1,1,-1,-1,1,-1,1,1,-1,1,-1,-1,-1,1,1,-1,1,1,-1,-1,-1,1,-1,1,1,-1,-1,1,-1,-1,-1,1,-1,1,-1,-1,-1,1,-1,-1,-1,-1,-1,1,-1,1,1,1,1,-1,1,-1,-1,1,1,-1,1,1,1,1,1,-1,-1,1,-1,1,1,1,1,1,1,-1,-1,-1,-1,-1,1,1,1,-1,1,1,1,1,-1,-1,1,-1,1,-1,1,-1,-1,1,1,1,-1,1,-1,-1,1,-1,1,1,1,1,1,1,1,1,1,1,1,-1,-1,-1,-1,1,-1,1,1,1,1,1,1,-1,1,-1,1,-1,1,-1,-1,1,1,1,1,-1,1,1,1,-1,1,1,-1,-1,1,1]
[1,-1,1,1,1,1,-1,1,1,-1,-1,-1,-1,1,1,1,1,-1,-1,-1,1,-1,-1,1,-1,-1,-1,1,1,1,-1,-1,1,-1,-1,-1,1,1,1,1,1,-1,1,-1,-1,1,-1,1,1,1,1,-1,1,1,-1,1,1,-1,1,1,-1,1,1,1,-1,-1,-1,1,1,1,1,-1,1,1,1,-1,1,1,1,1,1,1,1,1,-1,-1,1,1,-1,-1,1,-1,-1,1,-1,1,1,-1,1,1,-1,1,-1,-1,-1,-1,-1,1,-1,1,-1,-1,1,1,-1,-1,-1,-1,1,-1,-1,1,1,-1,1,-1,1,-1,1,1,1,-1,1,-1,-1,1,-1,1,1,1,-1,1,1,1,1,1,-1,-1,1,1,1,-1,1,1,1,1,1,1,-1,1,1,-1,-1,1,-1,-1,1,1,-1,-1,-1,1,1,1,1,1,-1,1,1,-1,-1,1,1,-1,-1,-1,1,-1,1,1,1,1,1,1,-1,1,-1,-1,1,1,1,1,1,1,1,-1,1,-1,1,-1,1,1,-1,1,-1,1,-1,1,-1,1,1,1,-1,1,-1,1,1,-1,1,1,-1,-1,-1,-1,-1,1,-1,-1,-1,1,-1,1,-1,1,-1,1,-1,1,-1,-1,1,-1,1,-1,-1,-1]
[1,1,-1,1,1,1,1,-1,1,-1,-1,1,-1,-1,1,1,-1,1,-1,1,-1,-1,1,-1,-1,-1,1,1,-1,-1,-1,1,-1,1,1,1,-1,1,1,-1,-1,-1,-1,-1,1,1,-1,1,1,1,1,-1,1,1,-1,1,-1,-1,-1,-1,-1,-1,1,-1,1,-1,-1,-1,1,1,1,-1,-1,-1,-1,1,-1,-1,-1,1,1,1,-1,1,-1,1,-1,-1,-1,-1,-1,-1,1,-1,1,-1,1,1,-1,-1,-1,-1,1,-1,1,-1,1,1,-1,1,-1,1,1,-1,-1,-1,-1,-1,-1,1,1,-1,-1,-1,-1,-1,-1,-1,1,-1,-1,1,1,1,-1,1,1,-1,1,-1,-1,-1,-1,-1,-1,1,1,1,1,1,1,1,-1,1,1,1,-1,-1,-1,1,-1,-1,-1,1,1,1,1,-1,-1,1,-1,-1,1,1,1,1,1,-1,-1,-1,-1,1,1,1,-1,-1,-1,1,1,1,1,1,-1,1,-1,-1,1,1,-1,-1,1,1,-1,1,1,-1,-1,-1,1,1,-1,1,1,1,-1,1,-1,1,1,1,1,-1,-1,-1,1,-1,-1,1,-1,-1,1,-1,1,-1,-1,-1,-1,-1,1,1,-1,-1,-1,1,-1,1,-1,-1,1,-1,-1,-1,1,-1,1,-1]
[-1,-1,1,1,1,1,-1,-1,-1,1,-1,-1,-1,-1,-1,-1,1,-1,-1,1,1,1,-1,1,-1,-1,1,1,-1,-1,1,-1,-1,1,1,-1,-1,1,-1,1,1,-1,-1,1,-1,-1,1,-1,1,-1,1,1,1,-1,-1,1,-1,1,-1,1,-1,-1,-1,-1,1,1,1,1,-1,-1,1,-1,-1,1,1,1,-1,1,1,1,-1,-1,1,1,1,-1,1,-1,-1,-1,1,-1,-1,-1,-1,-1,-1,-1,-1,-1,-1,-1,1,1,1,-1,1,1,1,-1,-1,1,1,1,1,-1,-1,1,-1,-1,-1,1,-1,1,1,-1,1,1,1,1,1,1,-1,1,-1,1,1,-1,-1,-1,1,1,-1,-1,-1,1,-1,-1,1,-1,-1,1,-1,1,1,-1,-1,1,-1,-1,1,1,1,-1,1,-1,-1,-1,-1,-1,-1,1,1,-1,-1,-1,-1,-1,1,-1,-1,-1,1,-1,-1,-1,1,-1,-1,1,-1,1,1,-1,-1,-1,-1,1,-1,1,1,-1,-1,1,-1,1,-1,-1,1,-1,-1,-1,-1,-1,-1,-1,1,-1,1,1,-1,-1,1,1,1,-1,-1,-1,1,1,-1,-1,-1,-1,1,-1,1,1,1,-1,1,-1,-1,1,-1,1,-1,1,1,1,-1,-1,1,-1,1,-1]
[1,-1,-1,1,1,1,-1,1,1,-1,1,-1,1,-1,1,-1,-1,1,1,1,1,1,1,-1,-1,1,1,-1,-1,1,-1,1,-1,1,1,1,1,-1,1,1,-1,1,-1,1,-1,-1,-1,1,1,1,1,1,-1,1,1,1,1,1,1,1,-1,1,1,-1,-1,1,1,-1,-1,1,-1,-1,1,1,-1,1,1,1,1,1,1,1,1,-1,-1,-1,1,1,-1,1,1,1,1,-1,1,1,-1,-1,1,1,-1,1,-1,1,1,1,-1,1,1,-1,-1,-1,1,-1,-1,-1,1,1,1,1,-1,1,1,1,1,1,1,-1,-1,-1,1,1,-1,1,-1,-1,1,-1,-1,1,1,1,1,1,1,-1,1,-1,-1,-1,1,-1,1,1,1,-1,-1,-1,1,1,1,1,1,-1,-1,1,1,1,-1,1,-1,1,-1,1,-1,1,-1,-1,-1,1,1,-1,-1,1,1,-1,1,-1,-1,-1,1,-1,-1,-1,1,1,1,1,1,-1,-1,1,1,1,1,1,1,-1,1,1,-1,1,-1,1,-1,1,-1,1,1,-1,-1,-1,1,-1,1,1,1,1,-1,1,1,1,1,1,-1,1,1,-1,1,1,-1,-1,-1,-1,-1,1,-1,1,-1,-1,1,-1,1,-1,1,1]
[-1,1,1,1,-1,1,-1,1,-1,1,-1,1,1,-1,1,-1,-1,1,-1,-1,-1,-1,-1,-1,1,-1,-1,1,1,-1,1,1,1,1,-1,1,1,-1,-1,1,1,-1,1,1,1,-1,-1,-1,1,-1,1,1,1,-1,-1,1,-1,1,-1,-1,1,1,-1,-1,1,-1,-1,1,-1,-1,-1,-1,-1,-1,1,-1,-1,-1,1,-1,-1,-1,-1,1,1,-1,1,1,1,-1,-1,-1,1,1,-1,-1,1,1,1,-1,1,-1,1,1,-1,-1,-1,1,1,-1,-1,1,-1,1,-1,-1,1,-1,-1,1,1,-1,1,1,-1,-1,1,1,-1,-1,1,1,-1,1,-1,-1,-1,-1,-1,1,1,-1,1,1,-1,-1,-1,-1,1,-1,-1,-1,-1,-1,-1,1,1,1,-1,-1,1,-1,-1,-1,1,-1,1,1,1,-1,-1,-1,-1,-1,1,1,1,1,1,1,-1,-1,1,1,-1,1,1,-1,1,1,1,-1,1,1,1,1,1,1,-1,1,-1,1,-1,1,1,1,-1,-1,-1,1,-1,1,1,1,1,-1,1,1,1,-1,-1,1,-1,1,1,-1,-1,-1,-1,1,1,-1,-1,-1,-1,1,-1,1,-1,1,1,-1,-1,1,-1,1,-1,1,-1,-1,-1,-1,-1,-1,1,-1]
[1,1,1,-1,-1,-1,-1,1,1,1,-1,1,-1,-1,-1,1,1,-1,1,-1,-1,1,-1,1,-1,1,-1,1,1,-1,1,1,1,-1,-1,1,-1,1,-1,-1,1,1,-1,1,-1,-1,1,-1,-1,1,-1,1,1,-1,-1,1,-1,-1,-1,-1,-1,-1,1,-1,-1,1,1,1,-1,-1,1,1,1,-1,-1,-1,-1,-1,-1,-1,-1,-1,-1,1,1,1,1,-1,1,-1,1,-1,-1,-1,-1,1,1,-1,1,1,1,1,1,1,-1,1,1,-1,1,1,1,-1,1,1,-1,-1,-1,1,1,-1,-1,1,-1,-1,1,-1,-1,1,-1,1,-1,1,1,-1,-1,1,1,1,-1,-1,-1,1,-1,1,-1,1,-1,-1,1,-1,1,1,-1,1,1,1,-1,1,-1,-1,-1,1,1,-1,-1,-1,1,1,-1,1,-1,1,-1,-1,-1,-1,1,1,-1,1,-1,1,-1,-1,1,1,1,-1,1,-1,-1,-1,1,-1,-1,1,-1,-1,1,-1,-1,1,-1,1,1,-1,1,-1,1,-1,1,-1,1,-1,-1,-1,-1,-1,-1,-1,-1,1,1,1,-1,1,1,1,1,1,-1,1,1,-1,1,-1,-1,1,-1,1,-1,1,1,-1,-1,-1,-1,-1,-1,1,-1,-1,1,-1,1,1]
[-1,-1,-1,-1,1,1,1,-1,-1,-1,-1,1,1,-1,-1,1,1,1,1,-1,1,-1,-1,-1,1,1,-1,-1,-1,-1,-1,-1,1,-1,1,-1,-1,1,-1,1,1,1,1,1,-1,-1,-1,1,1,-1,1,1,1,-1,-1,1,-1,-1,1,1,1,1,-1,-1,-1,-1,1,1,1,1,-1,-1,-1,-1,1,-1,-1,-1,1,-1,1,-1,-1,-1,1,-1,-1,-1,1,-1,-1,1,-1,1,1,1,1,-1,1,-1,-1,-1,-1,-1,1,-1,1,-1,-1,-1,-1,-1,1,-1,1,-1,1,-1,-1,1,-1,-1,1,-1,-1,1,1,-1,-1,1,1,-1,-1,-1,1,-1,-1,-1,1,-1,1,-1,-1,1,-1,1,-1,-1,-1,-1,1,1,-1,1,-1,1,1,1,-1,1,-1,1,-1,-1,-1,-1,-1,-1,-1,1,-1,-1,1,1,1,-1,1,-1,-1,1,-1,-1,-1,1,1,1,-1,1,-1,-1,-1,1,1,-1,1,-1,1,-1,1,1,-1,1,-1,-1,1,-1,1,1,1,-1,1,-1,-1,1,1,-1,1,1,-1,1,-1,-1,1,-1,1,1,-1,1,1,-1,1,1,-1,-1,-1,1,1,1,1,-1,1,-1,-1,-1,-1,-1,1,-1,1,-1,1,-1,-1,1,-1,1]
[1,-1,-1,-1,1,1,1,-1,1,-1,-1,1,1,-1,-1,1,-1,-1,1,1,1,1,-1,-1,1,1,1,-1,-1,1,1,1,1,1,-1,1,1,-1,-1,-1,-1,-1,1,1,1,-1,-1,-1,-1,-1,1,-1,-1,-1,1,-1,1,1,-1,1,-1,-1,-1,-1,1,-1,1,1,1,1,-1,-1,1,-1,-1,-1,1,-1,-1,-1,1,1,1,1,1,1,1,-1,1,-1,-1,-1,-1,1,-1,-1,-1,-1,-1,1,-1,1,1,1,-1,1,-1,-1,-1,-1,-1,1,1,1,-1,1,-1,-1,-1,-1,-1,1,1,-1,-1,-1,1,1,1,1,-1,1,-1,-1,-1,1,1,1,1,-1,-1,1,1,-1,1,-1,-1,1,-1,1,-1,-1,-1,-1,1,-1,1,1,-1,-1,1,1,-1,1,-1,1,1,1,-1,-1,-1,1,1,1,1,-1,-1,1,1,-1,-1,-1,1,-1,1,-1,-1,-1,-1,1,1,1,1,-1,1,-1,-1,-1,1,-1,-1,-1,-1,-1,-1,-1,-1,1,-1,1,1,1,-1,-1,1,-1,-1,1,1,1,1,-1,-1,-1,1,1,-1,-1,1,1,1,-1,1,-1,-1,1,1,-1,1,1,1,-1,-1,1,-1,-1,1,1,1,1,1,1,-1,1,-1,1]
[1,1,1,-1,1,1,-1,1,-1,1,-1,-1,-1,-1,-1,1,1,-1,1,1,-1,1,-1,1,-1,-1,-1,1,-1,1,-1,-1,-1,1,-1,-1,1,1,-1,1,-1,-1,-1,-1,1,1,-1,1,-1,1,-1,1,-1,1,1,-1,-1,1,-1,-1,-1,1,-1,-1,1,1,-1,1,1,1,1,1,-1,1,-1,1,-1,1,1,1,1,1,1,1,-1,1,1,-1,1,1,-1,-1,-1,-1,-1,1,-1,1,1,1,1,-1,-1,1,1,1,-1,-1,-1,1,1,-1,-1,1,-1,1,-1,-1,-1,1,1,-1,-1,1,1,1,1,-1,1,1,1,-1,1,-1,1,1,-1,1,-1,1,-1,1,1,-1,-1,-1,-1,-1,-1,-1,1,-1,1,-1,-1,-1,-1,-1,1,-1,1,1,1,1,-1,1,-1,1,1,1,1,1,1,-1,-1,-1,1,1,1,-1,1,1,1,1,-1,1,-1,1,1,1,-1,-1,1,-1,-1,1,1,-1,-1,-1,-1,1,-1,1,1,1,1,1,-1,-1,-1,-1,-1,-1,1,1,-1,-1,-1,-1,-1,-1,-1,1,1,1,1,-1,1,1,-1,1,1,1,1,1,1,-1,1,1,-1,-1,-1,-1,-1,-1,1,1,1,-1,-1,1,1,1,-1,1]
[-1,-1,-1,1,-1,-1,1,1,-1,1,-1,-1,-1,-1,-1,1,1,1,1,1,1,1,-1,-1,-1,-1,-1,1,1,1,1,-1,-1,1,-1,-1,-1,-1,1,1,-1,1,-1,1,-1,-1,-1,-1,-1,1,-1,-1,-1,1,-1,-1,-1,1,1,1,-1,-1,-1,-1,-1,-1,-1,1,1,-1,-1,-1,-1,1,-1,-1,1,1,-1,1,-1,-1,1,1,-1,1,-1,1,1,-1,1,1,-1,-1,1,1,1,1,-1,1,1,-1,-1,1,-1,-1,1,1,1,1,-1,-1,-1,1,1,1,-1,1,-1,-1,1,-1,1,-1,1,1,-1,1,1,1,-1,-1,-1,-1,1,-1,1,-1,-1,1,1,-1,1,-1,-1,-1,1,-1,1,-1,-1,-1,-1,-1,1,-1,-1,-1,-1,-1,-1,1,1,-1,1,-1,1,1,-1,1,1,-1,1,-1,1,-1,-1,1,-1,-1,1,1,-1,1,-1,-1,-1,-1,-1,1,-1,1,-1,1,-1,1,1,1,1,-1,1,1,1,1,1,1,-1,1,1,-1,1,1,-1,-1,-1,-1,1,1,1,-1,-1,1,-1,-1,-1,-1,-1,-1,1,1,1,1,-1,1,-1,1,1,-1,-1,-1,-1,1,-1,-1,-1,-1,-1,-1,-1,1,-1,1,-1,-1,-1,1]
[1,-1,1,1,1,-1,-1,-1,-1,1,1,-1,1,1,1,1,-1,-1,-1,1,1,-1,-1,1,-1,1,-1,-1,-1,1,1,1,-1,1,1,1,1,-1,1,-1,-1,1,-1,-1,-1,1,-1,1,-1,1,1,1,-1,-1,-1,-1,-1,1,1,-1,1,1,1,1,1,1,1,1,-1,-1,-1,-1,1,1,-1,1,-1,1,1,-1,-1,1,1,-1,-1,1,-1,-1,-1,-1,1,-1,1,1,1,-1,-1,-1,-1,1,1,1,-1,-1,-1,1,1,1,-1,-1,-1,1,1,-1,1,-1,1,1,1,-1,1,-1,1,1,1,-1,1,-1,1,1,1,1,-1,-1,1,-1,-1,-1,-1,1,-1,-1,1,1,1,1,-1,1,-1,-1,1,-1,-1,1,-1,1,-1,1,-1,1,1,1,-1,1,1,-1,1,-1,1,-1,1,1,-1,1,1,-1,1,1,1,1,1,1,1,-1,1,1,1,1,1,1,-1,1,1,1,-1,1,1,1,1,-1,-1,-1,-1,1,1,1,-1,1,-1,-1,1,-1,1,-1,1,-1,-1,1,1,1,-1,-1,-1,1,1,-1,1,-1,-1,-1,1,-1,1,1,1,-1,-1,-1,-1,1,1,1,1,-1,-1,1,1,-1,1,1,1,1,-1,1,-1,-1]
[1,-1,1,-1,1,-1,1,-1,-1,1,-1,-1,1,-1,-1,-1,-1,1,-1,1,1,1,-1,1,1,-1,1,1,-1,-1,-1,1,-1,-1,1,-1,1,-1,1,-1,-1,-1,1,-1,1,1,-1,-1,-1,1,1,-1,-1,-1,1,1,-1,1,-1,-1,1,1,1,1,-1,-1,1,1,1,1,1,-1,-1,-1,1,1,1,1,-1,-1,-1,-1,1,-1,-1,-1,1,1,1,-1,-1,1,-1,1,-1,-1,-1,-1,-1,-1,-1,-1,-1,-1,-1,1,1,-1,1,-1,1,-1,1,1,-1,-1,1,1,1,1,1,-1,-1,1,1,-1,-1,-1,-1,-1,1,1,-1,1,-1,-1,1,1,-1,1,-1,-1,-1,1,1,-1,1,1,1,-1,1,1,1,1,-1,1,1,1,-1,1,-1,-1,1,1,1,-1,-1,1,-1,1,1,1,-1,1,1,-1,-1,-1,1,-1,1,-1,1,-1,1,1,-1,-1,1,-1,1,-1,-1,-1,-1,1,-1,-1,-1,1,1,1,1,1,-1,1,-1,1,1,1,-1,1,-1,-1,-1,1,1,1,1,1,-1,-1,-1,-1,-1,-1,1,1,1,-1,1,-1,-1,-1,-1,-1,1,1,-1,-1,1,-1,-1,1,-1,-1,-1,-1,1,-1,-1,-1,-1,1,1,1]
[1,-1,1,-1,1,-1,1,-1,1,-1,-1,-1,-1,-1,-1,-1,-1,-1,1,1,1,1,1,-1,1,-1,-1,-1,1,1,-1,1,1,-1,1,-1,1,1,-1,1,1,-1,-1,1,-1,1,-1,1,-1,-1,1,-1,1,1,1,1,-1,1,-1,1,-1,1,1,1,-1,-1,1,1,1,-1,1,-1,-1,-1,1,1,-1,-1,1,-1,1,-1,-1,-1,1,1,1,-1,1,1,1,-1,1,1,1,-1,1,-1,1,1,1,1,1,-1,-1,-1,1,-1,1,-1,1,1,1,1,-1,-1,1,1,-1,1,-1,-1,-1,-1,-1,-1,-1,1,1,-1,-1,-1,-1,-1,1,-1,-1,1,-1,-1,-1,1,-1,-1,1,1,-1,1,1,1,-1,-1,1,1,-1,1,-1,-1,1,1,-1,1,-1,-1,1,1,-1,-1,1,-1,1,-1,1,-1,1,1,-1,1,1,1,1,-1,1,1,1,1,-1,-1,-1,-1,-1,1,-1,-1,-1,-1,-1,1,1,-1,1,1,1,1,-1,-1,1,1,-1,1,1,1,-1,1,1,1,-1,-1,-1,1,-1,1,1,-1,-1,-1,-1,1,1,1,1,1,-1,1,1,-1,-1,1,-1,1,1,1,1,-1,1,-1,1,1,1,-1,1,-1,1,-1,-1,1]
[1,1,1,1,1,1,1,-1,-1,-1,-1,-1,-1,1,1,1,-1,1,-1,-1,-1,1,-1,1,1,1,1,-1,-1,1,1,1,1,-1,1,1,-1,1,-1,1,1,1,-1,1,-1,-1,1,-1,-1,1,1,1,1,1,1,1,1,1,-1,-1,-1,1,1,-1,-1,-1,1,1,1,1,1,-1,-1,1,-1,-1,1,-1,1,-1,-1,-1,-1,-1,-1,-1,-1,-1,-1,-1,1,1,-1,1,1,1,1,1,1,-1,1,-1,1,1,-1,1,-1,-1,1,-1,-1,-1,-1,-1,1,-1,-1,1,-1,-1,1,1,1,-1,1,-1,-1,1,1,-1,-1,-1,-1,-1,-1,1,-1,-1,1,-1,-1,-1,-1,-1,-1,1,1,1,-1,1,1,-1,-1,-1,-1,1,1,1,1,-1,1,-1,1,-1,-1,-1,-1,1,1,-1,-1,-1,1,1,1,-1,1,-1,1,-1,1,-1,-1,1,-1,-1,1,1,1,-1,-1,1,-1,1,-1,1,1,-1,1,-1,1,1,-1,-1,1,1,-1,-1,1,-1,1,-1,-1,-1,-1,-1,1,1,1,-1,-1,-1,1,1,1,1,1,-1,-1,1,-1,-1,-1,1,-1,1,1,-1,-1,1,1,1,-1,-1,-1,-1,1,-1,1,-1,-1,1,-1,1,-1,1]
[1,1,1,-1,-1,1,-1,-1,1,-1,-1,-1,1,1,-1,1,1,1,-1,-1,1,1,-1,1,1,-1,1,1,-1,1,-1,-1,1,-1,-1,1,-1,-1,-1,-1,-1,1,-1,-1,1,-1,1,-1,-1,1,1,1,-1,-1,1,1,1,1,-1,1,1,-1,-1,1,-1,1,-1,1,1,1,1,-1,-1,1,-1,1,1,-1,-1,-1,1,1,1,1,1,-1,-1,-1,1,-1,-1,-1,1,1,1,1,1,1,1,1,-1,-1,-1,1,-1,1,-1,-1,1,1,-1,1,-1,1,1,1,-1,1,-1,1,-1,-1,1,-1,-1,-1,-1,-1,1,-1,-1,-1,-1,-1,-1,-1,1,1,-1,1,-1,1,4,1,1,-1,-1,-1,1,1,-1,-1,1,-1,-1,1,1,1,-1,1,-1,-1,-1,1,-1,1,1,-1,-1,1,-1,1,-1,-1,-1,1,1,-1,-1,-1,-1,-1,-1,1,1,1,-1,1,-1,1,1,1,-1,-1,1,-1,-1,1,-1,-1,1,-1,1,1,-1,1,-1,-1,1,1,-1,1,1,-1,-1,-1,1,1,1,1,-1,1,1,-1,-1,-1,-1,-1,-1,-1,-1,-1,-1,1,-1,1,-1,1,1,-1,-1,1,-1,-1,1,-1,1,1,1,-1,-1,-1,1,1,-1,1]
[1,-1,1,1,-1,1,-1,-1,-1,1,-1,1,1,1,-1,1,-1,1,1,1,1,1,-1,1,-1,1,-1,1,1,1,1,-1,-1,1,1,-1,1,1,-1,1,-1,-1,1,-1,-1,-1,-1,1,-1,1,-1,1,1,1,1,-1,-1,1,1,1,1,-1,1,1,1,1,1,1,-1,1,-1,-1,1,1,1,1,-1,-1,1,1,-1,-1,-1,1,-1,-1,-1,-1,1,-1,-1,-1,1,1,-1,-1,-1,1,1,1,-1,-1,1,1,1,-1,1,1,-1,-1,1,1,1,1,-1,-1,1,-1,-1,1,1,-1,-1,1,1,1,-1,1,1,1,1,-1,-1,-1,1,-1,-1,-1,1,-1,1,-1,1,-1,1,-1,1,1,1,-1,1,1,-1,-1,-1,1,1,-1,-1,-1,-1,1,-1,-1,-1,-1,-1,1,1,1,1,1,-1,1,1,1,-1,1,1,1,1,-1,-1,1,-1,-1,-1,1,1,1,1,1,1,-1,-1,1,1,-1,-1,1,1,1,1,-1,1,-1,-1,1,-1,-1,-1,1,1,1,-1,1,1,1,1,-1,-1,1,-1,1,1,1,-1,-1,1,-1,-1,1,-1,1,1,1,-1,1,-1,1,1,-1,-1,1,1,1,1,-1,-1,-1,1,-1,1,-1,-1,1]
[1,1,1,-1,1,-1,-1,1,1,1,-1,-1,1,1,1,-1,1,1,-1,-1,-1,1,1,1,1,1,-1,1,1,-1,1,-1,-1,1,1,1,-1,-1,1,-1,-1,1,-1,-1,1,-1,1,-1,-1,-1,-1,1,1,-1,-1,-1,1,1,1,-1,1,1,1,-1,1,-1,1,-1,-1,-1,-1,-1,1,1,-1,-1,1,-1,-1,1,1,-1,-1,1,1,-1,1,1,1,1,1,1,-1,-1,1,-1,-1,1,1,1,1,-1,1,1,1,-1,-1,-1,1,1,-1,-1,1,-1,-1,1,1,-1,1,1,1,-1,-1,1,-1,1,1,1,1,-1,-1,-1,1,-1,-1,1,1,1,1,1,1,-1,1,1,1,-1,1,-1,1,-1,1,-1,1,1,-1,1,1,1,-1,-1,-1,-1,1,-1,-1,1,1,1,1,1,-1,1,1,1,1,-1,-1,1,-1,-1,1,1,1,-1,-1,1,-1,-1,-1,1,1,1,-1,1,-1,-1,-1,1,-1,1,1,-1,-1,-1,-1,1,1,-1,1,-1,1,1,-1,-1,-1,1,-1,1,-1,-1,-1,1,-1,1,-1,-1,1,1,1,1,-1,-1,-1,-1,-1,1,1,1,1,1,-1,1,-1,1,1,1,-1,-1,1,1,1,1,-1,1,1,-1]
[-1,1,1,1,1,1,-1,-1,-1,1,-1,-1,1,1,1,1,-1,1,-1,1,-1,1,-1,1,-1,-1,-1,1,-1,-1,1,1,1,-1,-1,1,1,1,-1,1,-1,1,-1,-1,-1,1,1,1,-1,-1,1,-1,-1,1,-1,-1,-1,-1,1,-1,-1,-1,1,-1,1,1,-1,-1,-1,1,-1,-1,1,-1,-1,1,-1,1,-1,-1,1,1,-1,-1,1,-1,1,-1,1,-1,1,-1,-1,-1,-1,1,-1,1,-1,-1,1,-1,-1,-1,-1,-1,-1,-1,1,1,1,-1,1,-1,-1,-1,-1,1,1,1,-1,-1,1,1,1,1,-1,-1,1,-1,-1,-1,1,-1,1,-1,1,1,1,-1,1,1,-1,1,-1,-1,-1,1,-1,-1,1,1,1,-1,-1,1,-1,1,-1,1,-1,1,-1,1,1,1,-1,-1,-1,-1,1,-1,-1,1,1,-1,1,-1,-1,1,1,1,1,1,1,1,-1,-1,1,-1,1,1,-1,-1,-1,1,1,-1,1,-1,1,1,-1,-1,1,1,1,1,1,-1,-1,-1,-1,-1,1,-1,1,-1,-1,-1,-1,-1,1,-1,1,-1,1,-1,-1,1,-1,1,1,-1,-1,-1,1,1,-1,-1,1,1,-1,-1,-1,1,-1,1,1,1,1,1,-1,1,-1,1]
[1,1,-1,-1,1,1,-1,-1,-1,1,-1,-1,-1,-1,1,-1,-1,-1,1,-1,-1,-1,1,1,-1,-1,-1,-1,1,-1,-1,1,1,-1,-1,-1,-1,1,-1,1,1,-1,1,-1,-1,-1,-1,1,-1,1,1,-1,-1,1,1,1,-1,1,1,1,1,1,-1,1,-1,-1,-1,-1,1,1,1,1,1,-1,1,-1,1,-1,1,1,-1,1,1,1,1,-1,1,1,-1,1,1,-1,-1,-1,1,-1,1,1,1,1,-1,1,-1,1,-1,-1,-1,-1,-1,-1,1,-1,1,-1,1,-1,-1,-1,-1,1,-1,-1,-1,1,-1,1,1,1,-1,1,-1,-1,-1,-1,-1,-1,1,-1,-1,1,1,-1,1,-1,1,-1,1,1,1,1,1,1,-1,1,1,-1,1,-1,1,-1,1,-1,-1,-1,1,1,1,-1,1,1,-1,-1,-1,-1,-1,1,1,-1,-1,1,1,-1,1,-1,1,-1,1,-1,1,-1,1,-1,1,-1,1,1,-1,-1,-1,1,1,-1,-1,1,-1,-1,-1,1,1,1,-1,-1,-1,1,1,-1,1,1,1,1,-1,1,1,1,-1,1,1,1,1,1,1,1,-1,-1,-1,1,-1,1,-1,-1,-1,1,1,1,1,-1,1,1,1,-1,-1,1,-1,-1,-1,1]
[-1,-1,1,-1,-1,-1,1,1,-1,1,1,-1,-1,-1,1,-1,1,-1,1,-1,-1,1,-1,-1,-1,1,1,1,1,-1,1,-1,-1,1,1,1,-1,-1,-1,1,-1,1,1,-1,1,1,1,-1,-1,1,1,-1,1,1,1,1,1,1,1,1,1,1,1,1,1,1,-1,1,-1,-1,-1,-1,1,1,-1,1,-1,-1,1,1,-1,-1,-1,-1,-1,1,1,1,-1,1,1,1,-1,-1,-1,1,1,1,1,1,1,-1,-1,-1,1,1,-1,-1,1,-1,1,-1,-1,-1,1,-1,1,-1,1,-1,-1,-1,1,-1,1,-1,-1,1,1,1,1,-1,-1,1,-1,1,1,1,1,-1,1,-1,1,-1,1,1,1,-1,-1,1,-1,-1,-1,-1,1,1,-1,1,-1,-1,1,-1,1,1,-1,-1,1,1,-1,1,1,-1,-1,1,-1,1,-1,1,1,1,-1,-1,-1,-1,-1,1,1,1,-1,1,1,-1,1,1,1,1,1,1,1,1,-1,1,1,-1,-1,-1,1,1,1,-1,-1,-1,1,1,-1,-1,1,1,-1,-1,1,-1,-1,-1,-1,-1,1,1,-1,-1,-1,-1,-1,1,-1,1,1,1,1,-1,-1,1,1,-1,1,1,-1,-1,1,1,1,1,1,1,1,1]
[-1,-1,-1,1,1,1,-1,-1,-1,-1,-1,-1,1,1,1,-1,-1,1,-1,1,-1,-1,-1,1,-1,1,1,-1,1,1,-1,-1,1,-1,-1,-1,1,-1,1,-1,-1,1,1,1,-1,-1,1,1,-1,1,1,-1,1,1,1,1,-1,-1,-1,1,-1,1,-1,1,-1,-1,-1,-1,-1,1,-1,-1,-1,-1,1,1,-1,-1,-1,1,-1,1,-1,1,1,1,1,-1,1,-1,-1,-1,1,-1,1,-1,1,1,1,1,-1,-1,1,1,1,1,1,1,-1,-1,-1,-1,1,-1,1,-1,1,-1,1,1,1,1,1,-1,1,1,1,-1,1,1,1,1,-1,1,1,-1,-1,-1,1,-1,1,1,-1,1,1,-1,1,-1,1,1,-1,-1,1,-1,1,1,1,1,1,-1,-1,-1,-1,1,1,1,-1,-1,1,1,1,1,-1,1,-1,-1,1,1,1,-1,-1,-1,-1,-1,-1,-1,1,-1,-1,-1,-1,1,1,1,-1,1,-1,-1,1,-1,-1,1,-1,-1,1,1,-1,-1,1,1,-1,1,-1,-1,1,1,-1,-1,-1,1,-1,-1,-1,1,1,-1,1,1,-1,-1,1,1,1,-1,-1,-1,-1,1,-1,1,1,-1,-1,-1,-1,-1,-1,1,-1,-1,-1,-1,1,1,-1,-1]
[1,-1,-1,1,1,-1,-1,1,-1,-1,-1,-1,1,-1,1,-1,-1,1,1,1,-1,-1,1,1,1,-1,1,1,-1,-1,1,-1,-1,1,1,-1,-1,1,1,-1,1,1,-1,1,-1,1,-1,-1,-1,-1,1,1,1,-1,1,-1,1,1,1,1,-1,1,-1,1,-1,1,1,-1,-1,-1,-1,-1,-1,-1,1,-1,1,1,-1,1,1,1,-1,1,1,-1,-1,1,-1,1,-1,1,-1,-1,1,-1,1,1,-1,1,-1,1,1,1,-1,-1,-1,-1,1,-1,-1,1,1,-1,-1,-1,1,-1,-1,1,-1,1,-1,1,1,1,1,1,1,1,-1,1,1,1,-1,1,1,1,1,-1,1,-1,-1,1,1,1,-1,1,-1,-1,1,-1,1,1,-1,-1,-1,-1,-1,1,-1,-1,1,1,1,1,-1,1,1,1,-1,1,1,1,-1,1,1,1,1,1,1,-1,1,1,-1,-1,-1,1,1,1,1,1,-1,-1,-1,1,-1,1,-1,-1,-1,-1,-1,1,1,1,1,-1,-1,1,1,1,1,1,1,1,-1,1,-1,-1,-1,1,-1,1,-1,1,-1,1,-1,-1,-1,-1,-1,1,-1,-1,-1,1,1,1,-1,1,-1,1,-1,1,-1,-1,1,1,-1,-1,-1,1,1,1]
[1,1,1,1,1,1,1,-1,-1,-1,1,-1,-1,-1,1,-1,1,-1,-1,-1,1,1,-1,1,1,-1,-1,1,-1,-1,1,1,-1,-1,1,1,-1,1,1,-1,-1,1,-1,1,-1,-1,-1,-1,-1,1,1,-1,-1,1,1,-1,-1,-1,1,-1,-1,1,-1,1,1,1,-1,-1,-1,-1,1,-1,-1,-1,-1,-1,1,1,1,1,-1,1,-1,-1,1,1,1,4,-1,1,1,1,-1,-1,-1,-1,-1,-1,1,-1,1,1,1,1,-1,1,1,-1,1,-1,-1,1,-1,-1,-1,1,-1,-1,1,-1,-1,-1,-1,-1,1,1,1,-1,-1,1,-1,-1,1,1,1,1,1,1,1,1,1,-1,-1,1,-1,-1,1,1,-1,1,1,1,-1,1,-1,-1,-1,-1,1,-1,1,-1,1,1,1,-1,1,1,-1,-1,-1,1,-1,-1,-1,-1,-1,-1,1,1,-1,-1,1,1,1,-1,-1,-1,-1,-1,-1,-1,1,1,1,-1,-1,-1,1,1,1,1,1,-1,1,-1,1,-1,-1,-1,-1,-1,-1,1,-1,1,-1,1,1,1,-1,-1,1,-1,1,-1,-1,1,1,-1,1,1,-1,-1,1,1,1,1,-1,1,1,1,1,-1,-1,1,-1,-1,-1,-1,1,1,-1,-1,1,-1]
[1,4,1,1,4,-1,-1,-1,1,1,1,1,-1,1,4,1,-1,1,-1,1,1,-1,-1,-1,-1,1,-1,-1,1,1,4,-1,-1,1,-1,-1,-1,1,-1,-1,1,-1,-1,1,1,-1,1,1,1,1,-1,-1,-1,1,1,1,1,-1,1,1,-1,-1,-1,1,1,-1,-1,1,1,1,-1,1,1,1,1,1,1,1,1,1,-1,-1,1,1,-1,-1,-1,-1,-1,1,1,1,-1,-1,1,1,-1,-1,-1,1,-1,1,-1,-1,1,-1,-1,1,1,1,-1,-1,-1,1,-1,-1,1,-1,-1,-1,1,-1,-1,-1,1,-1,1,1,-1,1,-1,-1,-1,1,-1,1,1,1,-1,1,1,1,-1,-1,-1,1,1,1,1,1,-1,-1,1,1,1,1,1,1,1,-1,-1,-1,1,1,1,-1,-1,1,1,-1,1,1,1,1,-1,-1,-1,-1,-1,-1,-1,1,-1,-1,-1,-1,1,1,-1,1,-1,-1,-1,1,-1,-1,1,-1,1,1,1,1,1,1,1,1,1,-1,1,-1,1,1,1,-1,1,1,1,1,-1,-1,1,-1,-1,1,1,1,1,-1,1,1,-1,1,1,-1,-1,1,1,-1,-1,1,-1,-1,1,1,-1,1,1,-1,-1,-1,1,-1,1,1,-1,1]
[-1,1,1,-1,1,-1,-1,-1,-1,-1,1,1,1,-1,-1,1,-1,-1,-1,1,-1,1,1,-1,1,-1,1,-1,1,1,1,1,-1,-1,-1,1,1,1,1,1,1,-1,-1,1,1,-1,-1,-1,1,1,1,1,1,-1,1,1,-1,1,-1,1,1,-1,-1,1,-1,-1,1,-1,-1,-1,1,-1,1,-1,1,1,1,1,1,1,1,1,-1,1,1,1,1,1,1,1,1,-1,-1,-1,-1,1,-1,1,-1,-1,1,-1,-1,-1,-1,-1,-1,-1,1,1,-1,1,1,-1,-1,-1,1,-1,-1,-1,1,1,1,1,-1,1,1,1,1,-1,-1,1,1,1,1,1,-1,1,-1,1,1,-1,-1,1,-1,-1,1,-1,1,1,-1,-1,-1,-1,-1,-1,-1,1,-1,1,-1,-1,-1,-1,-1,-1,-1,1,-1,1,-1,-1,1,1,1,-1,-1,-1,-1,-1,1,-1,-1,1,-1,-1,-1,1,1,-1,1,1,-1,-1,-1,-1,-1,1,1,1,-1,1,-1,1,-1,1,-1,1,-1,-1,1,-1,1,1,-1,1,1,-1,-1,1,1,-1,-1,-1,1,-1,1,1,1,1,-1,-1,-1,-1,1,1,1,-1,1,-1,1,1,1,-1,1,1,-1,1,-1,-1,1,-1,-1,1,1,1]
[1,-1,-1,1,1,-1,1,1,1,-1,1,1,-1,1,1,-1,-1,1,-1,1,1,-1,1,-1,1,-1,1,-1,1,1,-1,1,1,1,-1,-1,1,1,1,-1,-1,1,-1,-1,1,1,1,1,-1,1,-1,1,-1,1,-1,-1,1,-1,-1,1,-1,-1,-1,1,1,1,-1,1,1,1,-1,-1,1,1,1,-1,-1,1,1,-1,1,1,1,1,-1,1,1,1,-1,-1,1,-1,-1,-1,1,1,-1,1,1,1,-1,1,-1,1,-1,1,1,1,-1,1,1,1,1,1,1,1,1,-1,-1,1,-1,-1,-1,1,1,-1,-1,1,-1,1,-1,-1,1,1,-1,1,1,1,-1,1,1,-1,1,1,-1,1,-1,1,1,-1,1,1,-1,1,1,-1,-1,1,1,1,-1,1,1,-1,1,1,-1,-1,-1,1,1,-1,-1,-1,-1,1,-1,-1,1,1,1,-1,-1,1,-1,-1,1,1,-1,-1,-1,1,1,1,-1,-1,1,-1,1,1,1,1,-1,-1,1,1,1,-1,-1,1,1,1,1,-1,1,-1,-1,-1,-1,1,1,1,-1,1,1,1,1,1,1,-1,-1,1,1,-1,1,1,1,-1,1,1,-1,1,1,1,1,-1,1,1,-1,-1,1,-1,1,1,1,1]
[-1,1,1,-1,1,-1,1,1,1,1,1,-1,1,-1,1,-1,-1,1,-1,-1,1,-1,-1,-1,-1,-1,1,-1,1,-1,1,-1,1,-1,-1,-1,-1,-1,1,1,1,1,1,1,1,-1,1,-1,-1,-1,-1,-1,-1,-1,-1,-1,1,1,-1,-1,-1,-1,1,-1,1,1,-1,1,-1,1,-1,-1,1,-1,1,-1,-1,1,1,1,1,-1,1,1,1,-1,-1,-1,-1,1,1,1,-1,-1,1,1,1,-1,-1,-1,1,-1,-1,1,1,-1,1,1,-1,1,-1,1,-1,1,1,-1,1,1,-1,-1,-1,-1,-1,-1,-1,-1,1,1,1,1,1,1,-1,1,1,-1,1,-1,-1,-1,1,-1,1,1,-1,-1,-1,-1,1,1,-1,1,1,1,1,1,-1,1,-1,-1,1,1,-1,1,-1,-1,4,-1,1,1,-1,-1,-1,1,1,1,1,1,1,1,-1,-1,-1,-1,-1,1,1,1,-1,-1,1,-1,1,1,-1,-1,-1,1,1,1,1,-1,1,1,1,1,-1,1,-1,-1,-1,1,-1,1,1,1,-1,1,1,-1,1,-1,-1,-1,-1,1,-1,-1,-1,1,1,-1,1,-1,-1,-1,-1,1,1,-1,-1,-1,1,-1,1,-1,-1,1,-1,1,-1,-1,1,-1,-1,1]
[1,1,1,-1,1,-1,1,-1,-1,-1,1,1,1,1,1,-1,-1,-1,-1,-1,-1,-1,-1,1,1,1,-1,1,-1,1,1,-1,1,1,1,1,-1,1,-1,1,1,-1,-1,-1,1,-1,1,-1,-1,1,1,-1,1,1,-1,-1,-1,1,1,-1,1,-1,1,-1,-1,1,-1,-1,-1,1,-1,1,1,1,1,-1,1,-1,1,1,1,-1,1,1,-1,-1,-1,-1,1,1,1,-1,-1,1,1,1,1,1,-1,-1,1,-1,-1,-1,1,1,-1,1,1,-1,1,1,1,-1,-1,1,-1,1,1,-1,1,-1,1,-1,1,1,-1,1,-1,-1,-1,1,-1,1,-1,1,1,1,1,1,1,1,1,1,-1,1,-1,-1,1,1,1,1,1,1,-1,1,-1,-1,-1,-1,1,1,1,1,1,1,-1,1,1,-1,1,1,-1,-1,-1,1,-1,1,1,-1,-1,-1,1,1,-1,-1,-1,1,-1,-1,1,-1,-1,-1,-1,1,-1,1,1,1,-1,-1,1,-1,-1,1,1,-1,-1,-1,-1,1,1,1,1,-1,-1,-1,-1,-1,-1,-1,1,1,-1,-1,-1,-1,-1,-1,1,1,1,1,-1,1,-1,-1,1,1,1,1,1,-1,-1,1,1,1,-1,1,-1,-1,1,1,1,1]
[1,-1,-1,-1,-1,1,-1,1,1,-1,-1,1,1,1,-1,1,1,1,1,-1,1,-1,1,-1,1,1,-1,1,-1,-1,1,1,1,1,1,1,-1,1,1,-1,-1,-1,-1,-1,1,-1,1,1,-1,-1,-1,1,-1,1,-1,-1,1,-1,1,-1,-1,-1,-1,-1,1,-1,-1,1,-1,-1,1,-1,1,1,1,1,-1,1,1,1,1,-1,1,1,1,-1,-1,1,1,-1,1,1,-1,1,-1,1,-1,-1,-1,-1,1,-1,-1,1,1,-1,1,1,1,1,1,1,1,-1,-1,-1,1,-1,1,-1,-1,1,-1,1,1,-1,1,-1,1,-1,-1,-1,1,-1,-1,-1,1,1,1,1,1,1,-1,1,1,1,1,1,1,-1,1,-1,-1,1,1,-1,-1,1,1,-1,-1,-1,1,1,-1,-1,1,-1,1,1,1,1,-1,1,1,-1,-1,-1,1,1,-1,-1,-1,1,1,-1,1,-1,-1,1,-1,1,-1,1,1,-1,1,-1,1,1,1,-1,-1,1,-1,-1,1,1,1,1,1,-1,1,1,-1,1,-1,-1,1,-1,1,1,1,-1,1,1,1,1,1,1,-1,1,1,-1,-1,1,-1,1,-1,1,1,-1,-1,-1,1,-1,1,1,-1,-1,1,1,1,-1,1,1]
[1,-1,-1,-1,1,1,-1,-1,-1,1,-1,1,-1,1,1,-1,1,1,1,-1,-1,1,-1,-1,1,-1,1,-1,-1,1,-1,-1,-1,1,-1,1,-1,1,-1,1,1,-1,-1,-1,-1,-1,1,-1,-1,-1,1,-1,-1,1,-1,1,-1,-1,-1,-1,-1,1,-1,-1,1,-1,1,1,-1,1,-1,-1,-1,1,1,1,1,-1,-1,1,-1,1,-1,1,1,1,-1,1,1,-1,1,1,1,-1,-1,1,-1,-1,1,-1,1,1,-1,1,1,-1,1,1,-1,-1,1,1,-1,-1,1,-1,1,1,1,1,1,1,-1,1,1,1,1,-1,1,1,-1,1,1,-1,1,-1,1,-1,1,1,1,1,-1,1,1,-1,1,-1,1,1,-1,1,-1,1,-1,1,-1,-1,-1,1,1,-1,-1,1,1,-1,1,-1,1,-1,-1,-1,1,-1,1,1,1,1,-1,1,1,1,1,-1,1,-1,1,1,-1,-1,-1,1,1,-1,1,-1,-1,1,1,1,1,1,1,-1,1,-1,1,1,-1,1,-1,1,-1,-1,1,1,-1,-1,-1,1,1,1,1,1,-1,-1,-1,1,1,-1,-1,-1,-1,1,-1,-1,1,1,1,-1,-1,1,1,1,1,-1,1,-1,-1,1,-1,1,1,1,1,1]
[1,1,1,1,1,-1,-1,1,-1,-1,1,-1,-1,-1,-1,1,-1,-1,1,-1,-1,-1,-1,-1,-1,1,1,-1,1,-1,-1,1,1,-1,-1,1,1,-1,-1,1,-1,-1,1,-1,1,-1,1,1,-1,-1,-1,1,1,1,1,1,1,-1,1,-1,-1,1,1,-1,-1,-1,1,1,1,1,-1,-1,-1,-1,1,-1,1,1,1,-1,-1,1,-1,-1,1,-1,-1,-1,-1,-1,1,-1,-1,1,1,1,-1,1,-1,1,-1,1,1,-1,-1,-1,-1,-1,1,1,1,1,1,1,-1,-1,1,-1,-1,1,-1,1,-1,1,-1,1,-1,-1,-1,1,-1,1,-1,1,1,1,1,1,1,1,-1,1,1,1,1,1,1,-1,-1,1,-1,1,-1,-1,-1,-1,-1,1,1,1,-1,-1,1,1,1,-1,-1,1,1,1,1,1,1,-1,1,1,-1,-1,1,-1,1,-1,-1,-1,1,-1,1,-1,1,1,1,-1,1,-1,-1,-1,-1,-1,-1,1,1,1,-1,-1,-1,1,-1,-1,-1,1,-1,1,-1,1,1,-1,1,-1,1,-1,-1,1,-1,-1,1,-1,1,1,1,-1,-1,1,1,1,-1,1,-1,1,-1,1,-1,-1,1,-1,-1,-1,-1,1,1,-1,-1,-1,-1,-1,-1,1]
[1,-1,-1,-1,-1,1,1,1,-1,1,1,-1,1,-1,-1,-1,-1,-1,-1,-1,-1,1,-1,1,1,1,-1,-1,1,-1,1,-1,-1,-1,-1,-1,-1,1,1,1,1,1,1,-1,-1,1,-1,-1,1,-1,1,-1,-1,-1,1,-1,-1,1,1,-1,-1,-1,-1,1,1,1,-1,1,1,1,1,-1,1,1,1,1,-1,-1,-1,-1,-1,1,1,-1,-1,1,1,1,1,1,-1,1,-1,1,1,-1,1,-1,1,-1,1,-1,-1,1,1,1,-1,1,1,-1,-1,1,1,-1,-1,-1,1,1,-1,1,1,1,-1,-1,-1,-1,-1,-1,1,1,-1,1,-1,1,1,1,-1,1,-1,-1,-1,1,1,-1,-1,-1,1,1,-1,-1,-1,-1,-1,-1,-1,-1,1,-1,-1,-1,1,-1,-1,-1,1,1,-1,1,1,1,1,-1,-1,1,-1,1,1,-1,-1,1,-1,1,1,1,1,-1,1,1,1,-1,-1,-1,-1,1,-1,1,1,1,-1,1,-1,1,1,-1,-1,-1,1,1,-1,-1,1,1,1,-1,-1,1,-1,1,1,-1,-1,1,1,1,-1,-1,1,1,1,1,1,1,1,1,1,1,-1,-1,-1,1,-1,1,1,1,-1,-1,1,1,-1,1,-1,1,1,1,-1,1]
[-1,-1,-1,1,1,1,-1,-1,-1,1,1,1,1,1,-1,-1,1,1,1,1,-1,-1,1,-1,1,1,1,-1,-1,1,-1,-1,-1,1,1,-1,1,-1,-1,-1,1,-1,-1,-1,-1,1,1,-1,1,-1,1,1,1,-1,1,-1,1,1,-1,-1,-1,1,-1,-1,1,-1,-1,1,1,1,-1,1,1,1,-1,1,-1,-1,-1,1,-1,-1,1,1,-1,1,-1,1,-1,1,1,1,-1,1,-1,-1,1,-1,1,-1,-1,1,1,-1,-1,-1,1,-1,-1,-1,1,-1,-1,1,-1,1,-1,1,1,-1,-1,1,1,-1,1,-1,1,1,1,1,1,-1,1,1,-1,-1,-1,1,1,1,1,1,1,1,1,1,1,-1,1,-1,1,1,1,1,1,-1,1,1,-1,1,1,1,-1,1,-1,-1,1,1,1,1,-1,-1,1,-1,-1,-1,1,-1,-1,1,-1,1,-1,1,1,-1,-1,-1,-1,-1,-1,1,-1,1,1,1,1,1,-1,-1,1,1,1,1,1,-1,-1,1,-1,1,-1,-1,1,-1,1,-1,1,1,1,1,-1,1,1,-1,1,1,1,-1,1,1,1,-1,1,1,1,1,1,-1,-1,-1,1,1,1,-1,-1,-1,1,1,1,-1,1,1,1,1,1,-1]
[-1,-1,1,1,1,1,-1,-1,-1,-1,-1,1,1,1,1,1,1,-1,1,-1,1,-1,-1,1,-1,1,1,1,-1,1,-1,1,-1,1,1,-1,-1,1,1,1,1,-1,1,1,1,1,1,-1,1,1,1,-1,1,1,-1,-1,1,1,1,-1,1,1,-1,-1,1,-1,-1,1,-1,-1,1,1,1,-1,1,-1,-1,-1,1,1,1,1,-1,-1,-1,-1,-1,-1,-1,1,1,-1,-1,-1,1,1,1,1,-1,-1,-1,-1,1,1,-1,-1,1,1,1,-1,-1,1,-1,-1,1,1,-1,-1,1,1,-1,1,-1,1,1,-1,1,-1,1,1,-1,-1,-1,-1,1,1,-1,1,-1,1,-1,-1,-1,1,-1,-1,-1,-1,1,1,1,1,1,1,1,-1,-1,-1,-1,1,1,1,-1,1,-1,-1,-1,1,1,-1,1,1,1,1,1,1,1,1,-1,1,1,1,-1,-1,-1,1,1,1,1,-1,-1,-1,-1,1,-1,1,1,1,-1,-1,-1,1,-1,1,1,-1,1,1,1,1,-1,-1,-1,1,-1,-1,-1,-1,-1,1,-1,-1,-1,1,1,-1,1,-1,-1,1,-1,-1,1,1,1,1,1,-1,1,1,-1,1,1,-1,1,-1,-1,-1,-1,1,-1,1,-1,1,1,1]
[1,-1,1,1,-1,-1,1,1,1,-1,-1,1,1,1,1,-1,1,-1,-1,1,1,-1,1,1,1,1,1,1,-1,1,-1,-1,1,-1,1,-1,-1,-1,-1,1,-1,1,1,-1,1,-1,1,1,-1,1,1,-1,1,-1,1,-1,1,-1,1,1,1,1,1,1,1,-1,1,-1,1,-1,-1,-1,-1,-1,1,1,1,-1,1,1,1,-1,1,1,1,1,-1,-1,1,1,1,1,-1,-1,1,-1,-1,-1,1,-1,1,1,1,-1,-1,-1,1,-1,1,-1,1,-1,1,1,1,1,1,1,1,1,1,-1,-1,1,1,-1,-1,1,1,1,-1,1,1,-1,1,1,-1,-1,1,-1,1,-1,1,-1,1,-1,-1,-1,1,-1,-1,-1,-1,1,1,-1,1,-1,-1,1,1,-1,1,1,-1,-1,1,1,1,1,-1,1,-1,1,1,-1,1,-1,-1,1,-1,1,-1,1,1,1,1,1,-1,1,1,-1,-1,1,-1,1,-1,1,-1,1,1,1,1,-1,1,1,-1,1,1,-1,-1,1,1,-1,-1,1,-1,-1,-1,-1,-1,-1,1,-1,1,1,-1,-1,-1,1,-1,-1,1,1,1,1,1,1,-1,1,1,1,-1,-1,1,-1,1,1,1,-1,1,1,1,1,1,1]
[-1,1,1,-1,1,1,-1,1,1,-1,1,-1,-1,-1,1,-1,1,-1,1,1,1,1,1,1,-1,1,-1,1,-1,-1,1,1,-1,1,-1,1,-1,-1,1,1,1,1,-1,-1,1,1,1,1,-1,1,1,-1,-1,1,-1,1,-1,1,1,1,1,1,1,-1,1,1,1,1,1,-1,-1,-1,-1,1,1,-1,-1,-1,-1,1,-1,1,1,-1,1,-1,-1,1,-1,-1,-1,1,-1,1,-1,-1,-1,-1,1,-1,1,-1,-1,1,1,-1,-1,-1,-1,1,-1,-1,-1,1,1,1,-1,-1,1,-1,1,1,-1,1,1,-1,-1,1,1,1,-1,-1,1,-1,-1,-1,-1,-1,1,-1,-1,1,1,-1,1,-1,-1,1,-1,-1,-1,1,1,1,-1,1,-1,1,-1,-1,-1,1,-1,1,1,1,-1,1,1,-1,1,-1,-1,1,1,1,-1,-1,-1,-1,-1,-1,-1,1,-1,1,-1,1,-1,-1,-1,-1,-1,-1,-1,-1,1,1,-1,1,-1,1,1,1,1,-1,-1,1,-1,1,-1,-1,1,1,-1,1,1,-1,-1,-1,1,1,-1,1,1,1,1,1,1,-1,1,1,1,-1,-1,-1,1,-1,1,-1,-1,1,-1,1,-1,1,1,-1,1,-1,1,1,1,-1,1,1]
[-1,1,1,1,-1,1,1,1,-1,1,-1,-1,1,1,-1,1,-1,1,-1,-1,-1,-1,-1,1,-1,-1,1,1,1,-1,-1,-1,-1,-1,-1,1,1,-1,1,1,1,-1,1,-1,-1,1,-1,-1,-1,1,-1,-1,1,-1,1,-1,1,1,-1,-1,1,1,-1,-1,-1,-1,1,1,-1,1,-1,-1,1,-1,1,1,1,1,1,1,-1,-1,-1,-1,-1,-1,1,-1,-1,1,-1,-1,1,1,-1,1,1,1,-1,1,1,-1,-1,1,1,1,1,-1,-1,1,-1,-1,-1,-1,-1,1,-1,1,-1,-1,-1,1,1,-1,-1,-1,1,1,-1,-1,1,-1,-1,1,-1,1,-1,1,-1,1,-1,-1,-1,1,-1,-1,1,1,-1,1,-1,1,1,-1,1,-1,-1,-1,-1,1,1,-1,1,1,-1,1,-1,1,-1,1,-1,-1,1,1,1,-1,-1,-1,1,1,-1,-1,1,-1,1,1,1,1,1,-1,-1,-1,-1,-1,-1,1,-1,-1,1,-1,1,1,-1,-1,1,-1,-1,-1,1,1,1,-1,1,-1,-1,1,-1,-1,-1,1,1,1,1,-1,-1,-1,-1,1,-1,-1,1,-1,1,1,1,-1,-1,-1,1,-1,1,1,1,1,1,1,1,1,1,1,-1,1,-1,-1,1,-1]
[-1,-1,-1,-1,1,1,1,1,1,-1,-1,1,1,-1,-1,1,1,-1,-1,1,1,-1,1,1,1,1,1,-1,1,1,1,-1,1,-1,-1,-1,-1,1,-1,-1,-1,-1,1,-1,1,1,1,-1,1,1,1,-1,1,-1,-1,-1,-1,1,-1,-1,1,-1,-1,1,-1,1,1,1,-1,-1,1,-1,-1,-1,-1,1,1,1,-1,-1,-1,1,-1,1,1,-1,-1,1,1,1,1,1,1,1,1,-1,1,-1,1,-1,1,-1,1,1,-1,-1,-1,-1,1,-1,1,-1,1,1,1,1,1,1,-1,-1,1,-1,1,-1,-1,-1,-1,1,-1,-1,1,1,-1,1,-1,1,1,-1,1,1,-1,1,-1,1,1,-1,1,1,1,1,-1,-1,1,-1,1,1,1,-1,-1,-1,-1,-1,-1,-1,-1,-1,-1,1,1,-1,1,1,-1,-1,1,1,1,1,-1,1,-1,-1,1,-1,-1,-1,-1,1,-1,-1,-1,-1,-1,-1,1,-1,-1,1,1,-1,-1,1,1,1,1,1,1,-1,1,1,-1,-1,1,-1,1,-1,-1,-1,-1,1,-1,1,1,-1,1,-1,1,1,-1,-1,-1,1,-1,-1,-1,1,-1,-1,-1,1,1,1,1,-1,1,1,1,1,-1,-1,1,1,1,-1,-1,-1]
[1,-1,-1,-1,1,-1,1,-1,-1,-1,1,1,1,1,-1,1,-1,-1,-1,-1,-1,1,-1,1,1,1,1,-1,-1,-1,-1,-1,1,-1,1,-1,1,1,-1,-1,1,-1,-1,1,1,-1,-1,-1,1,1,1,1,1,1,1,1,1,-1,-1,1,-1,-1,1,-1,-1,-1,1,-1,1,-1,-1,1,1,1,1,1,1,1,1,-1,-1,-1,-1,1,1,-1,-1,1,1,-1,-1,1,1,-1,-1,-1,1,1,1,-1,1,1,-1,1,1,-1,-1,-1,1,1,1,1,-1,1,-1,-1,1,-1,-1,1,1,-1,-1,-1,1,-1,1,1,-1,1,-1,-1,-1,-1,-1,1,-1,1,1,-1,-1,-1,1,-1,-1,-1,-1,1,1,-1,-1,1,1,1,-1,1,-1,1,-1,1,1,-1,1,-1,1,1,1,1,-1,-1,1,1,-1,1,-1,-1,-1,1,1,-1,-1,-1,-1,-1,-1,1,1,-1,1,-1,1,1,1,-1,1,-1,-1,-1,-1,-1,-1,-1,-1,-1,-1,1,-1,1,-1,-1,-1,-1,1,-1,1,-1,1,1,1,1,1,1,-1,1,-1,1,1,1,1,-1,-1,-1,-1,-1,1,1,-1,-1,-1,1,1,1,-1,-1,1,-1,1,1,1,-1,1,-1,-1,1,1,-1]
[-1,-1,1,-1,-1,1,1,1,-1,-1,-1,-1,-1,1,1,1,-1,-1,1,-1,-1,-1,1,1,1,1,-1,1,-1,-1,-1,-1,-1,-1,-1,1,-1,1,-1,1,-1,1,1,-1,-1,1,1,-1,1,1,-1,-1,-1,-1,1,-1,-1,1,-1,-1,1,1,-1,-1,-1,-1,1,1,1,1,-1,-1,1,1,1,-1,-1,-1,-1,1,1,1,-1,1,1,1,-1,1,1,1,1,1,-1,1,-1,-1,1,-1,-1,-1,1,1,-1,1,-1,1,-1,-1,1,-1,-1,-1,-1,1,1,-1,1,-1,-1,-1,1,1,1,-1,1,-1,-1,-1,-1,-1,-1,-1,-1,-1,1,1,1,-1,-1,-1,-1,1,-1,1,-1,1,-1,1,-1,1,1,1,1,-1,1,-1,-1,1,-1,1,-1,1,1,1,1,-1,-1,1,-1,1,1,-1,-1,1,-1,-1,1,1,-1,1,1,1,-1,1,-1,1,1,-1,1,1,1,-1,-1,1,1,1,1,-1,1,-1,1,1,1,-1,-1,-1,1,1,1,-1,1,-1,-1,1,-1,-1,1,-1,-1,1,1,1,-1,1,-1,-1,1,1,-1,1,1,-1,1,1,-1,-1,-1,-1,1,-1,1,1,1,1,1,1,1,1,-1,-1,1,1,-1,-1,-1,-1]
[-1,1,1,-1,1,-1,1,1,1,1,1,-1,-1,-1,-1,1,1,-1,1,-1,1,-1,-1,1,-1,-1,-1,-1,1,1,-1,-1,-1,-1,-1,1,-1,1,1,-1,1,1,-1,1,1,1,-1,-1,1,-1,1,-1,-1,1,-1,1,1,-1,-1,-1,-1,-1,-1,-1,-1,1,-1,-1,-1,-1,1,1,-1,1,-1,-1,-1,1,-1,-1,1,1,-1,1,1,-1,-1,1,1,1,1,-1,1,1,-1,-1,1,1,1,1,1,1,-1,1,1,1,1,1,1,1,-1,1,-1,1,1,-1,-1,1,1,-1,1,1,-1,1,-1,-1,-1,1,-1,-1,1,-1,1,1,-1,1,1,1,-1,1,1,1,1,1,-1,1,-1,1,1,1,-1,-1,-1,-1,-1,-1,1,1,-1,1,1,1,1,1,-1,-1,-1,-1,-1,1,1,1,-1,-1,1,-1,-1,1,1,-1,-1,1,1,-1,-1,-1,-1,-1,-1,-1,-1,-1,-1,1,-1,-1,-1,-1,-1,1,1,-1,1,-1,1,1,-1,1,1,-1,1,-1,1,1,-1,-1,-1,-1,1,1,1,-1,-1,-1,1,1,1,-1,1,1,1,-1,1,-1,-1,-1,-1,-1,-1,1,-1,-1,-1,1,-1,-1,1,1,-1,-1,1,-1,-1,1,1,-1]
[-1,1,-1,1,1,-1,-1,1,1,1,1,-1,-1,1,1,1,1,-1,1,-1,-1,1,-1,1,1,1,-1,1,1,1,-1,1,1,1,1,1,-1,-1,1,-1,-1,-1,1,1,-1,1,-1,1,-1,1,-1,1,1,1,-1,1,1,1,-1,-1,1,-1,1,-1,1,-1,-1,1,-1,1,-1,1,-1,1,-1,1,1,-1,1,-1,1,-1,1,-1,-1,1,-1,1,1,-1,-1,-1,1,1,-1,1,1,-1,1,-1,1,-1,1,1,1,-1,-1,-1,1,1,-1,1,-1,1,-1,-1,-1,-1,1,-1,1,1,-1,-1,-1,-1,1,-1,-1,-1,1,1,1,1,1,1,1,1,1,1,-1,1,1,1,1,1,-1,-1,-1,-1,-1,1,-1,1,1,1,1,-1,1,-1,1,1,-1,-1,1,-1,-1,-1,1,1,1,1,1,1,-1,-1,1,1,1,1,1,-1,-1,1,1,1,-1,1,-1,-1,1,1,-1,1,1,-1,-1,1,-1,1,1,1,1,-1,1,1,-1,1,1,1,-1,1,-1,1,1,1,1,1,-1,-1,1,1,-1,-1,-1,1,1,-1,-1,-1,-1,-1,1,1,1,1,1,-1,1,-1,-1,-1,1,-1,1,-1,-1,-1,1,1,-1,1,-1,1,1,-1]
[-1,-1,-1,-1,1,-1,-1,-1,1,-1,-1,1,1,-1,1,-1,-1,1,1,1,-1,-1,-1,-1,1,1,1,1,1,1,-1,1,1,1,1,-1,-1,1,-1,-1,1,-1,-1,1,1,-1,-1,-1,-1,-1,1,-1,-1,1,-1,1,-1,1,1,-1,1,1,1,1,-1,1,1,-1,1,-1,-1,1,-1,-1,1,-1,-1,-1,1,-1,-1,-1,1,1,-1,-1,1,1,1,-1,-1,-1,-1,1,-1,-1,1,-1,1,-1,1,1,1,-1,1,1,-1,-1,-1,-1,1,1,-1,1,-1,-1,1,1,1,1,-1,1,1,1,1,-1,-1,-1,-1,-1,-1,-1,1,-1,-1,-1,-1,1,-1,-1,1,1,-1,-1,1,1,1,-1,1,1,1,1,1,-1,-1,1,-1,1,1,-1,1,-1,1,1,-1,-1,-1,1,-1,-1,-1,-1,1,-1,-1,-1,-1,1,-1,1,-1,-1,-1,1,1,-1,1,-1,-1,-1,1,-1,-1,-1,1,1,1,-1,-1,-1,-1,-1,1,-1,-1,1,-1,-1,1,1,1,1,-1,1,1,1,1,1,-1,-1,1,-1,-1,1,1,1,1,1,-1,-1,1,-1,1,-1,1,-1,1,1,-1,-1,1,-1,1,1,1,-1,1,-1,1,-1,1,-1,-1,1,-1,-1]
[1,1,1,1,1,-1,-1,1,1,1,1,-1,-1,1,1,-1,-1,-1,1,1,-1,-1,-1,-1,-1,-1,-1,-1,-1,1,1,-1,-1,-1,1,1,1,1,-1,1,1,-1,-1,-1,-1,1,-1,-1,-1,1,-1,1,-1,-1,-1,-1,1,1,-1,1,1,-1,1,-1,-1,1,1,1,1,1,1,1,1,1,-1,1,-1,1,-1,1,-1,-1,-1,-1,1,1,-1,1,1,-1,1,-1,-1,-1,1,-1,1,1,1,1,-1,-1,-1,-1,-1,1,1,1,1,1,1,-1,1,-1,1,-1,1,-1,1,1,1,1,1,-1,1,-1,-1,-1,1,1,1,1,1,1,-1,-1,-1,1,-1,1,-1,-1,1,-1,1,1,-1,-1,-1,-1,1,-1,-1,-1,-1,-1,-1,1,-1,1,-1,-1,-1,1,-1,-1,1,1,1,-1,-1,1,-1,-1,-1,1,1,1,1,-1,-1,1,1,-1,-1,1,-1,1,1,-1,-1,1,-1,1,1,1,-1,-1,-1,-1,1,-1,-1,1,-1,-1,1,-1,1,-1,1,-1,1,1,-1,1,-1,-1,-1,-1,1,1,-1,-1,-1,1,-1,1,1,-1,-1,1,-1,-1,1,1,1,-1,-1,-1,-1,-1,-1,1,1,-1,1,1,-1,-1,1,-1,-1,1,-1,1]
[1,-1,-1,1,1,-1,1,1,1,-1,1,1,-1,1,-1,-1,1,1,1,-1,1,1,1,-1,-1,-1,1,-1,1,-1,1,1,1,1,-1,-1,1,1,1,1,-1,1,-1,1,-1,-1,1,1,-1,-1,1,1,-1,1,-1,1,1,-1,1,1,1,-1,1,-1,1,1,1,-1,1,-1,-1,1,1,1,1,1,1,1,-1,-1,1,1,1,1,1,-1,-1,1,1,1,-1,1,-1,-1,-1,1,1,-1,1,1,-1,-1,-1,1,-1,-1,-1,1,-1,-1,1,-1,-1,1,1,-1,1,1,1,-1,-1,-1,1,1,1,-1,1,-1,1,-1,-1,1,-1,1,-1,-1,-1,1,1,-1,-1,1,1,-1,-1,-1,1,-1,1,1,-1,1,-1,1,-1,1,-1,-1,-1,1,-1,-1,-1,-1,-1,-1,1,1,-1,1,-1,-1,1,-1,-1,1,-1,1,1,-1,-1,1,-1,1,-1,-1,-1,1,1,1,-1,1,1,1,1,1,1,1,-1,1,1,-1,-1,-1,-1,1,-1,1,-1,1,1,-1,-1,1,1,-1,1,1,-1,1,1,-1,1,1,1,1,-1,-1,-1,1,-1,-1,1,-1,-1,-1,1,1,-1,-1,-1,1,1,-1,-1,-1,1,1,-1,1,1,-1,1,1,1,1]
[1,1,1,1,1,-1,1,-1,1,-1,1,-1,1,-1,-1,-1,1,-1,-1,1,-1,-1,-1,1,-1,-1,-1,1,1,1,1,1,1,-1,1,1,-1,1,1,1,1,-1,-1,-1,-1,1,-1,1,1,1,1,1,1,1,-1,1,-1,1,1,1,1,-1,1,-1,-1,-1,-1,1,1,1,-1,1,1,-1,1,1,-1,1,-1,1,-1,1,1,1,1,1,-1,-1,1,-1,-1,-1,1,1,1,1,1,1,-1,1,-1,1,1,-1,1,-1,-1,1,-1,1,1,1,1,-1,1,-1,1,1,-1,1,-1,-1,-1,-1,1,-1,1,1,-1,1,1,1,1,-1,-1,1,1,1,-1,-1,1,1,-1,1,1,1,-1,-1,1,-1,1,1,-1,1,-1,1,1,-1,1,-1,-1,1,1,-1,1,-1,1,1,1,-1,-1,-1,-1,-1,1,-1,-1,-1,-1,-1,1,-1,-1,-1,-1,1,1,1,1,1,-1,1,1,-1,-1,-1,-1,1,1,1,-1,-1,1,-1,-1,1,-1,1,1,1,-1,1,1,1,-1,-1,-1,-1,1,1,-1,1,-1,1,1,1,-1,-1,1,1,-1,1,1,-1,1,-1,1,1,-1,-1,1,-1,1,1,1,-1,1,1,1,-1,1,-1,-1,-1,-1,1]
[-1,1,-1,-1,-1,1,-1,1,1,-1,1,1,-1,1,-1,1,-1,1,1,1,1,-1,1,1,-1,1,1,1,1,1,1,1,1,1,-1,1,1,1,-1,-1,1,-1,-1,1,1,-1,1,1,-1,1,-1,-1,1,1,-1,-1,1,-1,-1,1,-1,1,-1,1,-1,-1,-1,-1,-1,-1,-1,1,-1,1,-1,-1,-1,-1,-1,-1,-1,-1,1,-1,-1,-1,-1,1,-1,1,-1,-1,-1,1,-1,-1,-1,-1,-1,-1,1,-1,-1,1,1,-1,1,1,1,-1,1,1,1,1,-1,-1,-1,-1,1,-1,-1,1,1,1,-1,1,-1,-1,1,-1,1,-1,-1,-1,-1,1,-1,1,1,1,1,-1,1,1,1,-1,1,1,-1,-1,1,1,1,-1,1,-1,1,1,1,-1,1,1,1,1,-1,-1,-1,-1,1,-1,1,-1,-1,1,-1,1,-1,1,-1,-1,1,-1,-1,1,-1,1,-1,-1,-1,-1,-1,-1,1,1,-1,-1,-1,-1,1,1,-1,-1,1,1,-1,1,-1,1,1,-1,1,1,1,-1,1,-1,-1,-1,-1,1,-1,1,1,-1,-1,1,-1,-1,1,-1,1,-1,-1,1,1,-1,-1,1,-1,-1,-1,-1,-1,1,-1,-1,1,-1,1,-1,1,1,1,-1,-1,-1]
[1,-1,-1,-1,-1,1,-1,-1,1,1,1,1,-1,-1,-1,-1,-1,-1,-1,1,1,1,1,1,1,1,1,-1,1,-1,1,1,1,1,-1,1,-1,-1,1,1,-1,-1,-1,1,-1,-1,-1,1,1,1,-1,-1,1,-1,-1,-1,-1,-1,1,1,1,1,1,-1,-1,-1,-1,1,-1,1,-1,-1,1,1,1,1,1,1,-1,1,1,1,1,-1,1,1,1,1,-1,1,-1,-1,1,1,-1,1,1,-1,-1,1,-1,-1,-1,-1,1,1,1,1,-1,1,-1,1,1,1,-1,-1,-1,1,1,-1,-1,-1,-1,-1,-1,-1,1,1,1,-1,-1,1,-1,-1,1,1,-1,-1,1,-1,1,1,-1,1,1,1,-1,1,-1,-1,1,-1,-1,1,1,1,1,1,-1,-1,1,-1,1,-1,-1,1,-1,-1,-1,1,-1,1,-1,1,1,-1,1,-1,-1,-1,-1,1,-1,1,-1,-1,-1,-1,1,1,-1,-1,1,-1,-1,1,-1,-1,-1,1,-1,-1,1,1,1,1,1,1,-1,-1,1,1,1,-1,1,1,1,1,-1,-1,1,1,1,1,1,1,-1,1,1,1,1,1,1,-1,-1,-1,1,1,1,1,-1,1,1,1,-1,1,1,-1,1,-1,1,1,-1,1,1,1]
[-1,-1,1,-1,1,-1,-1,-1,1,1,-1,1,-1,-1,-1,-1,-1,-1,-1,1,-1,-1,1,-1,1,-1,1,1,1,-1,1,-1,-1,1,1,-1,1,1,1,-1,1,-1,-1,1,1,1,-1,-1,-1,1,1,1,1,-1,1,1,-1,1,-1,1,-1,1,1,-1,-1,1,1,-1,1,-1,1,1,1,1,-1,-1,-1,1,1,1,1,1,1,-1,-1,-1,-1,-1,1,-1,1,1,1,-1,-1,1,-1,1,-1,-1,-1,-1,-1,1,1,1,1,1,-1,1,1,1,-1,-1,1,-1,1,-1,1,1,1,-1,1,1,1,-1,1,-1,1,1,1,-1,-1,-1,-1,1,-1,1,-1,-1,-1,-1,-1,-1,-1,1,-1,1,1,-1,1,1,-1,-1,-1,-1,-1,-1,-1,1,-1,1,1,-1,1,-1,1,-1,-1,1,1,1,-1,-1,-1,1,1,-1,-1,-1,1,-1,1,1,1,-1,1,1,1,1,-1,-1,-1,1,-1,1,-1,1,1,-1,1,-1,-1,1,-1,1,-1,1,-1,1,-1,1,1,-1,-1,-1,1,1,-1,1,1,-1,-1,1,1,1,-1,-1,1,1,-1,1,1,1,1,1,1,-1,1,-1,1,1,1,1,-1,-1,-1,-1,-1,-1,1,-1,-1,1,1,1]
[1,1,1,1,-1,-1,-1,-1,-1,1,-1,-1,-1,1,-1,1,1,1,1,-1,1,1,1,-1,-1,-1,1,1,1,-1,-1,1,-1,-1,1,-1,1,1,-1,-1,1,-1,-1,-1,-1,-1,-1,-1,1,1,-1,1,1,-1,-1,1,1,-1,-1,1,1,1,-1,1,1,-1,-1,1,1,1,-1,1,1,-1,1,-1,1,1,1,-1,1,1,-1,-1,1,-1,1,1,-1,1,-1,-1,1,-1,-1,1,-1,1,-1,-1,1,1,1,1,1,-1,1,-1,-1,1,1,1,1,1,-1,1,-1,-1,1,-1,1,1,1,-1,-1,-1,-1,1,1,-1,-1,1,-1,1,-1,1,-1,1,-1,1,1,-1,1,-1,-1,1,-1,1,-1,1,1,-1,-1,-1,1,-1,-1,1,1,-1,-1,-1,1,-1,-1,-1,-1,-1,-1,1,-1,-1,1,1,-1,-1,1,1,1,1,-1,-1,-1,-1,1,-1,-1,1,1,1,-1,-1,1,-1,-1,-1,-1,1,-1,-1,-1,1,-1,-1,1,-1,-1,1,-1,-1,1,-1,-1,1,-1,1,1,-1,-1,1,1,1,-1,-1,-1,1,-1,-1,1,1,-1,-1,1,-1,-1,1,1,-1,1,-1,1,-1,1,-1,1,-1,-1,1,1,1,1,1,1,-1,1,-1]
[1,-1,-1,-1,-1,-1,-1,-1,-1,1,-1,-1,1,-1,-1,-1,-1,-1,-1,-1,-1,-1,-1,-1,1,1,1,-1,1,1,1,1,-1,1,-1,1,1,-1,-1,1,-1,-1,1,1,1,-1,-1,-1,1,1,-1,1,-1,1,-1,1,1,-1,-1,-1,1,-1,1,-1,-1,-1,-1,1,-1,-1,-1,1,1,-1,-1,1,-1,-1,-1,1,1,1,-1,-1,1,-1,1,-1,-1,-1,1,-1,1,-1,1,1,-1,-1,1,1,-1,1,-1,1,-1,-1,-1,1,-1,1,1,-1,1,1,1,-1,1,1,1,1,-1,-1,-1,1,1,-1,-1,1,-1,-1,1,-1,1,-1,1,1,1,-1,-1,1,1,-1,-1,1,-1,1,-1,-1,-1,-1,-1,1,1,-1,1,1,-1,1,1,1,-1,1,1,-1,-1,-1,-1,-1,1,-1,1,-1,-1,1,-1,-1,-1,1,-1,1,1,1,-1,1,-1,1,1,-1,1,1,-1,-1,-1,-1,-1,1,-1,1,-1,-1,-1,-1,-1,-1,1,-1,1,-1,1,-1,1,-1,1,-1,-1,1,-1,-1,1,1,-1,-1,1,1,-1,1,-1,-1,1,-1,1,1,1,-1,-1,1,-1,1,1,-1,1,-1,-1,-1,1,-1,-1,1,1,-1,1,-1,4,1,1,-1]
[-1,1,1,1,1,1,1,1,1,1,1,-1,1,-1,-1,1,-1,1,1,1,-1,-1,1,-1,1,-1,1,-1,1,-1,1,-1,-1,1,-1,-1,-1,1,1,-1,1,-1,-1,1,-1,1,-1,-1,1,1,1,1,1,1,1,1,1,1,-1,1,1,-1,-1,-1,1,1,-1,1,1,1,-1,1,-1,-1,-1,1,-1,1,-1,-1,1,-1,-1,-1,-1,-1,-1,1,1,1,-1,-1,-1,1,1,1,1,1,1,1,1,1,1,-1,-1,-1,1,-1,-1,1,-1,1,-1,1,-1,1,-1,-1,-1,1,1,-1,-1,-1,-1,1,1,-1,-1,-1,-1,1,1,-1,-1,-1,-1,-1,1,1,1,-1,-1,1,1,1,-1,1,1,-1,-1,1,-1,1,1,-1,-1,-1,-1,1,-1,-1,1,-1,-1,1,-1,-1,-1,-1,1,1,1,-1,1,-1,-1,1,-1,-1,-1,1,-1,1,-1,1,1,1,-1,-1,-1,-1,1,-1,-1,1,-1,1,1,-1,-1,-1,-1,-1,1,-1,-1,-1,-1,-1,1,-1,-1,-1,1,-1,-1,-1,-1,1,-1,1,-1,1,1,1,1,1,1,-1,-1,1,1,-1,1,1,1,-1,1,-1,1,1,-1,-1,1,1,-1,1,1,-1,1,-1,4,1,-1,-1]
[1,-1,1,1,-1,-1,-1,-1,1,-1,1,-1,-1,1,1,1,-1,1,1,-1,-1,1,1,-1,-1,1,-1,-1,-1,1,-1,1,1,-1,1,1,1,-1,1,-1,-1,-1,1,1,-1,-1,-1,-1,-1,-1,-1,-1,1,-1,1,-1,-1,1,-1,-1,-1,-1,1,1,-1,1,1,1,1,-1,-1,-1,1,-1,1,1,1,1,1,1,1,1,1,-1,1,-1,1,-1,1,-1,1,-1,-1,1,-1,-1,-1,1,1,-1,1,1,1,-1,-1,1,1,1,-1,1,-1,-1,-1,1,-1,1,-1,-1,-1,1,1,-1,-1,-1,1,-1,-1,1,1,1,1,1,1,-1,1,-1,1,1,-1,1,1,-1,1,1,-1,-1,1,1,-1,1,-1,1,-1,-1,1,-1,1,-1,-1,1,-1,1,1,-1,1,1,1,1,-1,1,-1,-1,-1,1,1,-1,1,1,-1,-1,1,-1,1,1,-1,1,1,1,1,-1,1,-1,1,-1,1,1,1,-1,1,1,-1,-1,-1,1,1,-1,-1,-1,-1,1,-1,1,-1,1,-1,-1,-1,-1,-1,-1,1,-1,1,1,-1,-1,-1,-1,-1,-1,1,1,1,-1,1,1,-1,1,1,1,-1,-1,-1,-1,-1,1,-1,1,1,1,-1,1,1,-1,-1,-1]
[-1,1,1,1,1,1,1,1,1,-1,-1,-1,-1,-1,1,1,-1,-1,-1,-1,-1,-1,-1,-1,-1,-1,1,-1,1,1,-1,-1,-1,-1,-1,1,1,-1,-1,-1,-1,-1,-1,1,-1,1,-1,-1,-1,1,-1,1,-1,1,-1,-1,1,-1,1,1,1,1,-1,-1,-1,1,-1,1,1,-1,-1,1,1,-1,1,-1,1,-1,1,1,-1,1,-1,1,-1,-1,-1,1,1,-1,1,1,-1,-1,1,1,1,-1,1,-1,1,1,1,1,-1,-1,-1,1,-1,1,-1,-1,-1,-1,-1,-1,-1,1,-1,-1,-1,-1,1,1,1,-1,1,-1,-1,1,1,1,1,1,1,-1,1,1,1,-1,1,-1,-1,-1,-1,1,-1,1,1,-1,-1,-1,-1,1,1,-1,1,1,1,-1,-1,1,-1,-1,1,1,1,-1,-1,1,1,1,-1,1,-1,-1,-1,-1,-1,-1,1,1,-1,1,1,-1,1,-1,-1,1,1,-1,-1,-1,-1,-1,-1,-1,-1,-1,-1,1,-1,1,-1,1,1,1,-1,1,1,1,1,-1,1,1,-1,1,1,1,1,1,1,1,1,-1,1,-1,-1,1,-1,1,-1,1,1,-1,1,-1,1,-1,1,-1,1,1,-1,-1,1,4,1,-1,-1,1,1,-1,-1,-1]
[1,1,1,1,1,1,1,1,1,-1,1,1,1,-1,-1,1,1,1,1,-1,1,-1,1,1,1,-1,-1,-1,1,1,-1,1,1,1,1,1,-1,-1,1,-1,-1,1,-1,1,-1,-1,-1,1,-1,-1,-1,1,1,-1,1,1,1,-1,1,1,-1,1,1,1,-1,1,1,1,-1,-1,-1,1,-1,-1,1,1,-1,1,1,1,-1,-1,1,-1,1,-1,-1,1,1,1,-1,-1,-1,1,1,-1,1,1,-1,1,1,1,-1,1,-1,1,-1,-1,1,1,1,1,-1,1,1,-1,-1,-1,1,-1,-1,1,1,-1,1,1,-1,1,1,1,1,1,-1,-1,-1,-1,1,-1,1,-1,-1,1,-1,1,-1,1,1,1,1,-1,-1,1,-1,1,1,-1,1,-1,1,-1,-1,-1,1,-1,1,1,-1,-1,1,-1,-1,-1,-1,1,-1,1,-1,1,1,-1,1,1,-1,1,1,-1,-1,1,1,1,-1,1,-1,-1,-1,1,-1,-1,1,1,1,1,1,1,-1,-1,-1,-1,1,-1,1,-1,-1,-1,-1,1,-1,-1,-1,1,-1,1,-1,1,-1,1,-1,1,-1,1,-1,1,-1,-1,-1,-1,-1,1,1,-1,-1,1,1,-1,-1,-1,-1,1,1,-1,-1,1,1,-1,-1,-1]
[1,-1,-1,1,-1,-1,1,1,-1,1,-1,-1,1,-1,1,-1,1,1,1,-1,-1,-1,1,-1,1,1,1,1,1,1,1,1,1,-1,-1,-1,-1,-1,-1,1,-1,-1,-1,-1,1,-1,1,-1,1,-1,1,1,1,1,-1,-1,1,-1,1,1,-1,1,1,1,-1,1,1,1,-1,-1,1,1,1,1,1,1,-1,1,1,1,1,1,-1,-1,1,1,1,1,-1,-1,-1,1,1,-1,-1,-1,1,-1,-1,1,1,1,-1,-1,-1,-1,-1,-1,1,-1,1,1,-1,1,1,-1,1,-1,1,1,1,1,1,1,1,-1,1,1,-1,-1,-1,-1,-1,-1,1,-1,1,-1,1,1,1,-1,1,-1,-1,1,1,1,1,-1,-1,-1,1,1,1,-1,-1,-1,-1,1,-1,1,-1,-1,-1,-1,-1,1,-1,1,1,-1,-1,1,-1,1,-1,1,1,1,-1,-1,1,-1,1,-1,1,-1,-1,1,1,1,-1,-1,-1,1,1,1,-1,-1,-1,1,1,1,-1,1,1,1,-1,-1,1,1,1,1,1,1,-1,1,-1,-1,1,1,-1,1,1,1,-1,1,-1,1,-1,1,1,1,-1,1,-1,-1,1,-1,-1,-1,-1,-1,1,1,1,1,1,-1,-1,1,1,1,1,-1]
[1,1,1,1,1,1,-1,1,1,1,-1,-1,-1,1,-1,-1,-1,-1,1,-1,-1,1,1,-1,1,1,-1,1,1,1,-1,-1,-1,1,1,1,1,-1,1,1,-1,1,1,-1,-1,-1,1,1,-1,1,-1,1,1,1,1,-1,1,-1,1,1,1,1,-1,-1,1,1,1,1,-1,1,1,1,1,1,-1,1,-1,1,1,-1,1,1,-1,-1,-1,-1,1,1,-1,-1,-1,1,-1,1,-1,1,-1,-1,-1,-1,-1,1,-1,1,-1,1,1,1,1,1,1,-1,1,1,1,1,1,1,-1,1,1,-1,1,1,-1,-1,1,1,-1,-1,-1,-1,1,1,-1,1,1,1,-1,-1,1,1,1,1,1,1,-1,1,1,1,-1,1,1,-1,1,-1,1,1,-1,1,1,-1,-1,-1,-1,-1,1,-1,1,1,1,1,1,-1,-1,1,-1,1,-1,1,-1,1,1,1,1,1,-1,-1,-1,1,-1,-1,-1,1,-1,1,1,-1,-1,-1,1,1,1,-1,1,1,-1,-1,-1,-1,1,-1,1,-1,1,-1,-1,1,-1,-1,1,1,1,-1,-1,1,1,1,1,1,1,-1,1,1,1,1,1,1,1,1,-1,-1,-1,1,1,1,1,1,1,-1,1,-1,1,-1,-1,-1]
[-1,-1,1,-1,1,-1,1,-1,-1,1,-1,1,-1,-1,1,-1,-1,1,-1,-1,1,1,1,-1,1,1,-1,1,1,-1,-1,1,-1,-1,-1,-1,-1,-1,-1,1,1,1,1,-1,-1,-1,1,-1,-1,1,1,-1,-1,1,-1,1,-1,1,1,1,1,-1,1,-1,-1,-1,1,-1,1,-1,-1,-1,-1,1,1,-1,1,-1,-1,1,-1,-1,1,1,-1,-1,1,1,1,1,1,-1,-1,1,1,-1,-1,-1,-1,-1,-1,1,-1,1,-1,-1,-1,1,-1,1,1,1,1,-1,1,-1,1,1,-1,1,1,1,-1,-1,1,-1,1,1,1,1,-1,-1,1,1,-1,1,1,-1,1,-1,1,-1,1,-1,-1,1,-1,-1,1,-1,-1,-1,-1,1,-1,1,-1,-1,-1,1,1,1,-1,1,-1,-1,1,-1,-1,-1,-1,-1,-1,-1,-1,1,-1,-1,-1,-1,-1,1,-1,1,1,1,-1,-1,1,-1,-1,-1,-1,-1,1,1,-1,1,-1,1,-1,1,1,-1,-1,1,-1,-1,1,-1,-1,-1,-1,1,-1,-1,-1,-1,1,1,1,1,-1,1,-1,-1,1,1,1,1,-1,-1,-1,1,-1,1,-1,-1,-1,-1,-1,-1,1,-1,-1,-4,-1,1,1,1,-1,1,1,1,1,1]
[]
[]
[4,-3,4,2,3,0,-6,0,3,-1,0,3,0,0,16,8,0,0,-3,7,12,-1,-3,1,8,0,3,-1,-1,0,10,-3,9,-4,1,1,0,4,2,0,-1,4,0,13,7,0,-5,-1,8,9,0,1,0,-2,0,-7,0,-1,1,5,3,0,0,-2,-2,-2,0,0,-2,2,3,0,8,0,6,1,0,10,8,0,0,-1,0,-5,2,-1,0,2,0,2,0,6,-1,0,-2,6,0,-3,0,8,6,0,0,0,2,0,-1,-2,7,2,0,3,0,0,1,-1,0,8,-1,-1,-1,-2,0,-4,3,0,0,0,0,0,0,-1,-2,2,0,0,8,-1,0,-2,3,1,2,0,0,-1,0,-4,-2,2,3,-3,0,2,-2,10,3,0,0,2,0,0,-4,0,0,-2,1,-8,0,5,2,2,0,2,0,9,-6,0,0,0,0,0,-1,0,-3,-2,3,0,0,-2,0,0,7,8,0,0,0,5,-1,-3,0,0,0,7,0,-4,7,-8,1,2,1,0,1,0,0,9,-1,2,0,0,8,0,0,1,12,10,-1,0,0,-1,0,0,-4,1,-2,0,0,1,0,0,-2,-1,-1,0,-8,12,11,1,0,4,0,-1,-2,0,5,-3]

{"sheet":"im2colAll_exW6","index":1,"n_rows":9,"n_cols":256,"rows_kept":9,"cut":false,"hidden":false,"merged":[]}
[1627,519,453,645,1588,-469,-205,-341,-331,-85,-643,814,-609,-313,774,810,-555,115,845,153,1086,-235,879,162,746,-679,-253,-31,853,-327,1244,-165,-9,187,-215,458,-151,1139,-171,-357,-217,245,-713,992,583,-585,-489,-413,949,850,287,1535,-169,170,827,281,-26,-441,299,249,655,-421,-411,167,5,-332,-251,503,-47,667,537,-337,759,780,676,375,-37,1015,704,477,161,-393,-321,1153,637,-481,798,151,585,755,29,662,-249,-235,423,1411,-382,1006,-372,44,-27,833,-519,-77,874,426,-511,513,466,102,-165,365,-215,-595,-237,195,-357,209,20,376,-373,-327,-511,499,545,707,-283,-449,-99,213,-315,-171,-291,-11,3,-493,608,237,-305,2045,173,372,101,-43,-73,-735,-49,-185,165,143,-117,-179,537,121,817,521,321,684,-427,341,171,-685,607,584,-699,-147,196,651,-685,171,-214,899,-81,653,-363,116,-69,-261,-21,763,-133,-891,-443,-277,-307,-631,555,-225,-613,-299,-183,479,186,595,-613,-347,-131,-109,-103,463,-527,214,-63,382,-25,-183,650,-75,865,-35,605,1252,57,767,89,502,-97,320,-379,37,221,235,-361,131,1511,204,547,-419,499,307,177,-691,181,767,-147,451,269,461,85,-65,-55,562,183,-135,-295,1323,661,599,-479,221,753,235,818,-273,355,473]
[1796,689,759,1067,945,-487,488,-361,113,-97,-629,380,-627,-189,543,959,-633,115,573,115,1293,-345,-11,239,1074,-797,-81,31,832,-499,1748,49,178,-15,77,446,-489,1129,-47,-411,-181,183,-1121,676,344,-405,-573,-25,945,587,645,1652,-341,-173,795,315,-36,-301,214,496,909,-157,-421,-395,129,-484,-387,388,225,1174,713,-639,890,1005,568,530,-507,663,422,643,57,-431,-533,1471,587,-499,574,-102,1051,869,-345,782,249,-173,795,1899,-217,701,-167,187,249,485,-363,-377,943,278,-513,369,909,91,-93,467,-67,-659,-131,233,-77,479,-200,133,-431,-385,-317,428,551,367,-337,-483,-287,325,-115,-151,-327,127,139,-655,1070,-265,-231,481,159,-24,575,83,121,-855,-299,212,95,886,-190,-293,646,363,984,766,291,745,-207,551,371,-635,761,482,-547,-285,725,343,-897,549,125,990,-291,757,-385,368,199,-161,-243,605,-465,-965,-329,-205,27,-853,371,-429,-983,38,471,433,250,1062,-21,-123,-515,-125,-389,353,-579,15,409,519,-49,-177,1127,345,1147,-45,491,816,9,911,-263,580,231,633,-421,-91,117,153,-763,249,1609,617,916,-417,101,-235,617,-777,487,1293,-345,677,761,963,351,47,205,657,149,-195,-369,1880,320,1093,-665,261,645,273,971,-279,365,476]
[1715,587,512,730,874,-290,93,-420,94,-328,-518,368,-278,-374,313,1128,-426,-256,470,106,1215,106,261,178,1105,-516,380,26,734,-598,1007,64,13,214,-218,597,-450,1038,2,-312,-198,402,-924,819,268,-388,-478,152,728,398,446,1561,-792,-352,908,208,-50,186,344,426,1181,-250,-110,-82,336,-831,92,399,-4,886,610,-748,513,743,292,367,-264,428,656,527,116,-56,-186,1542,786,-256,552,52,1012,472,-456,621,666,0,766,1682,-149,776,21,133,320,144,-452,-108,633,830,-448,146,813,101,-124,241,132,-764,16,702,-360,82,-201,455,-404,126,-740,103,344,454,-474,-656,-138,-344,-148,-158,-92,574,256,-546,430,-344,-404,1020,-259,271,714,-262,-30,-414,-194,-384,92,637,-41,-662,637,88,891,393,806,479,-226,660,326,-340,874,1042,-888,166,493,454,-1064,434,-268,1136,-128,314,-528,37,190,-244,-372,90,-436,-914,-12,-78,-90,-456,390,-110,-798,42,121,320,132,710,-13,-262,-704,-242,-412,12,-702,-112,268,-73,-264,-262,1093,234,784,-131,148,1258,258,604,-518,437,116,727,-226,-306,23,486,-826,-20,1709,346,776,-476,172,-164,642,-726,224,1396,-346,824,398,449,238,162,174,619,274,-236,-86,1500,649,1663,-618,-8,306,638,739,-326,132,137]
[1609,693,380,170,1603,-598,309,-526,46,108,-554,875,-506,-222,978,502,-532,-266,762,466,1209,68,1178,157,581,-568,-402,-152,503,-172,1181,-114,-30,336,-168,646,-78,835,-64,-662,-226,371,-476,509,208,-594,-522,-302,968,403,186,356,-272,-43,1312,42,-189,-380,677,436,529,-688,-292,608,-256,-107,256,220,-10,513,702,-304,516,654,843,242,10,660,304,-120,68,-466,-230,1032,872,-370,734,403,531,396,-34,683,156,-130,244,662,127,574,-250,362,46,1016,-638,-36,540,296,-490,288,512,-136,-60,358,-778,-436,-118,688,-172,776,-375,794,-362,-240,-576,568,792,446,-238,-492,-224,302,-74,-142,-160,-58,-38,-36,539,-112,-50,1703,105,201,-83,-190,302,-652,-260,113,-26,309,3,-174,734,-88,758,379,690,886,-516,545,96,-580,92,806,-464,-63,403,1005,-692,-49,26,969,-336,224,-466,404,-116,-314,-426,401,-144,-596,-286,-176,-398,-490,442,-300,-488,-600,142,340,282,33,-412,-226,-278,-22,82,-260,-280,96,64,300,54,-264,421,234,718,-565,400,1030,22,758,358,471,186,823,-368,98,-146,6,-266,-66,811,39,-100,-566,744,504,136,-672,-62,638,54,324,192,305,108,-122,42,224,-126,-178,-204,1154,706,101,-230,420,290,1000,280,-584,300,352]
[1264,819,564,254,642,-654,1294,-624,867,214,-998,210,-514,-36,798,489,-418,-270,196,520,988,514,-136,479,570,-828,80,150,566,-384,1539,108,254,72,292,469,-64,320,8,-684,-8,352,-826,-315,-184,-412,-426,-22,936,-115,358,400,-394,-173,954,42,-32,-72,780,943,1044,-536,-370,-116,-90,192,-112,-318,30,1182,694,-684,629,890,562,339,-440,8,-357,-409,292,-586,-282,1162,680,-296,964,423,1312,578,-498,244,526,-388,638,1052,989,18,-15,565,-6,700,-750,-120,583,85,-166,-110,1388,-449,-356,176,-1152,-744,40,886,-66,1066,-116,1137,-404,-716,-144,670,874,236,-132,-582,-446,562,98,-292,114,538,270,-42,1036,-510,-72,-308,271,78,604,122,594,-896,-984,864,204,1441,-105,40,801,452,1004,843,26,987,-172,572,610,-248,216,745,-208,-306,1546,607,-562,504,359,1303,-500,280,-478,525,66,-304,-944,5,-600,-874,-156,-38,190,-708,320,-494,-782,-694,1055,148,78,670,603,-162,-496,14,-334,-334,-114,-78,766,136,-242,-218,514,500,1100,-632,52,77,-182,914,-18,682,716,1433,-144,-416,-520,-92,-608,-68,446,438,-144,-906,-2,184,1024,-936,368,828,-16,374,802,1023,314,-314,250,263,-174,-320,-116,1412,313,135,-304,594,-86,948,294,-802,588,990]
[1042,373,355,-219,506,-493,455,-567,518,-217,-539,591,-487,-87,597,798,-343,-463,279,43,938,833,591,332,552,-1005,123,67,421,-423,1170,157,332,521,-403,1066,-139,373,505,-417,-219,157,-891,294,-143,-207,-287,249,1379,370,237,324,-839,-127,913,-231,-215,-45,1151,842,1334,-791,-635,417,335,-39,581,-173,-113,1050,315,-829,7,1038,314,774,-415,489,-30,-423,411,-43,-185,1591,539,-59,454,708,1046,45,-377,238,925,-117,775,677,944,351,372,399,201,217,-677,-187,370,553,-281,-77,1024,-58,-119,435,-767,-479,157,1381,-109,847,-113,1244,-179,-329,-265,193,890,497,-139,-805,-697,-567,137,-293,157,1053,401,-539,469,-277,-715,1020,-503,285,730,5,319,-507,-253,297,-17,1081,-175,-513,1261,461,1377,321,541,798,-545,862,503,-295,83,874,-521,498,769,724,-1061,458,312,1558,-349,-249,-193,457,-339,-389,-415,260,-867,-1069,-107,-157,-269,-521,595,-129,-333,-525,422,167,112,530,412,-133,-521,-219,-447,-587,-79,-410,787,-41,-29,-297,694,747,763,-742,115,613,9,623,-153,162,231,1688,-421,-401,19,427,-725,-307,906,209,95,-333,81,119,993,-607,259,884,-521,629,405,194,179,195,1,125,-307,-157,-57,1297,719,687,-49,-45,-17,965,201,-189,643,517]
[1205,711,183,-151,1128,-537,306,-251,27,-171,-375,464,-641,-285,1127,355,-599,-281,973,505,944,187,1047,207,666,-883,-259,-235,525,-147,676,-171,-374,135,-35,549,-287,679,435,-629,-127,429,-487,701,343,-683,-471,-183,747,154,-175,378,-59,424,905,29,-160,-321,535,508,1190,-301,-315,773,87,219,255,295,-109,402,513,-601,491,143,800,202,-159,613,486,-309,55,-329,-429,693,589,-7,459,830,205,601,-419,761,-25,-191,27,733,313,472,-267,249,111,855,-489,59,185,472,11,161,763,3,-199,375,-547,-385,47,729,-191,579,-412,355,-257,-99,-407,426,379,431,-459,-213,-245,-101,-413,-241,351,241,-27,-15,221,-13,203,1572,5,273,-81,13,319,-521,-125,-258,141,278,51,-179,365,227,611,-58,439,751,-529,588,139,-285,91,781,-435,-11,484,780,-663,-122,125,1102,-235,237,-311,198,-177,-135,-325,230,-225,-563,-115,-433,-109,-193,361,73,-415,-604,-5,303,259,-46,-292,-267,-81,183,93,-225,-273,257,127,259,113,-167,501,171,621,-220,579,960,185,201,439,544,75,762,-35,-287,-143,103,-101,77,973,-103,-158,-317,831,673,339,-547,229,455,-119,131,-229,97,-131,-101,147,82,-461,-137,179,734,684,-54,-197,-63,217,553,440,-423,343,258]
[1095,903,717,15,151,-61,959,-11,258,61,-725,-341,-537,-433,955,395,-175,-225,483,437,322,595,-137,911,604,-1139,169,-149,634,-517,997,-267,90,-465,71,190,-603,592,503,-689,-23,382,-553,314,125,-783,-533,-437,717,-363,-511,884,-335,304,535,47,81,55,379,748,1308,-301,-615,343,493,802,-195,79,-75,533,301,-953,862,223,496,-89,-367,35,-14,-893,495,-417,-453,1025,295,199,664,1309,654,1041,-333,560,-69,-519,325,987,931,-111,123,118,121,657,-533,-85,166,619,293,3,1691,-23,-223,251,-775,-747,355,471,-95,439,-29,623,-313,-751,-265,256,766,361,-491,-405,-247,69,-67,-379,315,939,365,67,592,-235,265,466,66,369,409,141,467,-527,-871,118,195,1639,-246,311,143,907,737,215,-9,770,193,509,385,-53,169,715,-345,-236,1715,-12,-707,299,-157,1406,-111,775,-179,293,-171,-141,-449,51,-537,-591,-181,-433,491,-383,247,-93,-687,-758,730,59,661,219,525,-227,-359,263,-15,259,-63,312,775,-43,-17,-117,714,277,1031,-100,131,373,-385,479,-265,753,401,1368,1,-507,-736,527,-73,117,743,102,-525,-589,-163,369,999,-519,667,283,-83,75,77,828,9,-541,409,275,-413,-377,195,994,201,-31,-55,145,-255,291,433,-497,133,980]
[1194,468,247,-329,322,-279,331,-241,-189,-181,-453,54,-365,-179,415,626,277,-337,263,-79,608,447,160,616,799,-1149,11,63,636,-389,618,-59,55,89,-401,863,-355,499,587,-579,161,186,-909,659,232,-367,-357,-505,1203,530,-847,689,-695,215,495,37,-272,-201,817,647,1087,-607,-821,799,793,674,401,-43,-257,574,139,-771,15,598,895,221,-485,243,159,-881,555,-301,-109,1393,237,-9,782,1415,565,831,-317,536,-65,-325,635,839,728,404,408,-338,227,847,-241,-103,551,876,243,303,1188,326,-361,407,-523,-647,407,733,-315,175,-174,642,-39,-619,-385,-56,856,61,-365,-307,-305,-431,-415,-409,357,643,191,-533,53,-1,-121,1164,-291,638,141,-39,377,-517,-107,-408,-95,1347,-295,-235,624,505,905,-139,413,501,-197,1049,113,-105,37,835,-465,369,684,473,-831,555,291,1626,-261,441,-27,86,-185,-97,201,335,-585,-563,-145,-537,423,-421,297,-271,-213,-853,185,-49,485,615,293,-319,-281,353,77,181,-343,488,817,81,-15,-11,966,405,791,-434,401,715,-213,373,-415,308,213,1150,-631,-367,-173,655,47,-491,1195,131,-242,-173,-93,471,1133,-371,635,477,-241,-99,121,286,-223,-51,219,221,43,-29,275,1302,228,401,1,187,-39,219,729,-417,395,754]

{"sheet":"truncate","index":2,"n_rows":9,"n_cols":256,"rows_kept":9,"cut":false,"hidden":false,"merged":[]}
[{"$f":"IF(im2colAll_exW6!A1:IV9 > 0, ROUNDDOWN(im2colAll_exW6!A1:IV9/2^6, 0), ROUNDUP(im2colAll_exW6!A1:IV9/2^6, 0))","v":25},{"$f":"IF(im2colAll_exW6!B1:IW9 > 0, ROUNDDOWN(im2colAll_exW6!B1:IW9/2^6, 0), ROUNDUP(im2colAll_exW6!B1:IW9/2^6, 0))","v":8},{"$f":"IF(im2colAll_exW6!C1:IX9 > 0, ROUNDDOWN(im2colAll_exW6!C1:IX9/2^6, 0), ROUNDUP(im2colAll_exW6!C1:IX9/2^6, 0))","v":7},{"$f":"IF(im2colAll_exW6!D1:IY9 > 0, ROUNDDOWN(im2colAll_exW6!D1:IY9/2^6, 0), ROUNDUP(im2colAll_exW6!D1:IY9/2^6, 0))","v":10},{"$f":"IF(im2colAll_exW6!E1:IZ9 > 0, ROUNDDOWN(im2colAll_exW6!E1:IZ9/2^6, 0), ROUNDUP(im2colAll_exW6!E1:IZ9/2^6, 0))","v":24},{"$f":"IF(im2colAll_exW6!F1:JA9 > 0, ROUNDDOWN(im2colAll_exW6!F1:JA9/2^6, 0), ROUNDUP(im2colAll_exW6!F1:JA9/2^6, 0))","v":-8},{"$f":"IF(im2colAll_exW6!G1:JB9 > 0, ROUNDDOWN(im2colAll_exW6!G1:JB9/2^6, 0), ROUNDUP(im2colAll_exW6!G1:JB9/2^6, 0))","v":-4},{"$f":"IF(im2colAll_exW6!H1:JC9 > 0, ROUNDDOWN(im2colAll_exW6!H1:JC9/2^6, 0), ROUNDUP(im2colAll_exW6!H1:JC9/2^6, 0))","v":-6},{"$f":"IF(im2colAll_exW6!I1:JD9 > 0, ROUNDDOWN(im2colAll_exW6!I1:JD9/2^6, 0), ROUNDUP(im2colAll_exW6!I1:JD9/2^6, 0))","v":-6},{"$f":"IF(im2colAll_exW6!J1:JE9 > 0, ROUNDDOWN(im2colAll_exW6!J1:JE9/2^6, 0), ROUNDUP(im2colAll_exW6!J1:JE9/2^6, 0))","v":-2},{"$f":"IF(im2colAll_exW6!K1:JF9 > 0, ROUNDDOWN(im2colAll_exW6!K1:JF9/2^6, 0), ROUNDUP(im2colAll_exW6!K1:JF9/2^6, 0))","v":-11},{"$f":"IF(im2colAll_exW6!L1:JG9 > 0, ROUNDDOWN(im2colAll_exW6!L1:JG9/2^6, 0), ROUNDUP(im2colAll_exW6!L1:JG9/2^6, 0))","v":12},{"$f":"IF(im2colAll_exW6!M1:JH9 > 0, ROUNDDOWN(im2colAll_exW6!M1:JH9/2^6, 0), ROUNDUP(im2colAll_exW6!M1:JH9/2^6, 0))","v":-10},{"$f":"IF(im2colAll_exW6!N1:JI9 > 0, ROUNDDOWN(im2colAll_exW6!N1:JI9/2^6, 0), ROUNDUP(im2colAll_exW6!N1:JI9/2^6, 0))","v":-5},{"$f":"IF(im2colAll_exW6!O1:JJ9 > 0, ROUNDDOWN(im2colAll_exW6!O1:JJ9/2^6, 0), ROUNDUP(im2colAll_exW6!O1:JJ9/2^6, 0))","v":12},{"$f":"IF(im2colAll_exW6!P1:JK9 > 0, ROUNDDOWN(im2colAll_exW6!P1:JK9/2^6, 0), ROUNDUP(im2colAll_exW6!P1:JK9/2^6, 0))","v":12},{"$f":"IF(im2colAll_exW6!Q1:JL9 > 0, ROUNDDOWN(im2colAll_exW6!Q1:JL9/2^6, 0), ROUNDUP(im2colAll_exW6!Q1:JL9/2^6, 0))","v":-9},{"$f":"IF(im2colAll_exW6!R1:JM9 > 0, ROUNDDOWN(im2colAll_exW6!R1:JM9/2^6, 0), ROUNDUP(im2colAll_exW6!R1:JM9/2^6, 0))","v":1},{"$f":"IF(im2colAll_exW6!S1:JN9 > 0, ROUNDDOWN(im2colAll_exW6!S1:JN9/2^6, 0), ROUNDUP(im2colAll_exW6!S1:JN9/2^6, 0))","v":13},{"$f":"IF(im2colAll_exW6!T1:JO9 > 0, ROUNDDOWN(im2colAll_exW6!T1:JO9/2^6, 0), ROUNDUP(im2colAll_exW6!T1:JO9/2^6, 0))","v":2},{"$f":"IF(im2colAll_exW6!U1:JP9 > 0, ROUNDDOWN(im2colAll_exW6!U1:JP9/2^6, 0), ROUNDUP(im2colAll_exW6!U1:JP9/2^6, 0))","v":16},{"$f":"IF(im2colAll_exW6!V1:JQ9 > 0, ROUNDDOWN(im2colAll_exW6!V1:JQ9/2^6, 0), ROUNDUP(im2colAll_exW6!V1:JQ9/2^6, 0))","v":-4},{"$f":"IF(im2colAll_exW6!W1:JR9 > 0, ROUNDDOWN(im2colAll_exW6!W1:JR9/2^6, 0), ROUNDUP(im2colAll_exW6!W1:JR9/2^6, 0))","v":13},{"$f":"IF(im2colAll_exW6!X1:JS9 > 0, ROUNDDOWN(im2colAll_exW6!X1:JS9/2^6, 0), ROUNDUP(im2colAll_exW6!X1:JS9/2^6, 0))","v":2},{"$f":"IF(im2colAll_exW6!Y1:JT9 > 0, ROUNDDOWN(im2colAll_exW6!Y1:JT9/2^6, 0), ROUNDUP(im2colAll_exW6!Y1:JT9/2^6, 0))","v":11},{"$f":"IF(im2colAll_exW6!Z1:JU9 > 0, ROUNDDOWN(im2colAll_exW6!Z1:JU9/2^6, 0), ROUNDUP(im2colAll_exW6!Z1:JU9/2^6, 0))","v":-11},{"$f":"IF(im2colAll_exW6!AA1:JV9 > 0, ROUNDDOWN(im2colAll_exW6!AA1:JV9/2^6, 0), ROUNDUP(im2colAll_exW6!AA1:JV9/2^6, 0))","v":-4},{"$f":"IF(im2colAll_exW6!AB1:JW9 > 0, ROUNDDOWN(im2colAll_exW6!AB1:JW9/2^6, 0), ROUNDUP(im2colAll_exW6!AB1:JW9/2^6, 0))","v":-1},{"$f":"IF(im2colAll_exW6!AC1:JX9 > 0, ROUNDDOWN(im2colAll_exW6!AC1:JX9/2^6, 0), ROUNDUP(im2colAll_exW6!AC1:JX9/2^6, 0))","v":13},{"$f":"IF(im2colAll_exW6!AD1:JY9 > 0, ROUNDDOWN(im2colAll_exW6!AD1:JY9/2^6, 0), ROUNDUP(im2colAll_exW6!AD1:JY9/2^6, 0))","v":-6},{"$f":"IF(im2colAll_exW6!AE1:JZ9 > 0, ROUNDDOWN(im2colAll_exW6!AE1:JZ9/2^6, 0), ROUNDUP(im2colAll_exW6!AE1:JZ9/2^6, 0))","v":19},{"$f":"IF(im2colAll_exW6!AF1:KA9 > 0, ROUNDDOWN(im2colAll_exW6!AF1:KA9/2^6, 0), ROUNDUP(im2colAll_exW6!AF1:KA9/2^6, 0))","v":-3},{"$f":"IF(im2colAll_exW6!AG1:KB9 > 0, ROUNDDOWN(im2colAll_exW6!AG1:KB9/2^6, 0), ROUNDUP(im2colAll_exW6!AG1:KB9/2^6, 0))","v":-1},{"$f":"IF(im2colAll_exW6!AH1:KC9 > 0, ROUNDDOWN(im2colAll_exW6!AH1:KC9/2^6, 0), ROUNDUP(im2colAll_exW6!AH1:KC9/2^6, 0))","v":2},{"$f":"IF(im2colAll_exW6!AI1:KD9 > 0, ROUNDDOWN(im2colAll_exW6!AI1:KD9/2^6, 0), ROUNDUP(im2colAll_exW6!AI1:KD9/2^6, 0))","v":-4},{"$f":"IF(im2colAll_exW6!AJ1:KE9 > 0, ROUNDDOWN(im2colAll_exW6!AJ1:KE9/2^6, 0), ROUNDUP(im2colAll_exW6!AJ1:KE9/2^6, 0))","v":7},{"$f":"IF(im2colAll_exW6!AK1:KF9 > 0, ROUNDDOWN(im2colAll_exW6!AK1:KF9/2^6, 0), ROUNDUP(im2colAll_exW6!AK1:KF9/2^6, 0))","v":-3},{"$f":"IF(im2colAll_exW6!AL1:KG9 > 0, ROUNDDOWN(im2colAll_exW6!AL1:KG9/2^6, 0), ROUNDUP(im2colAll_exW6!AL1:KG9/2^6, 0))","v":17},{"$f":"IF(im2colAll_exW6!AM1:KH9 > 0, ROUNDDOWN(im2colAll_exW6!AM1:KH9/2^6, 0), ROUNDUP(im2colAll_exW6!AM1:KH9/2^6, 0))","v":-3},{"$f":"IF(im2colAll_exW6!AN1:KI9 > 0, ROUNDDOWN(im2colAll_exW6!AN1:KI9/2^6, 0), ROUNDUP(im2colAll_exW6!AN1:KI9/2^6, 0))","v":-6},{"$f":"IF(im2colAll_exW6!AO1:KJ9 > 0, ROUNDDOWN(im2colAll_exW6!AO1:KJ9/2^6, 0), ROUNDUP(im2colAll_exW6!AO1:KJ9/2^6, 0))","v":-4},{"$f":"IF(im2colAll_exW6!AP1:KK9 > 0, ROUNDDOWN(im2colAll_exW6!AP1:KK9/2^6, 0), ROUNDUP(im2colAll_exW6!AP1:KK9/2^6, 0))","v":3},{"$f":"IF(im2colAll_exW6!AQ1:KL9 > 0, ROUNDDOWN(im2colAll_exW6!AQ1:KL9/2^6, 0), ROUNDUP(im2colAll_exW6!AQ1:KL9/2^6, 0))","v":-12},{"$f":"IF(im2colAll_exW6!AR1:KM9 > 0, ROUNDDOWN(im2colAll_exW6!AR1:KM9/2^6, 0), ROUNDUP(im2colAll_exW6!AR1:KM9/2^6, 0))","v":15},{"$f":"IF(im2colAll_exW6!AS1:KN9 > 0, ROUNDDOWN(im2colAll_exW6!AS1:KN9/2^6, 0), ROUNDUP(im2colAll_exW6!AS1:KN9/2^6, 0))","v":9},{"$f":"IF(im2colAll_exW6!AT1:KO9 > 0, ROUNDDOWN(im2colAll_exW6!AT1:KO9/2^6, 0), ROUNDUP(im2colAll_exW6!AT1:KO9/2^6, 0))","v":-10},{"$f":"IF(im2colAll_exW6!AU1:KP9 > 0, ROUNDDOWN(im2colAll_exW6!AU1:KP9/2^6, 0), ROUNDUP(im2colAll_exW6!AU1:KP9/2^6, 0))","v":-8},{"$f":"IF(im2colAll_exW6!AV1:KQ9 > 0, ROUNDDOWN(im2colAll_exW6!AV1:KQ9/2^6, 0), ROUNDUP(im2colAll_exW6!AV1:KQ9/2^6, 0))","v":-7},{"$f":"IF(im2colAll_exW6!AW1:KR9 > 0, ROUNDDOWN(im2colAll_exW6!AW1:KR9/2^6, 0), ROUNDUP(im2colAll_exW6!AW1:KR9/2^6, 0))","v":14},{"$f":"IF(im2colAll_exW6!AX1:KS9 > 0, ROUNDDOWN(im2colAll_exW6!AX1:KS9/2^6, 0), ROUNDUP(im2colAll_exW6!AX1:KS9/2^6, 0))","v":13},{"$f":"IF(im2colAll_exW6!AY1:KT9 > 0, ROUNDDOWN(im2colAll_exW6!AY1:KT9/2^6, 0), ROUNDUP(im2colAll_exW6!AY1:KT9/2^6, 0))","v":4},{"$f":"IF(im2colAll_exW6!AZ1:KU9 > 0, ROUNDDOWN(im2colAll_exW6!AZ1:KU9/2^6, 0), ROUNDUP(im2colAll_exW6!AZ1:KU9/2^6, 0))","v":23},{"$f":"IF(im2colAll_exW6!BA1:KV9 > 0, ROUNDDOWN(im2colAll_exW6!BA1:KV9/2^6, 0), ROUNDUP(im2colAll_exW6!BA1:KV9/2^6, 0))","v":-3},{"$f":"IF(im2colAll_exW6!BB1:KW9 > 0, ROUNDDOWN(im2colAll_exW6!BB1:KW9/2^6, 0), ROUNDUP(im2colAll_exW6!BB1:KW9/2^6, 0))","v":2},{"$f":"IF(im2colAll_exW6!BC1:KX9 > 0, ROUNDDOWN(im2colAll_exW6!BC1:KX9/2^6, 0), ROUNDUP(im2colAll_exW6!BC1:KX9/2^6, 0))","v":12},{"$f":"IF(im2colAll_exW6!BD1:KY9 > 0, ROUNDDOWN(im2colAll_exW6!BD1:KY9/2^6, 0), ROUNDUP(im2colAll_exW6!BD1:KY9/2^6, 0))","v":4},{"$f":"IF(im2colAll_exW6!BE1:KZ9 > 0, ROUNDDOWN(im2colAll_exW6!BE1:KZ9/2^6, 0), ROUNDUP(im2colAll_exW6!BE1:KZ9/2^6, 0))","v":-1},{"$f":"IF(im2colAll_exW6!BF1:LA9 > 0, ROUNDDOWN(im2colAll_exW6!BF1:LA9/2^6, 0), ROUNDUP(im2colAll_exW6!BF1:LA9/2^6, 0))","v":-7},{"$f":"IF(im2colAll_exW6!BG1:LB9 > 0, ROUNDDOWN(im2colAll_exW6!BG1:LB9/2^6, 0), ROUNDUP(im2colAll_exW6!BG1:LB9/2^6, 0))","v":4},{"$f":"IF(im2colAll_exW6!BH1:LC9 > 0, ROUNDDOWN(im2colAll_exW6!BH1:LC9/2^6, 0), ROUNDUP(im2colAll_exW6!BH1:LC9/2^6, 0))","v":3},{"$f":"IF(im2colAll_exW6!BI1:LD9 > 0, ROUNDDOWN(im2colAll_exW6!BI1:LD9/2^6, 0), ROUNDUP(im2colAll_exW6!BI1:LD9/2^6, 0))","v":10},{"$f":"IF(im2colAll_exW6!BJ1:LE9 > 0, ROUNDDOWN(im2colAll_exW6!BJ1:LE9/2^6, 0), ROUNDUP(im2colAll_exW6!BJ1:LE9/2^6, 0))","v":-7},{"$f":"IF(im2colAll_exW6!BK1:LF9 > 0, ROUNDDOWN(im2colAll_exW6!BK1:LF9/2^6, 0), ROUNDUP(im2colAll_exW6!BK1:LF9/2^6, 0))","v":-7},{"$f":"IF(im2colAll_exW6!BL1:LG9 > 0, ROUNDDOWN(im2colAll_exW6!BL1:LG9/2^6, 0), ROUNDUP(im2colAll_exW6!BL1:LG9/2^6, 0))","v":2},{"$f":"IF(im2colAll_exW6!BM1:LH9 > 0, ROUNDDOWN(im2colAll_exW6!BM1:LH9/2^6, 0), ROUNDUP(im2colAll_exW6!BM1:LH9/2^6, 0))","v":0},{"$f":"IF(im2colAll_exW6!BN1:LI9 > 0, ROUNDDOWN(im2colAll_exW6!BN1:LI9/2^6, 0), ROUNDUP(im2colAll_exW6!BN1:LI9/2^6, 0))","v":-6},{"$f":"IF(im2colAll_exW6!BO1:LJ9 > 0, ROUNDDOWN(im2colAll_exW6!BO1:LJ9/2^6, 0), ROUNDUP(im2colAll_exW6!BO1:LJ9/2^6, 0))","v":-4},{"$f":"IF(im2colAll_exW6!BP1:LK9 > 0, ROUNDDOWN(im2colAll_exW6!BP1:LK9/2^6, 0), ROUNDUP(im2colAll_exW6!BP1:LK9/2^6, 0))","v":7},{"$f":"IF(im2colAll_exW6!BQ1:LL9 > 0, ROUNDDOWN(im2colAll_exW6!BQ1:LL9/2^6, 0), ROUNDUP(im2colAll_exW6!BQ1:LL9/2^6, 0))","v":-1},{"$f":"IF(im2colAll_exW6!BR1:LM9 > 0, ROUNDDOWN(im2colAll_exW6!BR1:LM9/2^6, 0), ROUNDUP(im2colAll_exW6!BR1:LM9/2^6, 0))","v":10},{"$f":"IF(im2colAll_exW6!BS1:LN9 > 0, ROUNDDOWN(im2colAll_exW6!BS1:LN9/2^6, 0), ROUNDUP(im2colAll_exW6!BS1:LN9/2^6, 0))","v":8},{"$f":"IF(im2colAll_exW6!BT1:LO9 > 0, ROUNDDOWN(im2colAll_exW6!BT1:LO9/2^6, 0), ROUNDUP(im2colAll_exW6!BT1:LO9/2^6, 0))","v":-6},{"$f":"IF(im2colAll_exW6!BU1:LP9 > 0, ROUNDDOWN(im2colAll_exW6!BU1:LP9/2^6, 0), ROUNDUP(im2colAll_exW6!BU1:LP9/2^6, 0))","v":11},{"$f":"IF(im2colAll_exW6!BV1:LQ9 > 0, ROUNDDOWN(im2colAll_exW6!BV1:LQ9/2^6, 0), ROUNDUP(im2colAll_exW6!BV1:LQ9/2^6, 0))","v":12},{"$f":"IF(im2colAll_exW6!BW1:LR9 > 0, ROUNDDOWN(im2colAll_exW6!BW1:LR9/2^6, 0), ROUNDUP(im2colAll_exW6!BW1:LR9/2^6, 0))","v":10},{"$f":"IF(im2colAll_exW6!BX1:LS9 > 0, ROUNDDOWN(im2colAll_exW6!BX1:LS9/2^6, 0), ROUNDUP(im2colAll_exW6!BX1:LS9/2^6, 0))","v":5},{"$f":"IF(im2colAll_exW6!BY1:LT9 > 0, ROUNDDOWN(im2colAll_exW6!BY1:LT9/2^6, 0), ROUNDUP(im2colAll_exW6!BY1:LT9/2^6, 0))","v":-1},{"$f":"IF(im2colAll_exW6!BZ1:LU9 > 0, ROUNDDOWN(im2colAll_exW6!BZ1:LU9/2^6, 0), ROUNDUP(im2colAll_exW6!BZ1:LU9/2^6, 0))","v":15},{"$f":"IF(im2colAll_exW6!CA1:LV9 > 0, ROUNDDOWN(im2colAll_exW6!CA1:LV9/2^6, 0), ROUNDUP(im2colAll_exW6!CA1:LV9/2^6, 0))","v":11},{"$f":"IF(im2colAll_exW6!CB1:LW9 > 0, ROUNDDOWN(im2colAll_exW6!CB1:LW9/2^6, 0), ROUNDUP(im2colAll_exW6!CB1:LW9/2^6, 0))","v":7},{"$f":"IF(im2colAll_exW6!CC1:LX9 > 0, ROUNDDOWN(im2colAll_exW6!CC1:LX9/2^6, 0), ROUNDUP(im2colAll_exW6!CC1:LX9/2^6, 0))","v":2},{"$f":"IF(im2colAll_exW6!CD1:LY9 > 0, ROUNDDOWN(im2colAll_exW6!CD1:LY9/2^6, 0), ROUNDUP(im2colAll_exW6!CD1:LY9/2^6, 0))","v":-7},{"$f":"IF(im2colAll_exW6!CE1:LZ9 > 0, ROUNDDOWN(im2colAll_exW6!CE1:LZ9/2^6, 0), ROUNDUP(im2colAll_exW6!CE1:LZ9/2^6, 0))","v":-6},{"$f":"IF(im2colAll_exW6!CF1:MA9 > 0, ROUNDDOWN(im2colAll_exW6!CF1:MA9/2^6, 0), ROUNDUP(im2colAll_exW6!CF1:MA9/2^6, 0))","v":18},{"$f":"IF(im2colAll_exW6!CG1:MB9 > 0, ROUNDDOWN(im2colAll_exW6!CG1:MB9/2^6, 0), ROUNDUP(im2colAll_exW6!CG1:MB9/2^6, 0))","v":9},{"$f":"IF(im2colAll_exW6!CH1:MC9 > 0, ROUNDDOWN(im2colAll_exW6!CH1:MC9/2^6, 0), ROUNDUP(im2colAll_exW6!CH1:MC9/2^6, 0))","v":-8},{"$f":"IF(im2colAll_exW6!CI1:MD9 > 0, ROUNDDOWN(im2colAll_exW6!CI1:MD9/2^6, 0), ROUNDUP(im2colAll_exW6!CI1:MD9/2^6, 0))","v":12},{"$f":"IF(im2colAll_exW6!CJ1:ME9 > 0, ROUNDDOWN(im2colAll_exW6!CJ1:ME9/2^6, 0), ROUNDUP(im2colAll_exW6!CJ1:ME9/2^6, 0))","v":2},{"$f":"IF(im2colAll_exW6!CK1:MF9 > 0, ROUNDDOWN(im2colAll_exW6!CK1:MF9/2^6, 0), ROUNDUP(im2colAll_exW6!CK1:MF9/2^6, 0))","v":9},{"$f":"IF(im2colAll_exW6!CL1:MG9 > 0, ROUNDDOWN(im2colAll_exW6!CL1:MG9/2^6, 0), ROUNDUP(im2colAll_exW6!CL1:MG9/2^6, 0))","v":11},{"$f":"IF(im2colAll_exW6!CM1:MH9 > 0, ROUNDDOWN(im2colAll_exW6!CM1:MH9/2^6, 0), ROUNDUP(im2colAll_exW6!CM1:MH9/2^6, 0))","v":0},{"$f":"IF(im2colAll_exW6!CN1:MI9 > 0, ROUNDDOWN(im2colAll_exW6!CN1:MI9/2^6, 0), ROUNDUP(im2colAll_exW6!CN1:MI9/2^6, 0))","v":10},{"$f":"IF(im2colAll_exW6!CO1:MJ9 > 0, ROUNDDOWN(im2colAll_exW6!CO1:MJ9/2^6, 0), ROUNDUP(im2colAll_exW6!CO1:MJ9/2^6, 0))","v":-4},{"$f":"IF(im2colAll_exW6!CP1:MK9 > 0, ROUNDDOWN(im2colAll_exW6!CP1:MK9/2^6, 0), ROUNDUP(im2colAll_exW6!CP1:MK9/2^6, 0))","v":-4},{"$f":"IF(im2colAll_exW6!CQ1:ML9 > 0, ROUNDDOWN(im2colAll_exW6!CQ1:ML9/2^6, 0), ROUNDUP(im2colAll_exW6!CQ1:ML9/2^6, 0))","v":6},{"$f":"IF(im2colAll_exW6!CR1:MM9 > 0, ROUNDDOWN(im2colAll_exW6!CR1:MM9/2^6, 0), ROUNDUP(im2colAll_exW6!CR1:MM9/2^6, 0))","v":22},{"$f":"IF(im2colAll_exW6!CS1:MN9 > 0, ROUNDDOWN(im2colAll_exW6!CS1:MN9/2^6, 0), ROUNDUP(im2colAll_exW6!CS1:MN9/2^6, 0))","v":-6},{"$f":"IF(im2colAll_exW6!CT1:MO9 > 0, ROUNDDOWN(im2colAll_exW6!CT1:MO9/2^6, 0), ROUNDUP(im2colAll_exW6!CT1:MO9/2^6, 0))","v":15},{"$f":"IF(im2colAll_exW6!CU1:MP9 > 0, ROUNDDOWN(im2colAll_exW6!CU1:MP9/2^6, 0), ROUNDUP(im2colAll_exW6!CU1:MP9/2^6, 0))","v":-6},{"$f":"IF(im2colAll_exW6!CV1:MQ9 > 0, ROUNDDOWN(im2colAll_exW6!CV1:MQ9/2^6, 0), ROUNDUP(im2colAll_exW6!CV1:MQ9/2^6, 0))","v":0},{"$f":"IF(im2colAll_exW6!CW1:MR9 > 0, ROUNDDOWN(im2colAll_exW6!CW1:MR9/2^6, 0), ROUNDUP(im2colAll_exW6!CW1:MR9/2^6, 0))","v":-1},{"$f":"IF(im2colAll_exW6!CX1:MS9 > 0, ROUNDDOWN(im2colAll_exW6!CX1:MS9/2^6, 0), ROUNDUP(im2colAll_exW6!CX1:MS9/2^6, 0))","v":13},{"$f":"IF(im2colAll_exW6!CY1:MT9 > 0, ROUNDDOWN(im2colAll_exW6!CY1:MT9/2^6, 0), ROUNDUP(im2colAll_exW6!CY1:MT9/2^6, 0))","v":-9},{"$f":"IF(im2colAll_exW6!CZ1:MU9 > 0, ROUNDDOWN(im2colAll_exW6!CZ1:MU9/2^6, 0), ROUNDUP(im2colAll_exW6!CZ1:MU9/2^6, 0))","v":-2},{"$f":"IF(im2colAll_exW6!DA1:MV9 > 0, ROUNDDOWN(im2colAll_exW6!DA1:MV9/2^6, 0), ROUNDUP(im2colAll_exW6!DA1:MV9/2^6, 0))","v":13},{"$f":"IF(im2colAll_exW6!DB1:MW9 > 0, ROUNDDOWN(im2colAll_exW6!DB1:MW9/2^6, 0), ROUNDUP(im2colAll_exW6!DB1:MW9/2^6, 0))","v":6},{"$f":"IF(im2colAll_exW6!DC1:MX9 > 0, ROUNDDOWN(im2colAll_exW6!DC1:MX9/2^6, 0), ROUNDUP(im2colAll_exW6!DC1:MX9/2^6, 0))","v":-8},{"$f":"IF(im2colAll_exW6!DD1:MY9 > 0, ROUNDDOWN(im2colAll_exW6!DD1:MY9/2^6, 0), ROUNDUP(im2colAll_exW6!DD1:MY9/2^6, 0))","v":8},{"$f":"IF(im2colAll_exW6!DE1:MZ9 > 0, ROUNDDOWN(im2colAll_exW6!DE1:MZ9/2^6, 0), ROUNDUP(im2colAll_exW6!DE1:MZ9/2^6, 0))","v":7},{"$f":"IF(im2colAll_exW6!DF1:NA9 > 0, ROUNDDOWN(im2colAll_exW6!DF1:NA9/2^6, 0), ROUNDUP(im2colAll_exW6!DF1:NA9/2^6, 0))","v":1},{"$f":"IF(im2colAll_exW6!DG1:NB9 > 0, ROUNDDOWN(im2colAll_exW6!DG1:NB9/2^6, 0), ROUNDUP(im2colAll_exW6!DG1:NB9/2^6, 0))","v":-3},{"$f":"IF(im2colAll_exW6!DH1:NC9 > 0, ROUNDDOWN(im2colAll_exW6!DH1:NC9/2^6, 0), ROUNDUP(im2colAll_exW6!DH1:NC9/2^6, 0))","v":5},{"$f":"IF(im2colAll_exW6!DI1:ND9 > 0, ROUNDDOWN(im2colAll_exW6!DI1:ND9/2^6, 0), ROUNDUP(im2colAll_exW6!DI1:ND9/2^6, 0))","v":-4},{"$f":"IF(im2colAll_exW6!DJ1:NE9 > 0, ROUNDDOWN(im2colAll_exW6!DJ1:NE9/2^6, 0), ROUNDUP(im2colAll_exW6!DJ1:NE9/2^6, 0))","v":-10},{"$f":"IF(im2colAll_exW6!DK1:NF9 > 0, ROUNDDOWN(im2colAll_exW6!DK1:NF9/2^6, 0), ROUNDUP(im2colAll_exW6!DK1:NF9/2^6, 0))","v":-4},{"$f":"IF(im2colAll_exW6!DL1:NG9 > 0, ROUNDDOWN(im2colAll_exW6!DL1:NG9/2^6, 0), ROUNDUP(im2colAll_exW6!DL1:NG9/2^6, 0))","v":3},{"$f":"IF(im2colAll_exW6!DM1:NH9 > 0, ROUNDDOWN(im2colAll_exW6!DM1:NH9/2^6, 0), ROUNDUP(im2colAll_exW6!DM1:NH9/2^6, 0))","v":-6},{"$f":"IF(im2colAll_exW6!DN1:NI9 > 0, ROUNDDOWN(im2colAll_exW6!DN1:NI9/2^6, 0), ROUNDUP(im2colAll_exW6!DN1:NI9/2^6, 0))","v":3},{"$f":"IF(im2colAll_exW6!DO1:NJ9 > 0, ROUNDDOWN(im2colAll_exW6!DO1:NJ9/2^6, 0), ROUNDUP(im2colAll_exW6!DO1:NJ9/2^6, 0))","v":0},{"$f":"IF(im2colAll_exW6!DP1:NK9 > 0, ROUNDDOWN(im2colAll_exW6!DP1:NK9/2^6, 0), ROUNDUP(im2colAll_exW6!DP1:NK9/2^6, 0))","v":5},{"$f":"IF(im2colAll_exW6!DQ1:NL9 > 0, ROUNDDOWN(im2colAll_exW6!DQ1:NL9/2^6, 0), ROUNDUP(im2colAll_exW6!DQ1:NL9/2^6, 0))","v":-6},{"$f":"IF(im2colAll_exW6!DR1:NM9 > 0, ROUNDDOWN(im2colAll_exW6!DR1:NM9/2^6, 0), ROUNDUP(im2colAll_exW6!DR1:NM9/2^6, 0))","v":-6},{"$f":"IF(im2colAll_exW6!DS1:NN9 > 0, ROUNDDOWN(im2colAll_exW6!DS1:NN9/2^6, 0), ROUNDUP(im2colAll_exW6!DS1:NN9/2^6, 0))","v":-8},{"$f":"IF(im2colAll_exW6!DT1:NO9 > 0, ROUNDDOWN(im2colAll_exW6!DT1:NO9/2^6, 0), ROUNDUP(im2colAll_exW6!DT1:NO9/2^6, 0))","v":7},{"$f":"IF(im2colAll_exW6!DU1:NP9 > 0, ROUNDDOWN(im2colAll_exW6!DU1:NP9/2^6, 0), ROUNDUP(im2colAll_exW6!DU1:NP9/2^6, 0))","v":8},{"$f":"IF(im2colAll_exW6!DV1:NQ9 > 0, ROUNDDOWN(im2colAll_exW6!DV1:NQ9/2^6, 0), ROUNDUP(im2colAll_exW6!DV1:NQ9/2^6, 0))","v":11},{"$f":"IF(im2colAll_exW6!DW1:NR9 > 0, ROUNDDOWN(im2colAll_exW6!DW1:NR9/2^6, 0), ROUNDUP(im2colAll_exW6!DW1:NR9/2^6, 0))","v":-5},{"$f":"IF(im2colAll_exW6!DX1:NS9 > 0, ROUNDDOWN(im2colAll_exW6!DX1:NS9/2^6, 0), ROUNDUP(im2colAll_exW6!DX1:NS9/2^6, 0))","v":-8},{"$f":"IF(im2colAll_exW6!DY1:NT9 > 0, ROUNDDOWN(im2colAll_exW6!DY1:NT9/2^6, 0), ROUNDUP(im2colAll_exW6!DY1:NT9/2^6, 0))","v":-2},{"$f":"IF(im2colAll_exW6!DZ1:NU9 > 0, ROUNDDOWN(im2colAll_exW6!DZ1:NU9/2^6, 0), ROUNDUP(im2colAll_exW6!DZ1:NU9/2^6, 0))","v":3},{"$f":"IF(im2colAll_exW6!EA1:NV9 > 0, ROUNDDOWN(im2colAll_exW6!EA1:NV9/2^6, 0), ROUNDUP(im2colAll_exW6!EA1:NV9/2^6, 0))","v":-5},{"$f":"IF(im2colAll_exW6!EB1:NW9 > 0, ROUNDDOWN(im2colAll_exW6!EB1:NW9/2^6, 0), ROUNDUP(im2colAll_exW6!EB1:NW9/2^6, 0))","v":-3},{"$f":"IF(im2colAll_exW6!EC1:NX9 > 0, ROUNDDOWN(im2colAll_exW6!EC1:NX9/2^6, 0), ROUNDUP(im2colAll_exW6!EC1:NX9/2^6, 0))","v":-5},{"$f":"IF(im2colAll_exW6!ED1:NY9 > 0, ROUNDDOWN(im2colAll_exW6!ED1:NY9/2^6, 0), ROUNDUP(im2colAll_exW6!ED1:NY9/2^6, 0))","v":-1},{"$f":"IF(im2colAll_exW6!EE1:NZ9 > 0, ROUNDDOWN(im2colAll_exW6!EE1:NZ9/2^6, 0), ROUNDUP(im2colAll_exW6!EE1:NZ9/2^6, 0))","v":0},{"$f":"IF(im2colAll_exW6!EF1:OA9 > 0, ROUNDDOWN(im2colAll_exW6!EF1:OA9/2^6, 0), ROUNDUP(im2colAll_exW6!EF1:OA9/2^6, 0))","v":-8},{"$f":"IF(im2colAll_exW6!EG1:OB9 > 0, ROUNDDOWN(im2colAll_exW6!EG1:OB9/2^6, 0), ROUNDUP(im2colAll_exW6!EG1:OB9/2^6, 0))","v":9},{"$f":"IF(im2colAll_exW6!EH1:OC9 > 0, ROUNDDOWN(im2colAll_exW6!EH1:OC9/2^6, 0), ROUNDUP(im2colAll_exW6!EH1:OC9/2^6, 0))","v":3},{"$f":"IF(im2colAll_exW6!EI1:OD9 > 0, ROUNDDOWN(im2colAll_exW6!EI1:OD9/2^6, 0), ROUNDUP(im2colAll_exW6!EI1:OD9/2^6, 0))","v":-5},{"$f":"IF(im2colAll_exW6!EJ1:OE9 > 0, ROUNDDOWN(im2colAll_exW6!EJ1:OE9/2^6, 0), ROUNDUP(im2colAll_exW6!EJ1:OE9/2^6, 0))","v":31},{"$f":"IF(im2colAll_exW6!EK1:OF9 > 0, ROUNDDOWN(im2colAll_exW6!EK1:OF9/2^6, 0), ROUNDUP(im2colAll_exW6!EK1:OF9/2^6, 0))","v":2},{"$f":"IF(im2colAll_exW6!EL1:OG9 > 0, ROUNDDOWN(im2colAll_exW6!EL1:OG9/2^6, 0), ROUNDUP(im2colAll_exW6!EL1:OG9/2^6, 0))","v":5},{"$f":"IF(im2colAll_exW6!EM1:OH9 > 0, ROUNDDOWN(im2colAll_exW6!EM1:OH9/2^6, 0), ROUNDUP(im2colAll_exW6!EM1:OH9/2^6, 0))","v":1},{"$f":"IF(im2colAll_exW6!EN1:OI9 > 0, ROUNDDOWN(im2colAll_exW6!EN1:OI9/2^6, 0), ROUNDUP(im2colAll_exW6!EN1:OI9/2^6, 0))","v":-1},{"$f":"IF(im2colAll_exW6!EO1:OJ9 > 0, ROUNDDOWN(im2colAll_exW6!EO1:OJ9/2^6, 0), ROUNDUP(im2colAll_exW6!EO1:OJ9/2^6, 0))","v":-2},{"$f":"IF(im2colAll_exW6!EP1:OK9 > 0, ROUNDDOWN(im2colAll_exW6!EP1:OK9/2^6, 0), ROUNDUP(im2colAll_exW6!EP1:OK9/2^6, 0))","v":-12},{"$f":"IF(im2colAll_exW6!EQ1:OL9 > 0, ROUNDDOWN(im2colAll_exW6!EQ1:OL9/2^6, 0), ROUNDUP(im2colAll_exW6!EQ1:OL9/2^6, 0))","v":-1},{"$f":"IF(im2colAll_exW6!ER1:OM9 > 0, ROUNDDOWN(im2colAll_exW6!ER1:OM9/2^6, 0), ROUNDUP(im2colAll_exW6!ER1:OM9/2^6, 0))","v":-3},{"$f":"IF(im2colAll_exW6!ES1:ON9 > 0, ROUNDDOWN(im2colAll_exW6!ES1:ON9/2^6, 0), ROUNDUP(im2colAll_exW6!ES1:ON9/2^6, 0))","v":2},{"$f":"IF(im2colAll_exW6!ET1:OO9 > 0, ROUNDDOWN(im2colAll_exW6!ET1:OO9/2^6, 0), ROUNDUP(im2colAll_exW6!ET1:OO9/2^6, 0))","v":2},{"$f":"IF(im2colAll_exW6!EU1:OP9 > 0, ROUNDDOWN(im2colAll_exW6!EU1:OP9/2^6, 0), ROUNDUP(im2colAll_exW6!EU1:OP9/2^6, 0))","v":-2},{"$f":"IF(im2colAll_exW6!EV1:OQ9 > 0, ROUNDDOWN(im2colAll_exW6!EV1:OQ9/2^6, 0), ROUNDUP(im2colAll_exW6!EV1:OQ9/2^6, 0))","v":-3},{"$f":"IF(im2colAll_exW6!EW1:OR9 > 0, ROUNDDOWN(im2colAll_exW6!EW1:OR9/2^6, 0), ROUNDUP(im2colAll_exW6!EW1:OR9/2^6, 0))","v":8},{"$f":"IF(im2colAll_exW6!EX1:OS9 > 0, ROUNDDOWN(im2colAll_exW6!EX1:OS9/2^6, 0), ROUNDUP(im2colAll_exW6!EX1:OS9/2^6, 0))","v":1},{"$f":"IF(im2colAll_exW6!EY1:OT9 > 0, ROUNDDOWN(im2colAll_exW6!EY1:OT9/2^6, 0), ROUNDUP(im2colAll_exW6!EY1:OT9/2^6, 0))","v":12},{"$f":"IF(im2colAll_exW6!EZ1:OU9 > 0, ROUNDDOWN(im2colAll_exW6!EZ1:OU9/2^6, 0), ROUNDUP(im2colAll_exW6!EZ1:OU9/2^6, 0))","v":8},{"$f":"IF(im2colAll_exW6!FA1:OV9 > 0, ROUNDDOWN(im2colAll_exW6!FA1:OV9/2^6, 0), ROUNDUP(im2colAll_exW6!FA1:OV9/2^6, 0))","v":5},{"$f":"IF(im2colAll_exW6!FB1:OW9 > 0, ROUNDDOWN(im2colAll_exW6!FB1:OW9/2^6, 0), ROUNDUP(im2colAll_exW6!FB1:OW9/2^6, 0))","v":10},{"$f":"IF(im2colAll_exW6!FC1:OX9 > 0, ROUNDDOWN(im2colAll_exW6!FC1:OX9/2^6, 0), ROUNDUP(im2colAll_exW6!FC1:OX9/2^6, 0))","v":-7},{"$f":"IF(im2colAll_exW6!FD1:OY9 > 0, ROUNDDOWN(im2colAll_exW6!FD1:OY9/2^6, 0), ROUNDUP(im2colAll_exW6!FD1:OY9/2^6, 0))","v":5},{"$f":"IF(im2colAll_exW6!FE1:OZ9 > 0, ROUNDDOWN(im2colAll_exW6!FE1:OZ9/2^6, 0), ROUNDUP(im2colAll_exW6!FE1:OZ9/2^6, 0))","v":2},{"$f":"IF(im2colAll_exW6!FF1:PA9 > 0, ROUNDDOWN(im2colAll_exW6!FF1:PA9/2^6, 0), ROUNDUP(im2colAll_exW6!FF1:PA9/2^6, 0))","v":-11},{"$f":"IF(im2colAll_exW6!FG1:PB9 > 0, ROUNDDOWN(im2colAll_exW6!FG1:PB9/2^6, 0), ROUNDUP(im2colAll_exW6!FG1:PB9/2^6, 0))","v":9},{"$f":"IF(im2colAll_exW6!FH1:PC9 > 0, ROUNDDOWN(im2colAll_exW6!FH1:PC9/2^6, 0), ROUNDUP(im2colAll_exW6!FH1:PC9/2^6, 0))","v":9},{"$f":"IF(im2colAll_exW6!FI1:PD9 > 0, ROUNDDOWN(im2colAll_exW6!FI1:PD9/2^6, 0), ROUNDUP(im2colAll_exW6!FI1:PD9/2^6, 0))","v":-11},{"$f":"IF(im2colAll_exW6!FJ1:PE9 > 0, ROUNDDOWN(im2colAll_exW6!FJ1:PE9/2^6, 0), ROUNDUP(im2colAll_exW6!FJ1:PE9/2^6, 0))","v":-3},{"$f":"IF(im2colAll_exW6!FK1:PF9 > 0, ROUNDDOWN(im2colAll_exW6!FK1:PF9/2^6, 0), ROUNDUP(im2colAll_exW6!FK1:PF9/2^6, 0))","v":3},{"$f":"IF(im2colAll_exW6!FL1:PG9 > 0, ROUNDDOWN(im2colAll_exW6!FL1:PG9/2^6, 0), ROUNDUP(im2colAll_exW6!FL1:PG9/2^6, 0))","v":10},{"$f":"IF(im2colAll_exW6!FM1:PH9 > 0, ROUNDDOWN(im2colAll_exW6!FM1:PH9/2^6, 0), ROUNDUP(im2colAll_exW6!FM1:PH9/2^6, 0))","v":-11},{"$f":"IF(im2colAll_exW6!FN1:PI9 > 0, ROUNDDOWN(im2colAll_exW6!FN1:PI9/2^6, 0), ROUNDUP(im2colAll_exW6!FN1:PI9/2^6, 0))","v":2},{"$f":"IF(im2colAll_exW6!FO1:PJ9 > 0, ROUNDDOWN(im2colAll_exW6!FO1:PJ9/2^6, 0), ROUNDUP(im2colAll_exW6!FO1:PJ9/2^6, 0))","v":-4},{"$f":"IF(im2colAll_exW6!FP1:PK9 > 0, ROUNDDOWN(im2colAll_exW6!FP1:PK9/2^6, 0), ROUNDUP(im2colAll_exW6!FP1:PK9/2^6, 0))","v":14},{"$f":"IF(im2colAll_exW6!FQ1:PL9 > 0, ROUNDDOWN(im2colAll_exW6!FQ1:PL9/2^6, 0), ROUNDUP(im2colAll_exW6!FQ1:PL9/2^6, 0))","v":-2},{"$f":"IF(im2colAll_exW6!FR1:PM9 > 0, ROUNDDOWN(im2colAll_exW6!FR1:PM9/2^6, 0), ROUNDUP(im2colAll_exW6!FR1:PM9/2^6, 0))","v":10},{"$f":"IF(im2colAll_exW6!FS1:PN9 > 0, ROUNDDOWN(im2colAll_exW6!FS1:PN9/2^6, 0), ROUNDUP(im2colAll_exW6!FS1:PN9/2^6, 0))","v":-6},{"$f":"IF(im2colAll_exW6!FT1:PO9 > 0, ROUNDDOWN(im2colAll_exW6!FT1:PO9/2^6, 0), ROUNDUP(im2colAll_exW6!FT1:PO9/2^6, 0))","v":1},{"$f":"IF(im2colAll_exW6!FU1:PP9 > 0, ROUNDDOWN(im2colAll_exW6!FU1:PP9/2^6, 0), ROUNDUP(im2colAll_exW6!FU1:PP9/2^6, 0))","v":-2},{"$f":"IF(im2colAll_exW6!FV1:PQ9 > 0, ROUNDDOWN(im2colAll_exW6!FV1:PQ9/2^6, 0), ROUNDUP(im2colAll_exW6!FV1:PQ9/2^6, 0))","v":-5},{"$f":"IF(im2colAll_exW6!FW1:PR9 > 0, ROUNDDOWN(im2colAll_exW6!FW1:PR9/2^6, 0), ROUNDUP(im2colAll_exW6!FW1:PR9/2^6, 0))","v":-1},{"$f":"IF(im2colAll_exW6!FX1:PS9 > 0, ROUNDDOWN(im2colAll_exW6!FX1:PS9/2^6, 0), ROUNDUP(im2colAll_exW6!FX1:PS9/2^6, 0))","v":11},{"$f":"IF(im2colAll_exW6!FY1:PT9 > 0, ROUNDDOWN(im2colAll_exW6!FY1:PT9/2^6, 0), ROUNDUP(im2colAll_exW6!FY1:PT9/2^6, 0))","v":-3},{"$f":"IF(im2colAll_exW6!FZ1:PU9 > 0, ROUNDDOWN(im2colAll_exW6!FZ1:PU9/2^6, 0), ROUNDUP(im2colAll_exW6!FZ1:PU9/2^6, 0))","v":-14},{"$f":"IF(im2colAll_exW6!GA1:PV9 > 0, ROUNDDOWN(im2colAll_exW6!GA1:PV9/2^6, 0), ROUNDUP(im2colAll_exW6!GA1:PV9/2^6, 0))","v":-7},{"$f":"IF(im2colAll_exW6!GB1:PW9 > 0, ROUNDDOWN(im2colAll_exW6!GB1:PW9/2^6, 0), ROUNDUP(im2colAll_exW6!GB1:PW9/2^6, 0))","v":-5},{"$f":"IF(im2colAll_exW6!GC1:PX9 > 0, ROUNDDOWN(im2colAll_exW6!GC1:PX9/2^6, 0), ROUNDUP(im2colAll_exW6!GC1:PX9/2^6, 0))","v":-5},{"$f":"IF(im2colAll_exW6!GD1:PY9 > 0, ROUNDDOWN(im2colAll_exW6!GD1:PY9/2^6, 0), ROUNDUP(im2colAll_exW6!GD1:PY9/2^6, 0))","v":-10},{"$f":"IF(im2colAll_exW6!GE1:PZ9 > 0, ROUNDDOWN(im2colAll_exW6!GE1:PZ9/2^6, 0), ROUNDUP(im2colAll_exW6!GE1:PZ9/2^6, 0))","v":8},{"$f":"IF(im2colAll_exW6!GF1:QA9 > 0, ROUNDDOWN(im2colAll_exW6!GF1:QA9/2^6, 0), ROUNDUP(im2colAll_exW6!GF1:QA9/2^6, 0))","v":-4},{"$f":"IF(im2colAll_exW6!GG1:QB9 > 0, ROUNDDOWN(im2colAll_exW6!GG1:QB9/2^6, 0), ROUNDUP(im2colAll_exW6!GG1:QB9/2^6, 0))","v":-10},{"$f":"IF(im2colAll_exW6!GH1:QC9 > 0, ROUNDDOWN(im2colAll_exW6!GH1:QC9/2^6, 0), ROUNDUP(im2colAll_exW6!GH1:QC9/2^6, 0))","v":-5},{"$f":"IF(im2colAll_exW6!GI1:QD9 > 0, ROUNDDOWN(im2colAll_exW6!GI1:QD9/2^6, 0), ROUNDUP(im2colAll_exW6!GI1:QD9/2^6, 0))","v":-3},{"$f":"IF(im2colAll_exW6!GJ1:QE9 > 0, ROUNDDOWN(im2colAll_exW6!GJ1:QE9/2^6, 0), ROUNDUP(im2colAll_exW6!GJ1:QE9/2^6, 0))","v":7},{"$f":"IF(im2colAll_exW6!GK1:QF9 > 0, ROUNDDOWN(im2colAll_exW6!GK1:QF9/2^6, 0), ROUNDUP(im2colAll_exW6!GK1:QF9/2^6, 0))","v":2},{"$f":"IF(im2colAll_exW6!GL1:QG9 > 0, ROUNDDOWN(im2colAll_exW6!GL1:QG9/2^6, 0), ROUNDUP(im2colAll_exW6!GL1:QG9/2^6, 0))","v":9},{"$f":"IF(im2colAll_exW6!GM1:QH9 > 0, ROUNDDOWN(im2colAll_exW6!GM1:QH9/2^6, 0), ROUNDUP(im2colAll_exW6!GM1:QH9/2^6, 0))","v":-10},{"$f":"IF(im2colAll_exW6!GN1:QI9 > 0, ROUNDDOWN(im2colAll_exW6!GN1:QI9/2^6, 0), ROUNDUP(im2colAll_exW6!GN1:QI9/2^6, 0))","v":-6},{"$f":"IF(im2colAll_exW6!GO1:QJ9 > 0, ROUNDDOWN(im2colAll_exW6!GO1:QJ9/2^6, 0), ROUNDUP(im2colAll_exW6!GO1:QJ9/2^6, 0))","v":-3},{"$f":"IF(im2colAll_exW6!GP1:QK9 > 0, ROUNDDOWN(im2colAll_exW6!GP1:QK9/2^6, 0), ROUNDUP(im2colAll_exW6!GP1:QK9/2^6, 0))","v":-2},{"$f":"IF(im2colAll_exW6!GQ1:QL9 > 0, ROUNDDOWN(im2colAll_exW6!GQ1:QL9/2^6, 0), ROUNDUP(im2colAll_exW6!GQ1:QL9/2^6, 0))","v":-2},{"$f":"IF(im2colAll_exW6!GR1:QM9 > 0, ROUNDDOWN(im2colAll_exW6!GR1:QM9/2^6, 0), ROUNDUP(im2colAll_exW6!GR1:QM9/2^6, 0))","v":7},{"$f":"IF(im2colAll_exW6!GS1:QN9 > 0, ROUNDDOWN(im2colAll_exW6!GS1:QN9/2^6, 0), ROUNDUP(im2colAll_exW6!GS1:QN9/2^6, 0))","v":-9},{"$f":"IF(im2colAll_exW6!GT1:QO9 > 0, ROUNDDOWN(im2colAll_exW6!GT1:QO9/2^6, 0), ROUNDUP(im2colAll_exW6!GT1:QO9/2^6, 0))","v":3},{"$f":"IF(im2colAll_exW6!GU1:QP9 > 0, ROUNDDOWN(im2colAll_exW6!GU1:QP9/2^6, 0), ROUNDUP(im2colAll_exW6!GU1:QP9/2^6, 0))","v":-1},{"$f":"IF(im2colAll_exW6!GV1:QQ9 > 0, ROUNDDOWN(im2colAll_exW6!GV1:QQ9/2^6, 0), ROUNDUP(im2colAll_exW6!GV1:QQ9/2^6, 0))","v":5},{"$f":"IF(im2colAll_exW6!GW1:QR9 > 0, ROUNDDOWN(im2colAll_exW6!GW1:QR9/2^6, 0), ROUNDUP(im2colAll_exW6!GW1:QR9/2^6, 0))","v":-1},{"$f":"IF(im2colAll_exW6!GX1:QS9 > 0, ROUNDDOWN(im2colAll_exW6!GX1:QS9/2^6, 0), ROUNDUP(im2colAll_exW6!GX1:QS9/2^6, 0))","v":-3},{"$f":"IF(im2colAll_exW6!GY1:QT9 > 0, ROUNDDOWN(im2colAll_exW6!GY1:QT9/2^6, 0), ROUNDUP(im2colAll_exW6!GY1:QT9/2^6, 0))","v":10},{"$f":"IF(im2colAll_exW6!GZ1:QU9 > 0, ROUNDDOWN(im2colAll_exW6!GZ1:QU9/2^6, 0), ROUNDUP(im2colAll_exW6!GZ1:QU9/2^6, 0))","v":-2},{"$f":"IF(im2colAll_exW6!HA1:QV9 > 0, ROUNDDOWN(im2colAll_exW6!HA1:QV9/2^6, 0), ROUNDUP(im2colAll_exW6!HA1:QV9/2^6, 0))","v":13},{"$f":"IF(im2colAll_exW6!HB1:QW9 > 0, ROUNDDOWN(im2colAll_exW6!HB1:QW9/2^6, 0), ROUNDUP(im2colAll_exW6!HB1:QW9/2^6, 0))","v":-1},{"$f":"IF(im2colAll_exW6!HC1:QX9 > 0, ROUNDDOWN(im2colAll_exW6!HC1:QX9/2^6, 0), ROUNDUP(im2colAll_exW6!HC1:QX9/2^6, 0))","v":9},{"$f":"IF(im2colAll_exW6!HD1:QY9 > 0, ROUNDDOWN(im2colAll_exW6!HD1:QY9/2^6, 0), ROUNDUP(im2colAll_exW6!HD1:QY9/2^6, 0))","v":19},{"$f":"IF(im2colAll_exW6!HE1:QZ9 > 0, ROUNDDOWN(im2colAll_exW6!HE1:QZ9/2^6, 0), ROUNDUP(im2colAll_exW6!HE1:QZ9/2^6, 0))","v":0},{"$f":"IF(im2colAll_exW6!HF1:RA9 > 0, ROUNDDOWN(im2colAll_exW6!HF1:RA9/2^6, 0), ROUNDUP(im2colAll_exW6!HF1:RA9/2^6, 0))","v":11},{"$f":"IF(im2colAll_exW6!HG1:RB9 > 0, ROUNDDOWN(im2colAll_exW6!HG1:RB9/2^6, 0), ROUNDUP(im2colAll_exW6!HG1:RB9/2^6, 0))","v":1},{"$f":"IF(im2colAll_exW6!HH1:RC9 > 0, ROUNDDOWN(im2colAll_exW6!HH1:RC9/2^6, 0), ROUNDUP(im2colAll_exW6!HH1:RC9/2^6, 0))","v":7},{"$f":"IF(im2colAll_exW6!HI1:RD9 > 0, ROUNDDOWN(im2colAll_exW6!HI1:RD9/2^6, 0), ROUNDUP(im2colAll_exW6!HI1:RD9/2^6, 0))","v":-2},{"$f":"IF(im2colAll_exW6!HJ1:RE9 > 0, ROUNDDOWN(im2colAll_exW6!HJ1:RE9/2^6, 0), ROUNDUP(im2colAll_exW6!HJ1:RE9/2^6, 0))","v":5},{"$f":"IF(im2colAll_exW6!HK1:RF9 > 0, ROUNDDOWN(im2colAll_exW6!HK1:RF9/2^6, 0), ROUNDUP(im2colAll_exW6!HK1:RF9/2^6, 0))","v":-6},{"$f":"IF(im2colAll_exW6!HL1:RG9 > 0, ROUNDDOWN(im2colAll_exW6!HL1:RG9/2^6, 0), ROUNDUP(im2colAll_exW6!HL1:RG9/2^6, 0))","v":0},{"$f":"IF(im2colAll_exW6!HM1:RH9 > 0, ROUNDDOWN(im2colAll_exW6!HM1:RH9/2^6, 0), ROUNDUP(im2colAll_exW6!HM1:RH9/2^6, 0))","v":3},{"$f":"IF(im2colAll_exW6!HN1:RI9 > 0, ROUNDDOWN(im2colAll_exW6!HN1:RI9/2^6, 0), ROUNDUP(im2colAll_exW6!HN1:RI9/2^6, 0))","v":3},{"$f":"IF(im2colAll_exW6!HO1:RJ9 > 0, ROUNDDOWN(im2colAll_exW6!HO1:RJ9/2^6, 0), ROUNDUP(im2colAll_exW6!HO1:RJ9/2^6, 0))","v":-6},{"$f":"IF(im2colAll_exW6!HP1:RK9 > 0, ROUNDDOWN(im2colAll_exW6!HP1:RK9/2^6, 0), ROUNDUP(im2colAll_exW6!HP1:RK9/2^6, 0))","v":2},{"$f":"IF(im2colAll_exW6!HQ1:RL9 > 0, ROUNDDOWN(im2colAll_exW6!HQ1:RL9/2^6, 0), ROUNDUP(im2colAll_exW6!HQ1:RL9/2^6, 0))","v":23},{"$f":"IF(im2colAll_exW6!HR1:RM9 > 0, ROUNDDOWN(im2colAll_exW6!HR1:RM9/2^6, 0), ROUNDUP(im2colAll_exW6!HR1:RM9/2^6, 0))","v":3},{"$f":"IF(im2colAll_exW6!HS1:RN9 > 0, ROUNDDOWN(im2colAll_exW6!HS1:RN9/2^6, 0), ROUNDUP(im2colAll_exW6!HS1:RN9/2^6, 0))","v":8},{"$f":"IF(im2colAll_exW6!HT1:RO9 > 0, ROUNDDOWN(im2colAll_exW6!HT1:RO9/2^6, 0), ROUNDUP(im2colAll_exW6!HT1:RO9/2^6, 0))","v":-7},{"$f":"IF(im2colAll_exW6!HU1:RP9 > 0, ROUNDDOWN(im2colAll_exW6!HU1:RP9/2^6, 0), ROUNDUP(im2colAll_exW6!HU1:RP9/2^6, 0))","v":7},{"$f":"IF(im2colAll_exW6!HV1:RQ9 > 0, ROUNDDOWN(im2colAll_exW6!HV1:RQ9/2^6, 0), ROUNDUP(im2colAll_exW6!HV1:RQ9/2^6, 0))","v":4},{"$f":"IF(im2colAll_exW6!HW1:RR9 > 0, ROUNDDOWN(im2colAll_exW6!HW1:RR9/2^6, 0), ROUNDUP(im2colAll_exW6!HW1:RR9/2^6, 0))","v":2},{"$f":"IF(im2colAll_exW6!HX1:RS9 > 0, ROUNDDOWN(im2colAll_exW6!HX1:RS9/2^6, 0), ROUNDUP(im2colAll_exW6!HX1:RS9/2^6, 0))","v":-11},{"$f":"IF(im2colAll_exW6!HY1:RT9 > 0, ROUNDDOWN(im2colAll_exW6!HY1:RT9/2^6, 0), ROUNDUP(im2colAll_exW6!HY1:RT9/2^6, 0))","v":2},{"$f":"IF(im2colAll_exW6!HZ1:RU9 > 0, ROUNDDOWN(im2colAll_exW6!HZ1:RU9/2^6, 0), ROUNDUP(im2colAll_exW6!HZ1:RU9/2^6, 0))","v":11},{"$f":"IF(im2colAll_exW6!IA1:RV9 > 0, ROUNDDOWN(im2colAll_exW6!IA1:RV9/2^6, 0), ROUNDUP(im2colAll_exW6!IA1:RV9/2^6, 0))","v":-3},{"$f":"IF(im2colAll_exW6!IB1:RW9 > 0, ROUNDDOWN(im2colAll_exW6!IB1:RW9/2^6, 0), ROUNDUP(im2colAll_exW6!IB1:RW9/2^6, 0))","v":7},{"$f":"IF(im2colAll_exW6!IC1:RX9 > 0, ROUNDDOWN(im2colAll_exW6!IC1:RX9/2^6, 0), ROUNDUP(im2colAll_exW6!IC1:RX9/2^6, 0))","v":4},{"$f":"IF(im2colAll_exW6!ID1:RY9 > 0, ROUNDDOWN(im2colAll_exW6!ID1:RY9/2^6, 0), ROUNDUP(im2colAll_exW6!ID1:RY9/2^6, 0))","v":7},{"$f":"IF(im2colAll_exW6!IE1:RZ9 > 0, ROUNDDOWN(im2colAll_exW6!IE1:RZ9/2^6, 0), ROUNDUP(im2colAll_exW6!IE1:RZ9/2^6, 0))","v":1},{"$f":"IF(im2colAll_exW6!IF1:SA9 > 0, ROUNDDOWN(im2colAll_exW6!IF1:SA9/2^6, 0), ROUNDUP(im2colAll_exW6!IF1:SA9/2^6, 0))","v":-2},{"$f":"IF(im2colAll_exW6!IG1:SB9 > 0, ROUNDDOWN(im2colAll_exW6!IG1:SB9/2^6, 0), ROUNDUP(im2colAll_exW6!IG1:SB9/2^6, 0))","v":-1},{"$f":"IF(im2colAll_exW6!IH1:SC9 > 0, ROUNDDOWN(im2colAll_exW6!IH1:SC9/2^6, 0), ROUNDUP(im2colAll_exW6!IH1:SC9/2^6, 0))","v":8},{"$f":"IF(im2colAll_exW6!II1:SD9 > 0, ROUNDDOWN(im2colAll_exW6!II1:SD9/2^6, 0), ROUNDUP(im2colAll_exW6!II1:SD9/2^6, 0))","v":2},{"$f":"IF(im2colAll_exW6!IJ1:SE9 > 0, ROUNDDOWN(im2colAll_exW6!IJ1:SE9/2^6, 0), ROUNDUP(im2colAll_exW6!IJ1:SE9/2^6, 0))","v":-3},{"$f":"IF(im2colAll_exW6!IK1:SF9 > 0, ROUNDDOWN(im2colAll_exW6!IK1:SF9/2^6, 0), ROUNDUP(im2colAll_exW6!IK1:SF9/2^6, 0))","v":-5},{"$f":"IF(im2colAll_exW6!IL1:SG9 > 0, ROUNDDOWN(im2colAll_exW6!IL1:SG9/2^6, 0), ROUNDUP(im2colAll_exW6!IL1:SG9/2^6, 0))","v":20},{"$f":"IF(im2colAll_exW6!IM1:SH9 > 0, ROUNDDOWN(im2colAll_exW6!IM1:SH9/2^6, 0), ROUNDUP(im2colAll_exW6!IM1:SH9/2^6, 0))","v":10},{"$f":"IF(im2colAll_exW6!IN1:SI9 > 0, ROUNDDOWN(im2colAll_exW6!IN1:SI9/2^6, 0), ROUNDUP(im2colAll_exW6!IN1:SI9/2^6, 0))","v":9},{"$f":"IF(im2colAll_exW6!IO1:SJ9 > 0, ROUNDDOWN(im2colAll_exW6!IO1:SJ9/2^6, 0), ROUNDUP(im2colAll_exW6!IO1:SJ9/2^6, 0))","v":-8},{"$f":"IF(im2colAll_exW6!IP1:SK9 > 0, ROUNDDOWN(im2colAll_exW6!IP1:SK9/2^6, 0), ROUNDUP(im2colAll_exW6!IP1:SK9/2^6, 0))","v":3},{"$f":"IF(im2colAll_exW6!IQ1:SL9 > 0, ROUNDDOWN(im2colAll_exW6!IQ1:SL9/2^6, 0), ROUNDUP(im2colAll_exW6!IQ1:SL9/2^6, 0))","v":11},{"$f":"IF(im2colAll_exW6!IR1:SM9 > 0, ROUNDDOWN(im2colAll_exW6!IR1:SM9/2^6, 0), ROUNDUP(im2colAll_exW6!IR1:SM9/2^6, 0))","v":3},{"$f":"IF(im2colAll_exW6!IS1:SN9 > 0, ROUNDDOWN(im2colAll_exW6!IS1:SN9/2^6, 0), ROUNDUP(im2colAll_exW6!IS1:SN9/2^6, 0))","v":12},{"$f":"IF(im2colAll_exW6!IT1:SO9 > 0, ROUNDDOWN(im2colAll_exW6!IT1:SO9/2^6, 0), ROUNDUP(im2colAll_exW6!IT1:SO9/2^6, 0))","v":-5},{"$f":"IF(im2colAll_exW6!IU1:SP9 > 0, ROUNDDOWN(im2colAll_exW6!IU1:SP9/2^6, 0), ROUNDUP(im2colAll_exW6!IU1:SP9/2^6, 0))","v":5},{"$f":"IF(im2colAll_exW6!IV1:SQ9 > 0, ROUNDDOWN(im2colAll_exW6!IV1:SQ9/2^6, 0), ROUNDUP(im2colAll_exW6!IV1:SQ9/2^6, 0))","v":7}]
[{"$f":"IF(im2colAll_exW6!A2:IV10 > 0, ROUNDDOWN(im2colAll_exW6!A2:IV10/2^6, 0), ROUNDUP(im2colAll_exW6!A2:IV10/2^6, 0))","v":28},{"$f":"IF(im2colAll_exW6!B2:IW10 > 0, ROUNDDOWN(im2colAll_exW6!B2:IW10/2^6, 0), ROUNDUP(im2colAll_exW6!B2:IW10/2^6, 0))","v":10},{"$f":"IF(im2colAll_exW6!C2:IX10 > 0, ROUNDDOWN(im2colAll_exW6!C2:IX10/2^6, 0), ROUNDUP(im2colAll_exW6!C2:IX10/2^6, 0))","v":11},{"$f":"IF(im2colAll_exW6!D2:IY10 > 0, ROUNDDOWN(im2colAll_exW6!D2:IY10/2^6, 0), ROUNDUP(im2colAll_exW6!D2:IY10/2^6, 0))","v":16},{"$f":"IF(im2colAll_exW6!E2:IZ10 > 0, ROUNDDOWN(im2colAll_exW6!E2:IZ10/2^6, 0), ROUNDUP(im2colAll_exW6!E2:IZ10/2^6, 0))","v":14},{"$f":"IF(im2colAll_exW6!F2:JA10 > 0, ROUNDDOWN(im2colAll_exW6!F2:JA10/2^6, 0), ROUNDUP(im2colAll_exW6!F2:JA10/2^6, 0))","v":-8},{"$f":"IF(im2colAll_exW6!G2:JB10 > 0, ROUNDDOWN(im2colAll_exW6!G2:JB10/2^6, 0), ROUNDUP(im2colAll_exW6!G2:JB10/2^6, 0))","v":7},{"$f":"IF(im2colAll_exW6!H2:JC10 > 0, ROUNDDOWN(im2colAll_exW6!H2:JC10/2^6, 0), ROUNDUP(im2colAll_exW6!H2:JC10/2^6, 0))","v":-6},{"$f":"IF(im2colAll_exW6!I2:JD10 > 0, ROUNDDOWN(im2colAll_exW6!I2:JD10/2^6, 0), ROUNDUP(im2colAll_exW6!I2:JD10/2^6, 0))","v":1},{"$f":"IF(im2colAll_exW6!J2:JE10 > 0, ROUNDDOWN(im2colAll_exW6!J2:JE10/2^6, 0), ROUNDUP(im2colAll_exW6!J2:JE10/2^6, 0))","v":-2},{"$f":"IF(im2colAll_exW6!K2:JF10 > 0, ROUNDDOWN(im2colAll_exW6!K2:JF10/2^6, 0), ROUNDUP(im2colAll_exW6!K2:JF10/2^6, 0))","v":-10},{"$f":"IF(im2colAll_exW6!L2:JG10 > 0, ROUNDDOWN(im2colAll_exW6!L2:JG10/2^6, 0), ROUNDUP(im2colAll_exW6!L2:JG10/2^6, 0))","v":5},{"$f":"IF(im2colAll_exW6!M2:JH10 > 0, ROUNDDOWN(im2colAll_exW6!M2:JH10/2^6, 0), ROUNDUP(im2colAll_exW6!M2:JH10/2^6, 0))","v":-10},{"$f":"IF(im2colAll_exW6!N2:JI10 > 0, ROUNDDOWN(im2colAll_exW6!N2:JI10/2^6, 0), ROUNDUP(im2colAll_exW6!N2:JI10/2^6, 0))","v":-3},{"$f":"IF(im2colAll_exW6!O2:JJ10 > 0, ROUNDDOWN(im2colAll_exW6!O2:JJ10/2^6, 0), ROUNDUP(im2colAll_exW6!O2:JJ10/2^6, 0))","v":8},{"$f":"IF(im2colAll_exW6!P2:JK10 > 0, ROUNDDOWN(im2colAll_exW6!P2:JK10/2^6, 0), ROUNDUP(im2colAll_exW6!P2:JK10/2^6, 0))","v":14},{"$f":"IF(im2colAll_exW6!Q2:JL10 > 0, ROUNDDOWN(im2colAll_exW6!Q2:JL10/2^6, 0), ROUNDUP(im2colAll_exW6!Q2:JL10/2^6, 0))","v":-10},{"$f":"IF(im2colAll_exW6!R2:JM10 > 0, ROUNDDOWN(im2colAll_exW6!R2:JM10/2^6, 0), ROUNDUP(im2colAll_exW6!R2:JM10/2^6, 0))","v":1},{"$f":"IF(im2colAll_exW6!S2:JN10 > 0, ROUNDDOWN(im2colAll_exW6!S2:JN10/2^6, 0), ROUNDUP(im2colAll_exW6!S2:JN10/2^6, 0))","v":8},{"$f":"IF(im2colAll_exW6!T2:JO10 > 0, ROUNDDOWN(im2colAll_exW6!T2:JO10/2^6, 0), ROUNDUP(im2colAll_exW6!T2:JO10/2^6, 0))","v":1},{"$f":"IF(im2colAll_exW6!U2:JP10 > 0, ROUNDDOWN(im2colAll_exW6!U2:JP10/2^6, 0), ROUNDUP(im2colAll_exW6!U2:JP10/2^6, 0))","v":20},{"$f":"IF(im2colAll_exW6!V2:JQ10 > 0, ROUNDDOWN(im2colAll_exW6!V2:JQ10/2^6, 0), ROUNDUP(im2colAll_exW6!V2:JQ10/2^6, 0))","v":-6},{"$f":"IF(im2colAll_exW6!W2:JR10 > 0, ROUNDDOWN(im2colAll_exW6!W2:JR10/2^6, 0), ROUNDUP(im2colAll_exW6!W2:JR10/2^6, 0))","v":-1},{"$f":"IF(im2colAll_exW6!X2:JS10 > 0, ROUNDDOWN(im2colAll_exW6!X2:JS10/2^6, 0), ROUNDUP(im2colAll_exW6!X2:JS10/2^6, 0))","v":3},{"$f":"IF(im2colAll_exW6!Y2:JT10 > 0, ROUNDDOWN(im2colAll_exW6!Y2:JT10/2^6, 0), ROUNDUP(im2colAll_exW6!Y2:JT10/2^6, 0))","v":16},{"$f":"IF(im2colAll_exW6!Z2:JU10 > 0, ROUNDDOWN(im2colAll_exW6!Z2:JU10/2^6, 0), ROUNDUP(im2colAll_exW6!Z2:JU10/2^6, 0))","v":-13},{"$f":"IF(im2colAll_exW6!AA2:JV10 > 0, ROUNDDOWN(im2colAll_exW6!AA2:JV10/2^6, 0), ROUNDUP(im2colAll_exW6!AA2:JV10/2^6, 0))","v":-2},{"$f":"IF(im2colAll_exW6!AB2:JW10 > 0, ROUNDDOWN(im2colAll_exW6!AB2:JW10/2^6, 0), ROUNDUP(im2colAll_exW6!AB2:JW10/2^6, 0))","v":0},{"$f":"IF(im2colAll_exW6!AC2:JX10 > 0, ROUNDDOWN(im2colAll_exW6!AC2:JX10/2^6, 0), ROUNDUP(im2colAll_exW6!AC2:JX10/2^6, 0))","v":13},{"$f":"IF(im2colAll_exW6!AD2:JY10 > 0, ROUNDDOWN(im2colAll_exW6!AD2:JY10/2^6, 0), ROUNDUP(im2colAll_exW6!AD2:JY10/2^6, 0))","v":-8},{"$f":"IF(im2colAll_exW6!AE2:JZ10 > 0, ROUNDDOWN(im2colAll_exW6!AE2:JZ10/2^6, 0), ROUNDUP(im2colAll_exW6!AE2:JZ10/2^6, 0))","v":27},{"$f":"IF(im2colAll_exW6!AF2:KA10 > 0, ROUNDDOWN(im2colAll_exW6!AF2:KA10/2^6, 0), ROUNDUP(im2colAll_exW6!AF2:KA10/2^6, 0))","v":0},{"$f":"IF(im2colAll_exW6!AG2:KB10 > 0, ROUNDDOWN(im2colAll_exW6!AG2:KB10/2^6, 0), ROUNDUP(im2colAll_exW6!AG2:KB10/2^6, 0))","v":2},{"$f":"IF(im2colAll_exW6!AH2:KC10 > 0, ROUNDDOWN(im2colAll_exW6!AH2:KC10/2^6, 0), ROUNDUP(im2colAll_exW6!AH2:KC10/2^6, 0))","v":-1},{"$f":"IF(im2colAll_exW6!AI2:KD10 > 0, ROUNDDOWN(im2colAll_exW6!AI2:KD10/2^6, 0), ROUNDUP(im2colAll_exW6!AI2:KD10/2^6, 0))","v":1},{"$f":"IF(im2colAll_exW6!AJ2:KE10 > 0, ROUNDDOWN(im2colAll_exW6!AJ2:KE10/2^6, 0), ROUNDUP(im2colAll_exW6!AJ2:KE10/2^6, 0))","v":6},{"$f":"IF(im2colAll_exW6!AK2:KF10 > 0, ROUNDDOWN(im2colAll_exW6!AK2:KF10/2^6, 0), ROUNDUP(im2colAll_exW6!AK2:KF10/2^6, 0))","v":-8},{"$f":"IF(im2colAll_exW6!AL2:KG10 > 0, ROUNDDOWN(im2colAll_exW6!AL2:KG10/2^6, 0), ROUNDUP(im2colAll_exW6!AL2:KG10/2^6, 0))","v":17},{"$f":"IF(im2colAll_exW6!AM2:KH10 > 0, ROUNDDOWN(im2colAll_exW6!AM2:KH10/2^6, 0), ROUNDUP(im2colAll_exW6!AM2:KH10/2^6, 0))","v":-1},{"$f":"IF(im2colAll_exW6!AN2:KI10 > 0, ROUNDDOWN(im2colAll_exW6!AN2:KI10/2^6, 0), ROUNDUP(im2colAll_exW6!AN2:KI10/2^6, 0))","v":-7},{"$f":"IF(im2colAll_exW6!AO2:KJ10 > 0, ROUNDDOWN(im2colAll_exW6!AO2:KJ10/2^6, 0), ROUNDUP(im2colAll_exW6!AO2:KJ10/2^6, 0))","v":-3},{"$f":"IF(im2colAll_exW6!AP2:KK10 > 0, ROUNDDOWN(im2colAll_exW6!AP2:KK10/2^6, 0), ROUNDUP(im2colAll_exW6!AP2:KK10/2^6, 0))","v":2},{"$f":"IF(im2colAll_exW6!AQ2:KL10 > 0, ROUNDDOWN(im2colAll_exW6!AQ2:KL10/2^6, 0), ROUNDUP(im2colAll_exW6!AQ2:KL10/2^6, 0))","v":-18},{"$f":"IF(im2colAll_exW6!AR2:KM10 > 0, ROUNDDOWN(im2colAll_exW6!AR2:KM10/2^6, 0), ROUNDUP(im2colAll_exW6!AR2:KM10/2^6, 0))","v":10},{"$f":"IF(im2colAll_exW6!AS2:KN10 > 0, ROUNDDOWN(im2colAll_exW6!AS2:KN10/2^6, 0), ROUNDUP(im2colAll_exW6!AS2:KN10/2^6, 0))","v":5},{"$f":"IF(im2colAll_exW6!AT2:KO10 > 0, ROUNDDOWN(im2colAll_exW6!AT2:KO10/2^6, 0), ROUNDUP(im2colAll_exW6!AT2:KO10/2^6, 0))","v":-7},{"$f":"IF(im2colAll_exW6!AU2:KP10 > 0, ROUNDDOWN(im2colAll_exW6!AU2:KP10/2^6, 0), ROUNDUP(im2colAll_exW6!AU2:KP10/2^6, 0))","v":-9},{"$f":"IF(im2colAll_exW6!AV2:KQ10 > 0, ROUNDDOWN(im2colAll_exW6!AV2:KQ10/2^6, 0), ROUNDUP(im2colAll_exW6!AV2:KQ10/2^6, 0))","v":-1},{"$f":"IF(im2colAll_exW6!AW2:KR10 > 0, ROUNDDOWN(im2colAll_exW6!AW2:KR10/2^6, 0), ROUNDUP(im2colAll_exW6!AW2:KR10/2^6, 0))","v":14},{"$f":"IF(im2colAll_exW6!AX2:KS10 > 0, ROUNDDOWN(im2colAll_exW6!AX2:KS10/2^6, 0), ROUNDUP(im2colAll_exW6!AX2:KS10/2^6, 0))","v":9},{"$f":"IF(im2colAll_exW6!AY2:KT10 > 0, ROUNDDOWN(im2colAll_exW6!AY2:KT10/2^6, 0), ROUNDUP(im2colAll_exW6!AY2:KT10/2^6, 0))","v":10},{"$f":"IF(im2colAll_exW6!AZ2:KU10 > 0, ROUNDDOWN(im2colAll_exW6!AZ2:KU10/2^6, 0), ROUNDUP(im2colAll_exW6!AZ2:KU10/2^6, 0))","v":25},{"$f":"IF(im2colAll_exW6!BA2:KV10 > 0, ROUNDDOWN(im2colAll_exW6!BA2:KV10/2^6, 0), ROUNDUP(im2colAll_exW6!BA2:KV10/2^6, 0))","v":-6},{"$f":"IF(im2colAll_exW6!BB2:KW10 > 0, ROUNDDOWN(im2colAll_exW6!BB2:KW10/2^6, 0), ROUNDUP(im2colAll_exW6!BB2:KW10/2^6, 0))","v":-3},{"$f":"IF(im2colAll_exW6!BC2:KX10 > 0, ROUNDDOWN(im2colAll_exW6!BC2:KX10/2^6, 0), ROUNDUP(im2colAll_exW6!BC2:KX10/2^6, 0))","v":12},{"$f":"IF(im2colAll_exW6!BD2:KY10 > 0, ROUNDDOWN(im2colAll_exW6!BD2:KY10/2^6, 0), ROUNDUP(im2colAll_exW6!BD2:KY10/2^6, 0))","v":4},{"$f":"IF(im2colAll_exW6!BE2:KZ10 > 0, ROUNDDOWN(im2colAll_exW6!BE2:KZ10/2^6, 0), ROUNDUP(im2colAll_exW6!BE2:KZ10/2^6, 0))","v":-1},{"$f":"IF(im2colAll_exW6!BF2:LA10 > 0, ROUNDDOWN(im2colAll_exW6!BF2:LA10/2^6, 0), ROUNDUP(im2colAll_exW6!BF2:LA10/2^6, 0))","v":-5},{"$f":"IF(im2colAll_exW6!BG2:LB10 > 0, ROUNDDOWN(im2colAll_exW6!BG2:LB10/2^6, 0), ROUNDUP(im2colAll_exW6!BG2:LB10/2^6, 0))","v":3},{"$f":"IF(im2colAll_exW6!BH2:LC10 > 0, ROUNDDOWN(im2colAll_exW6!BH2:LC10/2^6, 0), ROUNDUP(im2colAll_exW6!BH2:LC10/2^6, 0))","v":7},{"$f":"IF(im2colAll_exW6!BI2:LD10 > 0, ROUNDDOWN(im2colAll_exW6!BI2:LD10/2^6, 0), ROUNDUP(im2colAll_exW6!BI2:LD10/2^6, 0))","v":14},{"$f":"IF(im2colAll_exW6!BJ2:LE10 > 0, ROUNDDOWN(im2colAll_exW6!BJ2:LE10/2^6, 0), ROUNDUP(im2colAll_exW6!BJ2:LE10/2^6, 0))","v":-3},{"$f":"IF(im2colAll_exW6!BK2:LF10 > 0, ROUNDDOWN(im2colAll_exW6!BK2:LF10/2^6, 0), ROUNDUP(im2colAll_exW6!BK2:LF10/2^6, 0))","v":-7},{"$f":"IF(im2colAll_exW6!BL2:LG10 > 0, ROUNDDOWN(im2colAll_exW6!BL2:LG10/2^6, 0), ROUNDUP(im2colAll_exW6!BL2:LG10/2^6, 0))","v":-7},{"$f":"IF(im2colAll_exW6!BM2:LH10 > 0, ROUNDDOWN(im2colAll_exW6!BM2:LH10/2^6, 0), ROUNDUP(im2colAll_exW6!BM2:LH10/2^6, 0))","v":2},{"$f":"IF(im2colAll_exW6!BN2:LI10 > 0, ROUNDDOWN(im2colAll_exW6!BN2:LI10/2^6, 0), ROUNDUP(im2colAll_exW6!BN2:LI10/2^6, 0))","v":-8},{"$f":"IF(im2colAll_exW6!BO2:LJ10 > 0, ROUNDDOWN(im2colAll_exW6!BO2:LJ10/2^6, 0), ROUNDUP(im2colAll_exW6!BO2:LJ10/2^6, 0))","v":-7},{"$f":"IF(im2colAll_exW6!BP2:LK10 > 0, ROUNDDOWN(im2colAll_exW6!BP2:LK10/2^6, 0), ROUNDUP(im2colAll_exW6!BP2:LK10/2^6, 0))","v":6},{"$f":"IF(im2colAll_exW6!BQ2:LL10 > 0, ROUNDDOWN(im2colAll_exW6!BQ2:LL10/2^6, 0), ROUNDUP(im2colAll_exW6!BQ2:LL10/2^6, 0))","v":3},{"$f":"IF(im2colAll_exW6!BR2:LM10 > 0, ROUNDDOWN(im2colAll_exW6!BR2:LM10/2^6, 0), ROUNDUP(im2colAll_exW6!BR2:LM10/2^6, 0))","v":18},{"$f":"IF(im2colAll_exW6!BS2:LN10 > 0, ROUNDDOWN(im2colAll_exW6!BS2:LN10/2^6, 0), ROUNDUP(im2colAll_exW6!BS2:LN10/2^6, 0))","v":11},{"$f":"IF(im2colAll_exW6!BT2:LO10 > 0, ROUNDDOWN(im2colAll_exW6!BT2:LO10/2^6, 0), ROUNDUP(im2colAll_exW6!BT2:LO10/2^6, 0))","v":-10},{"$f":"IF(im2colAll_exW6!BU2:LP10 > 0, ROUNDDOWN(im2colAll_exW6!BU2:LP10/2^6, 0), ROUNDUP(im2colAll_exW6!BU2:LP10/2^6, 0))","v":13},{"$f":"IF(im2colAll_exW6!BV2:LQ10 > 0, ROUNDDOWN(im2colAll_exW6!BV2:LQ10/2^6, 0), ROUNDUP(im2colAll_exW6!BV2:LQ10/2^6, 0))","v":15},{"$f":"IF(im2colAll_exW6!BW2:LR10 > 0, ROUNDDOWN(im2colAll_exW6!BW2:LR10/2^6, 0), ROUNDUP(im2colAll_exW6!BW2:LR10/2^6, 0))","v":8},{"$f":"IF(im2colAll_exW6!BX2:LS10 > 0, ROUNDDOWN(im2colAll_exW6!BX2:LS10/2^6, 0), ROUNDUP(im2colAll_exW6!BX2:LS10/2^6, 0))","v":8},{"$f":"IF(im2colAll_exW6!BY2:LT10 > 0, ROUNDDOWN(im2colAll_exW6!BY2:LT10/2^6, 0), ROUNDUP(im2colAll_exW6!BY2:LT10/2^6, 0))","v":-8},{"$f":"IF(im2colAll_exW6!BZ2:LU10 > 0, ROUNDDOWN(im2colAll_exW6!BZ2:LU10/2^6, 0), ROUNDUP(im2colAll_exW6!BZ2:LU10/2^6, 0))","v":10},{"$f":"IF(im2colAll_exW6!CA2:LV10 > 0, ROUNDDOWN(im2colAll_exW6!CA2:LV10/2^6, 0), ROUNDUP(im2colAll_exW6!CA2:LV10/2^6, 0))","v":6},{"$f":"IF(im2colAll_exW6!CB2:LW10 > 0, ROUNDDOWN(im2colAll_exW6!CB2:LW10/2^6, 0), ROUNDUP(im2colAll_exW6!CB2:LW10/2^6, 0))","v":10},{"$f":"IF(im2colAll_exW6!CC2:LX10 > 0, ROUNDDOWN(im2colAll_exW6!CC2:LX10/2^6, 0), ROUNDUP(im2colAll_exW6!CC2:LX10/2^6, 0))","v":0},{"$f":"IF(im2colAll_exW6!CD2:LY10 > 0, ROUNDDOWN(im2colAll_exW6!CD2:LY10/2^6, 0), ROUNDUP(im2colAll_exW6!CD2:LY10/2^6, 0))","v":-7},{"$f":"IF(im2colAll_exW6!CE2:LZ10 > 0, ROUNDDOWN(im2colAll_exW6!CE2:LZ10/2^6, 0), ROUNDUP(im2colAll_exW6!CE2:LZ10/2^6, 0))","v":-9},{"$f":"IF(im2colAll_exW6!CF2:MA10 > 0, ROUNDDOWN(im2colAll_exW6!CF2:MA10/2^6, 0), ROUNDUP(im2colAll_exW6!CF2:MA10/2^6, 0))","v":22},{"$f":"IF(im2colAll_exW6!CG2:MB10 > 0, ROUNDDOWN(im2colAll_exW6!CG2:MB10/2^6, 0), ROUNDUP(im2colAll_exW6!CG2:MB10/2^6, 0))","v":9},{"$f":"IF(im2colAll_exW6!CH2:MC10 > 0, ROUNDDOWN(im2colAll_exW6!CH2:MC10/2^6, 0), ROUNDUP(im2colAll_exW6!CH2:MC10/2^6, 0))","v":-8},{"$f":"IF(im2colAll_exW6!CI2:MD10 > 0, ROUNDDOWN(im2colAll_exW6!CI2:MD10/2^6, 0), ROUNDUP(im2colAll_exW6!CI2:MD10/2^6, 0))","v":8},{"$f":"IF(im2colAll_exW6!CJ2:ME10 > 0, ROUNDDOWN(im2colAll_exW6!CJ2:ME10/2^6, 0), ROUNDUP(im2colAll_exW6!CJ2:ME10/2^6, 0))","v":-2},{"$f":"IF(im2colAll_exW6!CK2:MF10 > 0, ROUNDDOWN(im2colAll_exW6!CK2:MF10/2^6, 0), ROUNDUP(im2colAll_exW6!CK2:MF10/2^6, 0))","v":16},{"$f":"IF(im2colAll_exW6!CL2:MG10 > 0, ROUNDDOWN(im2colAll_exW6!CL2:MG10/2^6, 0), ROUNDUP(im2colAll_exW6!CL2:MG10/2^6, 0))","v":13},{"$f":"IF(im2colAll_exW6!CM2:MH10 > 0, ROUNDDOWN(im2colAll_exW6!CM2:MH10/2^6, 0), ROUNDUP(im2colAll_exW6!CM2:MH10/2^6, 0))","v":-6},{"$f":"IF(im2colAll_exW6!CN2:MI10 > 0, ROUNDDOWN(im2colAll_exW6!CN2:MI10/2^6, 0), ROUNDUP(im2colAll_exW6!CN2:MI10/2^6, 0))","v":12},{"$f":"IF(im2colAll_exW6!CO2:MJ10 > 0, ROUNDDOWN(im2colAll_exW6!CO2:MJ10/2^6, 0), ROUNDUP(im2colAll_exW6!CO2:MJ10/2^6, 0))","v":3},{"$f":"IF(im2colAll_exW6!CP2:MK10 > 0, ROUNDDOWN(im2colAll_exW6!CP2:MK10/2^6, 0), ROUNDUP(im2colAll_exW6!CP2:MK10/2^6, 0))","v":-3},{"$f":"IF(im2colAll_exW6!CQ2:ML10 > 0, ROUNDDOWN(im2colAll_exW6!CQ2:ML10/2^6, 0), ROUNDUP(im2colAll_exW6!CQ2:ML10/2^6, 0))","v":12},{"$f":"IF(im2colAll_exW6!CR2:MM10 > 0, ROUNDDOWN(im2colAll_exW6!CR2:MM10/2^6, 0), ROUNDUP(im2colAll_exW6!CR2:MM10/2^6, 0))","v":29},{"$f":"IF(im2colAll_exW6!CS2:MN10 > 0, ROUNDDOWN(im2colAll_exW6!CS2:MN10/2^6, 0), ROUNDUP(im2colAll_exW6!CS2:MN10/2^6, 0))","v":-4},{"$f":"IF(im2colAll_exW6!CT2:MO10 > 0, ROUNDDOWN(im2colAll_exW6!CT2:MO10/2^6, 0), ROUNDUP(im2colAll_exW6!CT2:MO10/2^6, 0))","v":10},{"$f":"IF(im2colAll_exW6!CU2:MP10 > 0, ROUNDDOWN(im2colAll_exW6!CU2:MP10/2^6, 0), ROUNDUP(im2colAll_exW6!CU2:MP10/2^6, 0))","v":-3},{"$f":"IF(im2colAll_exW6!CV2:MQ10 > 0, ROUNDDOWN(im2colAll_exW6!CV2:MQ10/2^6, 0), ROUNDUP(im2colAll_exW6!CV2:MQ10/2^6, 0))","v":2},{"$f":"IF(im2colAll_exW6!CW2:MR10 > 0, ROUNDDOWN(im2colAll_exW6!CW2:MR10/2^6, 0), ROUNDUP(im2colAll_exW6!CW2:MR10/2^6, 0))","v":3},{"$f":"IF(im2colAll_exW6!CX2:MS10 > 0, ROUNDDOWN(im2colAll_exW6!CX2:MS10/2^6, 0), ROUNDUP(im2colAll_exW6!CX2:MS10/2^6, 0))","v":7},{"$f":"IF(im2colAll_exW6!CY2:MT10 > 0, ROUNDDOWN(im2colAll_exW6!CY2:MT10/2^6, 0), ROUNDUP(im2colAll_exW6!CY2:MT10/2^6, 0))","v":-6},{"$f":"IF(im2colAll_exW6!CZ2:MU10 > 0, ROUNDDOWN(im2colAll_exW6!CZ2:MU10/2^6, 0), ROUNDUP(im2colAll_exW6!CZ2:MU10/2^6, 0))","v":-6},{"$f":"IF(im2colAll_exW6!DA2:MV10 > 0, ROUNDDOWN(im2colAll_exW6!DA2:MV10/2^6, 0), ROUNDUP(im2colAll_exW6!DA2:MV10/2^6, 0))","v":14},{"$f":"IF(im2colAll_exW6!DB2:MW10 > 0, ROUNDDOWN(im2colAll_exW6!DB2:MW10/2^6, 0), ROUNDUP(im2colAll_exW6!DB2:MW10/2^6, 0))","v":4},{"$f":"IF(im2colAll_exW6!DC2:MX10 > 0, ROUNDDOWN(im2colAll_exW6!DC2:MX10/2^6, 0), ROUNDUP(im2colAll_exW6!DC2:MX10/2^6, 0))","v":-9},{"$f":"IF(im2colAll_exW6!DD2:MY10 > 0, ROUNDDOWN(im2colAll_exW6!DD2:MY10/2^6, 0), ROUNDUP(im2colAll_exW6!DD2:MY10/2^6, 0))","v":5},{"$f":"IF(im2colAll_exW6!DE2:MZ10 > 0, ROUNDDOWN(im2colAll_exW6!DE2:MZ10/2^6, 0), ROUNDUP(im2colAll_exW6!DE2:MZ10/2^6, 0))","v":14},{"$f":"IF(im2colAll_exW6!DF2:NA10 > 0, ROUNDDOWN(im2colAll_exW6!DF2:NA10/2^6, 0), ROUNDUP(im2colAll_exW6!DF2:NA10/2^6, 0))","v":1},{"$f":"IF(im2colAll_exW6!DG2:NB10 > 0, ROUNDDOWN(im2colAll_exW6!DG2:NB10/2^6, 0), ROUNDUP(im2colAll_exW6!DG2:NB10/2^6, 0))","v":-2},{"$f":"IF(im2colAll_exW6!DH2:NC10 > 0, ROUNDDOWN(im2colAll_exW6!DH2:NC10/2^6, 0), ROUNDUP(im2colAll_exW6!DH2:NC10/2^6, 0))","v":7},{"$f":"IF(im2colAll_exW6!DI2:ND10 > 0, ROUNDDOWN(im2colAll_exW6!DI2:ND10/2^6, 0), ROUNDUP(im2colAll_exW6!DI2:ND10/2^6, 0))","v":-2},{"$f":"IF(im2colAll_exW6!DJ2:NE10 > 0, ROUNDDOWN(im2colAll_exW6!DJ2:NE10/2^6, 0), ROUNDUP(im2colAll_exW6!DJ2:NE10/2^6, 0))","v":-11},{"$f":"IF(im2colAll_exW6!DK2:NF10 > 0, ROUNDDOWN(im2colAll_exW6!DK2:NF10/2^6, 0), ROUNDUP(im2colAll_exW6!DK2:NF10/2^6, 0))","v":-3},{"$f":"IF(im2colAll_exW6!DL2:NG10 > 0, ROUNDDOWN(im2colAll_exW6!DL2:NG10/2^6, 0), ROUNDUP(im2colAll_exW6!DL2:NG10/2^6, 0))","v":3},{"$f":"IF(im2colAll_exW6!DM2:NH10 > 0, ROUNDDOWN(im2colAll_exW6!DM2:NH10/2^6, 0), ROUNDUP(im2colAll_exW6!DM2:NH10/2^6, 0))","v":-2},{"$f":"IF(im2colAll_exW6!DN2:NI10 > 0, ROUNDDOWN(im2colAll_exW6!DN2:NI10/2^6, 0), ROUNDUP(im2colAll_exW6!DN2:NI10/2^6, 0))","v":7},{"$f":"IF(im2colAll_exW6!DO2:NJ10 > 0, ROUNDDOWN(im2colAll_exW6!DO2:NJ10/2^6, 0), ROUNDUP(im2colAll_exW6!DO2:NJ10/2^6, 0))","v":-4},{"$f":"IF(im2colAll_exW6!DP2:NK10 > 0, ROUNDDOWN(im2colAll_exW6!DP2:NK10/2^6, 0), ROUNDUP(im2colAll_exW6!DP2:NK10/2^6, 0))","v":2},{"$f":"IF(im2colAll_exW6!DQ2:NL10 > 0, ROUNDDOWN(im2colAll_exW6!DQ2:NL10/2^6, 0), ROUNDUP(im2colAll_exW6!DQ2:NL10/2^6, 0))","v":-7},{"$f":"IF(im2colAll_exW6!DR2:NM10 > 0, ROUNDDOWN(im2colAll_exW6!DR2:NM10/2^6, 0), ROUNDUP(im2colAll_exW6!DR2:NM10/2^6, 0))","v":-7},{"$f":"IF(im2colAll_exW6!DS2:NN10 > 0, ROUNDDOWN(im2colAll_exW6!DS2:NN10/2^6, 0), ROUNDUP(im2colAll_exW6!DS2:NN10/2^6, 0))","v":-5},{"$f":"IF(im2colAll_exW6!DT2:NO10 > 0, ROUNDDOWN(im2colAll_exW6!DT2:NO10/2^6, 0), ROUNDUP(im2colAll_exW6!DT2:NO10/2^6, 0))","v":6},{"$f":"IF(im2colAll_exW6!DU2:NP10 > 0, ROUNDDOWN(im2colAll_exW6!DU2:NP10/2^6, 0), ROUNDUP(im2colAll_exW6!DU2:NP10/2^6, 0))","v":8},{"$f":"IF(im2colAll_exW6!DV2:NQ10 > 0, ROUNDDOWN(im2colAll_exW6!DV2:NQ10/2^6, 0), ROUNDUP(im2colAll_exW6!DV2:NQ10/2^6, 0))","v":5},{"$f":"IF(im2colAll_exW6!DW2:NR10 > 0, ROUNDDOWN(im2colAll_exW6!DW2:NR10/2^6, 0), ROUNDUP(im2colAll_exW6!DW2:NR10/2^6, 0))","v":-6},{"$f":"IF(im2colAll_exW6!DX2:NS10 > 0, ROUNDDOWN(im2colAll_exW6!DX2:NS10/2^6, 0), ROUNDUP(im2colAll_exW6!DX2:NS10/2^6, 0))","v":-8},{"$f":"IF(im2colAll_exW6!DY2:NT10 > 0, ROUNDDOWN(im2colAll_exW6!DY2:NT10/2^6, 0), ROUNDUP(im2colAll_exW6!DY2:NT10/2^6, 0))","v":-5},{"$f":"IF(im2colAll_exW6!DZ2:NU10 > 0, ROUNDDOWN(im2colAll_exW6!DZ2:NU10/2^6, 0), ROUNDUP(im2colAll_exW6!DZ2:NU10/2^6, 0))","v":5},{"$f":"IF(im2colAll_exW6!EA2:NV10 > 0, ROUNDDOWN(im2colAll_exW6!EA2:NV10/2^6, 0), ROUNDUP(im2colAll_exW6!EA2:NV10/2^6, 0))","v":-2},{"$f":"IF(im2colAll_exW6!EB2:NW10 > 0, ROUNDDOWN(im2colAll_exW6!EB2:NW10/2^6, 0), ROUNDUP(im2colAll_exW6!EB2:NW10/2^6, 0))","v":-3},{"$f":"IF(im2colAll_exW6!EC2:NX10 > 0, ROUNDDOWN(im2colAll_exW6!EC2:NX10/2^6, 0), ROUNDUP(im2colAll_exW6!EC2:NX10/2^6, 0))","v":-6},{"$f":"IF(im2colAll_exW6!ED2:NY10 > 0, ROUNDDOWN(im2colAll_exW6!ED2:NY10/2^6, 0), ROUNDUP(im2colAll_exW6!ED2:NY10/2^6, 0))","v":1},{"$f":"IF(im2colAll_exW6!EE2:NZ10 > 0, ROUNDDOWN(im2colAll_exW6!EE2:NZ10/2^6, 0), ROUNDUP(im2colAll_exW6!EE2:NZ10/2^6, 0))","v":2},{"$f":"IF(im2colAll_exW6!EF2:OA10 > 0, ROUNDDOWN(im2colAll_exW6!EF2:OA10/2^6, 0), ROUNDUP(im2colAll_exW6!EF2:OA10/2^6, 0))","v":-11},{"$f":"IF(im2colAll_exW6!EG2:OB10 > 0, ROUNDDOWN(im2colAll_exW6!EG2:OB10/2^6, 0), ROUNDUP(im2colAll_exW6!EG2:OB10/2^6, 0))","v":16},{"$f":"IF(im2colAll_exW6!EH2:OC10 > 0, ROUNDDOWN(im2colAll_exW6!EH2:OC10/2^6, 0), ROUNDUP(im2colAll_exW6!EH2:OC10/2^6, 0))","v":-5},{"$f":"IF(im2colAll_exW6!EI2:OD10 > 0, ROUNDDOWN(im2colAll_exW6!EI2:OD10/2^6, 0), ROUNDUP(im2colAll_exW6!EI2:OD10/2^6, 0))","v":-4},{"$f":"IF(im2colAll_exW6!EJ2:OE10 > 0, ROUNDDOWN(im2colAll_exW6!EJ2:OE10/2^6, 0), ROUNDUP(im2colAll_exW6!EJ2:OE10/2^6, 0))","v":7},{"$f":"IF(im2colAll_exW6!EK2:OF10 > 0, ROUNDDOWN(im2colAll_exW6!EK2:OF10/2^6, 0), ROUNDUP(im2colAll_exW6!EK2:OF10/2^6, 0))","v":2},{"$f":"IF(im2colAll_exW6!EL2:OG10 > 0, ROUNDDOWN(im2colAll_exW6!EL2:OG10/2^6, 0), ROUNDUP(im2colAll_exW6!EL2:OG10/2^6, 0))","v":-1},{"$f":"IF(im2colAll_exW6!EM2:OH10 > 0, ROUNDDOWN(im2colAll_exW6!EM2:OH10/2^6, 0), ROUNDUP(im2colAll_exW6!EM2:OH10/2^6, 0))","v":8},{"$f":"IF(im2colAll_exW6!EN2:OI10 > 0, ROUNDDOWN(im2colAll_exW6!EN2:OI10/2^6, 0), ROUNDUP(im2colAll_exW6!EN2:OI10/2^6, 0))","v":1},{"$f":"IF(im2colAll_exW6!EO2:OJ10 > 0, ROUNDDOWN(im2colAll_exW6!EO2:OJ10/2^6, 0), ROUNDUP(im2colAll_exW6!EO2:OJ10/2^6, 0))","v":1},{"$f":"IF(im2colAll_exW6!EP2:OK10 > 0, ROUNDDOWN(im2colAll_exW6!EP2:OK10/2^6, 0), ROUNDUP(im2colAll_exW6!EP2:OK10/2^6, 0))","v":-14},{"$f":"IF(im2colAll_exW6!EQ2:OL10 > 0, ROUNDDOWN(im2colAll_exW6!EQ2:OL10/2^6, 0), ROUNDUP(im2colAll_exW6!EQ2:OL10/2^6, 0))","v":-5},{"$f":"IF(im2colAll_exW6!ER2:OM10 > 0, ROUNDDOWN(im2colAll_exW6!ER2:OM10/2^6, 0), ROUNDUP(im2colAll_exW6!ER2:OM10/2^6, 0))","v":3},{"$f":"IF(im2colAll_exW6!ES2:ON10 > 0, ROUNDDOWN(im2colAll_exW6!ES2:ON10/2^6, 0), ROUNDUP(im2colAll_exW6!ES2:ON10/2^6, 0))","v":1},{"$f":"IF(im2colAll_exW6!ET2:OO10 > 0, ROUNDDOWN(im2colAll_exW6!ET2:OO10/2^6, 0), ROUNDUP(im2colAll_exW6!ET2:OO10/2^6, 0))","v":13},{"$f":"IF(im2colAll_exW6!EU2:OP10 > 0, ROUNDDOWN(im2colAll_exW6!EU2:OP10/2^6, 0), ROUNDUP(im2colAll_exW6!EU2:OP10/2^6, 0))","v":-3},{"$f":"IF(im2colAll_exW6!EV2:OQ10 > 0, ROUNDDOWN(im2colAll_exW6!EV2:OQ10/2^6, 0), ROUNDUP(im2colAll_exW6!EV2:OQ10/2^6, 0))","v":-5},{"$f":"IF(im2colAll_exW6!EW2:OR10 > 0, ROUNDDOWN(im2colAll_exW6!EW2:OR10/2^6, 0), ROUNDUP(im2colAll_exW6!EW2:OR10/2^6, 0))","v":10},{"$f":"IF(im2colAll_exW6!EX2:OS10 > 0, ROUNDDOWN(im2colAll_exW6!EX2:OS10/2^6, 0), ROUNDUP(im2colAll_exW6!EX2:OS10/2^6, 0))","v":5},{"$f":"IF(im2colAll_exW6!EY2:OT10 > 0, ROUNDDOWN(im2colAll_exW6!EY2:OT10/2^6, 0), ROUNDUP(im2colAll_exW6!EY2:OT10/2^6, 0))","v":15},{"$f":"IF(im2colAll_exW6!EZ2:OU10 > 0, ROUNDDOWN(im2colAll_exW6!EZ2:OU10/2^6, 0), ROUNDUP(im2colAll_exW6!EZ2:OU10/2^6, 0))","v":11},{"$f":"IF(im2colAll_exW6!FA2:OV10 > 0, ROUNDDOWN(im2colAll_exW6!FA2:OV10/2^6, 0), ROUNDUP(im2colAll_exW6!FA2:OV10/2^6, 0))","v":4},{"$f":"IF(im2colAll_exW6!FB2:OW10 > 0, ROUNDDOWN(im2colAll_exW6!FB2:OW10/2^6, 0), ROUNDUP(im2colAll_exW6!FB2:OW10/2^6, 0))","v":11},{"$f":"IF(im2colAll_exW6!FC2:OX10 > 0, ROUNDDOWN(im2colAll_exW6!FC2:OX10/2^6, 0), ROUNDUP(im2colAll_exW6!FC2:OX10/2^6, 0))","v":-4},{"$f":"IF(im2colAll_exW6!FD2:OY10 > 0, ROUNDDOWN(im2colAll_exW6!FD2:OY10/2^6, 0), ROUNDUP(im2colAll_exW6!FD2:OY10/2^6, 0))","v":8},{"$f":"IF(im2colAll_exW6!FE2:OZ10 > 0, ROUNDDOWN(im2colAll_exW6!FE2:OZ10/2^6, 0), ROUNDUP(im2colAll_exW6!FE2:OZ10/2^6, 0))","v":5},{"$f":"IF(im2colAll_exW6!FF2:PA10 > 0, ROUNDDOWN(im2colAll_exW6!FF2:PA10/2^6, 0), ROUNDUP(im2colAll_exW6!FF2:PA10/2^6, 0))","v":-10},{"$f":"IF(im2colAll_exW6!FG2:PB10 > 0, ROUNDDOWN(im2colAll_exW6!FG2:PB10/2^6, 0), ROUNDUP(im2colAll_exW6!FG2:PB10/2^6, 0))","v":11},{"$f":"IF(im2colAll_exW6!FH2:PC10 > 0, ROUNDDOWN(im2colAll_exW6!FH2:PC10/2^6, 0), ROUNDUP(im2colAll_exW6!FH2:PC10/2^6, 0))","v":7},{"$f":"IF(im2colAll_exW6!FI2:PD10 > 0, ROUNDDOWN(im2colAll_exW6!FI2:PD10/2^6, 0), ROUNDUP(im2colAll_exW6!FI2:PD10/2^6, 0))","v":-9},{"$f":"IF(im2colAll_exW6!FJ2:PE10 > 0, ROUNDDOWN(im2colAll_exW6!FJ2:PE10/2^6, 0), ROUNDUP(im2colAll_exW6!FJ2:PE10/2^6, 0))","v":-5},{"$f":"IF(im2colAll_exW6!FK2:PF10 > 0, ROUNDDOWN(im2colAll_exW6!FK2:PF10/2^6, 0), ROUNDUP(im2colAll_exW6!FK2:PF10/2^6, 0))","v":11},{"$f":"IF(im2colAll_exW6!FL2:PG10 > 0, ROUNDDOWN(im2colAll_exW6!FL2:PG10/2^6, 0), ROUNDUP(im2colAll_exW6!FL2:PG10/2^6, 0))","v":5},{"$f":"IF(im2colAll_exW6!FM2:PH10 > 0, ROUNDDOWN(im2colAll_exW6!FM2:PH10/2^6, 0), ROUNDUP(im2colAll_exW6!FM2:PH10/2^6, 0))","v":-15},{"$f":"IF(im2colAll_exW6!FN2:PI10 > 0, ROUNDDOWN(im2colAll_exW6!FN2:PI10/2^6, 0), ROUNDUP(im2colAll_exW6!FN2:PI10/2^6, 0))","v":8},{"$f":"IF(im2colAll_exW6!FO2:PJ10 > 0, ROUNDDOWN(im2colAll_exW6!FO2:PJ10/2^6, 0), ROUNDUP(im2colAll_exW6!FO2:PJ10/2^6, 0))","v":1},{"$f":"IF(im2colAll_exW6!FP2:PK10 > 0, ROUNDDOWN(im2colAll_exW6!FP2:PK10/2^6, 0), ROUNDUP(im2colAll_exW6!FP2:PK10/2^6, 0))","v":15},{"$f":"IF(im2colAll_exW6!FQ2:PL10 > 0, ROUNDDOWN(im2colAll_exW6!FQ2:PL10/2^6, 0), ROUNDUP(im2colAll_exW6!FQ2:PL10/2^6, 0))","v":-5},{"$f":"IF(im2colAll_exW6!FR2:PM10 > 0, ROUNDDOWN(im2colAll_exW6!FR2:PM10/2^6, 0), ROUNDUP(im2colAll_exW6!FR2:PM10/2^6, 0))","v":11},{"$f":"IF(im2colAll_exW6!FS2:PN10 > 0, ROUNDDOWN(im2colAll_exW6!FS2:PN10/2^6, 0), ROUNDUP(im2colAll_exW6!FS2:PN10/2^6, 0))","v":-7},{"$f":"IF(im2colAll_exW6!FT2:PO10 > 0, ROUNDDOWN(im2colAll_exW6!FT2:PO10/2^6, 0), ROUNDUP(im2colAll_exW6!FT2:PO10/2^6, 0))","v":5},{"$f":"IF(im2colAll_exW6!FU2:PP10 > 0, ROUNDDOWN(im2colAll_exW6!FU2:PP10/2^6, 0), ROUNDUP(im2colAll_exW6!FU2:PP10/2^6, 0))","v":3},{"$f":"IF(im2colAll_exW6!FV2:PQ10 > 0, ROUNDDOWN(im2colAll_exW6!FV2:PQ10/2^6, 0), ROUNDUP(im2colAll_exW6!FV2:PQ10/2^6, 0))","v":-3},{"$f":"IF(im2colAll_exW6!FW2:PR10 > 0, ROUNDDOWN(im2colAll_exW6!FW2:PR10/2^6, 0), ROUNDUP(im2colAll_exW6!FW2:PR10/2^6, 0))","v":-4},{"$f":"IF(im2colAll_exW6!FX2:PS10 > 0, ROUNDDOWN(im2colAll_exW6!FX2:PS10/2^6, 0), ROUNDUP(im2colAll_exW6!FX2:PS10/2^6, 0))","v":9},{"$f":"IF(im2colAll_exW6!FY2:PT10 > 0, ROUNDDOWN(im2colAll_exW6!FY2:PT10/2^6, 0), ROUNDUP(im2colAll_exW6!FY2:PT10/2^6, 0))","v":-8},{"$f":"IF(im2colAll_exW6!FZ2:PU10 > 0, ROUNDDOWN(im2colAll_exW6!FZ2:PU10/2^6, 0), ROUNDUP(im2colAll_exW6!FZ2:PU10/2^6, 0))","v":-16},{"$f":"IF(im2colAll_exW6!GA2:PV10 > 0, ROUNDDOWN(im2colAll_exW6!GA2:PV10/2^6, 0), ROUNDUP(im2colAll_exW6!GA2:PV10/2^6, 0))","v":-6},{"$f":"IF(im2colAll_exW6!GB2:PW10 > 0, ROUNDDOWN(im2colAll_exW6!GB2:PW10/2^6, 0), ROUNDUP(im2colAll_exW6!GB2:PW10/2^6, 0))","v":-4},{"$f":"IF(im2colAll_exW6!GC2:PX10 > 0, ROUNDDOWN(im2colAll_exW6!GC2:PX10/2^6, 0), ROUNDUP(im2colAll_exW6!GC2:PX10/2^6, 0))","v":0},{"$f":"IF(im2colAll_exW6!GD2:PY10 > 0, ROUNDDOWN(im2colAll_exW6!GD2:PY10/2^6, 0), ROUNDUP(im2colAll_exW6!GD2:PY10/2^6, 0))","v":-14},{"$f":"IF(im2colAll_exW6!GE2:PZ10 > 0, ROUNDDOWN(im2colAll_exW6!GE2:PZ10/2^6, 0), ROUNDUP(im2colAll_exW6!GE2:PZ10/2^6, 0))","v":5},{"$f":"IF(im2colAll_exW6!GF2:QA10 > 0, ROUNDDOWN(im2colAll_exW6!GF2:QA10/2^6, 0), ROUNDUP(im2colAll_exW6!GF2:QA10/2^6, 0))","v":-7},{"$f":"IF(im2colAll_exW6!GG2:QB10 > 0, ROUNDDOWN(im2colAll_exW6!GG2:QB10/2^6, 0), ROUNDUP(im2colAll_exW6!GG2:QB10/2^6, 0))","v":-16},{"$f":"IF(im2colAll_exW6!GH2:QC10 > 0, ROUNDDOWN(im2colAll_exW6!GH2:QC10/2^6, 0), ROUNDUP(im2colAll_exW6!GH2:QC10/2^6, 0))","v":0},{"$f":"IF(im2colAll_exW6!GI2:QD10 > 0, ROUNDDOWN(im2colAll_exW6!GI2:QD10/2^6, 0), ROUNDUP(im2colAll_exW6!GI2:QD10/2^6, 0))","v":7},{"$f":"IF(im2colAll_exW6!GJ2:QE10 > 0, ROUNDDOWN(im2colAll_exW6!GJ2:QE10/2^6, 0), ROUNDUP(im2colAll_exW6!GJ2:QE10/2^6, 0))","v":6},{"$f":"IF(im2colAll_exW6!GK2:QF10 > 0, ROUNDDOWN(im2colAll_exW6!GK2:QF10/2^6, 0), ROUNDUP(im2colAll_exW6!GK2:QF10/2^6, 0))","v":3},{"$f":"IF(im2colAll_exW6!GL2:QG10 > 0, ROUNDDOWN(im2colAll_exW6!GL2:QG10/2^6, 0), ROUNDUP(im2colAll_exW6!GL2:QG10/2^6, 0))","v":16},{"$f":"IF(im2colAll_exW6!GM2:QH10 > 0, ROUNDDOWN(im2colAll_exW6!GM2:QH10/2^6, 0), ROUNDUP(im2colAll_exW6!GM2:QH10/2^6, 0))","v":-1},{"$f":"IF(im2colAll_exW6!GN2:QI10 > 0, ROUNDDOWN(im2colAll_exW6!GN2:QI10/2^6, 0), ROUNDUP(im2colAll_exW6!GN2:QI10/2^6, 0))","v":-2},{"$f":"IF(im2colAll_exW6!GO2:QJ10 > 0, ROUNDDOWN(im2colAll_exW6!GO2:QJ10/2^6, 0), ROUNDUP(im2colAll_exW6!GO2:QJ10/2^6, 0))","v":-9},{"$f":"IF(im2colAll_exW6!GP2:QK10 > 0, ROUNDDOWN(im2colAll_exW6!GP2:QK10/2^6, 0), ROUNDUP(im2colAll_exW6!GP2:QK10/2^6, 0))","v":-2},{"$f":"IF(im2colAll_exW6!GQ2:QL10 > 0, ROUNDDOWN(im2colAll_exW6!GQ2:QL10/2^6, 0), ROUNDUP(im2colAll_exW6!GQ2:QL10/2^6, 0))","v":-7},{"$f":"IF(im2colAll_exW6!GR2:QM10 > 0, ROUNDDOWN(im2colAll_exW6!GR2:QM10/2^6, 0), ROUNDUP(im2colAll_exW6!GR2:QM10/2^6, 0))","v":5},{"$f":"IF(im2colAll_exW6!GS2:QN10 > 0, ROUNDDOWN(im2colAll_exW6!GS2:QN10/2^6, 0), ROUNDUP(im2colAll_exW6!GS2:QN10/2^6, 0))","v":-10},{"$f":"IF(im2colAll_exW6!GT2:QO10 > 0, ROUNDDOWN(im2colAll_exW6!GT2:QO10/2^6, 0), ROUNDUP(im2colAll_exW6!GT2:QO10/2^6, 0))","v":0},{"$f":"IF(im2colAll_exW6!GU2:QP10 > 0, ROUNDDOWN(im2colAll_exW6!GU2:QP10/2^6, 0), ROUNDUP(im2colAll_exW6!GU2:QP10/2^6, 0))","v":6},{"$f":"IF(im2colAll_exW6!GV2:QQ10 > 0, ROUNDDOWN(im2colAll_exW6!GV2:QQ10/2^6, 0), ROUNDUP(im2colAll_exW6!GV2:QQ10/2^6, 0))","v":8},{"$f":"IF(im2colAll_exW6!GW2:QR10 > 0, ROUNDDOWN(im2colAll_exW6!GW2:QR10/2^6, 0), ROUNDUP(im2colAll_exW6!GW2:QR10/2^6, 0))","v":-1},{"$f":"IF(im2colAll_exW6!GX2:QS10 > 0, ROUNDDOWN(im2colAll_exW6!GX2:QS10/2^6, 0), ROUNDUP(im2colAll_exW6!GX2:QS10/2^6, 0))","v":-3},{"$f":"IF(im2colAll_exW6!GY2:QT10 > 0, ROUNDDOWN(im2colAll_exW6!GY2:QT10/2^6, 0), ROUNDUP(im2colAll_exW6!GY2:QT10/2^6, 0))","v":17},{"$f":"IF(im2colAll_exW6!GZ2:QU10 > 0, ROUNDDOWN(im2colAll_exW6!GZ2:QU10/2^6, 0), ROUNDUP(im2colAll_exW6!GZ2:QU10/2^6, 0))","v":5},{"$f":"IF(im2colAll_exW6!HA2:QV10 > 0, ROUNDDOWN(im2colAll_exW6!HA2:QV10/2^6, 0), ROUNDUP(im2colAll_exW6!HA2:QV10/2^6, 0))","v":17},{"$f":"IF(im2colAll_exW6!HB2:QW10 > 0, ROUNDDOWN(im2colAll_exW6!HB2:QW10/2^6, 0), ROUNDUP(im2colAll_exW6!HB2:QW10/2^6, 0))","v":-1},{"$f":"IF(im2colAll_exW6!HC2:QX10 > 0, ROUNDDOWN(im2colAll_exW6!HC2:QX10/2^6, 0), ROUNDUP(im2colAll_exW6!HC2:QX10/2^6, 0))","v":7},{"$f":"IF(im2colAll_exW6!HD2:QY10 > 0, ROUNDDOWN(im2colAll_exW6!HD2:QY10/2^6, 0), ROUNDUP(im2colAll_exW6!HD2:QY10/2^6, 0))","v":12},{"$f":"IF(im2colAll_exW6!HE2:QZ10 > 0, ROUNDDOWN(im2colAll_exW6!HE2:QZ10/2^6, 0), ROUNDUP(im2colAll_exW6!HE2:QZ10/2^6, 0))","v":0},{"$f":"IF(im2colAll_exW6!HF2:RA10 > 0, ROUNDDOWN(im2colAll_exW6!HF2:RA10/2^6, 0), ROUNDUP(im2colAll_exW6!HF2:RA10/2^6, 0))","v":14},{"$f":"IF(im2colAll_exW6!HG2:RB10 > 0, ROUNDDOWN(im2colAll_exW6!HG2:RB10/2^6, 0), ROUNDUP(im2colAll_exW6!HG2:RB10/2^6, 0))","v":-5},{"$f":"IF(im2colAll_exW6!HH2:RC10 > 0, ROUNDDOWN(im2colAll_exW6!HH2:RC10/2^6, 0), ROUNDUP(im2colAll_exW6!HH2:RC10/2^6, 0))","v":9},{"$f":"IF(im2colAll_exW6!HI2:RD10 > 0, ROUNDDOWN(im2colAll_exW6!HI2:RD10/2^6, 0), ROUNDUP(im2colAll_exW6!HI2:RD10/2^6, 0))","v":3},{"$f":"IF(im2colAll_exW6!HJ2:RE10 > 0, ROUNDDOWN(im2colAll_exW6!HJ2:RE10/2^6, 0), ROUNDUP(im2colAll_exW6!HJ2:RE10/2^6, 0))","v":9},{"$f":"IF(im2colAll_exW6!HK2:RF10 > 0, ROUNDDOWN(im2colAll_exW6!HK2:RF10/2^6, 0), ROUNDUP(im2colAll_exW6!HK2:RF10/2^6, 0))","v":-7},{"$f":"IF(im2colAll_exW6!HL2:RG10 > 0, ROUNDDOWN(im2colAll_exW6!HL2:RG10/2^6, 0), ROUNDUP(im2colAll_exW6!HL2:RG10/2^6, 0))","v":-2},{"$f":"IF(im2colAll_exW6!HM2:RH10 > 0, ROUNDDOWN(im2colAll_exW6!HM2:RH10/2^6, 0), ROUNDUP(im2colAll_exW6!HM2:RH10/2^6, 0))","v":1},{"$f":"IF(im2colAll_exW6!HN2:RI10 > 0, ROUNDDOWN(im2colAll_exW6!HN2:RI10/2^6, 0), ROUNDUP(im2colAll_exW6!HN2:RI10/2^6, 0))","v":2},{"$f":"IF(im2colAll_exW6!HO2:RJ10 > 0, ROUNDDOWN(im2colAll_exW6!HO2:RJ10/2^6, 0), ROUNDUP(im2colAll_exW6!HO2:RJ10/2^6, 0))","v":-12},{"$f":"IF(im2colAll_exW6!HP2:RK10 > 0, ROUNDDOWN(im2colAll_exW6!HP2:RK10/2^6, 0), ROUNDUP(im2colAll_exW6!HP2:RK10/2^6, 0))","v":3},{"$f":"IF(im2colAll_exW6!HQ2:RL10 > 0, ROUNDDOWN(im2colAll_exW6!HQ2:RL10/2^6, 0), ROUNDUP(im2colAll_exW6!HQ2:RL10/2^6, 0))","v":25},{"$f":"IF(im2colAll_exW6!HR2:RM10 > 0, ROUNDDOWN(im2colAll_exW6!HR2:RM10/2^6, 0), ROUNDUP(im2colAll_exW6!HR2:RM10/2^6, 0))","v":9},{"$f":"IF(im2colAll_exW6!HS2:RN10 > 0, ROUNDDOWN(im2colAll_exW6!HS2:RN10/2^6, 0), ROUNDUP(im2colAll_exW6!HS2:RN10/2^6, 0))","v":14},{"$f":"IF(im2colAll_exW6!HT2:RO10 > 0, ROUNDDOWN(im2colAll_exW6!HT2:RO10/2^6, 0), ROUNDUP(im2colAll_exW6!HT2:RO10/2^6, 0))","v":-7},{"$f":"IF(im2colAll_exW6!HU2:RP10 > 0, ROUNDDOWN(im2colAll_exW6!HU2:RP10/2^6, 0), ROUNDUP(im2colAll_exW6!HU2:RP10/2^6, 0))","v":1},{"$f":"IF(im2colAll_exW6!HV2:RQ10 > 0, ROUNDDOWN(im2colAll_exW6!HV2:RQ10/2^6, 0), ROUNDUP(im2colAll_exW6!HV2:RQ10/2^6, 0))","v":-4},{"$f":"IF(im2colAll_exW6!HW2:RR10 > 0, ROUNDDOWN(im2colAll_exW6!HW2:RR10/2^6, 0), ROUNDUP(im2colAll_exW6!HW2:RR10/2^6, 0))","v":9},{"$f":"IF(im2colAll_exW6!HX2:RS10 > 0, ROUNDDOWN(im2colAll_exW6!HX2:RS10/2^6, 0), ROUNDUP(im2colAll_exW6!HX2:RS10/2^6, 0))","v":-13},{"$f":"IF(im2colAll_exW6!HY2:RT10 > 0, ROUNDDOWN(im2colAll_exW6!HY2:RT10/2^6, 0), ROUNDUP(im2colAll_exW6!HY2:RT10/2^6, 0))","v":7},{"$f":"IF(im2colAll_exW6!HZ2:RU10 > 0, ROUNDDOWN(im2colAll_exW6!HZ2:RU10/2^6, 0), ROUNDUP(im2colAll_exW6!HZ2:RU10/2^6, 0))","v":20},{"$f":"IF(im2colAll_exW6!IA2:RV10 > 0, ROUNDDOWN(im2colAll_exW6!IA2:RV10/2^6, 0), ROUNDUP(im2colAll_exW6!IA2:RV10/2^6, 0))","v":-6},{"$f":"IF(im2colAll_exW6!IB2:RW10 > 0, ROUNDDOWN(im2colAll_exW6!IB2:RW10/2^6, 0), ROUNDUP(im2colAll_exW6!IB2:RW10/2^6, 0))","v":10},{"$f":"IF(im2colAll_exW6!IC2:RX10 > 0, ROUNDDOWN(im2colAll_exW6!IC2:RX10/2^6, 0), ROUNDUP(im2colAll_exW6!IC2:RX10/2^6, 0))","v":11},{"$f":"IF(im2colAll_exW6!ID2:RY10 > 0, ROUNDDOWN(im2colAll_exW6!ID2:RY10/2^6, 0), ROUNDUP(im2colAll_exW6!ID2:RY10/2^6, 0))","v":15},{"$f":"IF(im2colAll_exW6!IE2:RZ10 > 0, ROUNDDOWN(im2colAll_exW6!IE2:RZ10/2^6, 0), ROUNDUP(im2colAll_exW6!IE2:RZ10/2^6, 0))","v":5},{"$f":"IF(im2colAll_exW6!IF2:SA10 > 0, ROUNDDOWN(im2colAll_exW6!IF2:SA10/2^6, 0), ROUNDUP(im2colAll_exW6!IF2:SA10/2^6, 0))","v":0},{"$f":"IF(im2colAll_exW6!IG2:SB10 > 0, ROUNDDOWN(im2colAll_exW6!IG2:SB10/2^6, 0), ROUNDUP(im2colAll_exW6!IG2:SB10/2^6, 0))","v":3},{"$f":"IF(im2colAll_exW6!IH2:SC10 > 0, ROUNDDOWN(im2colAll_exW6!IH2:SC10/2^6, 0), ROUNDUP(im2colAll_exW6!IH2:SC10/2^6, 0))","v":10},{"$f":"IF(im2colAll_exW6!II2:SD10 > 0, ROUNDDOWN(im2colAll_exW6!II2:SD10/2^6, 0), ROUNDUP(im2colAll_exW6!II2:SD10/2^6, 0))","v":2},{"$f":"IF(im2colAll_exW6!IJ2:SE10 > 0, ROUNDDOWN(im2colAll_exW6!IJ2:SE10/2^6, 0), ROUNDUP(im2colAll_exW6!IJ2:SE10/2^6, 0))","v":-4},{"$f":"IF(im2colAll_exW6!IK2:SF10 > 0, ROUNDDOWN(im2colAll_exW6!IK2:SF10/2^6, 0), ROUNDUP(im2colAll_exW6!IK2:SF10/2^6, 0))","v":-6},{"$f":"IF(im2colAll_exW6!IL2:SG10 > 0, ROUNDDOWN(im2colAll_exW6!IL2:SG10/2^6, 0), ROUNDUP(im2colAll_exW6!IL2:SG10/2^6, 0))","v":29},{"$f":"IF(im2colAll_exW6!IM2:SH10 > 0, ROUNDDOWN(im2colAll_exW6!IM2:SH10/2^6, 0), ROUNDUP(im2colAll_exW6!IM2:SH10/2^6, 0))","v":5},{"$f":"IF(im2colAll_exW6!IN2:SI10 > 0, ROUNDDOWN(im2colAll_exW6!IN2:SI10/2^6, 0), ROUNDUP(im2colAll_exW6!IN2:SI10/2^6, 0))","v":17},{"$f":"IF(im2colAll_exW6!IO2:SJ10 > 0, ROUNDDOWN(im2colAll_exW6!IO2:SJ10/2^6, 0), ROUNDUP(im2colAll_exW6!IO2:SJ10/2^6, 0))","v":-11},{"$f":"IF(im2colAll_exW6!IP2:SK10 > 0, ROUNDDOWN(im2colAll_exW6!IP2:SK10/2^6, 0), ROUNDUP(im2colAll_exW6!IP2:SK10/2^6, 0))","v":4},{"$f":"IF(im2colAll_exW6!IQ2:SL10 > 0, ROUNDDOWN(im2colAll_exW6!IQ2:SL10/2^6, 0), ROUNDUP(im2colAll_exW6!IQ2:SL10/2^6, 0))","v":10},{"$f":"IF(im2colAll_exW6!IR2:SM10 > 0, ROUNDDOWN(im2colAll_exW6!IR2:SM10/2^6, 0), ROUNDUP(im2colAll_exW6!IR2:SM10/2^6, 0))","v":4},{"$f":"IF(im2colAll_exW6!IS2:SN10 > 0, ROUNDDOWN(im2colAll_exW6!IS2:SN10/2^6, 0), ROUNDUP(im2colAll_exW6!IS2:SN10/2^6, 0))","v":15},{"$f":"IF(im2colAll_exW6!IT2:SO10 > 0, ROUNDDOWN(im2colAll_exW6!IT2:SO10/2^6, 0), ROUNDUP(im2colAll_exW6!IT2:SO10/2^6, 0))","v":-5},{"$f":"IF(im2colAll_exW6!IU2:SP10 > 0, ROUNDDOWN(im2colAll_exW6!IU2:SP10/2^6, 0), ROUNDUP(im2colAll_exW6!IU2:SP10/2^6, 0))","v":5},{"$f":"IF(im2colAll_exW6!IV2:SQ10 > 0, ROUNDDOWN(im2colAll_exW6!IV2:SQ10/2^6, 0), ROUNDUP(im2colAll_exW6!IV2:SQ10/2^6, 0))","v":7}]
[{"$f":"IF(im2colAll_exW6!A3:IV11 > 0, ROUNDDOWN(im2colAll_exW6!A3:IV11/2^6, 0), ROUNDUP(im2colAll_exW6!A3:IV11/2^6, 0))","v":26},{"$f":"IF(im2colAll_exW6!B3:IW11 > 0, ROUNDDOWN(im2colAll_exW6!B3:IW11/2^6, 0), ROUNDUP(im2colAll_exW6!B3:IW11/2^6, 0))","v":9},{"$f":"IF(im2colAll_exW6!C3:IX11 > 0, ROUNDDOWN(im2colAll_exW6!C3:IX11/2^6, 0), ROUNDUP(im2colAll_exW6!C3:IX11/2^6, 0))","v":8},{"$f":"IF(im2colAll_exW6!D3:IY11 > 0, ROUNDDOWN(im2colAll_exW6!D3:IY11/2^6, 0), ROUNDUP(im2colAll_exW6!D3:IY11/2^6, 0))","v":11},{"$f":"IF(im2colAll_exW6!E3:IZ11 > 0, ROUNDDOWN(im2colAll_exW6!E3:IZ11/2^6, 0), ROUNDUP(im2colAll_exW6!E3:IZ11/2^6, 0))","v":13},{"$f":"IF(im2colAll_exW6!F3:JA11 > 0, ROUNDDOWN(im2colAll_exW6!F3:JA11/2^6, 0), ROUNDUP(im2colAll_exW6!F3:JA11/2^6, 0))","v":-5},{"$f":"IF(im2colAll_exW6!G3:JB11 > 0, ROUNDDOWN(im2colAll_exW6!G3:JB11/2^6, 0), ROUNDUP(im2colAll_exW6!G3:JB11/2^6, 0))","v":1},{"$f":"IF(im2colAll_exW6!H3:JC11 > 0, ROUNDDOWN(im2colAll_exW6!H3:JC11/2^6, 0), ROUNDUP(im2colAll_exW6!H3:JC11/2^6, 0))","v":-7},{"$f":"IF(im2colAll_exW6!I3:JD11 > 0, ROUNDDOWN(im2colAll_exW6!I3:JD11/2^6, 0), ROUNDUP(im2colAll_exW6!I3:JD11/2^6, 0))","v":1},{"$f":"IF(im2colAll_exW6!J3:JE11 > 0, ROUNDDOWN(im2colAll_exW6!J3:JE11/2^6, 0), ROUNDUP(im2colAll_exW6!J3:JE11/2^6, 0))","v":-6},{"$f":"IF(im2colAll_exW6!K3:JF11 > 0, ROUNDDOWN(im2colAll_exW6!K3:JF11/2^6, 0), ROUNDUP(im2colAll_exW6!K3:JF11/2^6, 0))","v":-9},{"$f":"IF(im2colAll_exW6!L3:JG11 > 0, ROUNDDOWN(im2colAll_exW6!L3:JG11/2^6, 0), ROUNDUP(im2colAll_exW6!L3:JG11/2^6, 0))","v":5},{"$f":"IF(im2colAll_exW6!M3:JH11 > 0, ROUNDDOWN(im2colAll_exW6!M3:JH11/2^6, 0), ROUNDUP(im2colAll_exW6!M3:JH11/2^6, 0))","v":-5},{"$f":"IF(im2colAll_exW6!N3:JI11 > 0, ROUNDDOWN(im2colAll_exW6!N3:JI11/2^6, 0), ROUNDUP(im2colAll_exW6!N3:JI11/2^6, 0))","v":-6},{"$f":"IF(im2colAll_exW6!O3:JJ11 > 0, ROUNDDOWN(im2colAll_exW6!O3:JJ11/2^6, 0), ROUNDUP(im2colAll_exW6!O3:JJ11/2^6, 0))","v":4},{"$f":"IF(im2colAll_exW6!P3:JK11 > 0, ROUNDDOWN(im2colAll_exW6!P3:JK11/2^6, 0), ROUNDUP(im2colAll_exW6!P3:JK11/2^6, 0))","v":17},{"$f":"IF(im2colAll_exW6!Q3:JL11 > 0, ROUNDDOWN(im2colAll_exW6!Q3:JL11/2^6, 0), ROUNDUP(im2colAll_exW6!Q3:JL11/2^6, 0))","v":-7},{"$f":"IF(im2colAll_exW6!R3:JM11 > 0, ROUNDDOWN(im2colAll_exW6!R3:JM11/2^6, 0), ROUNDUP(im2colAll_exW6!R3:JM11/2^6, 0))","v":-4},{"$f":"IF(im2colAll_exW6!S3:JN11 > 0, ROUNDDOWN(im2colAll_exW6!S3:JN11/2^6, 0), ROUNDUP(im2colAll_exW6!S3:JN11/2^6, 0))","v":7},{"$f":"IF(im2colAll_exW6!T3:JO11 > 0, ROUNDDOWN(im2colAll_exW6!T3:JO11/2^6, 0), ROUNDUP(im2colAll_exW6!T3:JO11/2^6, 0))","v":1},{"$f":"IF(im2colAll_exW6!U3:JP11 > 0, ROUNDDOWN(im2colAll_exW6!U3:JP11/2^6, 0), ROUNDUP(im2colAll_exW6!U3:JP11/2^6, 0))","v":18},{"$f":"IF(im2colAll_exW6!V3:JQ11 > 0, ROUNDDOWN(im2colAll_exW6!V3:JQ11/2^6, 0), ROUNDUP(im2colAll_exW6!V3:JQ11/2^6, 0))","v":1},{"$f":"IF(im2colAll_exW6!W3:JR11 > 0, ROUNDDOWN(im2colAll_exW6!W3:JR11/2^6, 0), ROUNDUP(im2colAll_exW6!W3:JR11/2^6, 0))","v":4},{"$f":"IF(im2colAll_exW6!X3:JS11 > 0, ROUNDDOWN(im2colAll_exW6!X3:JS11/2^6, 0), ROUNDUP(im2colAll_exW6!X3:JS11/2^6, 0))","v":2},{"$f":"IF(im2colAll_exW6!Y3:JT11 > 0, ROUNDDOWN(im2colAll_exW6!Y3:JT11/2^6, 0), ROUNDUP(im2colAll_exW6!Y3:JT11/2^6, 0))","v":17},{"$f":"IF(im2colAll_exW6!Z3:JU11 > 0, ROUNDDOWN(im2colAll_exW6!Z3:JU11/2^6, 0), ROUNDUP(im2colAll_exW6!Z3:JU11/2^6, 0))","v":-9},{"$f":"IF(im2colAll_exW6!AA3:JV11 > 0, ROUNDDOWN(im2colAll_exW6!AA3:JV11/2^6, 0), ROUNDUP(im2colAll_exW6!AA3:JV11/2^6, 0))","v":5},{"$f":"IF(im2colAll_exW6!AB3:JW11 > 0, ROUNDDOWN(im2colAll_exW6!AB3:JW11/2^6, 0), ROUNDUP(im2colAll_exW6!AB3:JW11/2^6, 0))","v":0},{"$f":"IF(im2colAll_exW6!AC3:JX11 > 0, ROUNDDOWN(im2colAll_exW6!AC3:JX11/2^6, 0), ROUNDUP(im2colAll_exW6!AC3:JX11/2^6, 0))","v":11},{"$f":"IF(im2colAll_exW6!AD3:JY11 > 0, ROUNDDOWN(im2colAll_exW6!AD3:JY11/2^6, 0), ROUNDUP(im2colAll_exW6!AD3:JY11/2^6, 0))","v":-10},{"$f":"IF(im2colAll_exW6!AE3:JZ11 > 0, ROUNDDOWN(im2colAll_exW6!AE3:JZ11/2^6, 0), ROUNDUP(im2colAll_exW6!AE3:JZ11/2^6, 0))","v":15},{"$f":"IF(im2colAll_exW6!AF3:KA11 > 0, ROUNDDOWN(im2colAll_exW6!AF3:KA11/2^6, 0), ROUNDUP(im2colAll_exW6!AF3:KA11/2^6, 0))","v":1},{"$f":"IF(im2colAll_exW6!AG3:KB11 > 0, ROUNDDOWN(im2colAll_exW6!AG3:KB11/2^6, 0), ROUNDUP(im2colAll_exW6!AG3:KB11/2^6, 0))","v":0},{"$f":"IF(im2colAll_exW6!AH3:KC11 > 0, ROUNDDOWN(im2colAll_exW6!AH3:KC11/2^6, 0), ROUNDUP(im2colAll_exW6!AH3:KC11/2^6, 0))","v":3},{"$f":"IF(im2colAll_exW6!AI3:KD11 > 0, ROUNDDOWN(im2colAll_exW6!AI3:KD11/2^6, 0), ROUNDUP(im2colAll_exW6!AI3:KD11/2^6, 0))","v":-4},{"$f":"IF(im2colAll_exW6!AJ3:KE11 > 0, ROUNDDOWN(im2colAll_exW6!AJ3:KE11/2^6, 0), ROUNDUP(im2colAll_exW6!AJ3:KE11/2^6, 0))","v":9},{"$f":"IF(im2colAll_exW6!AK3:KF11 > 0, ROUNDDOWN(im2colAll_exW6!AK3:KF11/2^6, 0), ROUNDUP(im2colAll_exW6!AK3:KF11/2^6, 0))","v":-8},{"$f":"IF(im2colAll_exW6!AL3:KG11 > 0, ROUNDDOWN(im2colAll_exW6!AL3:KG11/2^6, 0), ROUNDUP(im2colAll_exW6!AL3:KG11/2^6, 0))","v":16},{"$f":"IF(im2colAll_exW6!AM3:KH11 > 0, ROUNDDOWN(im2colAll_exW6!AM3:KH11/2^6, 0), ROUNDUP(im2colAll_exW6!AM3:KH11/2^6, 0))","v":0},{"$f":"IF(im2colAll_exW6!AN3:KI11 > 0, ROUNDDOWN(im2colAll_exW6!AN3:KI11/2^6, 0), ROUNDUP(im2colAll_exW6!AN3:KI11/2^6, 0))","v":-5},{"$f":"IF(im2colAll_exW6!AO3:KJ11 > 0, ROUNDDOWN(im2colAll_exW6!AO3:KJ11/2^6, 0), ROUNDUP(im2colAll_exW6!AO3:KJ11/2^6, 0))","v":-4},{"$f":"IF(im2colAll_exW6!AP3:KK11 > 0, ROUNDDOWN(im2colAll_exW6!AP3:KK11/2^6, 0), ROUNDUP(im2colAll_exW6!AP3:KK11/2^6, 0))","v":6},{"$f":"IF(im2colAll_exW6!AQ3:KL11 > 0, ROUNDDOWN(im2colAll_exW6!AQ3:KL11/2^6, 0), ROUNDUP(im2colAll_exW6!AQ3:KL11/2^6, 0))","v":-15},{"$f":"IF(im2colAll_exW6!AR3:KM11 > 0, ROUNDDOWN(im2colAll_exW6!AR3:KM11/2^6, 0), ROUNDUP(im2colAll_exW6!AR3:KM11/2^6, 0))","v":12},{"$f":"IF(im2colAll_exW6!AS3:KN11 > 0, ROUNDDOWN(im2colAll_exW6!AS3:KN11/2^6, 0), ROUNDUP(im2colAll_exW6!AS3:KN11/2^6, 0))","v":4},{"$f":"IF(im2colAll_exW6!AT3:KO11 > 0, ROUNDDOWN(im2colAll_exW6!AT3:KO11/2^6, 0), ROUNDUP(im2colAll_exW6!AT3:KO11/2^6, 0))","v":-7},{"$f":"IF(im2colAll_exW6!AU3:KP11 > 0, ROUNDDOWN(im2colAll_exW6!AU3:KP11/2^6, 0), ROUNDUP(im2colAll_exW6!AU3:KP11/2^6, 0))","v":-8},{"$f":"IF(im2colAll_exW6!AV3:KQ11 > 0, ROUNDDOWN(im2colAll_exW6!AV3:KQ11/2^6, 0), ROUNDUP(im2colAll_exW6!AV3:KQ11/2^6, 0))","v":2},{"$f":"IF(im2colAll_exW6!AW3:KR11 > 0, ROUNDDOWN(im2colAll_exW6!AW3:KR11/2^6, 0), ROUNDUP(im2colAll_exW6!AW3:KR11/2^6, 0))","v":11},{"$f":"IF(im2colAll_exW6!AX3:KS11 > 0, ROUNDDOWN(im2colAll_exW6!AX3:KS11/2^6, 0), ROUNDUP(im2colAll_exW6!AX3:KS11/2^6, 0))","v":6},{"$f":"IF(im2colAll_exW6!AY3:KT11 > 0, ROUNDDOWN(im2colAll_exW6!AY3:KT11/2^6, 0), ROUNDUP(im2colAll_exW6!AY3:KT11/2^6, 0))","v":6},{"$f":"IF(im2colAll_exW6!AZ3:KU11 > 0, ROUNDDOWN(im2colAll_exW6!AZ3:KU11/2^6, 0), ROUNDUP(im2colAll_exW6!AZ3:KU11/2^6, 0))","v":24},{"$f":"IF(im2colAll_exW6!BA3:KV11 > 0, ROUNDDOWN(im2colAll_exW6!BA3:KV11/2^6, 0), ROUNDUP(im2colAll_exW6!BA3:KV11/2^6, 0))","v":-13},{"$f":"IF(im2colAll_exW6!BB3:KW11 > 0, ROUNDDOWN(im2colAll_exW6!BB3:KW11/2^6, 0), ROUNDUP(im2colAll_exW6!BB3:KW11/2^6, 0))","v":-6},{"$f":"IF(im2colAll_exW6!BC3:KX11 > 0, ROUNDDOWN(im2colAll_exW6!BC3:KX11/2^6, 0), ROUNDUP(im2colAll_exW6!BC3:KX11/2^6, 0))","v":14},{"$f":"IF(im2colAll_exW6!BD3:KY11 > 0, ROUNDDOWN(im2colAll_exW6!BD3:KY11/2^6, 0), ROUNDUP(im2colAll_exW6!BD3:KY11/2^6, 0))","v":3},{"$f":"IF(im2colAll_exW6!BE3:KZ11 > 0, ROUNDDOWN(im2colAll_exW6!BE3:KZ11/2^6, 0), ROUNDUP(im2colAll_exW6!BE3:KZ11/2^6, 0))","v":-1},{"$f":"IF(im2colAll_exW6!BF3:LA11 > 0, ROUNDDOWN(im2colAll_exW6!BF3:LA11/2^6, 0), ROUNDUP(im2colAll_exW6!BF3:LA11/2^6, 0))","v":2},{"$f":"IF(im2colAll_exW6!BG3:LB11 > 0, ROUNDDOWN(im2colAll_exW6!BG3:LB11/2^6, 0), ROUNDUP(im2colAll_exW6!BG3:LB11/2^6, 0))","v":5},{"$f":"IF(im2colAll_exW6!BH3:LC11 > 0, ROUNDDOWN(im2colAll_exW6!BH3:LC11/2^6, 0), ROUNDUP(im2colAll_exW6!BH3:LC11/2^6, 0))","v":6},{"$f":"IF(im2colAll_exW6!BI3:LD11 > 0, ROUNDDOWN(im2colAll_exW6!BI3:LD11/2^6, 0), ROUNDUP(im2colAll_exW6!BI3:LD11/2^6, 0))","v":18},{"$f":"IF(im2colAll_exW6!BJ3:LE11 > 0, ROUNDDOWN(im2colAll_exW6!BJ3:LE11/2^6, 0), ROUNDUP(im2colAll_exW6!BJ3:LE11/2^6, 0))","v":-4},{"$f":"IF(im2colAll_exW6!BK3:LF11 > 0, ROUNDDOWN(im2colAll_exW6!BK3:LF11/2^6, 0), ROUNDUP(im2colAll_exW6!BK3:LF11/2^6, 0))","v":-2},{"$f":"IF(im2colAll_exW6!BL3:LG11 > 0, ROUNDDOWN(im2colAll_exW6!BL3:LG11/2^6, 0), ROUNDUP(im2colAll_exW6!BL3:LG11/2^6, 0))","v":-2},{"$f":"IF(im2colAll_exW6!BM3:LH11 > 0, ROUNDDOWN(im2colAll_exW6!BM3:LH11/2^6, 0), ROUNDUP(im2colAll_exW6!BM3:LH11/2^6, 0))","v":5},{"$f":"IF(im2colAll_exW6!BN3:LI11 > 0, ROUNDDOWN(im2colAll_exW6!BN3:LI11/2^6, 0), ROUNDUP(im2colAll_exW6!BN3:LI11/2^6, 0))","v":-13},{"$f":"IF(im2colAll_exW6!BO3:LJ11 > 0, ROUNDDOWN(im2colAll_exW6!BO3:LJ11/2^6, 0), ROUNDUP(im2colAll_exW6!BO3:LJ11/2^6, 0))","v":1},{"$f":"IF(im2colAll_exW6!BP3:LK11 > 0, ROUNDDOWN(im2colAll_exW6!BP3:LK11/2^6, 0), ROUNDUP(im2colAll_exW6!BP3:LK11/2^6, 0))","v":6},{"$f":"IF(im2colAll_exW6!BQ3:LL11 > 0, ROUNDDOWN(im2colAll_exW6!BQ3:LL11/2^6, 0), ROUNDUP(im2colAll_exW6!BQ3:LL11/2^6, 0))","v":-1},{"$f":"IF(im2colAll_exW6!BR3:LM11 > 0, ROUNDDOWN(im2colAll_exW6!BR3:LM11/2^6, 0), ROUNDUP(im2colAll_exW6!BR3:LM11/2^6, 0))","v":13},{"$f":"IF(im2colAll_exW6!BS3:LN11 > 0, ROUNDDOWN(im2colAll_exW6!BS3:LN11/2^6, 0), ROUNDUP(im2colAll_exW6!BS3:LN11/2^6, 0))","v":9},{"$f":"IF(im2colAll_exW6!BT3:LO11 > 0, ROUNDDOWN(im2colAll_exW6!BT3:LO11/2^6, 0), ROUNDUP(im2colAll_exW6!BT3:LO11/2^6, 0))","v":-12},{"$f":"IF(im2colAll_exW6!BU3:LP11 > 0, ROUNDDOWN(im2colAll_exW6!BU3:LP11/2^6, 0), ROUNDUP(im2colAll_exW6!BU3:LP11/2^6, 0))","v":8},{"$f":"IF(im2colAll_exW6!BV3:LQ11 > 0, ROUNDDOWN(im2colAll_exW6!BV3:LQ11/2^6, 0), ROUNDUP(im2colAll_exW6!BV3:LQ11/2^6, 0))","v":11},{"$f":"IF(im2colAll_exW6!BW3:LR11 > 0, ROUNDDOWN(im2colAll_exW6!BW3:LR11/2^6, 0), ROUNDUP(im2colAll_exW6!BW3:LR11/2^6, 0))","v":4},{"$f":"IF(im2colAll_exW6!BX3:LS11 > 0, ROUNDDOWN(im2colAll_exW6!BX3:LS11/2^6, 0), ROUNDUP(im2colAll_exW6!BX3:LS11/2^6, 0))","v":5},{"$f":"IF(im2colAll_exW6!BY3:LT11 > 0, ROUNDDOWN(im2colAll_exW6!BY3:LT11/2^6, 0), ROUNDUP(im2colAll_exW6!BY3:LT11/2^6, 0))","v":-5},{"$f":"IF(im2colAll_exW6!BZ3:LU11 > 0, ROUNDDOWN(im2colAll_exW6!BZ3:LU11/2^6, 0), ROUNDUP(im2colAll_exW6!BZ3:LU11/2^6, 0))","v":6},{"$f":"IF(im2colAll_exW6!CA3:LV11 > 0, ROUNDDOWN(im2colAll_exW6!CA3:LV11/2^6, 0), ROUNDUP(im2colAll_exW6!CA3:LV11/2^6, 0))","v":10},{"$f":"IF(im2colAll_exW6!CB3:LW11 > 0, ROUNDDOWN(im2colAll_exW6!CB3:LW11/2^6, 0), ROUNDUP(im2colAll_exW6!CB3:LW11/2^6, 0))","v":8},{"$f":"IF(im2colAll_exW6!CC3:LX11 > 0, ROUNDDOWN(im2colAll_exW6!CC3:LX11/2^6, 0), ROUNDUP(im2colAll_exW6!CC3:LX11/2^6, 0))","v":1},{"$f":"IF(im2colAll_exW6!CD3:LY11 > 0, ROUNDDOWN(im2colAll_exW6!CD3:LY11/2^6, 0), ROUNDUP(im2colAll_exW6!CD3:LY11/2^6, 0))","v":-1},{"$f":"IF(im2colAll_exW6!CE3:LZ11 > 0, ROUNDDOWN(im2colAll_exW6!CE3:LZ11/2^6, 0), ROUNDUP(im2colAll_exW6!CE3:LZ11/2^6, 0))","v":-3},{"$f":"IF(im2colAll_exW6!CF3:MA11 > 0, ROUNDDOWN(im2colAll_exW6!CF3:MA11/2^6, 0), ROUNDUP(im2colAll_exW6!CF3:MA11/2^6, 0))","v":24},{"$f":"IF(im2colAll_exW6!CG3:MB11 > 0, ROUNDDOWN(im2colAll_exW6!CG3:MB11/2^6, 0), ROUNDUP(im2colAll_exW6!CG3:MB11/2^6, 0))","v":12},{"$f":"IF(im2colAll_exW6!CH3:MC11 > 0, ROUNDDOWN(im2colAll_exW6!CH3:MC11/2^6, 0), ROUNDUP(im2colAll_exW6!CH3:MC11/2^6, 0))","v":-4},{"$f":"IF(im2colAll_exW6!CI3:MD11 > 0, ROUNDDOWN(im2colAll_exW6!CI3:MD11/2^6, 0), ROUNDUP(im2colAll_exW6!CI3:MD11/2^6, 0))","v":8},{"$f":"IF(im2colAll_exW6!CJ3:ME11 > 0, ROUNDDOWN(im2colAll_exW6!CJ3:ME11/2^6, 0), ROUNDUP(im2colAll_exW6!CJ3:ME11/2^6, 0))","v":0},{"$f":"IF(im2colAll_exW6!CK3:MF11 > 0, ROUNDDOWN(im2colAll_exW6!CK3:MF11/2^6, 0), ROUNDUP(im2colAll_exW6!CK3:MF11/2^6, 0))","v":15},{"$f":"IF(im2colAll_exW6!CL3:MG11 > 0, ROUNDDOWN(im2colAll_exW6!CL3:MG11/2^6, 0), ROUNDUP(im2colAll_exW6!CL3:MG11/2^6, 0))","v":7},{"$f":"IF(im2colAll_exW6!CM3:MH11 > 0, ROUNDDOWN(im2colAll_exW6!CM3:MH11/2^6, 0), ROUNDUP(im2colAll_exW6!CM3:MH11/2^6, 0))","v":-8},{"$f":"IF(im2colAll_exW6!CN3:MI11 > 0, ROUNDDOWN(im2colAll_exW6!CN3:MI11/2^6, 0), ROUNDUP(im2colAll_exW6!CN3:MI11/2^6, 0))","v":9},{"$f":"IF(im2colAll_exW6!CO3:MJ11 > 0, ROUNDDOWN(im2colAll_exW6!CO3:MJ11/2^6, 0), ROUNDUP(im2colAll_exW6!CO3:MJ11/2^6, 0))","v":10},{"$f":"IF(im2colAll_exW6!CP3:MK11 > 0, ROUNDDOWN(im2colAll_exW6!CP3:MK11/2^6, 0), ROUNDUP(im2colAll_exW6!CP3:MK11/2^6, 0))","v":0},{"$f":"IF(im2colAll_exW6!CQ3:ML11 > 0, ROUNDDOWN(im2colAll_exW6!CQ3:ML11/2^6, 0), ROUNDUP(im2colAll_exW6!CQ3:ML11/2^6, 0))","v":11},{"$f":"IF(im2colAll_exW6!CR3:MM11 > 0, ROUNDDOWN(im2colAll_exW6!CR3:MM11/2^6, 0), ROUNDUP(im2colAll_exW6!CR3:MM11/2^6, 0))","v":26},{"$f":"IF(im2colAll_exW6!CS3:MN11 > 0, ROUNDDOWN(im2colAll_exW6!CS3:MN11/2^6, 0), ROUNDUP(im2colAll_exW6!CS3:MN11/2^6, 0))","v":-3},{"$f":"IF(im2colAll_exW6!CT3:MO11 > 0, ROUNDDOWN(im2colAll_exW6!CT3:MO11/2^6, 0), ROUNDUP(im2colAll_exW6!CT3:MO11/2^6, 0))","v":12},{"$f":"IF(im2colAll_exW6!CU3:MP11 > 0, ROUNDDOWN(im2colAll_exW6!CU3:MP11/2^6, 0), ROUNDUP(im2colAll_exW6!CU3:MP11/2^6, 0))","v":0},{"$f":"IF(im2colAll_exW6!CV3:MQ11 > 0, ROUNDDOWN(im2colAll_exW6!CV3:MQ11/2^6, 0), ROUNDUP(im2colAll_exW6!CV3:MQ11/2^6, 0))","v":2},{"$f":"IF(im2colAll_exW6!CW3:MR11 > 0, ROUNDDOWN(im2colAll_exW6!CW3:MR11/2^6, 0), ROUNDUP(im2colAll_exW6!CW3:MR11/2^6, 0))","v":5},{"$f":"IF(im2colAll_exW6!CX3:MS11 > 0, ROUNDDOWN(im2colAll_exW6!CX3:MS11/2^6, 0), ROUNDUP(im2colAll_exW6!CX3:MS11/2^6, 0))","v":2},{"$f":"IF(im2colAll_exW6!CY3:MT11 > 0, ROUNDDOWN(im2colAll_exW6!CY3:MT11/2^6, 0), ROUNDUP(im2colAll_exW6!CY3:MT11/2^6, 0))","v":-8},{"$f":"IF(im2colAll_exW6!CZ3:MU11 > 0, ROUNDDOWN(im2colAll_exW6!CZ3:MU11/2^6, 0), ROUNDUP(im2colAll_exW6!CZ3:MU11/2^6, 0))","v":-2},{"$f":"IF(im2colAll_exW6!DA3:MV11 > 0, ROUNDDOWN(im2colAll_exW6!DA3:MV11/2^6, 0), ROUNDUP(im2colAll_exW6!DA3:MV11/2^6, 0))","v":9},{"$f":"IF(im2colAll_exW6!DB3:MW11 > 0, ROUNDDOWN(im2colAll_exW6!DB3:MW11/2^6, 0), ROUNDUP(im2colAll_exW6!DB3:MW11/2^6, 0))","v":12},{"$f":"IF(im2colAll_exW6!DC3:MX11 > 0, ROUNDDOWN(im2colAll_exW6!DC3:MX11/2^6, 0), ROUNDUP(im2colAll_exW6!DC3:MX11/2^6, 0))","v":-7},{"$f":"IF(im2colAll_exW6!DD3:MY11 > 0, ROUNDDOWN(im2colAll_exW6!DD3:MY11/2^6, 0), ROUNDUP(im2colAll_exW6!DD3:MY11/2^6, 0))","v":2},{"$f":"IF(im2colAll_exW6!DE3:MZ11 > 0, ROUNDDOWN(im2colAll_exW6!DE3:MZ11/2^6, 0), ROUNDUP(im2colAll_exW6!DE3:MZ11/2^6, 0))","v":12},{"$f":"IF(im2colAll_exW6!DF3:NA11 > 0, ROUNDDOWN(im2colAll_exW6!DF3:NA11/2^6, 0), ROUNDUP(im2colAll_exW6!DF3:NA11/2^6, 0))","v":1},{"$f":"IF(im2colAll_exW6!DG3:NB11 > 0, ROUNDDOWN(im2colAll_exW6!DG3:NB11/2^6, 0), ROUNDUP(im2colAll_exW6!DG3:NB11/2^6, 0))","v":-2},{"$f":"IF(im2colAll_exW6!DH3:NC11 > 0, ROUNDDOWN(im2colAll_exW6!DH3:NC11/2^6, 0), ROUNDUP(im2colAll_exW6!DH3:NC11/2^6, 0))","v":3},{"$f":"IF(im2colAll_exW6!DI3:ND11 > 0, ROUNDDOWN(im2colAll_exW6!DI3:ND11/2^6, 0), ROUNDUP(im2colAll_exW6!DI3:ND11/2^6, 0))","v":2},{"$f":"IF(im2colAll_exW6!DJ3:NE11 > 0, ROUNDDOWN(im2colAll_exW6!DJ3:NE11/2^6, 0), ROUNDUP(im2colAll_exW6!DJ3:NE11/2^6, 0))","v":-12},{"$f":"IF(im2colAll_exW6!DK3:NF11 > 0, ROUNDDOWN(im2colAll_exW6!DK3:NF11/2^6, 0), ROUNDUP(im2colAll_exW6!DK3:NF11/2^6, 0))","v":0},{"$f":"IF(im2colAll_exW6!DL3:NG11 > 0, ROUNDDOWN(im2colAll_exW6!DL3:NG11/2^6, 0), ROUNDUP(im2colAll_exW6!DL3:NG11/2^6, 0))","v":10},{"$f":"IF(im2colAll_exW6!DM3:NH11 > 0, ROUNDDOWN(im2colAll_exW6!DM3:NH11/2^6, 0), ROUNDUP(im2colAll_exW6!DM3:NH11/2^6, 0))","v":-6},{"$f":"IF(im2colAll_exW6!DN3:NI11 > 0, ROUNDDOWN(im2colAll_exW6!DN3:NI11/2^6, 0), ROUNDUP(im2colAll_exW6!DN3:NI11/2^6, 0))","v":1},{"$f":"IF(im2colAll_exW6!DO3:NJ11 > 0, ROUNDDOWN(im2colAll_exW6!DO3:NJ11/2^6, 0), ROUNDUP(im2colAll_exW6!DO3:NJ11/2^6, 0))","v":-4},{"$f":"IF(im2colAll_exW6!DP3:NK11 > 0, ROUNDDOWN(im2colAll_exW6!DP3:NK11/2^6, 0), ROUNDUP(im2colAll_exW6!DP3:NK11/2^6, 0))","v":7},{"$f":"IF(im2colAll_exW6!DQ3:NL11 > 0, ROUNDDOWN(im2colAll_exW6!DQ3:NL11/2^6, 0), ROUNDUP(im2colAll_exW6!DQ3:NL11/2^6, 0))","v":-7},{"$f":"IF(im2colAll_exW6!DR3:NM11 > 0, ROUNDDOWN(im2colAll_exW6!DR3:NM11/2^6, 0), ROUNDUP(im2colAll_exW6!DR3:NM11/2^6, 0))","v":1},{"$f":"IF(im2colAll_exW6!DS3:NN11 > 0, ROUNDDOWN(im2colAll_exW6!DS3:NN11/2^6, 0), ROUNDUP(im2colAll_exW6!DS3:NN11/2^6, 0))","v":-12},{"$f":"IF(im2colAll_exW6!DT3:NO11 > 0, ROUNDDOWN(im2colAll_exW6!DT3:NO11/2^6, 0), ROUNDUP(im2colAll_exW6!DT3:NO11/2^6, 0))","v":1},{"$f":"IF(im2colAll_exW6!DU3:NP11 > 0, ROUNDDOWN(im2colAll_exW6!DU3:NP11/2^6, 0), ROUNDUP(im2colAll_exW6!DU3:NP11/2^6, 0))","v":5},{"$f":"IF(im2colAll_exW6!DV3:NQ11 > 0, ROUNDDOWN(im2colAll_exW6!DV3:NQ11/2^6, 0), ROUNDUP(im2colAll_exW6!DV3:NQ11/2^6, 0))","v":7},{"$f":"IF(im2colAll_exW6!DW3:NR11 > 0, ROUNDDOWN(im2colAll_exW6!DW3:NR11/2^6, 0), ROUNDUP(im2colAll_exW6!DW3:NR11/2^6, 0))","v":-8},{"$f":"IF(im2colAll_exW6!DX3:NS11 > 0, ROUNDDOWN(im2colAll_exW6!DX3:NS11/2^6, 0), ROUNDUP(im2colAll_exW6!DX3:NS11/2^6, 0))","v":-11},{"$f":"IF(im2colAll_exW6!DY3:NT11 > 0, ROUNDDOWN(im2colAll_exW6!DY3:NT11/2^6, 0), ROUNDUP(im2colAll_exW6!DY3:NT11/2^6, 0))","v":-3},{"$f":"IF(im2colAll_exW6!DZ3:NU11 > 0, ROUNDDOWN(im2colAll_exW6!DZ3:NU11/2^6, 0), ROUNDUP(im2colAll_exW6!DZ3:NU11/2^6, 0))","v":-6},{"$f":"IF(im2colAll_exW6!EA3:NV11 > 0, ROUNDDOWN(im2colAll_exW6!EA3:NV11/2^6, 0), ROUNDUP(im2colAll_exW6!EA3:NV11/2^6, 0))","v":-3},{"$f":"IF(im2colAll_exW6!EB3:NW11 > 0, ROUNDDOWN(im2colAll_exW6!EB3:NW11/2^6, 0), ROUNDUP(im2colAll_exW6!EB3:NW11/2^6, 0))","v":-3},{"$f":"IF(im2colAll_exW6!EC3:NX11 > 0, ROUNDDOWN(im2colAll_exW6!EC3:NX11/2^6, 0), ROUNDUP(im2colAll_exW6!EC3:NX11/2^6, 0))","v":-2},{"$f":"IF(im2colAll_exW6!ED3:NY11 > 0, ROUNDDOWN(im2colAll_exW6!ED3:NY11/2^6, 0), ROUNDUP(im2colAll_exW6!ED3:NY11/2^6, 0))","v":8},{"$f":"IF(im2colAll_exW6!EE3:NZ11 > 0, ROUNDDOWN(im2colAll_exW6!EE3:NZ11/2^6, 0), ROUNDUP(im2colAll_exW6!EE3:NZ11/2^6, 0))","v":4},{"$f":"IF(im2colAll_exW6!EF3:OA11 > 0, ROUNDDOWN(im2colAll_exW6!EF3:OA11/2^6, 0), ROUNDUP(im2colAll_exW6!EF3:OA11/2^6, 0))","v":-9},{"$f":"IF(im2colAll_exW6!EG3:OB11 > 0, ROUNDDOWN(im2colAll_exW6!EG3:OB11/2^6, 0), ROUNDUP(im2colAll_exW6!EG3:OB11/2^6, 0))","v":6},{"$f":"IF(im2colAll_exW6!EH3:OC11 > 0, ROUNDDOWN(im2colAll_exW6!EH3:OC11/2^6, 0), ROUNDUP(im2colAll_exW6!EH3:OC11/2^6, 0))","v":-6},{"$f":"IF(im2colAll_exW6!EI3:OD11 > 0, ROUNDDOWN(im2colAll_exW6!EI3:OD11/2^6, 0), ROUNDUP(im2colAll_exW6!EI3:OD11/2^6, 0))","v":-7},{"$f":"IF(im2colAll_exW6!EJ3:OE11 > 0, ROUNDDOWN(im2colAll_exW6!EJ3:OE11/2^6, 0), ROUNDUP(im2colAll_exW6!EJ3:OE11/2^6, 0))","v":15},{"$f":"IF(im2colAll_exW6!EK3:OF11 > 0, ROUNDDOWN(im2colAll_exW6!EK3:OF11/2^6, 0), ROUNDUP(im2colAll_exW6!EK3:OF11/2^6, 0))","v":-5},{"$f":"IF(im2colAll_exW6!EL3:OG11 > 0, ROUNDDOWN(im2colAll_exW6!EL3:OG11/2^6, 0), ROUNDUP(im2colAll_exW6!EL3:OG11/2^6, 0))","v":4},{"$f":"IF(im2colAll_exW6!EM3:OH11 > 0, ROUNDDOWN(im2colAll_exW6!EM3:OH11/2^6, 0), ROUNDUP(im2colAll_exW6!EM3:OH11/2^6, 0))","v":11},{"$f":"IF(im2colAll_exW6!EN3:OI11 > 0, ROUNDDOWN(im2colAll_exW6!EN3:OI11/2^6, 0), ROUNDUP(im2colAll_exW6!EN3:OI11/2^6, 0))","v":-5},{"$f":"IF(im2colAll_exW6!EO3:OJ11 > 0, ROUNDDOWN(im2colAll_exW6!EO3:OJ11/2^6, 0), ROUNDUP(im2colAll_exW6!EO3:OJ11/2^6, 0))","v":-1},{"$f":"IF(im2colAll_exW6!EP3:OK11 > 0, ROUNDDOWN(im2colAll_exW6!EP3:OK11/2^6, 0), ROUNDUP(im2colAll_exW6!EP3:OK11/2^6, 0))","v":-7},{"$f":"IF(im2colAll_exW6!EQ3:OL11 > 0, ROUNDDOWN(im2colAll_exW6!EQ3:OL11/2^6, 0), ROUNDUP(im2colAll_exW6!EQ3:OL11/2^6, 0))","v":-4},{"$f":"IF(im2colAll_exW6!ER3:OM11 > 0, ROUNDDOWN(im2colAll_exW6!ER3:OM11/2^6, 0), ROUNDUP(im2colAll_exW6!ER3:OM11/2^6, 0))","v":-6},{"$f":"IF(im2colAll_exW6!ES3:ON11 > 0, ROUNDDOWN(im2colAll_exW6!ES3:ON11/2^6, 0), ROUNDUP(im2colAll_exW6!ES3:ON11/2^6, 0))","v":1},{"$f":"IF(im2colAll_exW6!ET3:OO11 > 0, ROUNDDOWN(im2colAll_exW6!ET3:OO11/2^6, 0), ROUNDUP(im2colAll_exW6!ET3:OO11/2^6, 0))","v":9},{"$f":"IF(im2colAll_exW6!EU3:OP11 > 0, ROUNDDOWN(im2colAll_exW6!EU3:OP11/2^6, 0), ROUNDUP(im2colAll_exW6!EU3:OP11/2^6, 0))","v":-1},{"$f":"IF(im2colAll_exW6!EV3:OQ11 > 0, ROUNDDOWN(im2colAll_exW6!EV3:OQ11/2^6, 0), ROUNDUP(im2colAll_exW6!EV3:OQ11/2^6, 0))","v":-11},{"$f":"IF(im2colAll_exW6!EW3:OR11 > 0, ROUNDDOWN(im2colAll_exW6!EW3:OR11/2^6, 0), ROUNDUP(im2colAll_exW6!EW3:OR11/2^6, 0))","v":9},{"$f":"IF(im2colAll_exW6!EX3:OS11 > 0, ROUNDDOWN(im2colAll_exW6!EX3:OS11/2^6, 0), ROUNDUP(im2colAll_exW6!EX3:OS11/2^6, 0))","v":1},{"$f":"IF(im2colAll_exW6!EY3:OT11 > 0, ROUNDDOWN(im2colAll_exW6!EY3:OT11/2^6, 0), ROUNDUP(im2colAll_exW6!EY3:OT11/2^6, 0))","v":13},{"$f":"IF(im2colAll_exW6!EZ3:OU11 > 0, ROUNDDOWN(im2colAll_exW6!EZ3:OU11/2^6, 0), ROUNDUP(im2colAll_exW6!EZ3:OU11/2^6, 0))","v":6},{"$f":"IF(im2colAll_exW6!FA3:OV11 > 0, ROUNDDOWN(im2colAll_exW6!FA3:OV11/2^6, 0), ROUNDUP(im2colAll_exW6!FA3:OV11/2^6, 0))","v":12},{"$f":"IF(im2colAll_exW6!FB3:OW11 > 0, ROUNDDOWN(im2colAll_exW6!FB3:OW11/2^6, 0), ROUNDUP(im2colAll_exW6!FB3:OW11/2^6, 0))","v":7},{"$f":"IF(im2colAll_exW6!FC3:OX11 > 0, ROUNDDOWN(im2colAll_exW6!FC3:OX11/2^6, 0), ROUNDUP(im2colAll_exW6!FC3:OX11/2^6, 0))","v":-4},{"$f":"IF(im2colAll_exW6!FD3:OY11 > 0, ROUNDDOWN(im2colAll_exW6!FD3:OY11/2^6, 0), ROUNDUP(im2colAll_exW6!FD3:OY11/2^6, 0))","v":10},{"$f":"IF(im2colAll_exW6!FE3:OZ11 > 0, ROUNDDOWN(im2colAll_exW6!FE3:OZ11/2^6, 0), ROUNDUP(im2colAll_exW6!FE3:OZ11/2^6, 0))","v":5},{"$f":"IF(im2colAll_exW6!FF3:PA11 > 0, ROUNDDOWN(im2colAll_exW6!FF3:PA11/2^6, 0), ROUNDUP(im2colAll_exW6!FF3:PA11/2^6, 0))","v":-6},{"$f":"IF(im2colAll_exW6!FG3:PB11 > 0, ROUNDDOWN(im2colAll_exW6!FG3:PB11/2^6, 0), ROUNDUP(im2colAll_exW6!FG3:PB11/2^6, 0))","v":13},{"$f":"IF(im2colAll_exW6!FH3:PC11 > 0, ROUNDDOWN(im2colAll_exW6!FH3:PC11/2^6, 0), ROUNDUP(im2colAll_exW6!FH3:PC11/2^6, 0))","v":16},{"$f":"IF(im2colAll_exW6!FI3:PD11 > 0, ROUNDDOWN(im2colAll_exW6!FI3:PD11/2^6, 0), ROUNDUP(im2colAll_exW6!FI3:PD11/2^6, 0))","v":-14},{"$f":"IF(im2colAll_exW6!FJ3:PE11 > 0, ROUNDDOWN(im2colAll_exW6!FJ3:PE11/2^6, 0), ROUNDUP(im2colAll_exW6!FJ3:PE11/2^6, 0))","v":2},{"$f":"IF(im2colAll_exW6!FK3:PF11 > 0, ROUNDDOWN(im2colAll_exW6!FK3:PF11/2^6, 0), ROUNDUP(im2colAll_exW6!FK3:PF11/2^6, 0))","v":7},{"$f":"IF(im2colAll_exW6!FL3:PG11 > 0, ROUNDDOWN(im2colAll_exW6!FL3:PG11/2^6, 0), ROUNDUP(im2colAll_exW6!FL3:PG11/2^6, 0))","v":7},{"$f":"IF(im2colAll_exW6!FM3:PH11 > 0, ROUNDDOWN(im2colAll_exW6!FM3:PH11/2^6, 0), ROUNDUP(im2colAll_exW6!FM3:PH11/2^6, 0))","v":-17},{"$f":"IF(im2colAll_exW6!FN3:PI11 > 0, ROUNDDOWN(im2colAll_exW6!FN3:PI11/2^6, 0), ROUNDUP(im2colAll_exW6!FN3:PI11/2^6, 0))","v":6},{"$f":"IF(im2colAll_exW6!FO3:PJ11 > 0, ROUNDDOWN(im2colAll_exW6!FO3:PJ11/2^6, 0), ROUNDUP(im2colAll_exW6!FO3:PJ11/2^6, 0))","v":-5},{"$f":"IF(im2colAll_exW6!FP3:PK11 > 0, ROUNDDOWN(im2colAll_exW6!FP3:PK11/2^6, 0), ROUNDUP(im2colAll_exW6!FP3:PK11/2^6, 0))","v":17},{"$f":"IF(im2colAll_exW6!FQ3:PL11 > 0, ROUNDDOWN(im2colAll_exW6!FQ3:PL11/2^6, 0), ROUNDUP(im2colAll_exW6!FQ3:PL11/2^6, 0))","v":-2},{"$f":"IF(im2colAll_exW6!FR3:PM11 > 0, ROUNDDOWN(im2colAll_exW6!FR3:PM11/2^6, 0), ROUNDUP(im2colAll_exW6!FR3:PM11/2^6, 0))","v":4},{"$f":"IF(im2colAll_exW6!FS3:PN11 > 0, ROUNDDOWN(im2colAll_exW6!FS3:PN11/2^6, 0), ROUNDUP(im2colAll_exW6!FS3:PN11/2^6, 0))","v":-9},{"$f":"IF(im2colAll_exW6!FT3:PO11 > 0, ROUNDDOWN(im2colAll_exW6!FT3:PO11/2^6, 0), ROUNDUP(im2colAll_exW6!FT3:PO11/2^6, 0))","v":0},{"$f":"IF(im2colAll_exW6!FU3:PP11 > 0, ROUNDDOWN(im2colAll_exW6!FU3:PP11/2^6, 0), ROUNDUP(im2colAll_exW6!FU3:PP11/2^6, 0))","v":2},{"$f":"IF(im2colAll_exW6!FV3:PQ11 > 0, ROUNDDOWN(im2colAll_exW6!FV3:PQ11/2^6, 0), ROUNDUP(im2colAll_exW6!FV3:PQ11/2^6, 0))","v":-4},{"$f":"IF(im2colAll_exW6!FW3:PR11 > 0, ROUNDDOWN(im2colAll_exW6!FW3:PR11/2^6, 0), ROUNDUP(im2colAll_exW6!FW3:PR11/2^6, 0))","v":-6},{"$f":"IF(im2colAll_exW6!FX3:PS11 > 0, ROUNDDOWN(im2colAll_exW6!FX3:PS11/2^6, 0), ROUNDUP(im2colAll_exW6!FX3:PS11/2^6, 0))","v":1},{"$f":"IF(im2colAll_exW6!FY3:PT11 > 0, ROUNDDOWN(im2colAll_exW6!FY3:PT11/2^6, 0), ROUNDUP(im2colAll_exW6!FY3:PT11/2^6, 0))","v":-7},{"$f":"IF(im2colAll_exW6!FZ3:PU11 > 0, ROUNDDOWN(im2colAll_exW6!FZ3:PU11/2^6, 0), ROUNDUP(im2colAll_exW6!FZ3:PU11/2^6, 0))","v":-15},{"$f":"IF(im2colAll_exW6!GA3:PV11 > 0, ROUNDDOWN(im2colAll_exW6!GA3:PV11/2^6, 0), ROUNDUP(im2colAll_exW6!GA3:PV11/2^6, 0))","v":-1},{"$f":"IF(im2colAll_exW6!GB3:PW11 > 0, ROUNDDOWN(im2colAll_exW6!GB3:PW11/2^6, 0), ROUNDUP(im2colAll_exW6!GB3:PW11/2^6, 0))","v":-2},{"$f":"IF(im2colAll_exW6!GC3:PX11 > 0, ROUNDDOWN(im2colAll_exW6!GC3:PX11/2^6, 0), ROUNDUP(im2colAll_exW6!GC3:PX11/2^6, 0))","v":-2},{"$f":"IF(im2colAll_exW6!GD3:PY11 > 0, ROUNDDOWN(im2colAll_exW6!GD3:PY11/2^6, 0), ROUNDUP(im2colAll_exW6!GD3:PY11/2^6, 0))","v":-8},{"$f":"IF(im2colAll_exW6!GE3:PZ11 > 0, ROUNDDOWN(im2colAll_exW6!GE3:PZ11/2^6, 0), ROUNDUP(im2colAll_exW6!GE3:PZ11/2^6, 0))","v":6},{"$f":"IF(im2colAll_exW6!GF3:QA11 > 0, ROUNDDOWN(im2colAll_exW6!GF3:QA11/2^6, 0), ROUNDUP(im2colAll_exW6!GF3:QA11/2^6, 0))","v":-2},{"$f":"IF(im2colAll_exW6!GG3:QB11 > 0, ROUNDDOWN(im2colAll_exW6!GG3:QB11/2^6, 0), ROUNDUP(im2colAll_exW6!GG3:QB11/2^6, 0))","v":-13},{"$f":"IF(im2colAll_exW6!GH3:QC11 > 0, ROUNDDOWN(im2colAll_exW6!GH3:QC11/2^6, 0), ROUNDUP(im2colAll_exW6!GH3:QC11/2^6, 0))","v":0},{"$f":"IF(im2colAll_exW6!GI3:QD11 > 0, ROUNDDOWN(im2colAll_exW6!GI3:QD11/2^6, 0), ROUNDUP(im2colAll_exW6!GI3:QD11/2^6, 0))","v":1},{"$f":"IF(im2colAll_exW6!GJ3:QE11 > 0, ROUNDDOWN(im2colAll_exW6!GJ3:QE11/2^6, 0), ROUNDUP(im2colAll_exW6!GJ3:QE11/2^6, 0))","v":5},{"$f":"IF(im2colAll_exW6!GK3:QF11 > 0, ROUNDDOWN(im2colAll_exW6!GK3:QF11/2^6, 0), ROUNDUP(im2colAll_exW6!GK3:QF11/2^6, 0))","v":2},{"$f":"IF(im2colAll_exW6!GL3:QG11 > 0, ROUNDDOWN(im2colAll_exW6!GL3:QG11/2^6, 0), ROUNDUP(im2colAll_exW6!GL3:QG11/2^6, 0))","v":11},{"$f":"IF(im2colAll_exW6!GM3:QH11 > 0, ROUNDDOWN(im2colAll_exW6!GM3:QH11/2^6, 0), ROUNDUP(im2colAll_exW6!GM3:QH11/2^6, 0))","v":-1},{"$f":"IF(im2colAll_exW6!GN3:QI11 > 0, ROUNDDOWN(im2colAll_exW6!GN3:QI11/2^6, 0), ROUNDUP(im2colAll_exW6!GN3:QI11/2^6, 0))","v":-5},{"$f":"IF(im2colAll_exW6!GO3:QJ11 > 0, ROUNDDOWN(im2colAll_exW6!GO3:QJ11/2^6, 0), ROUNDUP(im2colAll_exW6!GO3:QJ11/2^6, 0))","v":-11},{"$f":"IF(im2colAll_exW6!GP3:QK11 > 0, ROUNDDOWN(im2colAll_exW6!GP3:QK11/2^6, 0), ROUNDUP(im2colAll_exW6!GP3:QK11/2^6, 0))","v":-4},{"$f":"IF(im2colAll_exW6!GQ3:QL11 > 0, ROUNDDOWN(im2colAll_exW6!GQ3:QL11/2^6, 0), ROUNDUP(im2colAll_exW6!GQ3:QL11/2^6, 0))","v":-7},{"$f":"IF(im2colAll_exW6!GR3:QM11 > 0, ROUNDDOWN(im2colAll_exW6!GR3:QM11/2^6, 0), ROUNDUP(im2colAll_exW6!GR3:QM11/2^6, 0))","v":0},{"$f":"IF(im2colAll_exW6!GS3:QN11 > 0, ROUNDDOWN(im2colAll_exW6!GS3:QN11/2^6, 0), ROUNDUP(im2colAll_exW6!GS3:QN11/2^6, 0))","v":-11},{"$f":"IF(im2colAll_exW6!GT3:QO11 > 0, ROUNDDOWN(im2colAll_exW6!GT3:QO11/2^6, 0), ROUNDUP(im2colAll_exW6!GT3:QO11/2^6, 0))","v":-2},{"$f":"IF(im2colAll_exW6!GU3:QP11 > 0, ROUNDDOWN(im2colAll_exW6!GU3:QP11/2^6, 0), ROUNDUP(im2colAll_exW6!GU3:QP11/2^6, 0))","v":4},{"$f":"IF(im2colAll_exW6!GV3:QQ11 > 0, ROUNDDOWN(im2colAll_exW6!GV3:QQ11/2^6, 0), ROUNDUP(im2colAll_exW6!GV3:QQ11/2^6, 0))","v":-2},{"$f":"IF(im2colAll_exW6!GW3:QR11 > 0, ROUNDDOWN(im2colAll_exW6!GW3:QR11/2^6, 0), ROUNDUP(im2colAll_exW6!GW3:QR11/2^6, 0))","v":-5},{"$f":"IF(im2colAll_exW6!GX3:QS11 > 0, ROUNDDOWN(im2colAll_exW6!GX3:QS11/2^6, 0), ROUNDUP(im2colAll_exW6!GX3:QS11/2^6, 0))","v":-5},{"$f":"IF(im2colAll_exW6!GY3:QT11 > 0, ROUNDDOWN(im2colAll_exW6!GY3:QT11/2^6, 0), ROUNDUP(im2colAll_exW6!GY3:QT11/2^6, 0))","v":17},{"$f":"IF(im2colAll_exW6!GZ3:QU11 > 0, ROUNDDOWN(im2colAll_exW6!GZ3:QU11/2^6, 0), ROUNDUP(im2colAll_exW6!GZ3:QU11/2^6, 0))","v":3},{"$f":"IF(im2colAll_exW6!HA3:QV11 > 0, ROUNDDOWN(im2colAll_exW6!HA3:QV11/2^6, 0), ROUNDUP(im2colAll_exW6!HA3:QV11/2^6, 0))","v":12},{"$f":"IF(im2colAll_exW6!HB3:QW11 > 0, ROUNDDOWN(im2colAll_exW6!HB3:QW11/2^6, 0), ROUNDUP(im2colAll_exW6!HB3:QW11/2^6, 0))","v":-3},{"$f":"IF(im2colAll_exW6!HC3:QX11 > 0, ROUNDDOWN(im2colAll_exW6!HC3:QX11/2^6, 0), ROUNDUP(im2colAll_exW6!HC3:QX11/2^6, 0))","v":2},{"$f":"IF(im2colAll_exW6!HD3:QY11 > 0, ROUNDDOWN(im2colAll_exW6!HD3:QY11/2^6, 0), ROUNDUP(im2colAll_exW6!HD3:QY11/2^6, 0))","v":19},{"$f":"IF(im2colAll_exW6!HE3:QZ11 > 0, ROUNDDOWN(im2colAll_exW6!HE3:QZ11/2^6, 0), ROUNDUP(im2colAll_exW6!HE3:QZ11/2^6, 0))","v":4},{"$f":"IF(im2colAll_exW6!HF3:RA11 > 0, ROUNDDOWN(im2colAll_exW6!HF3:RA11/2^6, 0), ROUNDUP(im2colAll_exW6!HF3:RA11/2^6, 0))","v":9},{"$f":"IF(im2colAll_exW6!HG3:RB11 > 0, ROUNDDOWN(im2colAll_exW6!HG3:RB11/2^6, 0), ROUNDUP(im2colAll_exW6!HG3:RB11/2^6, 0))","v":-9},{"$f":"IF(im2colAll_exW6!HH3:RC11 > 0, ROUNDDOWN(im2colAll_exW6!HH3:RC11/2^6, 0), ROUNDUP(im2colAll_exW6!HH3:RC11/2^6, 0))","v":6},{"$f":"IF(im2colAll_exW6!HI3:RD11 > 0, ROUNDDOWN(im2colAll_exW6!HI3:RD11/2^6, 0), ROUNDUP(im2colAll_exW6!HI3:RD11/2^6, 0))","v":1},{"$f":"IF(im2colAll_exW6!HJ3:RE11 > 0, ROUNDDOWN(im2colAll_exW6!HJ3:RE11/2^6, 0), ROUNDUP(im2colAll_exW6!HJ3:RE11/2^6, 0))","v":11},{"$f":"IF(im2colAll_exW6!HK3:RF11 > 0, ROUNDDOWN(im2colAll_exW6!HK3:RF11/2^6, 0), ROUNDUP(im2colAll_exW6!HK3:RF11/2^6, 0))","v":-4},{"$f":"IF(im2colAll_exW6!HL3:RG11 > 0, ROUNDDOWN(im2colAll_exW6!HL3:RG11/2^6, 0), ROUNDUP(im2colAll_exW6!HL3:RG11/2^6, 0))","v":-5},{"$f":"IF(im2colAll_exW6!HM3:RH11 > 0, ROUNDDOWN(im2colAll_exW6!HM3:RH11/2^6, 0), ROUNDUP(im2colAll_exW6!HM3:RH11/2^6, 0))","v":0},{"$f":"IF(im2colAll_exW6!HN3:RI11 > 0, ROUNDDOWN(im2colAll_exW6!HN3:RI11/2^6, 0), ROUNDUP(im2colAll_exW6!HN3:RI11/2^6, 0))","v":7},{"$f":"IF(im2colAll_exW6!HO3:RJ11 > 0, ROUNDDOWN(im2colAll_exW6!HO3:RJ11/2^6, 0), ROUNDUP(im2colAll_exW6!HO3:RJ11/2^6, 0))","v":-13},{"$f":"IF(im2colAll_exW6!HP3:RK11 > 0, ROUNDDOWN(im2colAll_exW6!HP3:RK11/2^6, 0), ROUNDUP(im2colAll_exW6!HP3:RK11/2^6, 0))","v":-1},{"$f":"IF(im2colAll_exW6!HQ3:RL11 > 0, ROUNDDOWN(im2colAll_exW6!HQ3:RL11/2^6, 0), ROUNDUP(im2colAll_exW6!HQ3:RL11/2^6, 0))","v":26},{"$f":"IF(im2colAll_exW6!HR3:RM11 > 0, ROUNDDOWN(im2colAll_exW6!HR3:RM11/2^6, 0), ROUNDUP(im2colAll_exW6!HR3:RM11/2^6, 0))","v":5},{"$f":"IF(im2colAll_exW6!HS3:RN11 > 0, ROUNDDOWN(im2colAll_exW6!HS3:RN11/2^6, 0), ROUNDUP(im2colAll_exW6!HS3:RN11/2^6, 0))","v":12},{"$f":"IF(im2colAll_exW6!HT3:RO11 > 0, ROUNDDOWN(im2colAll_exW6!HT3:RO11/2^6, 0), ROUNDUP(im2colAll_exW6!HT3:RO11/2^6, 0))","v":-8},{"$f":"IF(im2colAll_exW6!HU3:RP11 > 0, ROUNDDOWN(im2colAll_exW6!HU3:RP11/2^6, 0), ROUNDUP(im2colAll_exW6!HU3:RP11/2^6, 0))","v":2},{"$f":"IF(im2colAll_exW6!HV3:RQ11 > 0, ROUNDDOWN(im2colAll_exW6!HV3:RQ11/2^6, 0), ROUNDUP(im2colAll_exW6!HV3:RQ11/2^6, 0))","v":-3},{"$f":"IF(im2colAll_exW6!HW3:RR11 > 0, ROUNDDOWN(im2colAll_exW6!HW3:RR11/2^6, 0), ROUNDUP(im2colAll_exW6!HW3:RR11/2^6, 0))","v":10},{"$f":"IF(im2colAll_exW6!HX3:RS11 > 0, ROUNDDOWN(im2colAll_exW6!HX3:RS11/2^6, 0), ROUNDUP(im2colAll_exW6!HX3:RS11/2^6, 0))","v":-12},{"$f":"IF(im2colAll_exW6!HY3:RT11 > 0, ROUNDDOWN(im2colAll_exW6!HY3:RT11/2^6, 0), ROUNDUP(im2colAll_exW6!HY3:RT11/2^6, 0))","v":3},{"$f":"IF(im2colAll_exW6!HZ3:RU11 > 0, ROUNDDOWN(im2colAll_exW6!HZ3:RU11/2^6, 0), ROUNDUP(im2colAll_exW6!HZ3:RU11/2^6, 0))","v":21},{"$f":"IF(im2colAll_exW6!IA3:RV11 > 0, ROUNDDOWN(im2colAll_exW6!IA3:RV11/2^6, 0), ROUNDUP(im2colAll_exW6!IA3:RV11/2^6, 0))","v":-6},{"$f":"IF(im2colAll_exW6!IB3:RW11 > 0, ROUNDDOWN(im2colAll_exW6!IB3:RW11/2^6, 0), ROUNDUP(im2colAll_exW6!IB3:RW11/2^6, 0))","v":12},{"$f":"IF(im2colAll_exW6!IC3:RX11 > 0, ROUNDDOWN(im2colAll_exW6!IC3:RX11/2^6, 0), ROUNDUP(im2colAll_exW6!IC3:RX11/2^6, 0))","v":6},{"$f":"IF(im2colAll_exW6!ID3:RY11 > 0, ROUNDDOWN(im2colAll_exW6!ID3:RY11/2^6, 0), ROUNDUP(im2colAll_exW6!ID3:RY11/2^6, 0))","v":7},{"$f":"IF(im2colAll_exW6!IE3:RZ11 > 0, ROUNDDOWN(im2colAll_exW6!IE3:RZ11/2^6, 0), ROUNDUP(im2colAll_exW6!IE3:RZ11/2^6, 0))","v":3},{"$f":"IF(im2colAll_exW6!IF3:SA11 > 0, ROUNDDOWN(im2colAll_exW6!IF3:SA11/2^6, 0), ROUNDUP(im2colAll_exW6!IF3:SA11/2^6, 0))","v":2},{"$f":"IF(im2colAll_exW6!IG3:SB11 > 0, ROUNDDOWN(im2colAll_exW6!IG3:SB11/2^6, 0), ROUNDUP(im2colAll_exW6!IG3:SB11/2^6, 0))","v":2},{"$f":"IF(im2colAll_exW6!IH3:SC11 > 0, ROUNDDOWN(im2colAll_exW6!IH3:SC11/2^6, 0), ROUNDUP(im2colAll_exW6!IH3:SC11/2^6, 0))","v":9},{"$f":"IF(im2colAll_exW6!II3:SD11 > 0, ROUNDDOWN(im2colAll_exW6!II3:SD11/2^6, 0), ROUNDUP(im2colAll_exW6!II3:SD11/2^6, 0))","v":4},{"$f":"IF(im2colAll_exW6!IJ3:SE11 > 0, ROUNDDOWN(im2colAll_exW6!IJ3:SE11/2^6, 0), ROUNDUP(im2colAll_exW6!IJ3:SE11/2^6, 0))","v":-4},{"$f":"IF(im2colAll_exW6!IK3:SF11 > 0, ROUNDDOWN(im2colAll_exW6!IK3:SF11/2^6, 0), ROUNDUP(im2colAll_exW6!IK3:SF11/2^6, 0))","v":-2},{"$f":"IF(im2colAll_exW6!IL3:SG11 > 0, ROUNDDOWN(im2colAll_exW6!IL3:SG11/2^6, 0), ROUNDUP(im2colAll_exW6!IL3:SG11/2^6, 0))","v":23},{"$f":"IF(im2colAll_exW6!IM3:SH11 > 0, ROUNDDOWN(im2colAll_exW6!IM3:SH11/2^6, 0), ROUNDUP(im2colAll_exW6!IM3:SH11/2^6, 0))","v":10},{"$f":"IF(im2colAll_exW6!IN3:SI11 > 0, ROUNDDOWN(im2colAll_exW6!IN3:SI11/2^6, 0), ROUNDUP(im2colAll_exW6!IN3:SI11/2^6, 0))","v":25},{"$f":"IF(im2colAll_exW6!IO3:SJ11 > 0, ROUNDDOWN(im2colAll_exW6!IO3:SJ11/2^6, 0), ROUNDUP(im2colAll_exW6!IO3:SJ11/2^6, 0))","v":-10},{"$f":"IF(im2colAll_exW6!IP3:SK11 > 0, ROUNDDOWN(im2colAll_exW6!IP3:SK11/2^6, 0), ROUNDUP(im2colAll_exW6!IP3:SK11/2^6, 0))","v":-1},{"$f":"IF(im2colAll_exW6!IQ3:SL11 > 0, ROUNDDOWN(im2colAll_exW6!IQ3:SL11/2^6, 0), ROUNDUP(im2colAll_exW6!IQ3:SL11/2^6, 0))","v":4},{"$f":"IF(im2colAll_exW6!IR3:SM11 > 0, ROUNDDOWN(im2colAll_exW6!IR3:SM11/2^6, 0), ROUNDUP(im2colAll_exW6!IR3:SM11/2^6, 0))","v":9},{"$f":"IF(im2colAll_exW6!IS3:SN11 > 0, ROUNDDOWN(im2colAll_exW6!IS3:SN11/2^6, 0), ROUNDUP(im2colAll_exW6!IS3:SN11/2^6, 0))","v":11},{"$f":"IF(im2colAll_exW6!IT3:SO11 > 0, ROUNDDOWN(im2colAll_exW6!IT3:SO11/2^6, 0), ROUNDUP(im2colAll_exW6!IT3:SO11/2^6, 0))","v":-6},{"$f":"IF(im2colAll_exW6!IU3:SP11 > 0, ROUNDDOWN(im2colAll_exW6!IU3:SP11/2^6, 0), ROUNDUP(im2colAll_exW6!IU3:SP11/2^6, 0))","v":2},{"$f":"IF(im2colAll_exW6!IV3:SQ11 > 0, ROUNDDOWN(im2colAll_exW6!IV3:SQ11/2^6, 0), ROUNDUP(im2colAll_exW6!IV3:SQ11/2^6, 0))","v":2}]
[{"$f":"IF(im2colAll_exW6!A4:IV12 > 0, ROUNDDOWN(im2colAll_exW6!A4:IV12/2^6, 0), ROUNDUP(im2colAll_exW6!A4:IV12/2^6, 0))","v":25},{"$f":"IF(im2colAll_exW6!B4:IW12 > 0, ROUNDDOWN(im2colAll_exW6!B4:IW12/2^6, 0), ROUNDUP(im2colAll_exW6!B4:IW12/2^6, 0))","v":10},{"$f":"IF(im2colAll_exW6!C4:IX12 > 0, ROUNDDOWN(im2colAll_exW6!C4:IX12/2^6, 0), ROUNDUP(im2colAll_exW6!C4:IX12/2^6, 0))","v":5},{"$f":"IF(im2colAll_exW6!D4:IY12 > 0, ROUNDDOWN(im2colAll_exW6!D4:IY12/2^6, 0), ROUNDUP(im2colAll_exW6!D4:IY12/2^6, 0))","v":2},{"$f":"IF(im2colAll_exW6!E4:IZ12 > 0, ROUNDDOWN(im2colAll_exW6!E4:IZ12/2^6, 0), ROUNDUP(im2colAll_exW6!E4:IZ12/2^6, 0))","v":25},{"$f":"IF(im2colAll_exW6!F4:JA12 > 0, ROUNDDOWN(im2colAll_exW6!F4:JA12/2^6, 0), ROUNDUP(im2colAll_exW6!F4:JA12/2^6, 0))","v":-10},{"$f":"IF(im2colAll_exW6!G4:JB12 > 0, ROUNDDOWN(im2colAll_exW6!G4:JB12/2^6, 0), ROUNDUP(im2colAll_exW6!G4:JB12/2^6, 0))","v":4},{"$f":"IF(im2colAll_exW6!H4:JC12 > 0, ROUNDDOWN(im2colAll_exW6!H4:JC12/2^6, 0), ROUNDUP(im2colAll_exW6!H4:JC12/2^6, 0))","v":-9},{"$f":"IF(im2colAll_exW6!I4:JD12 > 0, ROUNDDOWN(im2colAll_exW6!I4:JD12/2^6, 0), ROUNDUP(im2colAll_exW6!I4:JD12/2^6, 0))","v":0},{"$f":"IF(im2colAll_exW6!J4:JE12 > 0, ROUNDDOWN(im2colAll_exW6!J4:JE12/2^6, 0), ROUNDUP(im2colAll_exW6!J4:JE12/2^6, 0))","v":1},{"$f":"IF(im2colAll_exW6!K4:JF12 > 0, ROUNDDOWN(im2colAll_exW6!K4:JF12/2^6, 0), ROUNDUP(im2colAll_exW6!K4:JF12/2^6, 0))","v":-9},{"$f":"IF(im2colAll_exW6!L4:JG12 > 0, ROUNDDOWN(im2colAll_exW6!L4:JG12/2^6, 0), ROUNDUP(im2colAll_exW6!L4:JG12/2^6, 0))","v":13},{"$f":"IF(im2colAll_exW6!M4:JH12 > 0, ROUNDDOWN(im2colAll_exW6!M4:JH12/2^6, 0), ROUNDUP(im2colAll_exW6!M4:JH12/2^6, 0))","v":-8},{"$f":"IF(im2colAll_exW6!N4:JI12 > 0, ROUNDDOWN(im2colAll_exW6!N4:JI12/2^6, 0), ROUNDUP(im2colAll_exW6!N4:JI12/2^6, 0))","v":-4},{"$f":"IF(im2colAll_exW6!O4:JJ12 > 0, ROUNDDOWN(im2colAll_exW6!O4:JJ12/2^6, 0), ROUNDUP(im2colAll_exW6!O4:JJ12/2^6, 0))","v":15},{"$f":"IF(im2colAll_exW6!P4:JK12 > 0, ROUNDDOWN(im2colAll_exW6!P4:JK12/2^6, 0), ROUNDUP(im2colAll_exW6!P4:JK12/2^6, 0))","v":7},{"$f":"IF(im2colAll_exW6!Q4:JL12 > 0, ROUNDDOWN(im2colAll_exW6!Q4:JL12/2^6, 0), ROUNDUP(im2colAll_exW6!Q4:JL12/2^6, 0))","v":-9},{"$f":"IF(im2colAll_exW6!R4:JM12 > 0, ROUNDDOWN(im2colAll_exW6!R4:JM12/2^6, 0), ROUNDUP(im2colAll_exW6!R4:JM12/2^6, 0))","v":-5},{"$f":"IF(im2colAll_exW6!S4:JN12 > 0, ROUNDDOWN(im2colAll_exW6!S4:JN12/2^6, 0), ROUNDUP(im2colAll_exW6!S4:JN12/2^6, 0))","v":11},{"$f":"IF(im2colAll_exW6!T4:JO12 > 0, ROUNDDOWN(im2colAll_exW6!T4:JO12/2^6, 0), ROUNDUP(im2colAll_exW6!T4:JO12/2^6, 0))","v":7},{"$f":"IF(im2colAll_exW6!U4:JP12 > 0, ROUNDDOWN(im2colAll_exW6!U4:JP12/2^6, 0), ROUNDUP(im2colAll_exW6!U4:JP12/2^6, 0))","v":18},{"$f":"IF(im2colAll_exW6!V4:JQ12 > 0, ROUNDDOWN(im2colAll_exW6!V4:JQ12/2^6, 0), ROUNDUP(im2colAll_exW6!V4:JQ12/2^6, 0))","v":1},{"$f":"IF(im2colAll_exW6!W4:JR12 > 0, ROUNDDOWN(im2colAll_exW6!W4:JR12/2^6, 0), ROUNDUP(im2colAll_exW6!W4:JR12/2^6, 0))","v":18},{"$f":"IF(im2colAll_exW6!X4:JS12 > 0, ROUNDDOWN(im2colAll_exW6!X4:JS12/2^6, 0), ROUNDUP(im2colAll_exW6!X4:JS12/2^6, 0))","v":2},{"$f":"IF(im2colAll_exW6!Y4:JT12 > 0, ROUNDDOWN(im2colAll_exW6!Y4:JT12/2^6, 0), ROUNDUP(im2colAll_exW6!Y4:JT12/2^6, 0))","v":9},{"$f":"IF(im2colAll_exW6!Z4:JU12 > 0, ROUNDDOWN(im2colAll_exW6!Z4:JU12/2^6, 0), ROUNDUP(im2colAll_exW6!Z4:JU12/2^6, 0))","v":-9},{"$f":"IF(im2colAll_exW6!AA4:JV12 > 0, ROUNDDOWN(im2colAll_exW6!AA4:JV12/2^6, 0), ROUNDUP(im2colAll_exW6!AA4:JV12/2^6, 0))","v":-7},{"$f":"IF(im2colAll_exW6!AB4:JW12 > 0, ROUNDDOWN(im2colAll_exW6!AB4:JW12/2^6, 0), ROUNDUP(im2colAll_exW6!AB4:JW12/2^6, 0))","v":-3},{"$f":"IF(im2colAll_exW6!AC4:JX12 > 0, ROUNDDOWN(im2colAll_exW6!AC4:JX12/2^6, 0), ROUNDUP(im2colAll_exW6!AC4:JX12/2^6, 0))","v":7},{"$f":"IF(im2colAll_exW6!AD4:JY12 > 0, ROUNDDOWN(im2colAll_exW6!AD4:JY12/2^6, 0), ROUNDUP(im2colAll_exW6!AD4:JY12/2^6, 0))","v":-3},{"$f":"IF(im2colAll_exW6!AE4:JZ12 > 0, ROUNDDOWN(im2colAll_exW6!AE4:JZ12/2^6, 0), ROUNDUP(im2colAll_exW6!AE4:JZ12/2^6, 0))","v":18},{"$f":"IF(im2colAll_exW6!AF4:KA12 > 0, ROUNDDOWN(im2colAll_exW6!AF4:KA12/2^6, 0), ROUNDUP(im2colAll_exW6!AF4:KA12/2^6, 0))","v":-2},{"$f":"IF(im2colAll_exW6!AG4:KB12 > 0, ROUNDDOWN(im2colAll_exW6!AG4:KB12/2^6, 0), ROUNDUP(im2colAll_exW6!AG4:KB12/2^6, 0))","v":-1},{"$f":"IF(im2colAll_exW6!AH4:KC12 > 0, ROUNDDOWN(im2colAll_exW6!AH4:KC12/2^6, 0), ROUNDUP(im2colAll_exW6!AH4:KC12/2^6, 0))","v":5},{"$f":"IF(im2colAll_exW6!AI4:KD12 > 0, ROUNDDOWN(im2colAll_exW6!AI4:KD12/2^6, 0), ROUNDUP(im2colAll_exW6!AI4:KD12/2^6, 0))","v":-3},{"$f":"IF(im2colAll_exW6!AJ4:KE12 > 0, ROUNDDOWN(im2colAll_exW6!AJ4:KE12/2^6, 0), ROUNDUP(im2colAll_exW6!AJ4:KE12/2^6, 0))","v":10},{"$f":"IF(im2colAll_exW6!AK4:KF12 > 0, ROUNDDOWN(im2colAll_exW6!AK4:KF12/2^6, 0), ROUNDUP(im2colAll_exW6!AK4:KF12/2^6, 0))","v":-2},{"$f":"IF(im2colAll_exW6!AL4:KG12 > 0, ROUNDDOWN(im2colAll_exW6!AL4:KG12/2^6, 0), ROUNDUP(im2colAll_exW6!AL4:KG12/2^6, 0))","v":13},{"$f":"IF(im2colAll_exW6!AM4:KH12 > 0, ROUNDDOWN(im2colAll_exW6!AM4:KH12/2^6, 0), ROUNDUP(im2colAll_exW6!AM4:KH12/2^6, 0))","v":-1},{"$f":"IF(im2colAll_exW6!AN4:KI12 > 0, ROUNDDOWN(im2colAll_exW6!AN4:KI12/2^6, 0), ROUNDUP(im2colAll_exW6!AN4:KI12/2^6, 0))","v":-11},{"$f":"IF(im2colAll_exW6!AO4:KJ12 > 0, ROUNDDOWN(im2colAll_exW6!AO4:KJ12/2^6, 0), ROUNDUP(im2colAll_exW6!AO4:KJ12/2^6, 0))","v":-4},{"$f":"IF(im2colAll_exW6!AP4:KK12 > 0, ROUNDDOWN(im2colAll_exW6!AP4:KK12/2^6, 0), ROUNDUP(im2colAll_exW6!AP4:KK12/2^6, 0))","v":5},{"$f":"IF(im2colAll_exW6!AQ4:KL12 > 0, ROUNDDOWN(im2colAll_exW6!AQ4:KL12/2^6, 0), ROUNDUP(im2colAll_exW6!AQ4:KL12/2^6, 0))","v":-8},{"$f":"IF(im2colAll_exW6!AR4:KM12 > 0, ROUNDDOWN(im2colAll_exW6!AR4:KM12/2^6, 0), ROUNDUP(im2colAll_exW6!AR4:KM12/2^6, 0))","v":7},{"$f":"IF(im2colAll_exW6!AS4:KN12 > 0, ROUNDDOWN(im2colAll_exW6!AS4:KN12/2^6, 0), ROUNDUP(im2colAll_exW6!AS4:KN12/2^6, 0))","v":3},{"$f":"IF(im2colAll_exW6!AT4:KO12 > 0, ROUNDDOWN(im2colAll_exW6!AT4:KO12/2^6, 0), ROUNDUP(im2colAll_exW6!AT4:KO12/2^6, 0))","v":-10},{"$f":"IF(im2colAll_exW6!AU4:KP12 > 0, ROUNDDOWN(im2colAll_exW6!AU4:KP12/2^6, 0), ROUNDUP(im2colAll_exW6!AU4:KP12/2^6, 0))","v":-9},{"$f":"IF(im2colAll_exW6!AV4:KQ12 > 0, ROUNDDOWN(im2colAll_exW6!AV4:KQ12/2^6, 0), ROUNDUP(im2colAll_exW6!AV4:KQ12/2^6, 0))","v":-5},{"$f":"IF(im2colAll_exW6!AW4:KR12 > 0, ROUNDDOWN(im2colAll_exW6!AW4:KR12/2^6, 0), ROUNDUP(im2colAll_exW6!AW4:KR12/2^6, 0))","v":15},{"$f":"IF(im2colAll_exW6!AX4:KS12 > 0, ROUNDDOWN(im2colAll_exW6!AX4:KS12/2^6, 0), ROUNDUP(im2colAll_exW6!AX4:KS12/2^6, 0))","v":6},{"$f":"IF(im2colAll_exW6!AY4:KT12 > 0, ROUNDDOWN(im2colAll_exW6!AY4:KT12/2^6, 0), ROUNDUP(im2colAll_exW6!AY4:KT12/2^6, 0))","v":2},{"$f":"IF(im2colAll_exW6!AZ4:KU12 > 0, ROUNDDOWN(im2colAll_exW6!AZ4:KU12/2^6, 0), ROUNDUP(im2colAll_exW6!AZ4:KU12/2^6, 0))","v":5},{"$f":"IF(im2colAll_exW6!BA4:KV12 > 0, ROUNDDOWN(im2colAll_exW6!BA4:KV12/2^6, 0), ROUNDUP(im2colAll_exW6!BA4:KV12/2^6, 0))","v":-5},{"$f":"IF(im2colAll_exW6!BB4:KW12 > 0, ROUNDDOWN(im2colAll_exW6!BB4:KW12/2^6, 0), ROUNDUP(im2colAll_exW6!BB4:KW12/2^6, 0))","v":-1},{"$f":"IF(im2colAll_exW6!BC4:KX12 > 0, ROUNDDOWN(im2colAll_exW6!BC4:KX12/2^6, 0), ROUNDUP(im2colAll_exW6!BC4:KX12/2^6, 0))","v":20},{"$f":"IF(im2colAll_exW6!BD4:KY12 > 0, ROUNDDOWN(im2colAll_exW6!BD4:KY12/2^6, 0), ROUNDUP(im2colAll_exW6!BD4:KY12/2^6, 0))","v":0},{"$f":"IF(im2colAll_exW6!BE4:KZ12 > 0, ROUNDDOWN(im2colAll_exW6!BE4:KZ12/2^6, 0), ROUNDUP(im2colAll_exW6!BE4:KZ12/2^6, 0))","v":-3},{"$f":"IF(im2colAll_exW6!BF4:LA12 > 0, ROUNDDOWN(im2colAll_exW6!BF4:LA12/2^6, 0), ROUNDUP(im2colAll_exW6!BF4:LA12/2^6, 0))","v":-6},{"$f":"IF(im2colAll_exW6!BG4:LB12 > 0, ROUNDDOWN(im2colAll_exW6!BG4:LB12/2^6, 0), ROUNDUP(im2colAll_exW6!BG4:LB12/2^6, 0))","v":10},{"$f":"IF(im2colAll_exW6!BH4:LC12 > 0, ROUNDDOWN(im2colAll_exW6!BH4:LC12/2^6, 0), ROUNDUP(im2colAll_exW6!BH4:LC12/2^6, 0))","v":6},{"$f":"IF(im2colAll_exW6!BI4:LD12 > 0, ROUNDDOWN(im2colAll_exW6!BI4:LD12/2^6, 0), ROUNDUP(im2colAll_exW6!BI4:LD12/2^6, 0))","v":8},{"$f":"IF(im2colAll_exW6!BJ4:LE12 > 0, ROUNDDOWN(im2colAll_exW6!BJ4:LE12/2^6, 0), ROUNDUP(im2colAll_exW6!BJ4:LE12/2^6, 0))","v":-11},{"$f":"IF(im2colAll_exW6!BK4:LF12 > 0, ROUNDDOWN(im2colAll_exW6!BK4:LF12/2^6, 0), ROUNDUP(im2colAll_exW6!BK4:LF12/2^6, 0))","v":-5},{"$f":"IF(im2colAll_exW6!BL4:LG12 > 0, ROUNDDOWN(im2colAll_exW6!BL4:LG12/2^6, 0), ROUNDUP(im2colAll_exW6!BL4:LG12/2^6, 0))","v":9},{"$f":"IF(im2colAll_exW6!BM4:LH12 > 0, ROUNDDOWN(im2colAll_exW6!BM4:LH12/2^6, 0), ROUNDUP(im2colAll_exW6!BM4:LH12/2^6, 0))","v":-4},{"$f":"IF(im2colAll_exW6!BN4:LI12 > 0, ROUNDDOWN(im2colAll_exW6!BN4:LI12/2^6, 0), ROUNDUP(im2colAll_exW6!BN4:LI12/2^6, 0))","v":-2},{"$f":"IF(im2colAll_exW6!BO4:LJ12 > 0, ROUNDDOWN(im2colAll_exW6!BO4:LJ12/2^6, 0), ROUNDUP(im2colAll_exW6!BO4:LJ12/2^6, 0))","v":4},{"$f":"IF(im2colAll_exW6!BP4:LK12 > 0, ROUNDDOWN(im2colAll_exW6!BP4:LK12/2^6, 0), ROUNDUP(im2colAll_exW6!BP4:LK12/2^6, 0))","v":3},{"$f":"IF(im2colAll_exW6!BQ4:LL12 > 0, ROUNDDOWN(im2colAll_exW6!BQ4:LL12/2^6, 0), ROUNDUP(im2colAll_exW6!BQ4:LL12/2^6, 0))","v":-1},{"$f":"IF(im2colAll_exW6!BR4:LM12 > 0, ROUNDDOWN(im2colAll_exW6!BR4:LM12/2^6, 0), ROUNDUP(im2colAll_exW6!BR4:LM12/2^6, 0))","v":8},{"$f":"IF(im2colAll_exW6!BS4:LN12 > 0, ROUNDDOWN(im2colAll_exW6!BS4:LN12/2^6, 0), ROUNDUP(im2colAll_exW6!BS4:LN12/2^6, 0))","v":10},{"$f":"IF(im2colAll_exW6!BT4:LO12 > 0, ROUNDDOWN(im2colAll_exW6!BT4:LO12/2^6, 0), ROUNDUP(im2colAll_exW6!BT4:LO12/2^6, 0))","v":-5},{"$f":"IF(im2colAll_exW6!BU4:LP12 > 0, ROUNDDOWN(im2colAll_exW6!BU4:LP12/2^6, 0), ROUNDUP(im2colAll_exW6!BU4:LP12/2^6, 0))","v":8},{"$f":"IF(im2colAll_exW6!BV4:LQ12 > 0, ROUNDDOWN(im2colAll_exW6!BV4:LQ12/2^6, 0), ROUNDUP(im2colAll_exW6!BV4:LQ12/2^6, 0))","v":10},{"$f":"IF(im2colAll_exW6!BW4:LR12 > 0, ROUNDDOWN(im2colAll_exW6!BW4:LR12/2^6, 0), ROUNDUP(im2colAll_exW6!BW4:LR12/2^6, 0))","v":13},{"$f":"IF(im2colAll_exW6!BX4:LS12 > 0, ROUNDDOWN(im2colAll_exW6!BX4:LS12/2^6, 0), ROUNDUP(im2colAll_exW6!BX4:LS12/2^6, 0))","v":3},{"$f":"IF(im2colAll_exW6!BY4:LT12 > 0, ROUNDDOWN(im2colAll_exW6!BY4:LT12/2^6, 0), ROUNDUP(im2colAll_exW6!BY4:LT12/2^6, 0))","v":0},{"$f":"IF(im2colAll_exW6!BZ4:LU12 > 0, ROUNDDOWN(im2colAll_exW6!BZ4:LU12/2^6, 0), ROUNDUP(im2colAll_exW6!BZ4:LU12/2^6, 0))","v":10},{"$f":"IF(im2colAll_exW6!CA4:LV12 > 0, ROUNDDOWN(im2colAll_exW6!CA4:LV12/2^6, 0), ROUNDUP(im2colAll_exW6!CA4:LV12/2^6, 0))","v":4},{"$f":"IF(im2colAll_exW6!CB4:LW12 > 0, ROUNDDOWN(im2colAll_exW6!CB4:LW12/2^6, 0), ROUNDUP(im2colAll_exW6!CB4:LW12/2^6, 0))","v":-2},{"$f":"IF(im2colAll_exW6!CC4:LX12 > 0, ROUNDDOWN(im2colAll_exW6!CC4:LX12/2^6, 0), ROUNDUP(im2colAll_exW6!CC4:LX12/2^6, 0))","v":1},{"$f":"IF(im2colAll_exW6!CD4:LY12 > 0, ROUNDDOWN(im2colAll_exW6!CD4:LY12/2^6, 0), ROUNDUP(im2colAll_exW6!CD4:LY12/2^6, 0))","v":-8},{"$f":"IF(im2colAll_exW6!CE4:LZ12 > 0, ROUNDDOWN(im2colAll_exW6!CE4:LZ12/2^6, 0), ROUNDUP(im2colAll_exW6!CE4:LZ12/2^6, 0))","v":-4},{"$f":"IF(im2colAll_exW6!CF4:MA12 > 0, ROUNDDOWN(im2colAll_exW6!CF4:MA12/2^6, 0), ROUNDUP(im2colAll_exW6!CF4:MA12/2^6, 0))","v":16},{"$f":"IF(im2colAll_exW6!CG4:MB12 > 0, ROUNDDOWN(im2colAll_exW6!CG4:MB12/2^6, 0), ROUNDUP(im2colAll_exW6!CG4:MB12/2^6, 0))","v":13},{"$f":"IF(im2colAll_exW6!CH4:MC12 > 0, ROUNDDOWN(im2colAll_exW6!CH4:MC12/2^6, 0), ROUNDUP(im2colAll_exW6!CH4:MC12/2^6, 0))","v":-6},{"$f":"IF(im2colAll_exW6!CI4:MD12 > 0, ROUNDDOWN(im2colAll_exW6!CI4:MD12/2^6, 0), ROUNDUP(im2colAll_exW6!CI4:MD12/2^6, 0))","v":11},{"$f":"IF(im2colAll_exW6!CJ4:ME12 > 0, ROUNDDOWN(im2colAll_exW6!CJ4:ME12/2^6, 0), ROUNDUP(im2colAll_exW6!CJ4:ME12/2^6, 0))","v":6},{"$f":"IF(im2colAll_exW6!CK4:MF12 > 0, ROUNDDOWN(im2colAll_exW6!CK4:MF12/2^6, 0), ROUNDUP(im2colAll_exW6!CK4:MF12/2^6, 0))","v":8},{"$f":"IF(im2colAll_exW6!CL4:MG12 > 0, ROUNDDOWN(im2colAll_exW6!CL4:MG12/2^6, 0), ROUNDUP(im2colAll_exW6!CL4:MG12/2^6, 0))","v":6},{"$f":"IF(im2colAll_exW6!CM4:MH12 > 0, ROUNDDOWN(im2colAll_exW6!CM4:MH12/2^6, 0), ROUNDUP(im2colAll_exW6!CM4:MH12/2^6, 0))","v":-1},{"$f":"IF(im2colAll_exW6!CN4:MI12 > 0, ROUNDDOWN(im2colAll_exW6!CN4:MI12/2^6, 0), ROUNDUP(im2colAll_exW6!CN4:MI12/2^6, 0))","v":10},{"$f":"IF(im2colAll_exW6!CO4:MJ12 > 0, ROUNDDOWN(im2colAll_exW6!CO4:MJ12/2^6, 0), ROUNDUP(im2colAll_exW6!CO4:MJ12/2^6, 0))","v":2},{"$f":"IF(im2colAll_exW6!CP4:MK12 > 0, ROUNDDOWN(im2colAll_exW6!CP4:MK12/2^6, 0), ROUNDUP(im2colAll_exW6!CP4:MK12/2^6, 0))","v":-3},{"$f":"IF(im2colAll_exW6!CQ4:ML12 > 0, ROUNDDOWN(im2colAll_exW6!CQ4:ML12/2^6, 0), ROUNDUP(im2colAll_exW6!CQ4:ML12/2^6, 0))","v":3},{"$f":"IF(im2colAll_exW6!CR4:MM12 > 0, ROUNDDOWN(im2colAll_exW6!CR4:MM12/2^6, 0), ROUNDUP(im2colAll_exW6!CR4:MM12/2^6, 0))","v":10},{"$f":"IF(im2colAll_exW6!CS4:MN12 > 0, ROUNDDOWN(im2colAll_exW6!CS4:MN12/2^6, 0), ROUNDUP(im2colAll_exW6!CS4:MN12/2^6, 0))","v":1},{"$f":"IF(im2colAll_exW6!CT4:MO12 > 0, ROUNDDOWN(im2colAll_exW6!CT4:MO12/2^6, 0), ROUNDUP(im2colAll_exW6!CT4:MO12/2^6, 0))","v":8},{"$f":"IF(im2colAll_exW6!CU4:MP12 > 0, ROUNDDOWN(im2colAll_exW6!CU4:MP12/2^6, 0), ROUNDUP(im2colAll_exW6!CU4:MP12/2^6, 0))","v":-4},{"$f":"IF(im2colAll_exW6!CV4:MQ12 > 0, ROUNDDOWN(im2colAll_exW6!CV4:MQ12/2^6, 0), ROUNDUP(im2colAll_exW6!CV4:MQ12/2^6, 0))","v":5},{"$f":"IF(im2colAll_exW6!CW4:MR12 > 0, ROUNDDOWN(im2colAll_exW6!CW4:MR12/2^6, 0), ROUNDUP(im2colAll_exW6!CW4:MR12/2^6, 0))","v":0},{"$f":"IF(im2colAll_exW6!CX4:MS12 > 0, ROUNDDOWN(im2colAll_exW6!CX4:MS12/2^6, 0), ROUNDUP(im2colAll_exW6!CX4:MS12/2^6, 0))","v":15},{"$f":"IF(im2colAll_exW6!CY4:MT12 > 0, ROUNDDOWN(im2colAll_exW6!CY4:MT12/2^6, 0), ROUNDUP(im2colAll_exW6!CY4:MT12/2^6, 0))","v":-10},{"$f":"IF(im2colAll_exW6!CZ4:MU12 > 0, ROUNDDOWN(im2colAll_exW6!CZ4:MU12/2^6, 0), ROUNDUP(im2colAll_exW6!CZ4:MU12/2^6, 0))","v":-1},{"$f":"IF(im2colAll_exW6!DA4:MV12 > 0, ROUNDDOWN(im2colAll_exW6!DA4:MV12/2^6, 0), ROUNDUP(im2colAll_exW6!DA4:MV12/2^6, 0))","v":8},{"$f":"IF(im2colAll_exW6!DB4:MW12 > 0, ROUNDDOWN(im2colAll_exW6!DB4:MW12/2^6, 0), ROUNDUP(im2colAll_exW6!DB4:MW12/2^6, 0))","v":4},{"$f":"IF(im2colAll_exW6!DC4:MX12 > 0, ROUNDDOWN(im2colAll_exW6!DC4:MX12/2^6, 0), ROUNDUP(im2colAll_exW6!DC4:MX12/2^6, 0))","v":-8},{"$f":"IF(im2colAll_exW6!DD4:MY12 > 0, ROUNDDOWN(im2colAll_exW6!DD4:MY12/2^6, 0), ROUNDUP(im2colAll_exW6!DD4:MY12/2^6, 0))","v":4},{"$f":"IF(im2colAll_exW6!DE4:MZ12 > 0, ROUNDDOWN(im2colAll_exW6!DE4:MZ12/2^6, 0), ROUNDUP(im2colAll_exW6!DE4:MZ12/2^6, 0))","v":8},{"$f":"IF(im2colAll_exW6!DF4:NA12 > 0, ROUNDDOWN(im2colAll_exW6!DF4:NA12/2^6, 0), ROUNDUP(im2colAll_exW6!DF4:NA12/2^6, 0))","v":-3},{"$f":"IF(im2colAll_exW6!DG4:NB12 > 0, ROUNDDOWN(im2colAll_exW6!DG4:NB12/2^6, 0), ROUNDUP(im2colAll_exW6!DG4:NB12/2^6, 0))","v":-1},{"$f":"IF(im2colAll_exW6!DH4:NC12 > 0, ROUNDDOWN(im2colAll_exW6!DH4:NC12/2^6, 0), ROUNDUP(im2colAll_exW6!DH4:NC12/2^6, 0))","v":5},{"$f":"IF(im2colAll_exW6!DI4:ND12 > 0, ROUNDDOWN(im2colAll_exW6!DI4:ND12/2^6, 0), ROUNDUP(im2colAll_exW6!DI4:ND12/2^6, 0))","v":-13},{"$f":"IF(im2colAll_exW6!DJ4:NE12 > 0, ROUNDDOWN(im2colAll_exW6!DJ4:NE12/2^6, 0), ROUNDUP(im2colAll_exW6!DJ4:NE12/2^6, 0))","v":-7},{"$f":"IF(im2colAll_exW6!DK4:NF12 > 0, ROUNDDOWN(im2colAll_exW6!DK4:NF12/2^6, 0), ROUNDUP(im2colAll_exW6!DK4:NF12/2^6, 0))","v":-2},{"$f":"IF(im2colAll_exW6!DL4:NG12 > 0, ROUNDDOWN(im2colAll_exW6!DL4:NG12/2^6, 0), ROUNDUP(im2colAll_exW6!DL4:NG12/2^6, 0))","v":10},{"$f":"IF(im2colAll_exW6!DM4:NH12 > 0, ROUNDDOWN(im2colAll_exW6!DM4:NH12/2^6, 0), ROUNDUP(im2colAll_exW6!DM4:NH12/2^6, 0))","v":-3},{"$f":"IF(im2colAll_exW6!DN4:NI12 > 0, ROUNDDOWN(im2colAll_exW6!DN4:NI12/2^6, 0), ROUNDUP(im2colAll_exW6!DN4:NI12/2^6, 0))","v":12},{"$f":"IF(im2colAll_exW6!DO4:NJ12 > 0, ROUNDDOWN(im2colAll_exW6!DO4:NJ12/2^6, 0), ROUNDUP(im2colAll_exW6!DO4:NJ12/2^6, 0))","v":-6},{"$f":"IF(im2colAll_exW6!DP4:NK12 > 0, ROUNDDOWN(im2colAll_exW6!DP4:NK12/2^6, 0), ROUNDUP(im2colAll_exW6!DP4:NK12/2^6, 0))","v":12},{"$f":"IF(im2colAll_exW6!DQ4:NL12 > 0, ROUNDDOWN(im2colAll_exW6!DQ4:NL12/2^6, 0), ROUNDUP(im2colAll_exW6!DQ4:NL12/2^6, 0))","v":-6},{"$f":"IF(im2colAll_exW6!DR4:NM12 > 0, ROUNDDOWN(im2colAll_exW6!DR4:NM12/2^6, 0), ROUNDUP(im2colAll_exW6!DR4:NM12/2^6, 0))","v":-4},{"$f":"IF(im2colAll_exW6!DS4:NN12 > 0, ROUNDDOWN(im2colAll_exW6!DS4:NN12/2^6, 0), ROUNDUP(im2colAll_exW6!DS4:NN12/2^6, 0))","v":-9},{"$f":"IF(im2colAll_exW6!DT4:NO12 > 0, ROUNDDOWN(im2colAll_exW6!DT4:NO12/2^6, 0), ROUNDUP(im2colAll_exW6!DT4:NO12/2^6, 0))","v":8},{"$f":"IF(im2colAll_exW6!DU4:NP12 > 0, ROUNDDOWN(im2colAll_exW6!DU4:NP12/2^6, 0), ROUNDUP(im2colAll_exW6!DU4:NP12/2^6, 0))","v":12},{"$f":"IF(im2colAll_exW6!DV4:NQ12 > 0, ROUNDDOWN(im2colAll_exW6!DV4:NQ12/2^6, 0), ROUNDUP(im2colAll_exW6!DV4:NQ12/2^6, 0))","v":6},{"$f":"IF(im2colAll_exW6!DW4:NR12 > 0, ROUNDDOWN(im2colAll_exW6!DW4:NR12/2^6, 0), ROUNDUP(im2colAll_exW6!DW4:NR12/2^6, 0))","v":-4},{"$f":"IF(im2colAll_exW6!DX4:NS12 > 0, ROUNDDOWN(im2colAll_exW6!DX4:NS12/2^6, 0), ROUNDUP(im2colAll_exW6!DX4:NS12/2^6, 0))","v":-8},{"$f":"IF(im2colAll_exW6!DY4:NT12 > 0, ROUNDDOWN(im2colAll_exW6!DY4:NT12/2^6, 0), ROUNDUP(im2colAll_exW6!DY4:NT12/2^6, 0))","v":-4},{"$f":"IF(im2colAll_exW6!DZ4:NU12 > 0, ROUNDDOWN(im2colAll_exW6!DZ4:NU12/2^6, 0), ROUNDUP(im2colAll_exW6!DZ4:NU12/2^6, 0))","v":4},{"$f":"IF(im2colAll_exW6!EA4:NV12 > 0, ROUNDDOWN(im2colAll_exW6!EA4:NV12/2^6, 0), ROUNDUP(im2colAll_exW6!EA4:NV12/2^6, 0))","v":-2},{"$f":"IF(im2colAll_exW6!EB4:NW12 > 0, ROUNDDOWN(im2colAll_exW6!EB4:NW12/2^6, 0), ROUNDUP(im2colAll_exW6!EB4:NW12/2^6, 0))","v":-3},{"$f":"IF(im2colAll_exW6!EC4:NX12 > 0, ROUNDDOWN(im2colAll_exW6!EC4:NX12/2^6, 0), ROUNDUP(im2colAll_exW6!EC4:NX12/2^6, 0))","v":-3},{"$f":"IF(im2colAll_exW6!ED4:NY12 > 0, ROUNDDOWN(im2colAll_exW6!ED4:NY12/2^6, 0), ROUNDUP(im2colAll_exW6!ED4:NY12/2^6, 0))","v":-1},{"$f":"IF(im2colAll_exW6!EE4:NZ12 > 0, ROUNDDOWN(im2colAll_exW6!EE4:NZ12/2^6, 0), ROUNDUP(im2colAll_exW6!EE4:NZ12/2^6, 0))","v":-1},{"$f":"IF(im2colAll_exW6!EF4:OA12 > 0, ROUNDDOWN(im2colAll_exW6!EF4:OA12/2^6, 0), ROUNDUP(im2colAll_exW6!EF4:OA12/2^6, 0))","v":-1},{"$f":"IF(im2colAll_exW6!EG4:OB12 > 0, ROUNDDOWN(im2colAll_exW6!EG4:OB12/2^6, 0), ROUNDUP(im2colAll_exW6!EG4:OB12/2^6, 0))","v":8},{"$f":"IF(im2colAll_exW6!EH4:OC12 > 0, ROUNDDOWN(im2colAll_exW6!EH4:OC12/2^6, 0), ROUNDUP(im2colAll_exW6!EH4:OC12/2^6, 0))","v":-2},{"$f":"IF(im2colAll_exW6!EI4:OD12 > 0, ROUNDDOWN(im2colAll_exW6!EI4:OD12/2^6, 0), ROUNDUP(im2colAll_exW6!EI4:OD12/2^6, 0))","v":-1},{"$f":"IF(im2colAll_exW6!EJ4:OE12 > 0, ROUNDDOWN(im2colAll_exW6!EJ4:OE12/2^6, 0), ROUNDUP(im2colAll_exW6!EJ4:OE12/2^6, 0))","v":26},{"$f":"IF(im2colAll_exW6!EK4:OF12 > 0, ROUNDDOWN(im2colAll_exW6!EK4:OF12/2^6, 0), ROUNDUP(im2colAll_exW6!EK4:OF12/2^6, 0))","v":1},{"$f":"IF(im2colAll_exW6!EL4:OG12 > 0, ROUNDDOWN(im2colAll_exW6!EL4:OG12/2^6, 0), ROUNDUP(im2colAll_exW6!EL4:OG12/2^6, 0))","v":3},{"$f":"IF(im2colAll_exW6!EM4:OH12 > 0, ROUNDDOWN(im2colAll_exW6!EM4:OH12/2^6, 0), ROUNDUP(im2colAll_exW6!EM4:OH12/2^6, 0))","v":-2},{"$f":"IF(im2colAll_exW6!EN4:OI12 > 0, ROUNDDOWN(im2colAll_exW6!EN4:OI12/2^6, 0), ROUNDUP(im2colAll_exW6!EN4:OI12/2^6, 0))","v":-3},{"$f":"IF(im2colAll_exW6!EO4:OJ12 > 0, ROUNDDOWN(im2colAll_exW6!EO4:OJ12/2^6, 0), ROUNDUP(im2colAll_exW6!EO4:OJ12/2^6, 0))","v":4},{"$f":"IF(im2colAll_exW6!EP4:OK12 > 0, ROUNDDOWN(im2colAll_exW6!EP4:OK12/2^6, 0), ROUNDUP(im2colAll_exW6!EP4:OK12/2^6, 0))","v":-11},{"$f":"IF(im2colAll_exW6!EQ4:OL12 > 0, ROUNDDOWN(im2colAll_exW6!EQ4:OL12/2^6, 0), ROUNDUP(im2colAll_exW6!EQ4:OL12/2^6, 0))","v":-5},{"$f":"IF(im2colAll_exW6!ER4:OM12 > 0, ROUNDDOWN(im2colAll_exW6!ER4:OM12/2^6, 0), ROUNDUP(im2colAll_exW6!ER4:OM12/2^6, 0))","v":1},{"$f":"IF(im2colAll_exW6!ES4:ON12 > 0, ROUNDDOWN(im2colAll_exW6!ES4:ON12/2^6, 0), ROUNDUP(im2colAll_exW6!ES4:ON12/2^6, 0))","v":-1},{"$f":"IF(im2colAll_exW6!ET4:OO12 > 0, ROUNDDOWN(im2colAll_exW6!ET4:OO12/2^6, 0), ROUNDUP(im2colAll_exW6!ET4:OO12/2^6, 0))","v":4},{"$f":"IF(im2colAll_exW6!EU4:OP12 > 0, ROUNDDOWN(im2colAll_exW6!EU4:OP12/2^6, 0), ROUNDUP(im2colAll_exW6!EU4:OP12/2^6, 0))","v":0},{"$f":"IF(im2colAll_exW6!EV4:OQ12 > 0, ROUNDDOWN(im2colAll_exW6!EV4:OQ12/2^6, 0), ROUNDUP(im2colAll_exW6!EV4:OQ12/2^6, 0))","v":-3},{"$f":"IF(im2colAll_exW6!EW4:OR12 > 0, ROUNDDOWN(im2colAll_exW6!EW4:OR12/2^6, 0), ROUNDUP(im2colAll_exW6!EW4:OR12/2^6, 0))","v":11},{"$f":"IF(im2colAll_exW6!EX4:OS12 > 0, ROUNDDOWN(im2colAll_exW6!EX4:OS12/2^6, 0), ROUNDUP(im2colAll_exW6!EX4:OS12/2^6, 0))","v":-2},{"$f":"IF(im2colAll_exW6!EY4:OT12 > 0, ROUNDDOWN(im2colAll_exW6!EY4:OT12/2^6, 0), ROUNDUP(im2colAll_exW6!EY4:OT12/2^6, 0))","v":11},{"$f":"IF(im2colAll_exW6!EZ4:OU12 > 0, ROUNDDOWN(im2colAll_exW6!EZ4:OU12/2^6, 0), ROUNDUP(im2colAll_exW6!EZ4:OU12/2^6, 0))","v":5},{"$f":"IF(im2colAll_exW6!FA4:OV12 > 0, ROUNDDOWN(im2colAll_exW6!FA4:OV12/2^6, 0), ROUNDUP(im2colAll_exW6!FA4:OV12/2^6, 0))","v":10},{"$f":"IF(im2colAll_exW6!FB4:OW12 > 0, ROUNDDOWN(im2colAll_exW6!FB4:OW12/2^6, 0), ROUNDUP(im2colAll_exW6!FB4:OW12/2^6, 0))","v":13},{"$f":"IF(im2colAll_exW6!FC4:OX12 > 0, ROUNDDOWN(im2colAll_exW6!FC4:OX12/2^6, 0), ROUNDUP(im2colAll_exW6!FC4:OX12/2^6, 0))","v":-9},{"$f":"IF(im2colAll_exW6!FD4:OY12 > 0, ROUNDDOWN(im2colAll_exW6!FD4:OY12/2^6, 0), ROUNDUP(im2colAll_exW6!FD4:OY12/2^6, 0))","v":8},{"$f":"IF(im2colAll_exW6!FE4:OZ12 > 0, ROUNDDOWN(im2colAll_exW6!FE4:OZ12/2^6, 0), ROUNDUP(im2colAll_exW6!FE4:OZ12/2^6, 0))","v":1},{"$f":"IF(im2colAll_exW6!FF4:PA12 > 0, ROUNDDOWN(im2colAll_exW6!FF4:PA12/2^6, 0), ROUNDUP(im2colAll_exW6!FF4:PA12/2^6, 0))","v":-10},{"$f":"IF(im2colAll_exW6!FG4:PB12 > 0, ROUNDDOWN(im2colAll_exW6!FG4:PB12/2^6, 0), ROUNDUP(im2colAll_exW6!FG4:PB12/2^6, 0))","v":1},{"$f":"IF(im2colAll_exW6!FH4:PC12 > 0, ROUNDDOWN(im2colAll_exW6!FH4:PC12/2^6, 0), ROUNDUP(im2colAll_exW6!FH4:PC12/2^6, 0))","v":12},{"$f":"IF(im2colAll_exW6!FI4:PD12 > 0, ROUNDDOWN(im2colAll_exW6!FI4:PD12/2^6, 0), ROUNDUP(im2colAll_exW6!FI4:PD12/2^6, 0))","v":-8},{"$f":"IF(im2colAll_exW6!FJ4:PE12 > 0, ROUNDDOWN(im2colAll_exW6!FJ4:PE12/2^6, 0), ROUNDUP(im2colAll_exW6!FJ4:PE12/2^6, 0))","v":-1},{"$f":"IF(im2colAll_exW6!FK4:PF12 > 0, ROUNDDOWN(im2colAll_exW6!FK4:PF12/2^6, 0), ROUNDUP(im2colAll_exW6!FK4:PF12/2^6, 0))","v":6},{"$f":"IF(im2colAll_exW6!FL4:PG12 > 0, ROUNDDOWN(im2colAll_exW6!FL4:PG12/2^6, 0), ROUNDUP(im2colAll_exW6!FL4:PG12/2^6, 0))","v":15},{"$f":"IF(im2colAll_exW6!FM4:PH12 > 0, ROUNDDOWN(im2colAll_exW6!FM4:PH12/2^6, 0), ROUNDUP(im2colAll_exW6!FM4:PH12/2^6, 0))","v":-11},{"$f":"IF(im2colAll_exW6!FN4:PI12 > 0, ROUNDDOWN(im2colAll_exW6!FN4:PI12/2^6, 0), ROUNDUP(im2colAll_exW6!FN4:PI12/2^6, 0))","v":-1},{"$f":"IF(im2colAll_exW6!FO4:PJ12 > 0, ROUNDDOWN(im2colAll_exW6!FO4:PJ12/2^6, 0), ROUNDUP(im2colAll_exW6!FO4:PJ12/2^6, 0))","v":0},{"$f":"IF(im2colAll_exW6!FP4:PK12 > 0, ROUNDDOWN(im2colAll_exW6!FP4:PK12/2^6, 0), ROUNDUP(im2colAll_exW6!FP4:PK12/2^6, 0))","v":15},{"$f":"IF(im2colAll_exW6!FQ4:PL12 > 0, ROUNDDOWN(im2colAll_exW6!FQ4:PL12/2^6, 0), ROUNDUP(im2colAll_exW6!FQ4:PL12/2^6, 0))","v":-6},{"$f":"IF(im2colAll_exW6!FR4:PM12 > 0, ROUNDDOWN(im2colAll_exW6!FR4:PM12/2^6, 0), ROUNDUP(im2colAll_exW6!FR4:PM12/2^6, 0))","v":3},{"$f":"IF(im2colAll_exW6!FS4:PN12 > 0, ROUNDDOWN(im2colAll_exW6!FS4:PN12/2^6, 0), ROUNDUP(im2colAll_exW6!FS4:PN12/2^6, 0))","v":-8},{"$f":"IF(im2colAll_exW6!FT4:PO12 > 0, ROUNDDOWN(im2colAll_exW6!FT4:PO12/2^6, 0), ROUNDUP(im2colAll_exW6!FT4:PO12/2^6, 0))","v":6},{"$f":"IF(im2colAll_exW6!FU4:PP12 > 0, ROUNDDOWN(im2colAll_exW6!FU4:PP12/2^6, 0), ROUNDUP(im2colAll_exW6!FU4:PP12/2^6, 0))","v":-2},{"$f":"IF(im2colAll_exW6!FV4:PQ12 > 0, ROUNDDOWN(im2colAll_exW6!FV4:PQ12/2^6, 0), ROUNDUP(im2colAll_exW6!FV4:PQ12/2^6, 0))","v":-5},{"$f":"IF(im2colAll_exW6!FW4:PR12 > 0, ROUNDDOWN(im2colAll_exW6!FW4:PR12/2^6, 0), ROUNDUP(im2colAll_exW6!FW4:PR12/2^6, 0))","v":-7},{"$f":"IF(im2colAll_exW6!FX4:PS12 > 0, ROUNDDOWN(im2colAll_exW6!FX4:PS12/2^6, 0), ROUNDUP(im2colAll_exW6!FX4:PS12/2^6, 0))","v":6},{"$f":"IF(im2colAll_exW6!FY4:PT12 > 0, ROUNDDOWN(im2colAll_exW6!FY4:PT12/2^6, 0), ROUNDUP(im2colAll_exW6!FY4:PT12/2^6, 0))","v":-3},{"$f":"IF(im2colAll_exW6!FZ4:PU12 > 0, ROUNDDOWN(im2colAll_exW6!FZ4:PU12/2^6, 0), ROUNDUP(im2colAll_exW6!FZ4:PU12/2^6, 0))","v":-10},{"$f":"IF(im2colAll_exW6!GA4:PV12 > 0, ROUNDDOWN(im2colAll_exW6!GA4:PV12/2^6, 0), ROUNDUP(im2colAll_exW6!GA4:PV12/2^6, 0))","v":-5},{"$f":"IF(im2colAll_exW6!GB4:PW12 > 0, ROUNDDOWN(im2colAll_exW6!GB4:PW12/2^6, 0), ROUNDUP(im2colAll_exW6!GB4:PW12/2^6, 0))","v":-3},{"$f":"IF(im2colAll_exW6!GC4:PX12 > 0, ROUNDDOWN(im2colAll_exW6!GC4:PX12/2^6, 0), ROUNDUP(im2colAll_exW6!GC4:PX12/2^6, 0))","v":-7},{"$f":"IF(im2colAll_exW6!GD4:PY12 > 0, ROUNDDOWN(im2colAll_exW6!GD4:PY12/2^6, 0), ROUNDUP(im2colAll_exW6!GD4:PY12/2^6, 0))","v":-8},{"$f":"IF(im2colAll_exW6!GE4:PZ12 > 0, ROUNDDOWN(im2colAll_exW6!GE4:PZ12/2^6, 0), ROUNDUP(im2colAll_exW6!GE4:PZ12/2^6, 0))","v":6},{"$f":"IF(im2colAll_exW6!GF4:QA12 > 0, ROUNDDOWN(im2colAll_exW6!GF4:QA12/2^6, 0), ROUNDUP(im2colAll_exW6!GF4:QA12/2^6, 0))","v":-5},{"$f":"IF(im2colAll_exW6!GG4:QB12 > 0, ROUNDDOWN(im2colAll_exW6!GG4:QB12/2^6, 0), ROUNDUP(im2colAll_exW6!GG4:QB12/2^6, 0))","v":-8},{"$f":"IF(im2colAll_exW6!GH4:QC12 > 0, ROUNDDOWN(im2colAll_exW6!GH4:QC12/2^6, 0), ROUNDUP(im2colAll_exW6!GH4:QC12/2^6, 0))","v":-10},{"$f":"IF(im2colAll_exW6!GI4:QD12 > 0, ROUNDDOWN(im2colAll_exW6!GI4:QD12/2^6, 0), ROUNDUP(im2colAll_exW6!GI4:QD12/2^6, 0))","v":2},{"$f":"IF(im2colAll_exW6!GJ4:QE12 > 0, ROUNDDOWN(im2colAll_exW6!GJ4:QE12/2^6, 0), ROUNDUP(im2colAll_exW6!GJ4:QE12/2^6, 0))","v":5},{"$f":"IF(im2colAll_exW6!GK4:QF12 > 0, ROUNDDOWN(im2colAll_exW6!GK4:QF12/2^6, 0), ROUNDUP(im2colAll_exW6!GK4:QF12/2^6, 0))","v":4},{"$f":"IF(im2colAll_exW6!GL4:QG12 > 0, ROUNDDOWN(im2colAll_exW6!GL4:QG12/2^6, 0), ROUNDUP(im2colAll_exW6!GL4:QG12/2^6, 0))","v":0},{"$f":"IF(im2colAll_exW6!GM4:QH12 > 0, ROUNDDOWN(im2colAll_exW6!GM4:QH12/2^6, 0), ROUNDUP(im2colAll_exW6!GM4:QH12/2^6, 0))","v":-7},{"$f":"IF(im2colAll_exW6!GN4:QI12 > 0, ROUNDDOWN(im2colAll_exW6!GN4:QI12/2^6, 0), ROUNDUP(im2colAll_exW6!GN4:QI12/2^6, 0))","v":-4},{"$f":"IF(im2colAll_exW6!GO4:QJ12 > 0, ROUNDDOWN(im2colAll_exW6!GO4:QJ12/2^6, 0), ROUNDUP(im2colAll_exW6!GO4:QJ12/2^6, 0))","v":-5},{"$f":"IF(im2colAll_exW6!GP4:QK12 > 0, ROUNDDOWN(im2colAll_exW6!GP4:QK12/2^6, 0), ROUNDUP(im2colAll_exW6!GP4:QK12/2^6, 0))","v":-1},{"$f":"IF(im2colAll_exW6!GQ4:QL12 > 0, ROUNDDOWN(im2colAll_exW6!GQ4:QL12/2^6, 0), ROUNDUP(im2colAll_exW6!GQ4:QL12/2^6, 0))","v":1},{"$f":"IF(im2colAll_exW6!GR4:QM12 > 0, ROUNDDOWN(im2colAll_exW6!GR4:QM12/2^6, 0), ROUNDUP(im2colAll_exW6!GR4:QM12/2^6, 0))","v":-5},{"$f":"IF(im2colAll_exW6!GS4:QN12 > 0, ROUNDDOWN(im2colAll_exW6!GS4:QN12/2^6, 0), ROUNDUP(im2colAll_exW6!GS4:QN12/2^6, 0))","v":-5},{"$f":"IF(im2colAll_exW6!GT4:QO12 > 0, ROUNDDOWN(im2colAll_exW6!GT4:QO12/2^6, 0), ROUNDUP(im2colAll_exW6!GT4:QO12/2^6, 0))","v":1},{"$f":"IF(im2colAll_exW6!GU4:QP12 > 0, ROUNDDOWN(im2colAll_exW6!GU4:QP12/2^6, 0), ROUNDUP(im2colAll_exW6!GU4:QP12/2^6, 0))","v":1},{"$f":"IF(im2colAll_exW6!GV4:QQ12 > 0, ROUNDDOWN(im2colAll_exW6!GV4:QQ12/2^6, 0), ROUNDUP(im2colAll_exW6!GV4:QQ12/2^6, 0))","v":4},{"$f":"IF(im2colAll_exW6!GW4:QR12 > 0, ROUNDDOWN(im2colAll_exW6!GW4:QR12/2^6, 0), ROUNDUP(im2colAll_exW6!GW4:QR12/2^6, 0))","v":0},{"$f":"IF(im2colAll_exW6!GX4:QS12 > 0, ROUNDDOWN(im2colAll_exW6!GX4:QS12/2^6, 0), ROUNDUP(im2colAll_exW6!GX4:QS12/2^6, 0))","v":-5},{"$f":"IF(im2colAll_exW6!GY4:QT12 > 0, ROUNDDOWN(im2colAll_exW6!GY4:QT12/2^6, 0), ROUNDUP(im2colAll_exW6!GY4:QT12/2^6, 0))","v":6},{"$f":"IF(im2colAll_exW6!GZ4:QU12 > 0, ROUNDDOWN(im2colAll_exW6!GZ4:QU12/2^6, 0), ROUNDUP(im2colAll_exW6!GZ4:QU12/2^6, 0))","v":3},{"$f":"IF(im2colAll_exW6!HA4:QV12 > 0, ROUNDDOWN(im2colAll_exW6!HA4:QV12/2^6, 0), ROUNDUP(im2colAll_exW6!HA4:QV12/2^6, 0))","v":11},{"$f":"IF(im2colAll_exW6!HB4:QW12 > 0, ROUNDDOWN(im2colAll_exW6!HB4:QW12/2^6, 0), ROUNDUP(im2colAll_exW6!HB4:QW12/2^6, 0))","v":-9},{"$f":"IF(im2colAll_exW6!HC4:QX12 > 0, ROUNDDOWN(im2colAll_exW6!HC4:QX12/2^6, 0), ROUNDUP(im2colAll_exW6!HC4:QX12/2^6, 0))","v":6},{"$f":"IF(im2colAll_exW6!HD4:QY12 > 0, ROUNDDOWN(im2colAll_exW6!HD4:QY12/2^6, 0), ROUNDUP(im2colAll_exW6!HD4:QY12/2^6, 0))","v":16},{"$f":"IF(im2colAll_exW6!HE4:QZ12 > 0, ROUNDDOWN(im2colAll_exW6!HE4:QZ12/2^6, 0), ROUNDUP(im2colAll_exW6!HE4:QZ12/2^6, 0))","v":0},{"$f":"IF(im2colAll_exW6!HF4:RA12 > 0, ROUNDDOWN(im2colAll_exW6!HF4:RA12/2^6, 0), ROUNDUP(im2colAll_exW6!HF4:RA12/2^6, 0))","v":11},{"$f":"IF(im2colAll_exW6!HG4:RB12 > 0, ROUNDDOWN(im2colAll_exW6!HG4:RB12/2^6, 0), ROUNDUP(im2colAll_exW6!HG4:RB12/2^6, 0))","v":5},{"$f":"IF(im2colAll_exW6!HH4:RC12 > 0, ROUNDDOWN(im2colAll_exW6!HH4:RC12/2^6, 0), ROUNDUP(im2colAll_exW6!HH4:RC12/2^6, 0))","v":7},{"$f":"IF(im2colAll_exW6!HI4:RD12 > 0, ROUNDDOWN(im2colAll_exW6!HI4:RD12/2^6, 0), ROUNDUP(im2colAll_exW6!HI4:RD12/2^6, 0))","v":2},{"$f":"IF(im2colAll_exW6!HJ4:RE12 > 0, ROUNDDOWN(im2colAll_exW6!HJ4:RE12/2^6, 0), ROUNDUP(im2colAll_exW6!HJ4:RE12/2^6, 0))","v":12},{"$f":"IF(im2colAll_exW6!HK4:RF12 > 0, ROUNDDOWN(im2colAll_exW6!HK4:RF12/2^6, 0), ROUNDUP(im2colAll_exW6!HK4:RF12/2^6, 0))","v":-6},{"$f":"IF(im2colAll_exW6!HL4:RG12 > 0, ROUNDDOWN(im2colAll_exW6!HL4:RG12/2^6, 0), ROUNDUP(im2colAll_exW6!HL4:RG12/2^6, 0))","v":1},{"$f":"IF(im2colAll_exW6!HM4:RH12 > 0, ROUNDDOWN(im2colAll_exW6!HM4:RH12/2^6, 0), ROUNDUP(im2colAll_exW6!HM4:RH12/2^6, 0))","v":-3},{"$f":"IF(im2colAll_exW6!HN4:RI12 > 0, ROUNDDOWN(im2colAll_exW6!HN4:RI12/2^6, 0), ROUNDUP(im2colAll_exW6!HN4:RI12/2^6, 0))","v":0},{"$f":"IF(im2colAll_exW6!HO4:RJ12 > 0, ROUNDDOWN(im2colAll_exW6!HO4:RJ12/2^6, 0), ROUNDUP(im2colAll_exW6!HO4:RJ12/2^6, 0))","v":-5},{"$f":"IF(im2colAll_exW6!HP4:RK12 > 0, ROUNDDOWN(im2colAll_exW6!HP4:RK12/2^6, 0), ROUNDUP(im2colAll_exW6!HP4:RK12/2^6, 0))","v":-2},{"$f":"IF(im2colAll_exW6!HQ4:RL12 > 0, ROUNDDOWN(im2colAll_exW6!HQ4:RL12/2^6, 0), ROUNDUP(im2colAll_exW6!HQ4:RL12/2^6, 0))","v":12},{"$f":"IF(im2colAll_exW6!HR4:RM12 > 0, ROUNDDOWN(im2colAll_exW6!HR4:RM12/2^6, 0), ROUNDUP(im2colAll_exW6!HR4:RM12/2^6, 0))","v":0},{"$f":"IF(im2colAll_exW6!HS4:RN12 > 0, ROUNDDOWN(im2colAll_exW6!HS4:RN12/2^6, 0), ROUNDUP(im2colAll_exW6!HS4:RN12/2^6, 0))","v":-2},{"$f":"IF(im2colAll_exW6!HT4:RO12 > 0, ROUNDDOWN(im2colAll_exW6!HT4:RO12/2^6, 0), ROUNDUP(im2colAll_exW6!HT4:RO12/2^6, 0))","v":-9},{"$f":"IF(im2colAll_exW6!HU4:RP12 > 0, ROUNDDOWN(im2colAll_exW6!HU4:RP12/2^6, 0), ROUNDUP(im2colAll_exW6!HU4:RP12/2^6, 0))","v":11},{"$f":"IF(im2colAll_exW6!HV4:RQ12 > 0, ROUNDDOWN(im2colAll_exW6!HV4:RQ12/2^6, 0), ROUNDUP(im2colAll_exW6!HV4:RQ12/2^6, 0))","v":7},{"$f":"IF(im2colAll_exW6!HW4:RR12 > 0, ROUNDDOWN(im2colAll_exW6!HW4:RR12/2^6, 0), ROUNDUP(im2colAll_exW6!HW4:RR12/2^6, 0))","v":2},{"$f":"IF(im2colAll_exW6!HX4:RS12 > 0, ROUNDDOWN(im2colAll_exW6!HX4:RS12/2^6, 0), ROUNDUP(im2colAll_exW6!HX4:RS12/2^6, 0))","v":-11},{"$f":"IF(im2colAll_exW6!HY4:RT12 > 0, ROUNDDOWN(im2colAll_exW6!HY4:RT12/2^6, 0), ROUNDUP(im2colAll_exW6!HY4:RT12/2^6, 0))","v":-1},{"$f":"IF(im2colAll_exW6!HZ4:RU12 > 0, ROUNDDOWN(im2colAll_exW6!HZ4:RU12/2^6, 0), ROUNDUP(im2colAll_exW6!HZ4:RU12/2^6, 0))","v":9},{"$f":"IF(im2colAll_exW6!IA4:RV12 > 0, ROUNDDOWN(im2colAll_exW6!IA4:RV12/2^6, 0), ROUNDUP(im2colAll_exW6!IA4:RV12/2^6, 0))","v":0},{"$f":"IF(im2colAll_exW6!IB4:RW12 > 0, ROUNDDOWN(im2colAll_exW6!IB4:RW12/2^6, 0), ROUNDUP(im2colAll_exW6!IB4:RW12/2^6, 0))","v":5},{"$f":"IF(im2colAll_exW6!IC4:RX12 > 0, ROUNDDOWN(im2colAll_exW6!IC4:RX12/2^6, 0), ROUNDUP(im2colAll_exW6!IC4:RX12/2^6, 0))","v":3},{"$f":"IF(im2colAll_exW6!ID4:RY12 > 0, ROUNDDOWN(im2colAll_exW6!ID4:RY12/2^6, 0), ROUNDUP(im2colAll_exW6!ID4:RY12/2^6, 0))","v":4},{"$f":"IF(im2colAll_exW6!IE4:RZ12 > 0, ROUNDDOWN(im2colAll_exW6!IE4:RZ12/2^6, 0), ROUNDUP(im2colAll_exW6!IE4:RZ12/2^6, 0))","v":1},{"$f":"IF(im2colAll_exW6!IF4:SA12 > 0, ROUNDDOWN(im2colAll_exW6!IF4:SA12/2^6, 0), ROUNDUP(im2colAll_exW6!IF4:SA12/2^6, 0))","v":-2},{"$f":"IF(im2colAll_exW6!IG4:SB12 > 0, ROUNDDOWN(im2colAll_exW6!IG4:SB12/2^6, 0), ROUNDUP(im2colAll_exW6!IG4:SB12/2^6, 0))","v":0},{"$f":"IF(im2colAll_exW6!IH4:SC12 > 0, ROUNDDOWN(im2colAll_exW6!IH4:SC12/2^6, 0), ROUNDUP(im2colAll_exW6!IH4:SC12/2^6, 0))","v":3},{"$f":"IF(im2colAll_exW6!II4:SD12 > 0, ROUNDDOWN(im2colAll_exW6!II4:SD12/2^6, 0), ROUNDUP(im2colAll_exW6!II4:SD12/2^6, 0))","v":-2},{"$f":"IF(im2colAll_exW6!IJ4:SE12 > 0, ROUNDDOWN(im2colAll_exW6!IJ4:SE12/2^6, 0), ROUNDUP(im2colAll_exW6!IJ4:SE12/2^6, 0))","v":-3},{"$f":"IF(im2colAll_exW6!IK4:SF12 > 0, ROUNDDOWN(im2colAll_exW6!IK4:SF12/2^6, 0), ROUNDUP(im2colAll_exW6!IK4:SF12/2^6, 0))","v":-4},{"$f":"IF(im2colAll_exW6!IL4:SG12 > 0, ROUNDDOWN(im2colAll_exW6!IL4:SG12/2^6, 0), ROUNDUP(im2colAll_exW6!IL4:SG12/2^6, 0))","v":18},{"$f":"IF(im2colAll_exW6!IM4:SH12 > 0, ROUNDDOWN(im2colAll_exW6!IM4:SH12/2^6, 0), ROUNDUP(im2colAll_exW6!IM4:SH12/2^6, 0))","v":11},{"$f":"IF(im2colAll_exW6!IN4:SI12 > 0, ROUNDDOWN(im2colAll_exW6!IN4:SI12/2^6, 0), ROUNDUP(im2colAll_exW6!IN4:SI12/2^6, 0))","v":1},{"$f":"IF(im2colAll_exW6!IO4:SJ12 > 0, ROUNDDOWN(im2colAll_exW6!IO4:SJ12/2^6, 0), ROUNDUP(im2colAll_exW6!IO4:SJ12/2^6, 0))","v":-4},{"$f":"IF(im2colAll_exW6!IP4:SK12 > 0, ROUNDDOWN(im2colAll_exW6!IP4:SK12/2^6, 0), ROUNDUP(im2colAll_exW6!IP4:SK12/2^6, 0))","v":6},{"$f":"IF(im2colAll_exW6!IQ4:SL12 > 0, ROUNDDOWN(im2colAll_exW6!IQ4:SL12/2^6, 0), ROUNDUP(im2colAll_exW6!IQ4:SL12/2^6, 0))","v":4},{"$f":"IF(im2colAll_exW6!IR4:SM12 > 0, ROUNDDOWN(im2colAll_exW6!IR4:SM12/2^6, 0), ROUNDUP(im2colAll_exW6!IR4:SM12/2^6, 0))","v":15},{"$f":"IF(im2colAll_exW6!IS4:SN12 > 0, ROUNDDOWN(im2colAll_exW6!IS4:SN12/2^6, 0), ROUNDUP(im2colAll_exW6!IS4:SN12/2^6, 0))","v":4},{"$f":"IF(im2colAll_exW6!IT4:SO12 > 0, ROUNDDOWN(im2colAll_exW6!IT4:SO12/2^6, 0), ROUNDUP(im2colAll_exW6!IT4:SO12/2^6, 0))","v":-10},{"$f":"IF(im2colAll_exW6!IU4:SP12 > 0, ROUNDDOWN(im2colAll_exW6!IU4:SP12/2^6, 0), ROUNDUP(im2colAll_exW6!IU4:SP12/2^6, 0))","v":4},{"$f":"IF(im2colAll_exW6!IV4:SQ12 > 0, ROUNDDOWN(im2colAll_exW6!IV4:SQ12/2^6, 0), ROUNDUP(im2colAll_exW6!IV4:SQ12/2^6, 0))","v":5}]
[{"$f":"IF(im2colAll_exW6!A5:IV13 > 0, ROUNDDOWN(im2colAll_exW6!A5:IV13/2^6, 0), ROUNDUP(im2colAll_exW6!A5:IV13/2^6, 0))","v":19},{"$f":"IF(im2colAll_exW6!B5:IW13 > 0, ROUNDDOWN(im2colAll_exW6!B5:IW13/2^6, 0), ROUNDUP(im2colAll_exW6!B5:IW13/2^6, 0))","v":12},{"$f":"IF(im2colAll_exW6!C5:IX13 > 0, ROUNDDOWN(im2colAll_exW6!C5:IX13/2^6, 0), ROUNDUP(im2colAll_exW6!C5:IX13/2^6, 0))","v":8},{"$f":"IF(im2colAll_exW6!D5:IY13 > 0, ROUNDDOWN(im2colAll_exW6!D5:IY13/2^6, 0), ROUNDUP(im2colAll_exW6!D5:IY13/2^6, 0))","v":3},{"$f":"IF(im2colAll_exW6!E5:IZ13 > 0, ROUNDDOWN(im2colAll_exW6!E5:IZ13/2^6, 0), ROUNDUP(im2colAll_exW6!E5:IZ13/2^6, 0))","v":10},{"$f":"IF(im2colAll_exW6!F5:JA13 > 0, ROUNDDOWN(im2colAll_exW6!F5:JA13/2^6, 0), ROUNDUP(im2colAll_exW6!F5:JA13/2^6, 0))","v":-11},{"$f":"IF(im2colAll_exW6!G5:JB13 > 0, ROUNDDOWN(im2colAll_exW6!G5:JB13/2^6, 0), ROUNDUP(im2colAll_exW6!G5:JB13/2^6, 0))","v":20},{"$f":"IF(im2colAll_exW6!H5:JC13 > 0, ROUNDDOWN(im2colAll_exW6!H5:JC13/2^6, 0), ROUNDUP(im2colAll_exW6!H5:JC13/2^6, 0))","v":-10},{"$f":"IF(im2colAll_exW6!I5:JD13 > 0, ROUNDDOWN(im2colAll_exW6!I5:JD13/2^6, 0), ROUNDUP(im2colAll_exW6!I5:JD13/2^6, 0))","v":13},{"$f":"IF(im2colAll_exW6!J5:JE13 > 0, ROUNDDOWN(im2colAll_exW6!J5:JE13/2^6, 0), ROUNDUP(im2colAll_exW6!J5:JE13/2^6, 0))","v":3},{"$f":"IF(im2colAll_exW6!K5:JF13 > 0, ROUNDDOWN(im2colAll_exW6!K5:JF13/2^6, 0), ROUNDUP(im2colAll_exW6!K5:JF13/2^6, 0))","v":-16},{"$f":"IF(im2colAll_exW6!L5:JG13 > 0, ROUNDDOWN(im2colAll_exW6!L5:JG13/2^6, 0), ROUNDUP(im2colAll_exW6!L5:JG13/2^6, 0))","v":3},{"$f":"IF(im2colAll_exW6!M5:JH13 > 0, ROUNDDOWN(im2colAll_exW6!M5:JH13/2^6, 0), ROUNDUP(im2colAll_exW6!M5:JH13/2^6, 0))","v":-9},{"$f":"IF(im2colAll_exW6!N5:JI13 > 0, ROUNDDOWN(im2colAll_exW6!N5:JI13/2^6, 0), ROUNDUP(im2colAll_exW6!N5:JI13/2^6, 0))","v":-1},{"$f":"IF(im2colAll_exW6!O5:JJ13 > 0, ROUNDDOWN(im2colAll_exW6!O5:JJ13/2^6, 0), ROUNDUP(im2colAll_exW6!O5:JJ13/2^6, 0))","v":12},{"$f":"IF(im2colAll_exW6!P5:JK13 > 0, ROUNDDOWN(im2colAll_exW6!P5:JK13/2^6, 0), ROUNDUP(im2colAll_exW6!P5:JK13/2^6, 0))","v":7},{"$f":"IF(im2colAll_exW6!Q5:JL13 > 0, ROUNDDOWN(im2colAll_exW6!Q5:JL13/2^6, 0), ROUNDUP(im2colAll_exW6!Q5:JL13/2^6, 0))","v":-7},{"$f":"IF(im2colAll_exW6!R5:JM13 > 0, ROUNDDOWN(im2colAll_exW6!R5:JM13/2^6, 0), ROUNDUP(im2colAll_exW6!R5:JM13/2^6, 0))","v":-5},{"$f":"IF(im2colAll_exW6!S5:JN13 > 0, ROUNDDOWN(im2colAll_exW6!S5:JN13/2^6, 0), ROUNDUP(im2colAll_exW6!S5:JN13/2^6, 0))","v":3},{"$f":"IF(im2colAll_exW6!T5:JO13 > 0, ROUNDDOWN(im2colAll_exW6!T5:JO13/2^6, 0), ROUNDUP(im2colAll_exW6!T5:JO13/2^6, 0))","v":8},{"$f":"IF(im2colAll_exW6!U5:JP13 > 0, ROUNDDOWN(im2colAll_exW6!U5:JP13/2^6, 0), ROUNDUP(im2colAll_exW6!U5:JP13/2^6, 0))","v":15},{"$f":"IF(im2colAll_exW6!V5:JQ13 > 0, ROUNDDOWN(im2colAll_exW6!V5:JQ13/2^6, 0), ROUNDUP(im2colAll_exW6!V5:JQ13/2^6, 0))","v":8},{"$f":"IF(im2colAll_exW6!W5:JR13 > 0, ROUNDDOWN(im2colAll_exW6!W5:JR13/2^6, 0), ROUNDUP(im2colAll_exW6!W5:JR13/2^6, 0))","v":-3},{"$f":"IF(im2colAll_exW6!X5:JS13 > 0, ROUNDDOWN(im2colAll_exW6!X5:JS13/2^6, 0), ROUNDUP(im2colAll_exW6!X5:JS13/2^6, 0))","v":7},{"$f":"IF(im2colAll_exW6!Y5:JT13 > 0, ROUNDDOWN(im2colAll_exW6!Y5:JT13/2^6, 0), ROUNDUP(im2colAll_exW6!Y5:JT13/2^6, 0))","v":8},{"$f":"IF(im2colAll_exW6!Z5:JU13 > 0, ROUNDDOWN(im2colAll_exW6!Z5:JU13/2^6, 0), ROUNDUP(im2colAll_exW6!Z5:JU13/2^6, 0))","v":-13},{"$f":"IF(im2colAll_exW6!AA5:JV13 > 0, ROUNDDOWN(im2colAll_exW6!AA5:JV13/2^6, 0), ROUNDUP(im2colAll_exW6!AA5:JV13/2^6, 0))","v":1},{"$f":"IF(im2colAll_exW6!AB5:JW13 > 0, ROUNDDOWN(im2colAll_exW6!AB5:JW13/2^6, 0), ROUNDUP(im2colAll_exW6!AB5:JW13/2^6, 0))","v":2},{"$f":"IF(im2colAll_exW6!AC5:JX13 > 0, ROUNDDOWN(im2colAll_exW6!AC5:JX13/2^6, 0), ROUNDUP(im2colAll_exW6!AC5:JX13/2^6, 0))","v":8},{"$f":"IF(im2colAll_exW6!AD5:JY13 > 0, ROUNDDOWN(im2colAll_exW6!AD5:JY13/2^6, 0), ROUNDUP(im2colAll_exW6!AD5:JY13/2^6, 0))","v":-6},{"$f":"IF(im2colAll_exW6!AE5:JZ13 > 0, ROUNDDOWN(im2colAll_exW6!AE5:JZ13/2^6, 0), ROUNDUP(im2colAll_exW6!AE5:JZ13/2^6, 0))","v":24},{"$f":"IF(im2colAll_exW6!AF5:KA13 > 0, ROUNDDOWN(im2colAll_exW6!AF5:KA13/2^6, 0), ROUNDUP(im2colAll_exW6!AF5:KA13/2^6, 0))","v":1},{"$f":"IF(im2colAll_exW6!AG5:KB13 > 0, ROUNDDOWN(im2colAll_exW6!AG5:KB13/2^6, 0), ROUNDUP(im2colAll_exW6!AG5:KB13/2^6, 0))","v":3},{"$f":"IF(im2colAll_exW6!AH5:KC13 > 0, ROUNDDOWN(im2colAll_exW6!AH5:KC13/2^6, 0), ROUNDUP(im2colAll_exW6!AH5:KC13/2^6, 0))","v":1},{"$f":"IF(im2colAll_exW6!AI5:KD13 > 0, ROUNDDOWN(im2colAll_exW6!AI5:KD13/2^6, 0), ROUNDUP(im2colAll_exW6!AI5:KD13/2^6, 0))","v":4},{"$f":"IF(im2colAll_exW6!AJ5:KE13 > 0, ROUNDDOWN(im2colAll_exW6!AJ5:KE13/2^6, 0), ROUNDUP(im2colAll_exW6!AJ5:KE13/2^6, 0))","v":7},{"$f":"IF(im2colAll_exW6!AK5:KF13 > 0, ROUNDDOWN(im2colAll_exW6!AK5:KF13/2^6, 0), ROUNDUP(im2colAll_exW6!AK5:KF13/2^6, 0))","v":-1},{"$f":"IF(im2colAll_exW6!AL5:KG13 > 0, ROUNDDOWN(im2colAll_exW6!AL5:KG13/2^6, 0), ROUNDUP(im2colAll_exW6!AL5:KG13/2^6, 0))","v":5},{"$f":"IF(im2colAll_exW6!AM5:KH13 > 0, ROUNDDOWN(im2colAll_exW6!AM5:KH13/2^6, 0), ROUNDUP(im2colAll_exW6!AM5:KH13/2^6, 0))","v":0},{"$f":"IF(im2colAll_exW6!AN5:KI13 > 0, ROUNDDOWN(im2colAll_exW6!AN5:KI13/2^6, 0), ROUNDUP(im2colAll_exW6!AN5:KI13/2^6, 0))","v":-11},{"$f":"IF(im2colAll_exW6!AO5:KJ13 > 0, ROUNDDOWN(im2colAll_exW6!AO5:KJ13/2^6, 0), ROUNDUP(im2colAll_exW6!AO5:KJ13/2^6, 0))","v":-1},{"$f":"IF(im2colAll_exW6!AP5:KK13 > 0, ROUNDDOWN(im2colAll_exW6!AP5:KK13/2^6, 0), ROUNDUP(im2colAll_exW6!AP5:KK13/2^6, 0))","v":5},{"$f":"IF(im2colAll_exW6!AQ5:KL13 > 0, ROUNDDOWN(im2colAll_exW6!AQ5:KL13/2^6, 0), ROUNDUP(im2colAll_exW6!AQ5:KL13/2^6, 0))","v":-13},{"$f":"IF(im2colAll_exW6!AR5:KM13 > 0, ROUNDDOWN(im2colAll_exW6!AR5:KM13/2^6, 0), ROUNDUP(im2colAll_exW6!AR5:KM13/2^6, 0))","v":-5},{"$f":"IF(im2colAll_exW6!AS5:KN13 > 0, ROUNDDOWN(im2colAll_exW6!AS5:KN13/2^6, 0), ROUNDUP(im2colAll_exW6!AS5:KN13/2^6, 0))","v":-3},{"$f":"IF(im2colAll_exW6!AT5:KO13 > 0, ROUNDDOWN(im2colAll_exW6!AT5:KO13/2^6, 0), ROUNDUP(im2colAll_exW6!AT5:KO13/2^6, 0))","v":-7},{"$f":"IF(im2colAll_exW6!AU5:KP13 > 0, ROUNDDOWN(im2colAll_exW6!AU5:KP13/2^6, 0), ROUNDUP(im2colAll_exW6!AU5:KP13/2^6, 0))","v":-7},{"$f":"IF(im2colAll_exW6!AV5:KQ13 > 0, ROUNDDOWN(im2colAll_exW6!AV5:KQ13/2^6, 0), ROUNDUP(im2colAll_exW6!AV5:KQ13/2^6, 0))","v":-1},{"$f":"IF(im2colAll_exW6!AW5:KR13 > 0, ROUNDDOWN(im2colAll_exW6!AW5:KR13/2^6, 0), ROUNDUP(im2colAll_exW6!AW5:KR13/2^6, 0))","v":14},{"$f":"IF(im2colAll_exW6!AX5:KS13 > 0, ROUNDDOWN(im2colAll_exW6!AX5:KS13/2^6, 0), ROUNDUP(im2colAll_exW6!AX5:KS13/2^6, 0))","v":-2},{"$f":"IF(im2colAll_exW6!AY5:KT13 > 0, ROUNDDOWN(im2colAll_exW6!AY5:KT13/2^6, 0), ROUNDUP(im2colAll_exW6!AY5:KT13/2^6, 0))","v":5},{"$f":"IF(im2colAll_exW6!AZ5:KU13 > 0, ROUNDDOWN(im2colAll_exW6!AZ5:KU13/2^6, 0), ROUNDUP(im2colAll_exW6!AZ5:KU13/2^6, 0))","v":6},{"$f":"IF(im2colAll_exW6!BA5:KV13 > 0, ROUNDDOWN(im2colAll_exW6!BA5:KV13/2^6, 0), ROUNDUP(im2colAll_exW6!BA5:KV13/2^6, 0))","v":-7},{"$f":"IF(im2colAll_exW6!BB5:KW13 > 0, ROUNDDOWN(im2colAll_exW6!BB5:KW13/2^6, 0), ROUNDUP(im2colAll_exW6!BB5:KW13/2^6, 0))","v":-3},{"$f":"IF(im2colAll_exW6!BC5:KX13 > 0, ROUNDDOWN(im2colAll_exW6!BC5:KX13/2^6, 0), ROUNDUP(im2colAll_exW6!BC5:KX13/2^6, 0))","v":14},{"$f":"IF(im2colAll_exW6!BD5:KY13 > 0, ROUNDDOWN(im2colAll_exW6!BD5:KY13/2^6, 0), ROUNDUP(im2colAll_exW6!BD5:KY13/2^6, 0))","v":0},{"$f":"IF(im2colAll_exW6!BE5:KZ13 > 0, ROUNDDOWN(im2colAll_exW6!BE5:KZ13/2^6, 0), ROUNDUP(im2colAll_exW6!BE5:KZ13/2^6, 0))","v":-1},{"$f":"IF(im2colAll_exW6!BF5:LA13 > 0, ROUNDDOWN(im2colAll_exW6!BF5:LA13/2^6, 0), ROUNDUP(im2colAll_exW6!BF5:LA13/2^6, 0))","v":-2},{"$f":"IF(im2colAll_exW6!BG5:LB13 > 0, ROUNDDOWN(im2colAll_exW6!BG5:LB13/2^6, 0), ROUNDUP(im2colAll_exW6!BG5:LB13/2^6, 0))","v":12},{"$f":"IF(im2colAll_exW6!BH5:LC13 > 0, ROUNDDOWN(im2colAll_exW6!BH5:LC13/2^6, 0), ROUNDUP(im2colAll_exW6!BH5:LC13/2^6, 0))","v":14},{"$f":"IF(im2colAll_exW6!BI5:LD13 > 0, ROUNDDOWN(im2colAll_exW6!BI5:LD13/2^6, 0), ROUNDUP(im2colAll_exW6!BI5:LD13/2^6, 0))","v":16},{"$f":"IF(im2colAll_exW6!BJ5:LE13 > 0, ROUNDDOWN(im2colAll_exW6!BJ5:LE13/2^6, 0), ROUNDUP(im2colAll_exW6!BJ5:LE13/2^6, 0))","v":-9},{"$f":"IF(im2colAll_exW6!BK5:LF13 > 0, ROUNDDOWN(im2colAll_exW6!BK5:LF13/2^6, 0), ROUNDUP(im2colAll_exW6!BK5:LF13/2^6, 0))","v":-6},{"$f":"IF(im2colAll_exW6!BL5:LG13 > 0, ROUNDDOWN(im2colAll_exW6!BL5:LG13/2^6, 0), ROUNDUP(im2colAll_exW6!BL5:LG13/2^6, 0))","v":-2},{"$f":"IF(im2colAll_exW6!BM5:LH13 > 0, ROUNDDOWN(im2colAll_exW6!BM5:LH13/2^6, 0), ROUNDUP(im2colAll_exW6!BM5:LH13/2^6, 0))","v":-2},{"$f":"IF(im2colAll_exW6!BN5:LI13 > 0, ROUNDDOWN(im2colAll_exW6!BN5:LI13/2^6, 0), ROUNDUP(im2colAll_exW6!BN5:LI13/2^6, 0))","v":3},{"$f":"IF(im2colAll_exW6!BO5:LJ13 > 0, ROUNDDOWN(im2colAll_exW6!BO5:LJ13/2^6, 0), ROUNDUP(im2colAll_exW6!BO5:LJ13/2^6, 0))","v":-2},{"$f":"IF(im2colAll_exW6!BP5:LK13 > 0, ROUNDDOWN(im2colAll_exW6!BP5:LK13/2^6, 0), ROUNDUP(im2colAll_exW6!BP5:LK13/2^6, 0))","v":-5},{"$f":"IF(im2colAll_exW6!BQ5:LL13 > 0, ROUNDDOWN(im2colAll_exW6!BQ5:LL13/2^6, 0), ROUNDUP(im2colAll_exW6!BQ5:LL13/2^6, 0))","v":0},{"$f":"IF(im2colAll_exW6!BR5:LM13 > 0, ROUNDDOWN(im2colAll_exW6!BR5:LM13/2^6, 0), ROUNDUP(im2colAll_exW6!BR5:LM13/2^6, 0))","v":18},{"$f":"IF(im2colAll_exW6!BS5:LN13 > 0, ROUNDDOWN(im2colAll_exW6!BS5:LN13/2^6, 0), ROUNDUP(im2colAll_exW6!BS5:LN13/2^6, 0))","v":10},{"$f":"IF(im2colAll_exW6!BT5:LO13 > 0, ROUNDDOWN(im2colAll_exW6!BT5:LO13/2^6, 0), ROUNDUP(im2colAll_exW6!BT5:LO13/2^6, 0))","v":-11},{"$f":"IF(im2colAll_exW6!BU5:LP13 > 0, ROUNDDOWN(im2colAll_exW6!BU5:LP13/2^6, 0), ROUNDUP(im2colAll_exW6!BU5:LP13/2^6, 0))","v":9},{"$f":"IF(im2colAll_exW6!BV5:LQ13 > 0, ROUNDDOWN(im2colAll_exW6!BV5:LQ13/2^6, 0), ROUNDUP(im2colAll_exW6!BV5:LQ13/2^6, 0))","v":13},{"$f":"IF(im2colAll_exW6!BW5:LR13 > 0, ROUNDDOWN(im2colAll_exW6!BW5:LR13/2^6, 0), ROUNDUP(im2colAll_exW6!BW5:LR13/2^6, 0))","v":8},{"$f":"IF(im2colAll_exW6!BX5:LS13 > 0, ROUNDDOWN(im2colAll_exW6!BX5:LS13/2^6, 0), ROUNDUP(im2colAll_exW6!BX5:LS13/2^6, 0))","v":5},{"$f":"IF(im2colAll_exW6!BY5:LT13 > 0, ROUNDDOWN(im2colAll_exW6!BY5:LT13/2^6, 0), ROUNDUP(im2colAll_exW6!BY5:LT13/2^6, 0))","v":-7},{"$f":"IF(im2colAll_exW6!BZ5:LU13 > 0, ROUNDDOWN(im2colAll_exW6!BZ5:LU13/2^6, 0), ROUNDUP(im2colAll_exW6!BZ5:LU13/2^6, 0))","v":0},{"$f":"IF(im2colAll_exW6!CA5:LV13 > 0, ROUNDDOWN(im2colAll_exW6!CA5:LV13/2^6, 0), ROUNDUP(im2colAll_exW6!CA5:LV13/2^6, 0))","v":-6},{"$f":"IF(im2colAll_exW6!CB5:LW13 > 0, ROUNDDOWN(im2colAll_exW6!CB5:LW13/2^6, 0), ROUNDUP(im2colAll_exW6!CB5:LW13/2^6, 0))","v":-7},{"$f":"IF(im2colAll_exW6!CC5:LX13 > 0, ROUNDDOWN(im2colAll_exW6!CC5:LX13/2^6, 0), ROUNDUP(im2colAll_exW6!CC5:LX13/2^6, 0))","v":4},{"$f":"IF(im2colAll_exW6!CD5:LY13 > 0, ROUNDDOWN(im2colAll_exW6!CD5:LY13/2^6, 0), ROUNDUP(im2colAll_exW6!CD5:LY13/2^6, 0))","v":-10},{"$f":"IF(im2colAll_exW6!CE5:LZ13 > 0, ROUNDDOWN(im2colAll_exW6!CE5:LZ13/2^6, 0), ROUNDUP(im2colAll_exW6!CE5:LZ13/2^6, 0))","v":-5},{"$f":"IF(im2colAll_exW6!CF5:MA13 > 0, ROUNDDOWN(im2colAll_exW6!CF5:MA13/2^6, 0), ROUNDUP(im2colAll_exW6!CF5:MA13/2^6, 0))","v":18},{"$f":"IF(im2colAll_exW6!CG5:MB13 > 0, ROUNDDOWN(im2colAll_exW6!CG5:MB13/2^6, 0), ROUNDUP(im2colAll_exW6!CG5:MB13/2^6, 0))","v":10},{"$f":"IF(im2colAll_exW6!CH5:MC13 > 0, ROUNDDOWN(im2colAll_exW6!CH5:MC13/2^6, 0), ROUNDUP(im2colAll_exW6!CH5:MC13/2^6, 0))","v":-5},{"$f":"IF(im2colAll_exW6!CI5:MD13 > 0, ROUNDDOWN(im2colAll_exW6!CI5:MD13/2^6, 0), ROUNDUP(im2colAll_exW6!CI5:MD13/2^6, 0))","v":15},{"$f":"IF(im2colAll_exW6!CJ5:ME13 > 0, ROUNDDOWN(im2colAll_exW6!CJ5:ME13/2^6, 0), ROUNDUP(im2colAll_exW6!CJ5:ME13/2^6, 0))","v":6},{"$f":"IF(im2colAll_exW6!CK5:MF13 > 0, ROUNDDOWN(im2colAll_exW6!CK5:MF13/2^6, 0), ROUNDUP(im2colAll_exW6!CK5:MF13/2^6, 0))","v":20},{"$f":"IF(im2colAll_exW6!CL5:MG13 > 0, ROUNDDOWN(im2colAll_exW6!CL5:MG13/2^6, 0), ROUNDUP(im2colAll_exW6!CL5:MG13/2^6, 0))","v":9},{"$f":"IF(im2colAll_exW6!CM5:MH13 > 0, ROUNDDOWN(im2colAll_exW6!CM5:MH13/2^6, 0), ROUNDUP(im2colAll_exW6!CM5:MH13/2^6, 0))","v":-8},{"$f":"IF(im2colAll_exW6!CN5:MI13 > 0, ROUNDDOWN(im2colAll_exW6!CN5:MI13/2^6, 0), ROUNDUP(im2colAll_exW6!CN5:MI13/2^6, 0))","v":3},{"$f":"IF(im2colAll_exW6!CO5:MJ13 > 0, ROUNDDOWN(im2colAll_exW6!CO5:MJ13/2^6, 0), ROUNDUP(im2colAll_exW6!CO5:MJ13/2^6, 0))","v":8},{"$f":"IF(im2colAll_exW6!CP5:MK13 > 0, ROUNDDOWN(im2colAll_exW6!CP5:MK13/2^6, 0), ROUNDUP(im2colAll_exW6!CP5:MK13/2^6, 0))","v":-7},{"$f":"IF(im2colAll_exW6!CQ5:ML13 > 0, ROUNDDOWN(im2colAll_exW6!CQ5:ML13/2^6, 0), ROUNDUP(im2colAll_exW6!CQ5:ML13/2^6, 0))","v":9},{"$f":"IF(im2colAll_exW6!CR5:MM13 > 0, ROUNDDOWN(im2colAll_exW6!CR5:MM13/2^6, 0), ROUNDUP(im2colAll_exW6!CR5:MM13/2^6, 0))","v":16},{"$f":"IF(im2colAll_exW6!CS5:MN13 > 0, ROUNDDOWN(im2colAll_exW6!CS5:MN13/2^6, 0), ROUNDUP(im2colAll_exW6!CS5:MN13/2^6, 0))","v":15},{"$f":"IF(im2colAll_exW6!CT5:MO13 > 0, ROUNDDOWN(im2colAll_exW6!CT5:MO13/2^6, 0), ROUNDUP(im2colAll_exW6!CT5:MO13/2^6, 0))","v":0},{"$f":"IF(im2colAll_exW6!CU5:MP13 > 0, ROUNDDOWN(im2colAll_exW6!CU5:MP13/2^6, 0), ROUNDUP(im2colAll_exW6!CU5:MP13/2^6, 0))","v":-1},{"$f":"IF(im2colAll_exW6!CV5:MQ13 > 0, ROUNDDOWN(im2colAll_exW6!CV5:MQ13/2^6, 0), ROUNDUP(im2colAll_exW6!CV5:MQ13/2^6, 0))","v":8},{"$f":"IF(im2colAll_exW6!CW5:MR13 > 0, ROUNDDOWN(im2colAll_exW6!CW5:MR13/2^6, 0), ROUNDUP(im2colAll_exW6!CW5:MR13/2^6, 0))","v":-1},{"$f":"IF(im2colAll_exW6!CX5:MS13 > 0, ROUNDDOWN(im2colAll_exW6!CX5:MS13/2^6, 0), ROUNDUP(im2colAll_exW6!CX5:MS13/2^6, 0))","v":10},{"$f":"IF(im2colAll_exW6!CY5:MT13 > 0, ROUNDDOWN(im2colAll_exW6!CY5:MT13/2^6, 0), ROUNDUP(im2colAll_exW6!CY5:MT13/2^6, 0))","v":-12},{"$f":"IF(im2colAll_exW6!CZ5:MU13 > 0, ROUNDDOWN(im2colAll_exW6!CZ5:MU13/2^6, 0), ROUNDUP(im2colAll_exW6!CZ5:MU13/2^6, 0))","v":-2},{"$f":"IF(im2colAll_exW6!DA5:MV13 > 0, ROUNDDOWN(im2colAll_exW6!DA5:MV13/2^6, 0), ROUNDUP(im2colAll_exW6!DA5:MV13/2^6, 0))","v":9},{"$f":"IF(im2colAll_exW6!DB5:MW13 > 0, ROUNDDOWN(im2colAll_exW6!DB5:MW13/2^6, 0), ROUNDUP(im2colAll_exW6!DB5:MW13/2^6, 0))","v":1},{"$f":"IF(im2colAll_exW6!DC5:MX13 > 0, ROUNDDOWN(im2colAll_exW6!DC5:MX13/2^6, 0), ROUNDUP(im2colAll_exW6!DC5:MX13/2^6, 0))","v":-3},{"$f":"IF(im2colAll_exW6!DD5:MY13 > 0, ROUNDDOWN(im2colAll_exW6!DD5:MY13/2^6, 0), ROUNDUP(im2colAll_exW6!DD5:MY13/2^6, 0))","v":-2},{"$f":"IF(im2colAll_exW6!DE5:MZ13 > 0, ROUNDDOWN(im2colAll_exW6!DE5:MZ13/2^6, 0), ROUNDUP(im2colAll_exW6!DE5:MZ13/2^6, 0))","v":21},{"$f":"IF(im2colAll_exW6!DF5:NA13 > 0, ROUNDDOWN(im2colAll_exW6!DF5:NA13/2^6, 0), ROUNDUP(im2colAll_exW6!DF5:NA13/2^6, 0))","v":-8},{"$f":"IF(im2colAll_exW6!DG5:NB13 > 0, ROUNDDOWN(im2colAll_exW6!DG5:NB13/2^6, 0), ROUNDUP(im2colAll_exW6!DG5:NB13/2^6, 0))","v":-6},{"$f":"IF(im2colAll_exW6!DH5:NC13 > 0, ROUNDDOWN(im2colAll_exW6!DH5:NC13/2^6, 0), ROUNDUP(im2colAll_exW6!DH5:NC13/2^6, 0))","v":2},{"$f":"IF(im2colAll_exW6!DI5:ND13 > 0, ROUNDDOWN(im2colAll_exW6!DI5:ND13/2^6, 0), ROUNDUP(im2colAll_exW6!DI5:ND13/2^6, 0))","v":-18},{"$f":"IF(im2colAll_exW6!DJ5:NE13 > 0, ROUNDDOWN(im2colAll_exW6!DJ5:NE13/2^6, 0), ROUNDUP(im2colAll_exW6!DJ5:NE13/2^6, 0))","v":-12},{"$f":"IF(im2colAll_exW6!DK5:NF13 > 0, ROUNDDOWN(im2colAll_exW6!DK5:NF13/2^6, 0), ROUNDUP(im2colAll_exW6!DK5:NF13/2^6, 0))","v":0},{"$f":"IF(im2colAll_exW6!DL5:NG13 > 0, ROUNDDOWN(im2colAll_exW6!DL5:NG13/2^6, 0), ROUNDUP(im2colAll_exW6!DL5:NG13/2^6, 0))","v":13},{"$f":"IF(im2colAll_exW6!DM5:NH13 > 0, ROUNDDOWN(im2colAll_exW6!DM5:NH13/2^6, 0), ROUNDUP(im2colAll_exW6!DM5:NH13/2^6, 0))","v":-2},{"$f":"IF(im2colAll_exW6!DN5:NI13 > 0, ROUNDDOWN(im2colAll_exW6!DN5:NI13/2^6, 0), ROUNDUP(im2colAll_exW6!DN5:NI13/2^6, 0))","v":16},{"$f":"IF(im2colAll_exW6!DO5:NJ13 > 0, ROUNDDOWN(im2colAll_exW6!DO5:NJ13/2^6, 0), ROUNDUP(im2colAll_exW6!DO5:NJ13/2^6, 0))","v":-2},{"$f":"IF(im2colAll_exW6!DP5:NK13 > 0, ROUNDDOWN(im2colAll_exW6!DP5:NK13/2^6, 0), ROUNDUP(im2colAll_exW6!DP5:NK13/2^6, 0))","v":17},{"$f":"IF(im2colAll_exW6!DQ5:NL13 > 0, ROUNDDOWN(im2colAll_exW6!DQ5:NL13/2^6, 0), ROUNDUP(im2colAll_exW6!DQ5:NL13/2^6, 0))","v":-7},{"$f":"IF(im2colAll_exW6!DR5:NM13 > 0, ROUNDDOWN(im2colAll_exW6!DR5:NM13/2^6, 0), ROUNDUP(im2colAll_exW6!DR5:NM13/2^6, 0))","v":-12},{"$f":"IF(im2colAll_exW6!DS5:NN13 > 0, ROUNDDOWN(im2colAll_exW6!DS5:NN13/2^6, 0), ROUNDUP(im2colAll_exW6!DS5:NN13/2^6, 0))","v":-3},{"$f":"IF(im2colAll_exW6!DT5:NO13 > 0, ROUNDDOWN(im2colAll_exW6!DT5:NO13/2^6, 0), ROUNDUP(im2colAll_exW6!DT5:NO13/2^6, 0))","v":10},{"$f":"IF(im2colAll_exW6!DU5:NP13 > 0, ROUNDDOWN(im2colAll_exW6!DU5:NP13/2^6, 0), ROUNDUP(im2colAll_exW6!DU5:NP13/2^6, 0))","v":13},{"$f":"IF(im2colAll_exW6!DV5:NQ13 > 0, ROUNDDOWN(im2colAll_exW6!DV5:NQ13/2^6, 0), ROUNDUP(im2colAll_exW6!DV5:NQ13/2^6, 0))","v":3},{"$f":"IF(im2colAll_exW6!DW5:NR13 > 0, ROUNDDOWN(im2colAll_exW6!DW5:NR13/2^6, 0), ROUNDUP(im2colAll_exW6!DW5:NR13/2^6, 0))","v":-3},{"$f":"IF(im2colAll_exW6!DX5:NS13 > 0, ROUNDDOWN(im2colAll_exW6!DX5:NS13/2^6, 0), ROUNDUP(im2colAll_exW6!DX5:NS13/2^6, 0))","v":-10},{"$f":"IF(im2colAll_exW6!DY5:NT13 > 0, ROUNDDOWN(im2colAll_exW6!DY5:NT13/2^6, 0), ROUNDUP(im2colAll_exW6!DY5:NT13/2^6, 0))","v":-7},{"$f":"IF(im2colAll_exW6!DZ5:NU13 > 0, ROUNDDOWN(im2colAll_exW6!DZ5:NU13/2^6, 0), ROUNDUP(im2colAll_exW6!DZ5:NU13/2^6, 0))","v":8},{"$f":"IF(im2colAll_exW6!EA5:NV13 > 0, ROUNDDOWN(im2colAll_exW6!EA5:NV13/2^6, 0), ROUNDUP(im2colAll_exW6!EA5:NV13/2^6, 0))","v":1},{"$f":"IF(im2colAll_exW6!EB5:NW13 > 0, ROUNDDOWN(im2colAll_exW6!EB5:NW13/2^6, 0), ROUNDUP(im2colAll_exW6!EB5:NW13/2^6, 0))","v":-5},{"$f":"IF(im2colAll_exW6!EC5:NX13 > 0, ROUNDDOWN(im2colAll_exW6!EC5:NX13/2^6, 0), ROUNDUP(im2colAll_exW6!EC5:NX13/2^6, 0))","v":1},{"$f":"IF(im2colAll_exW6!ED5:NY13 > 0, ROUNDDOWN(im2colAll_exW6!ED5:NY13/2^6, 0), ROUNDUP(im2colAll_exW6!ED5:NY13/2^6, 0))","v":8},{"$f":"IF(im2colAll_exW6!EE5:NZ13 > 0, ROUNDDOWN(im2colAll_exW6!EE5:NZ13/2^6, 0), ROUNDUP(im2colAll_exW6!EE5:NZ13/2^6, 0))","v":4},{"$f":"IF(im2colAll_exW6!EF5:OA13 > 0, ROUNDDOWN(im2colAll_exW6!EF5:OA13/2^6, 0), ROUNDUP(im2colAll_exW6!EF5:OA13/2^6, 0))","v":-1},{"$f":"IF(im2colAll_exW6!EG5:OB13 > 0, ROUNDDOWN(im2colAll_exW6!EG5:OB13/2^6, 0), ROUNDUP(im2colAll_exW6!EG5:OB13/2^6, 0))","v":16},{"$f":"IF(im2colAll_exW6!EH5:OC13 > 0, ROUNDDOWN(im2colAll_exW6!EH5:OC13/2^6, 0), ROUNDUP(im2colAll_exW6!EH5:OC13/2^6, 0))","v":-8},{"$f":"IF(im2colAll_exW6!EI5:OD13 > 0, ROUNDDOWN(im2colAll_exW6!EI5:OD13/2^6, 0), ROUNDUP(im2colAll_exW6!EI5:OD13/2^6, 0))","v":-2},{"$f":"IF(im2colAll_exW6!EJ5:OE13 > 0, ROUNDDOWN(im2colAll_exW6!EJ5:OE13/2^6, 0), ROUNDUP(im2colAll_exW6!EJ5:OE13/2^6, 0))","v":-5},{"$f":"IF(im2colAll_exW6!EK5:OF13 > 0, ROUNDDOWN(im2colAll_exW6!EK5:OF13/2^6, 0), ROUNDUP(im2colAll_exW6!EK5:OF13/2^6, 0))","v":4},{"$f":"IF(im2colAll_exW6!EL5:OG13 > 0, ROUNDDOWN(im2colAll_exW6!EL5:OG13/2^6, 0), ROUNDUP(im2colAll_exW6!EL5:OG13/2^6, 0))","v":1},{"$f":"IF(im2colAll_exW6!EM5:OH13 > 0, ROUNDDOWN(im2colAll_exW6!EM5:OH13/2^6, 0), ROUNDUP(im2colAll_exW6!EM5:OH13/2^6, 0))","v":9},{"$f":"IF(im2colAll_exW6!EN5:OI13 > 0, ROUNDDOWN(im2colAll_exW6!EN5:OI13/2^6, 0), ROUNDUP(im2colAll_exW6!EN5:OI13/2^6, 0))","v":1},{"$f":"IF(im2colAll_exW6!EO5:OJ13 > 0, ROUNDDOWN(im2colAll_exW6!EO5:OJ13/2^6, 0), ROUNDUP(im2colAll_exW6!EO5:OJ13/2^6, 0))","v":9},{"$f":"IF(im2colAll_exW6!EP5:OK13 > 0, ROUNDDOWN(im2colAll_exW6!EP5:OK13/2^6, 0), ROUNDUP(im2colAll_exW6!EP5:OK13/2^6, 0))","v":-14},{"$f":"IF(im2colAll_exW6!EQ5:OL13 > 0, ROUNDDOWN(im2colAll_exW6!EQ5:OL13/2^6, 0), ROUNDUP(im2colAll_exW6!EQ5:OL13/2^6, 0))","v":-16},{"$f":"IF(im2colAll_exW6!ER5:OM13 > 0, ROUNDDOWN(im2colAll_exW6!ER5:OM13/2^6, 0), ROUNDUP(im2colAll_exW6!ER5:OM13/2^6, 0))","v":13},{"$f":"IF(im2colAll_exW6!ES5:ON13 > 0, ROUNDDOWN(im2colAll_exW6!ES5:ON13/2^6, 0), ROUNDUP(im2colAll_exW6!ES5:ON13/2^6, 0))","v":3},{"$f":"IF(im2colAll_exW6!ET5:OO13 > 0, ROUNDDOWN(im2colAll_exW6!ET5:OO13/2^6, 0), ROUNDUP(im2colAll_exW6!ET5:OO13/2^6, 0))","v":22},{"$f":"IF(im2colAll_exW6!EU5:OP13 > 0, ROUNDDOWN(im2colAll_exW6!EU5:OP13/2^6, 0), ROUNDUP(im2colAll_exW6!EU5:OP13/2^6, 0))","v":-2},{"$f":"IF(im2colAll_exW6!EV5:OQ13 > 0, ROUNDDOWN(im2colAll_exW6!EV5:OQ13/2^6, 0), ROUNDUP(im2colAll_exW6!EV5:OQ13/2^6, 0))","v":0},{"$f":"IF(im2colAll_exW6!EW5:OR13 > 0, ROUNDDOWN(im2colAll_exW6!EW5:OR13/2^6, 0), ROUNDUP(im2colAll_exW6!EW5:OR13/2^6, 0))","v":12},{"$f":"IF(im2colAll_exW6!EX5:OS13 > 0, ROUNDDOWN(im2colAll_exW6!EX5:OS13/2^6, 0), ROUNDUP(im2colAll_exW6!EX5:OS13/2^6, 0))","v":7},{"$f":"IF(im2colAll_exW6!EY5:OT13 > 0, ROUNDDOWN(im2colAll_exW6!EY5:OT13/2^6, 0), ROUNDUP(im2colAll_exW6!EY5:OT13/2^6, 0))","v":15},{"$f":"IF(im2colAll_exW6!EZ5:OU13 > 0, ROUNDDOWN(im2colAll_exW6!EZ5:OU13/2^6, 0), ROUNDUP(im2colAll_exW6!EZ5:OU13/2^6, 0))","v":13},{"$f":"IF(im2colAll_exW6!FA5:OV13 > 0, ROUNDDOWN(im2colAll_exW6!FA5:OV13/2^6, 0), ROUNDUP(im2colAll_exW6!FA5:OV13/2^6, 0))","v":0},{"$f":"IF(im2colAll_exW6!FB5:OW13 > 0, ROUNDDOWN(im2colAll_exW6!FB5:OW13/2^6, 0), ROUNDUP(im2colAll_exW6!FB5:OW13/2^6, 0))","v":15},{"$f":"IF(im2colAll_exW6!FC5:OX13 > 0, ROUNDDOWN(im2colAll_exW6!FC5:OX13/2^6, 0), ROUNDUP(im2colAll_exW6!FC5:OX13/2^6, 0))","v":-3},{"$f":"IF(im2colAll_exW6!FD5:OY13 > 0, ROUNDDOWN(im2colAll_exW6!FD5:OY13/2^6, 0), ROUNDUP(im2colAll_exW6!FD5:OY13/2^6, 0))","v":8},{"$f":"IF(im2colAll_exW6!FE5:OZ13 > 0, ROUNDDOWN(im2colAll_exW6!FE5:OZ13/2^6, 0), ROUNDUP(im2colAll_exW6!FE5:OZ13/2^6, 0))","v":9},{"$f":"IF(im2colAll_exW6!FF5:PA13 > 0, ROUNDDOWN(im2colAll_exW6!FF5:PA13/2^6, 0), ROUNDUP(im2colAll_exW6!FF5:PA13/2^6, 0))","v":-4},{"$f":"IF(im2colAll_exW6!FG5:PB13 > 0, ROUNDDOWN(im2colAll_exW6!FG5:PB13/2^6, 0), ROUNDUP(im2colAll_exW6!FG5:PB13/2^6, 0))","v":3},{"$f":"IF(im2colAll_exW6!FH5:PC13 > 0, ROUNDDOWN(im2colAll_exW6!FH5:PC13/2^6, 0), ROUNDUP(im2colAll_exW6!FH5:PC13/2^6, 0))","v":11},{"$f":"IF(im2colAll_exW6!FI5:PD13 > 0, ROUNDDOWN(im2colAll_exW6!FI5:PD13/2^6, 0), ROUNDUP(im2colAll_exW6!FI5:PD13/2^6, 0))","v":-4},{"$f":"IF(im2colAll_exW6!FJ5:PE13 > 0, ROUNDDOWN(im2colAll_exW6!FJ5:PE13/2^6, 0), ROUNDUP(im2colAll_exW6!FJ5:PE13/2^6, 0))","v":-5},{"$f":"IF(im2colAll_exW6!FK5:PF13 > 0, ROUNDDOWN(im2colAll_exW6!FK5:PF13/2^6, 0), ROUNDUP(im2colAll_exW6!FK5:PF13/2^6, 0))","v":24},{"$f":"IF(im2colAll_exW6!FL5:PG13 > 0, ROUNDDOWN(im2colAll_exW6!FL5:PG13/2^6, 0), ROUNDUP(im2colAll_exW6!FL5:PG13/2^6, 0))","v":9},{"$f":"IF(im2colAll_exW6!FM5:PH13 > 0, ROUNDDOWN(im2colAll_exW6!FM5:PH13/2^6, 0), ROUNDUP(im2colAll_exW6!FM5:PH13/2^6, 0))","v":-9},{"$f":"IF(im2colAll_exW6!FN5:PI13 > 0, ROUNDDOWN(im2colAll_exW6!FN5:PI13/2^6, 0), ROUNDUP(im2colAll_exW6!FN5:PI13/2^6, 0))","v":7},{"$f":"IF(im2colAll_exW6!FO5:PJ13 > 0, ROUNDDOWN(im2colAll_exW6!FO5:PJ13/2^6, 0), ROUNDUP(im2colAll_exW6!FO5:PJ13/2^6, 0))","v":5},{"$f":"IF(im2colAll_exW6!FP5:PK13 > 0, ROUNDDOWN(im2colAll_exW6!FP5:PK13/2^6, 0), ROUNDUP(im2colAll_exW6!FP5:PK13/2^6, 0))","v":20},{"$f":"IF(im2colAll_exW6!FQ5:PL13 > 0, ROUNDDOWN(im2colAll_exW6!FQ5:PL13/2^6, 0), ROUNDUP(im2colAll_exW6!FQ5:PL13/2^6, 0))","v":-8},{"$f":"IF(im2colAll_exW6!FR5:PM13 > 0, ROUNDDOWN(im2colAll_exW6!FR5:PM13/2^6, 0), ROUNDUP(im2colAll_exW6!FR5:PM13/2^6, 0))","v":4},{"$f":"IF(im2colAll_exW6!FS5:PN13 > 0, ROUNDDOWN(im2colAll_exW6!FS5:PN13/2^6, 0), ROUNDUP(im2colAll_exW6!FS5:PN13/2^6, 0))","v":-8},{"$f":"IF(im2colAll_exW6!FT5:PO13 > 0, ROUNDDOWN(im2colAll_exW6!FT5:PO13/2^6, 0), ROUNDUP(im2colAll_exW6!FT5:PO13/2^6, 0))","v":8},{"$f":"IF(im2colAll_exW6!FU5:PP13 > 0, ROUNDDOWN(im2colAll_exW6!FU5:PP13/2^6, 0), ROUNDUP(im2colAll_exW6!FU5:PP13/2^6, 0))","v":1},{"$f":"IF(im2colAll_exW6!FV5:PQ13 > 0, ROUNDDOWN(im2colAll_exW6!FV5:PQ13/2^6, 0), ROUNDUP(im2colAll_exW6!FV5:PQ13/2^6, 0))","v":-5},{"$f":"IF(im2colAll_exW6!FW5:PR13 > 0, ROUNDDOWN(im2colAll_exW6!FW5:PR13/2^6, 0), ROUNDUP(im2colAll_exW6!FW5:PR13/2^6, 0))","v":-15},{"$f":"IF(im2colAll_exW6!FX5:PS13 > 0, ROUNDDOWN(im2colAll_exW6!FX5:PS13/2^6, 0), ROUNDUP(im2colAll_exW6!FX5:PS13/2^6, 0))","v":0},{"$f":"IF(im2colAll_exW6!FY5:PT13 > 0, ROUNDDOWN(im2colAll_exW6!FY5:PT13/2^6, 0), ROUNDUP(im2colAll_exW6!FY5:PT13/2^6, 0))","v":-10},{"$f":"IF(im2colAll_exW6!FZ5:PU13 > 0, ROUNDDOWN(im2colAll_exW6!FZ5:PU13/2^6, 0), ROUNDUP(im2colAll_exW6!FZ5:PU13/2^6, 0))","v":-14},{"$f":"IF(im2colAll_exW6!GA5:PV13 > 0, ROUNDDOWN(im2colAll_exW6!GA5:PV13/2^6, 0), ROUNDUP(im2colAll_exW6!GA5:PV13/2^6, 0))","v":-3},{"$f":"IF(im2colAll_exW6!GB5:PW13 > 0, ROUNDDOWN(im2colAll_exW6!GB5:PW13/2^6, 0), ROUNDUP(im2colAll_exW6!GB5:PW13/2^6, 0))","v":-1},{"$f":"IF(im2colAll_exW6!GC5:PX13 > 0, ROUNDDOWN(im2colAll_exW6!GC5:PX13/2^6, 0), ROUNDUP(im2colAll_exW6!GC5:PX13/2^6, 0))","v":2},{"$f":"IF(im2colAll_exW6!GD5:PY13 > 0, ROUNDDOWN(im2colAll_exW6!GD5:PY13/2^6, 0), ROUNDUP(im2colAll_exW6!GD5:PY13/2^6, 0))","v":-12},{"$f":"IF(im2colAll_exW6!GE5:PZ13 > 0, ROUNDDOWN(im2colAll_exW6!GE5:PZ13/2^6, 0), ROUNDUP(im2colAll_exW6!GE5:PZ13/2^6, 0))","v":5},{"$f":"IF(im2colAll_exW6!GF5:QA13 > 0, ROUNDDOWN(im2colAll_exW6!GF5:QA13/2^6, 0), ROUNDUP(im2colAll_exW6!GF5:QA13/2^6, 0))","v":-8},{"$f":"IF(im2colAll_exW6!GG5:QB13 > 0, ROUNDDOWN(im2colAll_exW6!GG5:QB13/2^6, 0), ROUNDUP(im2colAll_exW6!GG5:QB13/2^6, 0))","v":-13},{"$f":"IF(im2colAll_exW6!GH5:QC13 > 0, ROUNDDOWN(im2colAll_exW6!GH5:QC13/2^6, 0), ROUNDUP(im2colAll_exW6!GH5:QC13/2^6, 0))","v":-11},{"$f":"IF(im2colAll_exW6!GI5:QD13 > 0, ROUNDDOWN(im2colAll_exW6!GI5:QD13/2^6, 0), ROUNDUP(im2colAll_exW6!GI5:QD13/2^6, 0))","v":16},{"$f":"IF(im2colAll_exW6!GJ5:QE13 > 0, ROUNDDOWN(im2colAll_exW6!GJ5:QE13/2^6, 0), ROUNDUP(im2colAll_exW6!GJ5:QE13/2^6, 0))","v":2},{"$f":"IF(im2colAll_exW6!GK5:QF13 > 0, ROUNDDOWN(im2colAll_exW6!GK5:QF13/2^6, 0), ROUNDUP(im2colAll_exW6!GK5:QF13/2^6, 0))","v":1},{"$f":"IF(im2colAll_exW6!GL5:QG13 > 0, ROUNDDOWN(im2colAll_exW6!GL5:QG13/2^6, 0), ROUNDUP(im2colAll_exW6!GL5:QG13/2^6, 0))","v":10},{"$f":"IF(im2colAll_exW6!GM5:QH13 > 0, ROUNDDOWN(im2colAll_exW6!GM5:QH13/2^6, 0), ROUNDUP(im2colAll_exW6!GM5:QH13/2^6, 0))","v":9},{"$f":"IF(im2colAll_exW6!GN5:QI13 > 0, ROUNDDOWN(im2colAll_exW6!GN5:QI13/2^6, 0), ROUNDUP(im2colAll_exW6!GN5:QI13/2^6, 0))","v":-3},{"$f":"IF(im2colAll_exW6!GO5:QJ13 > 0, ROUNDDOWN(im2colAll_exW6!GO5:QJ13/2^6, 0), ROUNDUP(im2colAll_exW6!GO5:QJ13/2^6, 0))","v":-8},{"$f":"IF(im2colAll_exW6!GP5:QK13 > 0, ROUNDDOWN(im2colAll_exW6!GP5:QK13/2^6, 0), ROUNDUP(im2colAll_exW6!GP5:QK13/2^6, 0))","v":0},{"$f":"IF(im2colAll_exW6!GQ5:QL13 > 0, ROUNDDOWN(im2colAll_exW6!GQ5:QL13/2^6, 0), ROUNDUP(im2colAll_exW6!GQ5:QL13/2^6, 0))","v":-6},{"$f":"IF(im2colAll_exW6!GR5:QM13 > 0, ROUNDDOWN(im2colAll_exW6!GR5:QM13/2^6, 0), ROUNDUP(im2colAll_exW6!GR5:QM13/2^6, 0))","v":-6},{"$f":"IF(im2colAll_exW6!GS5:QN13 > 0, ROUNDDOWN(im2colAll_exW6!GS5:QN13/2^6, 0), ROUNDUP(im2colAll_exW6!GS5:QN13/2^6, 0))","v":-2},{"$f":"IF(im2colAll_exW6!GT5:QO13 > 0, ROUNDDOWN(im2colAll_exW6!GT5:QO13/2^6, 0), ROUNDUP(im2colAll_exW6!GT5:QO13/2^6, 0))","v":-2},{"$f":"IF(im2colAll_exW6!GU5:QP13 > 0, ROUNDDOWN(im2colAll_exW6!GU5:QP13/2^6, 0), ROUNDUP(im2colAll_exW6!GU5:QP13/2^6, 0))","v":11},{"$f":"IF(im2colAll_exW6!GV5:QQ13 > 0, ROUNDDOWN(im2colAll_exW6!GV5:QQ13/2^6, 0), ROUNDUP(im2colAll_exW6!GV5:QQ13/2^6, 0))","v":2},{"$f":"IF(im2colAll_exW6!GW5:QR13 > 0, ROUNDDOWN(im2colAll_exW6!GW5:QR13/2^6, 0), ROUNDUP(im2colAll_exW6!GW5:QR13/2^6, 0))","v":-4},{"$f":"IF(im2colAll_exW6!GX5:QS13 > 0, ROUNDDOWN(im2colAll_exW6!GX5:QS13/2^6, 0), ROUNDUP(im2colAll_exW6!GX5:QS13/2^6, 0))","v":-4},{"$f":"IF(im2colAll_exW6!GY5:QT13 > 0, ROUNDDOWN(im2colAll_exW6!GY5:QT13/2^6, 0), ROUNDUP(im2colAll_exW6!GY5:QT13/2^6, 0))","v":8},{"$f":"IF(im2colAll_exW6!GZ5:QU13 > 0, ROUNDDOWN(im2colAll_exW6!GZ5:QU13/2^6, 0), ROUNDUP(im2colAll_exW6!GZ5:QU13/2^6, 0))","v":7},{"$f":"IF(im2colAll_exW6!HA5:QV13 > 0, ROUNDDOWN(im2colAll_exW6!HA5:QV13/2^6, 0), ROUNDUP(im2colAll_exW6!HA5:QV13/2^6, 0))","v":17},{"$f":"IF(im2colAll_exW6!HB5:QW13 > 0, ROUNDDOWN(im2colAll_exW6!HB5:QW13/2^6, 0), ROUNDUP(im2colAll_exW6!HB5:QW13/2^6, 0))","v":-10},{"$f":"IF(im2colAll_exW6!HC5:QX13 > 0, ROUNDDOWN(im2colAll_exW6!HC5:QX13/2^6, 0), ROUNDUP(im2colAll_exW6!HC5:QX13/2^6, 0))","v":0},{"$f":"IF(im2colAll_exW6!HD5:QY13 > 0, ROUNDDOWN(im2colAll_exW6!HD5:QY13/2^6, 0), ROUNDUP(im2colAll_exW6!HD5:QY13/2^6, 0))","v":1},{"$f":"IF(im2colAll_exW6!HE5:QZ13 > 0, ROUNDDOWN(im2colAll_exW6!HE5:QZ13/2^6, 0), ROUNDUP(im2colAll_exW6!HE5:QZ13/2^6, 0))","v":-3},{"$f":"IF(im2colAll_exW6!HF5:RA13 > 0, ROUNDDOWN(im2colAll_exW6!HF5:RA13/2^6, 0), ROUNDUP(im2colAll_exW6!HF5:RA13/2^6, 0))","v":14},{"$f":"IF(im2colAll_exW6!HG5:RB13 > 0, ROUNDDOWN(im2colAll_exW6!HG5:RB13/2^6, 0), ROUNDUP(im2colAll_exW6!HG5:RB13/2^6, 0))","v":-1},{"$f":"IF(im2colAll_exW6!HH5:RC13 > 0, ROUNDDOWN(im2colAll_exW6!HH5:RC13/2^6, 0), ROUNDUP(im2colAll_exW6!HH5:RC13/2^6, 0))","v":10},{"$f":"IF(im2colAll_exW6!HI5:RD13 > 0, ROUNDDOWN(im2colAll_exW6!HI5:RD13/2^6, 0), ROUNDUP(im2colAll_exW6!HI5:RD13/2^6, 0))","v":11},{"$f":"IF(im2colAll_exW6!HJ5:RE13 > 0, ROUNDDOWN(im2colAll_exW6!HJ5:RE13/2^6, 0), ROUNDUP(im2colAll_exW6!HJ5:RE13/2^6, 0))","v":22},{"$f":"IF(im2colAll_exW6!HK5:RF13 > 0, ROUNDDOWN(im2colAll_exW6!HK5:RF13/2^6, 0), ROUNDUP(im2colAll_exW6!HK5:RF13/2^6, 0))","v":-3},{"$f":"IF(im2colAll_exW6!HL5:RG13 > 0, ROUNDDOWN(im2colAll_exW6!HL5:RG13/2^6, 0), ROUNDUP(im2colAll_exW6!HL5:RG13/2^6, 0))","v":-7},{"$f":"IF(im2colAll_exW6!HM5:RH13 > 0, ROUNDDOWN(im2colAll_exW6!HM5:RH13/2^6, 0), ROUNDUP(im2colAll_exW6!HM5:RH13/2^6, 0))","v":-9},{"$f":"IF(im2colAll_exW6!HN5:RI13 > 0, ROUNDDOWN(im2colAll_exW6!HN5:RI13/2^6, 0), ROUNDUP(im2colAll_exW6!HN5:RI13/2^6, 0))","v":-2},{"$f":"IF(im2colAll_exW6!HO5:RJ13 > 0, ROUNDDOWN(im2colAll_exW6!HO5:RJ13/2^6, 0), ROUNDUP(im2colAll_exW6!HO5:RJ13/2^6, 0))","v":-10},{"$f":"IF(im2colAll_exW6!HP5:RK13 > 0, ROUNDDOWN(im2colAll_exW6!HP5:RK13/2^6, 0), ROUNDUP(im2colAll_exW6!HP5:RK13/2^6, 0))","v":-2},{"$f":"IF(im2colAll_exW6!HQ5:RL13 > 0, ROUNDDOWN(im2colAll_exW6!HQ5:RL13/2^6, 0), ROUNDUP(im2colAll_exW6!HQ5:RL13/2^6, 0))","v":6},{"$f":"IF(im2colAll_exW6!HR5:RM13 > 0, ROUNDDOWN(im2colAll_exW6!HR5:RM13/2^6, 0), ROUNDUP(im2colAll_exW6!HR5:RM13/2^6, 0))","v":6},{"$f":"IF(im2colAll_exW6!HS5:RN13 > 0, ROUNDDOWN(im2colAll_exW6!HS5:RN13/2^6, 0), ROUNDUP(im2colAll_exW6!HS5:RN13/2^6, 0))","v":-3},{"$f":"IF(im2colAll_exW6!HT5:RO13 > 0, ROUNDDOWN(im2colAll_exW6!HT5:RO13/2^6, 0), ROUNDUP(im2colAll_exW6!HT5:RO13/2^6, 0))","v":-15},{"$f":"IF(im2colAll_exW6!HU5:RP13 > 0, ROUNDDOWN(im2colAll_exW6!HU5:RP13/2^6, 0), ROUNDUP(im2colAll_exW6!HU5:RP13/2^6, 0))","v":-1},{"$f":"IF(im2colAll_exW6!HV5:RQ13 > 0, ROUNDDOWN(im2colAll_exW6!HV5:RQ13/2^6, 0), ROUNDUP(im2colAll_exW6!HV5:RQ13/2^6, 0))","v":2},{"$f":"IF(im2colAll_exW6!HW5:RR13 > 0, ROUNDDOWN(im2colAll_exW6!HW5:RR13/2^6, 0), ROUNDUP(im2colAll_exW6!HW5:RR13/2^6, 0))","v":16},{"$f":"IF(im2colAll_exW6!HX5:RS13 > 0, ROUNDDOWN(im2colAll_exW6!HX5:RS13/2^6, 0), ROUNDUP(im2colAll_exW6!HX5:RS13/2^6, 0))","v":-15},{"$f":"IF(im2colAll_exW6!HY5:RT13 > 0, ROUNDDOWN(im2colAll_exW6!HY5:RT13/2^6, 0), ROUNDUP(im2colAll_exW6!HY5:RT13/2^6, 0))","v":5},{"$f":"IF(im2colAll_exW6!HZ5:RU13 > 0, ROUNDDOWN(im2colAll_exW6!HZ5:RU13/2^6, 0), ROUNDUP(im2colAll_exW6!HZ5:RU13/2^6, 0))","v":12},{"$f":"IF(im2colAll_exW6!IA5:RV13 > 0, ROUNDDOWN(im2colAll_exW6!IA5:RV13/2^6, 0), ROUNDUP(im2colAll_exW6!IA5:RV13/2^6, 0))","v":-1},{"$f":"IF(im2colAll_exW6!IB5:RW13 > 0, ROUNDDOWN(im2colAll_exW6!IB5:RW13/2^6, 0), ROUNDUP(im2colAll_exW6!IB5:RW13/2^6, 0))","v":5},{"$f":"IF(im2colAll_exW6!IC5:RX13 > 0, ROUNDDOWN(im2colAll_exW6!IC5:RX13/2^6, 0), ROUNDUP(im2colAll_exW6!IC5:RX13/2^6, 0))","v":12},{"$f":"IF(im2colAll_exW6!ID5:RY13 > 0, ROUNDDOWN(im2colAll_exW6!ID5:RY13/2^6, 0), ROUNDUP(im2colAll_exW6!ID5:RY13/2^6, 0))","v":15},{"$f":"IF(im2colAll_exW6!IE5:RZ13 > 0, ROUNDDOWN(im2colAll_exW6!IE5:RZ13/2^6, 0), ROUNDUP(im2colAll_exW6!IE5:RZ13/2^6, 0))","v":4},{"$f":"IF(im2colAll_exW6!IF5:SA13 > 0, ROUNDDOWN(im2colAll_exW6!IF5:SA13/2^6, 0), ROUNDUP(im2colAll_exW6!IF5:SA13/2^6, 0))","v":-5},{"$f":"IF(im2colAll_exW6!IG5:SB13 > 0, ROUNDDOWN(im2colAll_exW6!IG5:SB13/2^6, 0), ROUNDUP(im2colAll_exW6!IG5:SB13/2^6, 0))","v":3},{"$f":"IF(im2colAll_exW6!IH5:SC13 > 0, ROUNDDOWN(im2colAll_exW6!IH5:SC13/2^6, 0), ROUNDUP(im2colAll_exW6!IH5:SC13/2^6, 0))","v":4},{"$f":"IF(im2colAll_exW6!II5:SD13 > 0, ROUNDDOWN(im2colAll_exW6!II5:SD13/2^6, 0), ROUNDUP(im2colAll_exW6!II5:SD13/2^6, 0))","v":-3},{"$f":"IF(im2colAll_exW6!IJ5:SE13 > 0, ROUNDDOWN(im2colAll_exW6!IJ5:SE13/2^6, 0), ROUNDUP(im2colAll_exW6!IJ5:SE13/2^6, 0))","v":-5},{"$f":"IF(im2colAll_exW6!IK5:SF13 > 0, ROUNDDOWN(im2colAll_exW6!IK5:SF13/2^6, 0), ROUNDUP(im2colAll_exW6!IK5:SF13/2^6, 0))","v":-2},{"$f":"IF(im2colAll_exW6!IL5:SG13 > 0, ROUNDDOWN(im2colAll_exW6!IL5:SG13/2^6, 0), ROUNDUP(im2colAll_exW6!IL5:SG13/2^6, 0))","v":22},{"$f":"IF(im2colAll_exW6!IM5:SH13 > 0, ROUNDDOWN(im2colAll_exW6!IM5:SH13/2^6, 0), ROUNDUP(im2colAll_exW6!IM5:SH13/2^6, 0))","v":4},{"$f":"IF(im2colAll_exW6!IN5:SI13 > 0, ROUNDDOWN(im2colAll_exW6!IN5:SI13/2^6, 0), ROUNDUP(im2colAll_exW6!IN5:SI13/2^6, 0))","v":2},{"$f":"IF(im2colAll_exW6!IO5:SJ13 > 0, ROUNDDOWN(im2colAll_exW6!IO5:SJ13/2^6, 0), ROUNDUP(im2colAll_exW6!IO5:SJ13/2^6, 0))","v":-5},{"$f":"IF(im2colAll_exW6!IP5:SK13 > 0, ROUNDDOWN(im2colAll_exW6!IP5:SK13/2^6, 0), ROUNDUP(im2colAll_exW6!IP5:SK13/2^6, 0))","v":9},{"$f":"IF(im2colAll_exW6!IQ5:SL13 > 0, ROUNDDOWN(im2colAll_exW6!IQ5:SL13/2^6, 0), ROUNDUP(im2colAll_exW6!IQ5:SL13/2^6, 0))","v":-2},{"$f":"IF(im2colAll_exW6!IR5:SM13 > 0, ROUNDDOWN(im2colAll_exW6!IR5:SM13/2^6, 0), ROUNDUP(im2colAll_exW6!IR5:SM13/2^6, 0))","v":14},{"$f":"IF(im2colAll_exW6!IS5:SN13 > 0, ROUNDDOWN(im2colAll_exW6!IS5:SN13/2^6, 0), ROUNDUP(im2colAll_exW6!IS5:SN13/2^6, 0))","v":4},{"$f":"IF(im2colAll_exW6!IT5:SO13 > 0, ROUNDDOWN(im2colAll_exW6!IT5:SO13/2^6, 0), ROUNDUP(im2colAll_exW6!IT5:SO13/2^6, 0))","v":-13},{"$f":"IF(im2colAll_exW6!IU5:SP13 > 0, ROUNDDOWN(im2colAll_exW6!IU5:SP13/2^6, 0), ROUNDUP(im2colAll_exW6!IU5:SP13/2^6, 0))","v":9},{"$f":"IF(im2colAll_exW6!IV5:SQ13 > 0, ROUNDDOWN(im2colAll_exW6!IV5:SQ13/2^6, 0), ROUNDUP(im2colAll_exW6!IV5:SQ13/2^6, 0))","v":15}]
[{"$f":"IF(im2colAll_exW6!A6:IV14 > 0, ROUNDDOWN(im2colAll_exW6!A6:IV14/2^6, 0), ROUNDUP(im2colAll_exW6!A6:IV14/2^6, 0))","v":16},{"$f":"IF(im2colAll_exW6!B6:IW14 > 0, ROUNDDOWN(im2colAll_exW6!B6:IW14/2^6, 0), ROUNDUP(im2colAll_exW6!B6:IW14/2^6, 0))","v":5},{"$f":"IF(im2colAll_exW6!C6:IX14 > 0, ROUNDDOWN(im2colAll_exW6!C6:IX14/2^6, 0), ROUNDUP(im2colAll_exW6!C6:IX14/2^6, 0))","v":5},{"$f":"IF(im2colAll_exW6!D6:IY14 > 0, ROUNDDOWN(im2colAll_exW6!D6:IY14/2^6, 0), ROUNDUP(im2colAll_exW6!D6:IY14/2^6, 0))","v":-4},{"$f":"IF(im2colAll_exW6!E6:IZ14 > 0, ROUNDDOWN(im2colAll_exW6!E6:IZ14/2^6, 0), ROUNDUP(im2colAll_exW6!E6:IZ14/2^6, 0))","v":7},{"$f":"IF(im2colAll_exW6!F6:JA14 > 0, ROUNDDOWN(im2colAll_exW6!F6:JA14/2^6, 0), ROUNDUP(im2colAll_exW6!F6:JA14/2^6, 0))","v":-8},{"$f":"IF(im2colAll_exW6!G6:JB14 > 0, ROUNDDOWN(im2colAll_exW6!G6:JB14/2^6, 0), ROUNDUP(im2colAll_exW6!G6:JB14/2^6, 0))","v":7},{"$f":"IF(im2colAll_exW6!H6:JC14 > 0, ROUNDDOWN(im2colAll_exW6!H6:JC14/2^6, 0), ROUNDUP(im2colAll_exW6!H6:JC14/2^6, 0))","v":-9},{"$f":"IF(im2colAll_exW6!I6:JD14 > 0, ROUNDDOWN(im2colAll_exW6!I6:JD14/2^6, 0), ROUNDUP(im2colAll_exW6!I6:JD14/2^6, 0))","v":8},{"$f":"IF(im2colAll_exW6!J6:JE14 > 0, ROUNDDOWN(im2colAll_exW6!J6:JE14/2^6, 0), ROUNDUP(im2colAll_exW6!J6:JE14/2^6, 0))","v":-4},{"$f":"IF(im2colAll_exW6!K6:JF14 > 0, ROUNDDOWN(im2colAll_exW6!K6:JF14/2^6, 0), ROUNDUP(im2colAll_exW6!K6:JF14/2^6, 0))","v":-9},{"$f":"IF(im2colAll_exW6!L6:JG14 > 0, ROUNDDOWN(im2colAll_exW6!L6:JG14/2^6, 0), ROUNDUP(im2colAll_exW6!L6:JG14/2^6, 0))","v":9},{"$f":"IF(im2colAll_exW6!M6:JH14 > 0, ROUNDDOWN(im2colAll_exW6!M6:JH14/2^6, 0), ROUNDUP(im2colAll_exW6!M6:JH14/2^6, 0))","v":-8},{"$f":"IF(im2colAll_exW6!N6:JI14 > 0, ROUNDDOWN(im2colAll_exW6!N6:JI14/2^6, 0), ROUNDUP(im2colAll_exW6!N6:JI14/2^6, 0))","v":-2},{"$f":"IF(im2colAll_exW6!O6:JJ14 > 0, ROUNDDOWN(im2colAll_exW6!O6:JJ14/2^6, 0), ROUNDUP(im2colAll_exW6!O6:JJ14/2^6, 0))","v":9},{"$f":"IF(im2colAll_exW6!P6:JK14 > 0, ROUNDDOWN(im2colAll_exW6!P6:JK14/2^6, 0), ROUNDUP(im2colAll_exW6!P6:JK14/2^6, 0))","v":12},{"$f":"IF(im2colAll_exW6!Q6:JL14 > 0, ROUNDDOWN(im2colAll_exW6!Q6:JL14/2^6, 0), ROUNDUP(im2colAll_exW6!Q6:JL14/2^6, 0))","v":-6},{"$f":"IF(im2colAll_exW6!R6:JM14 > 0, ROUNDDOWN(im2colAll_exW6!R6:JM14/2^6, 0), ROUNDUP(im2colAll_exW6!R6:JM14/2^6, 0))","v":-8},{"$f":"IF(im2colAll_exW6!S6:JN14 > 0, ROUNDDOWN(im2colAll_exW6!S6:JN14/2^6, 0), ROUNDUP(im2colAll_exW6!S6:JN14/2^6, 0))","v":4},{"$f":"IF(im2colAll_exW6!T6:JO14 > 0, ROUNDDOWN(im2colAll_exW6!T6:JO14/2^6, 0), ROUNDUP(im2colAll_exW6!T6:JO14/2^6, 0))","v":0},{"$f":"IF(im2colAll_exW6!U6:JP14 > 0, ROUNDDOWN(im2colAll_exW6!U6:JP14/2^6, 0), ROUNDUP(im2colAll_exW6!U6:JP14/2^6, 0))","v":14},{"$f":"IF(im2colAll_exW6!V6:JQ14 > 0, ROUNDDOWN(im2colAll_exW6!V6:JQ14/2^6, 0), ROUNDUP(im2colAll_exW6!V6:JQ14/2^6, 0))","v":13},{"$f":"IF(im2colAll_exW6!W6:JR14 > 0, ROUNDDOWN(im2colAll_exW6!W6:JR14/2^6, 0), ROUNDUP(im2colAll_exW6!W6:JR14/2^6, 0))","v":9},{"$f":"IF(im2colAll_exW6!X6:JS14 > 0, ROUNDDOWN(im2colAll_exW6!X6:JS14/2^6, 0), ROUNDUP(im2colAll_exW6!X6:JS14/2^6, 0))","v":5},{"$f":"IF(im2colAll_exW6!Y6:JT14 > 0, ROUNDDOWN(im2colAll_exW6!Y6:JT14/2^6, 0), ROUNDUP(im2colAll_exW6!Y6:JT14/2^6, 0))","v":8},{"$f":"IF(im2colAll_exW6!Z6:JU14 > 0, ROUNDDOWN(im2colAll_exW6!Z6:JU14/2^6, 0), ROUNDUP(im2colAll_exW6!Z6:JU14/2^6, 0))","v":-16},{"$f":"IF(im2colAll_exW6!AA6:JV14 > 0, ROUNDDOWN(im2colAll_exW6!AA6:JV14/2^6, 0), ROUNDUP(im2colAll_exW6!AA6:JV14/2^6, 0))","v":1},{"$f":"IF(im2colAll_exW6!AB6:JW14 > 0, ROUNDDOWN(im2colAll_exW6!AB6:JW14/2^6, 0), ROUNDUP(im2colAll_exW6!AB6:JW14/2^6, 0))","v":1},{"$f":"IF(im2colAll_exW6!AC6:JX14 > 0, ROUNDDOWN(im2colAll_exW6!AC6:JX14/2^6, 0), ROUNDUP(im2colAll_exW6!AC6:JX14/2^6, 0))","v":6},{"$f":"IF(im2colAll_exW6!AD6:JY14 > 0, ROUNDDOWN(im2colAll_exW6!AD6:JY14/2^6, 0), ROUNDUP(im2colAll_exW6!AD6:JY14/2^6, 0))","v":-7},{"$f":"IF(im2colAll_exW6!AE6:JZ14 > 0, ROUNDDOWN(im2colAll_exW6!AE6:JZ14/2^6, 0), ROUNDUP(im2colAll_exW6!AE6:JZ14/2^6, 0))","v":18},{"$f":"IF(im2colAll_exW6!AF6:KA14 > 0, ROUNDDOWN(im2colAll_exW6!AF6:KA14/2^6, 0), ROUNDUP(im2colAll_exW6!AF6:KA14/2^6, 0))","v":2},{"$f":"IF(im2colAll_exW6!AG6:KB14 > 0, ROUNDDOWN(im2colAll_exW6!AG6:KB14/2^6, 0), ROUNDUP(im2colAll_exW6!AG6:KB14/2^6, 0))","v":5},{"$f":"IF(im2colAll_exW6!AH6:KC14 > 0, ROUNDDOWN(im2colAll_exW6!AH6:KC14/2^6, 0), ROUNDUP(im2colAll_exW6!AH6:KC14/2^6, 0))","v":8},{"$f":"IF(im2colAll_exW6!AI6:KD14 > 0, ROUNDDOWN(im2colAll_exW6!AI6:KD14/2^6, 0), ROUNDUP(im2colAll_exW6!AI6:KD14/2^6, 0))","v":-7},{"$f":"IF(im2colAll_exW6!AJ6:KE14 > 0, ROUNDDOWN(im2colAll_exW6!AJ6:KE14/2^6, 0), ROUNDUP(im2colAll_exW6!AJ6:KE14/2^6, 0))","v":16},{"$f":"IF(im2colAll_exW6!AK6:KF14 > 0, ROUNDDOWN(im2colAll_exW6!AK6:KF14/2^6, 0), ROUNDUP(im2colAll_exW6!AK6:KF14/2^6, 0))","v":-3},{"$f":"IF(im2colAll_exW6!AL6:KG14 > 0, ROUNDDOWN(im2colAll_exW6!AL6:KG14/2^6, 0), ROUNDUP(im2colAll_exW6!AL6:KG14/2^6, 0))","v":5},{"$f":"IF(im2colAll_exW6!AM6:KH14 > 0, ROUNDDOWN(im2colAll_exW6!AM6:KH14/2^6, 0), ROUNDUP(im2colAll_exW6!AM6:KH14/2^6, 0))","v":7},{"$f":"IF(im2colAll_exW6!AN6:KI14 > 0, ROUNDDOWN(im2colAll_exW6!AN6:KI14/2^6, 0), ROUNDUP(im2colAll_exW6!AN6:KI14/2^6, 0))","v":-7},{"$f":"IF(im2colAll_exW6!AO6:KJ14 > 0, ROUNDDOWN(im2colAll_exW6!AO6:KJ14/2^6, 0), ROUNDUP(im2colAll_exW6!AO6:KJ14/2^6, 0))","v":-4},{"$f":"IF(im2colAll_exW6!AP6:KK14 > 0, ROUNDDOWN(im2colAll_exW6!AP6:KK14/2^6, 0), ROUNDUP(im2colAll_exW6!AP6:KK14/2^6, 0))","v":2},{"$f":"IF(im2colAll_exW6!AQ6:KL14 > 0, ROUNDDOWN(im2colAll_exW6!AQ6:KL14/2^6, 0), ROUNDUP(im2colAll_exW6!AQ6:KL14/2^6, 0))","v":-14},{"$f":"IF(im2colAll_exW6!AR6:KM14 > 0, ROUNDDOWN(im2colAll_exW6!AR6:KM14/2^6, 0), ROUNDUP(im2colAll_exW6!AR6:KM14/2^6, 0))","v":4},{"$f":"IF(im2colAll_exW6!AS6:KN14 > 0, ROUNDDOWN(im2colAll_exW6!AS6:KN14/2^6, 0), ROUNDUP(im2colAll_exW6!AS6:KN14/2^6, 0))","v":-3},{"$f":"IF(im2colAll_exW6!AT6:KO14 > 0, ROUNDDOWN(im2colAll_exW6!AT6:KO14/2^6, 0), ROUNDUP(im2colAll_exW6!AT6:KO14/2^6, 0))","v":-4},{"$f":"IF(im2colAll_exW6!AU6:KP14 > 0, ROUNDDOWN(im2colAll_exW6!AU6:KP14/2^6, 0), ROUNDUP(im2colAll_exW6!AU6:KP14/2^6, 0))","v":-5},{"$f":"IF(im2colAll_exW6!AV6:KQ14 > 0, ROUNDDOWN(im2colAll_exW6!AV6:KQ14/2^6, 0), ROUNDUP(im2colAll_exW6!AV6:KQ14/2^6, 0))","v":3},{"$f":"IF(im2colAll_exW6!AW6:KR14 > 0, ROUNDDOWN(im2colAll_exW6!AW6:KR14/2^6, 0), ROUNDUP(im2colAll_exW6!AW6:KR14/2^6, 0))","v":21},{"$f":"IF(im2colAll_exW6!AX6:KS14 > 0, ROUNDDOWN(im2colAll_exW6!AX6:KS14/2^6, 0), ROUNDUP(im2colAll_exW6!AX6:KS14/2^6, 0))","v":5},{"$f":"IF(im2colAll_exW6!AY6:KT14 > 0, ROUNDDOWN(im2colAll_exW6!AY6:KT14/2^6, 0), ROUNDUP(im2colAll_exW6!AY6:KT14/2^6, 0))","v":3},{"$f":"IF(im2colAll_exW6!AZ6:KU14 > 0, ROUNDDOWN(im2colAll_exW6!AZ6:KU14/2^6, 0), ROUNDUP(im2colAll_exW6!AZ6:KU14/2^6, 0))","v":5},{"$f":"IF(im2colAll_exW6!BA6:KV14 > 0, ROUNDDOWN(im2colAll_exW6!BA6:KV14/2^6, 0), ROUNDUP(im2colAll_exW6!BA6:KV14/2^6, 0))","v":-14},{"$f":"IF(im2colAll_exW6!BB6:KW14 > 0, ROUNDDOWN(im2colAll_exW6!BB6:KW14/2^6, 0), ROUNDUP(im2colAll_exW6!BB6:KW14/2^6, 0))","v":-2},{"$f":"IF(im2colAll_exW6!BC6:KX14 > 0, ROUNDDOWN(im2colAll_exW6!BC6:KX14/2^6, 0), ROUNDUP(im2colAll_exW6!BC6:KX14/2^6, 0))","v":14},{"$f":"IF(im2colAll_exW6!BD6:KY14 > 0, ROUNDDOWN(im2colAll_exW6!BD6:KY14/2^6, 0), ROUNDUP(im2colAll_exW6!BD6:KY14/2^6, 0))","v":-4},{"$f":"IF(im2colAll_exW6!BE6:KZ14 > 0, ROUNDDOWN(im2colAll_exW6!BE6:KZ14/2^6, 0), ROUNDUP(im2colAll_exW6!BE6:KZ14/2^6, 0))","v":-4},{"$f":"IF(im2colAll_exW6!BF6:LA14 > 0, ROUNDDOWN(im2colAll_exW6!BF6:LA14/2^6, 0), ROUNDUP(im2colAll_exW6!BF6:LA14/2^6, 0))","v":-1},{"$f":"IF(im2colAll_exW6!BG6:LB14 > 0, ROUNDDOWN(im2colAll_exW6!BG6:LB14/2^6, 0), ROUNDUP(im2colAll_exW6!BG6:LB14/2^6, 0))","v":17},{"$f":"IF(im2colAll_exW6!BH6:LC14 > 0, ROUNDDOWN(im2colAll_exW6!BH6:LC14/2^6, 0), ROUNDUP(im2colAll_exW6!BH6:LC14/2^6, 0))","v":13},{"$f":"IF(im2colAll_exW6!BI6:LD14 > 0, ROUNDDOWN(im2colAll_exW6!BI6:LD14/2^6, 0), ROUNDUP(im2colAll_exW6!BI6:LD14/2^6, 0))","v":20},{"$f":"IF(im2colAll_exW6!BJ6:LE14 > 0, ROUNDDOWN(im2colAll_exW6!BJ6:LE14/2^6, 0), ROUNDUP(im2colAll_exW6!BJ6:LE14/2^6, 0))","v":-13},{"$f":"IF(im2colAll_exW6!BK6:LF14 > 0, ROUNDDOWN(im2colAll_exW6!BK6:LF14/2^6, 0), ROUNDUP(im2colAll_exW6!BK6:LF14/2^6, 0))","v":-10},{"$f":"IF(im2colAll_exW6!BL6:LG14 > 0, ROUNDDOWN(im2colAll_exW6!BL6:LG14/2^6, 0), ROUNDUP(im2colAll_exW6!BL6:LG14/2^6, 0))","v":6},{"$f":"IF(im2colAll_exW6!BM6:LH14 > 0, ROUNDDOWN(im2colAll_exW6!BM6:LH14/2^6, 0), ROUNDUP(im2colAll_exW6!BM6:LH14/2^6, 0))","v":5},{"$f":"IF(im2colAll_exW6!BN6:LI14 > 0, ROUNDDOWN(im2colAll_exW6!BN6:LI14/2^6, 0), ROUNDUP(im2colAll_exW6!BN6:LI14/2^6, 0))","v":-1},{"$f":"IF(im2colAll_exW6!BO6:LJ14 > 0, ROUNDDOWN(im2colAll_exW6!BO6:LJ14/2^6, 0), ROUNDUP(im2colAll_exW6!BO6:LJ14/2^6, 0))","v":9},{"$f":"IF(im2colAll_exW6!BP6:LK14 > 0, ROUNDDOWN(im2colAll_exW6!BP6:LK14/2^6, 0), ROUNDUP(im2colAll_exW6!BP6:LK14/2^6, 0))","v":-3},{"$f":"IF(im2colAll_exW6!BQ6:LL14 > 0, ROUNDDOWN(im2colAll_exW6!BQ6:LL14/2^6, 0), ROUNDUP(im2colAll_exW6!BQ6:LL14/2^6, 0))","v":-2},{"$f":"IF(im2colAll_exW6!BR6:LM14 > 0, ROUNDDOWN(im2colAll_exW6!BR6:LM14/2^6, 0), ROUNDUP(im2colAll_exW6!BR6:LM14/2^6, 0))","v":16},{"$f":"IF(im2colAll_exW6!BS6:LN14 > 0, ROUNDDOWN(im2colAll_exW6!BS6:LN14/2^6, 0), ROUNDUP(im2colAll_exW6!BS6:LN14/2^6, 0))","v":4},{"$f":"IF(im2colAll_exW6!BT6:LO14 > 0, ROUNDDOWN(im2colAll_exW6!BT6:LO14/2^6, 0), ROUNDUP(im2colAll_exW6!BT6:LO14/2^6, 0))","v":-13},{"$f":"IF(im2colAll_exW6!BU6:LP14 > 0, ROUNDDOWN(im2colAll_exW6!BU6:LP14/2^6, 0), ROUNDUP(im2colAll_exW6!BU6:LP14/2^6, 0))","v":0},{"$f":"IF(im2colAll_exW6!BV6:LQ14 > 0, ROUNDDOWN(im2colAll_exW6!BV6:LQ14/2^6, 0), ROUNDUP(im2colAll_exW6!BV6:LQ14/2^6, 0))","v":16},{"$f":"IF(im2colAll_exW6!BW6:LR14 > 0, ROUNDDOWN(im2colAll_exW6!BW6:LR14/2^6, 0), ROUNDUP(im2colAll_exW6!BW6:LR14/2^6, 0))","v":4},{"$f":"IF(im2colAll_exW6!BX6:LS14 > 0, ROUNDDOWN(im2colAll_exW6!BX6:LS14/2^6, 0), ROUNDUP(im2colAll_exW6!BX6:LS14/2^6, 0))","v":12},{"$f":"IF(im2colAll_exW6!BY6:LT14 > 0, ROUNDDOWN(im2colAll_exW6!BY6:LT14/2^6, 0), ROUNDUP(im2colAll_exW6!BY6:LT14/2^6, 0))","v":-7},{"$f":"IF(im2colAll_exW6!BZ6:LU14 > 0, ROUNDDOWN(im2colAll_exW6!BZ6:LU14/2^6, 0), ROUNDUP(im2colAll_exW6!BZ6:LU14/2^6, 0))","v":7},{"$f":"IF(im2colAll_exW6!CA6:LV14 > 0, ROUNDDOWN(im2colAll_exW6!CA6:LV14/2^6, 0), ROUNDUP(im2colAll_exW6!CA6:LV14/2^6, 0))","v":-1},{"$f":"IF(im2colAll_exW6!CB6:LW14 > 0, ROUNDDOWN(im2colAll_exW6!CB6:LW14/2^6, 0), ROUNDUP(im2colAll_exW6!CB6:LW14/2^6, 0))","v":-7},{"$f":"IF(im2colAll_exW6!CC6:LX14 > 0, ROUNDDOWN(im2colAll_exW6!CC6:LX14/2^6, 0), ROUNDUP(im2colAll_exW6!CC6:LX14/2^6, 0))","v":6},{"$f":"IF(im2colAll_exW6!CD6:LY14 > 0, ROUNDDOWN(im2colAll_exW6!CD6:LY14/2^6, 0), ROUNDUP(im2colAll_exW6!CD6:LY14/2^6, 0))","v":-1},{"$f":"IF(im2colAll_exW6!CE6:LZ14 > 0, ROUNDDOWN(im2colAll_exW6!CE6:LZ14/2^6, 0), ROUNDUP(im2colAll_exW6!CE6:LZ14/2^6, 0))","v":-3},{"$f":"IF(im2colAll_exW6!CF6:MA14 > 0, ROUNDDOWN(im2colAll_exW6!CF6:MA14/2^6, 0), ROUNDUP(im2colAll_exW6!CF6:MA14/2^6, 0))","v":24},{"$f":"IF(im2colAll_exW6!CG6:MB14 > 0, ROUNDDOWN(im2colAll_exW6!CG6:MB14/2^6, 0), ROUNDUP(im2colAll_exW6!CG6:MB14/2^6, 0))","v":8},{"$f":"IF(im2colAll_exW6!CH6:MC14 > 0, ROUNDDOWN(im2colAll_exW6!CH6:MC14/2^6, 0), ROUNDUP(im2colAll_exW6!CH6:MC14/2^6, 0))","v":-1},{"$f":"IF(im2colAll_exW6!CI6:MD14 > 0, ROUNDDOWN(im2colAll_exW6!CI6:MD14/2^6, 0), ROUNDUP(im2colAll_exW6!CI6:MD14/2^6, 0))","v":7},{"$f":"IF(im2colAll_exW6!CJ6:ME14 > 0, ROUNDDOWN(im2colAll_exW6!CJ6:ME14/2^6, 0), ROUNDUP(im2colAll_exW6!CJ6:ME14/2^6, 0))","v":11},{"$f":"IF(im2colAll_exW6!CK6:MF14 > 0, ROUNDDOWN(im2colAll_exW6!CK6:MF14/2^6, 0), ROUNDUP(im2colAll_exW6!CK6:MF14/2^6, 0))","v":16},{"$f":"IF(im2colAll_exW6!CL6:MG14 > 0, ROUNDDOWN(im2colAll_exW6!CL6:MG14/2^6, 0), ROUNDUP(im2colAll_exW6!CL6:MG14/2^6, 0))","v":0},{"$f":"IF(im2colAll_exW6!CM6:MH14 > 0, ROUNDDOWN(im2colAll_exW6!CM6:MH14/2^6, 0), ROUNDUP(im2colAll_exW6!CM6:MH14/2^6, 0))","v":-6},{"$f":"IF(im2colAll_exW6!CN6:MI14 > 0, ROUNDDOWN(im2colAll_exW6!CN6:MI14/2^6, 0), ROUNDUP(im2colAll_exW6!CN6:MI14/2^6, 0))","v":3},{"$f":"IF(im2colAll_exW6!CO6:MJ14 > 0, ROUNDDOWN(im2colAll_exW6!CO6:MJ14/2^6, 0), ROUNDUP(im2colAll_exW6!CO6:MJ14/2^6, 0))","v":14},{"$f":"IF(im2colAll_exW6!CP6:MK14 > 0, ROUNDDOWN(im2colAll_exW6!CP6:MK14/2^6, 0), ROUNDUP(im2colAll_exW6!CP6:MK14/2^6, 0))","v":-2},{"$f":"IF(im2colAll_exW6!CQ6:ML14 > 0, ROUNDDOWN(im2colAll_exW6!CQ6:ML14/2^6, 0), ROUNDUP(im2colAll_exW6!CQ6:ML14/2^6, 0))","v":12},{"$f":"IF(im2colAll_exW6!CR6:MM14 > 0, ROUNDDOWN(im2colAll_exW6!CR6:MM14/2^6, 0), ROUNDUP(im2colAll_exW6!CR6:MM14/2^6, 0))","v":10},{"$f":"IF(im2colAll_exW6!CS6:MN14 > 0, ROUNDDOWN(im2colAll_exW6!CS6:MN14/2^6, 0), ROUNDUP(im2colAll_exW6!CS6:MN14/2^6, 0))","v":14},{"$f":"IF(im2colAll_exW6!CT6:MO14 > 0, ROUNDDOWN(im2colAll_exW6!CT6:MO14/2^6, 0), ROUNDUP(im2colAll_exW6!CT6:MO14/2^6, 0))","v":5},{"$f":"IF(im2colAll_exW6!CU6:MP14 > 0, ROUNDDOWN(im2colAll_exW6!CU6:MP14/2^6, 0), ROUNDUP(im2colAll_exW6!CU6:MP14/2^6, 0))","v":5},{"$f":"IF(im2colAll_exW6!CV6:MQ14 > 0, ROUNDDOWN(im2colAll_exW6!CV6:MQ14/2^6, 0), ROUNDUP(im2colAll_exW6!CV6:MQ14/2^6, 0))","v":6},{"$f":"IF(im2colAll_exW6!CW6:MR14 > 0, ROUNDDOWN(im2colAll_exW6!CW6:MR14/2^6, 0), ROUNDUP(im2colAll_exW6!CW6:MR14/2^6, 0))","v":3},{"$f":"IF(im2colAll_exW6!CX6:MS14 > 0, ROUNDDOWN(im2colAll_exW6!CX6:MS14/2^6, 0), ROUNDUP(im2colAll_exW6!CX6:MS14/2^6, 0))","v":3},{"$f":"IF(im2colAll_exW6!CY6:MT14 > 0, ROUNDDOWN(im2colAll_exW6!CY6:MT14/2^6, 0), ROUNDUP(im2colAll_exW6!CY6:MT14/2^6, 0))","v":-11},{"$f":"IF(im2colAll_exW6!CZ6:MU14 > 0, ROUNDDOWN(im2colAll_exW6!CZ6:MU14/2^6, 0), ROUNDUP(im2colAll_exW6!CZ6:MU14/2^6, 0))","v":-3},{"$f":"IF(im2colAll_exW6!DA6:MV14 > 0, ROUNDDOWN(im2colAll_exW6!DA6:MV14/2^6, 0), ROUNDUP(im2colAll_exW6!DA6:MV14/2^6, 0))","v":5},{"$f":"IF(im2colAll_exW6!DB6:MW14 > 0, ROUNDDOWN(im2colAll_exW6!DB6:MW14/2^6, 0), ROUNDUP(im2colAll_exW6!DB6:MW14/2^6, 0))","v":8},{"$f":"IF(im2colAll_exW6!DC6:MX14 > 0, ROUNDDOWN(im2colAll_exW6!DC6:MX14/2^6, 0), ROUNDUP(im2colAll_exW6!DC6:MX14/2^6, 0))","v":-5},{"$f":"IF(im2colAll_exW6!DD6:MY14 > 0, ROUNDDOWN(im2colAll_exW6!DD6:MY14/2^6, 0), ROUNDUP(im2colAll_exW6!DD6:MY14/2^6, 0))","v":-2},{"$f":"IF(im2colAll_exW6!DE6:MZ14 > 0, ROUNDDOWN(im2colAll_exW6!DE6:MZ14/2^6, 0), ROUNDUP(im2colAll_exW6!DE6:MZ14/2^6, 0))","v":16},{"$f":"IF(im2colAll_exW6!DF6:NA14 > 0, ROUNDDOWN(im2colAll_exW6!DF6:NA14/2^6, 0), ROUNDUP(im2colAll_exW6!DF6:NA14/2^6, 0))","v":-1},{"$f":"IF(im2colAll_exW6!DG6:NB14 > 0, ROUNDDOWN(im2colAll_exW6!DG6:NB14/2^6, 0), ROUNDUP(im2colAll_exW6!DG6:NB14/2^6, 0))","v":-2},{"$f":"IF(im2colAll_exW6!DH6:NC14 > 0, ROUNDDOWN(im2colAll_exW6!DH6:NC14/2^6, 0), ROUNDUP(im2colAll_exW6!DH6:NC14/2^6, 0))","v":6},{"$f":"IF(im2colAll_exW6!DI6:ND14 > 0, ROUNDDOWN(im2colAll_exW6!DI6:ND14/2^6, 0), ROUNDUP(im2colAll_exW6!DI6:ND14/2^6, 0))","v":-12},{"$f":"IF(im2colAll_exW6!DJ6:NE14 > 0, ROUNDDOWN(im2colAll_exW6!DJ6:NE14/2^6, 0), ROUNDUP(im2colAll_exW6!DJ6:NE14/2^6, 0))","v":-8},{"$f":"IF(im2colAll_exW6!DK6:NF14 > 0, ROUNDDOWN(im2colAll_exW6!DK6:NF14/2^6, 0), ROUNDUP(im2colAll_exW6!DK6:NF14/2^6, 0))","v":2},{"$f":"IF(im2colAll_exW6!DL6:NG14 > 0, ROUNDDOWN(im2colAll_exW6!DL6:NG14/2^6, 0), ROUNDUP(im2colAll_exW6!DL6:NG14/2^6, 0))","v":21},{"$f":"IF(im2colAll_exW6!DM6:NH14 > 0, ROUNDDOWN(im2colAll_exW6!DM6:NH14/2^6, 0), ROUNDUP(im2colAll_exW6!DM6:NH14/2^6, 0))","v":-2},{"$f":"IF(im2colAll_exW6!DN6:NI14 > 0, ROUNDDOWN(im2colAll_exW6!DN6:NI14/2^6, 0), ROUNDUP(im2colAll_exW6!DN6:NI14/2^6, 0))","v":13},{"$f":"IF(im2colAll_exW6!DO6:NJ14 > 0, ROUNDDOWN(im2colAll_exW6!DO6:NJ14/2^6, 0), ROUNDUP(im2colAll_exW6!DO6:NJ14/2^6, 0))","v":-2},{"$f":"IF(im2colAll_exW6!DP6:NK14 > 0, ROUNDDOWN(im2colAll_exW6!DP6:NK14/2^6, 0), ROUNDUP(im2colAll_exW6!DP6:NK14/2^6, 0))","v":19},{"$f":"IF(im2colAll_exW6!DQ6:NL14 > 0, ROUNDDOWN(im2colAll_exW6!DQ6:NL14/2^6, 0), ROUNDUP(im2colAll_exW6!DQ6:NL14/2^6, 0))","v":-3},{"$f":"IF(im2colAll_exW6!DR6:NM14 > 0, ROUNDDOWN(im2colAll_exW6!DR6:NM14/2^6, 0), ROUNDUP(im2colAll_exW6!DR6:NM14/2^6, 0))","v":-6},{"$f":"IF(im2colAll_exW6!DS6:NN14 > 0, ROUNDDOWN(im2colAll_exW6!DS6:NN14/2^6, 0), ROUNDUP(im2colAll_exW6!DS6:NN14/2^6, 0))","v":-5},{"$f":"IF(im2colAll_exW6!DT6:NO14 > 0, ROUNDDOWN(im2colAll_exW6!DT6:NO14/2^6, 0), ROUNDUP(im2colAll_exW6!DT6:NO14/2^6, 0))","v":3},{"$f":"IF(im2colAll_exW6!DU6:NP14 > 0, ROUNDDOWN(im2colAll_exW6!DU6:NP14/2^6, 0), ROUNDUP(im2colAll_exW6!DU6:NP14/2^6, 0))","v":13},{"$f":"IF(im2colAll_exW6!DV6:NQ14 > 0, ROUNDDOWN(im2colAll_exW6!DV6:NQ14/2^6, 0), ROUNDUP(im2colAll_exW6!DV6:NQ14/2^6, 0))","v":7},{"$f":"IF(im2colAll_exW6!DW6:NR14 > 0, ROUNDDOWN(im2colAll_exW6!DW6:NR14/2^6, 0), ROUNDUP(im2colAll_exW6!DW6:NR14/2^6, 0))","v":-3},{"$f":"IF(im2colAll_exW6!DX6:NS14 > 0, ROUNDDOWN(im2colAll_exW6!DX6:NS14/2^6, 0), ROUNDUP(im2colAll_exW6!DX6:NS14/2^6, 0))","v":-13},{"$f":"IF(im2colAll_exW6!DY6:NT14 > 0, ROUNDDOWN(im2colAll_exW6!DY6:NT14/2^6, 0), ROUNDUP(im2colAll_exW6!DY6:NT14/2^6, 0))","v":-11},{"$f":"IF(im2colAll_exW6!DZ6:NU14 > 0, ROUNDDOWN(im2colAll_exW6!DZ6:NU14/2^6, 0), ROUNDUP(im2colAll_exW6!DZ6:NU14/2^6, 0))","v":-9},{"$f":"IF(im2colAll_exW6!EA6:NV14 > 0, ROUNDDOWN(im2colAll_exW6!EA6:NV14/2^6, 0), ROUNDUP(im2colAll_exW6!EA6:NV14/2^6, 0))","v":2},{"$f":"IF(im2colAll_exW6!EB6:NW14 > 0, ROUNDDOWN(im2colAll_exW6!EB6:NW14/2^6, 0), ROUNDUP(im2colAll_exW6!EB6:NW14/2^6, 0))","v":-5},{"$f":"IF(im2colAll_exW6!EC6:NX14 > 0, ROUNDDOWN(im2colAll_exW6!EC6:NX14/2^6, 0), ROUNDUP(im2colAll_exW6!EC6:NX14/2^6, 0))","v":2},{"$f":"IF(im2colAll_exW6!ED6:NY14 > 0, ROUNDDOWN(im2colAll_exW6!ED6:NY14/2^6, 0), ROUNDUP(im2colAll_exW6!ED6:NY14/2^6, 0))","v":16},{"$f":"IF(im2colAll_exW6!EE6:NZ14 > 0, ROUNDDOWN(im2colAll_exW6!EE6:NZ14/2^6, 0), ROUNDUP(im2colAll_exW6!EE6:NZ14/2^6, 0))","v":6},{"$f":"IF(im2colAll_exW6!EF6:OA14 > 0, ROUNDDOWN(im2colAll_exW6!EF6:OA14/2^6, 0), ROUNDUP(im2colAll_exW6!EF6:OA14/2^6, 0))","v":-9},{"$f":"IF(im2colAll_exW6!EG6:OB14 > 0, ROUNDDOWN(im2colAll_exW6!EG6:OB14/2^6, 0), ROUNDUP(im2colAll_exW6!EG6:OB14/2^6, 0))","v":7},{"$f":"IF(im2colAll_exW6!EH6:OC14 > 0, ROUNDDOWN(im2colAll_exW6!EH6:OC14/2^6, 0), ROUNDUP(im2colAll_exW6!EH6:OC14/2^6, 0))","v":-5},{"$f":"IF(im2colAll_exW6!EI6:OD14 > 0, ROUNDDOWN(im2colAll_exW6!EI6:OD14/2^6, 0), ROUNDUP(im2colAll_exW6!EI6:OD14/2^6, 0))","v":-12},{"$f":"IF(im2colAll_exW6!EJ6:OE14 > 0, ROUNDDOWN(im2colAll_exW6!EJ6:OE14/2^6, 0), ROUNDUP(im2colAll_exW6!EJ6:OE14/2^6, 0))","v":15},{"$f":"IF(im2colAll_exW6!EK6:OF14 > 0, ROUNDDOWN(im2colAll_exW6!EK6:OF14/2^6, 0), ROUNDUP(im2colAll_exW6!EK6:OF14/2^6, 0))","v":-8},{"$f":"IF(im2colAll_exW6!EL6:OG14 > 0, ROUNDDOWN(im2colAll_exW6!EL6:OG14/2^6, 0), ROUNDUP(im2colAll_exW6!EL6:OG14/2^6, 0))","v":4},{"$f":"IF(im2colAll_exW6!EM6:OH14 > 0, ROUNDDOWN(im2colAll_exW6!EM6:OH14/2^6, 0), ROUNDUP(im2colAll_exW6!EM6:OH14/2^6, 0))","v":11},{"$f":"IF(im2colAll_exW6!EN6:OI14 > 0, ROUNDDOWN(im2colAll_exW6!EN6:OI14/2^6, 0), ROUNDUP(im2colAll_exW6!EN6:OI14/2^6, 0))","v":0},{"$f":"IF(im2colAll_exW6!EO6:OJ14 > 0, ROUNDDOWN(im2colAll_exW6!EO6:OJ14/2^6, 0), ROUNDUP(im2colAll_exW6!EO6:OJ14/2^6, 0))","v":4},{"$f":"IF(im2colAll_exW6!EP6:OK14 > 0, ROUNDDOWN(im2colAll_exW6!EP6:OK14/2^6, 0), ROUNDUP(im2colAll_exW6!EP6:OK14/2^6, 0))","v":-8},{"$f":"IF(im2colAll_exW6!EQ6:OL14 > 0, ROUNDDOWN(im2colAll_exW6!EQ6:OL14/2^6, 0), ROUNDUP(im2colAll_exW6!EQ6:OL14/2^6, 0))","v":-4},{"$f":"IF(im2colAll_exW6!ER6:OM14 > 0, ROUNDDOWN(im2colAll_exW6!ER6:OM14/2^6, 0), ROUNDUP(im2colAll_exW6!ER6:OM14/2^6, 0))","v":4},{"$f":"IF(im2colAll_exW6!ES6:ON14 > 0, ROUNDDOWN(im2colAll_exW6!ES6:ON14/2^6, 0), ROUNDUP(im2colAll_exW6!ES6:ON14/2^6, 0))","v":-1},{"$f":"IF(im2colAll_exW6!ET6:OO14 > 0, ROUNDDOWN(im2colAll_exW6!ET6:OO14/2^6, 0), ROUNDUP(im2colAll_exW6!ET6:OO14/2^6, 0))","v":16},{"$f":"IF(im2colAll_exW6!EU6:OP14 > 0, ROUNDDOWN(im2colAll_exW6!EU6:OP14/2^6, 0), ROUNDUP(im2colAll_exW6!EU6:OP14/2^6, 0))","v":-3},{"$f":"IF(im2colAll_exW6!EV6:OQ14 > 0, ROUNDDOWN(im2colAll_exW6!EV6:OQ14/2^6, 0), ROUNDUP(im2colAll_exW6!EV6:OQ14/2^6, 0))","v":-9},{"$f":"IF(im2colAll_exW6!EW6:OR14 > 0, ROUNDDOWN(im2colAll_exW6!EW6:OR14/2^6, 0), ROUNDUP(im2colAll_exW6!EW6:OR14/2^6, 0))","v":19},{"$f":"IF(im2colAll_exW6!EX6:OS14 > 0, ROUNDDOWN(im2colAll_exW6!EX6:OS14/2^6, 0), ROUNDUP(im2colAll_exW6!EX6:OS14/2^6, 0))","v":7},{"$f":"IF(im2colAll_exW6!EY6:OT14 > 0, ROUNDDOWN(im2colAll_exW6!EY6:OT14/2^6, 0), ROUNDUP(im2colAll_exW6!EY6:OT14/2^6, 0))","v":21},{"$f":"IF(im2colAll_exW6!EZ6:OU14 > 0, ROUNDDOWN(im2colAll_exW6!EZ6:OU14/2^6, 0), ROUNDUP(im2colAll_exW6!EZ6:OU14/2^6, 0))","v":5},{"$f":"IF(im2colAll_exW6!FA6:OV14 > 0, ROUNDDOWN(im2colAll_exW6!FA6:OV14/2^6, 0), ROUNDUP(im2colAll_exW6!FA6:OV14/2^6, 0))","v":8},{"$f":"IF(im2colAll_exW6!FB6:OW14 > 0, ROUNDDOWN(im2colAll_exW6!FB6:OW14/2^6, 0), ROUNDUP(im2colAll_exW6!FB6:OW14/2^6, 0))","v":12},{"$f":"IF(im2colAll_exW6!FC6:OX14 > 0, ROUNDDOWN(im2colAll_exW6!FC6:OX14/2^6, 0), ROUNDUP(im2colAll_exW6!FC6:OX14/2^6, 0))","v":-9},{"$f":"IF(im2colAll_exW6!FD6:OY14 > 0, ROUNDDOWN(im2colAll_exW6!FD6:OY14/2^6, 0), ROUNDUP(im2colAll_exW6!FD6:OY14/2^6, 0))","v":13},{"$f":"IF(im2colAll_exW6!FE6:OZ14 > 0, ROUNDDOWN(im2colAll_exW6!FE6:OZ14/2^6, 0), ROUNDUP(im2colAll_exW6!FE6:OZ14/2^6, 0))","v":7},{"$f":"IF(im2colAll_exW6!FF6:PA14 > 0, ROUNDDOWN(im2colAll_exW6!FF6:PA14/2^6, 0), ROUNDUP(im2colAll_exW6!FF6:PA14/2^6, 0))","v":-5},{"$f":"IF(im2colAll_exW6!FG6:PB14 > 0, ROUNDDOWN(im2colAll_exW6!FG6:PB14/2^6, 0), ROUNDUP(im2colAll_exW6!FG6:PB14/2^6, 0))","v":1},{"$f":"IF(im2colAll_exW6!FH6:PC14 > 0, ROUNDDOWN(im2colAll_exW6!FH6:PC14/2^6, 0), ROUNDUP(im2colAll_exW6!FH6:PC14/2^6, 0))","v":13},{"$f":"IF(im2colAll_exW6!FI6:PD14 > 0, ROUNDDOWN(im2colAll_exW6!FI6:PD14/2^6, 0), ROUNDUP(im2colAll_exW6!FI6:PD14/2^6, 0))","v":-9},{"$f":"IF(im2colAll_exW6!FJ6:PE14 > 0, ROUNDDOWN(im2colAll_exW6!FJ6:PE14/2^6, 0), ROUNDUP(im2colAll_exW6!FJ6:PE14/2^6, 0))","v":7},{"$f":"IF(im2colAll_exW6!FK6:PF14 > 0, ROUNDDOWN(im2colAll_exW6!FK6:PF14/2^6, 0), ROUNDUP(im2colAll_exW6!FK6:PF14/2^6, 0))","v":12},{"$f":"IF(im2colAll_exW6!FL6:PG14 > 0, ROUNDDOWN(im2colAll_exW6!FL6:PG14/2^6, 0), ROUNDUP(im2colAll_exW6!FL6:PG14/2^6, 0))","v":11},{"$f":"IF(im2colAll_exW6!FM6:PH14 > 0, ROUNDDOWN(im2colAll_exW6!FM6:PH14/2^6, 0), ROUNDUP(im2colAll_exW6!FM6:PH14/2^6, 0))","v":-17},{"$f":"IF(im2colAll_exW6!FN6:PI14 > 0, ROUNDDOWN(im2colAll_exW6!FN6:PI14/2^6, 0), ROUNDUP(im2colAll_exW6!FN6:PI14/2^6, 0))","v":7},{"$f":"IF(im2colAll_exW6!FO6:PJ14 > 0, ROUNDDOWN(im2colAll_exW6!FO6:PJ14/2^6, 0), ROUNDUP(im2colAll_exW6!FO6:PJ14/2^6, 0))","v":4},{"$f":"IF(im2colAll_exW6!FP6:PK14 > 0, ROUNDDOWN(im2colAll_exW6!FP6:PK14/2^6, 0), ROUNDUP(im2colAll_exW6!FP6:PK14/2^6, 0))","v":24},{"$f":"IF(im2colAll_exW6!FQ6:PL14 > 0, ROUNDDOWN(im2colAll_exW6!FQ6:PL14/2^6, 0), ROUNDUP(im2colAll_exW6!FQ6:PL14/2^6, 0))","v":-6},{"$f":"IF(im2colAll_exW6!FR6:PM14 > 0, ROUNDDOWN(im2colAll_exW6!FR6:PM14/2^6, 0), ROUNDUP(im2colAll_exW6!FR6:PM14/2^6, 0))","v":-4},{"$f":"IF(im2colAll_exW6!FS6:PN14 > 0, ROUNDDOWN(im2colAll_exW6!FS6:PN14/2^6, 0), ROUNDUP(im2colAll_exW6!FS6:PN14/2^6, 0))","v":-4},{"$f":"IF(im2colAll_exW6!FT6:PO14 > 0, ROUNDDOWN(im2colAll_exW6!FT6:PO14/2^6, 0), ROUNDUP(im2colAll_exW6!FT6:PO14/2^6, 0))","v":7},{"$f":"IF(im2colAll_exW6!FU6:PP14 > 0, ROUNDDOWN(im2colAll_exW6!FU6:PP14/2^6, 0), ROUNDUP(im2colAll_exW6!FU6:PP14/2^6, 0))","v":-6},{"$f":"IF(im2colAll_exW6!FV6:PQ14 > 0, ROUNDDOWN(im2colAll_exW6!FV6:PQ14/2^6, 0), ROUNDUP(im2colAll_exW6!FV6:PQ14/2^6, 0))","v":-7},{"$f":"IF(im2colAll_exW6!FW6:PR14 > 0, ROUNDDOWN(im2colAll_exW6!FW6:PR14/2^6, 0), ROUNDUP(im2colAll_exW6!FW6:PR14/2^6, 0))","v":-7},{"$f":"IF(im2colAll_exW6!FX6:PS14 > 0, ROUNDDOWN(im2colAll_exW6!FX6:PS14/2^6, 0), ROUNDUP(im2colAll_exW6!FX6:PS14/2^6, 0))","v":4},{"$f":"IF(im2colAll_exW6!FY6:PT14 > 0, ROUNDDOWN(im2colAll_exW6!FY6:PT14/2^6, 0), ROUNDUP(im2colAll_exW6!FY6:PT14/2^6, 0))","v":-14},{"$f":"IF(im2colAll_exW6!FZ6:PU14 > 0, ROUNDDOWN(im2colAll_exW6!FZ6:PU14/2^6, 0), ROUNDUP(im2colAll_exW6!FZ6:PU14/2^6, 0))","v":-17},{"$f":"IF(im2colAll_exW6!GA6:PV14 > 0, ROUNDDOWN(im2colAll_exW6!GA6:PV14/2^6, 0), ROUNDUP(im2colAll_exW6!GA6:PV14/2^6, 0))","v":-2},{"$f":"IF(im2colAll_exW6!GB6:PW14 > 0, ROUNDDOWN(im2colAll_exW6!GB6:PW14/2^6, 0), ROUNDUP(im2colAll_exW6!GB6:PW14/2^6, 0))","v":-3},{"$f":"IF(im2colAll_exW6!GC6:PX14 > 0, ROUNDDOWN(im2colAll_exW6!GC6:PX14/2^6, 0), ROUNDUP(im2colAll_exW6!GC6:PX14/2^6, 0))","v":-5},{"$f":"IF(im2colAll_exW6!GD6:PY14 > 0, ROUNDDOWN(im2colAll_exW6!GD6:PY14/2^6, 0), ROUNDUP(im2colAll_exW6!GD6:PY14/2^6, 0))","v":-9},{"$f":"IF(im2colAll_exW6!GE6:PZ14 > 0, ROUNDDOWN(im2colAll_exW6!GE6:PZ14/2^6, 0), ROUNDUP(im2colAll_exW6!GE6:PZ14/2^6, 0))","v":9},{"$f":"IF(im2colAll_exW6!GF6:QA14 > 0, ROUNDDOWN(im2colAll_exW6!GF6:QA14/2^6, 0), ROUNDUP(im2colAll_exW6!GF6:QA14/2^6, 0))","v":-3},{"$f":"IF(im2colAll_exW6!GG6:QB14 > 0, ROUNDDOWN(im2colAll_exW6!GG6:QB14/2^6, 0), ROUNDUP(im2colAll_exW6!GG6:QB14/2^6, 0))","v":-6},{"$f":"IF(im2colAll_exW6!GH6:QC14 > 0, ROUNDDOWN(im2colAll_exW6!GH6:QC14/2^6, 0), ROUNDUP(im2colAll_exW6!GH6:QC14/2^6, 0))","v":-9},{"$f":"IF(im2colAll_exW6!GI6:QD14 > 0, ROUNDDOWN(im2colAll_exW6!GI6:QD14/2^6, 0), ROUNDUP(im2colAll_exW6!GI6:QD14/2^6, 0))","v":6},{"$f":"IF(im2colAll_exW6!GJ6:QE14 > 0, ROUNDDOWN(im2colAll_exW6!GJ6:QE14/2^6, 0), ROUNDUP(im2colAll_exW6!GJ6:QE14/2^6, 0))","v":2},{"$f":"IF(im2colAll_exW6!GK6:QF14 > 0, ROUNDDOWN(im2colAll_exW6!GK6:QF14/2^6, 0), ROUNDUP(im2colAll_exW6!GK6:QF14/2^6, 0))","v":1},{"$f":"IF(im2colAll_exW6!GL6:QG14 > 0, ROUNDDOWN(im2colAll_exW6!GL6:QG14/2^6, 0), ROUNDUP(im2colAll_exW6!GL6:QG14/2^6, 0))","v":8},{"$f":"IF(im2colAll_exW6!GM6:QH14 > 0, ROUNDDOWN(im2colAll_exW6!GM6:QH14/2^6, 0), ROUNDUP(im2colAll_exW6!GM6:QH14/2^6, 0))","v":6},{"$f":"IF(im2colAll_exW6!GN6:QI14 > 0, ROUNDDOWN(im2colAll_exW6!GN6:QI14/2^6, 0), ROUNDUP(im2colAll_exW6!GN6:QI14/2^6, 0))","v":-3},{"$f":"IF(im2colAll_exW6!GO6:QJ14 > 0, ROUNDDOWN(im2colAll_exW6!GO6:QJ14/2^6, 0), ROUNDUP(im2colAll_exW6!GO6:QJ14/2^6, 0))","v":-9},{"$f":"IF(im2colAll_exW6!GP6:QK14 > 0, ROUNDDOWN(im2colAll_exW6!GP6:QK14/2^6, 0), ROUNDUP(im2colAll_exW6!GP6:QK14/2^6, 0))","v":-4},{"$f":"IF(im2colAll_exW6!GQ6:QL14 > 0, ROUNDDOWN(im2colAll_exW6!GQ6:QL14/2^6, 0), ROUNDUP(im2colAll_exW6!GQ6:QL14/2^6, 0))","v":-7},{"$f":"IF(im2colAll_exW6!GR6:QM14 > 0, ROUNDDOWN(im2colAll_exW6!GR6:QM14/2^6, 0), ROUNDUP(im2colAll_exW6!GR6:QM14/2^6, 0))","v":-10},{"$f":"IF(im2colAll_exW6!GS6:QN14 > 0, ROUNDDOWN(im2colAll_exW6!GS6:QN14/2^6, 0), ROUNDUP(im2colAll_exW6!GS6:QN14/2^6, 0))","v":-2},{"$f":"IF(im2colAll_exW6!GT6:QO14 > 0, ROUNDDOWN(im2colAll_exW6!GT6:QO14/2^6, 0), ROUNDUP(im2colAll_exW6!GT6:QO14/2^6, 0))","v":-7},{"$f":"IF(im2colAll_exW6!GU6:QP14 > 0, ROUNDDOWN(im2colAll_exW6!GU6:QP14/2^6, 0), ROUNDUP(im2colAll_exW6!GU6:QP14/2^6, 0))","v":12},{"$f":"IF(im2colAll_exW6!GV6:QQ14 > 0, ROUNDDOWN(im2colAll_exW6!GV6:QQ14/2^6, 0), ROUNDUP(im2colAll_exW6!GV6:QQ14/2^6, 0))","v":-1},{"$f":"IF(im2colAll_exW6!GW6:QR14 > 0, ROUNDDOWN(im2colAll_exW6!GW6:QR14/2^6, 0), ROUNDUP(im2colAll_exW6!GW6:QR14/2^6, 0))","v":-1},{"$f":"IF(im2colAll_exW6!GX6:QS14 > 0, ROUNDDOWN(im2colAll_exW6!GX6:QS14/2^6, 0), ROUNDUP(im2colAll_exW6!GX6:QS14/2^6, 0))","v":-5},{"$f":"IF(im2colAll_exW6!GY6:QT14 > 0, ROUNDDOWN(im2colAll_exW6!GY6:QT14/2^6, 0), ROUNDUP(im2colAll_exW6!GY6:QT14/2^6, 0))","v":10},{"$f":"IF(im2colAll_exW6!GZ6:QU14 > 0, ROUNDDOWN(im2colAll_exW6!GZ6:QU14/2^6, 0), ROUNDUP(im2colAll_exW6!GZ6:QU14/2^6, 0))","v":11},{"$f":"IF(im2colAll_exW6!HA6:QV14 > 0, ROUNDDOWN(im2colAll_exW6!HA6:QV14/2^6, 0), ROUNDUP(im2colAll_exW6!HA6:QV14/2^6, 0))","v":11},{"$f":"IF(im2colAll_exW6!HB6:QW14 > 0, ROUNDDOWN(im2colAll_exW6!HB6:QW14/2^6, 0), ROUNDUP(im2colAll_exW6!HB6:QW14/2^6, 0))","v":-12},{"$f":"IF(im2colAll_exW6!HC6:QX14 > 0, ROUNDDOWN(im2colAll_exW6!HC6:QX14/2^6, 0), ROUNDUP(im2colAll_exW6!HC6:QX14/2^6, 0))","v":1},{"$f":"IF(im2colAll_exW6!HD6:QY14 > 0, ROUNDDOWN(im2colAll_exW6!HD6:QY14/2^6, 0), ROUNDUP(im2colAll_exW6!HD6:QY14/2^6, 0))","v":9},{"$f":"IF(im2colAll_exW6!HE6:QZ14 > 0, ROUNDDOWN(im2colAll_exW6!HE6:QZ14/2^6, 0), ROUNDUP(im2colAll_exW6!HE6:QZ14/2^6, 0))","v":0},{"$f":"IF(im2colAll_exW6!HF6:RA14 > 0, ROUNDDOWN(im2colAll_exW6!HF6:RA14/2^6, 0), ROUNDUP(im2colAll_exW6!HF6:RA14/2^6, 0))","v":9},{"$f":"IF(im2colAll_exW6!HG6:RB14 > 0, ROUNDDOWN(im2colAll_exW6!HG6:RB14/2^6, 0), ROUNDUP(im2colAll_exW6!HG6:RB14/2^6, 0))","v":-3},{"$f":"IF(im2colAll_exW6!HH6:RC14 > 0, ROUNDDOWN(im2colAll_exW6!HH6:RC14/2^6, 0), ROUNDUP(im2colAll_exW6!HH6:RC14/2^6, 0))","v":2},{"$f":"IF(im2colAll_exW6!HI6:RD14 > 0, ROUNDDOWN(im2colAll_exW6!HI6:RD14/2^6, 0), ROUNDUP(im2colAll_exW6!HI6:RD14/2^6, 0))","v":3},{"$f":"IF(im2colAll_exW6!HJ6:RE14 > 0, ROUNDDOWN(im2colAll_exW6!HJ6:RE14/2^6, 0), ROUNDUP(im2colAll_exW6!HJ6:RE14/2^6, 0))","v":26},{"$f":"IF(im2colAll_exW6!HK6:RF14 > 0, ROUNDDOWN(im2colAll_exW6!HK6:RF14/2^6, 0), ROUNDUP(im2colAll_exW6!HK6:RF14/2^6, 0))","v":-7},{"$f":"IF(im2colAll_exW6!HL6:RG14 > 0, ROUNDDOWN(im2colAll_exW6!HL6:RG14/2^6, 0), ROUNDUP(im2colAll_exW6!HL6:RG14/2^6, 0))","v":-7},{"$f":"IF(im2colAll_exW6!HM6:RH14 > 0, ROUNDDOWN(im2colAll_exW6!HM6:RH14/2^6, 0), ROUNDUP(im2colAll_exW6!HM6:RH14/2^6, 0))","v":0},{"$f":"IF(im2colAll_exW6!HN6:RI14 > 0, ROUNDDOWN(im2colAll_exW6!HN6:RI14/2^6, 0), ROUNDUP(im2colAll_exW6!HN6:RI14/2^6, 0))","v":6},{"$f":"IF(im2colAll_exW6!HO6:RJ14 > 0, ROUNDDOWN(im2colAll_exW6!HO6:RJ14/2^6, 0), ROUNDUP(im2colAll_exW6!HO6:RJ14/2^6, 0))","v":-12},{"$f":"IF(im2colAll_exW6!HP6:RK14 > 0, ROUNDDOWN(im2colAll_exW6!HP6:RK14/2^6, 0), ROUNDUP(im2colAll_exW6!HP6:RK14/2^6, 0))","v":-5},{"$f":"IF(im2colAll_exW6!HQ6:RL14 > 0, ROUNDDOWN(im2colAll_exW6!HQ6:RL14/2^6, 0), ROUNDUP(im2colAll_exW6!HQ6:RL14/2^6, 0))","v":14},{"$f":"IF(im2colAll_exW6!HR6:RM14 > 0, ROUNDDOWN(im2colAll_exW6!HR6:RM14/2^6, 0), ROUNDUP(im2colAll_exW6!HR6:RM14/2^6, 0))","v":3},{"$f":"IF(im2colAll_exW6!HS6:RN14 > 0, ROUNDDOWN(im2colAll_exW6!HS6:RN14/2^6, 0), ROUNDUP(im2colAll_exW6!HS6:RN14/2^6, 0))","v":1},{"$f":"IF(im2colAll_exW6!HT6:RO14 > 0, ROUNDDOWN(im2colAll_exW6!HT6:RO14/2^6, 0), ROUNDUP(im2colAll_exW6!HT6:RO14/2^6, 0))","v":-6},{"$f":"IF(im2colAll_exW6!HU6:RP14 > 0, ROUNDDOWN(im2colAll_exW6!HU6:RP14/2^6, 0), ROUNDUP(im2colAll_exW6!HU6:RP14/2^6, 0))","v":1},{"$f":"IF(im2colAll_exW6!HV6:RQ14 > 0, ROUNDDOWN(im2colAll_exW6!HV6:RQ14/2^6, 0), ROUNDUP(im2colAll_exW6!HV6:RQ14/2^6, 0))","v":1},{"$f":"IF(im2colAll_exW6!HW6:RR14 > 0, ROUNDDOWN(im2colAll_exW6!HW6:RR14/2^6, 0), ROUNDUP(im2colAll_exW6!HW6:RR14/2^6, 0))","v":15},{"$f":"IF(im2colAll_exW6!HX6:RS14 > 0, ROUNDDOWN(im2colAll_exW6!HX6:RS14/2^6, 0), ROUNDUP(im2colAll_exW6!HX6:RS14/2^6, 0))","v":-10},{"$f":"IF(im2colAll_exW6!HY6:RT14 > 0, ROUNDDOWN(im2colAll_exW6!HY6:RT14/2^6, 0), ROUNDUP(im2colAll_exW6!HY6:RT14/2^6, 0))","v":4},{"$f":"IF(im2colAll_exW6!HZ6:RU14 > 0, ROUNDDOWN(im2colAll_exW6!HZ6:RU14/2^6, 0), ROUNDUP(im2colAll_exW6!HZ6:RU14/2^6, 0))","v":13},{"$f":"IF(im2colAll_exW6!IA6:RV14 > 0, ROUNDDOWN(im2colAll_exW6!IA6:RV14/2^6, 0), ROUNDUP(im2colAll_exW6!IA6:RV14/2^6, 0))","v":-9},{"$f":"IF(im2colAll_exW6!IB6:RW14 > 0, ROUNDDOWN(im2colAll_exW6!IB6:RW14/2^6, 0), ROUNDUP(im2colAll_exW6!IB6:RW14/2^6, 0))","v":9},{"$f":"IF(im2colAll_exW6!IC6:RX14 > 0, ROUNDDOWN(im2colAll_exW6!IC6:RX14/2^6, 0), ROUNDUP(im2colAll_exW6!IC6:RX14/2^6, 0))","v":6},{"$f":"IF(im2colAll_exW6!ID6:RY14 > 0, ROUNDDOWN(im2colAll_exW6!ID6:RY14/2^6, 0), ROUNDUP(im2colAll_exW6!ID6:RY14/2^6, 0))","v":3},{"$f":"IF(im2colAll_exW6!IE6:RZ14 > 0, ROUNDDOWN(im2colAll_exW6!IE6:RZ14/2^6, 0), ROUNDUP(im2colAll_exW6!IE6:RZ14/2^6, 0))","v":2},{"$f":"IF(im2colAll_exW6!IF6:SA14 > 0, ROUNDDOWN(im2colAll_exW6!IF6:SA14/2^6, 0), ROUNDUP(im2colAll_exW6!IF6:SA14/2^6, 0))","v":3},{"$f":"IF(im2colAll_exW6!IG6:SB14 > 0, ROUNDDOWN(im2colAll_exW6!IG6:SB14/2^6, 0), ROUNDUP(im2colAll_exW6!IG6:SB14/2^6, 0))","v":0},{"$f":"IF(im2colAll_exW6!IH6:SC14 > 0, ROUNDDOWN(im2colAll_exW6!IH6:SC14/2^6, 0), ROUNDUP(im2colAll_exW6!IH6:SC14/2^6, 0))","v":1},{"$f":"IF(im2colAll_exW6!II6:SD14 > 0, ROUNDDOWN(im2colAll_exW6!II6:SD14/2^6, 0), ROUNDUP(im2colAll_exW6!II6:SD14/2^6, 0))","v":-5},{"$f":"IF(im2colAll_exW6!IJ6:SE14 > 0, ROUNDDOWN(im2colAll_exW6!IJ6:SE14/2^6, 0), ROUNDUP(im2colAll_exW6!IJ6:SE14/2^6, 0))","v":-3},{"$f":"IF(im2colAll_exW6!IK6:SF14 > 0, ROUNDDOWN(im2colAll_exW6!IK6:SF14/2^6, 0), ROUNDUP(im2colAll_exW6!IK6:SF14/2^6, 0))","v":-1},{"$f":"IF(im2colAll_exW6!IL6:SG14 > 0, ROUNDDOWN(im2colAll_exW6!IL6:SG14/2^6, 0), ROUNDUP(im2colAll_exW6!IL6:SG14/2^6, 0))","v":20},{"$f":"IF(im2colAll_exW6!IM6:SH14 > 0, ROUNDDOWN(im2colAll_exW6!IM6:SH14/2^6, 0), ROUNDUP(im2colAll_exW6!IM6:SH14/2^6, 0))","v":11},{"$f":"IF(im2colAll_exW6!IN6:SI14 > 0, ROUNDDOWN(im2colAll_exW6!IN6:SI14/2^6, 0), ROUNDUP(im2colAll_exW6!IN6:SI14/2^6, 0))","v":10},{"$f":"IF(im2colAll_exW6!IO6:SJ14 > 0, ROUNDDOWN(im2colAll_exW6!IO6:SJ14/2^6, 0), ROUNDUP(im2colAll_exW6!IO6:SJ14/2^6, 0))","v":-1},{"$f":"IF(im2colAll_exW6!IP6:SK14 > 0, ROUNDDOWN(im2colAll_exW6!IP6:SK14/2^6, 0), ROUNDUP(im2colAll_exW6!IP6:SK14/2^6, 0))","v":-1},{"$f":"IF(im2colAll_exW6!IQ6:SL14 > 0, ROUNDDOWN(im2colAll_exW6!IQ6:SL14/2^6, 0), ROUNDUP(im2colAll_exW6!IQ6:SL14/2^6, 0))","v":-1},{"$f":"IF(im2colAll_exW6!IR6:SM14 > 0, ROUNDDOWN(im2colAll_exW6!IR6:SM14/2^6, 0), ROUNDUP(im2colAll_exW6!IR6:SM14/2^6, 0))","v":15},{"$f":"IF(im2colAll_exW6!IS6:SN14 > 0, ROUNDDOWN(im2colAll_exW6!IS6:SN14/2^6, 0), ROUNDUP(im2colAll_exW6!IS6:SN14/2^6, 0))","v":3},{"$f":"IF(im2colAll_exW6!IT6:SO14 > 0, ROUNDDOWN(im2colAll_exW6!IT6:SO14/2^6, 0), ROUNDUP(im2colAll_exW6!IT6:SO14/2^6, 0))","v":-3},{"$f":"IF(im2colAll_exW6!IU6:SP14 > 0, ROUNDDOWN(im2colAll_exW6!IU6:SP14/2^6, 0), ROUNDUP(im2colAll_exW6!IU6:SP14/2^6, 0))","v":10},{"$f":"IF(im2colAll_exW6!IV6:SQ14 > 0, ROUNDDOWN(im2colAll_exW6!IV6:SQ14/2^6, 0), ROUNDUP(im2colAll_exW6!IV6:SQ14/2^6, 0))","v":8}]
[{"$f":"IF(im2colAll_exW6!A7:IV15 > 0, ROUNDDOWN(im2colAll_exW6!A7:IV15/2^6, 0), ROUNDUP(im2colAll_exW6!A7:IV15/2^6, 0))","v":18},{"$f":"IF(im2colAll_exW6!B7:IW15 > 0, ROUNDDOWN(im2colAll_exW6!B7:IW15/2^6, 0), ROUNDUP(im2colAll_exW6!B7:IW15/2^6, 0))","v":11},{"$f":"IF(im2colAll_exW6!C7:IX15 > 0, ROUNDDOWN(im2colAll_exW6!C7:IX15/2^6, 0), ROUNDUP(im2colAll_exW6!C7:IX15/2^6, 0))","v":2},{"$f":"IF(im2colAll_exW6!D7:IY15 > 0, ROUNDDOWN(im2colAll_exW6!D7:IY15/2^6, 0), ROUNDUP(im2colAll_exW6!D7:IY15/2^6, 0))","v":-3},{"$f":"IF(im2colAll_exW6!E7:IZ15 > 0, ROUNDDOWN(im2colAll_exW6!E7:IZ15/2^6, 0), ROUNDUP(im2colAll_exW6!E7:IZ15/2^6, 0))","v":17},{"$f":"IF(im2colAll_exW6!F7:JA15 > 0, ROUNDDOWN(im2colAll_exW6!F7:JA15/2^6, 0), ROUNDUP(im2colAll_exW6!F7:JA15/2^6, 0))","v":-9},{"$f":"IF(im2colAll_exW6!G7:JB15 > 0, ROUNDDOWN(im2colAll_exW6!G7:JB15/2^6, 0), ROUNDUP(im2colAll_exW6!G7:JB15/2^6, 0))","v":4},{"$f":"IF(im2colAll_exW6!H7:JC15 > 0, ROUNDDOWN(im2colAll_exW6!H7:JC15/2^6, 0), ROUNDUP(im2colAll_exW6!H7:JC15/2^6, 0))","v":-4},{"$f":"IF(im2colAll_exW6!I7:JD15 > 0, ROUNDDOWN(im2colAll_exW6!I7:JD15/2^6, 0), ROUNDUP(im2colAll_exW6!I7:JD15/2^6, 0))","v":0},{"$f":"IF(im2colAll_exW6!J7:JE15 > 0, ROUNDDOWN(im2colAll_exW6!J7:JE15/2^6, 0), ROUNDUP(im2colAll_exW6!J7:JE15/2^6, 0))","v":-3},{"$f":"IF(im2colAll_exW6!K7:JF15 > 0, ROUNDDOWN(im2colAll_exW6!K7:JF15/2^6, 0), ROUNDUP(im2colAll_exW6!K7:JF15/2^6, 0))","v":-6},{"$f":"IF(im2colAll_exW6!L7:JG15 > 0, ROUNDDOWN(im2colAll_exW6!L7:JG15/2^6, 0), ROUNDUP(im2colAll_exW6!L7:JG15/2^6, 0))","v":7},{"$f":"IF(im2colAll_exW6!M7:JH15 > 0, ROUNDDOWN(im2colAll_exW6!M7:JH15/2^6, 0), ROUNDUP(im2colAll_exW6!M7:JH15/2^6, 0))","v":-11},{"$f":"IF(im2colAll_exW6!N7:JI15 > 0, ROUNDDOWN(im2colAll_exW6!N7:JI15/2^6, 0), ROUNDUP(im2colAll_exW6!N7:JI15/2^6, 0))","v":-5},{"$f":"IF(im2colAll_exW6!O7:JJ15 > 0, ROUNDDOWN(im2colAll_exW6!O7:JJ15/2^6, 0), ROUNDUP(im2colAll_exW6!O7:JJ15/2^6, 0))","v":17},{"$f":"IF(im2colAll_exW6!P7:JK15 > 0, ROUNDDOWN(im2colAll_exW6!P7:JK15/2^6, 0), ROUNDUP(im2colAll_exW6!P7:JK15/2^6, 0))","v":5},{"$f":"IF(im2colAll_exW6!Q7:JL15 > 0, ROUNDDOWN(im2colAll_exW6!Q7:JL15/2^6, 0), ROUNDUP(im2colAll_exW6!Q7:JL15/2^6, 0))","v":-10},{"$f":"IF(im2colAll_exW6!R7:JM15 > 0, ROUNDDOWN(im2colAll_exW6!R7:JM15/2^6, 0), ROUNDUP(im2colAll_exW6!R7:JM15/2^6, 0))","v":-5},{"$f":"IF(im2colAll_exW6!S7:JN15 > 0, ROUNDDOWN(im2colAll_exW6!S7:JN15/2^6, 0), ROUNDUP(im2colAll_exW6!S7:JN15/2^6, 0))","v":15},{"$f":"IF(im2colAll_exW6!T7:JO15 > 0, ROUNDDOWN(im2colAll_exW6!T7:JO15/2^6, 0), ROUNDUP(im2colAll_exW6!T7:JO15/2^6, 0))","v":7},{"$f":"IF(im2colAll_exW6!U7:JP15 > 0, ROUNDDOWN(im2colAll_exW6!U7:JP15/2^6, 0), ROUNDUP(im2colAll_exW6!U7:JP15/2^6, 0))","v":14},{"$f":"IF(im2colAll_exW6!V7:JQ15 > 0, ROUNDDOWN(im2colAll_exW6!V7:JQ15/2^6, 0), ROUNDUP(im2colAll_exW6!V7:JQ15/2^6, 0))","v":2},{"$f":"IF(im2colAll_exW6!W7:JR15 > 0, ROUNDDOWN(im2colAll_exW6!W7:JR15/2^6, 0), ROUNDUP(im2colAll_exW6!W7:JR15/2^6, 0))","v":16},{"$f":"IF(im2colAll_exW6!X7:JS15 > 0, ROUNDDOWN(im2colAll_exW6!X7:JS15/2^6, 0), ROUNDUP(im2colAll_exW6!X7:JS15/2^6, 0))","v":3},{"$f":"IF(im2colAll_exW6!Y7:JT15 > 0, ROUNDDOWN(im2colAll_exW6!Y7:JT15/2^6, 0), ROUNDUP(im2colAll_exW6!Y7:JT15/2^6, 0))","v":10},{"$f":"IF(im2colAll_exW6!Z7:JU15 > 0, ROUNDDOWN(im2colAll_exW6!Z7:JU15/2^6, 0), ROUNDUP(im2colAll_exW6!Z7:JU15/2^6, 0))","v":-14},{"$f":"IF(im2colAll_exW6!AA7:JV15 > 0, ROUNDDOWN(im2colAll_exW6!AA7:JV15/2^6, 0), ROUNDUP(im2colAll_exW6!AA7:JV15/2^6, 0))","v":-5},{"$f":"IF(im2colAll_exW6!AB7:JW15 > 0, ROUNDDOWN(im2colAll_exW6!AB7:JW15/2^6, 0), ROUNDUP(im2colAll_exW6!AB7:JW15/2^6, 0))","v":-4},{"$f":"IF(im2colAll_exW6!AC7:JX15 > 0, ROUNDDOWN(im2colAll_exW6!AC7:JX15/2^6, 0), ROUNDUP(im2colAll_exW6!AC7:JX15/2^6, 0))","v":8},{"$f":"IF(im2colAll_exW6!AD7:JY15 > 0, ROUNDDOWN(im2colAll_exW6!AD7:JY15/2^6, 0), ROUNDUP(im2colAll_exW6!AD7:JY15/2^6, 0))","v":-3},{"$f":"IF(im2colAll_exW6!AE7:JZ15 > 0, ROUNDDOWN(im2colAll_exW6!AE7:JZ15/2^6, 0), ROUNDUP(im2colAll_exW6!AE7:JZ15/2^6, 0))","v":10},{"$f":"IF(im2colAll_exW6!AF7:KA15 > 0, ROUNDDOWN(im2colAll_exW6!AF7:KA15/2^6, 0), ROUNDUP(im2colAll_exW6!AF7:KA15/2^6, 0))","v":-3},{"$f":"IF(im2colAll_exW6!AG7:KB15 > 0, ROUNDDOWN(im2colAll_exW6!AG7:KB15/2^6, 0), ROUNDUP(im2colAll_exW6!AG7:KB15/2^6, 0))","v":-6},{"$f":"IF(im2colAll_exW6!AH7:KC15 > 0, ROUNDDOWN(im2colAll_exW6!AH7:KC15/2^6, 0), ROUNDUP(im2colAll_exW6!AH7:KC15/2^6, 0))","v":2},{"$f":"IF(im2colAll_exW6!AI7:KD15 > 0, ROUNDDOWN(im2colAll_exW6!AI7:KD15/2^6, 0), ROUNDUP(im2colAll_exW6!AI7:KD15/2^6, 0))","v":-1},{"$f":"IF(im2colAll_exW6!AJ7:KE15 > 0, ROUNDDOWN(im2colAll_exW6!AJ7:KE15/2^6, 0), ROUNDUP(im2colAll_exW6!AJ7:KE15/2^6, 0))","v":8},{"$f":"IF(im2colAll_exW6!AK7:KF15 > 0, ROUNDDOWN(im2colAll_exW6!AK7:KF15/2^6, 0), ROUNDUP(im2colAll_exW6!AK7:KF15/2^6, 0))","v":-5},{"$f":"IF(im2colAll_exW6!AL7:KG15 > 0, ROUNDDOWN(im2colAll_exW6!AL7:KG15/2^6, 0), ROUNDUP(im2colAll_exW6!AL7:KG15/2^6, 0))","v":10},{"$f":"IF(im2colAll_exW6!AM7:KH15 > 0, ROUNDDOWN(im2colAll_exW6!AM7:KH15/2^6, 0), ROUNDUP(im2colAll_exW6!AM7:KH15/2^6, 0))","v":6},{"$f":"IF(im2colAll_exW6!AN7:KI15 > 0, ROUNDDOWN(im2colAll_exW6!AN7:KI15/2^6, 0), ROUNDUP(im2colAll_exW6!AN7:KI15/2^6, 0))","v":-10},{"$f":"IF(im2colAll_exW6!AO7:KJ15 > 0, ROUNDDOWN(im2colAll_exW6!AO7:KJ15/2^6, 0), ROUNDUP(im2colAll_exW6!AO7:KJ15/2^6, 0))","v":-2},{"$f":"IF(im2colAll_exW6!AP7:KK15 > 0, ROUNDDOWN(im2colAll_exW6!AP7:KK15/2^6, 0), ROUNDUP(im2colAll_exW6!AP7:KK15/2^6, 0))","v":6},{"$f":"IF(im2colAll_exW6!AQ7:KL15 > 0, ROUNDDOWN(im2colAll_exW6!AQ7:KL15/2^6, 0), ROUNDUP(im2colAll_exW6!AQ7:KL15/2^6, 0))","v":-8},{"$f":"IF(im2colAll_exW6!AR7:KM15 > 0, ROUNDDOWN(im2colAll_exW6!AR7:KM15/2^6, 0), ROUNDUP(im2colAll_exW6!AR7:KM15/2^6, 0))","v":10},{"$f":"IF(im2colAll_exW6!AS7:KN15 > 0, ROUNDDOWN(im2colAll_exW6!AS7:KN15/2^6, 0), ROUNDUP(im2colAll_exW6!AS7:KN15/2^6, 0))","v":5},{"$f":"IF(im2colAll_exW6!AT7:KO15 > 0, ROUNDDOWN(im2colAll_exW6!AT7:KO15/2^6, 0), ROUNDUP(im2colAll_exW6!AT7:KO15/2^6, 0))","v":-11},{"$f":"IF(im2colAll_exW6!AU7:KP15 > 0, ROUNDDOWN(im2colAll_exW6!AU7:KP15/2^6, 0), ROUNDUP(im2colAll_exW6!AU7:KP15/2^6, 0))","v":-8},{"$f":"IF(im2colAll_exW6!AV7:KQ15 > 0, ROUNDDOWN(im2colAll_exW6!AV7:KQ15/2^6, 0), ROUNDUP(im2colAll_exW6!AV7:KQ15/2^6, 0))","v":-3},{"$f":"IF(im2colAll_exW6!AW7:KR15 > 0, ROUNDDOWN(im2colAll_exW6!AW7:KR15/2^6, 0), ROUNDUP(im2colAll_exW6!AW7:KR15/2^6, 0))","v":11},{"$f":"IF(im2colAll_exW6!AX7:KS15 > 0, ROUNDDOWN(im2colAll_exW6!AX7:KS15/2^6, 0), ROUNDUP(im2colAll_exW6!AX7:KS15/2^6, 0))","v":2},{"$f":"IF(im2colAll_exW6!AY7:KT15 > 0, ROUNDDOWN(im2colAll_exW6!AY7:KT15/2^6, 0), ROUNDUP(im2colAll_exW6!AY7:KT15/2^6, 0))","v":-3},{"$f":"IF(im2colAll_exW6!AZ7:KU15 > 0, ROUNDDOWN(im2colAll_exW6!AZ7:KU15/2^6, 0), ROUNDUP(im2colAll_exW6!AZ7:KU15/2^6, 0))","v":5},{"$f":"IF(im2colAll_exW6!BA7:KV15 > 0, ROUNDDOWN(im2colAll_exW6!BA7:KV15/2^6, 0), ROUNDUP(im2colAll_exW6!BA7:KV15/2^6, 0))","v":-1},{"$f":"IF(im2colAll_exW6!BB7:KW15 > 0, ROUNDDOWN(im2colAll_exW6!BB7:KW15/2^6, 0), ROUNDUP(im2colAll_exW6!BB7:KW15/2^6, 0))","v":6},{"$f":"IF(im2colAll_exW6!BC7:KX15 > 0, ROUNDDOWN(im2colAll_exW6!BC7:KX15/2^6, 0), ROUNDUP(im2colAll_exW6!BC7:KX15/2^6, 0))","v":14},{"$f":"IF(im2colAll_exW6!BD7:KY15 > 0, ROUNDDOWN(im2colAll_exW6!BD7:KY15/2^6, 0), ROUNDUP(im2colAll_exW6!BD7:KY15/2^6, 0))","v":0},{"$f":"IF(im2colAll_exW6!BE7:KZ15 > 0, ROUNDDOWN(im2colAll_exW6!BE7:KZ15/2^6, 0), ROUNDUP(im2colAll_exW6!BE7:KZ15/2^6, 0))","v":-3},{"$f":"IF(im2colAll_exW6!BF7:LA15 > 0, ROUNDDOWN(im2colAll_exW6!BF7:LA15/2^6, 0), ROUNDUP(im2colAll_exW6!BF7:LA15/2^6, 0))","v":-6},{"$f":"IF(im2colAll_exW6!BG7:LB15 > 0, ROUNDDOWN(im2colAll_exW6!BG7:LB15/2^6, 0), ROUNDUP(im2colAll_exW6!BG7:LB15/2^6, 0))","v":8},{"$f":"IF(im2colAll_exW6!BH7:LC15 > 0, ROUNDDOWN(im2colAll_exW6!BH7:LC15/2^6, 0), ROUNDUP(im2colAll_exW6!BH7:LC15/2^6, 0))","v":7},{"$f":"IF(im2colAll_exW6!BI7:LD15 > 0, ROUNDDOWN(im2colAll_exW6!BI7:LD15/2^6, 0), ROUNDUP(im2colAll_exW6!BI7:LD15/2^6, 0))","v":18},{"$f":"IF(im2colAll_exW6!BJ7:LE15 > 0, ROUNDDOWN(im2colAll_exW6!BJ7:LE15/2^6, 0), ROUNDUP(im2colAll_exW6!BJ7:LE15/2^6, 0))","v":-5},{"$f":"IF(im2colAll_exW6!BK7:LF15 > 0, ROUNDDOWN(im2colAll_exW6!BK7:LF15/2^6, 0), ROUNDUP(im2colAll_exW6!BK7:LF15/2^6, 0))","v":-5},{"$f":"IF(im2colAll_exW6!BL7:LG15 > 0, ROUNDDOWN(im2colAll_exW6!BL7:LG15/2^6, 0), ROUNDUP(im2colAll_exW6!BL7:LG15/2^6, 0))","v":12},{"$f":"IF(im2colAll_exW6!BM7:LH15 > 0, ROUNDDOWN(im2colAll_exW6!BM7:LH15/2^6, 0), ROUNDUP(im2colAll_exW6!BM7:LH15/2^6, 0))","v":1},{"$f":"IF(im2colAll_exW6!BN7:LI15 > 0, ROUNDDOWN(im2colAll_exW6!BN7:LI15/2^6, 0), ROUNDUP(im2colAll_exW6!BN7:LI15/2^6, 0))","v":3},{"$f":"IF(im2colAll_exW6!BO7:LJ15 > 0, ROUNDDOWN(im2colAll_exW6!BO7:LJ15/2^6, 0), ROUNDUP(im2colAll_exW6!BO7:LJ15/2^6, 0))","v":3},{"$f":"IF(im2colAll_exW6!BP7:LK15 > 0, ROUNDDOWN(im2colAll_exW6!BP7:LK15/2^6, 0), ROUNDUP(im2colAll_exW6!BP7:LK15/2^6, 0))","v":4},{"$f":"IF(im2colAll_exW6!BQ7:LL15 > 0, ROUNDDOWN(im2colAll_exW6!BQ7:LL15/2^6, 0), ROUNDUP(im2colAll_exW6!BQ7:LL15/2^6, 0))","v":-2},{"$f":"IF(im2colAll_exW6!BR7:LM15 > 0, ROUNDDOWN(im2colAll_exW6!BR7:LM15/2^6, 0), ROUNDUP(im2colAll_exW6!BR7:LM15/2^6, 0))","v":6},{"$f":"IF(im2colAll_exW6!BS7:LN15 > 0, ROUNDDOWN(im2colAll_exW6!BS7:LN15/2^6, 0), ROUNDUP(im2colAll_exW6!BS7:LN15/2^6, 0))","v":8},{"$f":"IF(im2colAll_exW6!BT7:LO15 > 0, ROUNDDOWN(im2colAll_exW6!BT7:LO15/2^6, 0), ROUNDUP(im2colAll_exW6!BT7:LO15/2^6, 0))","v":-10},{"$f":"IF(im2colAll_exW6!BU7:LP15 > 0, ROUNDDOWN(im2colAll_exW6!BU7:LP15/2^6, 0), ROUNDUP(im2colAll_exW6!BU7:LP15/2^6, 0))","v":7},{"$f":"IF(im2colAll_exW6!BV7:LQ15 > 0, ROUNDDOWN(im2colAll_exW6!BV7:LQ15/2^6, 0), ROUNDUP(im2colAll_exW6!BV7:LQ15/2^6, 0))","v":2},{"$f":"IF(im2colAll_exW6!BW7:LR15 > 0, ROUNDDOWN(im2colAll_exW6!BW7:LR15/2^6, 0), ROUNDUP(im2colAll_exW6!BW7:LR15/2^6, 0))","v":12},{"$f":"IF(im2colAll_exW6!BX7:LS15 > 0, ROUNDDOWN(im2colAll_exW6!BX7:LS15/2^6, 0), ROUNDUP(im2colAll_exW6!BX7:LS15/2^6, 0))","v":3},{"$f":"IF(im2colAll_exW6!BY7:LT15 > 0, ROUNDDOWN(im2colAll_exW6!BY7:LT15/2^6, 0), ROUNDUP(im2colAll_exW6!BY7:LT15/2^6, 0))","v":-3},{"$f":"IF(im2colAll_exW6!BZ7:LU15 > 0, ROUNDDOWN(im2colAll_exW6!BZ7:LU15/2^6, 0), ROUNDUP(im2colAll_exW6!BZ7:LU15/2^6, 0))","v":9},{"$f":"IF(im2colAll_exW6!CA7:LV15 > 0, ROUNDDOWN(im2colAll_exW6!CA7:LV15/2^6, 0), ROUNDUP(im2colAll_exW6!CA7:LV15/2^6, 0))","v":7},{"$f":"IF(im2colAll_exW6!CB7:LW15 > 0, ROUNDDOWN(im2colAll_exW6!CB7:LW15/2^6, 0), ROUNDUP(im2colAll_exW6!CB7:LW15/2^6, 0))","v":-5},{"$f":"IF(im2colAll_exW6!CC7:LX15 > 0, ROUNDDOWN(im2colAll_exW6!CC7:LX15/2^6, 0), ROUNDUP(im2colAll_exW6!CC7:LX15/2^6, 0))","v":0},{"$f":"IF(im2colAll_exW6!CD7:LY15 > 0, ROUNDDOWN(im2colAll_exW6!CD7:LY15/2^6, 0), ROUNDUP(im2colAll_exW6!CD7:LY15/2^6, 0))","v":-6},{"$f":"IF(im2colAll_exW6!CE7:LZ15 > 0, ROUNDDOWN(im2colAll_exW6!CE7:LZ15/2^6, 0), ROUNDUP(im2colAll_exW6!CE7:LZ15/2^6, 0))","v":-7},{"$f":"IF(im2colAll_exW6!CF7:MA15 > 0, ROUNDDOWN(im2colAll_exW6!CF7:MA15/2^6, 0), ROUNDUP(im2colAll_exW6!CF7:MA15/2^6, 0))","v":10},{"$f":"IF(im2colAll_exW6!CG7:MB15 > 0, ROUNDDOWN(im2colAll_exW6!CG7:MB15/2^6, 0), ROUNDUP(im2colAll_exW6!CG7:MB15/2^6, 0))","v":9},{"$f":"IF(im2colAll_exW6!CH7:MC15 > 0, ROUNDDOWN(im2colAll_exW6!CH7:MC15/2^6, 0), ROUNDUP(im2colAll_exW6!CH7:MC15/2^6, 0))","v":-1},{"$f":"IF(im2colAll_exW6!CI7:MD15 > 0, ROUNDDOWN(im2colAll_exW6!CI7:MD15/2^6, 0), ROUNDUP(im2colAll_exW6!CI7:MD15/2^6, 0))","v":7},{"$f":"IF(im2colAll_exW6!CJ7:ME15 > 0, ROUNDDOWN(im2colAll_exW6!CJ7:ME15/2^6, 0), ROUNDUP(im2colAll_exW6!CJ7:ME15/2^6, 0))","v":12},{"$f":"IF(im2colAll_exW6!CK7:MF15 > 0, ROUNDDOWN(im2colAll_exW6!CK7:MF15/2^6, 0), ROUNDUP(im2colAll_exW6!CK7:MF15/2^6, 0))","v":3},{"$f":"IF(im2colAll_exW6!CL7:MG15 > 0, ROUNDDOWN(im2colAll_exW6!CL7:MG15/2^6, 0), ROUNDUP(im2colAll_exW6!CL7:MG15/2^6, 0))","v":9},{"$f":"IF(im2colAll_exW6!CM7:MH15 > 0, ROUNDDOWN(im2colAll_exW6!CM7:MH15/2^6, 0), ROUNDUP(im2colAll_exW6!CM7:MH15/2^6, 0))","v":-7},{"$f":"IF(im2colAll_exW6!CN7:MI15 > 0, ROUNDDOWN(im2colAll_exW6!CN7:MI15/2^6, 0), ROUNDUP(im2colAll_exW6!CN7:MI15/2^6, 0))","v":11},{"$f":"IF(im2colAll_exW6!CO7:MJ15 > 0, ROUNDDOWN(im2colAll_exW6!CO7:MJ15/2^6, 0), ROUNDUP(im2colAll_exW6!CO7:MJ15/2^6, 0))","v":-1},{"$f":"IF(im2colAll_exW6!CP7:MK15 > 0, ROUNDDOWN(im2colAll_exW6!CP7:MK15/2^6, 0), ROUNDUP(im2colAll_exW6!CP7:MK15/2^6, 0))","v":-3},{"$f":"IF(im2colAll_exW6!CQ7:ML15 > 0, ROUNDDOWN(im2colAll_exW6!CQ7:ML15/2^6, 0), ROUNDUP(im2colAll_exW6!CQ7:ML15/2^6, 0))","v":0},{"$f":"IF(im2colAll_exW6!CR7:MM15 > 0, ROUNDDOWN(im2colAll_exW6!CR7:MM15/2^6, 0), ROUNDUP(im2colAll_exW6!CR7:MM15/2^6, 0))","v":11},{"$f":"IF(im2colAll_exW6!CS7:MN15 > 0, ROUNDDOWN(im2colAll_exW6!CS7:MN15/2^6, 0), ROUNDUP(im2colAll_exW6!CS7:MN15/2^6, 0))","v":4},{"$f":"IF(im2colAll_exW6!CT7:MO15 > 0, ROUNDDOWN(im2colAll_exW6!CT7:MO15/2^6, 0), ROUNDUP(im2colAll_exW6!CT7:MO15/2^6, 0))","v":7},{"$f":"IF(im2colAll_exW6!CU7:MP15 > 0, ROUNDDOWN(im2colAll_exW6!CU7:MP15/2^6, 0), ROUNDUP(im2colAll_exW6!CU7:MP15/2^6, 0))","v":-5},{"$f":"IF(im2colAll_exW6!CV7:MQ15 > 0, ROUNDDOWN(im2colAll_exW6!CV7:MQ15/2^6, 0), ROUNDUP(im2colAll_exW6!CV7:MQ15/2^6, 0))","v":3},{"$f":"IF(im2colAll_exW6!CW7:MR15 > 0, ROUNDDOWN(im2colAll_exW6!CW7:MR15/2^6, 0), ROUNDUP(im2colAll_exW6!CW7:MR15/2^6, 0))","v":1},{"$f":"IF(im2colAll_exW6!CX7:MS15 > 0, ROUNDDOWN(im2colAll_exW6!CX7:MS15/2^6, 0), ROUNDUP(im2colAll_exW6!CX7:MS15/2^6, 0))","v":13},{"$f":"IF(im2colAll_exW6!CY7:MT15 > 0, ROUNDDOWN(im2colAll_exW6!CY7:MT15/2^6, 0), ROUNDUP(im2colAll_exW6!CY7:MT15/2^6, 0))","v":-8},{"$f":"IF(im2colAll_exW6!CZ7:MU15 > 0, ROUNDDOWN(im2colAll_exW6!CZ7:MU15/2^6, 0), ROUNDUP(im2colAll_exW6!CZ7:MU15/2^6, 0))","v":0},{"$f":"IF(im2colAll_exW6!DA7:MV15 > 0, ROUNDDOWN(im2colAll_exW6!DA7:MV15/2^6, 0), ROUNDUP(im2colAll_exW6!DA7:MV15/2^6, 0))","v":2},{"$f":"IF(im2colAll_exW6!DB7:MW15 > 0, ROUNDDOWN(im2colAll_exW6!DB7:MW15/2^6, 0), ROUNDUP(im2colAll_exW6!DB7:MW15/2^6, 0))","v":7},{"$f":"IF(im2colAll_exW6!DC7:MX15 > 0, ROUNDDOWN(im2colAll_exW6!DC7:MX15/2^6, 0), ROUNDUP(im2colAll_exW6!DC7:MX15/2^6, 0))","v":0},{"$f":"IF(im2colAll_exW6!DD7:MY15 > 0, ROUNDDOWN(im2colAll_exW6!DD7:MY15/2^6, 0), ROUNDUP(im2colAll_exW6!DD7:MY15/2^6, 0))","v":2},{"$f":"IF(im2colAll_exW6!DE7:MZ15 > 0, ROUNDDOWN(im2colAll_exW6!DE7:MZ15/2^6, 0), ROUNDUP(im2colAll_exW6!DE7:MZ15/2^6, 0))","v":11},{"$f":"IF(im2colAll_exW6!DF7:NA15 > 0, ROUNDDOWN(im2colAll_exW6!DF7:NA15/2^6, 0), ROUNDUP(im2colAll_exW6!DF7:NA15/2^6, 0))","v":0},{"$f":"IF(im2colAll_exW6!DG7:NB15 > 0, ROUNDDOWN(im2colAll_exW6!DG7:NB15/2^6, 0), ROUNDUP(im2colAll_exW6!DG7:NB15/2^6, 0))","v":-4},{"$f":"IF(im2colAll_exW6!DH7:NC15 > 0, ROUNDDOWN(im2colAll_exW6!DH7:NC15/2^6, 0), ROUNDUP(im2colAll_exW6!DH7:NC15/2^6, 0))","v":5},{"$f":"IF(im2colAll_exW6!DI7:ND15 > 0, ROUNDDOWN(im2colAll_exW6!DI7:ND15/2^6, 0), ROUNDUP(im2colAll_exW6!DI7:ND15/2^6, 0))","v":-9},{"$f":"IF(im2colAll_exW6!DJ7:NE15 > 0, ROUNDDOWN(im2colAll_exW6!DJ7:NE15/2^6, 0), ROUNDUP(im2colAll_exW6!DJ7:NE15/2^6, 0))","v":-7},{"$f":"IF(im2colAll_exW6!DK7:NF15 > 0, ROUNDDOWN(im2colAll_exW6!DK7:NF15/2^6, 0), ROUNDUP(im2colAll_exW6!DK7:NF15/2^6, 0))","v":0},{"$f":"IF(im2colAll_exW6!DL7:NG15 > 0, ROUNDDOWN(im2colAll_exW6!DL7:NG15/2^6, 0), ROUNDUP(im2colAll_exW6!DL7:NG15/2^6, 0))","v":11},{"$f":"IF(im2colAll_exW6!DM7:NH15 > 0, ROUNDDOWN(im2colAll_exW6!DM7:NH15/2^6, 0), ROUNDUP(im2colAll_exW6!DM7:NH15/2^6, 0))","v":-3},{"$f":"IF(im2colAll_exW6!DN7:NI15 > 0, ROUNDDOWN(im2colAll_exW6!DN7:NI15/2^6, 0), ROUNDUP(im2colAll_exW6!DN7:NI15/2^6, 0))","v":9},{"$f":"IF(im2colAll_exW6!DO7:NJ15 > 0, ROUNDDOWN(im2colAll_exW6!DO7:NJ15/2^6, 0), ROUNDUP(im2colAll_exW6!DO7:NJ15/2^6, 0))","v":-7},{"$f":"IF(im2colAll_exW6!DP7:NK15 > 0, ROUNDDOWN(im2colAll_exW6!DP7:NK15/2^6, 0), ROUNDUP(im2colAll_exW6!DP7:NK15/2^6, 0))","v":5},{"$f":"IF(im2colAll_exW6!DQ7:NL15 > 0, ROUNDDOWN(im2colAll_exW6!DQ7:NL15/2^6, 0), ROUNDUP(im2colAll_exW6!DQ7:NL15/2^6, 0))","v":-5},{"$f":"IF(im2colAll_exW6!DR7:NM15 > 0, ROUNDDOWN(im2colAll_exW6!DR7:NM15/2^6, 0), ROUNDUP(im2colAll_exW6!DR7:NM15/2^6, 0))","v":-2},{"$f":"IF(im2colAll_exW6!DS7:NN15 > 0, ROUNDDOWN(im2colAll_exW6!DS7:NN15/2^6, 0), ROUNDUP(im2colAll_exW6!DS7:NN15/2^6, 0))","v":-7},{"$f":"IF(im2colAll_exW6!DT7:NO15 > 0, ROUNDDOWN(im2colAll_exW6!DT7:NO15/2^6, 0), ROUNDUP(im2colAll_exW6!DT7:NO15/2^6, 0))","v":6},{"$f":"IF(im2colAll_exW6!DU7:NP15 > 0, ROUNDDOWN(im2colAll_exW6!DU7:NP15/2^6, 0), ROUNDUP(im2colAll_exW6!DU7:NP15/2^6, 0))","v":5},{"$f":"IF(im2colAll_exW6!DV7:NQ15 > 0, ROUNDDOWN(im2colAll_exW6!DV7:NQ15/2^6, 0), ROUNDUP(im2colAll_exW6!DV7:NQ15/2^6, 0))","v":6},{"$f":"IF(im2colAll_exW6!DW7:NR15 > 0, ROUNDDOWN(im2colAll_exW6!DW7:NR15/2^6, 0), ROUNDUP(im2colAll_exW6!DW7:NR15/2^6, 0))","v":-8},{"$f":"IF(im2colAll_exW6!DX7:NS15 > 0, ROUNDDOWN(im2colAll_exW6!DX7:NS15/2^6, 0), ROUNDUP(im2colAll_exW6!DX7:NS15/2^6, 0))","v":-4},{"$f":"IF(im2colAll_exW6!DY7:NT15 > 0, ROUNDDOWN(im2colAll_exW6!DY7:NT15/2^6, 0), ROUNDUP(im2colAll_exW6!DY7:NT15/2^6, 0))","v":-4},{"$f":"IF(im2colAll_exW6!DZ7:NU15 > 0, ROUNDDOWN(im2colAll_exW6!DZ7:NU15/2^6, 0), ROUNDUP(im2colAll_exW6!DZ7:NU15/2^6, 0))","v":-2},{"$f":"IF(im2colAll_exW6!EA7:NV15 > 0, ROUNDDOWN(im2colAll_exW6!EA7:NV15/2^6, 0), ROUNDUP(im2colAll_exW6!EA7:NV15/2^6, 0))","v":-7},{"$f":"IF(im2colAll_exW6!EB7:NW15 > 0, ROUNDDOWN(im2colAll_exW6!EB7:NW15/2^6, 0), ROUNDUP(im2colAll_exW6!EB7:NW15/2^6, 0))","v":-4},{"$f":"IF(im2colAll_exW6!EC7:NX15 > 0, ROUNDDOWN(im2colAll_exW6!EC7:NX15/2^6, 0), ROUNDUP(im2colAll_exW6!EC7:NX15/2^6, 0))","v":5},{"$f":"IF(im2colAll_exW6!ED7:NY15 > 0, ROUNDDOWN(im2colAll_exW6!ED7:NY15/2^6, 0), ROUNDUP(im2colAll_exW6!ED7:NY15/2^6, 0))","v":3},{"$f":"IF(im2colAll_exW6!EE7:NZ15 > 0, ROUNDDOWN(im2colAll_exW6!EE7:NZ15/2^6, 0), ROUNDUP(im2colAll_exW6!EE7:NZ15/2^6, 0))","v":-1},{"$f":"IF(im2colAll_exW6!EF7:OA15 > 0, ROUNDDOWN(im2colAll_exW6!EF7:OA15/2^6, 0), ROUNDUP(im2colAll_exW6!EF7:OA15/2^6, 0))","v":-1},{"$f":"IF(im2colAll_exW6!EG7:OB15 > 0, ROUNDDOWN(im2colAll_exW6!EG7:OB15/2^6, 0), ROUNDUP(im2colAll_exW6!EG7:OB15/2^6, 0))","v":3},{"$f":"IF(im2colAll_exW6!EH7:OC15 > 0, ROUNDDOWN(im2colAll_exW6!EH7:OC15/2^6, 0), ROUNDUP(im2colAll_exW6!EH7:OC15/2^6, 0))","v":-1},{"$f":"IF(im2colAll_exW6!EI7:OD15 > 0, ROUNDDOWN(im2colAll_exW6!EI7:OD15/2^6, 0), ROUNDUP(im2colAll_exW6!EI7:OD15/2^6, 0))","v":3},{"$f":"IF(im2colAll_exW6!EJ7:OE15 > 0, ROUNDDOWN(im2colAll_exW6!EJ7:OE15/2^6, 0), ROUNDUP(im2colAll_exW6!EJ7:OE15/2^6, 0))","v":24},{"$f":"IF(im2colAll_exW6!EK7:OF15 > 0, ROUNDDOWN(im2colAll_exW6!EK7:OF15/2^6, 0), ROUNDUP(im2colAll_exW6!EK7:OF15/2^6, 0))","v":0},{"$f":"IF(im2colAll_exW6!EL7:OG15 > 0, ROUNDDOWN(im2colAll_exW6!EL7:OG15/2^6, 0), ROUNDUP(im2colAll_exW6!EL7:OG15/2^6, 0))","v":4},{"$f":"IF(im2colAll_exW6!EM7:OH15 > 0, ROUNDDOWN(im2colAll_exW6!EM7:OH15/2^6, 0), ROUNDUP(im2colAll_exW6!EM7:OH15/2^6, 0))","v":-2},{"$f":"IF(im2colAll_exW6!EN7:OI15 > 0, ROUNDDOWN(im2colAll_exW6!EN7:OI15/2^6, 0), ROUNDUP(im2colAll_exW6!EN7:OI15/2^6, 0))","v":0},{"$f":"IF(im2colAll_exW6!EO7:OJ15 > 0, ROUNDDOWN(im2colAll_exW6!EO7:OJ15/2^6, 0), ROUNDUP(im2colAll_exW6!EO7:OJ15/2^6, 0))","v":4},{"$f":"IF(im2colAll_exW6!EP7:OK15 > 0, ROUNDDOWN(im2colAll_exW6!EP7:OK15/2^6, 0), ROUNDUP(im2colAll_exW6!EP7:OK15/2^6, 0))","v":-9},{"$f":"IF(im2colAll_exW6!EQ7:OL15 > 0, ROUNDDOWN(im2colAll_exW6!EQ7:OL15/2^6, 0), ROUNDUP(im2colAll_exW6!EQ7:OL15/2^6, 0))","v":-2},{"$f":"IF(im2colAll_exW6!ER7:OM15 > 0, ROUNDDOWN(im2colAll_exW6!ER7:OM15/2^6, 0), ROUNDUP(im2colAll_exW6!ER7:OM15/2^6, 0))","v":-5},{"$f":"IF(im2colAll_exW6!ES7:ON15 > 0, ROUNDDOWN(im2colAll_exW6!ES7:ON15/2^6, 0), ROUNDUP(im2colAll_exW6!ES7:ON15/2^6, 0))","v":2},{"$f":"IF(im2colAll_exW6!ET7:OO15 > 0, ROUNDDOWN(im2colAll_exW6!ET7:OO15/2^6, 0), ROUNDUP(im2colAll_exW6!ET7:OO15/2^6, 0))","v":4},{"$f":"IF(im2colAll_exW6!EU7:OP15 > 0, ROUNDDOWN(im2colAll_exW6!EU7:OP15/2^6, 0), ROUNDUP(im2colAll_exW6!EU7:OP15/2^6, 0))","v":0},{"$f":"IF(im2colAll_exW6!EV7:OQ15 > 0, ROUNDDOWN(im2colAll_exW6!EV7:OQ15/2^6, 0), ROUNDUP(im2colAll_exW6!EV7:OQ15/2^6, 0))","v":-3},{"$f":"IF(im2colAll_exW6!EW7:OR15 > 0, ROUNDDOWN(im2colAll_exW6!EW7:OR15/2^6, 0), ROUNDUP(im2colAll_exW6!EW7:OR15/2^6, 0))","v":5},{"$f":"IF(im2colAll_exW6!EX7:OS15 > 0, ROUNDDOWN(im2colAll_exW6!EX7:OS15/2^6, 0), ROUNDUP(im2colAll_exW6!EX7:OS15/2^6, 0))","v":3},{"$f":"IF(im2colAll_exW6!EY7:OT15 > 0, ROUNDDOWN(im2colAll_exW6!EY7:OT15/2^6, 0), ROUNDUP(im2colAll_exW6!EY7:OT15/2^6, 0))","v":9},{"$f":"IF(im2colAll_exW6!EZ7:OU15 > 0, ROUNDDOWN(im2colAll_exW6!EZ7:OU15/2^6, 0), ROUNDUP(im2colAll_exW6!EZ7:OU15/2^6, 0))","v":-1},{"$f":"IF(im2colAll_exW6!FA7:OV15 > 0, ROUNDDOWN(im2colAll_exW6!FA7:OV15/2^6, 0), ROUNDUP(im2colAll_exW6!FA7:OV15/2^6, 0))","v":6},{"$f":"IF(im2colAll_exW6!FB7:OW15 > 0, ROUNDDOWN(im2colAll_exW6!FB7:OW15/2^6, 0), ROUNDUP(im2colAll_exW6!FB7:OW15/2^6, 0))","v":11},{"$f":"IF(im2colAll_exW6!FC7:OX15 > 0, ROUNDDOWN(im2colAll_exW6!FC7:OX15/2^6, 0), ROUNDUP(im2colAll_exW6!FC7:OX15/2^6, 0))","v":-9},{"$f":"IF(im2colAll_exW6!FD7:OY15 > 0, ROUNDDOWN(im2colAll_exW6!FD7:OY15/2^6, 0), ROUNDUP(im2colAll_exW6!FD7:OY15/2^6, 0))","v":9},{"$f":"IF(im2colAll_exW6!FE7:OZ15 > 0, ROUNDDOWN(im2colAll_exW6!FE7:OZ15/2^6, 0), ROUNDUP(im2colAll_exW6!FE7:OZ15/2^6, 0))","v":2},{"$f":"IF(im2colAll_exW6!FF7:PA15 > 0, ROUNDDOWN(im2colAll_exW6!FF7:PA15/2^6, 0), ROUNDUP(im2colAll_exW6!FF7:PA15/2^6, 0))","v":-5},{"$f":"IF(im2colAll_exW6!FG7:PB15 > 0, ROUNDDOWN(im2colAll_exW6!FG7:PB15/2^6, 0), ROUNDUP(im2colAll_exW6!FG7:PB15/2^6, 0))","v":1},{"$f":"IF(im2colAll_exW6!FH7:PC15 > 0, ROUNDDOWN(im2colAll_exW6!FH7:PC15/2^6, 0), ROUNDUP(im2colAll_exW6!FH7:PC15/2^6, 0))","v":12},{"$f":"IF(im2colAll_exW6!FI7:PD15 > 0, ROUNDDOWN(im2colAll_exW6!FI7:PD15/2^6, 0), ROUNDUP(im2colAll_exW6!FI7:PD15/2^6, 0))","v":-7},{"$f":"IF(im2colAll_exW6!FJ7:PE15 > 0, ROUNDDOWN(im2colAll_exW6!FJ7:PE15/2^6, 0), ROUNDUP(im2colAll_exW6!FJ7:PE15/2^6, 0))","v":-1},{"$f":"IF(im2colAll_exW6!FK7:PF15 > 0, ROUNDDOWN(im2colAll_exW6!FK7:PF15/2^6, 0), ROUNDUP(im2colAll_exW6!FK7:PF15/2^6, 0))","v":7},{"$f":"IF(im2colAll_exW6!FL7:PG15 > 0, ROUNDDOWN(im2colAll_exW6!FL7:PG15/2^6, 0), ROUNDUP(im2colAll_exW6!FL7:PG15/2^6, 0))","v":12},{"$f":"IF(im2colAll_exW6!FM7:PH15 > 0, ROUNDDOWN(im2colAll_exW6!FM7:PH15/2^6, 0), ROUNDUP(im2colAll_exW6!FM7:PH15/2^6, 0))","v":-11},{"$f":"IF(im2colAll_exW6!FN7:PI15 > 0, ROUNDDOWN(im2colAll_exW6!FN7:PI15/2^6, 0), ROUNDUP(im2colAll_exW6!FN7:PI15/2^6, 0))","v":-2},{"$f":"IF(im2colAll_exW6!FO7:PJ15 > 0, ROUNDDOWN(im2colAll_exW6!FO7:PJ15/2^6, 0), ROUNDUP(im2colAll_exW6!FO7:PJ15/2^6, 0))","v":1},{"$f":"IF(im2colAll_exW6!FP7:PK15 > 0, ROUNDDOWN(im2colAll_exW6!FP7:PK15/2^6, 0), ROUNDUP(im2colAll_exW6!FP7:PK15/2^6, 0))","v":17},{"$f":"IF(im2colAll_exW6!FQ7:PL15 > 0, ROUNDDOWN(im2colAll_exW6!FQ7:PL15/2^6, 0), ROUNDUP(im2colAll_exW6!FQ7:PL15/2^6, 0))","v":-4},{"$f":"IF(im2colAll_exW6!FR7:PM15 > 0, ROUNDDOWN(im2colAll_exW6!FR7:PM15/2^6, 0), ROUNDUP(im2colAll_exW6!FR7:PM15/2^6, 0))","v":3},{"$f":"IF(im2colAll_exW6!FS7:PN15 > 0, ROUNDDOWN(im2colAll_exW6!FS7:PN15/2^6, 0), ROUNDUP(im2colAll_exW6!FS7:PN15/2^6, 0))","v":-5},{"$f":"IF(im2colAll_exW6!FT7:PO15 > 0, ROUNDDOWN(im2colAll_exW6!FT7:PO15/2^6, 0), ROUNDUP(im2colAll_exW6!FT7:PO15/2^6, 0))","v":3},{"$f":"IF(im2colAll_exW6!FU7:PP15 > 0, ROUNDDOWN(im2colAll_exW6!FU7:PP15/2^6, 0), ROUNDUP(im2colAll_exW6!FU7:PP15/2^6, 0))","v":-3},{"$f":"IF(im2colAll_exW6!FV7:PQ15 > 0, ROUNDDOWN(im2colAll_exW6!FV7:PQ15/2^6, 0), ROUNDUP(im2colAll_exW6!FV7:PQ15/2^6, 0))","v":-3},{"$f":"IF(im2colAll_exW6!FW7:PR15 > 0, ROUNDDOWN(im2colAll_exW6!FW7:PR15/2^6, 0), ROUNDUP(im2colAll_exW6!FW7:PR15/2^6, 0))","v":-6},{"$f":"IF(im2colAll_exW6!FX7:PS15 > 0, ROUNDDOWN(im2colAll_exW6!FX7:PS15/2^6, 0), ROUNDUP(im2colAll_exW6!FX7:PS15/2^6, 0))","v":3},{"$f":"IF(im2colAll_exW6!FY7:PT15 > 0, ROUNDDOWN(im2colAll_exW6!FY7:PT15/2^6, 0), ROUNDUP(im2colAll_exW6!FY7:PT15/2^6, 0))","v":-4},{"$f":"IF(im2colAll_exW6!FZ7:PU15 > 0, ROUNDDOWN(im2colAll_exW6!FZ7:PU15/2^6, 0), ROUNDUP(im2colAll_exW6!FZ7:PU15/2^6, 0))","v":-9},{"$f":"IF(im2colAll_exW6!GA7:PV15 > 0, ROUNDDOWN(im2colAll_exW6!GA7:PV15/2^6, 0), ROUNDUP(im2colAll_exW6!GA7:PV15/2^6, 0))","v":-2},{"$f":"IF(im2colAll_exW6!GB7:PW15 > 0, ROUNDDOWN(im2colAll_exW6!GB7:PW15/2^6, 0), ROUNDUP(im2colAll_exW6!GB7:PW15/2^6, 0))","v":-7},{"$f":"IF(im2colAll_exW6!GC7:PX15 > 0, ROUNDDOWN(im2colAll_exW6!GC7:PX15/2^6, 0), ROUNDUP(im2colAll_exW6!GC7:PX15/2^6, 0))","v":-2},{"$f":"IF(im2colAll_exW6!GD7:PY15 > 0, ROUNDDOWN(im2colAll_exW6!GD7:PY15/2^6, 0), ROUNDUP(im2colAll_exW6!GD7:PY15/2^6, 0))","v":-4},{"$f":"IF(im2colAll_exW6!GE7:PZ15 > 0, ROUNDDOWN(im2colAll_exW6!GE7:PZ15/2^6, 0), ROUNDUP(im2colAll_exW6!GE7:PZ15/2^6, 0))","v":5},{"$f":"IF(im2colAll_exW6!GF7:QA15 > 0, ROUNDDOWN(im2colAll_exW6!GF7:QA15/2^6, 0), ROUNDUP(im2colAll_exW6!GF7:QA15/2^6, 0))","v":1},{"$f":"IF(im2colAll_exW6!GG7:QB15 > 0, ROUNDDOWN(im2colAll_exW6!GG7:QB15/2^6, 0), ROUNDUP(im2colAll_exW6!GG7:QB15/2^6, 0))","v":-7},{"$f":"IF(im2colAll_exW6!GH7:QC15 > 0, ROUNDDOWN(im2colAll_exW6!GH7:QC15/2^6, 0), ROUNDUP(im2colAll_exW6!GH7:QC15/2^6, 0))","v":-10},{"$f":"IF(im2colAll_exW6!GI7:QD15 > 0, ROUNDDOWN(im2colAll_exW6!GI7:QD15/2^6, 0), ROUNDUP(im2colAll_exW6!GI7:QD15/2^6, 0))","v":-1},{"$f":"IF(im2colAll_exW6!GJ7:QE15 > 0, ROUNDDOWN(im2colAll_exW6!GJ7:QE15/2^6, 0), ROUNDUP(im2colAll_exW6!GJ7:QE15/2^6, 0))","v":4},{"$f":"IF(im2colAll_exW6!GK7:QF15 > 0, ROUNDDOWN(im2colAll_exW6!GK7:QF15/2^6, 0), ROUNDUP(im2colAll_exW6!GK7:QF15/2^6, 0))","v":4},{"$f":"IF(im2colAll_exW6!GL7:QG15 > 0, ROUNDDOWN(im2colAll_exW6!GL7:QG15/2^6, 0), ROUNDUP(im2colAll_exW6!GL7:QG15/2^6, 0))","v":-1},{"$f":"IF(im2colAll_exW6!GM7:QH15 > 0, ROUNDDOWN(im2colAll_exW6!GM7:QH15/2^6, 0), ROUNDUP(im2colAll_exW6!GM7:QH15/2^6, 0))","v":-5},{"$f":"IF(im2colAll_exW6!GN7:QI15 > 0, ROUNDDOWN(im2colAll_exW6!GN7:QI15/2^6, 0), ROUNDUP(im2colAll_exW6!GN7:QI15/2^6, 0))","v":-5},{"$f":"IF(im2colAll_exW6!GO7:QJ15 > 0, ROUNDDOWN(im2colAll_exW6!GO7:QJ15/2^6, 0), ROUNDUP(im2colAll_exW6!GO7:QJ15/2^6, 0))","v":-2},{"$f":"IF(im2colAll_exW6!GP7:QK15 > 0, ROUNDDOWN(im2colAll_exW6!GP7:QK15/2^6, 0), ROUNDUP(im2colAll_exW6!GP7:QK15/2^6, 0))","v":2},{"$f":"IF(im2colAll_exW6!GQ7:QL15 > 0, ROUNDDOWN(im2colAll_exW6!GQ7:QL15/2^6, 0), ROUNDUP(im2colAll_exW6!GQ7:QL15/2^6, 0))","v":1},{"$f":"IF(im2colAll_exW6!GR7:QM15 > 0, ROUNDDOWN(im2colAll_exW6!GR7:QM15/2^6, 0), ROUNDUP(im2colAll_exW6!GR7:QM15/2^6, 0))","v":-4},{"$f":"IF(im2colAll_exW6!GS7:QN15 > 0, ROUNDDOWN(im2colAll_exW6!GS7:QN15/2^6, 0), ROUNDUP(im2colAll_exW6!GS7:QN15/2^6, 0))","v":-5},{"$f":"IF(im2colAll_exW6!GT7:QO15 > 0, ROUNDDOWN(im2colAll_exW6!GT7:QO15/2^6, 0), ROUNDUP(im2colAll_exW6!GT7:QO15/2^6, 0))","v":4},{"$f":"IF(im2colAll_exW6!GU7:QP15 > 0, ROUNDDOWN(im2colAll_exW6!GU7:QP15/2^6, 0), ROUNDUP(im2colAll_exW6!GU7:QP15/2^6, 0))","v":1},{"$f":"IF(im2colAll_exW6!GV7:QQ15 > 0, ROUNDDOWN(im2colAll_exW6!GV7:QQ15/2^6, 0), ROUNDUP(im2colAll_exW6!GV7:QQ15/2^6, 0))","v":4},{"$f":"IF(im2colAll_exW6!GW7:QR15 > 0, ROUNDDOWN(im2colAll_exW6!GW7:QR15/2^6, 0), ROUNDUP(im2colAll_exW6!GW7:QR15/2^6, 0))","v":1},{"$f":"IF(im2colAll_exW6!GX7:QS15 > 0, ROUNDDOWN(im2colAll_exW6!GX7:QS15/2^6, 0), ROUNDUP(im2colAll_exW6!GX7:QS15/2^6, 0))","v":-3},{"$f":"IF(im2colAll_exW6!GY7:QT15 > 0, ROUNDDOWN(im2colAll_exW6!GY7:QT15/2^6, 0), ROUNDUP(im2colAll_exW6!GY7:QT15/2^6, 0))","v":7},{"$f":"IF(im2colAll_exW6!GZ7:QU15 > 0, ROUNDDOWN(im2colAll_exW6!GZ7:QU15/2^6, 0), ROUNDUP(im2colAll_exW6!GZ7:QU15/2^6, 0))","v":2},{"$f":"IF(im2colAll_exW6!HA7:QV15 > 0, ROUNDDOWN(im2colAll_exW6!HA7:QV15/2^6, 0), ROUNDUP(im2colAll_exW6!HA7:QV15/2^6, 0))","v":9},{"$f":"IF(im2colAll_exW6!HB7:QW15 > 0, ROUNDDOWN(im2colAll_exW6!HB7:QW15/2^6, 0), ROUNDUP(im2colAll_exW6!HB7:QW15/2^6, 0))","v":-4},{"$f":"IF(im2colAll_exW6!HC7:QX15 > 0, ROUNDDOWN(im2colAll_exW6!HC7:QX15/2^6, 0), ROUNDUP(im2colAll_exW6!HC7:QX15/2^6, 0))","v":9},{"$f":"IF(im2colAll_exW6!HD7:QY15 > 0, ROUNDDOWN(im2colAll_exW6!HD7:QY15/2^6, 0), ROUNDUP(im2colAll_exW6!HD7:QY15/2^6, 0))","v":15},{"$f":"IF(im2colAll_exW6!HE7:QZ15 > 0, ROUNDDOWN(im2colAll_exW6!HE7:QZ15/2^6, 0), ROUNDUP(im2colAll_exW6!HE7:QZ15/2^6, 0))","v":2},{"$f":"IF(im2colAll_exW6!HF7:RA15 > 0, ROUNDDOWN(im2colAll_exW6!HF7:RA15/2^6, 0), ROUNDUP(im2colAll_exW6!HF7:RA15/2^6, 0))","v":3},{"$f":"IF(im2colAll_exW6!HG7:RB15 > 0, ROUNDDOWN(im2colAll_exW6!HG7:RB15/2^6, 0), ROUNDUP(im2colAll_exW6!HG7:RB15/2^6, 0))","v":6},{"$f":"IF(im2colAll_exW6!HH7:RC15 > 0, ROUNDDOWN(im2colAll_exW6!HH7:RC15/2^6, 0), ROUNDUP(im2colAll_exW6!HH7:RC15/2^6, 0))","v":8},{"$f":"IF(im2colAll_exW6!HI7:RD15 > 0, ROUNDDOWN(im2colAll_exW6!HI7:RD15/2^6, 0), ROUNDUP(im2colAll_exW6!HI7:RD15/2^6, 0))","v":1},{"$f":"IF(im2colAll_exW6!HJ7:RE15 > 0, ROUNDDOWN(im2colAll_exW6!HJ7:RE15/2^6, 0), ROUNDUP(im2colAll_exW6!HJ7:RE15/2^6, 0))","v":11},{"$f":"IF(im2colAll_exW6!HK7:RF15 > 0, ROUNDDOWN(im2colAll_exW6!HK7:RF15/2^6, 0), ROUNDUP(im2colAll_exW6!HK7:RF15/2^6, 0))","v":-1},{"$f":"IF(im2colAll_exW6!HL7:RG15 > 0, ROUNDDOWN(im2colAll_exW6!HL7:RG15/2^6, 0), ROUNDUP(im2colAll_exW6!HL7:RG15/2^6, 0))","v":-5},{"$f":"IF(im2colAll_exW6!HM7:RH15 > 0, ROUNDDOWN(im2colAll_exW6!HM7:RH15/2^6, 0), ROUNDUP(im2colAll_exW6!HM7:RH15/2^6, 0))","v":-3},{"$f":"IF(im2colAll_exW6!HN7:RI15 > 0, ROUNDDOWN(im2colAll_exW6!HN7:RI15/2^6, 0), ROUNDUP(im2colAll_exW6!HN7:RI15/2^6, 0))","v":1},{"$f":"IF(im2colAll_exW6!HO7:RJ15 > 0, ROUNDDOWN(im2colAll_exW6!HO7:RJ15/2^6, 0), ROUNDUP(im2colAll_exW6!HO7:RJ15/2^6, 0))","v":-2},{"$f":"IF(im2colAll_exW6!HP7:RK15 > 0, ROUNDDOWN(im2colAll_exW6!HP7:RK15/2^6, 0), ROUNDUP(im2colAll_exW6!HP7:RK15/2^6, 0))","v":1},{"$f":"IF(im2colAll_exW6!HQ7:RL15 > 0, ROUNDDOWN(im2colAll_exW6!HQ7:RL15/2^6, 0), ROUNDUP(im2colAll_exW6!HQ7:RL15/2^6, 0))","v":15},{"$f":"IF(im2colAll_exW6!HR7:RM15 > 0, ROUNDDOWN(im2colAll_exW6!HR7:RM15/2^6, 0), ROUNDUP(im2colAll_exW6!HR7:RM15/2^6, 0))","v":-2},{"$f":"IF(im2colAll_exW6!HS7:RN15 > 0, ROUNDDOWN(im2colAll_exW6!HS7:RN15/2^6, 0), ROUNDUP(im2colAll_exW6!HS7:RN15/2^6, 0))","v":-3},{"$f":"IF(im2colAll_exW6!HT7:RO15 > 0, ROUNDDOWN(im2colAll_exW6!HT7:RO15/2^6, 0), ROUNDUP(im2colAll_exW6!HT7:RO15/2^6, 0))","v":-5},{"$f":"IF(im2colAll_exW6!HU7:RP15 > 0, ROUNDDOWN(im2colAll_exW6!HU7:RP15/2^6, 0), ROUNDUP(im2colAll_exW6!HU7:RP15/2^6, 0))","v":12},{"$f":"IF(im2colAll_exW6!HV7:RQ15 > 0, ROUNDDOWN(im2colAll_exW6!HV7:RQ15/2^6, 0), ROUNDUP(im2colAll_exW6!HV7:RQ15/2^6, 0))","v":10},{"$f":"IF(im2colAll_exW6!HW7:RR15 > 0, ROUNDDOWN(im2colAll_exW6!HW7:RR15/2^6, 0), ROUNDUP(im2colAll_exW6!HW7:RR15/2^6, 0))","v":5},{"$f":"IF(im2colAll_exW6!HX7:RS15 > 0, ROUNDDOWN(im2colAll_exW6!HX7:RS15/2^6, 0), ROUNDUP(im2colAll_exW6!HX7:RS15/2^6, 0))","v":-9},{"$f":"IF(im2colAll_exW6!HY7:RT15 > 0, ROUNDDOWN(im2colAll_exW6!HY7:RT15/2^6, 0), ROUNDUP(im2colAll_exW6!HY7:RT15/2^6, 0))","v":3},{"$f":"IF(im2colAll_exW6!HZ7:RU15 > 0, ROUNDDOWN(im2colAll_exW6!HZ7:RU15/2^6, 0), ROUNDUP(im2colAll_exW6!HZ7:RU15/2^6, 0))","v":7},{"$f":"IF(im2colAll_exW6!IA7:RV15 > 0, ROUNDDOWN(im2colAll_exW6!IA7:RV15/2^6, 0), ROUNDUP(im2colAll_exW6!IA7:RV15/2^6, 0))","v":-2},{"$f":"IF(im2colAll_exW6!IB7:RW15 > 0, ROUNDDOWN(im2colAll_exW6!IB7:RW15/2^6, 0), ROUNDUP(im2colAll_exW6!IB7:RW15/2^6, 0))","v":2},{"$f":"IF(im2colAll_exW6!IC7:RX15 > 0, ROUNDDOWN(im2colAll_exW6!IC7:RX15/2^6, 0), ROUNDUP(im2colAll_exW6!IC7:RX15/2^6, 0))","v":-4},{"$f":"IF(im2colAll_exW6!ID7:RY15 > 0, ROUNDDOWN(im2colAll_exW6!ID7:RY15/2^6, 0), ROUNDUP(im2colAll_exW6!ID7:RY15/2^6, 0))","v":1},{"$f":"IF(im2colAll_exW6!IE7:RZ15 > 0, ROUNDDOWN(im2colAll_exW6!IE7:RZ15/2^6, 0), ROUNDUP(im2colAll_exW6!IE7:RZ15/2^6, 0))","v":-3},{"$f":"IF(im2colAll_exW6!IF7:SA15 > 0, ROUNDDOWN(im2colAll_exW6!IF7:SA15/2^6, 0), ROUNDUP(im2colAll_exW6!IF7:SA15/2^6, 0))","v":-2},{"$f":"IF(im2colAll_exW6!IG7:SB15 > 0, ROUNDDOWN(im2colAll_exW6!IG7:SB15/2^6, 0), ROUNDUP(im2colAll_exW6!IG7:SB15/2^6, 0))","v":2},{"$f":"IF(im2colAll_exW6!IH7:SC15 > 0, ROUNDDOWN(im2colAll_exW6!IH7:SC15/2^6, 0), ROUNDUP(im2colAll_exW6!IH7:SC15/2^6, 0))","v":1},{"$f":"IF(im2colAll_exW6!II7:SD15 > 0, ROUNDDOWN(im2colAll_exW6!II7:SD15/2^6, 0), ROUNDUP(im2colAll_exW6!II7:SD15/2^6, 0))","v":-8},{"$f":"IF(im2colAll_exW6!IJ7:SE15 > 0, ROUNDDOWN(im2colAll_exW6!IJ7:SE15/2^6, 0), ROUNDUP(im2colAll_exW6!IJ7:SE15/2^6, 0))","v":-3},{"$f":"IF(im2colAll_exW6!IK7:SF15 > 0, ROUNDDOWN(im2colAll_exW6!IK7:SF15/2^6, 0), ROUNDUP(im2colAll_exW6!IK7:SF15/2^6, 0))","v":2},{"$f":"IF(im2colAll_exW6!IL7:SG15 > 0, ROUNDDOWN(im2colAll_exW6!IL7:SG15/2^6, 0), ROUNDUP(im2colAll_exW6!IL7:SG15/2^6, 0))","v":11},{"$f":"IF(im2colAll_exW6!IM7:SH15 > 0, ROUNDDOWN(im2colAll_exW6!IM7:SH15/2^6, 0), ROUNDUP(im2colAll_exW6!IM7:SH15/2^6, 0))","v":10},{"$f":"IF(im2colAll_exW6!IN7:SI15 > 0, ROUNDDOWN(im2colAll_exW6!IN7:SI15/2^6, 0), ROUNDUP(im2colAll_exW6!IN7:SI15/2^6, 0))","v":-1},{"$f":"IF(im2colAll_exW6!IO7:SJ15 > 0, ROUNDDOWN(im2colAll_exW6!IO7:SJ15/2^6, 0), ROUNDUP(im2colAll_exW6!IO7:SJ15/2^6, 0))","v":-4},{"$f":"IF(im2colAll_exW6!IP7:SK15 > 0, ROUNDDOWN(im2colAll_exW6!IP7:SK15/2^6, 0), ROUNDUP(im2colAll_exW6!IP7:SK15/2^6, 0))","v":-1},{"$f":"IF(im2colAll_exW6!IQ7:SL15 > 0, ROUNDDOWN(im2colAll_exW6!IQ7:SL15/2^6, 0), ROUNDUP(im2colAll_exW6!IQ7:SL15/2^6, 0))","v":3},{"$f":"IF(im2colAll_exW6!IR7:SM15 > 0, ROUNDDOWN(im2colAll_exW6!IR7:SM15/2^6, 0), ROUNDUP(im2colAll_exW6!IR7:SM15/2^6, 0))","v":8},{"$f":"IF(im2colAll_exW6!IS7:SN15 > 0, ROUNDDOWN(im2colAll_exW6!IS7:SN15/2^6, 0), ROUNDUP(im2colAll_exW6!IS7:SN15/2^6, 0))","v":6},{"$f":"IF(im2colAll_exW6!IT7:SO15 > 0, ROUNDDOWN(im2colAll_exW6!IT7:SO15/2^6, 0), ROUNDUP(im2colAll_exW6!IT7:SO15/2^6, 0))","v":-7},{"$f":"IF(im2colAll_exW6!IU7:SP15 > 0, ROUNDDOWN(im2colAll_exW6!IU7:SP15/2^6, 0), ROUNDUP(im2colAll_exW6!IU7:SP15/2^6, 0))","v":5},{"$f":"IF(im2colAll_exW6!IV7:SQ15 > 0, ROUNDDOWN(im2colAll_exW6!IV7:SQ15/2^6, 0), ROUNDUP(im2colAll_exW6!IV7:SQ15/2^6, 0))","v":4}]
[{"$f":"IF(im2colAll_exW6!A8:IV16 > 0, ROUNDDOWN(im2colAll_exW6!A8:IV16/2^6, 0), ROUNDUP(im2colAll_exW6!A8:IV16/2^6, 0))","v":17},{"$f":"IF(im2colAll_exW6!B8:IW16 > 0, ROUNDDOWN(im2colAll_exW6!B8:IW16/2^6, 0), ROUNDUP(im2colAll_exW6!B8:IW16/2^6, 0))","v":14},{"$f":"IF(im2colAll_exW6!C8:IX16 > 0, ROUNDDOWN(im2colAll_exW6!C8:IX16/2^6, 0), ROUNDUP(im2colAll_exW6!C8:IX16/2^6, 0))","v":11},{"$f":"IF(im2colAll_exW6!D8:IY16 > 0, ROUNDDOWN(im2colAll_exW6!D8:IY16/2^6, 0), ROUNDUP(im2colAll_exW6!D8:IY16/2^6, 0))","v":0},{"$f":"IF(im2colAll_exW6!E8:IZ16 > 0, ROUNDDOWN(im2colAll_exW6!E8:IZ16/2^6, 0), ROUNDUP(im2colAll_exW6!E8:IZ16/2^6, 0))","v":2},{"$f":"IF(im2colAll_exW6!F8:JA16 > 0, ROUNDDOWN(im2colAll_exW6!F8:JA16/2^6, 0), ROUNDUP(im2colAll_exW6!F8:JA16/2^6, 0))","v":-1},{"$f":"IF(im2colAll_exW6!G8:JB16 > 0, ROUNDDOWN(im2colAll_exW6!G8:JB16/2^6, 0), ROUNDUP(im2colAll_exW6!G8:JB16/2^6, 0))","v":14},{"$f":"IF(im2colAll_exW6!H8:JC16 > 0, ROUNDDOWN(im2colAll_exW6!H8:JC16/2^6, 0), ROUNDUP(im2colAll_exW6!H8:JC16/2^6, 0))","v":-1},{"$f":"IF(im2colAll_exW6!I8:JD16 > 0, ROUNDDOWN(im2colAll_exW6!I8:JD16/2^6, 0), ROUNDUP(im2colAll_exW6!I8:JD16/2^6, 0))","v":4},{"$f":"IF(im2colAll_exW6!J8:JE16 > 0, ROUNDDOWN(im2colAll_exW6!J8:JE16/2^6, 0), ROUNDUP(im2colAll_exW6!J8:JE16/2^6, 0))","v":0},{"$f":"IF(im2colAll_exW6!K8:JF16 > 0, ROUNDDOWN(im2colAll_exW6!K8:JF16/2^6, 0), ROUNDUP(im2colAll_exW6!K8:JF16/2^6, 0))","v":-12},{"$f":"IF(im2colAll_exW6!L8:JG16 > 0, ROUNDDOWN(im2colAll_exW6!L8:JG16/2^6, 0), ROUNDUP(im2colAll_exW6!L8:JG16/2^6, 0))","v":-6},{"$f":"IF(im2colAll_exW6!M8:JH16 > 0, ROUNDDOWN(im2colAll_exW6!M8:JH16/2^6, 0), ROUNDUP(im2colAll_exW6!M8:JH16/2^6, 0))","v":-9},{"$f":"IF(im2colAll_exW6!N8:JI16 > 0, ROUNDDOWN(im2colAll_exW6!N8:JI16/2^6, 0), ROUNDUP(im2colAll_exW6!N8:JI16/2^6, 0))","v":-7},{"$f":"IF(im2colAll_exW6!O8:JJ16 > 0, ROUNDDOWN(im2colAll_exW6!O8:JJ16/2^6, 0), ROUNDUP(im2colAll_exW6!O8:JJ16/2^6, 0))","v":14},{"$f":"IF(im2colAll_exW6!P8:JK16 > 0, ROUNDDOWN(im2colAll_exW6!P8:JK16/2^6, 0), ROUNDUP(im2colAll_exW6!P8:JK16/2^6, 0))","v":6},{"$f":"IF(im2colAll_exW6!Q8:JL16 > 0, ROUNDDOWN(im2colAll_exW6!Q8:JL16/2^6, 0), ROUNDUP(im2colAll_exW6!Q8:JL16/2^6, 0))","v":-3},{"$f":"IF(im2colAll_exW6!R8:JM16 > 0, ROUNDDOWN(im2colAll_exW6!R8:JM16/2^6, 0), ROUNDUP(im2colAll_exW6!R8:JM16/2^6, 0))","v":-4},{"$f":"IF(im2colAll_exW6!S8:JN16 > 0, ROUNDDOWN(im2colAll_exW6!S8:JN16/2^6, 0), ROUNDUP(im2colAll_exW6!S8:JN16/2^6, 0))","v":7},{"$f":"IF(im2colAll_exW6!T8:JO16 > 0, ROUNDDOWN(im2colAll_exW6!T8:JO16/2^6, 0), ROUNDUP(im2colAll_exW6!T8:JO16/2^6, 0))","v":6},{"$f":"IF(im2colAll_exW6!U8:JP16 > 0, ROUNDDOWN(im2colAll_exW6!U8:JP16/2^6, 0), ROUNDUP(im2colAll_exW6!U8:JP16/2^6, 0))","v":5},{"$f":"IF(im2colAll_exW6!V8:JQ16 > 0, ROUNDDOWN(im2colAll_exW6!V8:JQ16/2^6, 0), ROUNDUP(im2colAll_exW6!V8:JQ16/2^6, 0))","v":9},{"$f":"IF(im2colAll_exW6!W8:JR16 > 0, ROUNDDOWN(im2colAll_exW6!W8:JR16/2^6, 0), ROUNDUP(im2colAll_exW6!W8:JR16/2^6, 0))","v":-3},{"$f":"IF(im2colAll_exW6!X8:JS16 > 0, ROUNDDOWN(im2colAll_exW6!X8:JS16/2^6, 0), ROUNDUP(im2colAll_exW6!X8:JS16/2^6, 0))","v":14},{"$f":"IF(im2colAll_exW6!Y8:JT16 > 0, ROUNDDOWN(im2colAll_exW6!Y8:JT16/2^6, 0), ROUNDUP(im2colAll_exW6!Y8:JT16/2^6, 0))","v":9},{"$f":"IF(im2colAll_exW6!Z8:JU16 > 0, ROUNDDOWN(im2colAll_exW6!Z8:JU16/2^6, 0), ROUNDUP(im2colAll_exW6!Z8:JU16/2^6, 0))","v":-18},{"$f":"IF(im2colAll_exW6!AA8:JV16 > 0, ROUNDDOWN(im2colAll_exW6!AA8:JV16/2^6, 0), ROUNDUP(im2colAll_exW6!AA8:JV16/2^6, 0))","v":2},{"$f":"IF(im2colAll_exW6!AB8:JW16 > 0, ROUNDDOWN(im2colAll_exW6!AB8:JW16/2^6, 0), ROUNDUP(im2colAll_exW6!AB8:JW16/2^6, 0))","v":-3},{"$f":"IF(im2colAll_exW6!AC8:JX16 > 0, ROUNDDOWN(im2colAll_exW6!AC8:JX16/2^6, 0), ROUNDUP(im2colAll_exW6!AC8:JX16/2^6, 0))","v":9},{"$f":"IF(im2colAll_exW6!AD8:JY16 > 0, ROUNDDOWN(im2colAll_exW6!AD8:JY16/2^6, 0), ROUNDUP(im2colAll_exW6!AD8:JY16/2^6, 0))","v":-9},{"$f":"IF(im2colAll_exW6!AE8:JZ16 > 0, ROUNDDOWN(im2colAll_exW6!AE8:JZ16/2^6, 0), ROUNDUP(im2colAll_exW6!AE8:JZ16/2^6, 0))","v":15},{"$f":"IF(im2colAll_exW6!AF8:KA16 > 0, ROUNDDOWN(im2colAll_exW6!AF8:KA16/2^6, 0), ROUNDUP(im2colAll_exW6!AF8:KA16/2^6, 0))","v":-5},{"$f":"IF(im2colAll_exW6!AG8:KB16 > 0, ROUNDDOWN(im2colAll_exW6!AG8:KB16/2^6, 0), ROUNDUP(im2colAll_exW6!AG8:KB16/2^6, 0))","v":1},{"$f":"IF(im2colAll_exW6!AH8:KC16 > 0, ROUNDDOWN(im2colAll_exW6!AH8:KC16/2^6, 0), ROUNDUP(im2colAll_exW6!AH8:KC16/2^6, 0))","v":-8},{"$f":"IF(im2colAll_exW6!AI8:KD16 > 0, ROUNDDOWN(im2colAll_exW6!AI8:KD16/2^6, 0), ROUNDUP(im2colAll_exW6!AI8:KD16/2^6, 0))","v":1},{"$f":"IF(im2colAll_exW6!AJ8:KE16 > 0, ROUNDDOWN(im2colAll_exW6!AJ8:KE16/2^6, 0), ROUNDUP(im2colAll_exW6!AJ8:KE16/2^6, 0))","v":2},{"$f":"IF(im2colAll_exW6!AK8:KF16 > 0, ROUNDDOWN(im2colAll_exW6!AK8:KF16/2^6, 0), ROUNDUP(im2colAll_exW6!AK8:KF16/2^6, 0))","v":-10},{"$f":"IF(im2colAll_exW6!AL8:KG16 > 0, ROUNDDOWN(im2colAll_exW6!AL8:KG16/2^6, 0), ROUNDUP(im2colAll_exW6!AL8:KG16/2^6, 0))","v":9},{"$f":"IF(im2colAll_exW6!AM8:KH16 > 0, ROUNDDOWN(im2colAll_exW6!AM8:KH16/2^6, 0), ROUNDUP(im2colAll_exW6!AM8:KH16/2^6, 0))","v":7},{"$f":"IF(im2colAll_exW6!AN8:KI16 > 0, ROUNDDOWN(im2colAll_exW6!AN8:KI16/2^6, 0), ROUNDUP(im2colAll_exW6!AN8:KI16/2^6, 0))","v":-11},{"$f":"IF(im2colAll_exW6!AO8:KJ16 > 0, ROUNDDOWN(im2colAll_exW6!AO8:KJ16/2^6, 0), ROUNDUP(im2colAll_exW6!AO8:KJ16/2^6, 0))","v":-1},{"$f":"IF(im2colAll_exW6!AP8:KK16 > 0, ROUNDDOWN(im2colAll_exW6!AP8:KK16/2^6, 0), ROUNDUP(im2colAll_exW6!AP8:KK16/2^6, 0))","v":5},{"$f":"IF(im2colAll_exW6!AQ8:KL16 > 0, ROUNDDOWN(im2colAll_exW6!AQ8:KL16/2^6, 0), ROUNDUP(im2colAll_exW6!AQ8:KL16/2^6, 0))","v":-9},{"$f":"IF(im2colAll_exW6!AR8:KM16 > 0, ROUNDDOWN(im2colAll_exW6!AR8:KM16/2^6, 0), ROUNDUP(im2colAll_exW6!AR8:KM16/2^6, 0))","v":4},{"$f":"IF(im2colAll_exW6!AS8:KN16 > 0, ROUNDDOWN(im2colAll_exW6!AS8:KN16/2^6, 0), ROUNDUP(im2colAll_exW6!AS8:KN16/2^6, 0))","v":1},{"$f":"IF(im2colAll_exW6!AT8:KO16 > 0, ROUNDDOWN(im2colAll_exW6!AT8:KO16/2^6, 0), ROUNDUP(im2colAll_exW6!AT8:KO16/2^6, 0))","v":-13},{"$f":"IF(im2colAll_exW6!AU8:KP16 > 0, ROUNDDOWN(im2colAll_exW6!AU8:KP16/2^6, 0), ROUNDUP(im2colAll_exW6!AU8:KP16/2^6, 0))","v":-9},{"$f":"IF(im2colAll_exW6!AV8:KQ16 > 0, ROUNDDOWN(im2colAll_exW6!AV8:KQ16/2^6, 0), ROUNDUP(im2colAll_exW6!AV8:KQ16/2^6, 0))","v":-7},{"$f":"IF(im2colAll_exW6!AW8:KR16 > 0, ROUNDDOWN(im2colAll_exW6!AW8:KR16/2^6, 0), ROUNDUP(im2colAll_exW6!AW8:KR16/2^6, 0))","v":11},{"$f":"IF(im2colAll_exW6!AX8:KS16 > 0, ROUNDDOWN(im2colAll_exW6!AX8:KS16/2^6, 0), ROUNDUP(im2colAll_exW6!AX8:KS16/2^6, 0))","v":-6},{"$f":"IF(im2colAll_exW6!AY8:KT16 > 0, ROUNDDOWN(im2colAll_exW6!AY8:KT16/2^6, 0), ROUNDUP(im2colAll_exW6!AY8:KT16/2^6, 0))","v":-8},{"$f":"IF(im2colAll_exW6!AZ8:KU16 > 0, ROUNDDOWN(im2colAll_exW6!AZ8:KU16/2^6, 0), ROUNDUP(im2colAll_exW6!AZ8:KU16/2^6, 0))","v":13},{"$f":"IF(im2colAll_exW6!BA8:KV16 > 0, ROUNDDOWN(im2colAll_exW6!BA8:KV16/2^6, 0), ROUNDUP(im2colAll_exW6!BA8:KV16/2^6, 0))","v":-6},{"$f":"IF(im2colAll_exW6!BB8:KW16 > 0, ROUNDDOWN(im2colAll_exW6!BB8:KW16/2^6, 0), ROUNDUP(im2colAll_exW6!BB8:KW16/2^6, 0))","v":4},{"$f":"IF(im2colAll_exW6!BC8:KX16 > 0, ROUNDDOWN(im2colAll_exW6!BC8:KX16/2^6, 0), ROUNDUP(im2colAll_exW6!BC8:KX16/2^6, 0))","v":8},{"$f":"IF(im2colAll_exW6!BD8:KY16 > 0, ROUNDDOWN(im2colAll_exW6!BD8:KY16/2^6, 0), ROUNDUP(im2colAll_exW6!BD8:KY16/2^6, 0))","v":0},{"$f":"IF(im2colAll_exW6!BE8:KZ16 > 0, ROUNDDOWN(im2colAll_exW6!BE8:KZ16/2^6, 0), ROUNDUP(im2colAll_exW6!BE8:KZ16/2^6, 0))","v":1},{"$f":"IF(im2colAll_exW6!BF8:LA16 > 0, ROUNDDOWN(im2colAll_exW6!BF8:LA16/2^6, 0), ROUNDUP(im2colAll_exW6!BF8:LA16/2^6, 0))","v":0},{"$f":"IF(im2colAll_exW6!BG8:LB16 > 0, ROUNDDOWN(im2colAll_exW6!BG8:LB16/2^6, 0), ROUNDUP(im2colAll_exW6!BG8:LB16/2^6, 0))","v":5},{"$f":"IF(im2colAll_exW6!BH8:LC16 > 0, ROUNDDOWN(im2colAll_exW6!BH8:LC16/2^6, 0), ROUNDUP(im2colAll_exW6!BH8:LC16/2^6, 0))","v":11},{"$f":"IF(im2colAll_exW6!BI8:LD16 > 0, ROUNDDOWN(im2colAll_exW6!BI8:LD16/2^6, 0), ROUNDUP(im2colAll_exW6!BI8:LD16/2^6, 0))","v":20},{"$f":"IF(im2colAll_exW6!BJ8:LE16 > 0, ROUNDDOWN(im2colAll_exW6!BJ8:LE16/2^6, 0), ROUNDUP(im2colAll_exW6!BJ8:LE16/2^6, 0))","v":-5},{"$f":"IF(im2colAll_exW6!BK8:LF16 > 0, ROUNDDOWN(im2colAll_exW6!BK8:LF16/2^6, 0), ROUNDUP(im2colAll_exW6!BK8:LF16/2^6, 0))","v":-10},{"$f":"IF(im2colAll_exW6!BL8:LG16 > 0, ROUNDDOWN(im2colAll_exW6!BL8:LG16/2^6, 0), ROUNDUP(im2colAll_exW6!BL8:LG16/2^6, 0))","v":5},{"$f":"IF(im2colAll_exW6!BM8:LH16 > 0, ROUNDDOWN(im2colAll_exW6!BM8:LH16/2^6, 0), ROUNDUP(im2colAll_exW6!BM8:LH16/2^6, 0))","v":7},{"$f":"IF(im2colAll_exW6!BN8:LI16 > 0, ROUNDDOWN(im2colAll_exW6!BN8:LI16/2^6, 0), ROUNDUP(im2colAll_exW6!BN8:LI16/2^6, 0))","v":12},{"$f":"IF(im2colAll_exW6!BO8:LJ16 > 0, ROUNDDOWN(im2colAll_exW6!BO8:LJ16/2^6, 0), ROUNDUP(im2colAll_exW6!BO8:LJ16/2^6, 0))","v":-4},{"$f":"IF(im2colAll_exW6!BP8:LK16 > 0, ROUNDDOWN(im2colAll_exW6!BP8:LK16/2^6, 0), ROUNDUP(im2colAll_exW6!BP8:LK16/2^6, 0))","v":1},{"$f":"IF(im2colAll_exW6!BQ8:LL16 > 0, ROUNDDOWN(im2colAll_exW6!BQ8:LL16/2^6, 0), ROUNDUP(im2colAll_exW6!BQ8:LL16/2^6, 0))","v":-2},{"$f":"IF(im2colAll_exW6!BR8:LM16 > 0, ROUNDDOWN(im2colAll_exW6!BR8:LM16/2^6, 0), ROUNDUP(im2colAll_exW6!BR8:LM16/2^6, 0))","v":8},{"$f":"IF(im2colAll_exW6!BS8:LN16 > 0, ROUNDDOWN(im2colAll_exW6!BS8:LN16/2^6, 0), ROUNDUP(im2colAll_exW6!BS8:LN16/2^6, 0))","v":4},{"$f":"IF(im2colAll_exW6!BT8:LO16 > 0, ROUNDDOWN(im2colAll_exW6!BT8:LO16/2^6, 0), ROUNDUP(im2colAll_exW6!BT8:LO16/2^6, 0))","v":-15},{"$f":"IF(im2colAll_exW6!BU8:LP16 > 0, ROUNDDOWN(im2colAll_exW6!BU8:LP16/2^6, 0), ROUNDUP(im2colAll_exW6!BU8:LP16/2^6, 0))","v":13},{"$f":"IF(im2colAll_exW6!BV8:LQ16 > 0, ROUNDDOWN(im2colAll_exW6!BV8:LQ16/2^6, 0), ROUNDUP(im2colAll_exW6!BV8:LQ16/2^6, 0))","v":3},{"$f":"IF(im2colAll_exW6!BW8:LR16 > 0, ROUNDDOWN(im2colAll_exW6!BW8:LR16/2^6, 0), ROUNDUP(im2colAll_exW6!BW8:LR16/2^6, 0))","v":7},{"$f":"IF(im2colAll_exW6!BX8:LS16 > 0, ROUNDDOWN(im2colAll_exW6!BX8:LS16/2^6, 0), ROUNDUP(im2colAll_exW6!BX8:LS16/2^6, 0))","v":-2},{"$f":"IF(im2colAll_exW6!BY8:LT16 > 0, ROUNDDOWN(im2colAll_exW6!BY8:LT16/2^6, 0), ROUNDUP(im2colAll_exW6!BY8:LT16/2^6, 0))","v":-6},{"$f":"IF(im2colAll_exW6!BZ8:LU16 > 0, ROUNDDOWN(im2colAll_exW6!BZ8:LU16/2^6, 0), ROUNDUP(im2colAll_exW6!BZ8:LU16/2^6, 0))","v":0},{"$f":"IF(im2colAll_exW6!CA8:LV16 > 0, ROUNDDOWN(im2colAll_exW6!CA8:LV16/2^6, 0), ROUNDUP(im2colAll_exW6!CA8:LV16/2^6, 0))","v":-1},{"$f":"IF(im2colAll_exW6!CB8:LW16 > 0, ROUNDDOWN(im2colAll_exW6!CB8:LW16/2^6, 0), ROUNDUP(im2colAll_exW6!CB8:LW16/2^6, 0))","v":-14},{"$f":"IF(im2colAll_exW6!CC8:LX16 > 0, ROUNDDOWN(im2colAll_exW6!CC8:LX16/2^6, 0), ROUNDUP(im2colAll_exW6!CC8:LX16/2^6, 0))","v":7},{"$f":"IF(im2colAll_exW6!CD8:LY16 > 0, ROUNDDOWN(im2colAll_exW6!CD8:LY16/2^6, 0), ROUNDUP(im2colAll_exW6!CD8:LY16/2^6, 0))","v":-7},{"$f":"IF(im2colAll_exW6!CE8:LZ16 > 0, ROUNDDOWN(im2colAll_exW6!CE8:LZ16/2^6, 0), ROUNDUP(im2colAll_exW6!CE8:LZ16/2^6, 0))","v":-8},{"$f":"IF(im2colAll_exW6!CF8:MA16 > 0, ROUNDDOWN(im2colAll_exW6!CF8:MA16/2^6, 0), ROUNDUP(im2colAll_exW6!CF8:MA16/2^6, 0))","v":16},{"$f":"IF(im2colAll_exW6!CG8:MB16 > 0, ROUNDDOWN(im2colAll_exW6!CG8:MB16/2^6, 0), ROUNDUP(im2colAll_exW6!CG8:MB16/2^6, 0))","v":4},{"$f":"IF(im2colAll_exW6!CH8:MC16 > 0, ROUNDDOWN(im2colAll_exW6!CH8:MC16/2^6, 0), ROUNDUP(im2colAll_exW6!CH8:MC16/2^6, 0))","v":3},{"$f":"IF(im2colAll_exW6!CI8:MD16 > 0, ROUNDDOWN(im2colAll_exW6!CI8:MD16/2^6, 0), ROUNDUP(im2colAll_exW6!CI8:MD16/2^6, 0))","v":10},{"$f":"IF(im2colAll_exW6!CJ8:ME16 > 0, ROUNDDOWN(im2colAll_exW6!CJ8:ME16/2^6, 0), ROUNDUP(im2colAll_exW6!CJ8:ME16/2^6, 0))","v":20},{"$f":"IF(im2colAll_exW6!CK8:MF16 > 0, ROUNDDOWN(im2colAll_exW6!CK8:MF16/2^6, 0), ROUNDUP(im2colAll_exW6!CK8:MF16/2^6, 0))","v":10},{"$f":"IF(im2colAll_exW6!CL8:MG16 > 0, ROUNDDOWN(im2colAll_exW6!CL8:MG16/2^6, 0), ROUNDUP(im2colAll_exW6!CL8:MG16/2^6, 0))","v":16},{"$f":"IF(im2colAll_exW6!CM8:MH16 > 0, ROUNDDOWN(im2colAll_exW6!CM8:MH16/2^6, 0), ROUNDUP(im2colAll_exW6!CM8:MH16/2^6, 0))","v":-6},{"$f":"IF(im2colAll_exW6!CN8:MI16 > 0, ROUNDDOWN(im2colAll_exW6!CN8:MI16/2^6, 0), ROUNDUP(im2colAll_exW6!CN8:MI16/2^6, 0))","v":8},{"$f":"IF(im2colAll_exW6!CO8:MJ16 > 0, ROUNDDOWN(im2colAll_exW6!CO8:MJ16/2^6, 0), ROUNDUP(im2colAll_exW6!CO8:MJ16/2^6, 0))","v":-2},{"$f":"IF(im2colAll_exW6!CP8:MK16 > 0, ROUNDDOWN(im2colAll_exW6!CP8:MK16/2^6, 0), ROUNDUP(im2colAll_exW6!CP8:MK16/2^6, 0))","v":-9},{"$f":"IF(im2colAll_exW6!CQ8:ML16 > 0, ROUNDDOWN(im2colAll_exW6!CQ8:ML16/2^6, 0), ROUNDUP(im2colAll_exW6!CQ8:ML16/2^6, 0))","v":5},{"$f":"IF(im2colAll_exW6!CR8:MM16 > 0, ROUNDDOWN(im2colAll_exW6!CR8:MM16/2^6, 0), ROUNDUP(im2colAll_exW6!CR8:MM16/2^6, 0))","v":15},{"$f":"IF(im2colAll_exW6!CS8:MN16 > 0, ROUNDDOWN(im2colAll_exW6!CS8:MN16/2^6, 0), ROUNDUP(im2colAll_exW6!CS8:MN16/2^6, 0))","v":14},{"$f":"IF(im2colAll_exW6!CT8:MO16 > 0, ROUNDDOWN(im2colAll_exW6!CT8:MO16/2^6, 0), ROUNDUP(im2colAll_exW6!CT8:MO16/2^6, 0))","v":-2},{"$f":"IF(im2colAll_exW6!CU8:MP16 > 0, ROUNDDOWN(im2colAll_exW6!CU8:MP16/2^6, 0), ROUNDUP(im2colAll_exW6!CU8:MP16/2^6, 0))","v":1},{"$f":"IF(im2colAll_exW6!CV8:MQ16 > 0, ROUNDDOWN(im2colAll_exW6!CV8:MQ16/2^6, 0), ROUNDUP(im2colAll_exW6!CV8:MQ16/2^6, 0))","v":1},{"$f":"IF(im2colAll_exW6!CW8:MR16 > 0, ROUNDDOWN(im2colAll_exW6!CW8:MR16/2^6, 0), ROUNDUP(im2colAll_exW6!CW8:MR16/2^6, 0))","v":1},{"$f":"IF(im2colAll_exW6!CX8:MS16 > 0, ROUNDDOWN(im2colAll_exW6!CX8:MS16/2^6, 0), ROUNDUP(im2colAll_exW6!CX8:MS16/2^6, 0))","v":10},{"$f":"IF(im2colAll_exW6!CY8:MT16 > 0, ROUNDDOWN(im2colAll_exW6!CY8:MT16/2^6, 0), ROUNDUP(im2colAll_exW6!CY8:MT16/2^6, 0))","v":-9},{"$f":"IF(im2colAll_exW6!CZ8:MU16 > 0, ROUNDDOWN(im2colAll_exW6!CZ8:MU16/2^6, 0), ROUNDUP(im2colAll_exW6!CZ8:MU16/2^6, 0))","v":-2},{"$f":"IF(im2colAll_exW6!DA8:MV16 > 0, ROUNDDOWN(im2colAll_exW6!DA8:MV16/2^6, 0), ROUNDUP(im2colAll_exW6!DA8:MV16/2^6, 0))","v":2},{"$f":"IF(im2colAll_exW6!DB8:MW16 > 0, ROUNDDOWN(im2colAll_exW6!DB8:MW16/2^6, 0), ROUNDUP(im2colAll_exW6!DB8:MW16/2^6, 0))","v":9},{"$f":"IF(im2colAll_exW6!DC8:MX16 > 0, ROUNDDOWN(im2colAll_exW6!DC8:MX16/2^6, 0), ROUNDUP(im2colAll_exW6!DC8:MX16/2^6, 0))","v":4},{"$f":"IF(im2colAll_exW6!DD8:MY16 > 0, ROUNDDOWN(im2colAll_exW6!DD8:MY16/2^6, 0), ROUNDUP(im2colAll_exW6!DD8:MY16/2^6, 0))","v":0},{"$f":"IF(im2colAll_exW6!DE8:MZ16 > 0, ROUNDDOWN(im2colAll_exW6!DE8:MZ16/2^6, 0), ROUNDUP(im2colAll_exW6!DE8:MZ16/2^6, 0))","v":26},{"$f":"IF(im2colAll_exW6!DF8:NA16 > 0, ROUNDDOWN(im2colAll_exW6!DF8:NA16/2^6, 0), ROUNDUP(im2colAll_exW6!DF8:NA16/2^6, 0))","v":-1},{"$f":"IF(im2colAll_exW6!DG8:NB16 > 0, ROUNDDOWN(im2colAll_exW6!DG8:NB16/2^6, 0), ROUNDUP(im2colAll_exW6!DG8:NB16/2^6, 0))","v":-4},{"$f":"IF(im2colAll_exW6!DH8:NC16 > 0, ROUNDDOWN(im2colAll_exW6!DH8:NC16/2^6, 0), ROUNDUP(im2colAll_exW6!DH8:NC16/2^6, 0))","v":3},{"$f":"IF(im2colAll_exW6!DI8:ND16 > 0, ROUNDDOWN(im2colAll_exW6!DI8:ND16/2^6, 0), ROUNDUP(im2colAll_exW6!DI8:ND16/2^6, 0))","v":-13},{"$f":"IF(im2colAll_exW6!DJ8:NE16 > 0, ROUNDDOWN(im2colAll_exW6!DJ8:NE16/2^6, 0), ROUNDUP(im2colAll_exW6!DJ8:NE16/2^6, 0))","v":-12},{"$f":"IF(im2colAll_exW6!DK8:NF16 > 0, ROUNDDOWN(im2colAll_exW6!DK8:NF16/2^6, 0), ROUNDUP(im2colAll_exW6!DK8:NF16/2^6, 0))","v":5},{"$f":"IF(im2colAll_exW6!DL8:NG16 > 0, ROUNDDOWN(im2colAll_exW6!DL8:NG16/2^6, 0), ROUNDUP(im2colAll_exW6!DL8:NG16/2^6, 0))","v":7},{"$f":"IF(im2colAll_exW6!DM8:NH16 > 0, ROUNDDOWN(im2colAll_exW6!DM8:NH16/2^6, 0), ROUNDUP(im2colAll_exW6!DM8:NH16/2^6, 0))","v":-2},{"$f":"IF(im2colAll_exW6!DN8:NI16 > 0, ROUNDDOWN(im2colAll_exW6!DN8:NI16/2^6, 0), ROUNDUP(im2colAll_exW6!DN8:NI16/2^6, 0))","v":6},{"$f":"IF(im2colAll_exW6!DO8:NJ16 > 0, ROUNDDOWN(im2colAll_exW6!DO8:NJ16/2^6, 0), ROUNDUP(im2colAll_exW6!DO8:NJ16/2^6, 0))","v":-1},{"$f":"IF(im2colAll_exW6!DP8:NK16 > 0, ROUNDDOWN(im2colAll_exW6!DP8:NK16/2^6, 0), ROUNDUP(im2colAll_exW6!DP8:NK16/2^6, 0))","v":9},{"$f":"IF(im2colAll_exW6!DQ8:NL16 > 0, ROUNDDOWN(im2colAll_exW6!DQ8:NL16/2^6, 0), ROUNDUP(im2colAll_exW6!DQ8:NL16/2^6, 0))","v":-5},{"$f":"IF(im2colAll_exW6!DR8:NM16 > 0, ROUNDDOWN(im2colAll_exW6!DR8:NM16/2^6, 0), ROUNDUP(im2colAll_exW6!DR8:NM16/2^6, 0))","v":-12},{"$f":"IF(im2colAll_exW6!DS8:NN16 > 0, ROUNDDOWN(im2colAll_exW6!DS8:NN16/2^6, 0), ROUNDUP(im2colAll_exW6!DS8:NN16/2^6, 0))","v":-5},{"$f":"IF(im2colAll_exW6!DT8:NO16 > 0, ROUNDDOWN(im2colAll_exW6!DT8:NO16/2^6, 0), ROUNDUP(im2colAll_exW6!DT8:NO16/2^6, 0))","v":4},{"$f":"IF(im2colAll_exW6!DU8:NP16 > 0, ROUNDDOWN(im2colAll_exW6!DU8:NP16/2^6, 0), ROUNDUP(im2colAll_exW6!DU8:NP16/2^6, 0))","v":11},{"$f":"IF(im2colAll_exW6!DV8:NQ16 > 0, ROUNDDOWN(im2colAll_exW6!DV8:NQ16/2^6, 0), ROUNDUP(im2colAll_exW6!DV8:NQ16/2^6, 0))","v":5},{"$f":"IF(im2colAll_exW6!DW8:NR16 > 0, ROUNDDOWN(im2colAll_exW6!DW8:NR16/2^6, 0), ROUNDUP(im2colAll_exW6!DW8:NR16/2^6, 0))","v":-8},{"$f":"IF(im2colAll_exW6!DX8:NS16 > 0, ROUNDDOWN(im2colAll_exW6!DX8:NS16/2^6, 0), ROUNDUP(im2colAll_exW6!DX8:NS16/2^6, 0))","v":-7},{"$f":"IF(im2colAll_exW6!DY8:NT16 > 0, ROUNDDOWN(im2colAll_exW6!DY8:NT16/2^6, 0), ROUNDUP(im2colAll_exW6!DY8:NT16/2^6, 0))","v":-4},{"$f":"IF(im2colAll_exW6!DZ8:NU16 > 0, ROUNDDOWN(im2colAll_exW6!DZ8:NU16/2^6, 0), ROUNDUP(im2colAll_exW6!DZ8:NU16/2^6, 0))","v":1},{"$f":"IF(im2colAll_exW6!EA8:NV16 > 0, ROUNDDOWN(im2colAll_exW6!EA8:NV16/2^6, 0), ROUNDUP(im2colAll_exW6!EA8:NV16/2^6, 0))","v":-2},{"$f":"IF(im2colAll_exW6!EB8:NW16 > 0, ROUNDDOWN(im2colAll_exW6!EB8:NW16/2^6, 0), ROUNDUP(im2colAll_exW6!EB8:NW16/2^6, 0))","v":-6},{"$f":"IF(im2colAll_exW6!EC8:NX16 > 0, ROUNDDOWN(im2colAll_exW6!EC8:NX16/2^6, 0), ROUNDUP(im2colAll_exW6!EC8:NX16/2^6, 0))","v":4},{"$f":"IF(im2colAll_exW6!ED8:NY16 > 0, ROUNDDOWN(im2colAll_exW6!ED8:NY16/2^6, 0), ROUNDUP(im2colAll_exW6!ED8:NY16/2^6, 0))","v":14},{"$f":"IF(im2colAll_exW6!EE8:NZ16 > 0, ROUNDDOWN(im2colAll_exW6!EE8:NZ16/2^6, 0), ROUNDUP(im2colAll_exW6!EE8:NZ16/2^6, 0))","v":5},{"$f":"IF(im2colAll_exW6!EF8:OA16 > 0, ROUNDDOWN(im2colAll_exW6!EF8:OA16/2^6, 0), ROUNDUP(im2colAll_exW6!EF8:OA16/2^6, 0))","v":1},{"$f":"IF(im2colAll_exW6!EG8:OB16 > 0, ROUNDDOWN(im2colAll_exW6!EG8:OB16/2^6, 0), ROUNDUP(im2colAll_exW6!EG8:OB16/2^6, 0))","v":9},{"$f":"IF(im2colAll_exW6!EH8:OC16 > 0, ROUNDDOWN(im2colAll_exW6!EH8:OC16/2^6, 0), ROUNDUP(im2colAll_exW6!EH8:OC16/2^6, 0))","v":-4},{"$f":"IF(im2colAll_exW6!EI8:OD16 > 0, ROUNDDOWN(im2colAll_exW6!EI8:OD16/2^6, 0), ROUNDUP(im2colAll_exW6!EI8:OD16/2^6, 0))","v":4},{"$f":"IF(im2colAll_exW6!EJ8:OE16 > 0, ROUNDDOWN(im2colAll_exW6!EJ8:OE16/2^6, 0), ROUNDUP(im2colAll_exW6!EJ8:OE16/2^6, 0))","v":7},{"$f":"IF(im2colAll_exW6!EK8:OF16 > 0, ROUNDDOWN(im2colAll_exW6!EK8:OF16/2^6, 0), ROUNDUP(im2colAll_exW6!EK8:OF16/2^6, 0))","v":1},{"$f":"IF(im2colAll_exW6!EL8:OG16 > 0, ROUNDDOWN(im2colAll_exW6!EL8:OG16/2^6, 0), ROUNDUP(im2colAll_exW6!EL8:OG16/2^6, 0))","v":5},{"$f":"IF(im2colAll_exW6!EM8:OH16 > 0, ROUNDDOWN(im2colAll_exW6!EM8:OH16/2^6, 0), ROUNDUP(im2colAll_exW6!EM8:OH16/2^6, 0))","v":6},{"$f":"IF(im2colAll_exW6!EN8:OI16 > 0, ROUNDDOWN(im2colAll_exW6!EN8:OI16/2^6, 0), ROUNDUP(im2colAll_exW6!EN8:OI16/2^6, 0))","v":2},{"$f":"IF(im2colAll_exW6!EO8:OJ16 > 0, ROUNDDOWN(im2colAll_exW6!EO8:OJ16/2^6, 0), ROUNDUP(im2colAll_exW6!EO8:OJ16/2^6, 0))","v":7},{"$f":"IF(im2colAll_exW6!EP8:OK16 > 0, ROUNDDOWN(im2colAll_exW6!EP8:OK16/2^6, 0), ROUNDUP(im2colAll_exW6!EP8:OK16/2^6, 0))","v":-9},{"$f":"IF(im2colAll_exW6!EQ8:OL16 > 0, ROUNDDOWN(im2colAll_exW6!EQ8:OL16/2^6, 0), ROUNDUP(im2colAll_exW6!EQ8:OL16/2^6, 0))","v":-14},{"$f":"IF(im2colAll_exW6!ER8:OM16 > 0, ROUNDDOWN(im2colAll_exW6!ER8:OM16/2^6, 0), ROUNDUP(im2colAll_exW6!ER8:OM16/2^6, 0))","v":1},{"$f":"IF(im2colAll_exW6!ES8:ON16 > 0, ROUNDDOWN(im2colAll_exW6!ES8:ON16/2^6, 0), ROUNDUP(im2colAll_exW6!ES8:ON16/2^6, 0))","v":3},{"$f":"IF(im2colAll_exW6!ET8:OO16 > 0, ROUNDDOWN(im2colAll_exW6!ET8:OO16/2^6, 0), ROUNDUP(im2colAll_exW6!ET8:OO16/2^6, 0))","v":25},{"$f":"IF(im2colAll_exW6!EU8:OP16 > 0, ROUNDDOWN(im2colAll_exW6!EU8:OP16/2^6, 0), ROUNDUP(im2colAll_exW6!EU8:OP16/2^6, 0))","v":-4},{"$f":"IF(im2colAll_exW6!EV8:OQ16 > 0, ROUNDDOWN(im2colAll_exW6!EV8:OQ16/2^6, 0), ROUNDUP(im2colAll_exW6!EV8:OQ16/2^6, 0))","v":4},{"$f":"IF(im2colAll_exW6!EW8:OR16 > 0, ROUNDDOWN(im2colAll_exW6!EW8:OR16/2^6, 0), ROUNDUP(im2colAll_exW6!EW8:OR16/2^6, 0))","v":2},{"$f":"IF(im2colAll_exW6!EX8:OS16 > 0, ROUNDDOWN(im2colAll_exW6!EX8:OS16/2^6, 0), ROUNDUP(im2colAll_exW6!EX8:OS16/2^6, 0))","v":14},{"$f":"IF(im2colAll_exW6!EY8:OT16 > 0, ROUNDDOWN(im2colAll_exW6!EY8:OT16/2^6, 0), ROUNDUP(im2colAll_exW6!EY8:OT16/2^6, 0))","v":11},{"$f":"IF(im2colAll_exW6!EZ8:OU16 > 0, ROUNDDOWN(im2colAll_exW6!EZ8:OU16/2^6, 0), ROUNDUP(im2colAll_exW6!EZ8:OU16/2^6, 0))","v":3},{"$f":"IF(im2colAll_exW6!FA8:OV16 > 0, ROUNDDOWN(im2colAll_exW6!FA8:OV16/2^6, 0), ROUNDUP(im2colAll_exW6!FA8:OV16/2^6, 0))","v":-1},{"$f":"IF(im2colAll_exW6!FB8:OW16 > 0, ROUNDDOWN(im2colAll_exW6!FB8:OW16/2^6, 0), ROUNDUP(im2colAll_exW6!FB8:OW16/2^6, 0))","v":12},{"$f":"IF(im2colAll_exW6!FC8:OX16 > 0, ROUNDDOWN(im2colAll_exW6!FC8:OX16/2^6, 0), ROUNDUP(im2colAll_exW6!FC8:OX16/2^6, 0))","v":3},{"$f":"IF(im2colAll_exW6!FD8:OY16 > 0, ROUNDDOWN(im2colAll_exW6!FD8:OY16/2^6, 0), ROUNDUP(im2colAll_exW6!FD8:OY16/2^6, 0))","v":7},{"$f":"IF(im2colAll_exW6!FE8:OZ16 > 0, ROUNDDOWN(im2colAll_exW6!FE8:OZ16/2^6, 0), ROUNDUP(im2colAll_exW6!FE8:OZ16/2^6, 0))","v":6},{"$f":"IF(im2colAll_exW6!FF8:PA16 > 0, ROUNDDOWN(im2colAll_exW6!FF8:PA16/2^6, 0), ROUNDUP(im2colAll_exW6!FF8:PA16/2^6, 0))","v":-1},{"$f":"IF(im2colAll_exW6!FG8:PB16 > 0, ROUNDDOWN(im2colAll_exW6!FG8:PB16/2^6, 0), ROUNDUP(im2colAll_exW6!FG8:PB16/2^6, 0))","v":2},{"$f":"IF(im2colAll_exW6!FH8:PC16 > 0, ROUNDDOWN(im2colAll_exW6!FH8:PC16/2^6, 0), ROUNDUP(im2colAll_exW6!FH8:PC16/2^6, 0))","v":11},{"$f":"IF(im2colAll_exW6!FI8:PD16 > 0, ROUNDDOWN(im2colAll_exW6!FI8:PD16/2^6, 0), ROUNDUP(im2colAll_exW6!FI8:PD16/2^6, 0))","v":-6},{"$f":"IF(im2colAll_exW6!FJ8:PE16 > 0, ROUNDDOWN(im2colAll_exW6!FJ8:PE16/2^6, 0), ROUNDUP(im2colAll_exW6!FJ8:PE16/2^6, 0))","v":-4},{"$f":"IF(im2colAll_exW6!FK8:PF16 > 0, ROUNDDOWN(im2colAll_exW6!FK8:PF16/2^6, 0), ROUNDUP(im2colAll_exW6!FK8:PF16/2^6, 0))","v":26},{"$f":"IF(im2colAll_exW6!FL8:PG16 > 0, ROUNDDOWN(im2colAll_exW6!FL8:PG16/2^6, 0), ROUNDUP(im2colAll_exW6!FL8:PG16/2^6, 0))","v":-1},{"$f":"IF(im2colAll_exW6!FM8:PH16 > 0, ROUNDDOWN(im2colAll_exW6!FM8:PH16/2^6, 0), ROUNDUP(im2colAll_exW6!FM8:PH16/2^6, 0))","v":-12},{"$f":"IF(im2colAll_exW6!FN8:PI16 > 0, ROUNDDOWN(im2colAll_exW6!FN8:PI16/2^6, 0), ROUNDUP(im2colAll_exW6!FN8:PI16/2^6, 0))","v":4},{"$f":"IF(im2colAll_exW6!FO8:PJ16 > 0, ROUNDDOWN(im2colAll_exW6!FO8:PJ16/2^6, 0), ROUNDUP(im2colAll_exW6!FO8:PJ16/2^6, 0))","v":-3},{"$f":"IF(im2colAll_exW6!FP8:PK16 > 0, ROUNDDOWN(im2colAll_exW6!FP8:PK16/2^6, 0), ROUNDUP(im2colAll_exW6!FP8:PK16/2^6, 0))","v":21},{"$f":"IF(im2colAll_exW6!FQ8:PL16 > 0, ROUNDDOWN(im2colAll_exW6!FQ8:PL16/2^6, 0), ROUNDUP(im2colAll_exW6!FQ8:PL16/2^6, 0))","v":-2},{"$f":"IF(im2colAll_exW6!FR8:PM16 > 0, ROUNDDOWN(im2colAll_exW6!FR8:PM16/2^6, 0), ROUNDUP(im2colAll_exW6!FR8:PM16/2^6, 0))","v":12},{"$f":"IF(im2colAll_exW6!FS8:PN16 > 0, ROUNDDOWN(im2colAll_exW6!FS8:PN16/2^6, 0), ROUNDUP(im2colAll_exW6!FS8:PN16/2^6, 0))","v":-3},{"$f":"IF(im2colAll_exW6!FT8:PO16 > 0, ROUNDDOWN(im2colAll_exW6!FT8:PO16/2^6, 0), ROUNDUP(im2colAll_exW6!FT8:PO16/2^6, 0))","v":4},{"$f":"IF(im2colAll_exW6!FU8:PP16 > 0, ROUNDDOWN(im2colAll_exW6!FU8:PP16/2^6, 0), ROUNDUP(im2colAll_exW6!FU8:PP16/2^6, 0))","v":-3},{"$f":"IF(im2colAll_exW6!FV8:PQ16 > 0, ROUNDDOWN(im2colAll_exW6!FV8:PQ16/2^6, 0), ROUNDUP(im2colAll_exW6!FV8:PQ16/2^6, 0))","v":-3},{"$f":"IF(im2colAll_exW6!FW8:PR16 > 0, ROUNDDOWN(im2colAll_exW6!FW8:PR16/2^6, 0), ROUNDUP(im2colAll_exW6!FW8:PR16/2^6, 0))","v":-8},{"$f":"IF(im2colAll_exW6!FX8:PS16 > 0, ROUNDDOWN(im2colAll_exW6!FX8:PS16/2^6, 0), ROUNDUP(im2colAll_exW6!FX8:PS16/2^6, 0))","v":0},{"$f":"IF(im2colAll_exW6!FY8:PT16 > 0, ROUNDDOWN(im2colAll_exW6!FY8:PT16/2^6, 0), ROUNDUP(im2colAll_exW6!FY8:PT16/2^6, 0))","v":-9},{"$f":"IF(im2colAll_exW6!FZ8:PU16 > 0, ROUNDDOWN(im2colAll_exW6!FZ8:PU16/2^6, 0), ROUNDUP(im2colAll_exW6!FZ8:PU16/2^6, 0))","v":-10},{"$f":"IF(im2colAll_exW6!GA8:PV16 > 0, ROUNDDOWN(im2colAll_exW6!GA8:PV16/2^6, 0), ROUNDUP(im2colAll_exW6!GA8:PV16/2^6, 0))","v":-3},{"$f":"IF(im2colAll_exW6!GB8:PW16 > 0, ROUNDDOWN(im2colAll_exW6!GB8:PW16/2^6, 0), ROUNDUP(im2colAll_exW6!GB8:PW16/2^6, 0))","v":-7},{"$f":"IF(im2colAll_exW6!GC8:PX16 > 0, ROUNDDOWN(im2colAll_exW6!GC8:PX16/2^6, 0), ROUNDUP(im2colAll_exW6!GC8:PX16/2^6, 0))","v":7},{"$f":"IF(im2colAll_exW6!GD8:PY16 > 0, ROUNDDOWN(im2colAll_exW6!GD8:PY16/2^6, 0), ROUNDUP(im2colAll_exW6!GD8:PY16/2^6, 0))","v":-6},{"$f":"IF(im2colAll_exW6!GE8:PZ16 > 0, ROUNDDOWN(im2colAll_exW6!GE8:PZ16/2^6, 0), ROUNDUP(im2colAll_exW6!GE8:PZ16/2^6, 0))","v":3},{"$f":"IF(im2colAll_exW6!GF8:QA16 > 0, ROUNDDOWN(im2colAll_exW6!GF8:QA16/2^6, 0), ROUNDUP(im2colAll_exW6!GF8:QA16/2^6, 0))","v":-2},{"$f":"IF(im2colAll_exW6!GG8:QB16 > 0, ROUNDDOWN(im2colAll_exW6!GG8:QB16/2^6, 0), ROUNDUP(im2colAll_exW6!GG8:QB16/2^6, 0))","v":-11},{"$f":"IF(im2colAll_exW6!GH8:QC16 > 0, ROUNDDOWN(im2colAll_exW6!GH8:QC16/2^6, 0), ROUNDUP(im2colAll_exW6!GH8:QC16/2^6, 0))","v":-12},{"$f":"IF(im2colAll_exW6!GI8:QD16 > 0, ROUNDDOWN(im2colAll_exW6!GI8:QD16/2^6, 0), ROUNDUP(im2colAll_exW6!GI8:QD16/2^6, 0))","v":11},{"$f":"IF(im2colAll_exW6!GJ8:QE16 > 0, ROUNDDOWN(im2colAll_exW6!GJ8:QE16/2^6, 0), ROUNDUP(im2colAll_exW6!GJ8:QE16/2^6, 0))","v":0},{"$f":"IF(im2colAll_exW6!GK8:QF16 > 0, ROUNDDOWN(im2colAll_exW6!GK8:QF16/2^6, 0), ROUNDUP(im2colAll_exW6!GK8:QF16/2^6, 0))","v":10},{"$f":"IF(im2colAll_exW6!GL8:QG16 > 0, ROUNDDOWN(im2colAll_exW6!GL8:QG16/2^6, 0), ROUNDUP(im2colAll_exW6!GL8:QG16/2^6, 0))","v":3},{"$f":"IF(im2colAll_exW6!GM8:QH16 > 0, ROUNDDOWN(im2colAll_exW6!GM8:QH16/2^6, 0), ROUNDUP(im2colAll_exW6!GM8:QH16/2^6, 0))","v":8},{"$f":"IF(im2colAll_exW6!GN8:QI16 > 0, ROUNDDOWN(im2colAll_exW6!GN8:QI16/2^6, 0), ROUNDUP(im2colAll_exW6!GN8:QI16/2^6, 0))","v":-4},{"$f":"IF(im2colAll_exW6!GO8:QJ16 > 0, ROUNDDOWN(im2colAll_exW6!GO8:QJ16/2^6, 0), ROUNDUP(im2colAll_exW6!GO8:QJ16/2^6, 0))","v":-6},{"$f":"IF(im2colAll_exW6!GP8:QK16 > 0, ROUNDDOWN(im2colAll_exW6!GP8:QK16/2^6, 0), ROUNDUP(im2colAll_exW6!GP8:QK16/2^6, 0))","v":4},{"$f":"IF(im2colAll_exW6!GQ8:QL16 > 0, ROUNDDOWN(im2colAll_exW6!GQ8:QL16/2^6, 0), ROUNDUP(im2colAll_exW6!GQ8:QL16/2^6, 0))","v":-1},{"$f":"IF(im2colAll_exW6!GR8:QM16 > 0, ROUNDDOWN(im2colAll_exW6!GR8:QM16/2^6, 0), ROUNDUP(im2colAll_exW6!GR8:QM16/2^6, 0))","v":4},{"$f":"IF(im2colAll_exW6!GS8:QN16 > 0, ROUNDDOWN(im2colAll_exW6!GS8:QN16/2^6, 0), ROUNDUP(im2colAll_exW6!GS8:QN16/2^6, 0))","v":-1},{"$f":"IF(im2colAll_exW6!GT8:QO16 > 0, ROUNDDOWN(im2colAll_exW6!GT8:QO16/2^6, 0), ROUNDUP(im2colAll_exW6!GT8:QO16/2^6, 0))","v":4},{"$f":"IF(im2colAll_exW6!GU8:QP16 > 0, ROUNDDOWN(im2colAll_exW6!GU8:QP16/2^6, 0), ROUNDUP(im2colAll_exW6!GU8:QP16/2^6, 0))","v":12},{"$f":"IF(im2colAll_exW6!GV8:QQ16 > 0, ROUNDDOWN(im2colAll_exW6!GV8:QQ16/2^6, 0), ROUNDUP(im2colAll_exW6!GV8:QQ16/2^6, 0))","v":-1},{"$f":"IF(im2colAll_exW6!GW8:QR16 > 0, ROUNDDOWN(im2colAll_exW6!GW8:QR16/2^6, 0), ROUNDUP(im2colAll_exW6!GW8:QR16/2^6, 0))","v":-1},{"$f":"IF(im2colAll_exW6!GX8:QS16 > 0, ROUNDDOWN(im2colAll_exW6!GX8:QS16/2^6, 0), ROUNDUP(im2colAll_exW6!GX8:QS16/2^6, 0))","v":-2},{"$f":"IF(im2colAll_exW6!GY8:QT16 > 0, ROUNDDOWN(im2colAll_exW6!GY8:QT16/2^6, 0), ROUNDUP(im2colAll_exW6!GY8:QT16/2^6, 0))","v":11},{"$f":"IF(im2colAll_exW6!GZ8:QU16 > 0, ROUNDDOWN(im2colAll_exW6!GZ8:QU16/2^6, 0), ROUNDUP(im2colAll_exW6!GZ8:QU16/2^6, 0))","v":4},{"$f":"IF(im2colAll_exW6!HA8:QV16 > 0, ROUNDDOWN(im2colAll_exW6!HA8:QV16/2^6, 0), ROUNDUP(im2colAll_exW6!HA8:QV16/2^6, 0))","v":16},{"$f":"IF(im2colAll_exW6!HB8:QW16 > 0, ROUNDDOWN(im2colAll_exW6!HB8:QW16/2^6, 0), ROUNDUP(im2colAll_exW6!HB8:QW16/2^6, 0))","v":-2},{"$f":"IF(im2colAll_exW6!HC8:QX16 > 0, ROUNDDOWN(im2colAll_exW6!HC8:QX16/2^6, 0), ROUNDUP(im2colAll_exW6!HC8:QX16/2^6, 0))","v":2},{"$f":"IF(im2colAll_exW6!HD8:QY16 > 0, ROUNDDOWN(im2colAll_exW6!HD8:QY16/2^6, 0), ROUNDUP(im2colAll_exW6!HD8:QY16/2^6, 0))","v":5},{"$f":"IF(im2colAll_exW6!HE8:QZ16 > 0, ROUNDDOWN(im2colAll_exW6!HE8:QZ16/2^6, 0), ROUNDUP(im2colAll_exW6!HE8:QZ16/2^6, 0))","v":-7},{"$f":"IF(im2colAll_exW6!HF8:RA16 > 0, ROUNDDOWN(im2colAll_exW6!HF8:RA16/2^6, 0), ROUNDUP(im2colAll_exW6!HF8:RA16/2^6, 0))","v":7},{"$f":"IF(im2colAll_exW6!HG8:RB16 > 0, ROUNDDOWN(im2colAll_exW6!HG8:RB16/2^6, 0), ROUNDUP(im2colAll_exW6!HG8:RB16/2^6, 0))","v":-5},{"$f":"IF(im2colAll_exW6!HH8:RC16 > 0, ROUNDDOWN(im2colAll_exW6!HH8:RC16/2^6, 0), ROUNDUP(im2colAll_exW6!HH8:RC16/2^6, 0))","v":11},{"$f":"IF(im2colAll_exW6!HI8:RD16 > 0, ROUNDDOWN(im2colAll_exW6!HI8:RD16/2^6, 0), ROUNDUP(im2colAll_exW6!HI8:RD16/2^6, 0))","v":6},{"$f":"IF(im2colAll_exW6!HJ8:RE16 > 0, ROUNDDOWN(im2colAll_exW6!HJ8:RE16/2^6, 0), ROUNDUP(im2colAll_exW6!HJ8:RE16/2^6, 0))","v":21},{"$f":"IF(im2colAll_exW6!HK8:RF16 > 0, ROUNDDOWN(im2colAll_exW6!HK8:RF16/2^6, 0), ROUNDUP(im2colAll_exW6!HK8:RF16/2^6, 0))","v":0},{"$f":"IF(im2colAll_exW6!HL8:RG16 > 0, ROUNDDOWN(im2colAll_exW6!HL8:RG16/2^6, 0), ROUNDUP(im2colAll_exW6!HL8:RG16/2^6, 0))","v":-8},{"$f":"IF(im2colAll_exW6!HM8:RH16 > 0, ROUNDDOWN(im2colAll_exW6!HM8:RH16/2^6, 0), ROUNDUP(im2colAll_exW6!HM8:RH16/2^6, 0))","v":-12},{"$f":"IF(im2colAll_exW6!HN8:RI16 > 0, ROUNDDOWN(im2colAll_exW6!HN8:RI16/2^6, 0), ROUNDUP(im2colAll_exW6!HN8:RI16/2^6, 0))","v":8},{"$f":"IF(im2colAll_exW6!HO8:RJ16 > 0, ROUNDDOWN(im2colAll_exW6!HO8:RJ16/2^6, 0), ROUNDUP(im2colAll_exW6!HO8:RJ16/2^6, 0))","v":-2},{"$f":"IF(im2colAll_exW6!HP8:RK16 > 0, ROUNDDOWN(im2colAll_exW6!HP8:RK16/2^6, 0), ROUNDUP(im2colAll_exW6!HP8:RK16/2^6, 0))","v":1},{"$f":"IF(im2colAll_exW6!HQ8:RL16 > 0, ROUNDDOWN(im2colAll_exW6!HQ8:RL16/2^6, 0), ROUNDUP(im2colAll_exW6!HQ8:RL16/2^6, 0))","v":11},{"$f":"IF(im2colAll_exW6!HR8:RM16 > 0, ROUNDDOWN(im2colAll_exW6!HR8:RM16/2^6, 0), ROUNDUP(im2colAll_exW6!HR8:RM16/2^6, 0))","v":1},{"$f":"IF(im2colAll_exW6!HS8:RN16 > 0, ROUNDDOWN(im2colAll_exW6!HS8:RN16/2^6, 0), ROUNDUP(im2colAll_exW6!HS8:RN16/2^6, 0))","v":-9},{"$f":"IF(im2colAll_exW6!HT8:RO16 > 0, ROUNDDOWN(im2colAll_exW6!HT8:RO16/2^6, 0), ROUNDUP(im2colAll_exW6!HT8:RO16/2^6, 0))","v":-10},{"$f":"IF(im2colAll_exW6!HU8:RP16 > 0, ROUNDDOWN(im2colAll_exW6!HU8:RP16/2^6, 0), ROUNDUP(im2colAll_exW6!HU8:RP16/2^6, 0))","v":-3},{"$f":"IF(im2colAll_exW6!HV8:RQ16 > 0, ROUNDDOWN(im2colAll_exW6!HV8:RQ16/2^6, 0), ROUNDUP(im2colAll_exW6!HV8:RQ16/2^6, 0))","v":5},{"$f":"IF(im2colAll_exW6!HW8:RR16 > 0, ROUNDDOWN(im2colAll_exW6!HW8:RR16/2^6, 0), ROUNDUP(im2colAll_exW6!HW8:RR16/2^6, 0))","v":15},{"$f":"IF(im2colAll_exW6!HX8:RS16 > 0, ROUNDDOWN(im2colAll_exW6!HX8:RS16/2^6, 0), ROUNDUP(im2colAll_exW6!HX8:RS16/2^6, 0))","v":-9},{"$f":"IF(im2colAll_exW6!HY8:RT16 > 0, ROUNDDOWN(im2colAll_exW6!HY8:RT16/2^6, 0), ROUNDUP(im2colAll_exW6!HY8:RT16/2^6, 0))","v":10},{"$f":"IF(im2colAll_exW6!HZ8:RU16 > 0, ROUNDDOWN(im2colAll_exW6!HZ8:RU16/2^6, 0), ROUNDUP(im2colAll_exW6!HZ8:RU16/2^6, 0))","v":4},{"$f":"IF(im2colAll_exW6!IA8:RV16 > 0, ROUNDDOWN(im2colAll_exW6!IA8:RV16/2^6, 0), ROUNDUP(im2colAll_exW6!IA8:RV16/2^6, 0))","v":-2},{"$f":"IF(im2colAll_exW6!IB8:RW16 > 0, ROUNDDOWN(im2colAll_exW6!IB8:RW16/2^6, 0), ROUNDUP(im2colAll_exW6!IB8:RW16/2^6, 0))","v":1},{"$f":"IF(im2colAll_exW6!IC8:RX16 > 0, ROUNDDOWN(im2colAll_exW6!IC8:RX16/2^6, 0), ROUNDUP(im2colAll_exW6!IC8:RX16/2^6, 0))","v":1},{"$f":"IF(im2colAll_exW6!ID8:RY16 > 0, ROUNDDOWN(im2colAll_exW6!ID8:RY16/2^6, 0), ROUNDUP(im2colAll_exW6!ID8:RY16/2^6, 0))","v":12},{"$f":"IF(im2colAll_exW6!IE8:RZ16 > 0, ROUNDDOWN(im2colAll_exW6!IE8:RZ16/2^6, 0), ROUNDUP(im2colAll_exW6!IE8:RZ16/2^6, 0))","v":0},{"$f":"IF(im2colAll_exW6!IF8:SA16 > 0, ROUNDDOWN(im2colAll_exW6!IF8:SA16/2^6, 0), ROUNDUP(im2colAll_exW6!IF8:SA16/2^6, 0))","v":-9},{"$f":"IF(im2colAll_exW6!IG8:SB16 > 0, ROUNDDOWN(im2colAll_exW6!IG8:SB16/2^6, 0), ROUNDUP(im2colAll_exW6!IG8:SB16/2^6, 0))","v":6},{"$f":"IF(im2colAll_exW6!IH8:SC16 > 0, ROUNDDOWN(im2colAll_exW6!IH8:SC16/2^6, 0), ROUNDUP(im2colAll_exW6!IH8:SC16/2^6, 0))","v":4},{"$f":"IF(im2colAll_exW6!II8:SD16 > 0, ROUNDDOWN(im2colAll_exW6!II8:SD16/2^6, 0), ROUNDUP(im2colAll_exW6!II8:SD16/2^6, 0))","v":-7},{"$f":"IF(im2colAll_exW6!IJ8:SE16 > 0, ROUNDDOWN(im2colAll_exW6!IJ8:SE16/2^6, 0), ROUNDUP(im2colAll_exW6!IJ8:SE16/2^6, 0))","v":-6},{"$f":"IF(im2colAll_exW6!IK8:SF16 > 0, ROUNDDOWN(im2colAll_exW6!IK8:SF16/2^6, 0), ROUNDUP(im2colAll_exW6!IK8:SF16/2^6, 0))","v":3},{"$f":"IF(im2colAll_exW6!IL8:SG16 > 0, ROUNDDOWN(im2colAll_exW6!IL8:SG16/2^6, 0), ROUNDUP(im2colAll_exW6!IL8:SG16/2^6, 0))","v":15},{"$f":"IF(im2colAll_exW6!IM8:SH16 > 0, ROUNDDOWN(im2colAll_exW6!IM8:SH16/2^6, 0), ROUNDUP(im2colAll_exW6!IM8:SH16/2^6, 0))","v":3},{"$f":"IF(im2colAll_exW6!IN8:SI16 > 0, ROUNDDOWN(im2colAll_exW6!IN8:SI16/2^6, 0), ROUNDUP(im2colAll_exW6!IN8:SI16/2^6, 0))","v":-1},{"$f":"IF(im2colAll_exW6!IO8:SJ16 > 0, ROUNDDOWN(im2colAll_exW6!IO8:SJ16/2^6, 0), ROUNDUP(im2colAll_exW6!IO8:SJ16/2^6, 0))","v":-1},{"$f":"IF(im2colAll_exW6!IP8:SK16 > 0, ROUNDDOWN(im2colAll_exW6!IP8:SK16/2^6, 0), ROUNDUP(im2colAll_exW6!IP8:SK16/2^6, 0))","v":2},{"$f":"IF(im2colAll_exW6!IQ8:SL16 > 0, ROUNDDOWN(im2colAll_exW6!IQ8:SL16/2^6, 0), ROUNDUP(im2colAll_exW6!IQ8:SL16/2^6, 0))","v":-4},{"$f":"IF(im2colAll_exW6!IR8:SM16 > 0, ROUNDDOWN(im2colAll_exW6!IR8:SM16/2^6, 0), ROUNDUP(im2colAll_exW6!IR8:SM16/2^6, 0))","v":4},{"$f":"IF(im2colAll_exW6!IS8:SN16 > 0, ROUNDDOWN(im2colAll_exW6!IS8:SN16/2^6, 0), ROUNDUP(im2colAll_exW6!IS8:SN16/2^6, 0))","v":6},{"$f":"IF(im2colAll_exW6!IT8:SO16 > 0, ROUNDDOWN(im2colAll_exW6!IT8:SO16/2^6, 0), ROUNDUP(im2colAll_exW6!IT8:SO16/2^6, 0))","v":-8},{"$f":"IF(im2colAll_exW6!IU8:SP16 > 0, ROUNDDOWN(im2colAll_exW6!IU8:SP16/2^6, 0), ROUNDUP(im2colAll_exW6!IU8:SP16/2^6, 0))","v":2},{"$f":"IF(im2colAll_exW6!IV8:SQ16 > 0, ROUNDDOWN(im2colAll_exW6!IV8:SQ16/2^6, 0), ROUNDUP(im2colAll_exW6!IV8:SQ16/2^6, 0))","v":15}]
[{"$f":"IF(im2colAll_exW6!A9:IV17 > 0, ROUNDDOWN(im2colAll_exW6!A9:IV17/2^6, 0), ROUNDUP(im2colAll_exW6!A9:IV17/2^6, 0))","v":18},{"$f":"IF(im2colAll_exW6!B9:IW17 > 0, ROUNDDOWN(im2colAll_exW6!B9:IW17/2^6, 0), ROUNDUP(im2colAll_exW6!B9:IW17/2^6, 0))","v":7},{"$f":"IF(im2colAll_exW6!C9:IX17 > 0, ROUNDDOWN(im2colAll_exW6!C9:IX17/2^6, 0), ROUNDUP(im2colAll_exW6!C9:IX17/2^6, 0))","v":3},{"$f":"IF(im2colAll_exW6!D9:IY17 > 0, ROUNDDOWN(im2colAll_exW6!D9:IY17/2^6, 0), ROUNDUP(im2colAll_exW6!D9:IY17/2^6, 0))","v":-6},{"$f":"IF(im2colAll_exW6!E9:IZ17 > 0, ROUNDDOWN(im2colAll_exW6!E9:IZ17/2^6, 0), ROUNDUP(im2colAll_exW6!E9:IZ17/2^6, 0))","v":5},{"$f":"IF(im2colAll_exW6!F9:JA17 > 0, ROUNDDOWN(im2colAll_exW6!F9:JA17/2^6, 0), ROUNDUP(im2colAll_exW6!F9:JA17/2^6, 0))","v":-5},{"$f":"IF(im2colAll_exW6!G9:JB17 > 0, ROUNDDOWN(im2colAll_exW6!G9:JB17/2^6, 0), ROUNDUP(im2colAll_exW6!G9:JB17/2^6, 0))","v":5},{"$f":"IF(im2colAll_exW6!H9:JC17 > 0, ROUNDDOWN(im2colAll_exW6!H9:JC17/2^6, 0), ROUNDUP(im2colAll_exW6!H9:JC17/2^6, 0))","v":-4},{"$f":"IF(im2colAll_exW6!I9:JD17 > 0, ROUNDDOWN(im2colAll_exW6!I9:JD17/2^6, 0), ROUNDUP(im2colAll_exW6!I9:JD17/2^6, 0))","v":-3},{"$f":"IF(im2colAll_exW6!J9:JE17 > 0, ROUNDDOWN(im2colAll_exW6!J9:JE17/2^6, 0), ROUNDUP(im2colAll_exW6!J9:JE17/2^6, 0))","v":-3},{"$f":"IF(im2colAll_exW6!K9:JF17 > 0, ROUNDDOWN(im2colAll_exW6!K9:JF17/2^6, 0), ROUNDUP(im2colAll_exW6!K9:JF17/2^6, 0))","v":-8},{"$f":"IF(im2colAll_exW6!L9:JG17 > 0, ROUNDDOWN(im2colAll_exW6!L9:JG17/2^6, 0), ROUNDUP(im2colAll_exW6!L9:JG17/2^6, 0))","v":0},{"$f":"IF(im2colAll_exW6!M9:JH17 > 0, ROUNDDOWN(im2colAll_exW6!M9:JH17/2^6, 0), ROUNDUP(im2colAll_exW6!M9:JH17/2^6, 0))","v":-6},{"$f":"IF(im2colAll_exW6!N9:JI17 > 0, ROUNDDOWN(im2colAll_exW6!N9:JI17/2^6, 0), ROUNDUP(im2colAll_exW6!N9:JI17/2^6, 0))","v":-3},{"$f":"IF(im2colAll_exW6!O9:JJ17 > 0, ROUNDDOWN(im2colAll_exW6!O9:JJ17/2^6, 0), ROUNDUP(im2colAll_exW6!O9:JJ17/2^6, 0))","v":6},{"$f":"IF(im2colAll_exW6!P9:JK17 > 0, ROUNDDOWN(im2colAll_exW6!P9:JK17/2^6, 0), ROUNDUP(im2colAll_exW6!P9:JK17/2^6, 0))","v":9},{"$f":"IF(im2colAll_exW6!Q9:JL17 > 0, ROUNDDOWN(im2colAll_exW6!Q9:JL17/2^6, 0), ROUNDUP(im2colAll_exW6!Q9:JL17/2^6, 0))","v":4},{"$f":"IF(im2colAll_exW6!R9:JM17 > 0, ROUNDDOWN(im2colAll_exW6!R9:JM17/2^6, 0), ROUNDUP(im2colAll_exW6!R9:JM17/2^6, 0))","v":-6},{"$f":"IF(im2colAll_exW6!S9:JN17 > 0, ROUNDDOWN(im2colAll_exW6!S9:JN17/2^6, 0), ROUNDUP(im2colAll_exW6!S9:JN17/2^6, 0))","v":4},{"$f":"IF(im2colAll_exW6!T9:JO17 > 0, ROUNDDOWN(im2colAll_exW6!T9:JO17/2^6, 0), ROUNDUP(im2colAll_exW6!T9:JO17/2^6, 0))","v":-2},{"$f":"IF(im2colAll_exW6!U9:JP17 > 0, ROUNDDOWN(im2colAll_exW6!U9:JP17/2^6, 0), ROUNDUP(im2colAll_exW6!U9:JP17/2^6, 0))","v":9},{"$f":"IF(im2colAll_exW6!V9:JQ17 > 0, ROUNDDOWN(im2colAll_exW6!V9:JQ17/2^6, 0), ROUNDUP(im2colAll_exW6!V9:JQ17/2^6, 0))","v":6},{"$f":"IF(im2colAll_exW6!W9:JR17 > 0, ROUNDDOWN(im2colAll_exW6!W9:JR17/2^6, 0), ROUNDUP(im2colAll_exW6!W9:JR17/2^6, 0))","v":2},{"$f":"IF(im2colAll_exW6!X9:JS17 > 0, ROUNDDOWN(im2colAll_exW6!X9:JS17/2^6, 0), ROUNDUP(im2colAll_exW6!X9:JS17/2^6, 0))","v":9},{"$f":"IF(im2colAll_exW6!Y9:JT17 > 0, ROUNDDOWN(im2colAll_exW6!Y9:JT17/2^6, 0), ROUNDUP(im2colAll_exW6!Y9:JT17/2^6, 0))","v":12},{"$f":"IF(im2colAll_exW6!Z9:JU17 > 0, ROUNDDOWN(im2colAll_exW6!Z9:JU17/2^6, 0), ROUNDUP(im2colAll_exW6!Z9:JU17/2^6, 0))","v":-18},{"$f":"IF(im2colAll_exW6!AA9:JV17 > 0, ROUNDDOWN(im2colAll_exW6!AA9:JV17/2^6, 0), ROUNDUP(im2colAll_exW6!AA9:JV17/2^6, 0))","v":0},{"$f":"IF(im2colAll_exW6!AB9:JW17 > 0, ROUNDDOWN(im2colAll_exW6!AB9:JW17/2^6, 0), ROUNDUP(im2colAll_exW6!AB9:JW17/2^6, 0))","v":0},{"$f":"IF(im2colAll_exW6!AC9:JX17 > 0, ROUNDDOWN(im2colAll_exW6!AC9:JX17/2^6, 0), ROUNDUP(im2colAll_exW6!AC9:JX17/2^6, 0))","v":9},{"$f":"IF(im2colAll_exW6!AD9:JY17 > 0, ROUNDDOWN(im2colAll_exW6!AD9:JY17/2^6, 0), ROUNDUP(im2colAll_exW6!AD9:JY17/2^6, 0))","v":-7},{"$f":"IF(im2colAll_exW6!AE9:JZ17 > 0, ROUNDDOWN(im2colAll_exW6!AE9:JZ17/2^6, 0), ROUNDUP(im2colAll_exW6!AE9:JZ17/2^6, 0))","v":9},{"$f":"IF(im2colAll_exW6!AF9:KA17 > 0, ROUNDDOWN(im2colAll_exW6!AF9:KA17/2^6, 0), ROUNDUP(im2colAll_exW6!AF9:KA17/2^6, 0))","v":-1},{"$f":"IF(im2colAll_exW6!AG9:KB17 > 0, ROUNDDOWN(im2colAll_exW6!AG9:KB17/2^6, 0), ROUNDUP(im2colAll_exW6!AG9:KB17/2^6, 0))","v":0},{"$f":"IF(im2colAll_exW6!AH9:KC17 > 0, ROUNDDOWN(im2colAll_exW6!AH9:KC17/2^6, 0), ROUNDUP(im2colAll_exW6!AH9:KC17/2^6, 0))","v":1},{"$f":"IF(im2colAll_exW6!AI9:KD17 > 0, ROUNDDOWN(im2colAll_exW6!AI9:KD17/2^6, 0), ROUNDUP(im2colAll_exW6!AI9:KD17/2^6, 0))","v":-7},{"$f":"IF(im2colAll_exW6!AJ9:KE17 > 0, ROUNDDOWN(im2colAll_exW6!AJ9:KE17/2^6, 0), ROUNDUP(im2colAll_exW6!AJ9:KE17/2^6, 0))","v":13},{"$f":"IF(im2colAll_exW6!AK9:KF17 > 0, ROUNDDOWN(im2colAll_exW6!AK9:KF17/2^6, 0), ROUNDUP(im2colAll_exW6!AK9:KF17/2^6, 0))","v":-6},{"$f":"IF(im2colAll_exW6!AL9:KG17 > 0, ROUNDDOWN(im2colAll_exW6!AL9:KG17/2^6, 0), ROUNDUP(im2colAll_exW6!AL9:KG17/2^6, 0))","v":7},{"$f":"IF(im2colAll_exW6!AM9:KH17 > 0, ROUNDDOWN(im2colAll_exW6!AM9:KH17/2^6, 0), ROUNDUP(im2colAll_exW6!AM9:KH17/2^6, 0))","v":9},{"$f":"IF(im2colAll_exW6!AN9:KI17 > 0, ROUNDDOWN(im2colAll_exW6!AN9:KI17/2^6, 0), ROUNDUP(im2colAll_exW6!AN9:KI17/2^6, 0))","v":-10},{"$f":"IF(im2colAll_exW6!AO9:KJ17 > 0, ROUNDDOWN(im2colAll_exW6!AO9:KJ17/2^6, 0), ROUNDUP(im2colAll_exW6!AO9:KJ17/2^6, 0))","v":2},{"$f":"IF(im2colAll_exW6!AP9:KK17 > 0, ROUNDDOWN(im2colAll_exW6!AP9:KK17/2^6, 0), ROUNDUP(im2colAll_exW6!AP9:KK17/2^6, 0))","v":2},{"$f":"IF(im2colAll_exW6!AQ9:KL17 > 0, ROUNDDOWN(im2colAll_exW6!AQ9:KL17/2^6, 0), ROUNDUP(im2colAll_exW6!AQ9:KL17/2^6, 0))","v":-15},{"$f":"IF(im2colAll_exW6!AR9:KM17 > 0, ROUNDDOWN(im2colAll_exW6!AR9:KM17/2^6, 0), ROUNDUP(im2colAll_exW6!AR9:KM17/2^6, 0))","v":10},{"$f":"IF(im2colAll_exW6!AS9:KN17 > 0, ROUNDDOWN(im2colAll_exW6!AS9:KN17/2^6, 0), ROUNDUP(im2colAll_exW6!AS9:KN17/2^6, 0))","v":3},{"$f":"IF(im2colAll_exW6!AT9:KO17 > 0, ROUNDDOWN(im2colAll_exW6!AT9:KO17/2^6, 0), ROUNDUP(im2colAll_exW6!AT9:KO17/2^6, 0))","v":-6},{"$f":"IF(im2colAll_exW6!AU9:KP17 > 0, ROUNDDOWN(im2colAll_exW6!AU9:KP17/2^6, 0), ROUNDUP(im2colAll_exW6!AU9:KP17/2^6, 0))","v":-6},{"$f":"IF(im2colAll_exW6!AV9:KQ17 > 0, ROUNDDOWN(im2colAll_exW6!AV9:KQ17/2^6, 0), ROUNDUP(im2colAll_exW6!AV9:KQ17/2^6, 0))","v":-8},{"$f":"IF(im2colAll_exW6!AW9:KR17 > 0, ROUNDDOWN(im2colAll_exW6!AW9:KR17/2^6, 0), ROUNDUP(im2colAll_exW6!AW9:KR17/2^6, 0))","v":18},{"$f":"IF(im2colAll_exW6!AX9:KS17 > 0, ROUNDDOWN(im2colAll_exW6!AX9:KS17/2^6, 0), ROUNDUP(im2colAll_exW6!AX9:KS17/2^6, 0))","v":8},{"$f":"IF(im2colAll_exW6!AY9:KT17 > 0, ROUNDDOWN(im2colAll_exW6!AY9:KT17/2^6, 0), ROUNDUP(im2colAll_exW6!AY9:KT17/2^6, 0))","v":-14},{"$f":"IF(im2colAll_exW6!AZ9:KU17 > 0, ROUNDDOWN(im2colAll_exW6!AZ9:KU17/2^6, 0), ROUNDUP(im2colAll_exW6!AZ9:KU17/2^6, 0))","v":10},{"$f":"IF(im2colAll_exW6!BA9:KV17 > 0, ROUNDDOWN(im2colAll_exW6!BA9:KV17/2^6, 0), ROUNDUP(im2colAll_exW6!BA9:KV17/2^6, 0))","v":-11},{"$f":"IF(im2colAll_exW6!BB9:KW17 > 0, ROUNDDOWN(im2colAll_exW6!BB9:KW17/2^6, 0), ROUNDUP(im2colAll_exW6!BB9:KW17/2^6, 0))","v":3},{"$f":"IF(im2colAll_exW6!BC9:KX17 > 0, ROUNDDOWN(im2colAll_exW6!BC9:KX17/2^6, 0), ROUNDUP(im2colAll_exW6!BC9:KX17/2^6, 0))","v":7},{"$f":"IF(im2colAll_exW6!BD9:KY17 > 0, ROUNDDOWN(im2colAll_exW6!BD9:KY17/2^6, 0), ROUNDUP(im2colAll_exW6!BD9:KY17/2^6, 0))","v":0},{"$f":"IF(im2colAll_exW6!BE9:KZ17 > 0, ROUNDDOWN(im2colAll_exW6!BE9:KZ17/2^6, 0), ROUNDUP(im2colAll_exW6!BE9:KZ17/2^6, 0))","v":-5},{"$f":"IF(im2colAll_exW6!BF9:LA17 > 0, ROUNDDOWN(im2colAll_exW6!BF9:LA17/2^6, 0), ROUNDUP(im2colAll_exW6!BF9:LA17/2^6, 0))","v":-4},{"$f":"IF(im2colAll_exW6!BG9:LB17 > 0, ROUNDDOWN(im2colAll_exW6!BG9:LB17/2^6, 0), ROUNDUP(im2colAll_exW6!BG9:LB17/2^6, 0))","v":12},{"$f":"IF(im2colAll_exW6!BH9:LC17 > 0, ROUNDDOWN(im2colAll_exW6!BH9:LC17/2^6, 0), ROUNDUP(im2colAll_exW6!BH9:LC17/2^6, 0))","v":10},{"$f":"IF(im2colAll_exW6!BI9:LD17 > 0, ROUNDDOWN(im2colAll_exW6!BI9:LD17/2^6, 0), ROUNDUP(im2colAll_exW6!BI9:LD17/2^6, 0))","v":16},{"$f":"IF(im2colAll_exW6!BJ9:LE17 > 0, ROUNDDOWN(im2colAll_exW6!BJ9:LE17/2^6, 0), ROUNDUP(im2colAll_exW6!BJ9:LE17/2^6, 0))","v":-10},{"$f":"IF(im2colAll_exW6!BK9:LF17 > 0, ROUNDDOWN(im2colAll_exW6!BK9:LF17/2^6, 0), ROUNDUP(im2colAll_exW6!BK9:LF17/2^6, 0))","v":-13},{"$f":"IF(im2colAll_exW6!BL9:LG17 > 0, ROUNDDOWN(im2colAll_exW6!BL9:LG17/2^6, 0), ROUNDUP(im2colAll_exW6!BL9:LG17/2^6, 0))","v":12},{"$f":"IF(im2colAll_exW6!BM9:LH17 > 0, ROUNDDOWN(im2colAll_exW6!BM9:LH17/2^6, 0), ROUNDUP(im2colAll_exW6!BM9:LH17/2^6, 0))","v":12},{"$f":"IF(im2colAll_exW6!BN9:LI17 > 0, ROUNDDOWN(im2colAll_exW6!BN9:LI17/2^6, 0), ROUNDUP(im2colAll_exW6!BN9:LI17/2^6, 0))","v":10},{"$f":"IF(im2colAll_exW6!BO9:LJ17 > 0, ROUNDDOWN(im2colAll_exW6!BO9:LJ17/2^6, 0), ROUNDUP(im2colAll_exW6!BO9:LJ17/2^6, 0))","v":6},{"$f":"IF(im2colAll_exW6!BP9:LK17 > 0, ROUNDDOWN(im2colAll_exW6!BP9:LK17/2^6, 0), ROUNDUP(im2colAll_exW6!BP9:LK17/2^6, 0))","v":-1},{"$f":"IF(im2colAll_exW6!BQ9:LL17 > 0, ROUNDDOWN(im2colAll_exW6!BQ9:LL17/2^6, 0), ROUNDUP(im2colAll_exW6!BQ9:LL17/2^6, 0))","v":-5},{"$f":"IF(im2colAll_exW6!BR9:LM17 > 0, ROUNDDOWN(im2colAll_exW6!BR9:LM17/2^6, 0), ROUNDUP(im2colAll_exW6!BR9:LM17/2^6, 0))","v":8},{"$f":"IF(im2colAll_exW6!BS9:LN17 > 0, ROUNDDOWN(im2colAll_exW6!BS9:LN17/2^6, 0), ROUNDUP(im2colAll_exW6!BS9:LN17/2^6, 0))","v":2},{"$f":"IF(im2colAll_exW6!BT9:LO17 > 0, ROUNDDOWN(im2colAll_exW6!BT9:LO17/2^6, 0), ROUNDUP(im2colAll_exW6!BT9:LO17/2^6, 0))","v":-13},{"$f":"IF(im2colAll_exW6!BU9:LP17 > 0, ROUNDDOWN(im2colAll_exW6!BU9:LP17/2^6, 0), ROUNDUP(im2colAll_exW6!BU9:LP17/2^6, 0))","v":0},{"$f":"IF(im2colAll_exW6!BV9:LQ17 > 0, ROUNDDOWN(im2colAll_exW6!BV9:LQ17/2^6, 0), ROUNDUP(im2colAll_exW6!BV9:LQ17/2^6, 0))","v":9},{"$f":"IF(im2colAll_exW6!BW9:LR17 > 0, ROUNDDOWN(im2colAll_exW6!BW9:LR17/2^6, 0), ROUNDUP(im2colAll_exW6!BW9:LR17/2^6, 0))","v":13},{"$f":"IF(im2colAll_exW6!BX9:LS17 > 0, ROUNDDOWN(im2colAll_exW6!BX9:LS17/2^6, 0), ROUNDUP(im2colAll_exW6!BX9:LS17/2^6, 0))","v":3},{"$f":"IF(im2colAll_exW6!BY9:LT17 > 0, ROUNDDOWN(im2colAll_exW6!BY9:LT17/2^6, 0), ROUNDUP(im2colAll_exW6!BY9:LT17/2^6, 0))","v":-8},{"$f":"IF(im2colAll_exW6!BZ9:LU17 > 0, ROUNDDOWN(im2colAll_exW6!BZ9:LU17/2^6, 0), ROUNDUP(im2colAll_exW6!BZ9:LU17/2^6, 0))","v":3},{"$f":"IF(im2colAll_exW6!CA9:LV17 > 0, ROUNDDOWN(im2colAll_exW6!CA9:LV17/2^6, 0), ROUNDUP(im2colAll_exW6!CA9:LV17/2^6, 0))","v":2},{"$f":"IF(im2colAll_exW6!CB9:LW17 > 0, ROUNDDOWN(im2colAll_exW6!CB9:LW17/2^6, 0), ROUNDUP(im2colAll_exW6!CB9:LW17/2^6, 0))","v":-14},{"$f":"IF(im2colAll_exW6!CC9:LX17 > 0, ROUNDDOWN(im2colAll_exW6!CC9:LX17/2^6, 0), ROUNDUP(im2colAll_exW6!CC9:LX17/2^6, 0))","v":8},{"$f":"IF(im2colAll_exW6!CD9:LY17 > 0, ROUNDDOWN(im2colAll_exW6!CD9:LY17/2^6, 0), ROUNDUP(im2colAll_exW6!CD9:LY17/2^6, 0))","v":-5},{"$f":"IF(im2colAll_exW6!CE9:LZ17 > 0, ROUNDDOWN(im2colAll_exW6!CE9:LZ17/2^6, 0), ROUNDUP(im2colAll_exW6!CE9:LZ17/2^6, 0))","v":-2},{"$f":"IF(im2colAll_exW6!CF9:MA17 > 0, ROUNDDOWN(im2colAll_exW6!CF9:MA17/2^6, 0), ROUNDUP(im2colAll_exW6!CF9:MA17/2^6, 0))","v":21},{"$f":"IF(im2colAll_exW6!CG9:MB17 > 0, ROUNDDOWN(im2colAll_exW6!CG9:MB17/2^6, 0), ROUNDUP(im2colAll_exW6!CG9:MB17/2^6, 0))","v":3},{"$f":"IF(im2colAll_exW6!CH9:MC17 > 0, ROUNDDOWN(im2colAll_exW6!CH9:MC17/2^6, 0), ROUNDUP(im2colAll_exW6!CH9:MC17/2^6, 0))","v":-1},{"$f":"IF(im2colAll_exW6!CI9:MD17 > 0, ROUNDDOWN(im2colAll_exW6!CI9:MD17/2^6, 0), ROUNDUP(im2colAll_exW6!CI9:MD17/2^6, 0))","v":12},{"$f":"IF(im2colAll_exW6!CJ9:ME17 > 0, ROUNDDOWN(im2colAll_exW6!CJ9:ME17/2^6, 0), ROUNDUP(im2colAll_exW6!CJ9:ME17/2^6, 0))","v":22},{"$f":"IF(im2colAll_exW6!CK9:MF17 > 0, ROUNDDOWN(im2colAll_exW6!CK9:MF17/2^6, 0), ROUNDUP(im2colAll_exW6!CK9:MF17/2^6, 0))","v":8},{"$f":"IF(im2colAll_exW6!CL9:MG17 > 0, ROUNDDOWN(im2colAll_exW6!CL9:MG17/2^6, 0), ROUNDUP(im2colAll_exW6!CL9:MG17/2^6, 0))","v":12},{"$f":"IF(im2colAll_exW6!CM9:MH17 > 0, ROUNDDOWN(im2colAll_exW6!CM9:MH17/2^6, 0), ROUNDUP(im2colAll_exW6!CM9:MH17/2^6, 0))","v":-5},{"$f":"IF(im2colAll_exW6!CN9:MI17 > 0, ROUNDDOWN(im2colAll_exW6!CN9:MI17/2^6, 0), ROUNDUP(im2colAll_exW6!CN9:MI17/2^6, 0))","v":8},{"$f":"IF(im2colAll_exW6!CO9:MJ17 > 0, ROUNDDOWN(im2colAll_exW6!CO9:MJ17/2^6, 0), ROUNDUP(im2colAll_exW6!CO9:MJ17/2^6, 0))","v":-2},{"$f":"IF(im2colAll_exW6!CP9:MK17 > 0, ROUNDDOWN(im2colAll_exW6!CP9:MK17/2^6, 0), ROUNDUP(im2colAll_exW6!CP9:MK17/2^6, 0))","v":-6},{"$f":"IF(im2colAll_exW6!CQ9:ML17 > 0, ROUNDDOWN(im2colAll_exW6!CQ9:ML17/2^6, 0), ROUNDUP(im2colAll_exW6!CQ9:ML17/2^6, 0))","v":9},{"$f":"IF(im2colAll_exW6!CR9:MM17 > 0, ROUNDDOWN(im2colAll_exW6!CR9:MM17/2^6, 0), ROUNDUP(im2colAll_exW6!CR9:MM17/2^6, 0))","v":13},{"$f":"IF(im2colAll_exW6!CS9:MN17 > 0, ROUNDDOWN(im2colAll_exW6!CS9:MN17/2^6, 0), ROUNDUP(im2colAll_exW6!CS9:MN17/2^6, 0))","v":11},{"$f":"IF(im2colAll_exW6!CT9:MO17 > 0, ROUNDDOWN(im2colAll_exW6!CT9:MO17/2^6, 0), ROUNDUP(im2colAll_exW6!CT9:MO17/2^6, 0))","v":6},{"$f":"IF(im2colAll_exW6!CU9:MP17 > 0, ROUNDDOWN(im2colAll_exW6!CU9:MP17/2^6, 0), ROUNDUP(im2colAll_exW6!CU9:MP17/2^6, 0))","v":6},{"$f":"IF(im2colAll_exW6!CV9:MQ17 > 0, ROUNDDOWN(im2colAll_exW6!CV9:MQ17/2^6, 0), ROUNDUP(im2colAll_exW6!CV9:MQ17/2^6, 0))","v":-6},{"$f":"IF(im2colAll_exW6!CW9:MR17 > 0, ROUNDDOWN(im2colAll_exW6!CW9:MR17/2^6, 0), ROUNDUP(im2colAll_exW6!CW9:MR17/2^6, 0))","v":3},{"$f":"IF(im2colAll_exW6!CX9:MS17 > 0, ROUNDDOWN(im2colAll_exW6!CX9:MS17/2^6, 0), ROUNDUP(im2colAll_exW6!CX9:MS17/2^6, 0))","v":13},{"$f":"IF(im2colAll_exW6!CY9:MT17 > 0, ROUNDDOWN(im2colAll_exW6!CY9:MT17/2^6, 0), ROUNDUP(im2colAll_exW6!CY9:MT17/2^6, 0))","v":-4},{"$f":"IF(im2colAll_exW6!CZ9:MU17 > 0, ROUNDDOWN(im2colAll_exW6!CZ9:MU17/2^6, 0), ROUNDUP(im2colAll_exW6!CZ9:MU17/2^6, 0))","v":-2},{"$f":"IF(im2colAll_exW6!DA9:MV17 > 0, ROUNDDOWN(im2colAll_exW6!DA9:MV17/2^6, 0), ROUNDUP(im2colAll_exW6!DA9:MV17/2^6, 0))","v":8},{"$f":"IF(im2colAll_exW6!DB9:MW17 > 0, ROUNDDOWN(im2colAll_exW6!DB9:MW17/2^6, 0), ROUNDUP(im2colAll_exW6!DB9:MW17/2^6, 0))","v":13},{"$f":"IF(im2colAll_exW6!DC9:MX17 > 0, ROUNDDOWN(im2colAll_exW6!DC9:MX17/2^6, 0), ROUNDUP(im2colAll_exW6!DC9:MX17/2^6, 0))","v":3},{"$f":"IF(im2colAll_exW6!DD9:MY17 > 0, ROUNDDOWN(im2colAll_exW6!DD9:MY17/2^6, 0), ROUNDUP(im2colAll_exW6!DD9:MY17/2^6, 0))","v":4},{"$f":"IF(im2colAll_exW6!DE9:MZ17 > 0, ROUNDDOWN(im2colAll_exW6!DE9:MZ17/2^6, 0), ROUNDUP(im2colAll_exW6!DE9:MZ17/2^6, 0))","v":18},{"$f":"IF(im2colAll_exW6!DF9:NA17 > 0, ROUNDDOWN(im2colAll_exW6!DF9:NA17/2^6, 0), ROUNDUP(im2colAll_exW6!DF9:NA17/2^6, 0))","v":5},{"$f":"IF(im2colAll_exW6!DG9:NB17 > 0, ROUNDDOWN(im2colAll_exW6!DG9:NB17/2^6, 0), ROUNDUP(im2colAll_exW6!DG9:NB17/2^6, 0))","v":-6},{"$f":"IF(im2colAll_exW6!DH9:NC17 > 0, ROUNDDOWN(im2colAll_exW6!DH9:NC17/2^6, 0), ROUNDUP(im2colAll_exW6!DH9:NC17/2^6, 0))","v":6},{"$f":"IF(im2colAll_exW6!DI9:ND17 > 0, ROUNDDOWN(im2colAll_exW6!DI9:ND17/2^6, 0), ROUNDUP(im2colAll_exW6!DI9:ND17/2^6, 0))","v":-9},{"$f":"IF(im2colAll_exW6!DJ9:NE17 > 0, ROUNDDOWN(im2colAll_exW6!DJ9:NE17/2^6, 0), ROUNDUP(im2colAll_exW6!DJ9:NE17/2^6, 0))","v":-11},{"$f":"IF(im2colAll_exW6!DK9:NF17 > 0, ROUNDDOWN(im2colAll_exW6!DK9:NF17/2^6, 0), ROUNDUP(im2colAll_exW6!DK9:NF17/2^6, 0))","v":6},{"$f":"IF(im2colAll_exW6!DL9:NG17 > 0, ROUNDDOWN(im2colAll_exW6!DL9:NG17/2^6, 0), ROUNDUP(im2colAll_exW6!DL9:NG17/2^6, 0))","v":11},{"$f":"IF(im2colAll_exW6!DM9:NH17 > 0, ROUNDDOWN(im2colAll_exW6!DM9:NH17/2^6, 0), ROUNDUP(im2colAll_exW6!DM9:NH17/2^6, 0))","v":-5},{"$f":"IF(im2colAll_exW6!DN9:NI17 > 0, ROUNDDOWN(im2colAll_exW6!DN9:NI17/2^6, 0), ROUNDUP(im2colAll_exW6!DN9:NI17/2^6, 0))","v":2},{"$f":"IF(im2colAll_exW6!DO9:NJ17 > 0, ROUNDDOWN(im2colAll_exW6!DO9:NJ17/2^6, 0), ROUNDUP(im2colAll_exW6!DO9:NJ17/2^6, 0))","v":-3},{"$f":"IF(im2colAll_exW6!DP9:NK17 > 0, ROUNDDOWN(im2colAll_exW6!DP9:NK17/2^6, 0), ROUNDUP(im2colAll_exW6!DP9:NK17/2^6, 0))","v":10},{"$f":"IF(im2colAll_exW6!DQ9:NL17 > 0, ROUNDDOWN(im2colAll_exW6!DQ9:NL17/2^6, 0), ROUNDUP(im2colAll_exW6!DQ9:NL17/2^6, 0))","v":-1},{"$f":"IF(im2colAll_exW6!DR9:NM17 > 0, ROUNDDOWN(im2colAll_exW6!DR9:NM17/2^6, 0), ROUNDUP(im2colAll_exW6!DR9:NM17/2^6, 0))","v":-10},{"$f":"IF(im2colAll_exW6!DS9:NN17 > 0, ROUNDDOWN(im2colAll_exW6!DS9:NN17/2^6, 0), ROUNDUP(im2colAll_exW6!DS9:NN17/2^6, 0))","v":-7},{"$f":"IF(im2colAll_exW6!DT9:NO17 > 0, ROUNDDOWN(im2colAll_exW6!DT9:NO17/2^6, 0), ROUNDUP(im2colAll_exW6!DT9:NO17/2^6, 0))","v":-1},{"$f":"IF(im2colAll_exW6!DU9:NP17 > 0, ROUNDDOWN(im2colAll_exW6!DU9:NP17/2^6, 0), ROUNDUP(im2colAll_exW6!DU9:NP17/2^6, 0))","v":13},{"$f":"IF(im2colAll_exW6!DV9:NQ17 > 0, ROUNDDOWN(im2colAll_exW6!DV9:NQ17/2^6, 0), ROUNDUP(im2colAll_exW6!DV9:NQ17/2^6, 0))","v":0},{"$f":"IF(im2colAll_exW6!DW9:NR17 > 0, ROUNDDOWN(im2colAll_exW6!DW9:NR17/2^6, 0), ROUNDUP(im2colAll_exW6!DW9:NR17/2^6, 0))","v":-6},{"$f":"IF(im2colAll_exW6!DX9:NS17 > 0, ROUNDDOWN(im2colAll_exW6!DX9:NS17/2^6, 0), ROUNDUP(im2colAll_exW6!DX9:NS17/2^6, 0))","v":-5},{"$f":"IF(im2colAll_exW6!DY9:NT17 > 0, ROUNDDOWN(im2colAll_exW6!DY9:NT17/2^6, 0), ROUNDUP(im2colAll_exW6!DY9:NT17/2^6, 0))","v":-5},{"$f":"IF(im2colAll_exW6!DZ9:NU17 > 0, ROUNDDOWN(im2colAll_exW6!DZ9:NU17/2^6, 0), ROUNDUP(im2colAll_exW6!DZ9:NU17/2^6, 0))","v":-7},{"$f":"IF(im2colAll_exW6!EA9:NV17 > 0, ROUNDDOWN(im2colAll_exW6!EA9:NV17/2^6, 0), ROUNDUP(im2colAll_exW6!EA9:NV17/2^6, 0))","v":-7},{"$f":"IF(im2colAll_exW6!EB9:NW17 > 0, ROUNDDOWN(im2colAll_exW6!EB9:NW17/2^6, 0), ROUNDUP(im2colAll_exW6!EB9:NW17/2^6, 0))","v":-7},{"$f":"IF(im2colAll_exW6!EC9:NX17 > 0, ROUNDDOWN(im2colAll_exW6!EC9:NX17/2^6, 0), ROUNDUP(im2colAll_exW6!EC9:NX17/2^6, 0))","v":5},{"$f":"IF(im2colAll_exW6!ED9:NY17 > 0, ROUNDDOWN(im2colAll_exW6!ED9:NY17/2^6, 0), ROUNDUP(im2colAll_exW6!ED9:NY17/2^6, 0))","v":10},{"$f":"IF(im2colAll_exW6!EE9:NZ17 > 0, ROUNDDOWN(im2colAll_exW6!EE9:NZ17/2^6, 0), ROUNDUP(im2colAll_exW6!EE9:NZ17/2^6, 0))","v":2},{"$f":"IF(im2colAll_exW6!EF9:OA17 > 0, ROUNDDOWN(im2colAll_exW6!EF9:OA17/2^6, 0), ROUNDUP(im2colAll_exW6!EF9:OA17/2^6, 0))","v":-9},{"$f":"IF(im2colAll_exW6!EG9:OB17 > 0, ROUNDDOWN(im2colAll_exW6!EG9:OB17/2^6, 0), ROUNDUP(im2colAll_exW6!EG9:OB17/2^6, 0))","v":0},{"$f":"IF(im2colAll_exW6!EH9:OC17 > 0, ROUNDDOWN(im2colAll_exW6!EH9:OC17/2^6, 0), ROUNDUP(im2colAll_exW6!EH9:OC17/2^6, 0))","v":-1},{"$f":"IF(im2colAll_exW6!EI9:OD17 > 0, ROUNDDOWN(im2colAll_exW6!EI9:OD17/2^6, 0), ROUNDUP(im2colAll_exW6!EI9:OD17/2^6, 0))","v":-2},{"$f":"IF(im2colAll_exW6!EJ9:OE17 > 0, ROUNDDOWN(im2colAll_exW6!EJ9:OE17/2^6, 0), ROUNDUP(im2colAll_exW6!EJ9:OE17/2^6, 0))","v":18},{"$f":"IF(im2colAll_exW6!EK9:OF17 > 0, ROUNDDOWN(im2colAll_exW6!EK9:OF17/2^6, 0), ROUNDUP(im2colAll_exW6!EK9:OF17/2^6, 0))","v":-5},{"$f":"IF(im2colAll_exW6!EL9:OG17 > 0, ROUNDDOWN(im2colAll_exW6!EL9:OG17/2^6, 0), ROUNDUP(im2colAll_exW6!EL9:OG17/2^6, 0))","v":9},{"$f":"IF(im2colAll_exW6!EM9:OH17 > 0, ROUNDDOWN(im2colAll_exW6!EM9:OH17/2^6, 0), ROUNDUP(im2colAll_exW6!EM9:OH17/2^6, 0))","v":2},{"$f":"IF(im2colAll_exW6!EN9:OI17 > 0, ROUNDDOWN(im2colAll_exW6!EN9:OI17/2^6, 0), ROUNDUP(im2colAll_exW6!EN9:OI17/2^6, 0))","v":-1},{"$f":"IF(im2colAll_exW6!EO9:OJ17 > 0, ROUNDDOWN(im2colAll_exW6!EO9:OJ17/2^6, 0), ROUNDUP(im2colAll_exW6!EO9:OJ17/2^6, 0))","v":5},{"$f":"IF(im2colAll_exW6!EP9:OK17 > 0, ROUNDDOWN(im2colAll_exW6!EP9:OK17/2^6, 0), ROUNDUP(im2colAll_exW6!EP9:OK17/2^6, 0))","v":-9},{"$f":"IF(im2colAll_exW6!EQ9:OL17 > 0, ROUNDDOWN(im2colAll_exW6!EQ9:OL17/2^6, 0), ROUNDUP(im2colAll_exW6!EQ9:OL17/2^6, 0))","v":-2},{"$f":"IF(im2colAll_exW6!ER9:OM17 > 0, ROUNDDOWN(im2colAll_exW6!ER9:OM17/2^6, 0), ROUNDUP(im2colAll_exW6!ER9:OM17/2^6, 0))","v":-7},{"$f":"IF(im2colAll_exW6!ES9:ON17 > 0, ROUNDDOWN(im2colAll_exW6!ES9:ON17/2^6, 0), ROUNDUP(im2colAll_exW6!ES9:ON17/2^6, 0))","v":-2},{"$f":"IF(im2colAll_exW6!ET9:OO17 > 0, ROUNDDOWN(im2colAll_exW6!ET9:OO17/2^6, 0), ROUNDUP(im2colAll_exW6!ET9:OO17/2^6, 0))","v":21},{"$f":"IF(im2colAll_exW6!EU9:OP17 > 0, ROUNDDOWN(im2colAll_exW6!EU9:OP17/2^6, 0), ROUNDUP(im2colAll_exW6!EU9:OP17/2^6, 0))","v":-5},{"$f":"IF(im2colAll_exW6!EV9:OQ17 > 0, ROUNDDOWN(im2colAll_exW6!EV9:OQ17/2^6, 0), ROUNDUP(im2colAll_exW6!EV9:OQ17/2^6, 0))","v":-4},{"$f":"IF(im2colAll_exW6!EW9:OR17 > 0, ROUNDDOWN(im2colAll_exW6!EW9:OR17/2^6, 0), ROUNDUP(im2colAll_exW6!EW9:OR17/2^6, 0))","v":9},{"$f":"IF(im2colAll_exW6!EX9:OS17 > 0, ROUNDDOWN(im2colAll_exW6!EX9:OS17/2^6, 0), ROUNDUP(im2colAll_exW6!EX9:OS17/2^6, 0))","v":7},{"$f":"IF(im2colAll_exW6!EY9:OT17 > 0, ROUNDDOWN(im2colAll_exW6!EY9:OT17/2^6, 0), ROUNDUP(im2colAll_exW6!EY9:OT17/2^6, 0))","v":14},{"$f":"IF(im2colAll_exW6!EZ9:OU17 > 0, ROUNDDOWN(im2colAll_exW6!EZ9:OU17/2^6, 0), ROUNDUP(im2colAll_exW6!EZ9:OU17/2^6, 0))","v":-3},{"$f":"IF(im2colAll_exW6!FA9:OV17 > 0, ROUNDDOWN(im2colAll_exW6!FA9:OV17/2^6, 0), ROUNDUP(im2colAll_exW6!FA9:OV17/2^6, 0))","v":6},{"$f":"IF(im2colAll_exW6!FB9:OW17 > 0, ROUNDDOWN(im2colAll_exW6!FB9:OW17/2^6, 0), ROUNDUP(im2colAll_exW6!FB9:OW17/2^6, 0))","v":7},{"$f":"IF(im2colAll_exW6!FC9:OX17 > 0, ROUNDDOWN(im2colAll_exW6!FC9:OX17/2^6, 0), ROUNDUP(im2colAll_exW6!FC9:OX17/2^6, 0))","v":-4},{"$f":"IF(im2colAll_exW6!FD9:OY17 > 0, ROUNDDOWN(im2colAll_exW6!FD9:OY17/2^6, 0), ROUNDUP(im2colAll_exW6!FD9:OY17/2^6, 0))","v":16},{"$f":"IF(im2colAll_exW6!FE9:OZ17 > 0, ROUNDDOWN(im2colAll_exW6!FE9:OZ17/2^6, 0), ROUNDUP(im2colAll_exW6!FE9:OZ17/2^6, 0))","v":1},{"$f":"IF(im2colAll_exW6!FF9:PA17 > 0, ROUNDDOWN(im2colAll_exW6!FF9:PA17/2^6, 0), ROUNDUP(im2colAll_exW6!FF9:PA17/2^6, 0))","v":-2},{"$f":"IF(im2colAll_exW6!FG9:PB17 > 0, ROUNDDOWN(im2colAll_exW6!FG9:PB17/2^6, 0), ROUNDUP(im2colAll_exW6!FG9:PB17/2^6, 0))","v":0},{"$f":"IF(im2colAll_exW6!FH9:PC17 > 0, ROUNDDOWN(im2colAll_exW6!FH9:PC17/2^6, 0), ROUNDUP(im2colAll_exW6!FH9:PC17/2^6, 0))","v":13},{"$f":"IF(im2colAll_exW6!FI9:PD17 > 0, ROUNDDOWN(im2colAll_exW6!FI9:PD17/2^6, 0), ROUNDUP(im2colAll_exW6!FI9:PD17/2^6, 0))","v":-8},{"$f":"IF(im2colAll_exW6!FJ9:PE17 > 0, ROUNDDOWN(im2colAll_exW6!FJ9:PE17/2^6, 0), ROUNDUP(im2colAll_exW6!FJ9:PE17/2^6, 0))","v":5},{"$f":"IF(im2colAll_exW6!FK9:PF17 > 0, ROUNDDOWN(im2colAll_exW6!FK9:PF17/2^6, 0), ROUNDUP(im2colAll_exW6!FK9:PF17/2^6, 0))","v":10},{"$f":"IF(im2colAll_exW6!FL9:PG17 > 0, ROUNDDOWN(im2colAll_exW6!FL9:PG17/2^6, 0), ROUNDUP(im2colAll_exW6!FL9:PG17/2^6, 0))","v":7},{"$f":"IF(im2colAll_exW6!FM9:PH17 > 0, ROUNDDOWN(im2colAll_exW6!FM9:PH17/2^6, 0), ROUNDUP(im2colAll_exW6!FM9:PH17/2^6, 0))","v":-13},{"$f":"IF(im2colAll_exW6!FN9:PI17 > 0, ROUNDDOWN(im2colAll_exW6!FN9:PI17/2^6, 0), ROUNDUP(im2colAll_exW6!FN9:PI17/2^6, 0))","v":8},{"$f":"IF(im2colAll_exW6!FO9:PJ17 > 0, ROUNDDOWN(im2colAll_exW6!FO9:PJ17/2^6, 0), ROUNDUP(im2colAll_exW6!FO9:PJ17/2^6, 0))","v":4},{"$f":"IF(im2colAll_exW6!FP9:PK17 > 0, ROUNDDOWN(im2colAll_exW6!FP9:PK17/2^6, 0), ROUNDUP(im2colAll_exW6!FP9:PK17/2^6, 0))","v":25},{"$f":"IF(im2colAll_exW6!FQ9:PL17 > 0, ROUNDDOWN(im2colAll_exW6!FQ9:PL17/2^6, 0), ROUNDUP(im2colAll_exW6!FQ9:PL17/2^6, 0))","v":-5},{"$f":"IF(im2colAll_exW6!FR9:PM17 > 0, ROUNDDOWN(im2colAll_exW6!FR9:PM17/2^6, 0), ROUNDUP(im2colAll_exW6!FR9:PM17/2^6, 0))","v":6},{"$f":"IF(im2colAll_exW6!FS9:PN17 > 0, ROUNDDOWN(im2colAll_exW6!FS9:PN17/2^6, 0), ROUNDUP(im2colAll_exW6!FS9:PN17/2^6, 0))","v":-1},{"$f":"IF(im2colAll_exW6!FT9:PO17 > 0, ROUNDDOWN(im2colAll_exW6!FT9:PO17/2^6, 0), ROUNDUP(im2colAll_exW6!FT9:PO17/2^6, 0))","v":1},{"$f":"IF(im2colAll_exW6!FU9:PP17 > 0, ROUNDDOWN(im2colAll_exW6!FU9:PP17/2^6, 0), ROUNDUP(im2colAll_exW6!FU9:PP17/2^6, 0))","v":-3},{"$f":"IF(im2colAll_exW6!FV9:PQ17 > 0, ROUNDDOWN(im2colAll_exW6!FV9:PQ17/2^6, 0), ROUNDUP(im2colAll_exW6!FV9:PQ17/2^6, 0))","v":-2},{"$f":"IF(im2colAll_exW6!FW9:PR17 > 0, ROUNDDOWN(im2colAll_exW6!FW9:PR17/2^6, 0), ROUNDUP(im2colAll_exW6!FW9:PR17/2^6, 0))","v":3},{"$f":"IF(im2colAll_exW6!FX9:PS17 > 0, ROUNDDOWN(im2colAll_exW6!FX9:PS17/2^6, 0), ROUNDUP(im2colAll_exW6!FX9:PS17/2^6, 0))","v":5},{"$f":"IF(im2colAll_exW6!FY9:PT17 > 0, ROUNDDOWN(im2colAll_exW6!FY9:PT17/2^6, 0), ROUNDUP(im2colAll_exW6!FY9:PT17/2^6, 0))","v":-10},{"$f":"IF(im2colAll_exW6!FZ9:PU17 > 0, ROUNDDOWN(im2colAll_exW6!FZ9:PU17/2^6, 0), ROUNDUP(im2colAll_exW6!FZ9:PU17/2^6, 0))","v":-9},{"$f":"IF(im2colAll_exW6!GA9:PV17 > 0, ROUNDDOWN(im2colAll_exW6!GA9:PV17/2^6, 0), ROUNDUP(im2colAll_exW6!GA9:PV17/2^6, 0))","v":-3},{"$f":"IF(im2colAll_exW6!GB9:PW17 > 0, ROUNDDOWN(im2colAll_exW6!GB9:PW17/2^6, 0), ROUNDUP(im2colAll_exW6!GB9:PW17/2^6, 0))","v":-9},{"$f":"IF(im2colAll_exW6!GC9:PX17 > 0, ROUNDDOWN(im2colAll_exW6!GC9:PX17/2^6, 0), ROUNDUP(im2colAll_exW6!GC9:PX17/2^6, 0))","v":6},{"$f":"IF(im2colAll_exW6!GD9:PY17 > 0, ROUNDDOWN(im2colAll_exW6!GD9:PY17/2^6, 0), ROUNDUP(im2colAll_exW6!GD9:PY17/2^6, 0))","v":-7},{"$f":"IF(im2colAll_exW6!GE9:PZ17 > 0, ROUNDDOWN(im2colAll_exW6!GE9:PZ17/2^6, 0), ROUNDUP(im2colAll_exW6!GE9:PZ17/2^6, 0))","v":4},{"$f":"IF(im2colAll_exW6!GF9:QA17 > 0, ROUNDDOWN(im2colAll_exW6!GF9:QA17/2^6, 0), ROUNDUP(im2colAll_exW6!GF9:QA17/2^6, 0))","v":-5},{"$f":"IF(im2colAll_exW6!GG9:QB17 > 0, ROUNDDOWN(im2colAll_exW6!GG9:QB17/2^6, 0), ROUNDUP(im2colAll_exW6!GG9:QB17/2^6, 0))","v":-4},{"$f":"IF(im2colAll_exW6!GH9:QC17 > 0, ROUNDDOWN(im2colAll_exW6!GH9:QC17/2^6, 0), ROUNDUP(im2colAll_exW6!GH9:QC17/2^6, 0))","v":-14},{"$f":"IF(im2colAll_exW6!GI9:QD17 > 0, ROUNDDOWN(im2colAll_exW6!GI9:QD17/2^6, 0), ROUNDUP(im2colAll_exW6!GI9:QD17/2^6, 0))","v":2},{"$f":"IF(im2colAll_exW6!GJ9:QE17 > 0, ROUNDDOWN(im2colAll_exW6!GJ9:QE17/2^6, 0), ROUNDUP(im2colAll_exW6!GJ9:QE17/2^6, 0))","v":-1},{"$f":"IF(im2colAll_exW6!GK9:QF17 > 0, ROUNDDOWN(im2colAll_exW6!GK9:QF17/2^6, 0), ROUNDUP(im2colAll_exW6!GK9:QF17/2^6, 0))","v":7},{"$f":"IF(im2colAll_exW6!GL9:QG17 > 0, ROUNDDOWN(im2colAll_exW6!GL9:QG17/2^6, 0), ROUNDUP(im2colAll_exW6!GL9:QG17/2^6, 0))","v":9},{"$f":"IF(im2colAll_exW6!GM9:QH17 > 0, ROUNDDOWN(im2colAll_exW6!GM9:QH17/2^6, 0), ROUNDUP(im2colAll_exW6!GM9:QH17/2^6, 0))","v":4},{"$f":"IF(im2colAll_exW6!GN9:QI17 > 0, ROUNDDOWN(im2colAll_exW6!GN9:QI17/2^6, 0), ROUNDUP(im2colAll_exW6!GN9:QI17/2^6, 0))","v":-5},{"$f":"IF(im2colAll_exW6!GO9:QJ17 > 0, ROUNDDOWN(im2colAll_exW6!GO9:QJ17/2^6, 0), ROUNDUP(im2colAll_exW6!GO9:QJ17/2^6, 0))","v":-5},{"$f":"IF(im2colAll_exW6!GP9:QK17 > 0, ROUNDDOWN(im2colAll_exW6!GP9:QK17/2^6, 0), ROUNDUP(im2colAll_exW6!GP9:QK17/2^6, 0))","v":5},{"$f":"IF(im2colAll_exW6!GQ9:QL17 > 0, ROUNDDOWN(im2colAll_exW6!GQ9:QL17/2^6, 0), ROUNDUP(im2colAll_exW6!GQ9:QL17/2^6, 0))","v":1},{"$f":"IF(im2colAll_exW6!GR9:QM17 > 0, ROUNDDOWN(im2colAll_exW6!GR9:QM17/2^6, 0), ROUNDUP(im2colAll_exW6!GR9:QM17/2^6, 0))","v":2},{"$f":"IF(im2colAll_exW6!GS9:QN17 > 0, ROUNDDOWN(im2colAll_exW6!GS9:QN17/2^6, 0), ROUNDUP(im2colAll_exW6!GS9:QN17/2^6, 0))","v":-6},{"$f":"IF(im2colAll_exW6!GT9:QO17 > 0, ROUNDDOWN(im2colAll_exW6!GT9:QO17/2^6, 0), ROUNDUP(im2colAll_exW6!GT9:QO17/2^6, 0))","v":7},{"$f":"IF(im2colAll_exW6!GU9:QP17 > 0, ROUNDDOWN(im2colAll_exW6!GU9:QP17/2^6, 0), ROUNDUP(im2colAll_exW6!GU9:QP17/2^6, 0))","v":12},{"$f":"IF(im2colAll_exW6!GV9:QQ17 > 0, ROUNDDOWN(im2colAll_exW6!GV9:QQ17/2^6, 0), ROUNDUP(im2colAll_exW6!GV9:QQ17/2^6, 0))","v":1},{"$f":"IF(im2colAll_exW6!GW9:QR17 > 0, ROUNDDOWN(im2colAll_exW6!GW9:QR17/2^6, 0), ROUNDUP(im2colAll_exW6!GW9:QR17/2^6, 0))","v":-1},{"$f":"IF(im2colAll_exW6!GX9:QS17 > 0, ROUNDDOWN(im2colAll_exW6!GX9:QS17/2^6, 0), ROUNDUP(im2colAll_exW6!GX9:QS17/2^6, 0))","v":-1},{"$f":"IF(im2colAll_exW6!GY9:QT17 > 0, ROUNDDOWN(im2colAll_exW6!GY9:QT17/2^6, 0), ROUNDUP(im2colAll_exW6!GY9:QT17/2^6, 0))","v":15},{"$f":"IF(im2colAll_exW6!GZ9:QU17 > 0, ROUNDDOWN(im2colAll_exW6!GZ9:QU17/2^6, 0), ROUNDUP(im2colAll_exW6!GZ9:QU17/2^6, 0))","v":6},{"$f":"IF(im2colAll_exW6!HA9:QV17 > 0, ROUNDDOWN(im2colAll_exW6!HA9:QV17/2^6, 0), ROUNDUP(im2colAll_exW6!HA9:QV17/2^6, 0))","v":12},{"$f":"IF(im2colAll_exW6!HB9:QW17 > 0, ROUNDDOWN(im2colAll_exW6!HB9:QW17/2^6, 0), ROUNDUP(im2colAll_exW6!HB9:QW17/2^6, 0))","v":-7},{"$f":"IF(im2colAll_exW6!HC9:QX17 > 0, ROUNDDOWN(im2colAll_exW6!HC9:QX17/2^6, 0), ROUNDUP(im2colAll_exW6!HC9:QX17/2^6, 0))","v":6},{"$f":"IF(im2colAll_exW6!HD9:QY17 > 0, ROUNDDOWN(im2colAll_exW6!HD9:QY17/2^6, 0), ROUNDUP(im2colAll_exW6!HD9:QY17/2^6, 0))","v":11},{"$f":"IF(im2colAll_exW6!HE9:QZ17 > 0, ROUNDDOWN(im2colAll_exW6!HE9:QZ17/2^6, 0), ROUNDUP(im2colAll_exW6!HE9:QZ17/2^6, 0))","v":-4},{"$f":"IF(im2colAll_exW6!HF9:RA17 > 0, ROUNDDOWN(im2colAll_exW6!HF9:RA17/2^6, 0), ROUNDUP(im2colAll_exW6!HF9:RA17/2^6, 0))","v":5},{"$f":"IF(im2colAll_exW6!HG9:RB17 > 0, ROUNDDOWN(im2colAll_exW6!HG9:RB17/2^6, 0), ROUNDUP(im2colAll_exW6!HG9:RB17/2^6, 0))","v":-7},{"$f":"IF(im2colAll_exW6!HH9:RC17 > 0, ROUNDDOWN(im2colAll_exW6!HH9:RC17/2^6, 0), ROUNDUP(im2colAll_exW6!HH9:RC17/2^6, 0))","v":4},{"$f":"IF(im2colAll_exW6!HI9:RD17 > 0, ROUNDDOWN(im2colAll_exW6!HI9:RD17/2^6, 0), ROUNDUP(im2colAll_exW6!HI9:RD17/2^6, 0))","v":3},{"$f":"IF(im2colAll_exW6!HJ9:RE17 > 0, ROUNDDOWN(im2colAll_exW6!HJ9:RE17/2^6, 0), ROUNDUP(im2colAll_exW6!HJ9:RE17/2^6, 0))","v":17},{"$f":"IF(im2colAll_exW6!HK9:RF17 > 0, ROUNDDOWN(im2colAll_exW6!HK9:RF17/2^6, 0), ROUNDUP(im2colAll_exW6!HK9:RF17/2^6, 0))","v":-10},{"$f":"IF(im2colAll_exW6!HL9:RG17 > 0, ROUNDDOWN(im2colAll_exW6!HL9:RG17/2^6, 0), ROUNDUP(im2colAll_exW6!HL9:RG17/2^6, 0))","v":-6},{"$f":"IF(im2colAll_exW6!HM9:RH17 > 0, ROUNDDOWN(im2colAll_exW6!HM9:RH17/2^6, 0), ROUNDUP(im2colAll_exW6!HM9:RH17/2^6, 0))","v":-3},{"$f":"IF(im2colAll_exW6!HN9:RI17 > 0, ROUNDDOWN(im2colAll_exW6!HN9:RI17/2^6, 0), ROUNDUP(im2colAll_exW6!HN9:RI17/2^6, 0))","v":10},{"$f":"IF(im2colAll_exW6!HO9:RJ17 > 0, ROUNDDOWN(im2colAll_exW6!HO9:RJ17/2^6, 0), ROUNDUP(im2colAll_exW6!HO9:RJ17/2^6, 0))","v":0},{"$f":"IF(im2colAll_exW6!HP9:RK17 > 0, ROUNDDOWN(im2colAll_exW6!HP9:RK17/2^6, 0), ROUNDUP(im2colAll_exW6!HP9:RK17/2^6, 0))","v":-8},{"$f":"IF(im2colAll_exW6!HQ9:RL17 > 0, ROUNDDOWN(im2colAll_exW6!HQ9:RL17/2^6, 0), ROUNDUP(im2colAll_exW6!HQ9:RL17/2^6, 0))","v":18},{"$f":"IF(im2colAll_exW6!HR9:RM17 > 0, ROUNDDOWN(im2colAll_exW6!HR9:RM17/2^6, 0), ROUNDUP(im2colAll_exW6!HR9:RM17/2^6, 0))","v":2},{"$f":"IF(im2colAll_exW6!HS9:RN17 > 0, ROUNDDOWN(im2colAll_exW6!HS9:RN17/2^6, 0), ROUNDUP(im2colAll_exW6!HS9:RN17/2^6, 0))","v":-4},{"$f":"IF(im2colAll_exW6!HT9:RO17 > 0, ROUNDDOWN(im2colAll_exW6!HT9:RO17/2^6, 0), ROUNDUP(im2colAll_exW6!HT9:RO17/2^6, 0))","v":-3},{"$f":"IF(im2colAll_exW6!HU9:RP17 > 0, ROUNDDOWN(im2colAll_exW6!HU9:RP17/2^6, 0), ROUNDUP(im2colAll_exW6!HU9:RP17/2^6, 0))","v":-2},{"$f":"IF(im2colAll_exW6!HV9:RQ17 > 0, ROUNDDOWN(im2colAll_exW6!HV9:RQ17/2^6, 0), ROUNDUP(im2colAll_exW6!HV9:RQ17/2^6, 0))","v":7},{"$f":"IF(im2colAll_exW6!HW9:RR17 > 0, ROUNDDOWN(im2colAll_exW6!HW9:RR17/2^6, 0), ROUNDUP(im2colAll_exW6!HW9:RR17/2^6, 0))","v":17},{"$f":"IF(im2colAll_exW6!HX9:RS17 > 0, ROUNDDOWN(im2colAll_exW6!HX9:RS17/2^6, 0), ROUNDUP(im2colAll_exW6!HX9:RS17/2^6, 0))","v":-6},{"$f":"IF(im2colAll_exW6!HY9:RT17 > 0, ROUNDDOWN(im2colAll_exW6!HY9:RT17/2^6, 0), ROUNDUP(im2colAll_exW6!HY9:RT17/2^6, 0))","v":9},{"$f":"IF(im2colAll_exW6!HZ9:RU17 > 0, ROUNDDOWN(im2colAll_exW6!HZ9:RU17/2^6, 0), ROUNDUP(im2colAll_exW6!HZ9:RU17/2^6, 0))","v":7},{"$f":"IF(im2colAll_exW6!IA9:RV17 > 0, ROUNDDOWN(im2colAll_exW6!IA9:RV17/2^6, 0), ROUNDUP(im2colAll_exW6!IA9:RV17/2^6, 0))","v":-4},{"$f":"IF(im2colAll_exW6!IB9:RW17 > 0, ROUNDDOWN(im2colAll_exW6!IB9:RW17/2^6, 0), ROUNDUP(im2colAll_exW6!IB9:RW17/2^6, 0))","v":-2},{"$f":"IF(im2colAll_exW6!IC9:RX17 > 0, ROUNDDOWN(im2colAll_exW6!IC9:RX17/2^6, 0), ROUNDUP(im2colAll_exW6!IC9:RX17/2^6, 0))","v":1},{"$f":"IF(im2colAll_exW6!ID9:RY17 > 0, ROUNDDOWN(im2colAll_exW6!ID9:RY17/2^6, 0), ROUNDUP(im2colAll_exW6!ID9:RY17/2^6, 0))","v":4},{"$f":"IF(im2colAll_exW6!IE9:RZ17 > 0, ROUNDDOWN(im2colAll_exW6!IE9:RZ17/2^6, 0), ROUNDUP(im2colAll_exW6!IE9:RZ17/2^6, 0))","v":-4},{"$f":"IF(im2colAll_exW6!IF9:SA17 > 0, ROUNDDOWN(im2colAll_exW6!IF9:SA17/2^6, 0), ROUNDUP(im2colAll_exW6!IF9:SA17/2^6, 0))","v":-1},{"$f":"IF(im2colAll_exW6!IG9:SB17 > 0, ROUNDDOWN(im2colAll_exW6!IG9:SB17/2^6, 0), ROUNDUP(im2colAll_exW6!IG9:SB17/2^6, 0))","v":3},{"$f":"IF(im2colAll_exW6!IH9:SC17 > 0, ROUNDDOWN(im2colAll_exW6!IH9:SC17/2^6, 0), ROUNDUP(im2colAll_exW6!IH9:SC17/2^6, 0))","v":3},{"$f":"IF(im2colAll_exW6!II9:SD17 > 0, ROUNDDOWN(im2colAll_exW6!II9:SD17/2^6, 0), ROUNDUP(im2colAll_exW6!II9:SD17/2^6, 0))","v":0},{"$f":"IF(im2colAll_exW6!IJ9:SE17 > 0, ROUNDDOWN(im2colAll_exW6!IJ9:SE17/2^6, 0), ROUNDUP(im2colAll_exW6!IJ9:SE17/2^6, 0))","v":-1},{"$f":"IF(im2colAll_exW6!IK9:SF17 > 0, ROUNDDOWN(im2colAll_exW6!IK9:SF17/2^6, 0), ROUNDUP(im2colAll_exW6!IK9:SF17/2^6, 0))","v":4},{"$f":"IF(im2colAll_exW6!IL9:SG17 > 0, ROUNDDOWN(im2colAll_exW6!IL9:SG17/2^6, 0), ROUNDUP(im2colAll_exW6!IL9:SG17/2^6, 0))","v":20},{"$f":"IF(im2colAll_exW6!IM9:SH17 > 0, ROUNDDOWN(im2colAll_exW6!IM9:SH17/2^6, 0), ROUNDUP(im2colAll_exW6!IM9:SH17/2^6, 0))","v":3},{"$f":"IF(im2colAll_exW6!IN9:SI17 > 0, ROUNDDOWN(im2colAll_exW6!IN9:SI17/2^6, 0), ROUNDUP(im2colAll_exW6!IN9:SI17/2^6, 0))","v":6},{"$f":"IF(im2colAll_exW6!IO9:SJ17 > 0, ROUNDDOWN(im2colAll_exW6!IO9:SJ17/2^6, 0), ROUNDUP(im2colAll_exW6!IO9:SJ17/2^6, 0))","v":0},{"$f":"IF(im2colAll_exW6!IP9:SK17 > 0, ROUNDDOWN(im2colAll_exW6!IP9:SK17/2^6, 0), ROUNDUP(im2colAll_exW6!IP9:SK17/2^6, 0))","v":2},{"$f":"IF(im2colAll_exW6!IQ9:SL17 > 0, ROUNDDOWN(im2colAll_exW6!IQ9:SL17/2^6, 0), ROUNDUP(im2colAll_exW6!IQ9:SL17/2^6, 0))","v":-1},{"$f":"IF(im2colAll_exW6!IR9:SM17 > 0, ROUNDDOWN(im2colAll_exW6!IR9:SM17/2^6, 0), ROUNDUP(im2colAll_exW6!IR9:SM17/2^6, 0))","v":3},{"$f":"IF(im2colAll_exW6!IS9:SN17 > 0, ROUNDDOWN(im2colAll_exW6!IS9:SN17/2^6, 0), ROUNDUP(im2colAll_exW6!IS9:SN17/2^6, 0))","v":11},{"$f":"IF(im2colAll_exW6!IT9:SO17 > 0, ROUNDDOWN(im2colAll_exW6!IT9:SO17/2^6, 0), ROUNDUP(im2colAll_exW6!IT9:SO17/2^6, 0))","v":-7},{"$f":"IF(im2colAll_exW6!IU9:SP17 > 0, ROUNDDOWN(im2colAll_exW6!IU9:SP17/2^6, 0), ROUNDUP(im2colAll_exW6!IU9:SP17/2^6, 0))","v":6},{"$f":"IF(im2colAll_exW6!IV9:SQ17 > 0, ROUNDDOWN(im2colAll_exW6!IV9:SQ17/2^6, 0), ROUNDUP(im2colAll_exW6!IV9:SQ17/2^6, 0))","v":11}]

{"sheet":"Relu","index":3,"n_rows":9,"n_cols":256,"rows_kept":9,"cut":false,"hidden":false,"merged":[]}
[{"$f":"IF(truncate!A1:IV9 < 0, 0, IF(truncate!A1:IV9 > 255, 255, truncate!A1:IV9))","v":25},{"$f":"IF(truncate!B1:IW9 < 0, 0, IF(truncate!B1:IW9 > 255, 255, truncate!B1:IW9))","v":8},{"$f":"IF(truncate!C1:IX9 < 0, 0, IF(truncate!C1:IX9 > 255, 255, truncate!C1:IX9))","v":7},{"$f":"IF(truncate!D1:IY9 < 0, 0, IF(truncate!D1:IY9 > 255, 255, truncate!D1:IY9))","v":10},{"$f":"IF(truncate!E1:IZ9 < 0, 0, IF(truncate!E1:IZ9 > 255, 255, truncate!E1:IZ9))","v":24},{"$f":"IF(truncate!F1:JA9 < 0, 0, IF(truncate!F1:JA9 > 255, 255, truncate!F1:JA9))","v":0},{"$f":"IF(truncate!G1:JB9 < 0, 0, IF(truncate!G1:JB9 > 255, 255, truncate!G1:JB9))","v":0},{"$f":"IF(truncate!H1:JC9 < 0, 0, IF(truncate!H1:JC9 > 255, 255, truncate!H1:JC9))","v":0},{"$f":"IF(truncate!I1:JD9 < 0, 0, IF(truncate!I1:JD9 > 255, 255, truncate!I1:JD9))","v":0},{"$f":"IF(truncate!J1:JE9 < 0, 0, IF(truncate!J1:JE9 > 255, 255, truncate!J1:JE9))","v":0},{"$f":"IF(truncate!K1:JF9 < 0, 0, IF(truncate!K1:JF9 > 255, 255, truncate!K1:JF9))","v":0},{"$f":"IF(truncate!L1:JG9 < 0, 0, IF(truncate!L1:JG9 > 255, 255, truncate!L1:JG9))","v":12},{"$f":"IF(truncate!M1:JH9 < 0, 0, IF(truncate!M1:JH9 > 255, 255, truncate!M1:JH9))","v":0},{"$f":"IF(truncate!N1:JI9 < 0, 0, IF(truncate!N1:JI9 > 255, 255, truncate!N1:JI9))","v":0},{"$f":"IF(truncate!O1:JJ9 < 0, 0, IF(truncate!O1:JJ9 > 255, 255, truncate!O1:JJ9))","v":12},{"$f":"IF(truncate!P1:JK9 < 0, 0, IF(truncate!P1:JK9 > 255, 255, truncate!P1:JK9))","v":12},{"$f":"IF(truncate!Q1:JL9 < 0, 0, IF(truncate!Q1:JL9 > 255, 255, truncate!Q1:JL9))","v":0},{"$f":"IF(truncate!R1:JM9 < 0, 0, IF(truncate!R1:JM9 > 255, 255, truncate!R1:JM9))","v":1},{"$f":"IF(truncate!S1:JN9 < 0, 0, IF(truncate!S1:JN9 > 255, 255, truncate!S1:JN9))","v":13},{"$f":"IF(truncate!T1:JO9 < 0, 0, IF(truncate!T1:JO9 > 255, 255, truncate!T1:JO9))","v":2},{"$f":"IF(truncate!U1:JP9 < 0, 0, IF(truncate!U1:JP9 > 255, 255, truncate!U1:JP9))","v":16},{"$f":"IF(truncate!V1:JQ9 < 0, 0, IF(truncate!V1:JQ9 > 255, 255, truncate!V1:JQ9))","v":0},{"$f":"IF(truncate!W1:JR9 < 0, 0, IF(truncate!W1:JR9 > 255, 255, truncate!W1:JR9))","v":13},{"$f":"IF(truncate!X1:JS9 < 0, 0, IF(truncate!X1:JS9 > 255, 255, truncate!X1:JS9))","v":2},{"$f":"IF(truncate!Y1:JT9 < 0, 0, IF(truncate!Y1:JT9 > 255, 255, truncate!Y1:JT9))","v":11},{"$f":"IF(truncate!Z1:JU9 < 0, 0, IF(truncate!Z1:JU9 > 255, 255, truncate!Z1:JU9))","v":0},{"$f":"IF(truncate!AA1:JV9 < 0, 0, IF(truncate!AA1:JV9 > 255, 255, truncate!AA1:JV9))","v":0},{"$f":"IF(truncate!AB1:JW9 < 0, 0, IF(truncate!AB1:JW9 > 255, 255, truncate!AB1:JW9))","v":0},{"$f":"IF(truncate!AC1:JX9 < 0, 0, IF(truncate!AC1:JX9 > 255, 255, truncate!AC1:JX9))","v":13},{"$f":"IF(truncate!AD1:JY9 < 0, 0, IF(truncate!AD1:JY9 > 255, 255, truncate!AD1:JY9))","v":0},{"$f":"IF(truncate!AE1:JZ9 < 0, 0, IF(truncate!AE1:JZ9 > 255, 255, truncate!AE1:JZ9))","v":19},{"$f":"IF(truncate!AF1:KA9 < 0, 0, IF(truncate!AF1:KA9 > 255, 255, truncate!AF1:KA9))","v":0},{"$f":"IF(truncate!AG1:KB9 < 0, 0, IF(truncate!AG1:KB9 > 255, 255, truncate!AG1:KB9))","v":0},{"$f":"IF(truncate!AH1:KC9 < 0, 0, IF(truncate!AH1:KC9 > 255, 255, truncate!AH1:KC9))","v":2},{"$f":"IF(truncate!AI1:KD9 < 0, 0, IF(truncate!AI1:KD9 > 255, 255, truncate!AI1:KD9))","v":0},{"$f":"IF(truncate!AJ1:KE9 < 0, 0, IF(truncate!AJ1:KE9 > 255, 255, truncate!AJ1:KE9))","v":7},{"$f":"IF(truncate!AK1:KF9 < 0, 0, IF(truncate!AK1:KF9 > 255, 255, truncate!AK1:KF9))","v":0},{"$f":"IF(truncate!AL1:KG9 < 0, 0, IF(truncate!AL1:KG9 > 255, 255, truncate!AL1:KG9))","v":17},{"$f":"IF(truncate!AM1:KH9 < 0, 0, IF(truncate!AM1:KH9 > 255, 255, truncate!AM1:KH9))","v":0},{"$f":"IF(truncate!AN1:KI9 < 0, 0, IF(truncate!AN1:KI9 > 255, 255, truncate!AN1:KI9))","v":0},{"$f":"IF(truncate!AO1:KJ9 < 0, 0, IF(truncate!AO1:KJ9 > 255, 255, truncate!AO1:KJ9))","v":0},{"$f":"IF(truncate!AP1:KK9 < 0, 0, IF(truncate!AP1:KK9 > 255, 255, truncate!AP1:KK9))","v":3},{"$f":"IF(truncate!AQ1:KL9 < 0, 0, IF(truncate!AQ1:KL9 > 255, 255, truncate!AQ1:KL9))","v":0},{"$f":"IF(truncate!AR1:KM9 < 0, 0, IF(truncate!AR1:KM9 > 255, 255, truncate!AR1:KM9))","v":15},{"$f":"IF(truncate!AS1:KN9 < 0, 0, IF(truncate!AS1:KN9 > 255, 255, truncate!AS1:KN9))","v":9},{"$f":"IF(truncate!AT1:KO9 < 0, 0, IF(truncate!AT1:KO9 > 255, 255, truncate!AT1:KO9))","v":0},{"$f":"IF(truncate!AU1:KP9 < 0, 0, IF(truncate!AU1:KP9 > 255, 255, truncate!AU1:KP9))","v":0},{"$f":"IF(truncate!AV1:KQ9 < 0, 0, IF(truncate!AV1:KQ9 > 255, 255, truncate!AV1:KQ9))","v":0},{"$f":"IF(truncate!AW1:KR9 < 0, 0, IF(truncate!AW1:KR9 > 255, 255, truncate!AW1:KR9))","v":14},{"$f":"IF(truncate!AX1:KS9 < 0, 0, IF(truncate!AX1:KS9 > 255, 255, truncate!AX1:KS9))","v":13},{"$f":"IF(truncate!AY1:KT9 < 0, 0, IF(truncate!AY1:KT9 > 255, 255, truncate!AY1:KT9))","v":4},{"$f":"IF(truncate!AZ1:KU9 < 0, 0, IF(truncate!AZ1:KU9 > 255, 255, truncate!AZ1:KU9))","v":23},{"$f":"IF(truncate!BA1:KV9 < 0, 0, IF(truncate!BA1:KV9 > 255, 255, truncate!BA1:KV9))","v":0},{"$f":"IF(truncate!BB1:KW9 < 0, 0, IF(truncate!BB1:KW9 > 255, 255, truncate!BB1:KW9))","v":2},{"$f":"IF(truncate!BC1:KX9 < 0, 0, IF(truncate!BC1:KX9 > 255, 255, truncate!BC1:KX9))","v":12},{"$f":"IF(truncate!BD1:KY9 < 0, 0, IF(truncate!BD1:KY9 > 255, 255, truncate!BD1:KY9))","v":4},{"$f":"IF(truncate!BE1:KZ9 < 0, 0, IF(truncate!BE1:KZ9 > 255, 255, truncate!BE1:KZ9))","v":0},{"$f":"IF(truncate!BF1:LA9 < 0, 0, IF(truncate!BF1:LA9 > 255, 255, truncate!BF1:LA9))","v":0},{"$f":"IF(truncate!BG1:LB9 < 0, 0, IF(truncate!BG1:LB9 > 255, 255, truncate!BG1:LB9))","v":4},{"$f":"IF(truncate!BH1:LC9 < 0, 0, IF(truncate!BH1:LC9 > 255, 255, truncate!BH1:LC9))","v":3},{"$f":"IF(truncate!BI1:LD9 < 0, 0, IF(truncate!BI1:LD9 > 255, 255, truncate!BI1:LD9))","v":10},{"$f":"IF(truncate!BJ1:LE9 < 0, 0, IF(truncate!BJ1:LE9 > 255, 255, truncate!BJ1:LE9))","v":0},{"$f":"IF(truncate!BK1:LF9 < 0, 0, IF(truncate!BK1:LF9 > 255, 255, truncate!BK1:LF9))","v":0},{"$f":"IF(truncate!BL1:LG9 < 0, 0, IF(truncate!BL1:LG9 > 255, 255, truncate!BL1:LG9))","v":2},{"$f":"IF(truncate!BM1:LH9 < 0, 0, IF(truncate!BM1:LH9 > 255, 255, truncate!BM1:LH9))","v":0},{"$f":"IF(truncate!BN1:LI9 < 0, 0, IF(truncate!BN1:LI9 > 255, 255, truncate!BN1:LI9))","v":0},{"$f":"IF(truncate!BO1:LJ9 < 0, 0, IF(truncate!BO1:LJ9 > 255, 255, truncate!BO1:LJ9))","v":0},{"$f":"IF(truncate!BP1:LK9 < 0, 0, IF(truncate!BP1:LK9 > 255, 255, truncate!BP1:LK9))","v":7},{"$f":"IF(truncate!BQ1:LL9 < 0, 0, IF(truncate!BQ1:LL9 > 255, 255, truncate!BQ1:LL9))","v":0},{"$f":"IF(truncate!BR1:LM9 < 0, 0, IF(truncate!BR1:LM9 > 255, 255, truncate!BR1:LM9))","v":10},{"$f":"IF(truncate!BS1:LN9 < 0, 0, IF(truncate!BS1:LN9 > 255, 255, truncate!BS1:LN9))","v":8},{"$f":"IF(truncate!BT1:LO9 < 0, 0, IF(truncate!BT1:LO9 > 255, 255, truncate!BT1:LO9))","v":0},{"$f":"IF(truncate!BU1:LP9 < 0, 0, IF(truncate!BU1:LP9 > 255, 255, truncate!BU1:LP9))","v":11},{"$f":"IF(truncate!BV1:LQ9 < 0, 0, IF(truncate!BV1:LQ9 > 255, 255, truncate!BV1:LQ9))","v":12},{"$f":"IF(truncate!BW1:LR9 < 0, 0, IF(truncate!BW1:LR9 > 255, 255, truncate!BW1:LR9))","v":10},{"$f":"IF(truncate!BX1:LS9 < 0, 0, IF(truncate!BX1:LS9 > 255, 255, truncate!BX1:LS9))","v":5},{"$f":"IF(truncate!BY1:LT9 < 0, 0, IF(truncate!BY1:LT9 > 255, 255, truncate!BY1:LT9))","v":0},{"$f":"IF(truncate!BZ1:LU9 < 0, 0, IF(truncate!BZ1:LU9 > 255, 255, truncate!BZ1:LU9))","v":15},{"$f":"IF(truncate!CA1:LV9 < 0, 0, IF(truncate!CA1:LV9 > 255, 255, truncate!CA1:LV9))","v":11},{"$f":"IF(truncate!CB1:LW9 < 0, 0, IF(truncate!CB1:LW9 > 255, 255, truncate!CB1:LW9))","v":7},{"$f":"IF(truncate!CC1:LX9 < 0, 0, IF(truncate!CC1:LX9 > 255, 255, truncate!CC1:LX9))","v":2},{"$f":"IF(truncate!CD1:LY9 < 0, 0, IF(truncate!CD1:LY9 > 255, 255, truncate!CD1:LY9))","v":0},{"$f":"IF(truncate!CE1:LZ9 < 0, 0, IF(truncate!CE1:LZ9 > 255, 255, truncate!CE1:LZ9))","v":0},{"$f":"IF(truncate!CF1:MA9 < 0, 0, IF(truncate!CF1:MA9 > 255, 255, truncate!CF1:MA9))","v":18},{"$f":"IF(truncate!CG1:MB9 < 0, 0, IF(truncate!CG1:MB9 > 255, 255, truncate!CG1:MB9))","v":9},{"$f":"IF(truncate!CH1:MC9 < 0, 0, IF(truncate!CH1:MC9 > 255, 255, truncate!CH1:MC9))","v":0},{"$f":"IF(truncate!CI1:MD9 < 0, 0, IF(truncate!CI1:MD9 > 255, 255, truncate!CI1:MD9))","v":12},{"$f":"IF(truncate!CJ1:ME9 < 0, 0, IF(truncate!CJ1:ME9 > 255, 255, truncate!CJ1:ME9))","v":2},{"$f":"IF(truncate!CK1:MF9 < 0, 0, IF(truncate!CK1:MF9 > 255, 255, truncate!CK1:MF9))","v":9},{"$f":"IF(truncate!CL1:MG9 < 0, 0, IF(truncate!CL1:MG9 > 255, 255, truncate!CL1:MG9))","v":11},{"$f":"IF(truncate!CM1:MH9 < 0, 0, IF(truncate!CM1:MH9 > 255, 255, truncate!CM1:MH9))","v":0},{"$f":"IF(truncate!CN1:MI9 < 0, 0, IF(truncate!CN1:MI9 > 255, 255, truncate!CN1:MI9))","v":10},{"$f":"IF(truncate!CO1:MJ9 < 0, 0, IF(truncate!CO1:MJ9 > 255, 255, truncate!CO1:MJ9))","v":0},{"$f":"IF(truncate!CP1:MK9 < 0, 0, IF(truncate!CP1:MK9 > 255, 255, truncate!CP1:MK9))","v":0},{"$f":"IF(truncate!CQ1:ML9 < 0, 0, IF(truncate!CQ1:ML9 > 255, 255, truncate!CQ1:ML9))","v":6},{"$f":"IF(truncate!CR1:MM9 < 0, 0, IF(truncate!CR1:MM9 > 255, 255, truncate!CR1:MM9))","v":22},{"$f":"IF(truncate!CS1:MN9 < 0, 0, IF(truncate!CS1:MN9 > 255, 255, truncate!CS1:MN9))","v":0},{"$f":"IF(truncate!CT1:MO9 < 0, 0, IF(truncate!CT1:MO9 > 255, 255, truncate!CT1:MO9))","v":15},{"$f":"IF(truncate!CU1:MP9 < 0, 0, IF(truncate!CU1:MP9 > 255, 255, truncate!CU1:MP9))","v":0},{"$f":"IF(truncate!CV1:MQ9 < 0, 0, IF(truncate!CV1:MQ9 > 255, 255, truncate!CV1:MQ9))","v":0},{"$f":"IF(truncate!CW1:MR9 < 0, 0, IF(truncate!CW1:MR9 > 255, 255, truncate!CW1:MR9))","v":0},{"$f":"IF(truncate!CX1:MS9 < 0, 0, IF(truncate!CX1:MS9 > 255, 255, truncate!CX1:MS9))","v":13},{"$f":"IF(truncate!CY1:MT9 < 0, 0, IF(truncate!CY1:MT9 > 255, 255, truncate!CY1:MT9))","v":0},{"$f":"IF(truncate!CZ1:MU9 < 0, 0, IF(truncate!CZ1:MU9 > 255, 255, truncate!CZ1:MU9))","v":0},{"$f":"IF(truncate!DA1:MV9 < 0, 0, IF(truncate!DA1:MV9 > 255, 255, truncate!DA1:MV9))","v":13},{"$f":"IF(truncate!DB1:MW9 < 0, 0, IF(truncate!DB1:MW9 > 255, 255, truncate!DB1:MW9))","v":6},{"$f":"IF(truncate!DC1:MX9 < 0, 0, IF(truncate!DC1:MX9 > 255, 255, truncate!DC1:MX9))","v":0},{"$f":"IF(truncate!DD1:MY9 < 0, 0, IF(truncate!DD1:MY9 > 255, 255, truncate!DD1:MY9))","v":8},{"$f":"IF(truncate!DE1:MZ9 < 0, 0, IF(truncate!DE1:MZ9 > 255, 255, truncate!DE1:MZ9))","v":7},{"$f":"IF(truncate!DF1:NA9 < 0, 0, IF(truncate!DF1:NA9 > 255, 255, truncate!DF1:NA9))","v":1},{"$f":"IF(truncate!DG1:NB9 < 0, 0, IF(truncate!DG1:NB9 > 255, 255, truncate!DG1:NB9))","v":0},{"$f":"IF(truncate!DH1:NC9 < 0, 0, IF(truncate!DH1:NC9 > 255, 255, truncate!DH1:NC9))","v":5},{"$f":"IF(truncate!DI1:ND9 < 0, 0, IF(truncate!DI1:ND9 > 255, 255, truncate!DI1:ND9))","v":0},{"$f":"IF(truncate!DJ1:NE9 < 0, 0, IF(truncate!DJ1:NE9 > 255, 255, truncate!DJ1:NE9))","v":0},{"$f":"IF(truncate!DK1:NF9 < 0, 0, IF(truncate!DK1:NF9 > 255, 255, truncate!DK1:NF9))","v":0},{"$f":"IF(truncate!DL1:NG9 < 0, 0, IF(truncate!DL1:NG9 > 255, 255, truncate!DL1:NG9))","v":3},{"$f":"IF(truncate!DM1:NH9 < 0, 0, IF(truncate!DM1:NH9 > 255, 255, truncate!DM1:NH9))","v":0},{"$f":"IF(truncate!DN1:NI9 < 0, 0, IF(truncate!DN1:NI9 > 255, 255, truncate!DN1:NI9))","v":3},{"$f":"IF(truncate!DO1:NJ9 < 0, 0, IF(truncate!DO1:NJ9 > 255, 255, truncate!DO1:NJ9))","v":0},{"$f":"IF(truncate!DP1:NK9 < 0, 0, IF(truncate!DP1:NK9 > 255, 255, truncate!DP1:NK9))","v":5},{"$f":"IF(truncate!DQ1:NL9 < 0, 0, IF(truncate!DQ1:NL9 > 255, 255, truncate!DQ1:NL9))","v":0},{"$f":"IF(truncate!DR1:NM9 < 0, 0, IF(truncate!DR1:NM9 > 255, 255, truncate!DR1:NM9))","v":0},{"$f":"IF(truncate!DS1:NN9 < 0, 0, IF(truncate!DS1:NN9 > 255, 255, truncate!DS1:NN9))","v":0},{"$f":"IF(truncate!DT1:NO9 < 0, 0, IF(truncate!DT1:NO9 > 255, 255, truncate!DT1:NO9))","v":7},{"$f":"IF(truncate!DU1:NP9 < 0, 0, IF(truncate!DU1:NP9 > 255, 255, truncate!DU1:NP9))","v":8},{"$f":"IF(truncate!DV1:NQ9 < 0, 0, IF(truncate!DV1:NQ9 > 255, 255, truncate!DV1:NQ9))","v":11},{"$f":"IF(truncate!DW1:NR9 < 0, 0, IF(truncate!DW1:NR9 > 255, 255, truncate!DW1:NR9))","v":0},{"$f":"IF(truncate!DX1:NS9 < 0, 0, IF(truncate!DX1:NS9 > 255, 255, truncate!DX1:NS9))","v":0},{"$f":"IF(truncate!DY1:NT9 < 0, 0, IF(truncate!DY1:NT9 > 255, 255, truncate!DY1:NT9))","v":0},{"$f":"IF(truncate!DZ1:NU9 < 0, 0, IF(truncate!DZ1:NU9 > 255, 255, truncate!DZ1:NU9))","v":3},{"$f":"IF(truncate!EA1:NV9 < 0, 0, IF(truncate!EA1:NV9 > 255, 255, truncate!EA1:NV9))","v":0},{"$f":"IF(truncate!EB1:NW9 < 0, 0, IF(truncate!EB1:NW9 > 255, 255, truncate!EB1:NW9))","v":0},{"$f":"IF(truncate!EC1:NX9 < 0, 0, IF(truncate!EC1:NX9 > 255, 255, truncate!EC1:NX9))","v":0},{"$f":"IF(truncate!ED1:NY9 < 0, 0, IF(truncate!ED1:NY9 > 255, 255, truncate!ED1:NY9))","v":0},{"$f":"IF(truncate!EE1:NZ9 < 0, 0, IF(truncate!EE1:NZ9 > 255, 255, truncate!EE1:NZ9))","v":0},{"$f":"IF(truncate!EF1:OA9 < 0, 0, IF(truncate!EF1:OA9 > 255, 255, truncate!EF1:OA9))","v":0},{"$f":"IF(truncate!EG1:OB9 < 0, 0, IF(truncate!EG1:OB9 > 255, 255, truncate!EG1:OB9))","v":9},{"$f":"IF(truncate!EH1:OC9 < 0, 0, IF(truncate!EH1:OC9 > 255, 255, truncate!EH1:OC9))","v":3},{"$f":"IF(truncate!EI1:OD9 < 0, 0, IF(truncate!EI1:OD9 > 255, 255, truncate!EI1:OD9))","v":0},{"$f":"IF(truncate!EJ1:OE9 < 0, 0, IF(truncate!EJ1:OE9 > 255, 255, truncate!EJ1:OE9))","v":31},{"$f":"IF(truncate!EK1:OF9 < 0, 0, IF(truncate!EK1:OF9 > 255, 255, truncate!EK1:OF9))","v":2},{"$f":"IF(truncate!EL1:OG9 < 0, 0, IF(truncate!EL1:OG9 > 255, 255, truncate!EL1:OG9))","v":5},{"$f":"IF(truncate!EM1:OH9 < 0, 0, IF(truncate!EM1:OH9 > 255, 255, truncate!EM1:OH9))","v":1},{"$f":"IF(truncate!EN1:OI9 < 0, 0, IF(truncate!EN1:OI9 > 255, 255, truncate!EN1:OI9))","v":0},{"$f":"IF(truncate!EO1:OJ9 < 0, 0, IF(truncate!EO1:OJ9 > 255, 255, truncate!EO1:OJ9))","v":0},{"$f":"IF(truncate!EP1:OK9 < 0, 0, IF(truncate!EP1:OK9 > 255, 255, truncate!EP1:OK9))","v":0},{"$f":"IF(truncate!EQ1:OL9 < 0, 0, IF(truncate!EQ1:OL9 > 255, 255, truncate!EQ1:OL9))","v":0},{"$f":"IF(truncate!ER1:OM9 < 0, 0, IF(truncate!ER1:OM9 > 255, 255, truncate!ER1:OM9))","v":0},{"$f":"IF(truncate!ES1:ON9 < 0, 0, IF(truncate!ES1:ON9 > 255, 255, truncate!ES1:ON9))","v":2},{"$f":"IF(truncate!ET1:OO9 < 0, 0, IF(truncate!ET1:OO9 > 255, 255, truncate!ET1:OO9))","v":2},{"$f":"IF(truncate!EU1:OP9 < 0, 0, IF(truncate!EU1:OP9 > 255, 255, truncate!EU1:OP9))","v":0},{"$f":"IF(truncate!EV1:OQ9 < 0, 0, IF(truncate!EV1:OQ9 > 255, 255, truncate!EV1:OQ9))","v":0},{"$f":"IF(truncate!EW1:OR9 < 0, 0, IF(truncate!EW1:OR9 > 255, 255, truncate!EW1:OR9))","v":8},{"$f":"IF(truncate!EX1:OS9 < 0, 0, IF(truncate!EX1:OS9 > 255, 255, truncate!EX1:OS9))","v":1},{"$f":"IF(truncate!EY1:OT9 < 0, 0, IF(truncate!EY1:OT9 > 255, 255, truncate!EY1:OT9))","v":12},{"$f":"IF(truncate!EZ1:OU9 < 0, 0, IF(truncate!EZ1:OU9 > 255, 255, truncate!EZ1:OU9))","v":8},{"$f":"IF(truncate!FA1:OV9 < 0, 0, IF(truncate!FA1:OV9 > 255, 255, truncate!FA1:OV9))","v":5},{"$f":"IF(truncate!FB1:OW9 < 0, 0, IF(truncate!FB1:OW9 > 255, 255, truncate!FB1:OW9))","v":10},{"$f":"IF(truncate!FC1:OX9 < 0, 0, IF(truncate!FC1:OX9 > 255, 255, truncate!FC1:OX9))","v":0},{"$f":"IF(truncate!FD1:OY9 < 0, 0, IF(truncate!FD1:OY9 > 255, 255, truncate!FD1:OY9))","v":5},{"$f":"IF(truncate!FE1:OZ9 < 0, 0, IF(truncate!FE1:OZ9 > 255, 255, truncate!FE1:OZ9))","v":2},{"$f":"IF(truncate!FF1:PA9 < 0, 0, IF(truncate!FF1:PA9 > 255, 255, truncate!FF1:PA9))","v":0},{"$f":"IF(truncate!FG1:PB9 < 0, 0, IF(truncate!FG1:PB9 > 255, 255, truncate!FG1:PB9))","v":9},{"$f":"IF(truncate!FH1:PC9 < 0, 0, IF(truncate!FH1:PC9 > 255, 255, truncate!FH1:PC9))","v":9},{"$f":"IF(truncate!FI1:PD9 < 0, 0, IF(truncate!FI1:PD9 > 255, 255, truncate!FI1:PD9))","v":0},{"$f":"IF(truncate!FJ1:PE9 < 0, 0, IF(truncate!FJ1:PE9 > 255, 255, truncate!FJ1:PE9))","v":0},{"$f":"IF(truncate!FK1:PF9 < 0, 0, IF(truncate!FK1:PF9 > 255, 255, truncate!FK1:PF9))","v":3},{"$f":"IF(truncate!FL1:PG9 < 0, 0, IF(truncate!FL1:PG9 > 255, 255, truncate!FL1:PG9))","v":10},{"$f":"IF(truncate!FM1:PH9 < 0, 0, IF(truncate!FM1:PH9 > 255, 255, truncate!FM1:PH9))","v":0},{"$f":"IF(truncate!FN1:PI9 < 0, 0, IF(truncate!FN1:PI9 > 255, 255, truncate!FN1:PI9))","v":2},{"$f":"IF(truncate!FO1:PJ9 < 0, 0, IF(truncate!FO1:PJ9 > 255, 255, truncate!FO1:PJ9))","v":0},{"$f":"IF(truncate!FP1:PK9 < 0, 0, IF(truncate!FP1:PK9 > 255, 255, truncate!FP1:PK9))","v":14},{"$f":"IF(truncate!FQ1:PL9 < 0, 0, IF(truncate!FQ1:PL9 > 255, 255, truncate!FQ1:PL9))","v":0},{"$f":"IF(truncate!FR1:PM9 < 0, 0, IF(truncate!FR1:PM9 > 255, 255, truncate!FR1:PM9))","v":10},{"$f":"IF(truncate!FS1:PN9 < 0, 0, IF(truncate!FS1:PN9 > 255, 255, truncate!FS1:PN9))","v":0},{"$f":"IF(truncate!FT1:PO9 < 0, 0, IF(truncate!FT1:PO9 > 255, 255, truncate!FT1:PO9))","v":1},{"$f":"IF(truncate!FU1:PP9 < 0, 0, IF(truncate!FU1:PP9 > 255, 255, truncate!FU1:PP9))","v":0},{"$f":"IF(truncate!FV1:PQ9 < 0, 0, IF(truncate!FV1:PQ9 > 255, 255, truncate!FV1:PQ9))","v":0},{"$f":"IF(truncate!FW1:PR9 < 0, 0, IF(truncate!FW1:PR9 > 255, 255, truncate!FW1:PR9))","v":0},{"$f":"IF(truncate!FX1:PS9 < 0, 0, IF(truncate!FX1:PS9 > 255, 255, truncate!FX1:PS9))","v":11},{"$f":"IF(truncate!FY1:PT9 < 0, 0, IF(truncate!FY1:PT9 > 255, 255, truncate!FY1:PT9))","v":0},{"$f":"IF(truncate!FZ1:PU9 < 0, 0, IF(truncate!FZ1:PU9 > 255, 255, truncate!FZ1:PU9))","v":0},{"$f":"IF(truncate!GA1:PV9 < 0, 0, IF(truncate!GA1:PV9 > 255, 255, truncate!GA1:PV9))","v":0},{"$f":"IF(truncate!GB1:PW9 < 0, 0, IF(truncate!GB1:PW9 > 255, 255, truncate!GB1:PW9))","v":0},{"$f":"IF(truncate!GC1:PX9 < 0, 0, IF(truncate!GC1:PX9 > 255, 255, truncate!GC1:PX9))","v":0},{"$f":"IF(truncate!GD1:PY9 < 0, 0, IF(truncate!GD1:PY9 > 255, 255, truncate!GD1:PY9))","v":0},{"$f":"IF(truncate!GE1:PZ9 < 0, 0, IF(truncate!GE1:PZ9 > 255, 255, truncate!GE1:PZ9))","v":8},{"$f":"IF(truncate!GF1:QA9 < 0, 0, IF(truncate!GF1:QA9 > 255, 255, truncate!GF1:QA9))","v":0},{"$f":"IF(truncate!GG1:QB9 < 0, 0, IF(truncate!GG1:QB9 > 255, 255, truncate!GG1:QB9))","v":0},{"$f":"IF(truncate!GH1:QC9 < 0, 0, IF(truncate!GH1:QC9 > 255, 255, truncate!GH1:QC9))","v":0},{"$f":"IF(truncate!GI1:QD9 < 0, 0, IF(truncate!GI1:QD9 > 255, 255, truncate!GI1:QD9))","v":0},{"$f":"IF(truncate!GJ1:QE9 < 0, 0, IF(truncate!GJ1:QE9 > 255, 255, truncate!GJ1:QE9))","v":7},{"$f":"IF(truncate!GK1:QF9 < 0, 0, IF(truncate!GK1:QF9 > 255, 255, truncate!GK1:QF9))","v":2},{"$f":"IF(truncate!GL1:QG9 < 0, 0, IF(truncate!GL1:QG9 > 255, 255, truncate!GL1:QG9))","v":9},{"$f":"IF(truncate!GM1:QH9 < 0, 0, IF(truncate!GM1:QH9 > 255, 255, truncate!GM1:QH9))","v":0},{"$f":"IF(truncate!GN1:QI9 < 0, 0, IF(truncate!GN1:QI9 > 255, 255, truncate!GN1:QI9))","v":0},{"$f":"IF(truncate!GO1:QJ9 < 0, 0, IF(truncate!GO1:QJ9 > 255, 255, truncate!GO1:QJ9))","v":0},{"$f":"IF(truncate!GP1:QK9 < 0, 0, IF(truncate!GP1:QK9 > 255, 255, truncate!GP1:QK9))","v":0},{"$f":"IF(truncate!GQ1:QL9 < 0, 0, IF(truncate!GQ1:QL9 > 255, 255, truncate!GQ1:QL9))","v":0},{"$f":"IF(truncate!GR1:QM9 < 0, 0, IF(truncate!GR1:QM9 > 255, 255, truncate!GR1:QM9))","v":7},{"$f":"IF(truncate!GS1:QN9 < 0, 0, IF(truncate!GS1:QN9 > 255, 255, truncate!GS1:QN9))","v":0},{"$f":"IF(truncate!GT1:QO9 < 0, 0, IF(truncate!GT1:QO9 > 255, 255, truncate!GT1:QO9))","v":3},{"$f":"IF(truncate!GU1:QP9 < 0, 0, IF(truncate!GU1:QP9 > 255, 255, truncate!GU1:QP9))","v":0},{"$f":"IF(truncate!GV1:QQ9 < 0, 0, IF(truncate!GV1:QQ9 > 255, 255, truncate!GV1:QQ9))","v":5},{"$f":"IF(truncate!GW1:QR9 < 0, 0, IF(truncate!GW1:QR9 > 255, 255, truncate!GW1:QR9))","v":0},{"$f":"IF(truncate!GX1:QS9 < 0, 0, IF(truncate!GX1:QS9 > 255, 255, truncate!GX1:QS9))","v":0},{"$f":"IF(truncate!GY1:QT9 < 0, 0, IF(truncate!GY1:QT9 > 255, 255, truncate!GY1:QT9))","v":10},{"$f":"IF(truncate!GZ1:QU9 < 0, 0, IF(truncate!GZ1:QU9 > 255, 255, truncate!GZ1:QU9))","v":0},{"$f":"IF(truncate!HA1:QV9 < 0, 0, IF(truncate!HA1:QV9 > 255, 255, truncate!HA1:QV9))","v":13},{"$f":"IF(truncate!HB1:QW9 < 0, 0, IF(truncate!HB1:QW9 > 255, 255, truncate!HB1:QW9))","v":0},{"$f":"IF(truncate!HC1:QX9 < 0, 0, IF(truncate!HC1:QX9 > 255, 255, truncate!HC1:QX9))","v":9},{"$f":"IF(truncate!HD1:QY9 < 0, 0, IF(truncate!HD1:QY9 > 255, 255, truncate!HD1:QY9))","v":19},{"$f":"IF(truncate!HE1:QZ9 < 0, 0, IF(truncate!HE1:QZ9 > 255, 255, truncate!HE1:QZ9))","v":0},{"$f":"IF(truncate!HF1:RA9 < 0, 0, IF(truncate!HF1:RA9 > 255, 255, truncate!HF1:RA9))","v":11},{"$f":"IF(truncate!HG1:RB9 < 0, 0, IF(truncate!HG1:RB9 > 255, 255, truncate!HG1:RB9))","v":1},{"$f":"IF(truncate!HH1:RC9 < 0, 0, IF(truncate!HH1:RC9 > 255, 255, truncate!HH1:RC9))","v":7},{"$f":"IF(truncate!HI1:RD9 < 0, 0, IF(truncate!HI1:RD9 > 255, 255, truncate!HI1:RD9))","v":0},{"$f":"IF(truncate!HJ1:RE9 < 0, 0, IF(truncate!HJ1:RE9 > 255, 255, truncate!HJ1:RE9))","v":5},{"$f":"IF(truncate!HK1:RF9 < 0, 0, IF(truncate!HK1:RF9 > 255, 255, truncate!HK1:RF9))","v":0},{"$f":"IF(truncate!HL1:RG9 < 0, 0, IF(truncate!HL1:RG9 > 255, 255, truncate!HL1:RG9))","v":0},{"$f":"IF(truncate!HM1:RH9 < 0, 0, IF(truncate!HM1:RH9 > 255, 255, truncate!HM1:RH9))","v":3},{"$f":"IF(truncate!HN1:RI9 < 0, 0, IF(truncate!HN1:RI9 > 255, 255, truncate!HN1:RI9))","v":3},{"$f":"IF(truncate!HO1:RJ9 < 0, 0, IF(truncate!HO1:RJ9 > 255, 255, truncate!HO1:RJ9))","v":0},{"$f":"IF(truncate!HP1:RK9 < 0, 0, IF(truncate!HP1:RK9 > 255, 255, truncate!HP1:RK9))","v":2},{"$f":"IF(truncate!HQ1:RL9 < 0, 0, IF(truncate!HQ1:RL9 > 255, 255, truncate!HQ1:RL9))","v":23},{"$f":"IF(truncate!HR1:RM9 < 0, 0, IF(truncate!HR1:RM9 > 255, 255, truncate!HR1:RM9))","v":3},{"$f":"IF(truncate!HS1:RN9 < 0, 0, IF(truncate!HS1:RN9 > 255, 255, truncate!HS1:RN9))","v":8},{"$f":"IF(truncate!HT1:RO9 < 0, 0, IF(truncate!HT1:RO9 > 255, 255, truncate!HT1:RO9))","v":0},{"$f":"IF(truncate!HU1:RP9 < 0, 0, IF(truncate!HU1:RP9 > 255, 255, truncate!HU1:RP9))","v":7},{"$f":"IF(truncate!HV1:RQ9 < 0, 0, IF(truncate!HV1:RQ9 > 255, 255, truncate!HV1:RQ9))","v":4},{"$f":"IF(truncate!HW1:RR9 < 0, 0, IF(truncate!HW1:RR9 > 255, 255, truncate!HW1:RR9))","v":2},{"$f":"IF(truncate!HX1:RS9 < 0, 0, IF(truncate!HX1:RS9 > 255, 255, truncate!HX1:RS9))","v":0},{"$f":"IF(truncate!HY1:RT9 < 0, 0, IF(truncate!HY1:RT9 > 255, 255, truncate!HY1:RT9))","v":2},{"$f":"IF(truncate!HZ1:RU9 < 0, 0, IF(truncate!HZ1:RU9 > 255, 255, truncate!HZ1:RU9))","v":11},{"$f":"IF(truncate!IA1:RV9 < 0, 0, IF(truncate!IA1:RV9 > 255, 255, truncate!IA1:RV9))","v":0},{"$f":"IF(truncate!IB1:RW9 < 0, 0, IF(truncate!IB1:RW9 > 255, 255, truncate!IB1:RW9))","v":7},{"$f":"IF(truncate!IC1:RX9 < 0, 0, IF(truncate!IC1:RX9 > 255, 255, truncate!IC1:RX9))","v":4},{"$f":"IF(truncate!ID1:RY9 < 0, 0, IF(truncate!ID1:RY9 > 255, 255, truncate!ID1:RY9))","v":7},{"$f":"IF(truncate!IE1:RZ9 < 0, 0, IF(truncate!IE1:RZ9 > 255, 255, truncate!IE1:RZ9))","v":1},{"$f":"IF(truncate!IF1:SA9 < 0, 0, IF(truncate!IF1:SA9 > 255, 255, truncate!IF1:SA9))","v":0},{"$f":"IF(truncate!IG1:SB9 < 0, 0, IF(truncate!IG1:SB9 > 255, 255, truncate!IG1:SB9))","v":0},{"$f":"IF(truncate!IH1:SC9 < 0, 0, IF(truncate!IH1:SC9 > 255, 255, truncate!IH1:SC9))","v":8},{"$f":"IF(truncate!II1:SD9 < 0, 0, IF(truncate!II1:SD9 > 255, 255, truncate!II1:SD9))","v":2},{"$f":"IF(truncate!IJ1:SE9 < 0, 0, IF(truncate!IJ1:SE9 > 255, 255, truncate!IJ1:SE9))","v":0},{"$f":"IF(truncate!IK1:SF9 < 0, 0, IF(truncate!IK1:SF9 > 255, 255, truncate!IK1:SF9))","v":0},{"$f":"IF(truncate!IL1:SG9 < 0, 0, IF(truncate!IL1:SG9 > 255, 255, truncate!IL1:SG9))","v":20},{"$f":"IF(truncate!IM1:SH9 < 0, 0, IF(truncate!IM1:SH9 > 255, 255, truncate!IM1:SH9))","v":10},{"$f":"IF(truncate!IN1:SI9 < 0, 0, IF(truncate!IN1:SI9 > 255, 255, truncate!IN1:SI9))","v":9},{"$f":"IF(truncate!IO1:SJ9 < 0, 0, IF(truncate!IO1:SJ9 > 255, 255, truncate!IO1:SJ9))","v":0},{"$f":"IF(truncate!IP1:SK9 < 0, 0, IF(truncate!IP1:SK9 > 255, 255, truncate!IP1:SK9))","v":3},{"$f":"IF(truncate!IQ1:SL9 < 0, 0, IF(truncate!IQ1:SL9 > 255, 255, truncate!IQ1:SL9))","v":11},{"$f":"IF(truncate!IR1:SM9 < 0, 0, IF(truncate!IR1:SM9 > 255, 255, truncate!IR1:SM9))","v":3},{"$f":"IF(truncate!IS1:SN9 < 0, 0, IF(truncate!IS1:SN9 > 255, 255, truncate!IS1:SN9))","v":12},{"$f":"IF(truncate!IT1:SO9 < 0, 0, IF(truncate!IT1:SO9 > 255, 255, truncate!IT1:SO9))","v":0},{"$f":"IF(truncate!IU1:SP9 < 0, 0, IF(truncate!IU1:SP9 > 255, 255, truncate!IU1:SP9))","v":5},{"$f":"IF(truncate!IV1:SQ9 < 0, 0, IF(truncate!IV1:SQ9 > 255, 255, truncate!IV1:SQ9))","v":7}]
[{"$f":"IF(truncate!A2:IV10 < 0, 0, IF(truncate!A2:IV10 > 255, 255, truncate!A2:IV10))","v":28},{"$f":"IF(truncate!B2:IW10 < 0, 0, IF(truncate!B2:IW10 > 255, 255, truncate!B2:IW10))","v":10},{"$f":"IF(truncate!C2:IX10 < 0, 0, IF(truncate!C2:IX10 > 255, 255, truncate!C2:IX10))","v":11},{"$f":"IF(truncate!D2:IY10 < 0, 0, IF(truncate!D2:IY10 > 255, 255, truncate!D2:IY10))","v":16},{"$f":"IF(truncate!E2:IZ10 < 0, 0, IF(truncate!E2:IZ10 > 255, 255, truncate!E2:IZ10))","v":14},{"$f":"IF(truncate!F2:JA10 < 0, 0, IF(truncate!F2:JA10 > 255, 255, truncate!F2:JA10))","v":0},{"$f":"IF(truncate!G2:JB10 < 0, 0, IF(truncate!G2:JB10 > 255, 255, truncate!G2:JB10))","v":7},{"$f":"IF(truncate!H2:JC10 < 0, 0, IF(truncate!H2:JC10 > 255, 255, truncate!H2:JC10))","v":0},{"$f":"IF(truncate!I2:JD10 < 0, 0, IF(truncate!I2:JD10 > 255, 255, truncate!I2:JD10))","v":1},{"$f":"IF(truncate!J2:JE10 < 0, 0, IF(truncate!J2:JE10 > 255, 255, truncate!J2:JE10))","v":0},{"$f":"IF(truncate!K2:JF10 < 0, 0, IF(truncate!K2:JF10 > 255, 255, truncate!K2:JF10))","v":0},{"$f":"IF(truncate!L2:JG10 < 0, 0, IF(truncate!L2:JG10 > 255, 255, truncate!L2:JG10))","v":5},{"$f":"IF(truncate!M2:JH10 < 0, 0, IF(truncate!M2:JH10 > 255, 255, truncate!M2:JH10))","v":0},{"$f":"IF(truncate!N2:JI10 < 0, 0, IF(truncate!N2:JI10 > 255, 255, truncate!N2:JI10))","v":0},{"$f":"IF(truncate!O2:JJ10 < 0, 0, IF(truncate!O2:JJ10 > 255, 255, truncate!O2:JJ10))","v":8},{"$f":"IF(truncate!P2:JK10 < 0, 0, IF(truncate!P2:JK10 > 255, 255, truncate!P2:JK10))","v":14},{"$f":"IF(truncate!Q2:JL10 < 0, 0, IF(truncate!Q2:JL10 > 255, 255, truncate!Q2:JL10))","v":0},{"$f":"IF(truncate!R2:JM10 < 0, 0, IF(truncate!R2:JM10 > 255, 255, truncate!R2:JM10))","v":1},{"$f":"IF(truncate!S2:JN10 < 0, 0, IF(truncate!S2:JN10 > 255, 255, truncate!S2:JN10))","v":8},{"$f":"IF(truncate!T2:JO10 < 0, 0, IF(truncate!T2:JO10 > 255, 255, truncate!T2:JO10))","v":1},{"$f":"IF(truncate!U2:JP10 < 0, 0, IF(truncate!U2:JP10 > 255, 255, truncate!U2:JP10))","v":20},{"$f":"IF(truncate!V2:JQ10 < 0, 0, IF(truncate!V2:JQ10 > 255, 255, truncate!V2:JQ10))","v":0},{"$f":"IF(truncate!W2:JR10 < 0, 0, IF(truncate!W2:JR10 > 255, 255, truncate!W2:JR10))","v":0},{"$f":"IF(truncate!X2:JS10 < 0, 0, IF(truncate!X2:JS10 > 255, 255, truncate!X2:JS10))","v":3},{"$f":"IF(truncate!Y2:JT10 < 0, 0, IF(truncate!Y2:JT10 > 255, 255, truncate!Y2:JT10))","v":16},{"$f":"IF(truncate!Z2:JU10 < 0, 0, IF(truncate!Z2:JU10 > 255, 255, truncate!Z2:JU10))","v":0},{"$f":"IF(truncate!AA2:JV10 < 0, 0, IF(truncate!AA2:JV10 > 255, 255, truncate!AA2:JV10))","v":0},{"$f":"IF(truncate!AB2:JW10 < 0, 0, IF(truncate!AB2:JW10 > 255, 255, truncate!AB2:JW10))","v":0},{"$f":"IF(truncate!AC2:JX10 < 0, 0, IF(truncate!AC2:JX10 > 255, 255, truncate!AC2:JX10))","v":13},{"$f":"IF(truncate!AD2:JY10 < 0, 0, IF(truncate!AD2:JY10 > 255, 255, truncate!AD2:JY10))","v":0},{"$f":"IF(truncate!AE2:JZ10 < 0, 0, IF(truncate!AE2:JZ10 > 255, 255, truncate!AE2:JZ10))","v":27},{"$f":"IF(truncate!AF2:KA10 < 0, 0, IF(truncate!AF2:KA10 > 255, 255, truncate!AF2:KA10))","v":0},{"$f":"IF(truncate!AG2:KB10 < 0, 0, IF(truncate!AG2:KB10 > 255, 255, truncate!AG2:KB10))","v":2},{"$f":"IF(truncate!AH2:KC10 < 0, 0, IF(truncate!AH2:KC10 > 255, 255, truncate!AH2:KC10))","v":0},{"$f":"IF(truncate!AI2:KD10 < 0, 0, IF(truncate!AI2:KD10 > 255, 255, truncate!AI2:KD10))","v":1},{"$f":"IF(truncate!AJ2:KE10 < 0, 0, IF(truncate!AJ2:KE10 > 255, 255, truncate!AJ2:KE10))","v":6},{"$f":"IF(truncate!AK2:KF10 < 0, 0, IF(truncate!AK2:KF10 > 255, 255, truncate!AK2:KF10))","v":0},{"$f":"IF(truncate!AL2:KG10 < 0, 0, IF(truncate!AL2:KG10 > 255, 255, truncate!AL2:KG10))","v":17},{"$f":"IF(truncate!AM2:KH10 < 0, 0, IF(truncate!AM2:KH10 > 255, 255, truncate!AM2:KH10))","v":0},{"$f":"IF(truncate!AN2:KI10 < 0, 0, IF(truncate!AN2:KI10 > 255, 255, truncate!AN2:KI10))","v":0},{"$f":"IF(truncate!AO2:KJ10 < 0, 0, IF(truncate!AO2:KJ10 > 255, 255, truncate!AO2:KJ10))","v":0},{"$f":"IF(truncate!AP2:KK10 < 0, 0, IF(truncate!AP2:KK10 > 255, 255, truncate!AP2:KK10))","v":2},{"$f":"IF(truncate!AQ2:KL10 < 0, 0, IF(truncate!AQ2:KL10 > 255, 255, truncate!AQ2:KL10))","v":0},{"$f":"IF(truncate!AR2:KM10 < 0, 0, IF(truncate!AR2:KM10 > 255, 255, truncate!AR2:KM10))","v":10},{"$f":"IF(truncate!AS2:KN10 < 0, 0, IF(truncate!AS2:KN10 > 255, 255, truncate!AS2:KN10))","v":5},{"$f":"IF(truncate!AT2:KO10 < 0, 0, IF(truncate!AT2:KO10 > 255, 255, truncate!AT2:KO10))","v":0},{"$f":"IF(truncate!AU2:KP10 < 0, 0, IF(truncate!AU2:KP10 > 255, 255, truncate!AU2:KP10))","v":0},{"$f":"IF(truncate!AV2:KQ10 < 0, 0, IF(truncate!AV2:KQ10 > 255, 255, truncate!AV2:KQ10))","v":0},{"$f":"IF(truncate!AW2:KR10 < 0, 0, IF(truncate!AW2:KR10 > 255, 255, truncate!AW2:KR10))","v":14},{"$f":"IF(truncate!AX2:KS10 < 0, 0, IF(truncate!AX2:KS10 > 255, 255, truncate!AX2:KS10))","v":9},{"$f":"IF(truncate!AY2:KT10 < 0, 0, IF(truncate!AY2:KT10 > 255, 255, truncate!AY2:KT10))","v":10},{"$f":"IF(truncate!AZ2:KU10 < 0, 0, IF(truncate!AZ2:KU10 > 255, 255, truncate!AZ2:KU10))","v":25},{"$f":"IF(truncate!BA2:KV10 < 0, 0, IF(truncate!BA2:KV10 > 255, 255, truncate!BA2:KV10))","v":0},{"$f":"IF(truncate!BB2:KW10 < 0, 0, IF(truncate!BB2:KW10 > 255, 255, truncate!BB2:KW10))","v":0},{"$f":"IF(truncate!BC2:KX10 < 0, 0, IF(truncate!BC2:KX10 > 255, 255, truncate!BC2:KX10))","v":12},{"$f":"IF(truncate!BD2:KY10 < 0, 0, IF(truncate!BD2:KY10 > 255, 255, truncate!BD2:KY10))","v":4},{"$f":"IF(truncate!BE2:KZ10 < 0, 0, IF(truncate!BE2:KZ10 > 255, 255, truncate!BE2:KZ10))","v":0},{"$f":"IF(truncate!BF2:LA10 < 0, 0, IF(truncate!BF2:LA10 > 255, 255, truncate!BF2:LA10))","v":0},{"$f":"IF(truncate!BG2:LB10 < 0, 0, IF(truncate!BG2:LB10 > 255, 255, truncate!BG2:LB10))","v":3},{"$f":"IF(truncate!BH2:LC10 < 0, 0, IF(truncate!BH2:LC10 > 255, 255, truncate!BH2:LC10))","v":7},{"$f":"IF(truncate!BI2:LD10 < 0, 0, IF(truncate!BI2:LD10 > 255, 255, truncate!BI2:LD10))","v":14},{"$f":"IF(truncate!BJ2:LE10 < 0, 0, IF(truncate!BJ2:LE10 > 255, 255, truncate!BJ2:LE10))","v":0},{"$f":"IF(truncate!BK2:LF10 < 0, 0, IF(truncate!BK2:LF10 > 255, 255, truncate!BK2:LF10))","v":0},{"$f":"IF(truncate!BL2:LG10 < 0, 0, IF(truncate!BL2:LG10 > 255, 255, truncate!BL2:LG10))","v":0},{"$f":"IF(truncate!BM2:LH10 < 0, 0, IF(truncate!BM2:LH10 > 255, 255, truncate!BM2:LH10))","v":2},{"$f":"IF(truncate!BN2:LI10 < 0, 0, IF(truncate!BN2:LI10 > 255, 255, truncate!BN2:LI10))","v":0},{"$f":"IF(truncate!BO2:LJ10 < 0, 0, IF(truncate!BO2:LJ10 > 255, 255, truncate!BO2:LJ10))","v":0},{"$f":"IF(truncate!BP2:LK10 < 0, 0, IF(truncate!BP2:LK10 > 255, 255, truncate!BP2:LK10))","v":6},{"$f":"IF(truncate!BQ2:LL10 < 0, 0, IF(truncate!BQ2:LL10 > 255, 255, truncate!BQ2:LL10))","v":3},{"$f":"IF(truncate!BR2:LM10 < 0, 0, IF(truncate!BR2:LM10 > 255, 255, truncate!BR2:LM10))","v":18},{"$f":"IF(truncate!BS2:LN10 < 0, 0, IF(truncate!BS2:LN10 > 255, 255, truncate!BS2:LN10))","v":11},{"$f":"IF(truncate!BT2:LO10 < 0, 0, IF(truncate!BT2:LO10 > 255, 255, truncate!BT2:LO10))","v":0},{"$f":"IF(truncate!BU2:LP10 < 0, 0, IF(truncate!BU2:LP10 > 255, 255, truncate!BU2:LP10))","v":13},{"$f":"IF(truncate!BV2:LQ10 < 0, 0, IF(truncate!BV2:LQ10 > 255, 255, truncate!BV2:LQ10))","v":15},{"$f":"IF(truncate!BW2:LR10 < 0, 0, IF(truncate!BW2:LR10 > 255, 255, truncate!BW2:LR10))","v":8},{"$f":"IF(truncate!BX2:LS10 < 0, 0, IF(truncate!BX2:LS10 > 255, 255, truncate!BX2:LS10))","v":8},{"$f":"IF(truncate!BY2:LT10 < 0, 0, IF(truncate!BY2:LT10 > 255, 255, truncate!BY2:LT10))","v":0},{"$f":"IF(truncate!BZ2:LU10 < 0, 0, IF(truncate!BZ2:LU10 > 255, 255, truncate!BZ2:LU10))","v":10},{"$f":"IF(truncate!CA2:LV10 < 0, 0, IF(truncate!CA2:LV10 > 255, 255, truncate!CA2:LV10))","v":6},{"$f":"IF(truncate!CB2:LW10 < 0, 0, IF(truncate!CB2:LW10 > 255, 255, truncate!CB2:LW10))","v":10},{"$f":"IF(truncate!CC2:LX10 < 0, 0, IF(truncate!CC2:LX10 > 255, 255, truncate!CC2:LX10))","v":0},{"$f":"IF(truncate!CD2:LY10 < 0, 0, IF(truncate!CD2:LY10 > 255, 255, truncate!CD2:LY10))","v":0},{"$f":"IF(truncate!CE2:LZ10 < 0, 0, IF(truncate!CE2:LZ10 > 255, 255, truncate!CE2:LZ10))","v":0},{"$f":"IF(truncate!CF2:MA10 < 0, 0, IF(truncate!CF2:MA10 > 255, 255, truncate!CF2:MA10))","v":22},{"$f":"IF(truncate!CG2:MB10 < 0, 0, IF(truncate!CG2:MB10 > 255, 255, truncate!CG2:MB10))","v":9},{"$f":"IF(truncate!CH2:MC10 < 0, 0, IF(truncate!CH2:MC10 > 255, 255, truncate!CH2:MC10))","v":0},{"$f":"IF(truncate!CI2:MD10 < 0, 0, IF(truncate!CI2:MD10 > 255, 255, truncate!CI2:MD10))","v":8},{"$f":"IF(truncate!CJ2:ME10 < 0, 0, IF(truncate!CJ2:ME10 > 255, 255, truncate!CJ2:ME10))","v":0},{"$f":"IF(truncate!CK2:MF10 < 0, 0, IF(truncate!CK2:MF10 > 255, 255, truncate!CK2:MF10))","v":16},{"$f":"IF(truncate!CL2:MG10 < 0, 0, IF(truncate!CL2:MG10 > 255, 255, truncate!CL2:MG10))","v":13},{"$f":"IF(truncate!CM2:MH10 < 0, 0, IF(truncate!CM2:MH10 > 255, 255, truncate!CM2:MH10))","v":0},{"$f":"IF(truncate!CN2:MI10 < 0, 0, IF(truncate!CN2:MI10 > 255, 255, truncate!CN2:MI10))","v":12},{"$f":"IF(truncate!CO2:MJ10 < 0, 0, IF(truncate!CO2:MJ10 > 255, 255, truncate!CO2:MJ10))","v":3},{"$f":"IF(truncate!CP2:MK10 < 0, 0, IF(truncate!CP2:MK10 > 255, 255, truncate!CP2:MK10))","v":0},{"$f":"IF(truncate!CQ2:ML10 < 0, 0, IF(truncate!CQ2:ML10 > 255, 255, truncate!CQ2:ML10))","v":12},{"$f":"IF(truncate!CR2:MM10 < 0, 0, IF(truncate!CR2:MM10 > 255, 255, truncate!CR2:MM10))","v":29},{"$f":"IF(truncate!CS2:MN10 < 0, 0, IF(truncate!CS2:MN10 > 255, 255, truncate!CS2:MN10))","v":0},{"$f":"IF(truncate!CT2:MO10 < 0, 0, IF(truncate!CT2:MO10 > 255, 255, truncate!CT2:MO10))","v":10},{"$f":"IF(truncate!CU2:MP10 < 0, 0, IF(truncate!CU2:MP10 > 255, 255, truncate!CU2:MP10))","v":0},{"$f":"IF(truncate!CV2:MQ10 < 0, 0, IF(truncate!CV2:MQ10 > 255, 255, truncate!CV2:MQ10))","v":2},{"$f":"IF(truncate!CW2:MR10 < 0, 0, IF(truncate!CW2:MR10 > 255, 255, truncate!CW2:MR10))","v":3},{"$f":"IF(truncate!CX2:MS10 < 0, 0, IF(truncate!CX2:MS10 > 255, 255, truncate!CX2:MS10))","v":7},{"$f":"IF(truncate!CY2:MT10 < 0, 0, IF(truncate!CY2:MT10 > 255, 255, truncate!CY2:MT10))","v":0},{"$f":"IF(truncate!CZ2:MU10 < 0, 0, IF(truncate!CZ2:MU10 > 255, 255, truncate!CZ2:MU10))","v":0},{"$f":"IF(truncate!DA2:MV10 < 0, 0, IF(truncate!DA2:MV10 > 255, 255, truncate!DA2:MV10))","v":14},{"$f":"IF(truncate!DB2:MW10 < 0, 0, IF(truncate!DB2:MW10 > 255, 255, truncate!DB2:MW10))","v":4},{"$f":"IF(truncate!DC2:MX10 < 0, 0, IF(truncate!DC2:MX10 > 255, 255, truncate!DC2:MX10))","v":0},{"$f":"IF(truncate!DD2:MY10 < 0, 0, IF(truncate!DD2:MY10 > 255, 255, truncate!DD2:MY10))","v":5},{"$f":"IF(truncate!DE2:MZ10 < 0, 0, IF(truncate!DE2:MZ10 > 255, 255, truncate!DE2:MZ10))","v":14},{"$f":"IF(truncate!DF2:NA10 < 0, 0, IF(truncate!DF2:NA10 > 255, 255, truncate!DF2:NA10))","v":1},{"$f":"IF(truncate!DG2:NB10 < 0, 0, IF(truncate!DG2:NB10 > 255, 255, truncate!DG2:NB10))","v":0},{"$f":"IF(truncate!DH2:NC10 < 0, 0, IF(truncate!DH2:NC10 > 255, 255, truncate!DH2:NC10))","v":7},{"$f":"IF(truncate!DI2:ND10 < 0, 0, IF(truncate!DI2:ND10 > 255, 255, truncate!DI2:ND10))","v":0},{"$f":"IF(truncate!DJ2:NE10 < 0, 0, IF(truncate!DJ2:NE10 > 255, 255, truncate!DJ2:NE10))","v":0},{"$f":"IF(truncate!DK2:NF10 < 0, 0, IF(truncate!DK2:NF10 > 255, 255, truncate!DK2:NF10))","v":0},{"$f":"IF(truncate!DL2:NG10 < 0, 0, IF(truncate!DL2:NG10 > 255, 255, truncate!DL2:NG10))","v":3},{"$f":"IF(truncate!DM2:NH10 < 0, 0, IF(truncate!DM2:NH10 > 255, 255, truncate!DM2:NH10))","v":0},{"$f":"IF(truncate!DN2:NI10 < 0, 0, IF(truncate!DN2:NI10 > 255, 255, truncate!DN2:NI10))","v":7},{"$f":"IF(truncate!DO2:NJ10 < 0, 0, IF(truncate!DO2:NJ10 > 255, 255, truncate!DO2:NJ10))","v":0},{"$f":"IF(truncate!DP2:NK10 < 0, 0, IF(truncate!DP2:NK10 > 255, 255, truncate!DP2:NK10))","v":2},{"$f":"IF(truncate!DQ2:NL10 < 0, 0, IF(truncate!DQ2:NL10 > 255, 255, truncate!DQ2:NL10))","v":0},{"$f":"IF(truncate!DR2:NM10 < 0, 0, IF(truncate!DR2:NM10 > 255, 255, truncate!DR2:NM10))","v":0},{"$f":"IF(truncate!DS2:NN10 < 0, 0, IF(truncate!DS2:NN10 > 255, 255, truncate!DS2:NN10))","v":0},{"$f":"IF(truncate!DT2:NO10 < 0, 0, IF(truncate!DT2:NO10 > 255, 255, truncate!DT2:NO10))","v":6},{"$f":"IF(truncate!DU2:NP10 < 0, 0, IF(truncate!DU2:NP10 > 255, 255, truncate!DU2:NP10))","v":8},{"$f":"IF(truncate!DV2:NQ10 < 0, 0, IF(truncate!DV2:NQ10 > 255, 255, truncate!DV2:NQ10))","v":5},{"$f":"IF(truncate!DW2:NR10 < 0, 0, IF(truncate!DW2:NR10 > 255, 255, truncate!DW2:NR10))","v":0},{"$f":"IF(truncate!DX2:NS10 < 0, 0, IF(truncate!DX2:NS10 > 255, 255, truncate!DX2:NS10))","v":0},{"$f":"IF(truncate!DY2:NT10 < 0, 0, IF(truncate!DY2:NT10 > 255, 255, truncate!DY2:NT10))","v":0},{"$f":"IF(truncate!DZ2:NU10 < 0, 0, IF(truncate!DZ2:NU10 > 255, 255, truncate!DZ2:NU10))","v":5},{"$f":"IF(truncate!EA2:NV10 < 0, 0, IF(truncate!EA2:NV10 > 255, 255, truncate!EA2:NV10))","v":0},{"$f":"IF(truncate!EB2:NW10 < 0, 0, IF(truncate!EB2:NW10 > 255, 255, truncate!EB2:NW10))","v":0},{"$f":"IF(truncate!EC2:NX10 < 0, 0, IF(truncate!EC2:NX10 > 255, 255, truncate!EC2:NX10))","v":0},{"$f":"IF(truncate!ED2:NY10 < 0, 0, IF(truncate!ED2:NY10 > 255, 255, truncate!ED2:NY10))","v":1},{"$f":"IF(truncate!EE2:NZ10 < 0, 0, IF(truncate!EE2:NZ10 > 255, 255, truncate!EE2:NZ10))","v":2},{"$f":"IF(truncate!EF2:OA10 < 0, 0, IF(truncate!EF2:OA10 > 255, 255, truncate!EF2:OA10))","v":0},{"$f":"IF(truncate!EG2:OB10 < 0, 0, IF(truncate!EG2:OB10 > 255, 255, truncate!EG2:OB10))","v":16},{"$f":"IF(truncate!EH2:OC10 < 0, 0, IF(truncate!EH2:OC10 > 255, 255, truncate!EH2:OC10))","v":0},{"$f":"IF(truncate!EI2:OD10 < 0, 0, IF(truncate!EI2:OD10 > 255, 255, truncate!EI2:OD10))","v":0},{"$f":"IF(truncate!EJ2:OE10 < 0, 0, IF(truncate!EJ2:OE10 > 255, 255, truncate!EJ2:OE10))","v":7},{"$f":"IF(truncate!EK2:OF10 < 0, 0, IF(truncate!EK2:OF10 > 255, 255, truncate!EK2:OF10))","v":2},{"$f":"IF(truncate!EL2:OG10 < 0, 0, IF(truncate!EL2:OG10 > 255, 255, truncate!EL2:OG10))","v":0},{"$f":"IF(truncate!EM2:OH10 < 0, 0, IF(truncate!EM2:OH10 > 255, 255, truncate!EM2:OH10))","v":8},{"$f":"IF(truncate!EN2:OI10 < 0, 0, IF(truncate!EN2:OI10 > 255, 255, truncate!EN2:OI10))","v":1},{"$f":"IF(truncate!EO2:OJ10 < 0, 0, IF(truncate!EO2:OJ10 > 255, 255, truncate!EO2:OJ10))","v":1},{"$f":"IF(truncate!EP2:OK10 < 0, 0, IF(truncate!EP2:OK10 > 255, 255, truncate!EP2:OK10))","v":0},{"$f":"IF(truncate!EQ2:OL10 < 0, 0, IF(truncate!EQ2:OL10 > 255, 255, truncate!EQ2:OL10))","v":0},{"$f":"IF(truncate!ER2:OM10 < 0, 0, IF(truncate!ER2:OM10 > 255, 255, truncate!ER2:OM10))","v":3},{"$f":"IF(truncate!ES2:ON10 < 0, 0, IF(truncate!ES2:ON10 > 255, 255, truncate!ES2:ON10))","v":1},{"$f":"IF(truncate!ET2:OO10 < 0, 0, IF(truncate!ET2:OO10 > 255, 255, truncate!ET2:OO10))","v":13},{"$f":"IF(truncate!EU2:OP10 < 0, 0, IF(truncate!EU2:OP10 > 255, 255, truncate!EU2:OP10))","v":0},{"$f":"IF(truncate!EV2:OQ10 < 0, 0, IF(truncate!EV2:OQ10 > 255, 255, truncate!EV2:OQ10))","v":0},{"$f":"IF(truncate!EW2:OR10 < 0, 0, IF(truncate!EW2:OR10 > 255, 255, truncate!EW2:OR10))","v":10},{"$f":"IF(truncate!EX2:OS10 < 0, 0, IF(truncate!EX2:OS10 > 255, 255, truncate!EX2:OS10))","v":5},{"$f":"IF(truncate!EY2:OT10 < 0, 0, IF(truncate!EY2:OT10 > 255, 255, truncate!EY2:OT10))","v":15},{"$f":"IF(truncate!EZ2:OU10 < 0, 0, IF(truncate!EZ2:OU10 > 255, 255, truncate!EZ2:OU10))","v":11},{"$f":"IF(truncate!FA2:OV10 < 0, 0, IF(truncate!FA2:OV10 > 255, 255, truncate!FA2:OV10))","v":4},{"$f":"IF(truncate!FB2:OW10 < 0, 0, IF(truncate!FB2:OW10 > 255, 255, truncate!FB2:OW10))","v":11},{"$f":"IF(truncate!FC2:OX10 < 0, 0, IF(truncate!FC2:OX10 > 255, 255, truncate!FC2:OX10))","v":0},{"$f":"IF(truncate!FD2:OY10 < 0, 0, IF(truncate!FD2:OY10 > 255, 255, truncate!FD2:OY10))","v":8},{"$f":"IF(truncate!FE2:OZ10 < 0, 0, IF(truncate!FE2:OZ10 > 255, 255, truncate!FE2:OZ10))","v":5},{"$f":"IF(truncate!FF2:PA10 < 0, 0, IF(truncate!FF2:PA10 > 255, 255, truncate!FF2:PA10))","v":0},{"$f":"IF(truncate!FG2:PB10 < 0, 0, IF(truncate!FG2:PB10 > 255, 255, truncate!FG2:PB10))","v":11},{"$f":"IF(truncate!FH2:PC10 < 0, 0, IF(truncate!FH2:PC10 > 255, 255, truncate!FH2:PC10))","v":7},{"$f":"IF(truncate!FI2:PD10 < 0, 0, IF(truncate!FI2:PD10 > 255, 255, truncate!FI2:PD10))","v":0},{"$f":"IF(truncate!FJ2:PE10 < 0, 0, IF(truncate!FJ2:PE10 > 255, 255, truncate!FJ2:PE10))","v":0},{"$f":"IF(truncate!FK2:PF10 < 0, 0, IF(truncate!FK2:PF10 > 255, 255, truncate!FK2:PF10))","v":11},{"$f":"IF(truncate!FL2:PG10 < 0, 0, IF(truncate!FL2:PG10 > 255, 255, truncate!FL2:PG10))","v":5},{"$f":"IF(truncate!FM2:PH10 < 0, 0, IF(truncate!FM2:PH10 > 255, 255, truncate!FM2:PH10))","v":0},{"$f":"IF(truncate!FN2:PI10 < 0, 0, IF(truncate!FN2:PI10 > 255, 255, truncate!FN2:PI10))","v":8},{"$f":"IF(truncate!FO2:PJ10 < 0, 0, IF(truncate!FO2:PJ10 > 255, 255, truncate!FO2:PJ10))","v":1},{"$f":"IF(truncate!FP2:PK10 < 0, 0, IF(truncate!FP2:PK10 > 255, 255, truncate!FP2:PK10))","v":15},{"$f":"IF(truncate!FQ2:PL10 < 0, 0, IF(truncate!FQ2:PL10 > 255, 255, truncate!FQ2:PL10))","v":0},{"$f":"IF(truncate!FR2:PM10 < 0, 0, IF(truncate!FR2:PM10 > 255, 255, truncate!FR2:PM10))","v":11},{"$f":"IF(truncate!FS2:PN10 < 0, 0, IF(truncate!FS2:PN10 > 255, 255, truncate!FS2:PN10))","v":0},{"$f":"IF(truncate!FT2:PO10 < 0, 0, IF(truncate!FT2:PO10 > 255, 255, truncate!FT2:PO10))","v":5},{"$f":"IF(truncate!FU2:PP10 < 0, 0, IF(truncate!FU2:PP10 > 255, 255, truncate!FU2:PP10))","v":3},{"$f":"IF(truncate!FV2:PQ10 < 0, 0, IF(truncate!FV2:PQ10 > 255, 255, truncate!FV2:PQ10))","v":0},{"$f":"IF(truncate!FW2:PR10 < 0, 0, IF(truncate!FW2:PR10 > 255, 255, truncate!FW2:PR10))","v":0},{"$f":"IF(truncate!FX2:PS10 < 0, 0, IF(truncate!FX2:PS10 > 255, 255, truncate!FX2:PS10))","v":9},{"$f":"IF(truncate!FY2:PT10 < 0, 0, IF(truncate!FY2:PT10 > 255, 255, truncate!FY2:PT10))","v":0},{"$f":"IF(truncate!FZ2:PU10 < 0, 0, IF(truncate!FZ2:PU10 > 255, 255, truncate!FZ2:PU10))","v":0},{"$f":"IF(truncate!GA2:PV10 < 0, 0, IF(truncate!GA2:PV10 > 255, 255, truncate!GA2:PV10))","v":0},{"$f":"IF(truncate!GB2:PW10 < 0, 0, IF(truncate!GB2:PW10 > 255, 255, truncate!GB2:PW10))","v":0},{"$f":"IF(truncate!GC2:PX10 < 0, 0, IF(truncate!GC2:PX10 > 255, 255, truncate!GC2:PX10))","v":0},{"$f":"IF(truncate!GD2:PY10 < 0, 0, IF(truncate!GD2:PY10 > 255, 255, truncate!GD2:PY10))","v":0},{"$f":"IF(truncate!GE2:PZ10 < 0, 0, IF(truncate!GE2:PZ10 > 255, 255, truncate!GE2:PZ10))","v":5},{"$f":"IF(truncate!GF2:QA10 < 0, 0, IF(truncate!GF2:QA10 > 255, 255, truncate!GF2:QA10))","v":0},{"$f":"IF(truncate!GG2:QB10 < 0, 0, IF(truncate!GG2:QB10 > 255, 255, truncate!GG2:QB10))","v":0},{"$f":"IF(truncate!GH2:QC10 < 0, 0, IF(truncate!GH2:QC10 > 255, 255, truncate!GH2:QC10))","v":0},{"$f":"IF(truncate!GI2:QD10 < 0, 0, IF(truncate!GI2:QD10 > 255, 255, truncate!GI2:QD10))","v":7},{"$f":"IF(truncate!GJ2:QE10 < 0, 0, IF(truncate!GJ2:QE10 > 255, 255, truncate!GJ2:QE10))","v":6},{"$f":"IF(truncate!GK2:QF10 < 0, 0, IF(truncate!GK2:QF10 > 255, 255, truncate!GK2:QF10))","v":3},{"$f":"IF(truncate!GL2:QG10 < 0, 0, IF(truncate!GL2:QG10 > 255, 255, truncate!GL2:QG10))","v":16},{"$f":"IF(truncate!GM2:QH10 < 0, 0, IF(truncate!GM2:QH10 > 255, 255, truncate!GM2:QH10))","v":0},{"$f":"IF(truncate!GN2:QI10 < 0, 0, IF(truncate!GN2:QI10 > 255, 255, truncate!GN2:QI10))","v":0},{"$f":"IF(truncate!GO2:QJ10 < 0, 0, IF(truncate!GO2:QJ10 > 255, 255, truncate!GO2:QJ10))","v":0},{"$f":"IF(truncate!GP2:QK10 < 0, 0, IF(truncate!GP2:QK10 > 255, 255, truncate!GP2:QK10))","v":0},{"$f":"IF(truncate!GQ2:QL10 < 0, 0, IF(truncate!GQ2:QL10 > 255, 255, truncate!GQ2:QL10))","v":0},{"$f":"IF(truncate!GR2:QM10 < 0, 0, IF(truncate!GR2:QM10 > 255, 255, truncate!GR2:QM10))","v":5},{"$f":"IF(truncate!GS2:QN10 < 0, 0, IF(truncate!GS2:QN10 > 255, 255, truncate!GS2:QN10))","v":0},{"$f":"IF(truncate!GT2:QO10 < 0, 0, IF(truncate!GT2:QO10 > 255, 255, truncate!GT2:QO10))","v":0},{"$f":"IF(truncate!GU2:QP10 < 0, 0, IF(truncate!GU2:QP10 > 255, 255, truncate!GU2:QP10))","v":6},{"$f":"IF(truncate!GV2:QQ10 < 0, 0, IF(truncate!GV2:QQ10 > 255, 255, truncate!GV2:QQ10))","v":8},{"$f":"IF(truncate!GW2:QR10 < 0, 0, IF(truncate!GW2:QR10 > 255, 255, truncate!GW2:QR10))","v":0},{"$f":"IF(truncate!GX2:QS10 < 0, 0, IF(truncate!GX2:QS10 > 255, 255, truncate!GX2:QS10))","v":0},{"$f":"IF(truncate!GY2:QT10 < 0, 0, IF(truncate!GY2:QT10 > 255, 255, truncate!GY2:QT10))","v":17},{"$f":"IF(truncate!GZ2:QU10 < 0, 0, IF(truncate!GZ2:QU10 > 255, 255, truncate!GZ2:QU10))","v":5},{"$f":"IF(truncate!HA2:QV10 < 0, 0, IF(truncate!HA2:QV10 > 255, 255, truncate!HA2:QV10))","v":17},{"$f":"IF(truncate!HB2:QW10 < 0, 0, IF(truncate!HB2:QW10 > 255, 255, truncate!HB2:QW10))","v":0},{"$f":"IF(truncate!HC2:QX10 < 0, 0, IF(truncate!HC2:QX10 > 255, 255, truncate!HC2:QX10))","v":7},{"$f":"IF(truncate!HD2:QY10 < 0, 0, IF(truncate!HD2:QY10 > 255, 255, truncate!HD2:QY10))","v":12},{"$f":"IF(truncate!HE2:QZ10 < 0, 0, IF(truncate!HE2:QZ10 > 255, 255, truncate!HE2:QZ10))","v":0},{"$f":"IF(truncate!HF2:RA10 < 0, 0, IF(truncate!HF2:RA10 > 255, 255, truncate!HF2:RA10))","v":14},{"$f":"IF(truncate!HG2:RB10 < 0, 0, IF(truncate!HG2:RB10 > 255, 255, truncate!HG2:RB10))","v":0},{"$f":"IF(truncate!HH2:RC10 < 0, 0, IF(truncate!HH2:RC10 > 255, 255, truncate!HH2:RC10))","v":9},{"$f":"IF(truncate!HI2:RD10 < 0, 0, IF(truncate!HI2:RD10 > 255, 255, truncate!HI2:RD10))","v":3},{"$f":"IF(truncate!HJ2:RE10 < 0, 0, IF(truncate!HJ2:RE10 > 255, 255, truncate!HJ2:RE10))","v":9},{"$f":"IF(truncate!HK2:RF10 < 0, 0, IF(truncate!HK2:RF10 > 255, 255, truncate!HK2:RF10))","v":0},{"$f":"IF(truncate!HL2:RG10 < 0, 0, IF(truncate!HL2:RG10 > 255, 255, truncate!HL2:RG10))","v":0},{"$f":"IF(truncate!HM2:RH10 < 0, 0, IF(truncate!HM2:RH10 > 255, 255, truncate!HM2:RH10))","v":1},{"$f":"IF(truncate!HN2:RI10 < 0, 0, IF(truncate!HN2:RI10 > 255, 255, truncate!HN2:RI10))","v":2},{"$f":"IF(truncate!HO2:RJ10 < 0, 0, IF(truncate!HO2:RJ10 > 255, 255, truncate!HO2:RJ10))","v":0},{"$f":"IF(truncate!HP2:RK10 < 0, 0, IF(truncate!HP2:RK10 > 255, 255, truncate!HP2:RK10))","v":3},{"$f":"IF(truncate!HQ2:RL10 < 0, 0, IF(truncate!HQ2:RL10 > 255, 255, truncate!HQ2:RL10))","v":25},{"$f":"IF(truncate!HR2:RM10 < 0, 0, IF(truncate!HR2:RM10 > 255, 255, truncate!HR2:RM10))","v":9},{"$f":"IF(truncate!HS2:RN10 < 0, 0, IF(truncate!HS2:RN10 > 255, 255, truncate!HS2:RN10))","v":14},{"$f":"IF(truncate!HT2:RO10 < 0, 0, IF(truncate!HT2:RO10 > 255, 255, truncate!HT2:RO10))","v":0},{"$f":"IF(truncate!HU2:RP10 < 0, 0, IF(truncate!HU2:RP10 > 255, 255, truncate!HU2:RP10))","v":1},{"$f":"IF(truncate!HV2:RQ10 < 0, 0, IF(truncate!HV2:RQ10 > 255, 255, truncate!HV2:RQ10))","v":0},{"$f":"IF(truncate!HW2:RR10 < 0, 0, IF(truncate!HW2:RR10 > 255, 255, truncate!HW2:RR10))","v":9},{"$f":"IF(truncate!HX2:RS10 < 0, 0, IF(truncate!HX2:RS10 > 255, 255, truncate!HX2:RS10))","v":0},{"$f":"IF(truncate!HY2:RT10 < 0, 0, IF(truncate!HY2:RT10 > 255, 255, truncate!HY2:RT10))","v":7},{"$f":"IF(truncate!HZ2:RU10 < 0, 0, IF(truncate!HZ2:RU10 > 255, 255, truncate!HZ2:RU10))","v":20},{"$f":"IF(truncate!IA2:RV10 < 0, 0, IF(truncate!IA2:RV10 > 255, 255, truncate!IA2:RV10))","v":0},{"$f":"IF(truncate!IB2:RW10 < 0, 0, IF(truncate!IB2:RW10 > 255, 255, truncate!IB2:RW10))","v":10},{"$f":"IF(truncate!IC2:RX10 < 0, 0, IF(truncate!IC2:RX10 > 255, 255, truncate!IC2:RX10))","v":11},{"$f":"IF(truncate!ID2:RY10 < 0, 0, IF(truncate!ID2:RY10 > 255, 255, truncate!ID2:RY10))","v":15},{"$f":"IF(truncate!IE2:RZ10 < 0, 0, IF(truncate!IE2:RZ10 > 255, 255, truncate!IE2:RZ10))","v":5},{"$f":"IF(truncate!IF2:SA10 < 0, 0, IF(truncate!IF2:SA10 > 255, 255, truncate!IF2:SA10))","v":0},{"$f":"IF(truncate!IG2:SB10 < 0, 0, IF(truncate!IG2:SB10 > 255, 255, truncate!IG2:SB10))","v":3},{"$f":"IF(truncate!IH2:SC10 < 0, 0, IF(truncate!IH2:SC10 > 255, 255, truncate!IH2:SC10))","v":10},{"$f":"IF(truncate!II2:SD10 < 0, 0, IF(truncate!II2:SD10 > 255, 255, truncate!II2:SD10))","v":2},{"$f":"IF(truncate!IJ2:SE10 < 0, 0, IF(truncate!IJ2:SE10 > 255, 255, truncate!IJ2:SE10))","v":0},{"$f":"IF(truncate!IK2:SF10 < 0, 0, IF(truncate!IK2:SF10 > 255, 255, truncate!IK2:SF10))","v":0},{"$f":"IF(truncate!IL2:SG10 < 0, 0, IF(truncate!IL2:SG10 > 255, 255, truncate!IL2:SG10))","v":29},{"$f":"IF(truncate!IM2:SH10 < 0, 0, IF(truncate!IM2:SH10 > 255, 255, truncate!IM2:SH10))","v":5},{"$f":"IF(truncate!IN2:SI10 < 0, 0, IF(truncate!IN2:SI10 > 255, 255, truncate!IN2:SI10))","v":17},{"$f":"IF(truncate!IO2:SJ10 < 0, 0, IF(truncate!IO2:SJ10 > 255, 255, truncate!IO2:SJ10))","v":0},{"$f":"IF(truncate!IP2:SK10 < 0, 0, IF(truncate!IP2:SK10 > 255, 255, truncate!IP2:SK10))","v":4},{"$f":"IF(truncate!IQ2:SL10 < 0, 0, IF(truncate!IQ2:SL10 > 255, 255, truncate!IQ2:SL10))","v":10},{"$f":"IF(truncate!IR2:SM10 < 0, 0, IF(truncate!IR2:SM10 > 255, 255, truncate!IR2:SM10))","v":4},{"$f":"IF(truncate!IS2:SN10 < 0, 0, IF(truncate!IS2:SN10 > 255, 255, truncate!IS2:SN10))","v":15},{"$f":"IF(truncate!IT2:SO10 < 0, 0, IF(truncate!IT2:SO10 > 255, 255, truncate!IT2:SO10))","v":0},{"$f":"IF(truncate!IU2:SP10 < 0, 0, IF(truncate!IU2:SP10 > 255, 255, truncate!IU2:SP10))","v":5},{"$f":"IF(truncate!IV2:SQ10 < 0, 0, IF(truncate!IV2:SQ10 > 255, 255, truncate!IV2:SQ10))","v":7}]
[{"$f":"IF(truncate!A3:IV11 < 0, 0, IF(truncate!A3:IV11 > 255, 255, truncate!A3:IV11))","v":26},{"$f":"IF(truncate!B3:IW11 < 0, 0, IF(truncate!B3:IW11 > 255, 255, truncate!B3:IW11))","v":9},{"$f":"IF(truncate!C3:IX11 < 0, 0, IF(truncate!C3:IX11 > 255, 255, truncate!C3:IX11))","v":8},{"$f":"IF(truncate!D3:IY11 < 0, 0, IF(truncate!D3:IY11 > 255, 255, truncate!D3:IY11))","v":11},{"$f":"IF(truncate!E3:IZ11 < 0, 0, IF(truncate!E3:IZ11 > 255, 255, truncate!E3:IZ11))","v":13},{"$f":"IF(truncate!F3:JA11 < 0, 0, IF(truncate!F3:JA11 > 255, 255, truncate!F3:JA11))","v":0},{"$f":"IF(truncate!G3:JB11 < 0, 0, IF(truncate!G3:JB11 > 255, 255, truncate!G3:JB11))","v":1},{"$f":"IF(truncate!H3:JC11 < 0, 0, IF(truncate!H3:JC11 > 255, 255, truncate!H3:JC11))","v":0},{"$f":"IF(truncate!I3:JD11 < 0, 0, IF(truncate!I3:JD11 > 255, 255, truncate!I3:JD11))","v":1},{"$f":"IF(truncate!J3:JE11 < 0, 0, IF(truncate!J3:JE11 > 255, 255, truncate!J3:JE11))","v":0},{"$f":"IF(truncate!K3:JF11 < 0, 0, IF(truncate!K3:JF11 > 255, 255, truncate!K3:JF11))","v":0},{"$f":"IF(truncate!L3:JG11 < 0, 0, IF(truncate!L3:JG11 > 255, 255, truncate!L3:JG11))","v":5},{"$f":"IF(truncate!M3:JH11 < 0, 0, IF(truncate!M3:JH11 > 255, 255, truncate!M3:JH11))","v":0},{"$f":"IF(truncate!N3:JI11 < 0, 0, IF(truncate!N3:JI11 > 255, 255, truncate!N3:JI11))","v":0},{"$f":"IF(truncate!O3:JJ11 < 0, 0, IF(truncate!O3:JJ11 > 255, 255, truncate!O3:JJ11))","v":4},{"$f":"IF(truncate!P3:JK11 < 0, 0, IF(truncate!P3:JK11 > 255, 255, truncate!P3:JK11))","v":17},{"$f":"IF(truncate!Q3:JL11 < 0, 0, IF(truncate!Q3:JL11 > 255, 255, truncate!Q3:JL11))","v":0},{"$f":"IF(truncate!R3:JM11 < 0, 0, IF(truncate!R3:JM11 > 255, 255, truncate!R3:JM11))","v":0},{"$f":"IF(truncate!S3:JN11 < 0, 0, IF(truncate!S3:JN11 > 255, 255, truncate!S3:JN11))","v":7},{"$f":"IF(truncate!T3:JO11 < 0, 0, IF(truncate!T3:JO11 > 255, 255, truncate!T3:JO11))","v":1},{"$f":"IF(truncate!U3:JP11 < 0, 0, IF(truncate!U3:JP11 > 255, 255, truncate!U3:JP11))","v":18},{"$f":"IF(truncate!V3:JQ11 < 0, 0, IF(truncate!V3:JQ11 > 255, 255, truncate!V3:JQ11))","v":1},{"$f":"IF(truncate!W3:JR11 < 0, 0, IF(truncate!W3:JR11 > 255, 255, truncate!W3:JR11))","v":4},{"$f":"IF(truncate!X3:JS11 < 0, 0, IF(truncate!X3:JS11 > 255, 255, truncate!X3:JS11))","v":2},{"$f":"IF(truncate!Y3:JT11 < 0, 0, IF(truncate!Y3:JT11 > 255, 255, truncate!Y3:JT11))","v":17},{"$f":"IF(truncate!Z3:JU11 < 0, 0, IF(truncate!Z3:JU11 > 255, 255, truncate!Z3:JU11))","v":0},{"$f":"IF(truncate!AA3:JV11 < 0, 0, IF(truncate!AA3:JV11 > 255, 255, truncate!AA3:JV11))","v":5},{"$f":"IF(truncate!AB3:JW11 < 0, 0, IF(truncate!AB3:JW11 > 255, 255, truncate!AB3:JW11))","v":0},{"$f":"IF(truncate!AC3:JX11 < 0, 0, IF(truncate!AC3:JX11 > 255, 255, truncate!AC3:JX11))","v":11},{"$f":"IF(truncate!AD3:JY11 < 0, 0, IF(truncate!AD3:JY11 > 255, 255, truncate!AD3:JY11))","v":0},{"$f":"IF(truncate!AE3:JZ11 < 0, 0, IF(truncate!AE3:JZ11 > 255, 255, truncate!AE3:JZ11))","v":15},{"$f":"IF(truncate!AF3:KA11 < 0, 0, IF(truncate!AF3:KA11 > 255, 255, truncate!AF3:KA11))","v":1},{"$f":"IF(truncate!AG3:KB11 < 0, 0, IF(truncate!AG3:KB11 > 255, 255, truncate!AG3:KB11))","v":0},{"$f":"IF(truncate!AH3:KC11 < 0, 0, IF(truncate!AH3:KC11 > 255, 255, truncate!AH3:KC11))","v":3},{"$f":"IF(truncate!AI3:KD11 < 0, 0, IF(truncate!AI3:KD11 > 255, 255, truncate!AI3:KD11))","v":0},{"$f":"IF(truncate!AJ3:KE11 < 0, 0, IF(truncate!AJ3:KE11 > 255, 255, truncate!AJ3:KE11))","v":9},{"$f":"IF(truncate!AK3:KF11 < 0, 0, IF(truncate!AK3:KF11 > 255, 255, truncate!AK3:KF11))","v":0},{"$f":"IF(truncate!AL3:KG11 < 0, 0, IF(truncate!AL3:KG11 > 255, 255, truncate!AL3:KG11))","v":16},{"$f":"IF(truncate!AM3:KH11 < 0, 0, IF(truncate!AM3:KH11 > 255, 255, truncate!AM3:KH11))","v":0},{"$f":"IF(truncate!AN3:KI11 < 0, 0, IF(truncate!AN3:KI11 > 255, 255, truncate!AN3:KI11))","v":0},{"$f":"IF(truncate!AO3:KJ11 < 0, 0, IF(truncate!AO3:KJ11 > 255, 255, truncate!AO3:KJ11))","v":0},{"$f":"IF(truncate!AP3:KK11 < 0, 0, IF(truncate!AP3:KK11 > 255, 255, truncate!AP3:KK11))","v":6},{"$f":"IF(truncate!AQ3:KL11 < 0, 0, IF(truncate!AQ3:KL11 > 255, 255, truncate!AQ3:KL11))","v":0},{"$f":"IF(truncate!AR3:KM11 < 0, 0, IF(truncate!AR3:KM11 > 255, 255, truncate!AR3:KM11))","v":12},{"$f":"IF(truncate!AS3:KN11 < 0, 0, IF(truncate!AS3:KN11 > 255, 255, truncate!AS3:KN11))","v":4},{"$f":"IF(truncate!AT3:KO11 < 0, 0, IF(truncate!AT3:KO11 > 255, 255, truncate!AT3:KO11))","v":0},{"$f":"IF(truncate!AU3:KP11 < 0, 0, IF(truncate!AU3:KP11 > 255, 255, truncate!AU3:KP11))","v":0},{"$f":"IF(truncate!AV3:KQ11 < 0, 0, IF(truncate!AV3:KQ11 > 255, 255, truncate!AV3:KQ11))","v":2},{"$f":"IF(truncate!AW3:KR11 < 0, 0, IF(truncate!AW3:KR11 > 255, 255, truncate!AW3:KR11))","v":11},{"$f":"IF(truncate!AX3:KS11 < 0, 0, IF(truncate!AX3:KS11 > 255, 255, truncate!AX3:KS11))","v":6},{"$f":"IF(truncate!AY3:KT11 < 0, 0, IF(truncate!AY3:KT11 > 255, 255, truncate!AY3:KT11))","v":6},{"$f":"IF(truncate!AZ3:KU11 < 0, 0, IF(truncate!AZ3:KU11 > 255, 255, truncate!AZ3:KU11))","v":24},{"$f":"IF(truncate!BA3:KV11 < 0, 0, IF(truncate!BA3:KV11 > 255, 255, truncate!BA3:KV11))","v":0},{"$f":"IF(truncate!BB3:KW11 < 0, 0, IF(truncate!BB3:KW11 > 255, 255, truncate!BB3:KW11))","v":0},{"$f":"IF(truncate!BC3:KX11 < 0, 0, IF(truncate!BC3:KX11 > 255, 255, truncate!BC3:KX11))","v":14},{"$f":"IF(truncate!BD3:KY11 < 0, 0, IF(truncate!BD3:KY11 > 255, 255, truncate!BD3:KY11))","v":3},{"$f":"IF(truncate!BE3:KZ11 < 0, 0, IF(truncate!BE3:KZ11 > 255, 255, truncate!BE3:KZ11))","v":0},{"$f":"IF(truncate!BF3:LA11 < 0, 0, IF(truncate!BF3:LA11 > 255, 255, truncate!BF3:LA11))","v":2},{"$f":"IF(truncate!BG3:LB11 < 0, 0, IF(truncate!BG3:LB11 > 255, 255, truncate!BG3:LB11))","v":5},{"$f":"IF(truncate!BH3:LC11 < 0, 0, IF(truncate!BH3:LC11 > 255, 255, truncate!BH3:LC11))","v":6},{"$f":"IF(truncate!BI3:LD11 < 0, 0, IF(truncate!BI3:LD11 > 255, 255, truncate!BI3:LD11))","v":18},{"$f":"IF(truncate!BJ3:LE11 < 0, 0, IF(truncate!BJ3:LE11 > 255, 255, truncate!BJ3:LE11))","v":0},{"$f":"IF(truncate!BK3:LF11 < 0, 0, IF(truncate!BK3:LF11 > 255, 255, truncate!BK3:LF11))","v":0},{"$f":"IF(truncate!BL3:LG11 < 0, 0, IF(truncate!BL3:LG11 > 255, 255, truncate!BL3:LG11))","v":0},{"$f":"IF(truncate!BM3:LH11 < 0, 0, IF(truncate!BM3:LH11 > 255, 255, truncate!BM3:LH11))","v":5},{"$f":"IF(truncate!BN3:LI11 < 0, 0, IF(truncate!BN3:LI11 > 255, 255, truncate!BN3:LI11))","v":0},{"$f":"IF(truncate!BO3:LJ11 < 0, 0, IF(truncate!BO3:LJ11 > 255, 255, truncate!BO3:LJ11))","v":1},{"$f":"IF(truncate!BP3:LK11 < 0, 0, IF(truncate!BP3:LK11 > 255, 255, truncate!BP3:LK11))","v":6},{"$f":"IF(truncate!BQ3:LL11 < 0, 0, IF(truncate!BQ3:LL11 > 255, 255, truncate!BQ3:LL11))","v":0},{"$f":"IF(truncate!BR3:LM11 < 0, 0, IF(truncate!BR3:LM11 > 255, 255, truncate!BR3:LM11))","v":13},{"$f":"IF(truncate!BS3:LN11 < 0, 0, IF(truncate!BS3:LN11 > 255, 255, truncate!BS3:LN11))","v":9},{"$f":"IF(truncate!BT3:LO11 < 0, 0, IF(truncate!BT3:LO11 > 255, 255, truncate!BT3:LO11))","v":0},{"$f":"IF(truncate!BU3:LP11 < 0, 0, IF(truncate!BU3:LP11 > 255, 255, truncate!BU3:LP11))","v":8},{"$f":"IF(truncate!BV3:LQ11 < 0, 0, IF(truncate!BV3:LQ11 > 255, 255, truncate!BV3:LQ11))","v":11},{"$f":"IF(truncate!BW3:LR11 < 0, 0, IF(truncate!BW3:LR11 > 255, 255, truncate!BW3:LR11))","v":4},{"$f":"IF(truncate!BX3:LS11 < 0, 0, IF(truncate!BX3:LS11 > 255, 255, truncate!BX3:LS11))","v":5},{"$f":"IF(truncate!BY3:LT11 < 0, 0, IF(truncate!BY3:LT11 > 255, 255, truncate!BY3:LT11))","v":0},{"$f":"IF(truncate!BZ3:LU11 < 0, 0, IF(truncate!BZ3:LU11 > 255, 255, truncate!BZ3:LU11))","v":6},{"$f":"IF(truncate!CA3:LV11 < 0, 0, IF(truncate!CA3:LV11 > 255, 255, truncate!CA3:LV11))","v":10},{"$f":"IF(truncate!CB3:LW11 < 0, 0, IF(truncate!CB3:LW11 > 255, 255, truncate!CB3:LW11))","v":8},{"$f":"IF(truncate!CC3:LX11 < 0, 0, IF(truncate!CC3:LX11 > 255, 255, truncate!CC3:LX11))","v":1},{"$f":"IF(truncate!CD3:LY11 < 0, 0, IF(truncate!CD3:LY11 > 255, 255, truncate!CD3:LY11))","v":0},{"$f":"IF(truncate!CE3:LZ11 < 0, 0, IF(truncate!CE3:LZ11 > 255, 255, truncate!CE3:LZ11))","v":0},{"$f":"IF(truncate!CF3:MA11 < 0, 0, IF(truncate!CF3:MA11 > 255, 255, truncate!CF3:MA11))","v":24},{"$f":"IF(truncate!CG3:MB11 < 0, 0, IF(truncate!CG3:MB11 > 255, 255, truncate!CG3:MB11))","v":12},{"$f":"IF(truncate!CH3:MC11 < 0, 0, IF(truncate!CH3:MC11 > 255, 255, truncate!CH3:MC11))","v":0},{"$f":"IF(truncate!CI3:MD11 < 0, 0, IF(truncate!CI3:MD11 > 255, 255, truncate!CI3:MD11))","v":8},{"$f":"IF(truncate!CJ3:ME11 < 0, 0, IF(truncate!CJ3:ME11 > 255, 255, truncate!CJ3:ME11))","v":0},{"$f":"IF(truncate!CK3:MF11 < 0, 0, IF(truncate!CK3:MF11 > 255, 255, truncate!CK3:MF11))","v":15},{"$f":"IF(truncate!CL3:MG11 < 0, 0, IF(truncate!CL3:MG11 > 255, 255, truncate!CL3:MG11))","v":7},{"$f":"IF(truncate!CM3:MH11 < 0, 0, IF(truncate!CM3:MH11 > 255, 255, truncate!CM3:MH11))","v":0},{"$f":"IF(truncate!CN3:MI11 < 0, 0, IF(truncate!CN3:MI11 > 255, 255, truncate!CN3:MI11))","v":9},{"$f":"IF(truncate!CO3:MJ11 < 0, 0, IF(truncate!CO3:MJ11 > 255, 255, truncate!CO3:MJ11))","v":10},{"$f":"IF(truncate!CP3:MK11 < 0, 0, IF(truncate!CP3:MK11 > 255, 255, truncate!CP3:MK11))","v":0},{"$f":"IF(truncate!CQ3:ML11 < 0, 0, IF(truncate!CQ3:ML11 > 255, 255, truncate!CQ3:ML11))","v":11},{"$f":"IF(truncate!CR3:MM11 < 0, 0, IF(truncate!CR3:MM11 > 255, 255, truncate!CR3:MM11))","v":26},{"$f":"IF(truncate!CS3:MN11 < 0, 0, IF(truncate!CS3:MN11 > 255, 255, truncate!CS3:MN11))","v":0},{"$f":"IF(truncate!CT3:MO11 < 0, 0, IF(truncate!CT3:MO11 > 255, 255, truncate!CT3:MO11))","v":12},{"$f":"IF(truncate!CU3:MP11 < 0, 0, IF(truncate!CU3:MP11 > 255, 255, truncate!CU3:MP11))","v":0},{"$f":"IF(truncate!CV3:MQ11 < 0, 0, IF(truncate!CV3:MQ11 > 255, 255, truncate!CV3:MQ11))","v":2},{"$f":"IF(truncate!CW3:MR11 < 0, 0, IF(truncate!CW3:MR11 > 255, 255, truncate!CW3:MR11))","v":5},{"$f":"IF(truncate!CX3:MS11 < 0, 0, IF(truncate!CX3:MS11 > 255, 255, truncate!CX3:MS11))","v":2},{"$f":"IF(truncate!CY3:MT11 < 0, 0, IF(truncate!CY3:MT11 > 255, 255, truncate!CY3:MT11))","v":0},{"$f":"IF(truncate!CZ3:MU11 < 0, 0, IF(truncate!CZ3:MU11 > 255, 255, truncate!CZ3:MU11))","v":0},{"$f":"IF(truncate!DA3:MV11 < 0, 0, IF(truncate!DA3:MV11 > 255, 255, truncate!DA3:MV11))","v":9},{"$f":"IF(truncate!DB3:MW11 < 0, 0, IF(truncate!DB3:MW11 > 255, 255, truncate!DB3:MW11))","v":12},{"$f":"IF(truncate!DC3:MX11 < 0, 0, IF(truncate!DC3:MX11 > 255, 255, truncate!DC3:MX11))","v":0},{"$f":"IF(truncate!DD3:MY11 < 0, 0, IF(truncate!DD3:MY11 > 255, 255, truncate!DD3:MY11))","v":2},{"$f":"IF(truncate!DE3:MZ11 < 0, 0, IF(truncate!DE3:MZ11 > 255, 255, truncate!DE3:MZ11))","v":12},{"$f":"IF(truncate!DF3:NA11 < 0, 0, IF(truncate!DF3:NA11 > 255, 255, truncate!DF3:NA11))","v":1},{"$f":"IF(truncate!DG3:NB11 < 0, 0, IF(truncate!DG3:NB11 > 255, 255, truncate!DG3:NB11))","v":0},{"$f":"IF(truncate!DH3:NC11 < 0, 0, IF(truncate!DH3:NC11 > 255, 255, truncate!DH3:NC11))","v":3},{"$f":"IF(truncate!DI3:ND11 < 0, 0, IF(truncate!DI3:ND11 > 255, 255, truncate!DI3:ND11))","v":2},{"$f":"IF(truncate!DJ3:NE11 < 0, 0, IF(truncate!DJ3:NE11 > 255, 255, truncate!DJ3:NE11))","v":0},{"$f":"IF(truncate!DK3:NF11 < 0, 0, IF(truncate!DK3:NF11 > 255, 255, truncate!DK3:NF11))","v":0},{"$f":"IF(truncate!DL3:NG11 < 0, 0, IF(truncate!DL3:NG11 > 255, 255, truncate!DL3:NG11))","v":10},{"$f":"IF(truncate!DM3:NH11 < 0, 0, IF(truncate!DM3:NH11 > 255, 255, truncate!DM3:NH11))","v":0},{"$f":"IF(truncate!DN3:NI11 < 0, 0, IF(truncate!DN3:NI11 > 255, 255, truncate!DN3:NI11))","v":1},{"$f":"IF(truncate!DO3:NJ11 < 0, 0, IF(truncate!DO3:NJ11 > 255, 255, truncate!DO3:NJ11))","v":0},{"$f":"IF(truncate!DP3:NK11 < 0, 0, IF(truncate!DP3:NK11 > 255, 255, truncate!DP3:NK11))","v":7},{"$f":"IF(truncate!DQ3:NL11 < 0, 0, IF(truncate!DQ3:NL11 > 255, 255, truncate!DQ3:NL11))","v":0},{"$f":"IF(truncate!DR3:NM11 < 0, 0, IF(truncate!DR3:NM11 > 255, 255, truncate!DR3:NM11))","v":1},{"$f":"IF(truncate!DS3:NN11 < 0, 0, IF(truncate!DS3:NN11 > 255, 255, truncate!DS3:NN11))","v":0},{"$f":"IF(truncate!DT3:NO11 < 0, 0, IF(truncate!DT3:NO11 > 255, 255, truncate!DT3:NO11))","v":1},{"$f":"IF(truncate!DU3:NP11 < 0, 0, IF(truncate!DU3:NP11 > 255, 255, truncate!DU3:NP11))","v":5},{"$f":"IF(truncate!DV3:NQ11 < 0, 0, IF(truncate!DV3:NQ11 > 255, 255, truncate!DV3:NQ11))","v":7},{"$f":"IF(truncate!DW3:NR11 < 0, 0, IF(truncate!DW3:NR11 > 255, 255, truncate!DW3:NR11))","v":0},{"$f":"IF(truncate!DX3:NS11 < 0, 0, IF(truncate!DX3:NS11 > 255, 255, truncate!DX3:NS11))","v":0},{"$f":"IF(truncate!DY3:NT11 < 0, 0, IF(truncate!DY3:NT11 > 255, 255, truncate!DY3:NT11))","v":0},{"$f":"IF(truncate!DZ3:NU11 < 0, 0, IF(truncate!DZ3:NU11 > 255, 255, truncate!DZ3:NU11))","v":0},{"$f":"IF(truncate!EA3:NV11 < 0, 0, IF(truncate!EA3:NV11 > 255, 255, truncate!EA3:NV11))","v":0},{"$f":"IF(truncate!EB3:NW11 < 0, 0, IF(truncate!EB3:NW11 > 255, 255, truncate!EB3:NW11))","v":0},{"$f":"IF(truncate!EC3:NX11 < 0, 0, IF(truncate!EC3:NX11 > 255, 255, truncate!EC3:NX11))","v":0},{"$f":"IF(truncate!ED3:NY11 < 0, 0, IF(truncate!ED3:NY11 > 255, 255, truncate!ED3:NY11))","v":8},{"$f":"IF(truncate!EE3:NZ11 < 0, 0, IF(truncate!EE3:NZ11 > 255, 255, truncate!EE3:NZ11))","v":4},{"$f":"IF(truncate!EF3:OA11 < 0, 0, IF(truncate!EF3:OA11 > 255, 255, truncate!EF3:OA11))","v":0},{"$f":"IF(truncate!EG3:OB11 < 0, 0, IF(truncate!EG3:OB11 > 255, 255, truncate!EG3:OB11))","v":6},{"$f":"IF(truncate!EH3:OC11 < 0, 0, IF(truncate!EH3:OC11 > 255, 255, truncate!EH3:OC11))","v":0},{"$f":"IF(truncate!EI3:OD11 < 0, 0, IF(truncate!EI3:OD11 > 255, 255, truncate!EI3:OD11))","v":0},{"$f":"IF(truncate!EJ3:OE11 < 0, 0, IF(truncate!EJ3:OE11 > 255, 255, truncate!EJ3:OE11))","v":15},{"$f":"IF(truncate!EK3:OF11 < 0, 0, IF(truncate!EK3:OF11 > 255, 255, truncate!EK3:OF11))","v":0},{"$f":"IF(truncate!EL3:OG11 < 0, 0, IF(truncate!EL3:OG11 > 255, 255, truncate!EL3:OG11))","v":4},{"$f":"IF(truncate!EM3:OH11 < 0, 0, IF(truncate!EM3:OH11 > 255, 255, truncate!EM3:OH11))","v":11},{"$f":"IF(truncate!EN3:OI11 < 0, 0, IF(truncate!EN3:OI11 > 255, 255, truncate!EN3:OI11))","v":0},{"$f":"IF(truncate!EO3:OJ11 < 0, 0, IF(truncate!EO3:OJ11 > 255, 255, truncate!EO3:OJ11))","v":0},{"$f":"IF(truncate!EP3:OK11 < 0, 0, IF(truncate!EP3:OK11 > 255, 255, truncate!EP3:OK11))","v":0},{"$f":"IF(truncate!EQ3:OL11 < 0, 0, IF(truncate!EQ3:OL11 > 255, 255, truncate!EQ3:OL11))","v":0},{"$f":"IF(truncate!ER3:OM11 < 0, 0, IF(truncate!ER3:OM11 > 255, 255, truncate!ER3:OM11))","v":0},{"$f":"IF(truncate!ES3:ON11 < 0, 0, IF(truncate!ES3:ON11 > 255, 255, truncate!ES3:ON11))","v":1},{"$f":"IF(truncate!ET3:OO11 < 0, 0, IF(truncate!ET3:OO11 > 255, 255, truncate!ET3:OO11))","v":9},{"$f":"IF(truncate!EU3:OP11 < 0, 0, IF(truncate!EU3:OP11 > 255, 255, truncate!EU3:OP11))","v":0},{"$f":"IF(truncate!EV3:OQ11 < 0, 0, IF(truncate!EV3:OQ11 > 255, 255, truncate!EV3:OQ11))","v":0},{"$f":"IF(truncate!EW3:OR11 < 0, 0, IF(truncate!EW3:OR11 > 255, 255, truncate!EW3:OR11))","v":9},{"$f":"IF(truncate!EX3:OS11 < 0, 0, IF(truncate!EX3:OS11 > 255, 255, truncate!EX3:OS11))","v":1},{"$f":"IF(truncate!EY3:OT11 < 0, 0, IF(truncate!EY3:OT11 > 255, 255, truncate!EY3:OT11))","v":13},{"$f":"IF(truncate!EZ3:OU11 < 0, 0, IF(truncate!EZ3:OU11 > 255, 255, truncate!EZ3:OU11))","v":6},{"$f":"IF(truncate!FA3:OV11 < 0, 0, IF(truncate!FA3:OV11 > 255, 255, truncate!FA3:OV11))","v":12},{"$f":"IF(truncate!FB3:OW11 < 0, 0, IF(truncate!FB3:OW11 > 255, 255, truncate!FB3:OW11))","v":7},{"$f":"IF(truncate!FC3:OX11 < 0, 0, IF(truncate!FC3:OX11 > 255, 255, truncate!FC3:OX11))","v":0},{"$f":"IF(truncate!FD3:OY11 < 0, 0, IF(truncate!FD3:OY11 > 255, 255, truncate!FD3:OY11))","v":10},{"$f":"IF(truncate!FE3:OZ11 < 0, 0, IF(truncate!FE3:OZ11 > 255, 255, truncate!FE3:OZ11))","v":5},{"$f":"IF(truncate!FF3:PA11 < 0, 0, IF(truncate!FF3:PA11 > 255, 255, truncate!FF3:PA11))","v":0},{"$f":"IF(truncate!FG3:PB11 < 0, 0, IF(truncate!FG3:PB11 > 255, 255, truncate!FG3:PB11))","v":13},{"$f":"IF(truncate!FH3:PC11 < 0, 0, IF(truncate!FH3:PC11 > 255, 255, truncate!FH3:PC11))","v":16},{"$f":"IF(truncate!FI3:PD11 < 0, 0, IF(truncate!FI3:PD11 > 255, 255, truncate!FI3:PD11))","v":0},{"$f":"IF(truncate!FJ3:PE11 < 0, 0, IF(truncate!FJ3:PE11 > 255, 255, truncate!FJ3:PE11))","v":2},{"$f":"IF(truncate!FK3:PF11 < 0, 0, IF(truncate!FK3:PF11 > 255, 255, truncate!FK3:PF11))","v":7},{"$f":"IF(truncate!FL3:PG11 < 0, 0, IF(truncate!FL3:PG11 > 255, 255, truncate!FL3:PG11))","v":7},{"$f":"IF(truncate!FM3:PH11 < 0, 0, IF(truncate!FM3:PH11 > 255, 255, truncate!FM3:PH11))","v":0},{"$f":"IF(truncate!FN3:PI11 < 0, 0, IF(truncate!FN3:PI11 > 255, 255, truncate!FN3:PI11))","v":6},{"$f":"IF(truncate!FO3:PJ11 < 0, 0, IF(truncate!FO3:PJ11 > 255, 255, truncate!FO3:PJ11))","v":0},{"$f":"IF(truncate!FP3:PK11 < 0, 0, IF(truncate!FP3:PK11 > 255, 255, truncate!FP3:PK11))","v":17},{"$f":"IF(truncate!FQ3:PL11 < 0, 0, IF(truncate!FQ3:PL11 > 255, 255, truncate!FQ3:PL11))","v":0},{"$f":"IF(truncate!FR3:PM11 < 0, 0, IF(truncate!FR3:PM11 > 255, 255, truncate!FR3:PM11))","v":4},{"$f":"IF(truncate!FS3:PN11 < 0, 0, IF(truncate!FS3:PN11 > 255, 255, truncate!FS3:PN11))","v":0},{"$f":"IF(truncate!FT3:PO11 < 0, 0, IF(truncate!FT3:PO11 > 255, 255, truncate!FT3:PO11))","v":0},{"$f":"IF(truncate!FU3:PP11 < 0, 0, IF(truncate!FU3:PP11 > 255, 255, truncate!FU3:PP11))","v":2},{"$f":"IF(truncate!FV3:PQ11 < 0, 0, IF(truncate!FV3:PQ11 > 255, 255, truncate!FV3:PQ11))","v":0},{"$f":"IF(truncate!FW3:PR11 < 0, 0, IF(truncate!FW3:PR11 > 255, 255, truncate!FW3:PR11))","v":0},{"$f":"IF(truncate!FX3:PS11 < 0, 0, IF(truncate!FX3:PS11 > 255, 255, truncate!FX3:PS11))","v":1},{"$f":"IF(truncate!FY3:PT11 < 0, 0, IF(truncate!FY3:PT11 > 255, 255, truncate!FY3:PT11))","v":0},{"$f":"IF(truncate!FZ3:PU11 < 0, 0, IF(truncate!FZ3:PU11 > 255, 255, truncate!FZ3:PU11))","v":0},{"$f":"IF(truncate!GA3:PV11 < 0, 0, IF(truncate!GA3:PV11 > 255, 255, truncate!GA3:PV11))","v":0},{"$f":"IF(truncate!GB3:PW11 < 0, 0, IF(truncate!GB3:PW11 > 255, 255, truncate!GB3:PW11))","v":0},{"$f":"IF(truncate!GC3:PX11 < 0, 0, IF(truncate!GC3:PX11 > 255, 255, truncate!GC3:PX11))","v":0},{"$f":"IF(truncate!GD3:PY11 < 0, 0, IF(truncate!GD3:PY11 > 255, 255, truncate!GD3:PY11))","v":0},{"$f":"IF(truncate!GE3:PZ11 < 0, 0, IF(truncate!GE3:PZ11 > 255, 255, truncate!GE3:PZ11))","v":6},{"$f":"IF(truncate!GF3:QA11 < 0, 0, IF(truncate!GF3:QA11 > 255, 255, truncate!GF3:QA11))","v":0},{"$f":"IF(truncate!GG3:QB11 < 0, 0, IF(truncate!GG3:QB11 > 255, 255, truncate!GG3:QB11))","v":0},{"$f":"IF(truncate!GH3:QC11 < 0, 0, IF(truncate!GH3:QC11 > 255, 255, truncate!GH3:QC11))","v":0},{"$f":"IF(truncate!GI3:QD11 < 0, 0, IF(truncate!GI3:QD11 > 255, 255, truncate!GI3:QD11))","v":1},{"$f":"IF(truncate!GJ3:QE11 < 0, 0, IF(truncate!GJ3:QE11 > 255, 255, truncate!GJ3:QE11))","v":5},{"$f":"IF(truncate!GK3:QF11 < 0, 0, IF(truncate!GK3:QF11 > 255, 255, truncate!GK3:QF11))","v":2},{"$f":"IF(truncate!GL3:QG11 < 0, 0, IF(truncate!GL3:QG11 > 255, 255, truncate!GL3:QG11))","v":11},{"$f":"IF(truncate!GM3:QH11 < 0, 0, IF(truncate!GM3:QH11 > 255, 255, truncate!GM3:QH11))","v":0},{"$f":"IF(truncate!GN3:QI11 < 0, 0, IF(truncate!GN3:QI11 > 255, 255, truncate!GN3:QI11))","v":0},{"$f":"IF(truncate!GO3:QJ11 < 0, 0, IF(truncate!GO3:QJ11 > 255, 255, truncate!GO3:QJ11))","v":0},{"$f":"IF(truncate!GP3:QK11 < 0, 0, IF(truncate!GP3:QK11 > 255, 255, truncate!GP3:QK11))","v":0},{"$f":"IF(truncate!GQ3:QL11 < 0, 0, IF(truncate!GQ3:QL11 > 255, 255, truncate!GQ3:QL11))","v":0},{"$f":"IF(truncate!GR3:QM11 < 0, 0, IF(truncate!GR3:QM11 > 255, 255, truncate!GR3:QM11))","v":0},{"$f":"IF(truncate!GS3:QN11 < 0, 0, IF(truncate!GS3:QN11 > 255, 255, truncate!GS3:QN11))","v":0},{"$f":"IF(truncate!GT3:QO11 < 0, 0, IF(truncate!GT3:QO11 > 255, 255, truncate!GT3:QO11))","v":0},{"$f":"IF(truncate!GU3:QP11 < 0, 0, IF(truncate!GU3:QP11 > 255, 255, truncate!GU3:QP11))","v":4},{"$f":"IF(truncate!GV3:QQ11 < 0, 0, IF(truncate!GV3:QQ11 > 255, 255, truncate!GV3:QQ11))","v":0},{"$f":"IF(truncate!GW3:QR11 < 0, 0, IF(truncate!GW3:QR11 > 255, 255, truncate!GW3:QR11))","v":0},{"$f":"IF(truncate!GX3:QS11 < 0, 0, IF(truncate!GX3:QS11 > 255, 255, truncate!GX3:QS11))","v":0},{"$f":"IF(truncate!GY3:QT11 < 0, 0, IF(truncate!GY3:QT11 > 255, 255, truncate!GY3:QT11))","v":17},{"$f":"IF(truncate!GZ3:QU11 < 0, 0, IF(truncate!GZ3:QU11 > 255, 255, truncate!GZ3:QU11))","v":3},{"$f":"IF(truncate!HA3:QV11 < 0, 0, IF(truncate!HA3:QV11 > 255, 255, truncate!HA3:QV11))","v":12},{"$f":"IF(truncate!HB3:QW11 < 0, 0, IF(truncate!HB3:QW11 > 255, 255, truncate!HB3:QW11))","v":0},{"$f":"IF(truncate!HC3:QX11 < 0, 0, IF(truncate!HC3:QX11 > 255, 255, truncate!HC3:QX11))","v":2},{"$f":"IF(truncate!HD3:QY11 < 0, 0, IF(truncate!HD3:QY11 > 255, 255, truncate!HD3:QY11))","v":19},{"$f":"IF(truncate!HE3:QZ11 < 0, 0, IF(truncate!HE3:QZ11 > 255, 255, truncate!HE3:QZ11))","v":4},{"$f":"IF(truncate!HF3:RA11 < 0, 0, IF(truncate!HF3:RA11 > 255, 255, truncate!HF3:RA11))","v":9},{"$f":"IF(truncate!HG3:RB11 < 0, 0, IF(truncate!HG3:RB11 > 255, 255, truncate!HG3:RB11))","v":0},{"$f":"IF(truncate!HH3:RC11 < 0, 0, IF(truncate!HH3:RC11 > 255, 255, truncate!HH3:RC11))","v":6},{"$f":"IF(truncate!HI3:RD11 < 0, 0, IF(truncate!HI3:RD11 > 255, 255, truncate!HI3:RD11))","v":1},{"$f":"IF(truncate!HJ3:RE11 < 0, 0, IF(truncate!HJ3:RE11 > 255, 255, truncate!HJ3:RE11))","v":11},{"$f":"IF(truncate!HK3:RF11 < 0, 0, IF(truncate!HK3:RF11 > 255, 255, truncate!HK3:RF11))","v":0},{"$f":"IF(truncate!HL3:RG11 < 0, 0, IF(truncate!HL3:RG11 > 255, 255, truncate!HL3:RG11))","v":0},{"$f":"IF(truncate!HM3:RH11 < 0, 0, IF(truncate!HM3:RH11 > 255, 255, truncate!HM3:RH11))","v":0},{"$f":"IF(truncate!HN3:RI11 < 0, 0, IF(truncate!HN3:RI11 > 255, 255, truncate!HN3:RI11))","v":7},{"$f":"IF(truncate!HO3:RJ11 < 0, 0, IF(truncate!HO3:RJ11 > 255, 255, truncate!HO3:RJ11))","v":0},{"$f":"IF(truncate!HP3:RK11 < 0, 0, IF(truncate!HP3:RK11 > 255, 255, truncate!HP3:RK11))","v":0},{"$f":"IF(truncate!HQ3:RL11 < 0, 0, IF(truncate!HQ3:RL11 > 255, 255, truncate!HQ3:RL11))","v":26},{"$f":"IF(truncate!HR3:RM11 < 0, 0, IF(truncate!HR3:RM11 > 255, 255, truncate!HR3:RM11))","v":5},{"$f":"IF(truncate!HS3:RN11 < 0, 0, IF(truncate!HS3:RN11 > 255, 255, truncate!HS3:RN11))","v":12},{"$f":"IF(truncate!HT3:RO11 < 0, 0, IF(truncate!HT3:RO11 > 255, 255, truncate!HT3:RO11))","v":0},{"$f":"IF(truncate!HU3:RP11 < 0, 0, IF(truncate!HU3:RP11 > 255, 255, truncate!HU3:RP11))","v":2},{"$f":"IF(truncate!HV3:RQ11 < 0, 0, IF(truncate!HV3:RQ11 > 255, 255, truncate!HV3:RQ11))","v":0},{"$f":"IF(truncate!HW3:RR11 < 0, 0, IF(truncate!HW3:RR11 > 255, 255, truncate!HW3:RR11))","v":10},{"$f":"IF(truncate!HX3:RS11 < 0, 0, IF(truncate!HX3:RS11 > 255, 255, truncate!HX3:RS11))","v":0},{"$f":"IF(truncate!HY3:RT11 < 0, 0, IF(truncate!HY3:RT11 > 255, 255, truncate!HY3:RT11))","v":3},{"$f":"IF(truncate!HZ3:RU11 < 0, 0, IF(truncate!HZ3:RU11 > 255, 255, truncate!HZ3:RU11))","v":21},{"$f":"IF(truncate!IA3:RV11 < 0, 0, IF(truncate!IA3:RV11 > 255, 255, truncate!IA3:RV11))","v":0},{"$f":"IF(truncate!IB3:RW11 < 0, 0, IF(truncate!IB3:RW11 > 255, 255, truncate!IB3:RW11))","v":12},{"$f":"IF(truncate!IC3:RX11 < 0, 0, IF(truncate!IC3:RX11 > 255, 255, truncate!IC3:RX11))","v":6},{"$f":"IF(truncate!ID3:RY11 < 0, 0, IF(truncate!ID3:RY11 > 255, 255, truncate!ID3:RY11))","v":7},{"$f":"IF(truncate!IE3:RZ11 < 0, 0, IF(truncate!IE3:RZ11 > 255, 255, truncate!IE3:RZ11))","v":3},{"$f":"IF(truncate!IF3:SA11 < 0, 0, IF(truncate!IF3:SA11 > 255, 255, truncate!IF3:SA11))","v":2},{"$f":"IF(truncate!IG3:SB11 < 0, 0, IF(truncate!IG3:SB11 > 255, 255, truncate!IG3:SB11))","v":2},{"$f":"IF(truncate!IH3:SC11 < 0, 0, IF(truncate!IH3:SC11 > 255, 255, truncate!IH3:SC11))","v":9},{"$f":"IF(truncate!II3:SD11 < 0, 0, IF(truncate!II3:SD11 > 255, 255, truncate!II3:SD11))","v":4},{"$f":"IF(truncate!IJ3:SE11 < 0, 0, IF(truncate!IJ3:SE11 > 255, 255, truncate!IJ3:SE11))","v":0},{"$f":"IF(truncate!IK3:SF11 < 0, 0, IF(truncate!IK3:SF11 > 255, 255, truncate!IK3:SF11))","v":0},{"$f":"IF(truncate!IL3:SG11 < 0, 0, IF(truncate!IL3:SG11 > 255, 255, truncate!IL3:SG11))","v":23},{"$f":"IF(truncate!IM3:SH11 < 0, 0, IF(truncate!IM3:SH11 > 255, 255, truncate!IM3:SH11))","v":10},{"$f":"IF(truncate!IN3:SI11 < 0, 0, IF(truncate!IN3:SI11 > 255, 255, truncate!IN3:SI11))","v":25},{"$f":"IF(truncate!IO3:SJ11 < 0, 0, IF(truncate!IO3:SJ11 > 255, 255, truncate!IO3:SJ11))","v":0},{"$f":"IF(truncate!IP3:SK11 < 0, 0, IF(truncate!IP3:SK11 > 255, 255, truncate!IP3:SK11))","v":0},{"$f":"IF(truncate!IQ3:SL11 < 0, 0, IF(truncate!IQ3:SL11 > 255, 255, truncate!IQ3:SL11))","v":4},{"$f":"IF(truncate!IR3:SM11 < 0, 0, IF(truncate!IR3:SM11 > 255, 255, truncate!IR3:SM11))","v":9},{"$f":"IF(truncate!IS3:SN11 < 0, 0, IF(truncate!IS3:SN11 > 255, 255, truncate!IS3:SN11))","v":11},{"$f":"IF(truncate!IT3:SO11 < 0, 0, IF(truncate!IT3:SO11 > 255, 255, truncate!IT3:SO11))","v":0},{"$f":"IF(truncate!IU3:SP11 < 0, 0, IF(truncate!IU3:SP11 > 255, 255, truncate!IU3:SP11))","v":2},{"$f":"IF(truncate!IV3:SQ11 < 0, 0, IF(truncate!IV3:SQ11 > 255, 255, truncate!IV3:SQ11))","v":2}]
[{"$f":"IF(truncate!A4:IV12 < 0, 0, IF(truncate!A4:IV12 > 255, 255, truncate!A4:IV12))","v":25},{"$f":"IF(truncate!B4:IW12 < 0, 0, IF(truncate!B4:IW12 > 255, 255, truncate!B4:IW12))","v":10},{"$f":"IF(truncate!C4:IX12 < 0, 0, IF(truncate!C4:IX12 > 255, 255, truncate!C4:IX12))","v":5},{"$f":"IF(truncate!D4:IY12 < 0, 0, IF(truncate!D4:IY12 > 255, 255, truncate!D4:IY12))","v":2},{"$f":"IF(truncate!E4:IZ12 < 0, 0, IF(truncate!E4:IZ12 > 255, 255, truncate!E4:IZ12))","v":25},{"$f":"IF(truncate!F4:JA12 < 0, 0, IF(truncate!F4:JA12 > 255, 255, truncate!F4:JA12))","v":0},{"$f":"IF(truncate!G4:JB12 < 0, 0, IF(truncate!G4:JB12 > 255, 255, truncate!G4:JB12))","v":4},{"$f":"IF(truncate!H4:JC12 < 0, 0, IF(truncate!H4:JC12 > 255, 255, truncate!H4:JC12))","v":0},{"$f":"IF(truncate!I4:JD12 < 0, 0, IF(truncate!I4:JD12 > 255, 255, truncate!I4:JD12))","v":0},{"$f":"IF(truncate!J4:JE12 < 0, 0, IF(truncate!J4:JE12 > 255, 255, truncate!J4:JE12))","v":1},{"$f":"IF(truncate!K4:JF12 < 0, 0, IF(truncate!K4:JF12 > 255, 255, truncate!K4:JF12))","v":0},{"$f":"IF(truncate!L4:JG12 < 0, 0, IF(truncate!L4:JG12 > 255, 255, truncate!L4:JG12))","v":13},{"$f":"IF(truncate!M4:JH12 < 0, 0, IF(truncate!M4:JH12 > 255, 255, truncate!M4:JH12))","v":0},{"$f":"IF(truncate!N4:JI12 < 0, 0, IF(truncate!N4:JI12 > 255, 255, truncate!N4:JI12))","v":0},{"$f":"IF(truncate!O4:JJ12 < 0, 0, IF(truncate!O4:JJ12 > 255, 255, truncate!O4:JJ12))","v":15},{"$f":"IF(truncate!P4:JK12 < 0, 0, IF(truncate!P4:JK12 > 255, 255, truncate!P4:JK12))","v":7},{"$f":"IF(truncate!Q4:JL12 < 0, 0, IF(truncate!Q4:JL12 > 255, 255, truncate!Q4:JL12))","v":0},{"$f":"IF(truncate!R4:JM12 < 0, 0, IF(truncate!R4:JM12 > 255, 255, truncate!R4:JM12))","v":0},{"$f":"IF(truncate!S4:JN12 < 0, 0, IF(truncate!S4:JN12 > 255, 255, truncate!S4:JN12))","v":11},{"$f":"IF(truncate!T4:JO12 < 0, 0, IF(truncate!T4:JO12 > 255, 255, truncate!T4:JO12))","v":7},{"$f":"IF(truncate!U4:JP12 < 0, 0, IF(truncate!U4:JP12 > 255, 255, truncate!U4:JP12))","v":18},{"$f":"IF(truncate!V4:JQ12 < 0, 0, IF(truncate!V4:JQ12 > 255, 255, truncate!V4:JQ12))","v":1},{"$f":"IF(truncate!W4:JR12 < 0, 0, IF(truncate!W4:JR12 > 255, 255, truncate!W4:JR12))","v":18},{"$f":"IF(truncate!X4:JS12 < 0, 0, IF(truncate!X4:JS12 > 255, 255, truncate!X4:JS12))","v":2},{"$f":"IF(truncate!Y4:JT12 < 0, 0, IF(truncate!Y4:JT12 > 255, 255, truncate!Y4:JT12))","v":9},{"$f":"IF(truncate!Z4:JU12 < 0, 0, IF(truncate!Z4:JU12 > 255, 255, truncate!Z4:JU12))","v":0},{"$f":"IF(truncate!AA4:JV12 < 0, 0, IF(truncate!AA4:JV12 > 255, 255, truncate!AA4:JV12))","v":0},{"$f":"IF(truncate!AB4:JW12 < 0, 0, IF(truncate!AB4:JW12 > 255, 255, truncate!AB4:JW12))","v":0},{"$f":"IF(truncate!AC4:JX12 < 0, 0, IF(truncate!AC4:JX12 > 255, 255, truncate!AC4:JX12))","v":7},{"$f":"IF(truncate!AD4:JY12 < 0, 0, IF(truncate!AD4:JY12 > 255, 255, truncate!AD4:JY12))","v":0},{"$f":"IF(truncate!AE4:JZ12 < 0, 0, IF(truncate!AE4:JZ12 > 255, 255, truncate!AE4:JZ12))","v":18},{"$f":"IF(truncate!AF4:KA12 < 0, 0, IF(truncate!AF4:KA12 > 255, 255, truncate!AF4:KA12))","v":0},{"$f":"IF(truncate!AG4:KB12 < 0, 0, IF(truncate!AG4:KB12 > 255, 255, truncate!AG4:KB12))","v":0},{"$f":"IF(truncate!AH4:KC12 < 0, 0, IF(truncate!AH4:KC12 > 255, 255, truncate!AH4:KC12))","v":5},{"$f":"IF(truncate!AI4:KD12 < 0, 0, IF(truncate!AI4:KD12 > 255, 255, truncate!AI4:KD12))","v":0},{"$f":"IF(truncate!AJ4:KE12 < 0, 0, IF(truncate!AJ4:KE12 > 255, 255, truncate!AJ4:KE12))","v":10},{"$f":"IF(truncate!AK4:KF12 < 0, 0, IF(truncate!AK4:KF12 > 255, 255, truncate!AK4:KF12))","v":0},{"$f":"IF(truncate!AL4:KG12 < 0, 0, IF(truncate!AL4:KG12 > 255, 255, truncate!AL4:KG12))","v":13},{"$f":"IF(truncate!AM4:KH12 < 0, 0, IF(truncate!AM4:KH12 > 255, 255, truncate!AM4:KH12))","v":0},{"$f":"IF(truncate!AN4:KI12 < 0, 0, IF(truncate!AN4:KI12 > 255, 255, truncate!AN4:KI12))","v":0},{"$f":"IF(truncate!AO4:KJ12 < 0, 0, IF(truncate!AO4:KJ12 > 255, 255, truncate!AO4:KJ12))","v":0},{"$f":"IF(truncate!AP4:KK12 < 0, 0, IF(truncate!AP4:KK12 > 255, 255, truncate!AP4:KK12))","v":5},{"$f":"IF(truncate!AQ4:KL12 < 0, 0, IF(truncate!AQ4:KL12 > 255, 255, truncate!AQ4:KL12))","v":0},{"$f":"IF(truncate!AR4:KM12 < 0, 0, IF(truncate!AR4:KM12 > 255, 255, truncate!AR4:KM12))","v":7},{"$f":"IF(truncate!AS4:KN12 < 0, 0, IF(truncate!AS4:KN12 > 255, 255, truncate!AS4:KN12))","v":3},{"$f":"IF(truncate!AT4:KO12 < 0, 0, IF(truncate!AT4:KO12 > 255, 255, truncate!AT4:KO12))","v":0},{"$f":"IF(truncate!AU4:KP12 < 0, 0, IF(truncate!AU4:KP12 > 255, 255, truncate!AU4:KP12))","v":0},{"$f":"IF(truncate!AV4:KQ12 < 0, 0, IF(truncate!AV4:KQ12 > 255, 255, truncate!AV4:KQ12))","v":0},{"$f":"IF(truncate!AW4:KR12 < 0, 0, IF(truncate!AW4:KR12 > 255, 255, truncate!AW4:KR12))","v":15},{"$f":"IF(truncate!AX4:KS12 < 0, 0, IF(truncate!AX4:KS12 > 255, 255, truncate!AX4:KS12))","v":6},{"$f":"IF(truncate!AY4:KT12 < 0, 0, IF(truncate!AY4:KT12 > 255, 255, truncate!AY4:KT12))","v":2},{"$f":"IF(truncate!AZ4:KU12 < 0, 0, IF(truncate!AZ4:KU12 > 255, 255, truncate!AZ4:KU12))","v":5},{"$f":"IF(truncate!BA4:KV12 < 0, 0, IF(truncate!BA4:KV12 > 255, 255, truncate!BA4:KV12))","v":0},{"$f":"IF(truncate!BB4:KW12 < 0, 0, IF(truncate!BB4:KW12 > 255, 255, truncate!BB4:KW12))","v":0},{"$f":"IF(truncate!BC4:KX12 < 0, 0, IF(truncate!BC4:KX12 > 255, 255, truncate!BC4:KX12))","v":20},{"$f":"IF(truncate!BD4:KY12 < 0, 0, IF(truncate!BD4:KY12 > 255, 255, truncate!BD4:KY12))","v":0},{"$f":"IF(truncate!BE4:KZ12 < 0, 0, IF(truncate!BE4:KZ12 > 255, 255, truncate!BE4:KZ12))","v":0},{"$f":"IF(truncate!BF4:LA12 < 0, 0, IF(truncate!BF4:LA12 > 255, 255, truncate!BF4:LA12))","v":0},{"$f":"IF(truncate!BG4:LB12 < 0, 0, IF(truncate!BG4:LB12 > 255, 255, truncate!BG4:LB12))","v":10},{"$f":"IF(truncate!BH4:LC12 < 0, 0, IF(truncate!BH4:LC12 > 255, 255, truncate!BH4:LC12))","v":6},{"$f":"IF(truncate!BI4:LD12 < 0, 0, IF(truncate!BI4:LD12 > 255, 255, truncate!BI4:LD12))","v":8},{"$f":"IF(truncate!BJ4:LE12 < 0, 0, IF(truncate!BJ4:LE12 > 255, 255, truncate!BJ4:LE12))","v":0},{"$f":"IF(truncate!BK4:LF12 < 0, 0, IF(truncate!BK4:LF12 > 255, 255, truncate!BK4:LF12))","v":0},{"$f":"IF(truncate!BL4:LG12 < 0, 0, IF(truncate!BL4:LG12 > 255, 255, truncate!BL4:LG12))","v":9},{"$f":"IF(truncate!BM4:LH12 < 0, 0, IF(truncate!BM4:LH12 > 255, 255, truncate!BM4:LH12))","v":0},{"$f":"IF(truncate!BN4:LI12 < 0, 0, IF(truncate!BN4:LI12 > 255, 255, truncate!BN4:LI12))","v":0},{"$f":"IF(truncate!BO4:LJ12 < 0, 0, IF(truncate!BO4:LJ12 > 255, 255, truncate!BO4:LJ12))","v":4},{"$f":"IF(truncate!BP4:LK12 < 0, 0, IF(truncate!BP4:LK12 > 255, 255, truncate!BP4:LK12))","v":3},{"$f":"IF(truncate!BQ4:LL12 < 0, 0, IF(truncate!BQ4:LL12 > 255, 255, truncate!BQ4:LL12))","v":0},{"$f":"IF(truncate!BR4:LM12 < 0, 0, IF(truncate!BR4:LM12 > 255, 255, truncate!BR4:LM12))","v":8},{"$f":"IF(truncate!BS4:LN12 < 0, 0, IF(truncate!BS4:LN12 > 255, 255, truncate!BS4:LN12))","v":10},{"$f":"IF(truncate!BT4:LO12 < 0, 0, IF(truncate!BT4:LO12 > 255, 255, truncate!BT4:LO12))","v":0},{"$f":"IF(truncate!BU4:LP12 < 0, 0, IF(truncate!BU4:LP12 > 255, 255, truncate!BU4:LP12))","v":8},{"$f":"IF(truncate!BV4:LQ12 < 0, 0, IF(truncate!BV4:LQ12 > 255, 255, truncate!BV4:LQ12))","v":10},{"$f":"IF(truncate!BW4:LR12 < 0, 0, IF(truncate!BW4:LR12 > 255, 255, truncate!BW4:LR12))","v":13},{"$f":"IF(truncate!BX4:LS12 < 0, 0, IF(truncate!BX4:LS12 > 255, 255, truncate!BX4:LS12))","v":3},{"$f":"IF(truncate!BY4:LT12 < 0, 0, IF(truncate!BY4:LT12 > 255, 255, truncate!BY4:LT12))","v":0},{"$f":"IF(truncate!BZ4:LU12 < 0, 0, IF(truncate!BZ4:LU12 > 255, 255, truncate!BZ4:LU12))","v":10},{"$f":"IF(truncate!CA4:LV12 < 0, 0, IF(truncate!CA4:LV12 > 255, 255, truncate!CA4:LV12))","v":4},{"$f":"IF(truncate!CB4:LW12 < 0, 0, IF(truncate!CB4:LW12 > 255, 255, truncate!CB4:LW12))","v":0},{"$f":"IF(truncate!CC4:LX12 < 0, 0, IF(truncate!CC4:LX12 > 255, 255, truncate!CC4:LX12))","v":1},{"$f":"IF(truncate!CD4:LY12 < 0, 0, IF(truncate!CD4:LY12 > 255, 255, truncate!CD4:LY12))","v":0},{"$f":"IF(truncate!CE4:LZ12 < 0, 0, IF(truncate!CE4:LZ12 > 255, 255, truncate!CE4:LZ12))","v":0},{"$f":"IF(truncate!CF4:MA12 < 0, 0, IF(truncate!CF4:MA12 > 255, 255, truncate!CF4:MA12))","v":16},{"$f":"IF(truncate!CG4:MB12 < 0, 0, IF(truncate!CG4:MB12 > 255, 255, truncate!CG4:MB12))","v":13},{"$f":"IF(truncate!CH4:MC12 < 0, 0, IF(truncate!CH4:MC12 > 255, 255, truncate!CH4:MC12))","v":0},{"$f":"IF(truncate!CI4:MD12 < 0, 0, IF(truncate!CI4:MD12 > 255, 255, truncate!CI4:MD12))","v":11},{"$f":"IF(truncate!CJ4:ME12 < 0, 0, IF(truncate!CJ4:ME12 > 255, 255, truncate!CJ4:ME12))","v":6},{"$f":"IF(truncate!CK4:MF12 < 0, 0, IF(truncate!CK4:MF12 > 255, 255, truncate!CK4:MF12))","v":8},{"$f":"IF(truncate!CL4:MG12 < 0, 0, IF(truncate!CL4:MG12 > 255, 255, truncate!CL4:MG12))","v":6},{"$f":"IF(truncate!CM4:MH12 < 0, 0, IF(truncate!CM4:MH12 > 255, 255, truncate!CM4:MH12))","v":0},{"$f":"IF(truncate!CN4:MI12 < 0, 0, IF(truncate!CN4:MI12 > 255, 255, truncate!CN4:MI12))","v":10},{"$f":"IF(truncate!CO4:MJ12 < 0, 0, IF(truncate!CO4:MJ12 > 255, 255, truncate!CO4:MJ12))","v":2},{"$f":"IF(truncate!CP4:MK12 < 0, 0, IF(truncate!CP4:MK12 > 255, 255, truncate!CP4:MK12))","v":0},{"$f":"IF(truncate!CQ4:ML12 < 0, 0, IF(truncate!CQ4:ML12 > 255, 255, truncate!CQ4:ML12))","v":3},{"$f":"IF(truncate!CR4:MM12 < 0, 0, IF(truncate!CR4:MM12 > 255, 255, truncate!CR4:MM12))","v":10},{"$f":"IF(truncate!CS4:MN12 < 0, 0, IF(truncate!CS4:MN12 > 255, 255, truncate!CS4:MN12))","v":1},{"$f":"IF(truncate!CT4:MO12 < 0, 0, IF(truncate!CT4:MO12 > 255, 255, truncate!CT4:MO12))","v":8},{"$f":"IF(truncate!CU4:MP12 < 0, 0, IF(truncate!CU4:MP12 > 255, 255, truncate!CU4:MP12))","v":0},{"$f":"IF(truncate!CV4:MQ12 < 0, 0, IF(truncate!CV4:MQ12 > 255, 255, truncate!CV4:MQ12))","v":5},{"$f":"IF(truncate!CW4:MR12 < 0, 0, IF(truncate!CW4:MR12 > 255, 255, truncate!CW4:MR12))","v":0},{"$f":"IF(truncate!CX4:MS12 < 0, 0, IF(truncate!CX4:MS12 > 255, 255, truncate!CX4:MS12))","v":15},{"$f":"IF(truncate!CY4:MT12 < 0, 0, IF(truncate!CY4:MT12 > 255, 255, truncate!CY4:MT12))","v":0},{"$f":"IF(truncate!CZ4:MU12 < 0, 0, IF(truncate!CZ4:MU12 > 255, 255, truncate!CZ4:MU12))","v":0},{"$f":"IF(truncate!DA4:MV12 < 0, 0, IF(truncate!DA4:MV12 > 255, 255, truncate!DA4:MV12))","v":8},{"$f":"IF(truncate!DB4:MW12 < 0, 0, IF(truncate!DB4:MW12 > 255, 255, truncate!DB4:MW12))","v":4},{"$f":"IF(truncate!DC4:MX12 < 0, 0, IF(truncate!DC4:MX12 > 255, 255, truncate!DC4:MX12))","v":0},{"$f":"IF(truncate!DD4:MY12 < 0, 0, IF(truncate!DD4:MY12 > 255, 255, truncate!DD4:MY12))","v":4},{"$f":"IF(truncate!DE4:MZ12 < 0, 0, IF(truncate!DE4:MZ12 > 255, 255, truncate!DE4:MZ12))","v":8},{"$f":"IF(truncate!DF4:NA12 < 0, 0, IF(truncate!DF4:NA12 > 255, 255, truncate!DF4:NA12))","v":0},{"$f":"IF(truncate!DG4:NB12 < 0, 0, IF(truncate!DG4:NB12 > 255, 255, truncate!DG4:NB12))","v":0},{"$f":"IF(truncate!DH4:NC12 < 0, 0, IF(truncate!DH4:NC12 > 255, 255, truncate!DH4:NC12))","v":5},{"$f":"IF(truncate!DI4:ND12 < 0, 0, IF(truncate!DI4:ND12 > 255, 255, truncate!DI4:ND12))","v":0},{"$f":"IF(truncate!DJ4:NE12 < 0, 0, IF(truncate!DJ4:NE12 > 255, 255, truncate!DJ4:NE12))","v":0},{"$f":"IF(truncate!DK4:NF12 < 0, 0, IF(truncate!DK4:NF12 > 255, 255, truncate!DK4:NF12))","v":0},{"$f":"IF(truncate!DL4:NG12 < 0, 0, IF(truncate!DL4:NG12 > 255, 255, truncate!DL4:NG12))","v":10},{"$f":"IF(truncate!DM4:NH12 < 0, 0, IF(truncate!DM4:NH12 > 255, 255, truncate!DM4:NH12))","v":0},{"$f":"IF(truncate!DN4:NI12 < 0, 0, IF(truncate!DN4:NI12 > 255, 255, truncate!DN4:NI12))","v":12},{"$f":"IF(truncate!DO4:NJ12 < 0, 0, IF(truncate!DO4:NJ12 > 255, 255, truncate!DO4:NJ12))","v":0},{"$f":"IF(truncate!DP4:NK12 < 0, 0, IF(truncate!DP4:NK12 > 255, 255, truncate!DP4:NK12))","v":12},{"$f":"IF(truncate!DQ4:NL12 < 0, 0, IF(truncate!DQ4:NL12 > 255, 255, truncate!DQ4:NL12))","v":0},{"$f":"IF(truncate!DR4:NM12 < 0, 0, IF(truncate!DR4:NM12 > 255, 255, truncate!DR4:NM12))","v":0},{"$f":"IF(truncate!DS4:NN12 < 0, 0, IF(truncate!DS4:NN12 > 255, 255, truncate!DS4:NN12))","v":0},{"$f":"IF(truncate!DT4:NO12 < 0, 0, IF(truncate!DT4:NO12 > 255, 255, truncate!DT4:NO12))","v":8},{"$f":"IF(truncate!DU4:NP12 < 0, 0, IF(truncate!DU4:NP12 > 255, 255, truncate!DU4:NP12))","v":12},{"$f":"IF(truncate!DV4:NQ12 < 0, 0, IF(truncate!DV4:NQ12 > 255, 255, truncate!DV4:NQ12))","v":6},{"$f":"IF(truncate!DW4:NR12 < 0, 0, IF(truncate!DW4:NR12 > 255, 255, truncate!DW4:NR12))","v":0},{"$f":"IF(truncate!DX4:NS12 < 0, 0, IF(truncate!DX4:NS12 > 255, 255, truncate!DX4:NS12))","v":0},{"$f":"IF(truncate!DY4:NT12 < 0, 0, IF(truncate!DY4:NT12 > 255, 255, truncate!DY4:NT12))","v":0},{"$f":"IF(truncate!DZ4:NU12 < 0, 0, IF(truncate!DZ4:NU12 > 255, 255, truncate!DZ4:NU12))","v":4},{"$f":"IF(truncate!EA4:NV12 < 0, 0, IF(truncate!EA4:NV12 > 255, 255, truncate!EA4:NV12))","v":0},{"$f":"IF(truncate!EB4:NW12 < 0, 0, IF(truncate!EB4:NW12 > 255, 255, truncate!EB4:NW12))","v":0},{"$f":"IF(truncate!EC4:NX12 < 0, 0, IF(truncate!EC4:NX12 > 255, 255, truncate!EC4:NX12))","v":0},{"$f":"IF(truncate!ED4:NY12 < 0, 0, IF(truncate!ED4:NY12 > 255, 255, truncate!ED4:NY12))","v":0},{"$f":"IF(truncate!EE4:NZ12 < 0, 0, IF(truncate!EE4:NZ12 > 255, 255, truncate!EE4:NZ12))","v":0},{"$f":"IF(truncate!EF4:OA12 < 0, 0, IF(truncate!EF4:OA12 > 255, 255, truncate!EF4:OA12))","v":0},{"$f":"IF(truncate!EG4:OB12 < 0, 0, IF(truncate!EG4:OB12 > 255, 255, truncate!EG4:OB12))","v":8},{"$f":"IF(truncate!EH4:OC12 < 0, 0, IF(truncate!EH4:OC12 > 255, 255, truncate!EH4:OC12))","v":0},{"$f":"IF(truncate!EI4:OD12 < 0, 0, IF(truncate!EI4:OD12 > 255, 255, truncate!EI4:OD12))","v":0},{"$f":"IF(truncate!EJ4:OE12 < 0, 0, IF(truncate!EJ4:OE12 > 255, 255, truncate!EJ4:OE12))","v":26},{"$f":"IF(truncate!EK4:OF12 < 0, 0, IF(truncate!EK4:OF12 > 255, 255, truncate!EK4:OF12))","v":1},{"$f":"IF(truncate!EL4:OG12 < 0, 0, IF(truncate!EL4:OG12 > 255, 255, truncate!EL4:OG12))","v":3},{"$f":"IF(truncate!EM4:OH12 < 0, 0, IF(truncate!EM4:OH12 > 255, 255, truncate!EM4:OH12))","v":0},{"$f":"IF(truncate!EN4:OI12 < 0, 0, IF(truncate!EN4:OI12 > 255, 255, truncate!EN4:OI12))","v":0},{"$f":"IF(truncate!EO4:OJ12 < 0, 0, IF(truncate!EO4:OJ12 > 255, 255, truncate!EO4:OJ12))","v":4},{"$f":"IF(truncate!EP4:OK12 < 0, 0, IF(truncate!EP4:OK12 > 255, 255, truncate!EP4:OK12))","v":0},{"$f":"IF(truncate!EQ4:OL12 < 0, 0, IF(truncate!EQ4:OL12 > 255, 255, truncate!EQ4:OL12))","v":0},{"$f":"IF(truncate!ER4:OM12 < 0, 0, IF(truncate!ER4:OM12 > 255, 255, truncate!ER4:OM12))","v":1},{"$f":"IF(truncate!ES4:ON12 < 0, 0, IF(truncate!ES4:ON12 > 255, 255, truncate!ES4:ON12))","v":0},{"$f":"IF(truncate!ET4:OO12 < 0, 0, IF(truncate!ET4:OO12 > 255, 255, truncate!ET4:OO12))","v":4},{"$f":"IF(truncate!EU4:OP12 < 0, 0, IF(truncate!EU4:OP12 > 255, 255, truncate!EU4:OP12))","v":0},{"$f":"IF(truncate!EV4:OQ12 < 0, 0, IF(truncate!EV4:OQ12 > 255, 255, truncate!EV4:OQ12))","v":0},{"$f":"IF(truncate!EW4:OR12 < 0, 0, IF(truncate!EW4:OR12 > 255, 255, truncate!EW4:OR12))","v":11},{"$f":"IF(truncate!EX4:OS12 < 0, 0, IF(truncate!EX4:OS12 > 255, 255, truncate!EX4:OS12))","v":0},{"$f":"IF(truncate!EY4:OT12 < 0, 0, IF(truncate!EY4:OT12 > 255, 255, truncate!EY4:OT12))","v":11},{"$f":"IF(truncate!EZ4:OU12 < 0, 0, IF(truncate!EZ4:OU12 > 255, 255, truncate!EZ4:OU12))","v":5},{"$f":"IF(truncate!FA4:OV12 < 0, 0, IF(truncate!FA4:OV12 > 255, 255, truncate!FA4:OV12))","v":10},{"$f":"IF(truncate!FB4:OW12 < 0, 0, IF(truncate!FB4:OW12 > 255, 255, truncate!FB4:OW12))","v":13},{"$f":"IF(truncate!FC4:OX12 < 0, 0, IF(truncate!FC4:OX12 > 255, 255, truncate!FC4:OX12))","v":0},{"$f":"IF(truncate!FD4:OY12 < 0, 0, IF(truncate!FD4:OY12 > 255, 255, truncate!FD4:OY12))","v":8},{"$f":"IF(truncate!FE4:OZ12 < 0, 0, IF(truncate!FE4:OZ12 > 255, 255, truncate!FE4:OZ12))","v":1},{"$f":"IF(truncate!FF4:PA12 < 0, 0, IF(truncate!FF4:PA12 > 255, 255, truncate!FF4:PA12))","v":0},{"$f":"IF(truncate!FG4:PB12 < 0, 0, IF(truncate!FG4:PB12 > 255, 255, truncate!FG4:PB12))","v":1},{"$f":"IF(truncate!FH4:PC12 < 0, 0, IF(truncate!FH4:PC12 > 255, 255, truncate!FH4:PC12))","v":12},{"$f":"IF(truncate!FI4:PD12 < 0, 0, IF(truncate!FI4:PD12 > 255, 255, truncate!FI4:PD12))","v":0},{"$f":"IF(truncate!FJ4:PE12 < 0, 0, IF(truncate!FJ4:PE12 > 255, 255, truncate!FJ4:PE12))","v":0},{"$f":"IF(truncate!FK4:PF12 < 0, 0, IF(truncate!FK4:PF12 > 255, 255, truncate!FK4:PF12))","v":6},{"$f":"IF(truncate!FL4:PG12 < 0, 0, IF(truncate!FL4:PG12 > 255, 255, truncate!FL4:PG12))","v":15},{"$f":"IF(truncate!FM4:PH12 < 0, 0, IF(truncate!FM4:PH12 > 255, 255, truncate!FM4:PH12))","v":0},{"$f":"IF(truncate!FN4:PI12 < 0, 0, IF(truncate!FN4:PI12 > 255, 255, truncate!FN4:PI12))","v":0},{"$f":"IF(truncate!FO4:PJ12 < 0, 0, IF(truncate!FO4:PJ12 > 255, 255, truncate!FO4:PJ12))","v":0},{"$f":"IF(truncate!FP4:PK12 < 0, 0, IF(truncate!FP4:PK12 > 255, 255, truncate!FP4:PK12))","v":15},{"$f":"IF(truncate!FQ4:PL12 < 0, 0, IF(truncate!FQ4:PL12 > 255, 255, truncate!FQ4:PL12))","v":0},{"$f":"IF(truncate!FR4:PM12 < 0, 0, IF(truncate!FR4:PM12 > 255, 255, truncate!FR4:PM12))","v":3},{"$f":"IF(truncate!FS4:PN12 < 0, 0, IF(truncate!FS4:PN12 > 255, 255, truncate!FS4:PN12))","v":0},{"$f":"IF(truncate!FT4:PO12 < 0, 0, IF(truncate!FT4:PO12 > 255, 255, truncate!FT4:PO12))","v":6},{"$f":"IF(truncate!FU4:PP12 < 0, 0, IF(truncate!FU4:PP12 > 255, 255, truncate!FU4:PP12))","v":0},{"$f":"IF(truncate!FV4:PQ12 < 0, 0, IF(truncate!FV4:PQ12 > 255, 255, truncate!FV4:PQ12))","v":0},{"$f":"IF(truncate!FW4:PR12 < 0, 0, IF(truncate!FW4:PR12 > 255, 255, truncate!FW4:PR12))","v":0},{"$f":"IF(truncate!FX4:PS12 < 0, 0, IF(truncate!FX4:PS12 > 255, 255, truncate!FX4:PS12))","v":6},{"$f":"IF(truncate!FY4:PT12 < 0, 0, IF(truncate!FY4:PT12 > 255, 255, truncate!FY4:PT12))","v":0},{"$f":"IF(truncate!FZ4:PU12 < 0, 0, IF(truncate!FZ4:PU12 > 255, 255, truncate!FZ4:PU12))","v":0},{"$f":"IF(truncate!GA4:PV12 < 0, 0, IF(truncate!GA4:PV12 > 255, 255, truncate!GA4:PV12))","v":0},{"$f":"IF(truncate!GB4:PW12 < 0, 0, IF(truncate!GB4:PW12 > 255, 255, truncate!GB4:PW12))","v":0},{"$f":"IF(truncate!GC4:PX12 < 0, 0, IF(truncate!GC4:PX12 > 255, 255, truncate!GC4:PX12))","v":0},{"$f":"IF(truncate!GD4:PY12 < 0, 0, IF(truncate!GD4:PY12 > 255, 255, truncate!GD4:PY12))","v":0},{"$f":"IF(truncate!GE4:PZ12 < 0, 0, IF(truncate!GE4:PZ12 > 255, 255, truncate!GE4:PZ12))","v":6},{"$f":"IF(truncate!GF4:QA12 < 0, 0, IF(truncate!GF4:QA12 > 255, 255, truncate!GF4:QA12))","v":0},{"$f":"IF(truncate!GG4:QB12 < 0, 0, IF(truncate!GG4:QB12 > 255, 255, truncate!GG4:QB12))","v":0},{"$f":"IF(truncate!GH4:QC12 < 0, 0, IF(truncate!GH4:QC12 > 255, 255, truncate!GH4:QC12))","v":0},{"$f":"IF(truncate!GI4:QD12 < 0, 0, IF(truncate!GI4:QD12 > 255, 255, truncate!GI4:QD12))","v":2},{"$f":"IF(truncate!GJ4:QE12 < 0, 0, IF(truncate!GJ4:QE12 > 255, 255, truncate!GJ4:QE12))","v":5},{"$f":"IF(truncate!GK4:QF12 < 0, 0, IF(truncate!GK4:QF12 > 255, 255, truncate!GK4:QF12))","v":4},{"$f":"IF(truncate!GL4:QG12 < 0, 0, IF(truncate!GL4:QG12 > 255, 255, truncate!GL4:QG12))","v":0},{"$f":"IF(truncate!GM4:QH12 < 0, 0, IF(truncate!GM4:QH12 > 255, 255, truncate!GM4:QH12))","v":0},{"$f":"IF(truncate!GN4:QI12 < 0, 0, IF(truncate!GN4:QI12 > 255, 255, truncate!GN4:QI12))","v":0},{"$f":"IF(truncate!GO4:QJ12 < 0, 0, IF(truncate!GO4:QJ12 > 255, 255, truncate!GO4:QJ12))","v":0},{"$f":"IF(truncate!GP4:QK12 < 0, 0, IF(truncate!GP4:QK12 > 255, 255, truncate!GP4:QK12))","v":0},{"$f":"IF(truncate!GQ4:QL12 < 0, 0, IF(truncate!GQ4:QL12 > 255, 255, truncate!GQ4:QL12))","v":1},{"$f":"IF(truncate!GR4:QM12 < 0, 0, IF(truncate!GR4:QM12 > 255, 255, truncate!GR4:QM12))","v":0},{"$f":"IF(truncate!GS4:QN12 < 0, 0, IF(truncate!GS4:QN12 > 255, 255, truncate!GS4:QN12))","v":0},{"$f":"IF(truncate!GT4:QO12 < 0, 0, IF(truncate!GT4:QO12 > 255, 255, truncate!GT4:QO12))","v":1},{"$f":"IF(truncate!GU4:QP12 < 0, 0, IF(truncate!GU4:QP12 > 255, 255, truncate!GU4:QP12))","v":1},{"$f":"IF(truncate!GV4:QQ12 < 0, 0, IF(truncate!GV4:QQ12 > 255, 255, truncate!GV4:QQ12))","v":4},{"$f":"IF(truncate!GW4:QR12 < 0, 0, IF(truncate!GW4:QR12 > 255, 255, truncate!GW4:QR12))","v":0},{"$f":"IF(truncate!GX4:QS12 < 0, 0, IF(truncate!GX4:QS12 > 255, 255, truncate!GX4:QS12))","v":0},{"$f":"IF(truncate!GY4:QT12 < 0, 0, IF(truncate!GY4:QT12 > 255, 255, truncate!GY4:QT12))","v":6},{"$f":"IF(truncate!GZ4:QU12 < 0, 0, IF(truncate!GZ4:QU12 > 255, 255, truncate!GZ4:QU12))","v":3},{"$f":"IF(truncate!HA4:QV12 < 0, 0, IF(truncate!HA4:QV12 > 255, 255, truncate!HA4:QV12))","v":11},{"$f":"IF(truncate!HB4:QW12 < 0, 0, IF(truncate!HB4:QW12 > 255, 255, truncate!HB4:QW12))","v":0},{"$f":"IF(truncate!HC4:QX12 < 0, 0, IF(truncate!HC4:QX12 > 255, 255, truncate!HC4:QX12))","v":6},{"$f":"IF(truncate!HD4:QY12 < 0, 0, IF(truncate!HD4:QY12 > 255, 255, truncate!HD4:QY12))","v":16},{"$f":"IF(truncate!HE4:QZ12 < 0, 0, IF(truncate!HE4:QZ12 > 255, 255, truncate!HE4:QZ12))","v":0},{"$f":"IF(truncate!HF4:RA12 < 0, 0, IF(truncate!HF4:RA12 > 255, 255, truncate!HF4:RA12))","v":11},{"$f":"IF(truncate!HG4:RB12 < 0, 0, IF(truncate!HG4:RB12 > 255, 255, truncate!HG4:RB12))","v":5},{"$f":"IF(truncate!HH4:RC12 < 0, 0, IF(truncate!HH4:RC12 > 255, 255, truncate!HH4:RC12))","v":7},{"$f":"IF(truncate!HI4:RD12 < 0, 0, IF(truncate!HI4:RD12 > 255, 255, truncate!HI4:RD12))","v":2},{"$f":"IF(truncate!HJ4:RE12 < 0, 0, IF(truncate!HJ4:RE12 > 255, 255, truncate!HJ4:RE12))","v":12},{"$f":"IF(truncate!HK4:RF12 < 0, 0, IF(truncate!HK4:RF12 > 255, 255, truncate!HK4:RF12))","v":0},{"$f":"IF(truncate!HL4:RG12 < 0, 0, IF(truncate!HL4:RG12 > 255, 255, truncate!HL4:RG12))","v":1},{"$f":"IF(truncate!HM4:RH12 < 0, 0, IF(truncate!HM4:RH12 > 255, 255, truncate!HM4:RH12))","v":0},{"$f":"IF(truncate!HN4:RI12 < 0, 0, IF(truncate!HN4:RI12 > 255, 255, truncate!HN4:RI12))","v":0},{"$f":"IF(truncate!HO4:RJ12 < 0, 0, IF(truncate!HO4:RJ12 > 255, 255, truncate!HO4:RJ12))","v":0},{"$f":"IF(truncate!HP4:RK12 < 0, 0, IF(truncate!HP4:RK12 > 255, 255, truncate!HP4:RK12))","v":0},{"$f":"IF(truncate!HQ4:RL12 < 0, 0, IF(truncate!HQ4:RL12 > 255, 255, truncate!HQ4:RL12))","v":12},{"$f":"IF(truncate!HR4:RM12 < 0, 0, IF(truncate!HR4:RM12 > 255, 255, truncate!HR4:RM12))","v":0},{"$f":"IF(truncate!HS4:RN12 < 0, 0, IF(truncate!HS4:RN12 > 255, 255, truncate!HS4:RN12))","v":0},{"$f":"IF(truncate!HT4:RO12 < 0, 0, IF(truncate!HT4:RO12 > 255, 255, truncate!HT4:RO12))","v":0},{"$f":"IF(truncate!HU4:RP12 < 0, 0, IF(truncate!HU4:RP12 > 255, 255, truncate!HU4:RP12))","v":11},{"$f":"IF(truncate!HV4:RQ12 < 0, 0, IF(truncate!HV4:RQ12 > 255, 255, truncate!HV4:RQ12))","v":7},{"$f":"IF(truncate!HW4:RR12 < 0, 0, IF(truncate!HW4:RR12 > 255, 255, truncate!HW4:RR12))","v":2},{"$f":"IF(truncate!HX4:RS12 < 0, 0, IF(truncate!HX4:RS12 > 255, 255, truncate!HX4:RS12))","v":0},{"$f":"IF(truncate!HY4:RT12 < 0, 0, IF(truncate!HY4:RT12 > 255, 255, truncate!HY4:RT12))","v":0},{"$f":"IF(truncate!HZ4:RU12 < 0, 0, IF(truncate!HZ4:RU12 > 255, 255, truncate!HZ4:RU12))","v":9},{"$f":"IF(truncate!IA4:RV12 < 0, 0, IF(truncate!IA4:RV12 > 255, 255, truncate!IA4:RV12))","v":0},{"$f":"IF(truncate!IB4:RW12 < 0, 0, IF(truncate!IB4:RW12 > 255, 255, truncate!IB4:RW12))","v":5},{"$f":"IF(truncate!IC4:RX12 < 0, 0, IF(truncate!IC4:RX12 > 255, 255, truncate!IC4:RX12))","v":3},{"$f":"IF(truncate!ID4:RY12 < 0, 0, IF(truncate!ID4:RY12 > 255, 255, truncate!ID4:RY12))","v":4},{"$f":"IF(truncate!IE4:RZ12 < 0, 0, IF(truncate!IE4:RZ12 > 255, 255, truncate!IE4:RZ12))","v":1},{"$f":"IF(truncate!IF4:SA12 < 0, 0, IF(truncate!IF4:SA12 > 255, 255, truncate!IF4:SA12))","v":0},{"$f":"IF(truncate!IG4:SB12 < 0, 0, IF(truncate!IG4:SB12 > 255, 255, truncate!IG4:SB12))","v":0},{"$f":"IF(truncate!IH4:SC12 < 0, 0, IF(truncate!IH4:SC12 > 255, 255, truncate!IH4:SC12))","v":3},{"$f":"IF(truncate!II4:SD12 < 0, 0, IF(truncate!II4:SD12 > 255, 255, truncate!II4:SD12))","v":0},{"$f":"IF(truncate!IJ4:SE12 < 0, 0, IF(truncate!IJ4:SE12 > 255, 255, truncate!IJ4:SE12))","v":0},{"$f":"IF(truncate!IK4:SF12 < 0, 0, IF(truncate!IK4:SF12 > 255, 255, truncate!IK4:SF12))","v":0},{"$f":"IF(truncate!IL4:SG12 < 0, 0, IF(truncate!IL4:SG12 > 255, 255, truncate!IL4:SG12))","v":18},{"$f":"IF(truncate!IM4:SH12 < 0, 0, IF(truncate!IM4:SH12 > 255, 255, truncate!IM4:SH12))","v":11},{"$f":"IF(truncate!IN4:SI12 < 0, 0, IF(truncate!IN4:SI12 > 255, 255, truncate!IN4:SI12))","v":1},{"$f":"IF(truncate!IO4:SJ12 < 0, 0, IF(truncate!IO4:SJ12 > 255, 255, truncate!IO4:SJ12))","v":0},{"$f":"IF(truncate!IP4:SK12 < 0, 0, IF(truncate!IP4:SK12 > 255, 255, truncate!IP4:SK12))","v":6},{"$f":"IF(truncate!IQ4:SL12 < 0, 0, IF(truncate!IQ4:SL12 > 255, 255, truncate!IQ4:SL12))","v":4},{"$f":"IF(truncate!IR4:SM12 < 0, 0, IF(truncate!IR4:SM12 > 255, 255, truncate!IR4:SM12))","v":15},{"$f":"IF(truncate!IS4:SN12 < 0, 0, IF(truncate!IS4:SN12 > 255, 255, truncate!IS4:SN12))","v":4},{"$f":"IF(truncate!IT4:SO12 < 0, 0, IF(truncate!IT4:SO12 > 255, 255, truncate!IT4:SO12))","v":0},{"$f":"IF(truncate!IU4:SP12 < 0, 0, IF(truncate!IU4:SP12 > 255, 255, truncate!IU4:SP12))","v":4},{"$f":"IF(truncate!IV4:SQ12 < 0, 0, IF(truncate!IV4:SQ12 > 255, 255, truncate!IV4:SQ12))","v":5}]
[{"$f":"IF(truncate!A5:IV13 < 0, 0, IF(truncate!A5:IV13 > 255, 255, truncate!A5:IV13))","v":19},{"$f":"IF(truncate!B5:IW13 < 0, 0, IF(truncate!B5:IW13 > 255, 255, truncate!B5:IW13))","v":12},{"$f":"IF(truncate!C5:IX13 < 0, 0, IF(truncate!C5:IX13 > 255, 255, truncate!C5:IX13))","v":8},{"$f":"IF(truncate!D5:IY13 < 0, 0, IF(truncate!D5:IY13 > 255, 255, truncate!D5:IY13))","v":3},{"$f":"IF(truncate!E5:IZ13 < 0, 0, IF(truncate!E5:IZ13 > 255, 255, truncate!E5:IZ13))","v":10},{"$f":"IF(truncate!F5:JA13 < 0, 0, IF(truncate!F5:JA13 > 255, 255, truncate!F5:JA13))","v":0},{"$f":"IF(truncate!G5:JB13 < 0, 0, IF(truncate!G5:JB13 > 255, 255, truncate!G5:JB13))","v":20},{"$f":"IF(truncate!H5:JC13 < 0, 0, IF(truncate!H5:JC13 > 255, 255, truncate!H5:JC13))","v":0},{"$f":"IF(truncate!I5:JD13 < 0, 0, IF(truncate!I5:JD13 > 255, 255, truncate!I5:JD13))","v":13},{"$f":"IF(truncate!J5:JE13 < 0, 0, IF(truncate!J5:JE13 > 255, 255, truncate!J5:JE13))","v":3},{"$f":"IF(truncate!K5:JF13 < 0, 0, IF(truncate!K5:JF13 > 255, 255, truncate!K5:JF13))","v":0},{"$f":"IF(truncate!L5:JG13 < 0, 0, IF(truncate!L5:JG13 > 255, 255, truncate!L5:JG13))","v":3},{"$f":"IF(truncate!M5:JH13 < 0, 0, IF(truncate!M5:JH13 > 255, 255, truncate!M5:JH13))","v":0},{"$f":"IF(truncate!N5:JI13 < 0, 0, IF(truncate!N5:JI13 > 255, 255, truncate!N5:JI13))","v":0},{"$f":"IF(truncate!O5:JJ13 < 0, 0, IF(truncate!O5:JJ13 > 255, 255, truncate!O5:JJ13))","v":12},{"$f":"IF(truncate!P5:JK13 < 0, 0, IF(truncate!P5:JK13 > 255, 255, truncate!P5:JK13))","v":7},{"$f":"IF(truncate!Q5:JL13 < 0, 0, IF(truncate!Q5:JL13 > 255, 255, truncate!Q5:JL13))","v":0},{"$f":"IF(truncate!R5:JM13 < 0, 0, IF(truncate!R5:JM13 > 255, 255, truncate!R5:JM13))","v":0},{"$f":"IF(truncate!S5:JN13 < 0, 0, IF(truncate!S5:JN13 > 255, 255, truncate!S5:JN13))","v":3},{"$f":"IF(truncate!T5:JO13 < 0, 0, IF(truncate!T5:JO13 > 255, 255, truncate!T5:JO13))","v":8},{"$f":"IF(truncate!U5:JP13 < 0, 0, IF(truncate!U5:JP13 > 255, 255, truncate!U5:JP13))","v":15},{"$f":"IF(truncate!V5:JQ13 < 0, 0, IF(truncate!V5:JQ13 > 255, 255, truncate!V5:JQ13))","v":8},{"$f":"IF(truncate!W5:JR13 < 0, 0, IF(truncate!W5:JR13 > 255, 255, truncate!W5:JR13))","v":0},{"$f":"IF(truncate!X5:JS13 < 0, 0, IF(truncate!X5:JS13 > 255, 255, truncate!X5:JS13))","v":7},{"$f":"IF(truncate!Y5:JT13 < 0, 0, IF(truncate!Y5:JT13 > 255, 255, truncate!Y5:JT13))","v":8},{"$f":"IF(truncate!Z5:JU13 < 0, 0, IF(truncate!Z5:JU13 > 255, 255, truncate!Z5:JU13))","v":0},{"$f":"IF(truncate!AA5:JV13 < 0, 0, IF(truncate!AA5:JV13 > 255, 255, truncate!AA5:JV13))","v":1},{"$f":"IF(truncate!AB5:JW13 < 0, 0, IF(truncate!AB5:JW13 > 255, 255, truncate!AB5:JW13))","v":2},{"$f":"IF(truncate!AC5:JX13 < 0, 0, IF(truncate!AC5:JX13 > 255, 255, truncate!AC5:JX13))","v":8},{"$f":"IF(truncate!AD5:JY13 < 0, 0, IF(truncate!AD5:JY13 > 255, 255, truncate!AD5:JY13))","v":0},{"$f":"IF(truncate!AE5:JZ13 < 0, 0, IF(truncate!AE5:JZ13 > 255, 255, truncate!AE5:JZ13))","v":24},{"$f":"IF(truncate!AF5:KA13 < 0, 0, IF(truncate!AF5:KA13 > 255, 255, truncate!AF5:KA13))","v":1},{"$f":"IF(truncate!AG5:KB13 < 0, 0, IF(truncate!AG5:KB13 > 255, 255, truncate!AG5:KB13))","v":3},{"$f":"IF(truncate!AH5:KC13 < 0, 0, IF(truncate!AH5:KC13 > 255, 255, truncate!AH5:KC13))","v":1},{"$f":"IF(truncate!AI5:KD13 < 0, 0, IF(truncate!AI5:KD13 > 255, 255, truncate!AI5:KD13))","v":4},{"$f":"IF(truncate!AJ5:KE13 < 0, 0, IF(truncate!AJ5:KE13 > 255, 255, truncate!AJ5:KE13))","v":7},{"$f":"IF(truncate!AK5:KF13 < 0, 0, IF(truncate!AK5:KF13 > 255, 255, truncate!AK5:KF13))","v":0},{"$f":"IF(truncate!AL5:KG13 < 0, 0, IF(truncate!AL5:KG13 > 255, 255, truncate!AL5:KG13))","v":5},{"$f":"IF(truncate!AM5:KH13 < 0, 0, IF(truncate!AM5:KH13 > 255, 255, truncate!AM5:KH13))","v":0},{"$f":"IF(truncate!AN5:KI13 < 0, 0, IF(truncate!AN5:KI13 > 255, 255, truncate!AN5:KI13))","v":0},{"$f":"IF(truncate!AO5:KJ13 < 0, 0, IF(truncate!AO5:KJ13 > 255, 255, truncate!AO5:KJ13))","v":0},{"$f":"IF(truncate!AP5:KK13 < 0, 0, IF(truncate!AP5:KK13 > 255, 255, truncate!AP5:KK13))","v":5},{"$f":"IF(truncate!AQ5:KL13 < 0, 0, IF(truncate!AQ5:KL13 > 255, 255, truncate!AQ5:KL13))","v":0},{"$f":"IF(truncate!AR5:KM13 < 0, 0, IF(truncate!AR5:KM13 > 255, 255, truncate!AR5:KM13))","v":0},{"$f":"IF(truncate!AS5:KN13 < 0, 0, IF(truncate!AS5:KN13 > 255, 255, truncate!AS5:KN13))","v":0},{"$f":"IF(truncate!AT5:KO13 < 0, 0, IF(truncate!AT5:KO13 > 255, 255, truncate!AT5:KO13))","v":0},{"$f":"IF(truncate!AU5:KP13 < 0, 0, IF(truncate!AU5:KP13 > 255, 255, truncate!AU5:KP13))","v":0},{"$f":"IF(truncate!AV5:KQ13 < 0, 0, IF(truncate!AV5:KQ13 > 255, 255, truncate!AV5:KQ13))","v":0},{"$f":"IF(truncate!AW5:KR13 < 0, 0, IF(truncate!AW5:KR13 > 255, 255, truncate!AW5:KR13))","v":14},{"$f":"IF(truncate!AX5:KS13 < 0, 0, IF(truncate!AX5:KS13 > 255, 255, truncate!AX5:KS13))","v":0},{"$f":"IF(truncate!AY5:KT13 < 0, 0, IF(truncate!AY5:KT13 > 255, 255, truncate!AY5:KT13))","v":5},{"$f":"IF(truncate!AZ5:KU13 < 0, 0, IF(truncate!AZ5:KU13 > 255, 255, truncate!AZ5:KU13))","v":6},{"$f":"IF(truncate!BA5:KV13 < 0, 0, IF(truncate!BA5:KV13 > 255, 255, truncate!BA5:KV13))","v":0},{"$f":"IF(truncate!BB5:KW13 < 0, 0, IF(truncate!BB5:KW13 > 255, 255, truncate!BB5:KW13))","v":0},{"$f":"IF(truncate!BC5:KX13 < 0, 0, IF(truncate!BC5:KX13 > 255, 255, truncate!BC5:KX13))","v":14},{"$f":"IF(truncate!BD5:KY13 < 0, 0, IF(truncate!BD5:KY13 > 255, 255, truncate!BD5:KY13))","v":0},{"$f":"IF(truncate!BE5:KZ13 < 0, 0, IF(truncate!BE5:KZ13 > 255, 255, truncate!BE5:KZ13))","v":0},{"$f":"IF(truncate!BF5:LA13 < 0, 0, IF(truncate!BF5:LA13 > 255, 255, truncate!BF5:LA13))","v":0},{"$f":"IF(truncate!BG5:LB13 < 0, 0, IF(truncate!BG5:LB13 > 255, 255, truncate!BG5:LB13))","v":12},{"$f":"IF(truncate!BH5:LC13 < 0, 0, IF(truncate!BH5:LC13 > 255, 255, truncate!BH5:LC13))","v":14},{"$f":"IF(truncate!BI5:LD13 < 0, 0, IF(truncate!BI5:LD13 > 255, 255, truncate!BI5:LD13))","v":16},{"$f":"IF(truncate!BJ5:LE13 < 0, 0, IF(truncate!BJ5:LE13 > 255, 255, truncate!BJ5:LE13))","v":0},{"$f":"IF(truncate!BK5:LF13 < 0, 0, IF(truncate!BK5:LF13 > 255, 255, truncate!BK5:LF13))","v":0},{"$f":"IF(truncate!BL5:LG13 < 0, 0, IF(truncate!BL5:LG13 > 255, 255, truncate!BL5:LG13))","v":0},{"$f":"IF(truncate!BM5:LH13 < 0, 0, IF(truncate!BM5:LH13 > 255, 255, truncate!BM5:LH13))","v":0},{"$f":"IF(truncate!BN5:LI13 < 0, 0, IF(truncate!BN5:LI13 > 255, 255, truncate!BN5:LI13))","v":3},{"$f":"IF(truncate!BO5:LJ13 < 0, 0, IF(truncate!BO5:LJ13 > 255, 255, truncate!BO5:LJ13))","v":0},{"$f":"IF(truncate!BP5:LK13 < 0, 0, IF(truncate!BP5:LK13 > 255, 255, truncate!BP5:LK13))","v":0},{"$f":"IF(truncate!BQ5:LL13 < 0, 0, IF(truncate!BQ5:LL13 > 255, 255, truncate!BQ5:LL13))","v":0},{"$f":"IF(truncate!BR5:LM13 < 0, 0, IF(truncate!BR5:LM13 > 255, 255, truncate!BR5:LM13))","v":18},{"$f":"IF(truncate!BS5:LN13 < 0, 0, IF(truncate!BS5:LN13 > 255, 255, truncate!BS5:LN13))","v":10},{"$f":"IF(truncate!BT5:LO13 < 0, 0, IF(truncate!BT5:LO13 > 255, 255, truncate!BT5:LO13))","v":0},{"$f":"IF(truncate!BU5:LP13 < 0, 0, IF(truncate!BU5:LP13 > 255, 255, truncate!BU5:LP13))","v":9},{"$f":"IF(truncate!BV5:LQ13 < 0, 0, IF(truncate!BV5:LQ13 > 255, 255, truncate!BV5:LQ13))","v":13},{"$f":"IF(truncate!BW5:LR13 < 0, 0, IF(truncate!BW5:LR13 > 255, 255, truncate!BW5:LR13))","v":8},{"$f":"IF(truncate!BX5:LS13 < 0, 0, IF(truncate!BX5:LS13 > 255, 255, truncate!BX5:LS13))","v":5},{"$f":"IF(truncate!BY5:LT13 < 0, 0, IF(truncate!BY5:LT13 > 255, 255, truncate!BY5:LT13))","v":0},{"$f":"IF(truncate!BZ5:LU13 < 0, 0, IF(truncate!BZ5:LU13 > 255, 255, truncate!BZ5:LU13))","v":0},{"$f":"IF(truncate!CA5:LV13 < 0, 0, IF(truncate!CA5:LV13 > 255, 255, truncate!CA5:LV13))","v":0},{"$f":"IF(truncate!CB5:LW13 < 0, 0, IF(truncate!CB5:LW13 > 255, 255, truncate!CB5:LW13))","v":0},{"$f":"IF(truncate!CC5:LX13 < 0, 0, IF(truncate!CC5:LX13 > 255, 255, truncate!CC5:LX13))","v":4},{"$f":"IF(truncate!CD5:LY13 < 0, 0, IF(truncate!CD5:LY13 > 255, 255, truncate!CD5:LY13))","v":0},{"$f":"IF(truncate!CE5:LZ13 < 0, 0, IF(truncate!CE5:LZ13 > 255, 255, truncate!CE5:LZ13))","v":0},{"$f":"IF(truncate!CF5:MA13 < 0, 0, IF(truncate!CF5:MA13 > 255, 255, truncate!CF5:MA13))","v":18},{"$f":"IF(truncate!CG5:MB13 < 0, 0, IF(truncate!CG5:MB13 > 255, 255, truncate!CG5:MB13))","v":10},{"$f":"IF(truncate!CH5:MC13 < 0, 0, IF(truncate!CH5:MC13 > 255, 255, truncate!CH5:MC13))","v":0},{"$f":"IF(truncate!CI5:MD13 < 0, 0, IF(truncate!CI5:MD13 > 255, 255, truncate!CI5:MD13))","v":15},{"$f":"IF(truncate!CJ5:ME13 < 0, 0, IF(truncate!CJ5:ME13 > 255, 255, truncate!CJ5:ME13))","v":6},{"$f":"IF(truncate!CK5:MF13 < 0, 0, IF(truncate!CK5:MF13 > 255, 255, truncate!CK5:MF13))","v":20},{"$f":"IF(truncate!CL5:MG13 < 0, 0, IF(truncate!CL5:MG13 > 255, 255, truncate!CL5:MG13))","v":9},{"$f":"IF(truncate!CM5:MH13 < 0, 0, IF(truncate!CM5:MH13 > 255, 255, truncate!CM5:MH13))","v":0},{"$f":"IF(truncate!CN5:MI13 < 0, 0, IF(truncate!CN5:MI13 > 255, 255, truncate!CN5:MI13))","v":3},{"$f":"IF(truncate!CO5:MJ13 < 0, 0, IF(truncate!CO5:MJ13 > 255, 255, truncate!CO5:MJ13))","v":8},{"$f":"IF(truncate!CP5:MK13 < 0, 0, IF(truncate!CP5:MK13 > 255, 255, truncate!CP5:MK13))","v":0},{"$f":"IF(truncate!CQ5:ML13 < 0, 0, IF(truncate!CQ5:ML13 > 255, 255, truncate!CQ5:ML13))","v":9},{"$f":"IF(truncate!CR5:MM13 < 0, 0, IF(truncate!CR5:MM13 > 255, 255, truncate!CR5:MM13))","v":16},{"$f":"IF(truncate!CS5:MN13 < 0, 0, IF(truncate!CS5:MN13 > 255, 255, truncate!CS5:MN13))","v":15},{"$f":"IF(truncate!CT5:MO13 < 0, 0, IF(truncate!CT5:MO13 > 255, 255, truncate!CT5:MO13))","v":0},{"$f":"IF(truncate!CU5:MP13 < 0, 0, IF(truncate!CU5:MP13 > 255, 255, truncate!CU5:MP13))","v":0},{"$f":"IF(truncate!CV5:MQ13 < 0, 0, IF(truncate!CV5:MQ13 > 255, 255, truncate!CV5:MQ13))","v":8},{"$f":"IF(truncate!CW5:MR13 < 0, 0, IF(truncate!CW5:MR13 > 255, 255, truncate!CW5:MR13))","v":0},{"$f":"IF(truncate!CX5:MS13 < 0, 0, IF(truncate!CX5:MS13 > 255, 255, truncate!CX5:MS13))","v":10},{"$f":"IF(truncate!CY5:MT13 < 0, 0, IF(truncate!CY5:MT13 > 255, 255, truncate!CY5:MT13))","v":0},{"$f":"IF(truncate!CZ5:MU13 < 0, 0, IF(truncate!CZ5:MU13 > 255, 255, truncate!CZ5:MU13))","v":0},{"$f":"IF(truncate!DA5:MV13 < 0, 0, IF(truncate!DA5:MV13 > 255, 255, truncate!DA5:MV13))","v":9},{"$f":"IF(truncate!DB5:MW13 < 0, 0, IF(truncate!DB5:MW13 > 255, 255, truncate!DB5:MW13))","v":1},{"$f":"IF(truncate!DC5:MX13 < 0, 0, IF(truncate!DC5:MX13 > 255, 255, truncate!DC5:MX13))","v":0},{"$f":"IF(truncate!DD5:MY13 < 0, 0, IF(truncate!DD5:MY13 > 255, 255, truncate!DD5:MY13))","v":0},{"$f":"IF(truncate!DE5:MZ13 < 0, 0, IF(truncate!DE5:MZ13 > 255, 255, truncate!DE5:MZ13))","v":21},{"$f":"IF(truncate!DF5:NA13 < 0, 0, IF(truncate!DF5:NA13 > 255, 255, truncate!DF5:NA13))","v":0},{"$f":"IF(truncate!DG5:NB13 < 0, 0, IF(truncate!DG5:NB13 > 255, 255, truncate!DG5:NB13))","v":0},{"$f":"IF(truncate!DH5:NC13 < 0, 0, IF(truncate!DH5:NC13 > 255, 255, truncate!DH5:NC13))","v":2},{"$f":"IF(truncate!DI5:ND13 < 0, 0, IF(truncate!DI5:ND13 > 255, 255, truncate!DI5:ND13))","v":0},{"$f":"IF(truncate!DJ5:NE13 < 0, 0, IF(truncate!DJ5:NE13 > 255, 255, truncate!DJ5:NE13))","v":0},{"$f":"IF(truncate!DK5:NF13 < 0, 0, IF(truncate!DK5:NF13 > 255, 255, truncate!DK5:NF13))","v":0},{"$f":"IF(truncate!DL5:NG13 < 0, 0, IF(truncate!DL5:NG13 > 255, 255, truncate!DL5:NG13))","v":13},{"$f":"IF(truncate!DM5:NH13 < 0, 0, IF(truncate!DM5:NH13 > 255, 255, truncate!DM5:NH13))","v":0},{"$f":"IF(truncate!DN5:NI13 < 0, 0, IF(truncate!DN5:NI13 > 255, 255, truncate!DN5:NI13))","v":16},{"$f":"IF(truncate!DO5:NJ13 < 0, 0, IF(truncate!DO5:NJ13 > 255, 255, truncate!DO5:NJ13))","v":0},{"$f":"IF(truncate!DP5:NK13 < 0, 0, IF(truncate!DP5:NK13 > 255, 255, truncate!DP5:NK13))","v":17},{"$f":"IF(truncate!DQ5:NL13 < 0, 0, IF(truncate!DQ5:NL13 > 255, 255, truncate!DQ5:NL13))","v":0},{"$f":"IF(truncate!DR5:NM13 < 0, 0, IF(truncate!DR5:NM13 > 255, 255, truncate!DR5:NM13))","v":0},{"$f":"IF(truncate!DS5:NN13 < 0, 0, IF(truncate!DS5:NN13 > 255, 255, truncate!DS5:NN13))","v":0},{"$f":"IF(truncate!DT5:NO13 < 0, 0, IF(truncate!DT5:NO13 > 255, 255, truncate!DT5:NO13))","v":10},{"$f":"IF(truncate!DU5:NP13 < 0, 0, IF(truncate!DU5:NP13 > 255, 255, truncate!DU5:NP13))","v":13},{"$f":"IF(truncate!DV5:NQ13 < 0, 0, IF(truncate!DV5:NQ13 > 255, 255, truncate!DV5:NQ13))","v":3},{"$f":"IF(truncate!DW5:NR13 < 0, 0, IF(truncate!DW5:NR13 > 255, 255, truncate!DW5:NR13))","v":0},{"$f":"IF(truncate!DX5:NS13 < 0, 0, IF(truncate!DX5:NS13 > 255, 255, truncate!DX5:NS13))","v":0},{"$f":"IF(truncate!DY5:NT13 < 0, 0, IF(truncate!DY5:NT13 > 255, 255, truncate!DY5:NT13))","v":0},{"$f":"IF(truncate!DZ5:NU13 < 0, 0, IF(truncate!DZ5:NU13 > 255, 255, truncate!DZ5:NU13))","v":8},{"$f":"IF(truncate!EA5:NV13 < 0, 0, IF(truncate!EA5:NV13 > 255, 255, truncate!EA5:NV13))","v":1},{"$f":"IF(truncate!EB5:NW13 < 0, 0, IF(truncate!EB5:NW13 > 255, 255, truncate!EB5:NW13))","v":0},{"$f":"IF(truncate!EC5:NX13 < 0, 0, IF(truncate!EC5:NX13 > 255, 255, truncate!EC5:NX13))","v":1},{"$f":"IF(truncate!ED5:NY13 < 0, 0, IF(truncate!ED5:NY13 > 255, 255, truncate!ED5:NY13))","v":8},{"$f":"IF(truncate!EE5:NZ13 < 0, 0, IF(truncate!EE5:NZ13 > 255, 255, truncate!EE5:NZ13))","v":4},{"$f":"IF(truncate!EF5:OA13 < 0, 0, IF(truncate!EF5:OA13 > 255, 255, truncate!EF5:OA13))","v":0},{"$f":"IF(truncate!EG5:OB13 < 0, 0, IF(truncate!EG5:OB13 > 255, 255, truncate!EG5:OB13))","v":16},{"$f":"IF(truncate!EH5:OC13 < 0, 0, IF(truncate!EH5:OC13 > 255, 255, truncate!EH5:OC13))","v":0},{"$f":"IF(truncate!EI5:OD13 < 0, 0, IF(truncate!EI5:OD13 > 255, 255, truncate!EI5:OD13))","v":0},{"$f":"IF(truncate!EJ5:OE13 < 0, 0, IF(truncate!EJ5:OE13 > 255, 255, truncate!EJ5:OE13))","v":0},{"$f":"IF(truncate!EK5:OF13 < 0, 0, IF(truncate!EK5:OF13 > 255, 255, truncate!EK5:OF13))","v":4},{"$f":"IF(truncate!EL5:OG13 < 0, 0, IF(truncate!EL5:OG13 > 255, 255, truncate!EL5:OG13))","v":1},{"$f":"IF(truncate!EM5:OH13 < 0, 0, IF(truncate!EM5:OH13 > 255, 255, truncate!EM5:OH13))","v":9},{"$f":"IF(truncate!EN5:OI13 < 0, 0, IF(truncate!EN5:OI13 > 255, 255, truncate!EN5:OI13))","v":1},{"$f":"IF(truncate!EO5:OJ13 < 0, 0, IF(truncate!EO5:OJ13 > 255, 255, truncate!EO5:OJ13))","v":9},{"$f":"IF(truncate!EP5:OK13 < 0, 0, IF(truncate!EP5:OK13 > 255, 255, truncate!EP5:OK13))","v":0},{"$f":"IF(truncate!EQ5:OL13 < 0, 0, IF(truncate!EQ5:OL13 > 255, 255, truncate!EQ5:OL13))","v":0},{"$f":"IF(truncate!ER5:OM13 < 0, 0, IF(truncate!ER5:OM13 > 255, 255, truncate!ER5:OM13))","v":13},{"$f":"IF(truncate!ES5:ON13 < 0, 0, IF(truncate!ES5:ON13 > 255, 255, truncate!ES5:ON13))","v":3},{"$f":"IF(truncate!ET5:OO13 < 0, 0, IF(truncate!ET5:OO13 > 255, 255, truncate!ET5:OO13))","v":22},{"$f":"IF(truncate!EU5:OP13 < 0, 0, IF(truncate!EU5:OP13 > 255, 255, truncate!EU5:OP13))","v":0},{"$f":"IF(truncate!EV5:OQ13 < 0, 0, IF(truncate!EV5:OQ13 > 255, 255, truncate!EV5:OQ13))","v":0},{"$f":"IF(truncate!EW5:OR13 < 0, 0, IF(truncate!EW5:OR13 > 255, 255, truncate!EW5:OR13))","v":12},{"$f":"IF(truncate!EX5:OS13 < 0, 0, IF(truncate!EX5:OS13 > 255, 255, truncate!EX5:OS13))","v":7},{"$f":"IF(truncate!EY5:OT13 < 0, 0, IF(truncate!EY5:OT13 > 255, 255, truncate!EY5:OT13))","v":15},{"$f":"IF(truncate!EZ5:OU13 < 0, 0, IF(truncate!EZ5:OU13 > 255, 255, truncate!EZ5:OU13))","v":13},{"$f":"IF(truncate!FA5:OV13 < 0, 0, IF(truncate!FA5:OV13 > 255, 255, truncate!FA5:OV13))","v":0},{"$f":"IF(truncate!FB5:OW13 < 0, 0, IF(truncate!FB5:OW13 > 255, 255, truncate!FB5:OW13))","v":15},{"$f":"IF(truncate!FC5:OX13 < 0, 0, IF(truncate!FC5:OX13 > 255, 255, truncate!FC5:OX13))","v":0},{"$f":"IF(truncate!FD5:OY13 < 0, 0, IF(truncate!FD5:OY13 > 255, 255, truncate!FD5:OY13))","v":8},{"$f":"IF(truncate!FE5:OZ13 < 0, 0, IF(truncate!FE5:OZ13 > 255, 255, truncate!FE5:OZ13))","v":9},{"$f":"IF(truncate!FF5:PA13 < 0, 0, IF(truncate!FF5:PA13 > 255, 255, truncate!FF5:PA13))","v":0},{"$f":"IF(truncate!FG5:PB13 < 0, 0, IF(truncate!FG5:PB13 > 255, 255, truncate!FG5:PB13))","v":3},{"$f":"IF(truncate!FH5:PC13 < 0, 0, IF(truncate!FH5:PC13 > 255, 255, truncate!FH5:PC13))","v":11},{"$f":"IF(truncate!FI5:PD13 < 0, 0, IF(truncate!FI5:PD13 > 255, 255, truncate!FI5:PD13))","v":0},{"$f":"IF(truncate!FJ5:PE13 < 0, 0, IF(truncate!FJ5:PE13 > 255, 255, truncate!FJ5:PE13))","v":0},{"$f":"IF(truncate!FK5:PF13 < 0, 0, IF(truncate!FK5:PF13 > 255, 255, truncate!FK5:PF13))","v":24},{"$f":"IF(truncate!FL5:PG13 < 0, 0, IF(truncate!FL5:PG13 > 255, 255, truncate!FL5:PG13))","v":9},{"$f":"IF(truncate!FM5:PH13 < 0, 0, IF(truncate!FM5:PH13 > 255, 255, truncate!FM5:PH13))","v":0},{"$f":"IF(truncate!FN5:PI13 < 0, 0, IF(truncate!FN5:PI13 > 255, 255, truncate!FN5:PI13))","v":7},{"$f":"IF(truncate!FO5:PJ13 < 0, 0, IF(truncate!FO5:PJ13 > 255, 255, truncate!FO5:PJ13))","v":5},{"$f":"IF(truncate!FP5:PK13 < 0, 0, IF(truncate!FP5:PK13 > 255, 255, truncate!FP5:PK13))","v":20},{"$f":"IF(truncate!FQ5:PL13 < 0, 0, IF(truncate!FQ5:PL13 > 255, 255, truncate!FQ5:PL13))","v":0},{"$f":"IF(truncate!FR5:PM13 < 0, 0, IF(truncate!FR5:PM13 > 255, 255, truncate!FR5:PM13))","v":4},{"$f":"IF(truncate!FS5:PN13 < 0, 0, IF(truncate!FS5:PN13 > 255, 255, truncate!FS5:PN13))","v":0},{"$f":"IF(truncate!FT5:PO13 < 0, 0, IF(truncate!FT5:PO13 > 255, 255, truncate!FT5:PO13))","v":8},{"$f":"IF(truncate!FU5:PP13 < 0, 0, IF(truncate!FU5:PP13 > 255, 255, truncate!FU5:PP13))","v":1},{"$f":"IF(truncate!FV5:PQ13 < 0, 0, IF(truncate!FV5:PQ13 > 255, 255, truncate!FV5:PQ13))","v":0},{"$f":"IF(truncate!FW5:PR13 < 0, 0, IF(truncate!FW5:PR13 > 255, 255, truncate!FW5:PR13))","v":0},{"$f":"IF(truncate!FX5:PS13 < 0, 0, IF(truncate!FX5:PS13 > 255, 255, truncate!FX5:PS13))","v":0},{"$f":"IF(truncate!FY5:PT13 < 0, 0, IF(truncate!FY5:PT13 > 255, 255, truncate!FY5:PT13))","v":0},{"$f":"IF(truncate!FZ5:PU13 < 0, 0, IF(truncate!FZ5:PU13 > 255, 255, truncate!FZ5:PU13))","v":0},{"$f":"IF(truncate!GA5:PV13 < 0, 0, IF(truncate!GA5:PV13 > 255, 255, truncate!GA5:PV13))","v":0},{"$f":"IF(truncate!GB5:PW13 < 0, 0, IF(truncate!GB5:PW13 > 255, 255, truncate!GB5:PW13))","v":0},{"$f":"IF(truncate!GC5:PX13 < 0, 0, IF(truncate!GC5:PX13 > 255, 255, truncate!GC5:PX13))","v":2},{"$f":"IF(truncate!GD5:PY13 < 0, 0, IF(truncate!GD5:PY13 > 255, 255, truncate!GD5:PY13))","v":0},{"$f":"IF(truncate!GE5:PZ13 < 0, 0, IF(truncate!GE5:PZ13 > 255, 255, truncate!GE5:PZ13))","v":5},{"$f":"IF(truncate!GF5:QA13 < 0, 0, IF(truncate!GF5:QA13 > 255, 255, truncate!GF5:QA13))","v":0},{"$f":"IF(truncate!GG5:QB13 < 0, 0, IF(truncate!GG5:QB13 > 255, 255, truncate!GG5:QB13))","v":0},{"$f":"IF(truncate!GH5:QC13 < 0, 0, IF(truncate!GH5:QC13 > 255, 255, truncate!GH5:QC13))","v":0},{"$f":"IF(truncate!GI5:QD13 < 0, 0, IF(truncate!GI5:QD13 > 255, 255, truncate!GI5:QD13))","v":16},{"$f":"IF(truncate!GJ5:QE13 < 0, 0, IF(truncate!GJ5:QE13 > 255, 255, truncate!GJ5:QE13))","v":2},{"$f":"IF(truncate!GK5:QF13 < 0, 0, IF(truncate!GK5:QF13 > 255, 255, truncate!GK5:QF13))","v":1},{"$f":"IF(truncate!GL5:QG13 < 0, 0, IF(truncate!GL5:QG13 > 255, 255, truncate!GL5:QG13))","v":10},{"$f":"IF(truncate!GM5:QH13 < 0, 0, IF(truncate!GM5:QH13 > 255, 255, truncate!GM5:QH13))","v":9},{"$f":"IF(truncate!GN5:QI13 < 0, 0, IF(truncate!GN5:QI13 > 255, 255, truncate!GN5:QI13))","v":0},{"$f":"IF(truncate!GO5:QJ13 < 0, 0, IF(truncate!GO5:QJ13 > 255, 255, truncate!GO5:QJ13))","v":0},{"$f":"IF(truncate!GP5:QK13 < 0, 0, IF(truncate!GP5:QK13 > 255, 255, truncate!GP5:QK13))","v":0},{"$f":"IF(truncate!GQ5:QL13 < 0, 0, IF(truncate!GQ5:QL13 > 255, 255, truncate!GQ5:QL13))","v":0},{"$f":"IF(truncate!GR5:QM13 < 0, 0, IF(truncate!GR5:QM13 > 255, 255, truncate!GR5:QM13))","v":0},{"$f":"IF(truncate!GS5:QN13 < 0, 0, IF(truncate!GS5:QN13 > 255, 255, truncate!GS5:QN13))","v":0},{"$f":"IF(truncate!GT5:QO13 < 0, 0, IF(truncate!GT5:QO13 > 255, 255, truncate!GT5:QO13))","v":0},{"$f":"IF(truncate!GU5:QP13 < 0, 0, IF(truncate!GU5:QP13 > 255, 255, truncate!GU5:QP13))","v":11},{"$f":"IF(truncate!GV5:QQ13 < 0, 0, IF(truncate!GV5:QQ13 > 255, 255, truncate!GV5:QQ13))","v":2},{"$f":"IF(truncate!GW5:QR13 < 0, 0, IF(truncate!GW5:QR13 > 255, 255, truncate!GW5:QR13))","v":0},{"$f":"IF(truncate!GX5:QS13 < 0, 0, IF(truncate!GX5:QS13 > 255, 255, truncate!GX5:QS13))","v":0},{"$f":"IF(truncate!GY5:QT13 < 0, 0, IF(truncate!GY5:QT13 > 255, 255, truncate!GY5:QT13))","v":8},{"$f":"IF(truncate!GZ5:QU13 < 0, 0, IF(truncate!GZ5:QU13 > 255, 255, truncate!GZ5:QU13))","v":7},{"$f":"IF(truncate!HA5:QV13 < 0, 0, IF(truncate!HA5:QV13 > 255, 255, truncate!HA5:QV13))","v":17},{"$f":"IF(truncate!HB5:QW13 < 0, 0, IF(truncate!HB5:QW13 > 255, 255, truncate!HB5:QW13))","v":0},{"$f":"IF(truncate!HC5:QX13 < 0, 0, IF(truncate!HC5:QX13 > 255, 255, truncate!HC5:QX13))","v":0},{"$f":"IF(truncate!HD5:QY13 < 0, 0, IF(truncate!HD5:QY13 > 255, 255, truncate!HD5:QY13))","v":1},{"$f":"IF(truncate!HE5:QZ13 < 0, 0, IF(truncate!HE5:QZ13 > 255, 255, truncate!HE5:QZ13))","v":0},{"$f":"IF(truncate!HF5:RA13 < 0, 0, IF(truncate!HF5:RA13 > 255, 255, truncate!HF5:RA13))","v":14},{"$f":"IF(truncate!HG5:RB13 < 0, 0, IF(truncate!HG5:RB13 > 255, 255, truncate!HG5:RB13))","v":0},{"$f":"IF(truncate!HH5:RC13 < 0, 0, IF(truncate!HH5:RC13 > 255, 255, truncate!HH5:RC13))","v":10},{"$f":"IF(truncate!HI5:RD13 < 0, 0, IF(truncate!HI5:RD13 > 255, 255, truncate!HI5:RD13))","v":11},{"$f":"IF(truncate!HJ5:RE13 < 0, 0, IF(truncate!HJ5:RE13 > 255, 255, truncate!HJ5:RE13))","v":22},{"$f":"IF(truncate!HK5:RF13 < 0, 0, IF(truncate!HK5:RF13 > 255, 255, truncate!HK5:RF13))","v":0},{"$f":"IF(truncate!HL5:RG13 < 0, 0, IF(truncate!HL5:RG13 > 255, 255, truncate!HL5:RG13))","v":0},{"$f":"IF(truncate!HM5:RH13 < 0, 0, IF(truncate!HM5:RH13 > 255, 255, truncate!HM5:RH13))","v":0},{"$f":"IF(truncate!HN5:RI13 < 0, 0, IF(truncate!HN5:RI13 > 255, 255, truncate!HN5:RI13))","v":0},{"$f":"IF(truncate!HO5:RJ13 < 0, 0, IF(truncate!HO5:RJ13 > 255, 255, truncate!HO5:RJ13))","v":0},{"$f":"IF(truncate!HP5:RK13 < 0, 0, IF(truncate!HP5:RK13 > 255, 255, truncate!HP5:RK13))","v":0},{"$f":"IF(truncate!HQ5:RL13 < 0, 0, IF(truncate!HQ5:RL13 > 255, 255, truncate!HQ5:RL13))","v":6},{"$f":"IF(truncate!HR5:RM13 < 0, 0, IF(truncate!HR5:RM13 > 255, 255, truncate!HR5:RM13))","v":6},{"$f":"IF(truncate!HS5:RN13 < 0, 0, IF(truncate!HS5:RN13 > 255, 255, truncate!HS5:RN13))","v":0},{"$f":"IF(truncate!HT5:RO13 < 0, 0, IF(truncate!HT5:RO13 > 255, 255, truncate!HT5:RO13))","v":0},{"$f":"IF(truncate!HU5:RP13 < 0, 0, IF(truncate!HU5:RP13 > 255, 255, truncate!HU5:RP13))","v":0},{"$f":"IF(truncate!HV5:RQ13 < 0, 0, IF(truncate!HV5:RQ13 > 255, 255, truncate!HV5:RQ13))","v":2},{"$f":"IF(truncate!HW5:RR13 < 0, 0, IF(truncate!HW5:RR13 > 255, 255, truncate!HW5:RR13))","v":16},{"$f":"IF(truncate!HX5:RS13 < 0, 0, IF(truncate!HX5:RS13 > 255, 255, truncate!HX5:RS13))","v":0},{"$f":"IF(truncate!HY5:RT13 < 0, 0, IF(truncate!HY5:RT13 > 255, 255, truncate!HY5:RT13))","v":5},{"$f":"IF(truncate!HZ5:RU13 < 0, 0, IF(truncate!HZ5:RU13 > 255, 255, truncate!HZ5:RU13))","v":12},{"$f":"IF(truncate!IA5:RV13 < 0, 0, IF(truncate!IA5:RV13 > 255, 255, truncate!IA5:RV13))","v":0},{"$f":"IF(truncate!IB5:RW13 < 0, 0, IF(truncate!IB5:RW13 > 255, 255, truncate!IB5:RW13))","v":5},{"$f":"IF(truncate!IC5:RX13 < 0, 0, IF(truncate!IC5:RX13 > 255, 255, truncate!IC5:RX13))","v":12},{"$f":"IF(truncate!ID5:RY13 < 0, 0, IF(truncate!ID5:RY13 > 255, 255, truncate!ID5:RY13))","v":15},{"$f":"IF(truncate!IE5:RZ13 < 0, 0, IF(truncate!IE5:RZ13 > 255, 255, truncate!IE5:RZ13))","v":4},{"$f":"IF(truncate!IF5:SA13 < 0, 0, IF(truncate!IF5:SA13 > 255, 255, truncate!IF5:SA13))","v":0},{"$f":"IF(truncate!IG5:SB13 < 0, 0, IF(truncate!IG5:SB13 > 255, 255, truncate!IG5:SB13))","v":3},{"$f":"IF(truncate!IH5:SC13 < 0, 0, IF(truncate!IH5:SC13 > 255, 255, truncate!IH5:SC13))","v":4},{"$f":"IF(truncate!II5:SD13 < 0, 0, IF(truncate!II5:SD13 > 255, 255, truncate!II5:SD13))","v":0},{"$f":"IF(truncate!IJ5:SE13 < 0, 0, IF(truncate!IJ5:SE13 > 255, 255, truncate!IJ5:SE13))","v":0},{"$f":"IF(truncate!IK5:SF13 < 0, 0, IF(truncate!IK5:SF13 > 255, 255, truncate!IK5:SF13))","v":0},{"$f":"IF(truncate!IL5:SG13 < 0, 0, IF(truncate!IL5:SG13 > 255, 255, truncate!IL5:SG13))","v":22},{"$f":"IF(truncate!IM5:SH13 < 0, 0, IF(truncate!IM5:SH13 > 255, 255, truncate!IM5:SH13))","v":4},{"$f":"IF(truncate!IN5:SI13 < 0, 0, IF(truncate!IN5:SI13 > 255, 255, truncate!IN5:SI13))","v":2},{"$f":"IF(truncate!IO5:SJ13 < 0, 0, IF(truncate!IO5:SJ13 > 255, 255, truncate!IO5:SJ13))","v":0},{"$f":"IF(truncate!IP5:SK13 < 0, 0, IF(truncate!IP5:SK13 > 255, 255, truncate!IP5:SK13))","v":9},{"$f":"IF(truncate!IQ5:SL13 < 0, 0, IF(truncate!IQ5:SL13 > 255, 255, truncate!IQ5:SL13))","v":0},{"$f":"IF(truncate!IR5:SM13 < 0, 0, IF(truncate!IR5:SM13 > 255, 255, truncate!IR5:SM13))","v":14},{"$f":"IF(truncate!IS5:SN13 < 0, 0, IF(truncate!IS5:SN13 > 255, 255, truncate!IS5:SN13))","v":4},{"$f":"IF(truncate!IT5:SO13 < 0, 0, IF(truncate!IT5:SO13 > 255, 255, truncate!IT5:SO13))","v":0},{"$f":"IF(truncate!IU5:SP13 < 0, 0, IF(truncate!IU5:SP13 > 255, 255, truncate!IU5:SP13))","v":9},{"$f":"IF(truncate!IV5:SQ13 < 0, 0, IF(truncate!IV5:SQ13 > 255, 255, truncate!IV5:SQ13))","v":15}]
[{"$f":"IF(truncate!A6:IV14 < 0, 0, IF(truncate!A6:IV14 > 255, 255, truncate!A6:IV14))","v":16},{"$f":"IF(truncate!B6:IW14 < 0, 0, IF(truncate!B6:IW14 > 255, 255, truncate!B6:IW14))","v":5},{"$f":"IF(truncate!C6:IX14 < 0, 0, IF(truncate!C6:IX14 > 255, 255, truncate!C6:IX14))","v":5},{"$f":"IF(truncate!D6:IY14 < 0, 0, IF(truncate!D6:IY14 > 255, 255, truncate!D6:IY14))","v":0},{"$f":"IF(truncate!E6:IZ14 < 0, 0, IF(truncate!E6:IZ14 > 255, 255, truncate!E6:IZ14))","v":7},{"$f":"IF(truncate!F6:JA14 < 0, 0, IF(truncate!F6:JA14 > 255, 255, truncate!F6:JA14))","v":0},{"$f":"IF(truncate!G6:JB14 < 0, 0, IF(truncate!G6:JB14 > 255, 255, truncate!G6:JB14))","v":7},{"$f":"IF(truncate!H6:JC14 < 0, 0, IF(truncate!H6:JC14 > 255, 255, truncate!H6:JC14))","v":0},{"$f":"IF(truncate!I6:JD14 < 0, 0, IF(truncate!I6:JD14 > 255, 255, truncate!I6:JD14))","v":8},{"$f":"IF(truncate!J6:JE14 < 0, 0, IF(truncate!J6:JE14 > 255, 255, truncate!J6:JE14))","v":0},{"$f":"IF(truncate!K6:JF14 < 0, 0, IF(truncate!K6:JF14 > 255, 255, truncate!K6:JF14))","v":0},{"$f":"IF(truncate!L6:JG14 < 0, 0, IF(truncate!L6:JG14 > 255, 255, truncate!L6:JG14))","v":9},{"$f":"IF(truncate!M6:JH14 < 0, 0, IF(truncate!M6:JH14 > 255, 255, truncate!M6:JH14))","v":0},{"$f":"IF(truncate!N6:JI14 < 0, 0, IF(truncate!N6:JI14 > 255, 255, truncate!N6:JI14))","v":0},{"$f":"IF(truncate!O6:JJ14 < 0, 0, IF(truncate!O6:JJ14 > 255, 255, truncate!O6:JJ14))","v":9},{"$f":"IF(truncate!P6:JK14 < 0, 0, IF(truncate!P6:JK14 > 255, 255, truncate!P6:JK14))","v":12},{"$f":"IF(truncate!Q6:JL14 < 0, 0, IF(truncate!Q6:JL14 > 255, 255, truncate!Q6:JL14))","v":0},{"$f":"IF(truncate!R6:JM14 < 0, 0, IF(truncate!R6:JM14 > 255, 255, truncate!R6:JM14))","v":0},{"$f":"IF(truncate!S6:JN14 < 0, 0, IF(truncate!S6:JN14 > 255, 255, truncate!S6:JN14))","v":4},{"$f":"IF(truncate!T6:JO14 < 0, 0, IF(truncate!T6:JO14 > 255, 255, truncate!T6:JO14))","v":0},{"$f":"IF(truncate!U6:JP14 < 0, 0, IF(truncate!U6:JP14 > 255, 255, truncate!U6:JP14))","v":14},{"$f":"IF(truncate!V6:JQ14 < 0, 0, IF(truncate!V6:JQ14 > 255, 255, truncate!V6:JQ14))","v":13},{"$f":"IF(truncate!W6:JR14 < 0, 0, IF(truncate!W6:JR14 > 255, 255, truncate!W6:JR14))","v":9},{"$f":"IF(truncate!X6:JS14 < 0, 0, IF(truncate!X6:JS14 > 255, 255, truncate!X6:JS14))","v":5},{"$f":"IF(truncate!Y6:JT14 < 0, 0, IF(truncate!Y6:JT14 > 255, 255, truncate!Y6:JT14))","v":8},{"$f":"IF(truncate!Z6:JU14 < 0, 0, IF(truncate!Z6:JU14 > 255, 255, truncate!Z6:JU14))","v":0},{"$f":"IF(truncate!AA6:JV14 < 0, 0, IF(truncate!AA6:JV14 > 255, 255, truncate!AA6:JV14))","v":1},{"$f":"IF(truncate!AB6:JW14 < 0, 0, IF(truncate!AB6:JW14 > 255, 255, truncate!AB6:JW14))","v":1},{"$f":"IF(truncate!AC6:JX14 < 0, 0, IF(truncate!AC6:JX14 > 255, 255, truncate!AC6:JX14))","v":6},{"$f":"IF(truncate!AD6:JY14 < 0, 0, IF(truncate!AD6:JY14 > 255, 255, truncate!AD6:JY14))","v":0},{"$f":"IF(truncate!AE6:JZ14 < 0, 0, IF(truncate!AE6:JZ14 > 255, 255, truncate!AE6:JZ14))","v":18},{"$f":"IF(truncate!AF6:KA14 < 0, 0, IF(truncate!AF6:KA14 > 255, 255, truncate!AF6:KA14))","v":2},{"$f":"IF(truncate!AG6:KB14 < 0, 0, IF(truncate!AG6:KB14 > 255, 255, truncate!AG6:KB14))","v":5},{"$f":"IF(truncate!AH6:KC14 < 0, 0, IF(truncate!AH6:KC14 > 255, 255, truncate!AH6:KC14))","v":8},{"$f":"IF(truncate!AI6:KD14 < 0, 0, IF(truncate!AI6:KD14 > 255, 255, truncate!AI6:KD14))","v":0},{"$f":"IF(truncate!AJ6:KE14 < 0, 0, IF(truncate!AJ6:KE14 > 255, 255, truncate!AJ6:KE14))","v":16},{"$f":"IF(truncate!AK6:KF14 < 0, 0, IF(truncate!AK6:KF14 > 255, 255, truncate!AK6:KF14))","v":0},{"$f":"IF(truncate!AL6:KG14 < 0, 0, IF(truncate!AL6:KG14 > 255, 255, truncate!AL6:KG14))","v":5},{"$f":"IF(truncate!AM6:KH14 < 0, 0, IF(truncate!AM6:KH14 > 255, 255, truncate!AM6:KH14))","v":7},{"$f":"IF(truncate!AN6:KI14 < 0, 0, IF(truncate!AN6:KI14 > 255, 255, truncate!AN6:KI14))","v":0},{"$f":"IF(truncate!AO6:KJ14 < 0, 0, IF(truncate!AO6:KJ14 > 255, 255, truncate!AO6:KJ14))","v":0},{"$f":"IF(truncate!AP6:KK14 < 0, 0, IF(truncate!AP6:KK14 > 255, 255, truncate!AP6:KK14))","v":2},{"$f":"IF(truncate!AQ6:KL14 < 0, 0, IF(truncate!AQ6:KL14 > 255, 255, truncate!AQ6:KL14))","v":0},{"$f":"IF(truncate!AR6:KM14 < 0, 0, IF(truncate!AR6:KM14 > 255, 255, truncate!AR6:KM14))","v":4},{"$f":"IF(truncate!AS6:KN14 < 0, 0, IF(truncate!AS6:KN14 > 255, 255, truncate!AS6:KN14))","v":0},{"$f":"IF(truncate!AT6:KO14 < 0, 0, IF(truncate!AT6:KO14 > 255, 255, truncate!AT6:KO14))","v":0},{"$f":"IF(truncate!AU6:KP14 < 0, 0, IF(truncate!AU6:KP14 > 255, 255, truncate!AU6:KP14))","v":0},{"$f":"IF(truncate!AV6:KQ14 < 0, 0, IF(truncate!AV6:KQ14 > 255, 255, truncate!AV6:KQ14))","v":3},{"$f":"IF(truncate!AW6:KR14 < 0, 0, IF(truncate!AW6:KR14 > 255, 255, truncate!AW6:KR14))","v":21},{"$f":"IF(truncate!AX6:KS14 < 0, 0, IF(truncate!AX6:KS14 > 255, 255, truncate!AX6:KS14))","v":5},{"$f":"IF(truncate!AY6:KT14 < 0, 0, IF(truncate!AY6:KT14 > 255, 255, truncate!AY6:KT14))","v":3},{"$f":"IF(truncate!AZ6:KU14 < 0, 0, IF(truncate!AZ6:KU14 > 255, 255, truncate!AZ6:KU14))","v":5},{"$f":"IF(truncate!BA6:KV14 < 0, 0, IF(truncate!BA6:KV14 > 255, 255, truncate!BA6:KV14))","v":0},{"$f":"IF(truncate!BB6:KW14 < 0, 0, IF(truncate!BB6:KW14 > 255, 255, truncate!BB6:KW14))","v":0},{"$f":"IF(truncate!BC6:KX14 < 0, 0, IF(truncate!BC6:KX14 > 255, 255, truncate!BC6:KX14))","v":14},{"$f":"IF(truncate!BD6:KY14 < 0, 0, IF(truncate!BD6:KY14 > 255, 255, truncate!BD6:KY14))","v":0},{"$f":"IF(truncate!BE6:KZ14 < 0, 0, IF(truncate!BE6:KZ14 > 255, 255, truncate!BE6:KZ14))","v":0},{"$f":"IF(truncate!BF6:LA14 < 0, 0, IF(truncate!BF6:LA14 > 255, 255, truncate!BF6:LA14))","v":0},{"$f":"IF(truncate!BG6:LB14 < 0, 0, IF(truncate!BG6:LB14 > 255, 255, truncate!BG6:LB14))","v":17},{"$f":"IF(truncate!BH6:LC14 < 0, 0, IF(truncate!BH6:LC14 > 255, 255, truncate!BH6:LC14))","v":13},{"$f":"IF(truncate!BI6:LD14 < 0, 0, IF(truncate!BI6:LD14 > 255, 255, truncate!BI6:LD14))","v":20},{"$f":"IF(truncate!BJ6:LE14 < 0, 0, IF(truncate!BJ6:LE14 > 255, 255, truncate!BJ6:LE14))","v":0},{"$f":"IF(truncate!BK6:LF14 < 0, 0, IF(truncate!BK6:LF14 > 255, 255, truncate!BK6:LF14))","v":0},{"$f":"IF(truncate!BL6:LG14 < 0, 0, IF(truncate!BL6:LG14 > 255, 255, truncate!BL6:LG14))","v":6},{"$f":"IF(truncate!BM6:LH14 < 0, 0, IF(truncate!BM6:LH14 > 255, 255, truncate!BM6:LH14))","v":5},{"$f":"IF(truncate!BN6:LI14 < 0, 0, IF(truncate!BN6:LI14 > 255, 255, truncate!BN6:LI14))","v":0},{"$f":"IF(truncate!BO6:LJ14 < 0, 0, IF(truncate!BO6:LJ14 > 255, 255, truncate!BO6:LJ14))","v":9},{"$f":"IF(truncate!BP6:LK14 < 0, 0, IF(truncate!BP6:LK14 > 255, 255, truncate!BP6:LK14))","v":0},{"$f":"IF(truncate!BQ6:LL14 < 0, 0, IF(truncate!BQ6:LL14 > 255, 255, truncate!BQ6:LL14))","v":0},{"$f":"IF(truncate!BR6:LM14 < 0, 0, IF(truncate!BR6:LM14 > 255, 255, truncate!BR6:LM14))","v":16},{"$f":"IF(truncate!BS6:LN14 < 0, 0, IF(truncate!BS6:LN14 > 255, 255, truncate!BS6:LN14))","v":4},{"$f":"IF(truncate!BT6:LO14 < 0, 0, IF(truncate!BT6:LO14 > 255, 255, truncate!BT6:LO14))","v":0},{"$f":"IF(truncate!BU6:LP14 < 0, 0, IF(truncate!BU6:LP14 > 255, 255, truncate!BU6:LP14))","v":0},{"$f":"IF(truncate!BV6:LQ14 < 0, 0, IF(truncate!BV6:LQ14 > 255, 255, truncate!BV6:LQ14))","v":16},{"$f":"IF(truncate!BW6:LR14 < 0, 0, IF(truncate!BW6:LR14 > 255, 255, truncate!BW6:LR14))","v":4},{"$f":"IF(truncate!BX6:LS14 < 0, 0, IF(truncate!BX6:LS14 > 255, 255, truncate!BX6:LS14))","v":12},{"$f":"IF(truncate!BY6:LT14 < 0, 0, IF(truncate!BY6:LT14 > 255, 255, truncate!BY6:LT14))","v":0},{"$f":"IF(truncate!BZ6:LU14 < 0, 0, IF(truncate!BZ6:LU14 > 255, 255, truncate!BZ6:LU14))","v":7},{"$f":"IF(truncate!CA6:LV14 < 0, 0, IF(truncate!CA6:LV14 > 255, 255, truncate!CA6:LV14))","v":0},{"$f":"IF(truncate!CB6:LW14 < 0, 0, IF(truncate!CB6:LW14 > 255, 255, truncate!CB6:LW14))","v":0},{"$f":"IF(truncate!CC6:LX14 < 0, 0, IF(truncate!CC6:LX14 > 255, 255, truncate!CC6:LX14))","v":6},{"$f":"IF(truncate!CD6:LY14 < 0, 0, IF(truncate!CD6:LY14 > 255, 255, truncate!CD6:LY14))","v":0},{"$f":"IF(truncate!CE6:LZ14 < 0, 0, IF(truncate!CE6:LZ14 > 255, 255, truncate!CE6:LZ14))","v":0},{"$f":"IF(truncate!CF6:MA14 < 0, 0, IF(truncate!CF6:MA14 > 255, 255, truncate!CF6:MA14))","v":24},{"$f":"IF(truncate!CG6:MB14 < 0, 0, IF(truncate!CG6:MB14 > 255, 255, truncate!CG6:MB14))","v":8},{"$f":"IF(truncate!CH6:MC14 < 0, 0, IF(truncate!CH6:MC14 > 255, 255, truncate!CH6:MC14))","v":0},{"$f":"IF(truncate!CI6:MD14 < 0, 0, IF(truncate!CI6:MD14 > 255, 255, truncate!CI6:MD14))","v":7},{"$f":"IF(truncate!CJ6:ME14 < 0, 0, IF(truncate!CJ6:ME14 > 255, 255, truncate!CJ6:ME14))","v":11},{"$f":"IF(truncate!CK6:MF14 < 0, 0, IF(truncate!CK6:MF14 > 255, 255, truncate!CK6:MF14))","v":16},{"$f":"IF(truncate!CL6:MG14 < 0, 0, IF(truncate!CL6:MG14 > 255, 255, truncate!CL6:MG14))","v":0},{"$f":"IF(truncate!CM6:MH14 < 0, 0, IF(truncate!CM6:MH14 > 255, 255, truncate!CM6:MH14))","v":0},{"$f":"IF(truncate!CN6:MI14 < 0, 0, IF(truncate!CN6:MI14 > 255, 255, truncate!CN6:MI14))","v":3},{"$f":"IF(truncate!CO6:MJ14 < 0, 0, IF(truncate!CO6:MJ14 > 255, 255, truncate!CO6:MJ14))","v":14},{"$f":"IF(truncate!CP6:MK14 < 0, 0, IF(truncate!CP6:MK14 > 255, 255, truncate!CP6:MK14))","v":0},{"$f":"IF(truncate!CQ6:ML14 < 0, 0, IF(truncate!CQ6:ML14 > 255, 255, truncate!CQ6:ML14))","v":12},{"$f":"IF(truncate!CR6:MM14 < 0, 0, IF(truncate!CR6:MM14 > 255, 255, truncate!CR6:MM14))","v":10},{"$f":"IF(truncate!CS6:MN14 < 0, 0, IF(truncate!CS6:MN14 > 255, 255, truncate!CS6:MN14))","v":14},{"$f":"IF(truncate!CT6:MO14 < 0, 0, IF(truncate!CT6:MO14 > 255, 255, truncate!CT6:MO14))","v":5},{"$f":"IF(truncate!CU6:MP14 < 0, 0, IF(truncate!CU6:MP14 > 255, 255, truncate!CU6:MP14))","v":5},{"$f":"IF(truncate!CV6:MQ14 < 0, 0, IF(truncate!CV6:MQ14 > 255, 255, truncate!CV6:MQ14))","v":6},{"$f":"IF(truncate!CW6:MR14 < 0, 0, IF(truncate!CW6:MR14 > 255, 255, truncate!CW6:MR14))","v":3},{"$f":"IF(truncate!CX6:MS14 < 0, 0, IF(truncate!CX6:MS14 > 255, 255, truncate!CX6:MS14))","v":3},{"$f":"IF(truncate!CY6:MT14 < 0, 0, IF(truncate!CY6:MT14 > 255, 255, truncate!CY6:MT14))","v":0},{"$f":"IF(truncate!CZ6:MU14 < 0, 0, IF(truncate!CZ6:MU14 > 255, 255, truncate!CZ6:MU14))","v":0},{"$f":"IF(truncate!DA6:MV14 < 0, 0, IF(truncate!DA6:MV14 > 255, 255, truncate!DA6:MV14))","v":5},{"$f":"IF(truncate!DB6:MW14 < 0, 0, IF(truncate!DB6:MW14 > 255, 255, truncate!DB6:MW14))","v":8},{"$f":"IF(truncate!DC6:MX14 < 0, 0, IF(truncate!DC6:MX14 > 255, 255, truncate!DC6:MX14))","v":0},{"$f":"IF(truncate!DD6:MY14 < 0, 0, IF(truncate!DD6:MY14 > 255, 255, truncate!DD6:MY14))","v":0},{"$f":"IF(truncate!DE6:MZ14 < 0, 0, IF(truncate!DE6:MZ14 > 255, 255, truncate!DE6:MZ14))","v":16},{"$f":"IF(truncate!DF6:NA14 < 0, 0, IF(truncate!DF6:NA14 > 255, 255, truncate!DF6:NA14))","v":0},{"$f":"IF(truncate!DG6:NB14 < 0, 0, IF(truncate!DG6:NB14 > 255, 255, truncate!DG6:NB14))","v":0},{"$f":"IF(truncate!DH6:NC14 < 0, 0, IF(truncate!DH6:NC14 > 255, 255, truncate!DH6:NC14))","v":6},{"$f":"IF(truncate!DI6:ND14 < 0, 0, IF(truncate!DI6:ND14 > 255, 255, truncate!DI6:ND14))","v":0},{"$f":"IF(truncate!DJ6:NE14 < 0, 0, IF(truncate!DJ6:NE14 > 255, 255, truncate!DJ6:NE14))","v":0},{"$f":"IF(truncate!DK6:NF14 < 0, 0, IF(truncate!DK6:NF14 > 255, 255, truncate!DK6:NF14))","v":2},{"$f":"IF(truncate!DL6:NG14 < 0, 0, IF(truncate!DL6:NG14 > 255, 255, truncate!DL6:NG14))","v":21},{"$f":"IF(truncate!DM6:NH14 < 0, 0, IF(truncate!DM6:NH14 > 255, 255, truncate!DM6:NH14))","v":0},{"$f":"IF(truncate!DN6:NI14 < 0, 0, IF(truncate!DN6:NI14 > 255, 255, truncate!DN6:NI14))","v":13},{"$f":"IF(truncate!DO6:NJ14 < 0, 0, IF(truncate!DO6:NJ14 > 255, 255, truncate!DO6:NJ14))","v":0},{"$f":"IF(truncate!DP6:NK14 < 0, 0, IF(truncate!DP6:NK14 > 255, 255, truncate!DP6:NK14))","v":19},{"$f":"IF(truncate!DQ6:NL14 < 0, 0, IF(truncate!DQ6:NL14 > 255, 255, truncate!DQ6:NL14))","v":0},{"$f":"IF(truncate!DR6:NM14 < 0, 0, IF(truncate!DR6:NM14 > 255, 255, truncate!DR6:NM14))","v":0},{"$f":"IF(truncate!DS6:NN14 < 0, 0, IF(truncate!DS6:NN14 > 255, 255, truncate!DS6:NN14))","v":0},{"$f":"IF(truncate!DT6:NO14 < 0, 0, IF(truncate!DT6:NO14 > 255, 255, truncate!DT6:NO14))","v":3},{"$f":"IF(truncate!DU6:NP14 < 0, 0, IF(truncate!DU6:NP14 > 255, 255, truncate!DU6:NP14))","v":13},{"$f":"IF(truncate!DV6:NQ14 < 0, 0, IF(truncate!DV6:NQ14 > 255, 255, truncate!DV6:NQ14))","v":7},{"$f":"IF(truncate!DW6:NR14 < 0, 0, IF(truncate!DW6:NR14 > 255, 255, truncate!DW6:NR14))","v":0},{"$f":"IF(truncate!DX6:NS14 < 0, 0, IF(truncate!DX6:NS14 > 255, 255, truncate!DX6:NS14))","v":0},{"$f":"IF(truncate!DY6:NT14 < 0, 0, IF(truncate!DY6:NT14 > 255, 255, truncate!DY6:NT14))","v":0},{"$f":"IF(truncate!DZ6:NU14 < 0, 0, IF(truncate!DZ6:NU14 > 255, 255, truncate!DZ6:NU14))","v":0},{"$f":"IF(truncate!EA6:NV14 < 0, 0, IF(truncate!EA6:NV14 > 255, 255, truncate!EA6:NV14))","v":2},{"$f":"IF(truncate!EB6:NW14 < 0, 0, IF(truncate!EB6:NW14 > 255, 255, truncate!EB6:NW14))","v":0},{"$f":"IF(truncate!EC6:NX14 < 0, 0, IF(truncate!EC6:NX14 > 255, 255, truncate!EC6:NX14))","v":2},{"$f":"IF(truncate!ED6:NY14 < 0, 0, IF(truncate!ED6:NY14 > 255, 255, truncate!ED6:NY14))","v":16},{"$f":"IF(truncate!EE6:NZ14 < 0, 0, IF(truncate!EE6:NZ14 > 255, 255, truncate!EE6:NZ14))","v":6},{"$f":"IF(truncate!EF6:OA14 < 0, 0, IF(truncate!EF6:OA14 > 255, 255, truncate!EF6:OA14))","v":0},{"$f":"IF(truncate!EG6:OB14 < 0, 0, IF(truncate!EG6:OB14 > 255, 255, truncate!EG6:OB14))","v":7},{"$f":"IF(truncate!EH6:OC14 < 0, 0, IF(truncate!EH6:OC14 > 255, 255, truncate!EH6:OC14))","v":0},{"$f":"IF(truncate!EI6:OD14 < 0, 0, IF(truncate!EI6:OD14 > 255, 255, truncate!EI6:OD14))","v":0},{"$f":"IF(truncate!EJ6:OE14 < 0, 0, IF(truncate!EJ6:OE14 > 255, 255, truncate!EJ6:OE14))","v":15},{"$f":"IF(truncate!EK6:OF14 < 0, 0, IF(truncate!EK6:OF14 > 255, 255, truncate!EK6:OF14))","v":0},{"$f":"IF(truncate!EL6:OG14 < 0, 0, IF(truncate!EL6:OG14 > 255, 255, truncate!EL6:OG14))","v":4},{"$f":"IF(truncate!EM6:OH14 < 0, 0, IF(truncate!EM6:OH14 > 255, 255, truncate!EM6:OH14))","v":11},{"$f":"IF(truncate!EN6:OI14 < 0, 0, IF(truncate!EN6:OI14 > 255, 255, truncate!EN6:OI14))","v":0},{"$f":"IF(truncate!EO6:OJ14 < 0, 0, IF(truncate!EO6:OJ14 > 255, 255, truncate!EO6:OJ14))","v":4},{"$f":"IF(truncate!EP6:OK14 < 0, 0, IF(truncate!EP6:OK14 > 255, 255, truncate!EP6:OK14))","v":0},{"$f":"IF(truncate!EQ6:OL14 < 0, 0, IF(truncate!EQ6:OL14 > 255, 255, truncate!EQ6:OL14))","v":0},{"$f":"IF(truncate!ER6:OM14 < 0, 0, IF(truncate!ER6:OM14 > 255, 255, truncate!ER6:OM14))","v":4},{"$f":"IF(truncate!ES6:ON14 < 0, 0, IF(truncate!ES6:ON14 > 255, 255, truncate!ES6:ON14))","v":0},{"$f":"IF(truncate!ET6:OO14 < 0, 0, IF(truncate!ET6:OO14 > 255, 255, truncate!ET6:OO14))","v":16},{"$f":"IF(truncate!EU6:OP14 < 0, 0, IF(truncate!EU6:OP14 > 255, 255, truncate!EU6:OP14))","v":0},{"$f":"IF(truncate!EV6:OQ14 < 0, 0, IF(truncate!EV6:OQ14 > 255, 255, truncate!EV6:OQ14))","v":0},{"$f":"IF(truncate!EW6:OR14 < 0, 0, IF(truncate!EW6:OR14 > 255, 255, truncate!EW6:OR14))","v":19},{"$f":"IF(truncate!EX6:OS14 < 0, 0, IF(truncate!EX6:OS14 > 255, 255, truncate!EX6:OS14))","v":7},{"$f":"IF(truncate!EY6:OT14 < 0, 0, IF(truncate!EY6:OT14 > 255, 255, truncate!EY6:OT14))","v":21},{"$f":"IF(truncate!EZ6:OU14 < 0, 0, IF(truncate!EZ6:OU14 > 255, 255, truncate!EZ6:OU14))","v":5},{"$f":"IF(truncate!FA6:OV14 < 0, 0, IF(truncate!FA6:OV14 > 255, 255, truncate!FA6:OV14))","v":8},{"$f":"IF(truncate!FB6:OW14 < 0, 0, IF(truncate!FB6:OW14 > 255, 255, truncate!FB6:OW14))","v":12},{"$f":"IF(truncate!FC6:OX14 < 0, 0, IF(truncate!FC6:OX14 > 255, 255, truncate!FC6:OX14))","v":0},{"$f":"IF(truncate!FD6:OY14 < 0, 0, IF(truncate!FD6:OY14 > 255, 255, truncate!FD6:OY14))","v":13},{"$f":"IF(truncate!FE6:OZ14 < 0, 0, IF(truncate!FE6:OZ14 > 255, 255, truncate!FE6:OZ14))","v":7},{"$f":"IF(truncate!FF6:PA14 < 0, 0, IF(truncate!FF6:PA14 > 255, 255, truncate!FF6:PA14))","v":0},{"$f":"IF(truncate!FG6:PB14 < 0, 0, IF(truncate!FG6:PB14 > 255, 255, truncate!FG6:PB14))","v":1},{"$f":"IF(truncate!FH6:PC14 < 0, 0, IF(truncate!FH6:PC14 > 255, 255, truncate!FH6:PC14))","v":13},{"$f":"IF(truncate!FI6:PD14 < 0, 0, IF(truncate!FI6:PD14 > 255, 255, truncate!FI6:PD14))","v":0},{"$f":"IF(truncate!FJ6:PE14 < 0, 0, IF(truncate!FJ6:PE14 > 255, 255, truncate!FJ6:PE14))","v":7},{"$f":"IF(truncate!FK6:PF14 < 0, 0, IF(truncate!FK6:PF14 > 255, 255, truncate!FK6:PF14))","v":12},{"$f":"IF(truncate!FL6:PG14 < 0, 0, IF(truncate!FL6:PG14 > 255, 255, truncate!FL6:PG14))","v":11},{"$f":"IF(truncate!FM6:PH14 < 0, 0, IF(truncate!FM6:PH14 > 255, 255, truncate!FM6:PH14))","v":0},{"$f":"IF(truncate!FN6:PI14 < 0, 0, IF(truncate!FN6:PI14 > 255, 255, truncate!FN6:PI14))","v":7},{"$f":"IF(truncate!FO6:PJ14 < 0, 0, IF(truncate!FO6:PJ14 > 255, 255, truncate!FO6:PJ14))","v":4},{"$f":"IF(truncate!FP6:PK14 < 0, 0, IF(truncate!FP6:PK14 > 255, 255, truncate!FP6:PK14))","v":24},{"$f":"IF(truncate!FQ6:PL14 < 0, 0, IF(truncate!FQ6:PL14 > 255, 255, truncate!FQ6:PL14))","v":0},{"$f":"IF(truncate!FR6:PM14 < 0, 0, IF(truncate!FR6:PM14 > 255, 255, truncate!FR6:PM14))","v":0},{"$f":"IF(truncate!FS6:PN14 < 0, 0, IF(truncate!FS6:PN14 > 255, 255, truncate!FS6:PN14))","v":0},{"$f":"IF(truncate!FT6:PO14 < 0, 0, IF(truncate!FT6:PO14 > 255, 255, truncate!FT6:PO14))","v":7},{"$f":"IF(truncate!FU6:PP14 < 0, 0, IF(truncate!FU6:PP14 > 255, 255, truncate!FU6:PP14))","v":0},{"$f":"IF(truncate!FV6:PQ14 < 0, 0, IF(truncate!FV6:PQ14 > 255, 255, truncate!FV6:PQ14))","v":0},{"$f":"IF(truncate!FW6:PR14 < 0, 0, IF(truncate!FW6:PR14 > 255, 255, truncate!FW6:PR14))","v":0},{"$f":"IF(truncate!FX6:PS14 < 0, 0, IF(truncate!FX6:PS14 > 255, 255, truncate!FX6:PS14))","v":4},{"$f":"IF(truncate!FY6:PT14 < 0, 0, IF(truncate!FY6:PT14 > 255, 255, truncate!FY6:PT14))","v":0},{"$f":"IF(truncate!FZ6:PU14 < 0, 0, IF(truncate!FZ6:PU14 > 255, 255, truncate!FZ6:PU14))","v":0},{"$f":"IF(truncate!GA6:PV14 < 0, 0, IF(truncate!GA6:PV14 > 255, 255, truncate!GA6:PV14))","v":0},{"$f":"IF(truncate!GB6:PW14 < 0, 0, IF(truncate!GB6:PW14 > 255, 255, truncate!GB6:PW14))","v":0},{"$f":"IF(truncate!GC6:PX14 < 0, 0, IF(truncate!GC6:PX14 > 255, 255, truncate!GC6:PX14))","v":0},{"$f":"IF(truncate!GD6:PY14 < 0, 0, IF(truncate!GD6:PY14 > 255, 255, truncate!GD6:PY14))","v":0},{"$f":"IF(truncate!GE6:PZ14 < 0, 0, IF(truncate!GE6:PZ14 > 255, 255, truncate!GE6:PZ14))","v":9},{"$f":"IF(truncate!GF6:QA14 < 0, 0, IF(truncate!GF6:QA14 > 255, 255, truncate!GF6:QA14))","v":0},{"$f":"IF(truncate!GG6:QB14 < 0, 0, IF(truncate!GG6:QB14 > 255, 255, truncate!GG6:QB14))","v":0},{"$f":"IF(truncate!GH6:QC14 < 0, 0, IF(truncate!GH6:QC14 > 255, 255, truncate!GH6:QC14))","v":0},{"$f":"IF(truncate!GI6:QD14 < 0, 0, IF(truncate!GI6:QD14 > 255, 255, truncate!GI6:QD14))","v":6},{"$f":"IF(truncate!GJ6:QE14 < 0, 0, IF(truncate!GJ6:QE14 > 255, 255, truncate!GJ6:QE14))","v":2},{"$f":"IF(truncate!GK6:QF14 < 0, 0, IF(truncate!GK6:QF14 > 255, 255, truncate!GK6:QF14))","v":1},{"$f":"IF(truncate!GL6:QG14 < 0, 0, IF(truncate!GL6:QG14 > 255, 255, truncate!GL6:QG14))","v":8},{"$f":"IF(truncate!GM6:QH14 < 0, 0, IF(truncate!GM6:QH14 > 255, 255, truncate!GM6:QH14))","v":6},{"$f":"IF(truncate!GN6:QI14 < 0, 0, IF(truncate!GN6:QI14 > 255, 255, truncate!GN6:QI14))","v":0},{"$f":"IF(truncate!GO6:QJ14 < 0, 0, IF(truncate!GO6:QJ14 > 255, 255, truncate!GO6:QJ14))","v":0},{"$f":"IF(truncate!GP6:QK14 < 0, 0, IF(truncate!GP6:QK14 > 255, 255, truncate!GP6:QK14))","v":0},{"$f":"IF(truncate!GQ6:QL14 < 0, 0, IF(truncate!GQ6:QL14 > 255, 255, truncate!GQ6:QL14))","v":0},{"$f":"IF(truncate!GR6:QM14 < 0, 0, IF(truncate!GR6:QM14 > 255, 255, truncate!GR6:QM14))","v":0},{"$f":"IF(truncate!GS6:QN14 < 0, 0, IF(truncate!GS6:QN14 > 255, 255, truncate!GS6:QN14))","v":0},{"$f":"IF(truncate!GT6:QO14 < 0, 0, IF(truncate!GT6:QO14 > 255, 255, truncate!GT6:QO14))","v":0},{"$f":"IF(truncate!GU6:QP14 < 0, 0, IF(truncate!GU6:QP14 > 255, 255, truncate!GU6:QP14))","v":12},{"$f":"IF(truncate!GV6:QQ14 < 0, 0, IF(truncate!GV6:QQ14 > 255, 255, truncate!GV6:QQ14))","v":0},{"$f":"IF(truncate!GW6:QR14 < 0, 0, IF(truncate!GW6:QR14 > 255, 255, truncate!GW6:QR14))","v":0},{"$f":"IF(truncate!GX6:QS14 < 0, 0, IF(truncate!GX6:QS14 > 255, 255, truncate!GX6:QS14))","v":0},{"$f":"IF(truncate!GY6:QT14 < 0, 0, IF(truncate!GY6:QT14 > 255, 255, truncate!GY6:QT14))","v":10},{"$f":"IF(truncate!GZ6:QU14 < 0, 0, IF(truncate!GZ6:QU14 > 255, 255, truncate!GZ6:QU14))","v":11},{"$f":"IF(truncate!HA6:QV14 < 0, 0, IF(truncate!HA6:QV14 > 255, 255, truncate!HA6:QV14))","v":11},{"$f":"IF(truncate!HB6:QW14 < 0, 0, IF(truncate!HB6:QW14 > 255, 255, truncate!HB6:QW14))","v":0},{"$f":"IF(truncate!HC6:QX14 < 0, 0, IF(truncate!HC6:QX14 > 255, 255, truncate!HC6:QX14))","v":1},{"$f":"IF(truncate!HD6:QY14 < 0, 0, IF(truncate!HD6:QY14 > 255, 255, truncate!HD6:QY14))","v":9},{"$f":"IF(truncate!HE6:QZ14 < 0, 0, IF(truncate!HE6:QZ14 > 255, 255, truncate!HE6:QZ14))","v":0},{"$f":"IF(truncate!HF6:RA14 < 0, 0, IF(truncate!HF6:RA14 > 255, 255, truncate!HF6:RA14))","v":9},{"$f":"IF(truncate!HG6:RB14 < 0, 0, IF(truncate!HG6:RB14 > 255, 255, truncate!HG6:RB14))","v":0},{"$f":"IF(truncate!HH6:RC14 < 0, 0, IF(truncate!HH6:RC14 > 255, 255, truncate!HH6:RC14))","v":2},{"$f":"IF(truncate!HI6:RD14 < 0, 0, IF(truncate!HI6:RD14 > 255, 255, truncate!HI6:RD14))","v":3},{"$f":"IF(truncate!HJ6:RE14 < 0, 0, IF(truncate!HJ6:RE14 > 255, 255, truncate!HJ6:RE14))","v":26},{"$f":"IF(truncate!HK6:RF14 < 0, 0, IF(truncate!HK6:RF14 > 255, 255, truncate!HK6:RF14))","v":0},{"$f":"IF(truncate!HL6:RG14 < 0, 0, IF(truncate!HL6:RG14 > 255, 255, truncate!HL6:RG14))","v":0},{"$f":"IF(truncate!HM6:RH14 < 0, 0, IF(truncate!HM6:RH14 > 255, 255, truncate!HM6:RH14))","v":0},{"$f":"IF(truncate!HN6:RI14 < 0, 0, IF(truncate!HN6:RI14 > 255, 255, truncate!HN6:RI14))","v":6},{"$f":"IF(truncate!HO6:RJ14 < 0, 0, IF(truncate!HO6:RJ14 > 255, 255, truncate!HO6:RJ14))","v":0},{"$f":"IF(truncate!HP6:RK14 < 0, 0, IF(truncate!HP6:RK14 > 255, 255, truncate!HP6:RK14))","v":0},{"$f":"IF(truncate!HQ6:RL14 < 0, 0, IF(truncate!HQ6:RL14 > 255, 255, truncate!HQ6:RL14))","v":14},{"$f":"IF(truncate!HR6:RM14 < 0, 0, IF(truncate!HR6:RM14 > 255, 255, truncate!HR6:RM14))","v":3},{"$f":"IF(truncate!HS6:RN14 < 0, 0, IF(truncate!HS6:RN14 > 255, 255, truncate!HS6:RN14))","v":1},{"$f":"IF(truncate!HT6:RO14 < 0, 0, IF(truncate!HT6:RO14 > 255, 255, truncate!HT6:RO14))","v":0},{"$f":"IF(truncate!HU6:RP14 < 0, 0, IF(truncate!HU6:RP14 > 255, 255, truncate!HU6:RP14))","v":1},{"$f":"IF(truncate!HV6:RQ14 < 0, 0, IF(truncate!HV6:RQ14 > 255, 255, truncate!HV6:RQ14))","v":1},{"$f":"IF(truncate!HW6:RR14 < 0, 0, IF(truncate!HW6:RR14 > 255, 255, truncate!HW6:RR14))","v":15},{"$f":"IF(truncate!HX6:RS14 < 0, 0, IF(truncate!HX6:RS14 > 255, 255, truncate!HX6:RS14))","v":0},{"$f":"IF(truncate!HY6:RT14 < 0, 0, IF(truncate!HY6:RT14 > 255, 255, truncate!HY6:RT14))","v":4},{"$f":"IF(truncate!HZ6:RU14 < 0, 0, IF(truncate!HZ6:RU14 > 255, 255, truncate!HZ6:RU14))","v":13},{"$f":"IF(truncate!IA6:RV14 < 0, 0, IF(truncate!IA6:RV14 > 255, 255, truncate!IA6:RV14))","v":0},{"$f":"IF(truncate!IB6:RW14 < 0, 0, IF(truncate!IB6:RW14 > 255, 255, truncate!IB6:RW14))","v":9},{"$f":"IF(truncate!IC6:RX14 < 0, 0, IF(truncate!IC6:RX14 > 255, 255, truncate!IC6:RX14))","v":6},{"$f":"IF(truncate!ID6:RY14 < 0, 0, IF(truncate!ID6:RY14 > 255, 255, truncate!ID6:RY14))","v":3},{"$f":"IF(truncate!IE6:RZ14 < 0, 0, IF(truncate!IE6:RZ14 > 255, 255, truncate!IE6:RZ14))","v":2},{"$f":"IF(truncate!IF6:SA14 < 0, 0, IF(truncate!IF6:SA14 > 255, 255, truncate!IF6:SA14))","v":3},{"$f":"IF(truncate!IG6:SB14 < 0, 0, IF(truncate!IG6:SB14 > 255, 255, truncate!IG6:SB14))","v":0},{"$f":"IF(truncate!IH6:SC14 < 0, 0, IF(truncate!IH6:SC14 > 255, 255, truncate!IH6:SC14))","v":1},{"$f":"IF(truncate!II6:SD14 < 0, 0, IF(truncate!II6:SD14 > 255, 255, truncate!II6:SD14))","v":0},{"$f":"IF(truncate!IJ6:SE14 < 0, 0, IF(truncate!IJ6:SE14 > 255, 255, truncate!IJ6:SE14))","v":0},{"$f":"IF(truncate!IK6:SF14 < 0, 0, IF(truncate!IK6:SF14 > 255, 255, truncate!IK6:SF14))","v":0},{"$f":"IF(truncate!IL6:SG14 < 0, 0, IF(truncate!IL6:SG14 > 255, 255, truncate!IL6:SG14))","v":20},{"$f":"IF(truncate!IM6:SH14 < 0, 0, IF(truncate!IM6:SH14 > 255, 255, truncate!IM6:SH14))","v":11},{"$f":"IF(truncate!IN6:SI14 < 0, 0, IF(truncate!IN6:SI14 > 255, 255, truncate!IN6:SI14))","v":10},{"$f":"IF(truncate!IO6:SJ14 < 0, 0, IF(truncate!IO6:SJ14 > 255, 255, truncate!IO6:SJ14))","v":0},{"$f":"IF(truncate!IP6:SK14 < 0, 0, IF(truncate!IP6:SK14 > 255, 255, truncate!IP6:SK14))","v":0},{"$f":"IF(truncate!IQ6:SL14 < 0, 0, IF(truncate!IQ6:SL14 > 255, 255, truncate!IQ6:SL14))","v":0},{"$f":"IF(truncate!IR6:SM14 < 0, 0, IF(truncate!IR6:SM14 > 255, 255, truncate!IR6:SM14))","v":15},{"$f":"IF(truncate!IS6:SN14 < 0, 0, IF(truncate!IS6:SN14 > 255, 255, truncate!IS6:SN14))","v":3},{"$f":"IF(truncate!IT6:SO14 < 0, 0, IF(truncate!IT6:SO14 > 255, 255, truncate!IT6:SO14))","v":0},{"$f":"IF(truncate!IU6:SP14 < 0, 0, IF(truncate!IU6:SP14 > 255, 255, truncate!IU6:SP14))","v":10},{"$f":"IF(truncate!IV6:SQ14 < 0, 0, IF(truncate!IV6:SQ14 > 255, 255, truncate!IV6:SQ14))","v":8}]
[{"$f":"IF(truncate!A7:IV15 < 0, 0, IF(truncate!A7:IV15 > 255, 255, truncate!A7:IV15))","v":18},{"$f":"IF(truncate!B7:IW15 < 0, 0, IF(truncate!B7:IW15 > 255, 255, truncate!B7:IW15))","v":11},{"$f":"IF(truncate!C7:IX15 < 0, 0, IF(truncate!C7:IX15 > 255, 255, truncate!C7:IX15))","v":2},{"$f":"IF(truncate!D7:IY15 < 0, 0, IF(truncate!D7:IY15 > 255, 255, truncate!D7:IY15))","v":0},{"$f":"IF(truncate!E7:IZ15 < 0, 0, IF(truncate!E7:IZ15 > 255, 255, truncate!E7:IZ15))","v":17},{"$f":"IF(truncate!F7:JA15 < 0, 0, IF(truncate!F7:JA15 > 255, 255, truncate!F7:JA15))","v":0},{"$f":"IF(truncate!G7:JB15 < 0, 0, IF(truncate!G7:JB15 > 255, 255, truncate!G7:JB15))","v":4},{"$f":"IF(truncate!H7:JC15 < 0, 0, IF(truncate!H7:JC15 > 255, 255, truncate!H7:JC15))","v":0},{"$f":"IF(truncate!I7:JD15 < 0, 0, IF(truncate!I7:JD15 > 255, 255, truncate!I7:JD15))","v":0},{"$f":"IF(truncate!J7:JE15 < 0, 0, IF(truncate!J7:JE15 > 255, 255, truncate!J7:JE15))","v":0},{"$f":"IF(truncate!K7:JF15 < 0, 0, IF(truncate!K7:JF15 > 255, 255, truncate!K7:JF15))","v":0},{"$f":"IF(truncate!L7:JG15 < 0, 0, IF(truncate!L7:JG15 > 255, 255, truncate!L7:JG15))","v":7},{"$f":"IF(truncate!M7:JH15 < 0, 0, IF(truncate!M7:JH15 > 255, 255, truncate!M7:JH15))","v":0},{"$f":"IF(truncate!N7:JI15 < 0, 0, IF(truncate!N7:JI15 > 255, 255, truncate!N7:JI15))","v":0},{"$f":"IF(truncate!O7:JJ15 < 0, 0, IF(truncate!O7:JJ15 > 255, 255, truncate!O7:JJ15))","v":17},{"$f":"IF(truncate!P7:JK15 < 0, 0, IF(truncate!P7:JK15 > 255, 255, truncate!P7:JK15))","v":5},{"$f":"IF(truncate!Q7:JL15 < 0, 0, IF(truncate!Q7:JL15 > 255, 255, truncate!Q7:JL15))","v":0},{"$f":"IF(truncate!R7:JM15 < 0, 0, IF(truncate!R7:JM15 > 255, 255, truncate!R7:JM15))","v":0},{"$f":"IF(truncate!S7:JN15 < 0, 0, IF(truncate!S7:JN15 > 255, 255, truncate!S7:JN15))","v":15},{"$f":"IF(truncate!T7:JO15 < 0, 0, IF(truncate!T7:JO15 > 255, 255, truncate!T7:JO15))","v":7},{"$f":"IF(truncate!U7:JP15 < 0, 0, IF(truncate!U7:JP15 > 255, 255, truncate!U7:JP15))","v":14},{"$f":"IF(truncate!V7:JQ15 < 0, 0, IF(truncate!V7:JQ15 > 255, 255, truncate!V7:JQ15))","v":2},{"$f":"IF(truncate!W7:JR15 < 0, 0, IF(truncate!W7:JR15 > 255, 255, truncate!W7:JR15))","v":16},{"$f":"IF(truncate!X7:JS15 < 0, 0, IF(truncate!X7:JS15 > 255, 255, truncate!X7:JS15))","v":3},{"$f":"IF(truncate!Y7:JT15 < 0, 0, IF(truncate!Y7:JT15 > 255, 255, truncate!Y7:JT15))","v":10},{"$f":"IF(truncate!Z7:JU15 < 0, 0, IF(truncate!Z7:JU15 > 255, 255, truncate!Z7:JU15))","v":0},{"$f":"IF(truncate!AA7:JV15 < 0, 0, IF(truncate!AA7:JV15 > 255, 255, truncate!AA7:JV15))","v":0},{"$f":"IF(truncate!AB7:JW15 < 0, 0, IF(truncate!AB7:JW15 > 255, 255, truncate!AB7:JW15))","v":0},{"$f":"IF(truncate!AC7:JX15 < 0, 0, IF(truncate!AC7:JX15 > 255, 255, truncate!AC7:JX15))","v":8},{"$f":"IF(truncate!AD7:JY15 < 0, 0, IF(truncate!AD7:JY15 > 255, 255, truncate!AD7:JY15))","v":0},{"$f":"IF(truncate!AE7:JZ15 < 0, 0, IF(truncate!AE7:JZ15 > 255, 255, truncate!AE7:JZ15))","v":10},{"$f":"IF(truncate!AF7:KA15 < 0, 0, IF(truncate!AF7:KA15 > 255, 255, truncate!AF7:KA15))","v":0},{"$f":"IF(truncate!AG7:KB15 < 0, 0, IF(truncate!AG7:KB15 > 255, 255, truncate!AG7:KB15))","v":0},{"$f":"IF(truncate!AH7:KC15 < 0, 0, IF(truncate!AH7:KC15 > 255, 255, truncate!AH7:KC15))","v":2},{"$f":"IF(truncate!AI7:KD15 < 0, 0, IF(truncate!AI7:KD15 > 255, 255, truncate!AI7:KD15))","v":0},{"$f":"IF(truncate!AJ7:KE15 < 0, 0, IF(truncate!AJ7:KE15 > 255, 255, truncate!AJ7:KE15))","v":8},{"$f":"IF(truncate!AK7:KF15 < 0, 0, IF(truncate!AK7:KF15 > 255, 255, truncate!AK7:KF15))","v":0},{"$f":"IF(truncate!AL7:KG15 < 0, 0, IF(truncate!AL7:KG15 > 255, 255, truncate!AL7:KG15))","v":10},{"$f":"IF(truncate!AM7:KH15 < 0, 0, IF(truncate!AM7:KH15 > 255, 255, truncate!AM7:KH15))","v":6},{"$f":"IF(truncate!AN7:KI15 < 0, 0, IF(truncate!AN7:KI15 > 255, 255, truncate!AN7:KI15))","v":0},{"$f":"IF(truncate!AO7:KJ15 < 0, 0, IF(truncate!AO7:KJ15 > 255, 255, truncate!AO7:KJ15))","v":0},{"$f":"IF(truncate!AP7:KK15 < 0, 0, IF(truncate!AP7:KK15 > 255, 255, truncate!AP7:KK15))","v":6},{"$f":"IF(truncate!AQ7:KL15 < 0, 0, IF(truncate!AQ7:KL15 > 255, 255, truncate!AQ7:KL15))","v":0},{"$f":"IF(truncate!AR7:KM15 < 0, 0, IF(truncate!AR7:KM15 > 255, 255, truncate!AR7:KM15))","v":10},{"$f":"IF(truncate!AS7:KN15 < 0, 0, IF(truncate!AS7:KN15 > 255, 255, truncate!AS7:KN15))","v":5},{"$f":"IF(truncate!AT7:KO15 < 0, 0, IF(truncate!AT7:KO15 > 255, 255, truncate!AT7:KO15))","v":0},{"$f":"IF(truncate!AU7:KP15 < 0, 0, IF(truncate!AU7:KP15 > 255, 255, truncate!AU7:KP15))","v":0},{"$f":"IF(truncate!AV7:KQ15 < 0, 0, IF(truncate!AV7:KQ15 > 255, 255, truncate!AV7:KQ15))","v":0},{"$f":"IF(truncate!AW7:KR15 < 0, 0, IF(truncate!AW7:KR15 > 255, 255, truncate!AW7:KR15))","v":11},{"$f":"IF(truncate!AX7:KS15 < 0, 0, IF(truncate!AX7:KS15 > 255, 255, truncate!AX7:KS15))","v":2},{"$f":"IF(truncate!AY7:KT15 < 0, 0, IF(truncate!AY7:KT15 > 255, 255, truncate!AY7:KT15))","v":0},{"$f":"IF(truncate!AZ7:KU15 < 0, 0, IF(truncate!AZ7:KU15 > 255, 255, truncate!AZ7:KU15))","v":5},{"$f":"IF(truncate!BA7:KV15 < 0, 0, IF(truncate!BA7:KV15 > 255, 255, truncate!BA7:KV15))","v":0},{"$f":"IF(truncate!BB7:KW15 < 0, 0, IF(truncate!BB7:KW15 > 255, 255, truncate!BB7:KW15))","v":6},{"$f":"IF(truncate!BC7:KX15 < 0, 0, IF(truncate!BC7:KX15 > 255, 255, truncate!BC7:KX15))","v":14},{"$f":"IF(truncate!BD7:KY15 < 0, 0, IF(truncate!BD7:KY15 > 255, 255, truncate!BD7:KY15))","v":0},{"$f":"IF(truncate!BE7:KZ15 < 0, 0, IF(truncate!BE7:KZ15 > 255, 255, truncate!BE7:KZ15))","v":0},{"$f":"IF(truncate!BF7:LA15 < 0, 0, IF(truncate!BF7:LA15 > 255, 255, truncate!BF7:LA15))","v":0},{"$f":"IF(truncate!BG7:LB15 < 0, 0, IF(truncate!BG7:LB15 > 255, 255, truncate!BG7:LB15))","v":8},{"$f":"IF(truncate!BH7:LC15 < 0, 0, IF(truncate!BH7:LC15 > 255, 255, truncate!BH7:LC15))","v":7},{"$f":"IF(truncate!BI7:LD15 < 0, 0, IF(truncate!BI7:LD15 > 255, 255, truncate!BI7:LD15))","v":18},{"$f":"IF(truncate!BJ7:LE15 < 0, 0, IF(truncate!BJ7:LE15 > 255, 255, truncate!BJ7:LE15))","v":0},{"$f":"IF(truncate!BK7:LF15 < 0, 0, IF(truncate!BK7:LF15 > 255, 255, truncate!BK7:LF15))","v":0},{"$f":"IF(truncate!BL7:LG15 < 0, 0, IF(truncate!BL7:LG15 > 255, 255, truncate!BL7:LG15))","v":12},{"$f":"IF(truncate!BM7:LH15 < 0, 0, IF(truncate!BM7:LH15 > 255, 255, truncate!BM7:LH15))","v":1},{"$f":"IF(truncate!BN7:LI15 < 0, 0, IF(truncate!BN7:LI15 > 255, 255, truncate!BN7:LI15))","v":3},{"$f":"IF(truncate!BO7:LJ15 < 0, 0, IF(truncate!BO7:LJ15 > 255, 255, truncate!BO7:LJ15))","v":3},{"$f":"IF(truncate!BP7:LK15 < 0, 0, IF(truncate!BP7:LK15 > 255, 255, truncate!BP7:LK15))","v":4},{"$f":"IF(truncate!BQ7:LL15 < 0, 0, IF(truncate!BQ7:LL15 > 255, 255, truncate!BQ7:LL15))","v":0},{"$f":"IF(truncate!BR7:LM15 < 0, 0, IF(truncate!BR7:LM15 > 255, 255, truncate!BR7:LM15))","v":6},{"$f":"IF(truncate!BS7:LN15 < 0, 0, IF(truncate!BS7:LN15 > 255, 255, truncate!BS7:LN15))","v":8},{"$f":"IF(truncate!BT7:LO15 < 0, 0, IF(truncate!BT7:LO15 > 255, 255, truncate!BT7:LO15))","v":0},{"$f":"IF(truncate!BU7:LP15 < 0, 0, IF(truncate!BU7:LP15 > 255, 255, truncate!BU7:LP15))","v":7},{"$f":"IF(truncate!BV7:LQ15 < 0, 0, IF(truncate!BV7:LQ15 > 255, 255, truncate!BV7:LQ15))","v":2},{"$f":"IF(truncate!BW7:LR15 < 0, 0, IF(truncate!BW7:LR15 > 255, 255, truncate!BW7:LR15))","v":12},{"$f":"IF(truncate!BX7:LS15 < 0, 0, IF(truncate!BX7:LS15 > 255, 255, truncate!BX7:LS15))","v":3},{"$f":"IF(truncate!BY7:LT15 < 0, 0, IF(truncate!BY7:LT15 > 255, 255, truncate!BY7:LT15))","v":0},{"$f":"IF(truncate!BZ7:LU15 < 0, 0, IF(truncate!BZ7:LU15 > 255, 255, truncate!BZ7:LU15))","v":9},{"$f":"IF(truncate!CA7:LV15 < 0, 0, IF(truncate!CA7:LV15 > 255, 255, truncate!CA7:LV15))","v":7},{"$f":"IF(truncate!CB7:LW15 < 0, 0, IF(truncate!CB7:LW15 > 255, 255, truncate!CB7:LW15))","v":0},{"$f":"IF(truncate!CC7:LX15 < 0, 0, IF(truncate!CC7:LX15 > 255, 255, truncate!CC7:LX15))","v":0},{"$f":"IF(truncate!CD7:LY15 < 0, 0, IF(truncate!CD7:LY15 > 255, 255, truncate!CD7:LY15))","v":0},{"$f":"IF(truncate!CE7:LZ15 < 0, 0, IF(truncate!CE7:LZ15 > 255, 255, truncate!CE7:LZ15))","v":0},{"$f":"IF(truncate!CF7:MA15 < 0, 0, IF(truncate!CF7:MA15 > 255, 255, truncate!CF7:MA15))","v":10},{"$f":"IF(truncate!CG7:MB15 < 0, 0, IF(truncate!CG7:MB15 > 255, 255, truncate!CG7:MB15))","v":9},{"$f":"IF(truncate!CH7:MC15 < 0, 0, IF(truncate!CH7:MC15 > 255, 255, truncate!CH7:MC15))","v":0},{"$f":"IF(truncate!CI7:MD15 < 0, 0, IF(truncate!CI7:MD15 > 255, 255, truncate!CI7:MD15))","v":7},{"$f":"IF(truncate!CJ7:ME15 < 0, 0, IF(truncate!CJ7:ME15 > 255, 255, truncate!CJ7:ME15))","v":12},{"$f":"IF(truncate!CK7:MF15 < 0, 0, IF(truncate!CK7:MF15 > 255, 255, truncate!CK7:MF15))","v":3},{"$f":"IF(truncate!CL7:MG15 < 0, 0, IF(truncate!CL7:MG15 > 255, 255, truncate!CL7:MG15))","v":9},{"$f":"IF(truncate!CM7:MH15 < 0, 0, IF(truncate!CM7:MH15 > 255, 255, truncate!CM7:MH15))","v":0},{"$f":"IF(truncate!CN7:MI15 < 0, 0, IF(truncate!CN7:MI15 > 255, 255, truncate!CN7:MI15))","v":11},{"$f":"IF(truncate!CO7:MJ15 < 0, 0, IF(truncate!CO7:MJ15 > 255, 255, truncate!CO7:MJ15))","v":0},{"$f":"IF(truncate!CP7:MK15 < 0, 0, IF(truncate!CP7:MK15 > 255, 255, truncate!CP7:MK15))","v":0},{"$f":"IF(truncate!CQ7:ML15 < 0, 0, IF(truncate!CQ7:ML15 > 255, 255, truncate!CQ7:ML15))","v":0},{"$f":"IF(truncate!CR7:MM15 < 0, 0, IF(truncate!CR7:MM15 > 255, 255, truncate!CR7:MM15))","v":11},{"$f":"IF(truncate!CS7:MN15 < 0, 0, IF(truncate!CS7:MN15 > 255, 255, truncate!CS7:MN15))","v":4},{"$f":"IF(truncate!CT7:MO15 < 0, 0, IF(truncate!CT7:MO15 > 255, 255, truncate!CT7:MO15))","v":7},{"$f":"IF(truncate!CU7:MP15 < 0, 0, IF(truncate!CU7:MP15 > 255, 255, truncate!CU7:MP15))","v":0},{"$f":"IF(truncate!CV7:MQ15 < 0, 0, IF(truncate!CV7:MQ15 > 255, 255, truncate!CV7:MQ15))","v":3},{"$f":"IF(truncate!CW7:MR15 < 0, 0, IF(truncate!CW7:MR15 > 255, 255, truncate!CW7:MR15))","v":1},{"$f":"IF(truncate!CX7:MS15 < 0, 0, IF(truncate!CX7:MS15 > 255, 255, truncate!CX7:MS15))","v":13},{"$f":"IF(truncate!CY7:MT15 < 0, 0, IF(truncate!CY7:MT15 > 255, 255, truncate!CY7:MT15))","v":0},{"$f":"IF(truncate!CZ7:MU15 < 0, 0, IF(truncate!CZ7:MU15 > 255, 255, truncate!CZ7:MU15))","v":0},{"$f":"IF(truncate!DA7:MV15 < 0, 0, IF(truncate!DA7:MV15 > 255, 255, truncate!DA7:MV15))","v":2},{"$f":"IF(truncate!DB7:MW15 < 0, 0, IF(truncate!DB7:MW15 > 255, 255, truncate!DB7:MW15))","v":7},{"$f":"IF(truncate!DC7:MX15 < 0, 0, IF(truncate!DC7:MX15 > 255, 255, truncate!DC7:MX15))","v":0},{"$f":"IF(truncate!DD7:MY15 < 0, 0, IF(truncate!DD7:MY15 > 255, 255, truncate!DD7:MY15))","v":2},{"$f":"IF(truncate!DE7:MZ15 < 0, 0, IF(truncate!DE7:MZ15 > 255, 255, truncate!DE7:MZ15))","v":11},{"$f":"IF(truncate!DF7:NA15 < 0, 0, IF(truncate!DF7:NA15 > 255, 255, truncate!DF7:NA15))","v":0},{"$f":"IF(truncate!DG7:NB15 < 0, 0, IF(truncate!DG7:NB15 > 255, 255, truncate!DG7:NB15))","v":0},{"$f":"IF(truncate!DH7:NC15 < 0, 0, IF(truncate!DH7:NC15 > 255, 255, truncate!DH7:NC15))","v":5},{"$f":"IF(truncate!DI7:ND15 < 0, 0, IF(truncate!DI7:ND15 > 255, 255, truncate!DI7:ND15))","v":0},{"$f":"IF(truncate!DJ7:NE15 < 0, 0, IF(truncate!DJ7:NE15 > 255, 255, truncate!DJ7:NE15))","v":0},{"$f":"IF(truncate!DK7:NF15 < 0, 0, IF(truncate!DK7:NF15 > 255, 255, truncate!DK7:NF15))","v":0},{"$f":"IF(truncate!DL7:NG15 < 0, 0, IF(truncate!DL7:NG15 > 255, 255, truncate!DL7:NG15))","v":11},{"$f":"IF(truncate!DM7:NH15 < 0, 0, IF(truncate!DM7:NH15 > 255, 255, truncate!DM7:NH15))","v":0},{"$f":"IF(truncate!DN7:NI15 < 0, 0, IF(truncate!DN7:NI15 > 255, 255, truncate!DN7:NI15))","v":9},{"$f":"IF(truncate!DO7:NJ15 < 0, 0, IF(truncate!DO7:NJ15 > 255, 255, truncate!DO7:NJ15))","v":0},{"$f":"IF(truncate!DP7:NK15 < 0, 0, IF(truncate!DP7:NK15 > 255, 255, truncate!DP7:NK15))","v":5},{"$f":"IF(truncate!DQ7:NL15 < 0, 0, IF(truncate!DQ7:NL15 > 255, 255, truncate!DQ7:NL15))","v":0},{"$f":"IF(truncate!DR7:NM15 < 0, 0, IF(truncate!DR7:NM15 > 255, 255, truncate!DR7:NM15))","v":0},{"$f":"IF(truncate!DS7:NN15 < 0, 0, IF(truncate!DS7:NN15 > 255, 255, truncate!DS7:NN15))","v":0},{"$f":"IF(truncate!DT7:NO15 < 0, 0, IF(truncate!DT7:NO15 > 255, 255, truncate!DT7:NO15))","v":6},{"$f":"IF(truncate!DU7:NP15 < 0, 0, IF(truncate!DU7:NP15 > 255, 255, truncate!DU7:NP15))","v":5},{"$f":"IF(truncate!DV7:NQ15 < 0, 0, IF(truncate!DV7:NQ15 > 255, 255, truncate!DV7:NQ15))","v":6},{"$f":"IF(truncate!DW7:NR15 < 0, 0, IF(truncate!DW7:NR15 > 255, 255, truncate!DW7:NR15))","v":0},{"$f":"IF(truncate!DX7:NS15 < 0, 0, IF(truncate!DX7:NS15 > 255, 255, truncate!DX7:NS15))","v":0},{"$f":"IF(truncate!DY7:NT15 < 0, 0, IF(truncate!DY7:NT15 > 255, 255, truncate!DY7:NT15))","v":0},{"$f":"IF(truncate!DZ7:NU15 < 0, 0, IF(truncate!DZ7:NU15 > 255, 255, truncate!DZ7:NU15))","v":0},{"$f":"IF(truncate!EA7:NV15 < 0, 0, IF(truncate!EA7:NV15 > 255, 255, truncate!EA7:NV15))","v":0},{"$f":"IF(truncate!EB7:NW15 < 0, 0, IF(truncate!EB7:NW15 > 255, 255, truncate!EB7:NW15))","v":0},{"$f":"IF(truncate!EC7:NX15 < 0, 0, IF(truncate!EC7:NX15 > 255, 255, truncate!EC7:NX15))","v":5},{"$f":"IF(truncate!ED7:NY15 < 0, 0, IF(truncate!ED7:NY15 > 255, 255, truncate!ED7:NY15))","v":3},{"$f":"IF(truncate!EE7:NZ15 < 0, 0, IF(truncate!EE7:NZ15 > 255, 255, truncate!EE7:NZ15))","v":0},{"$f":"IF(truncate!EF7:OA15 < 0, 0, IF(truncate!EF7:OA15 > 255, 255, truncate!EF7:OA15))","v":0},{"$f":"IF(truncate!EG7:OB15 < 0, 0, IF(truncate!EG7:OB15 > 255, 255, truncate!EG7:OB15))","v":3},{"$f":"IF(truncate!EH7:OC15 < 0, 0, IF(truncate!EH7:OC15 > 255, 255, truncate!EH7:OC15))","v":0},{"$f":"IF(truncate!EI7:OD15 < 0, 0, IF(truncate!EI7:OD15 > 255, 255, truncate!EI7:OD15))","v":3},{"$f":"IF(truncate!EJ7:OE15 < 0, 0, IF(truncate!EJ7:OE15 > 255, 255, truncate!EJ7:OE15))","v":24},{"$f":"IF(truncate!EK7:OF15 < 0, 0, IF(truncate!EK7:OF15 > 255, 255, truncate!EK7:OF15))","v":0},{"$f":"IF(truncate!EL7:OG15 < 0, 0, IF(truncate!EL7:OG15 > 255, 255, truncate!EL7:OG15))","v":4},{"$f":"IF(truncate!EM7:OH15 < 0, 0, IF(truncate!EM7:OH15 > 255, 255, truncate!EM7:OH15))","v":0},{"$f":"IF(truncate!EN7:OI15 < 0, 0, IF(truncate!EN7:OI15 > 255, 255, truncate!EN7:OI15))","v":0},{"$f":"IF(truncate!EO7:OJ15 < 0, 0, IF(truncate!EO7:OJ15 > 255, 255, truncate!EO7:OJ15))","v":4},{"$f":"IF(truncate!EP7:OK15 < 0, 0, IF(truncate!EP7:OK15 > 255, 255, truncate!EP7:OK15))","v":0},{"$f":"IF(truncate!EQ7:OL15 < 0, 0, IF(truncate!EQ7:OL15 > 255, 255, truncate!EQ7:OL15))","v":0},{"$f":"IF(truncate!ER7:OM15 < 0, 0, IF(truncate!ER7:OM15 > 255, 255, truncate!ER7:OM15))","v":0},{"$f":"IF(truncate!ES7:ON15 < 0, 0, IF(truncate!ES7:ON15 > 255, 255, truncate!ES7:ON15))","v":2},{"$f":"IF(truncate!ET7:OO15 < 0, 0, IF(truncate!ET7:OO15 > 255, 255, truncate!ET7:OO15))","v":4},{"$f":"IF(truncate!EU7:OP15 < 0, 0, IF(truncate!EU7:OP15 > 255, 255, truncate!EU7:OP15))","v":0},{"$f":"IF(truncate!EV7:OQ15 < 0, 0, IF(truncate!EV7:OQ15 > 255, 255, truncate!EV7:OQ15))","v":0},{"$f":"IF(truncate!EW7:OR15 < 0, 0, IF(truncate!EW7:OR15 > 255, 255, truncate!EW7:OR15))","v":5},{"$f":"IF(truncate!EX7:OS15 < 0, 0, IF(truncate!EX7:OS15 > 255, 255, truncate!EX7:OS15))","v":3},{"$f":"IF(truncate!EY7:OT15 < 0, 0, IF(truncate!EY7:OT15 > 255, 255, truncate!EY7:OT15))","v":9},{"$f":"IF(truncate!EZ7:OU15 < 0, 0, IF(truncate!EZ7:OU15 > 255, 255, truncate!EZ7:OU15))","v":0},{"$f":"IF(truncate!FA7:OV15 < 0, 0, IF(truncate!FA7:OV15 > 255, 255, truncate!FA7:OV15))","v":6},{"$f":"IF(truncate!FB7:OW15 < 0, 0, IF(truncate!FB7:OW15 > 255, 255, truncate!FB7:OW15))","v":11},{"$f":"IF(truncate!FC7:OX15 < 0, 0, IF(truncate!FC7:OX15 > 255, 255, truncate!FC7:OX15))","v":0},{"$f":"IF(truncate!FD7:OY15 < 0, 0, IF(truncate!FD7:OY15 > 255, 255, truncate!FD7:OY15))","v":9},{"$f":"IF(truncate!FE7:OZ15 < 0, 0, IF(truncate!FE7:OZ15 > 255, 255, truncate!FE7:OZ15))","v":2},{"$f":"IF(truncate!FF7:PA15 < 0, 0, IF(truncate!FF7:PA15 > 255, 255, truncate!FF7:PA15))","v":0},{"$f":"IF(truncate!FG7:PB15 < 0, 0, IF(truncate!FG7:PB15 > 255, 255, truncate!FG7:PB15))","v":1},{"$f":"IF(truncate!FH7:PC15 < 0, 0, IF(truncate!FH7:PC15 > 255, 255, truncate!FH7:PC15))","v":12},{"$f":"IF(truncate!FI7:PD15 < 0, 0, IF(truncate!FI7:PD15 > 255, 255, truncate!FI7:PD15))","v":0},{"$f":"IF(truncate!FJ7:PE15 < 0, 0, IF(truncate!FJ7:PE15 > 255, 255, truncate!FJ7:PE15))","v":0},{"$f":"IF(truncate!FK7:PF15 < 0, 0, IF(truncate!FK7:PF15 > 255, 255, truncate!FK7:PF15))","v":7},{"$f":"IF(truncate!FL7:PG15 < 0, 0, IF(truncate!FL7:PG15 > 255, 255, truncate!FL7:PG15))","v":12},{"$f":"IF(truncate!FM7:PH15 < 0, 0, IF(truncate!FM7:PH15 > 255, 255, truncate!FM7:PH15))","v":0},{"$f":"IF(truncate!FN7:PI15 < 0, 0, IF(truncate!FN7:PI15 > 255, 255, truncate!FN7:PI15))","v":0},{"$f":"IF(truncate!FO7:PJ15 < 0, 0, IF(truncate!FO7:PJ15 > 255, 255, truncate!FO7:PJ15))","v":1},{"$f":"IF(truncate!FP7:PK15 < 0, 0, IF(truncate!FP7:PK15 > 255, 255, truncate!FP7:PK15))","v":17},{"$f":"IF(truncate!FQ7:PL15 < 0, 0, IF(truncate!FQ7:PL15 > 255, 255, truncate!FQ7:PL15))","v":0},{"$f":"IF(truncate!FR7:PM15 < 0, 0, IF(truncate!FR7:PM15 > 255, 255, truncate!FR7:PM15))","v":3},{"$f":"IF(truncate!FS7:PN15 < 0, 0, IF(truncate!FS7:PN15 > 255, 255, truncate!FS7:PN15))","v":0},{"$f":"IF(truncate!FT7:PO15 < 0, 0, IF(truncate!FT7:PO15 > 255, 255, truncate!FT7:PO15))","v":3},{"$f":"IF(truncate!FU7:PP15 < 0, 0, IF(truncate!FU7:PP15 > 255, 255, truncate!FU7:PP15))","v":0},{"$f":"IF(truncate!FV7:PQ15 < 0, 0, IF(truncate!FV7:PQ15 > 255, 255, truncate!FV7:PQ15))","v":0},{"$f":"IF(truncate!FW7:PR15 < 0, 0, IF(truncate!FW7:PR15 > 255, 255, truncate!FW7:PR15))","v":0},{"$f":"IF(truncate!FX7:PS15 < 0, 0, IF(truncate!FX7:PS15 > 255, 255, truncate!FX7:PS15))","v":3},{"$f":"IF(truncate!FY7:PT15 < 0, 0, IF(truncate!FY7:PT15 > 255, 255, truncate!FY7:PT15))","v":0},{"$f":"IF(truncate!FZ7:PU15 < 0, 0, IF(truncate!FZ7:PU15 > 255, 255, truncate!FZ7:PU15))","v":0},{"$f":"IF(truncate!GA7:PV15 < 0, 0, IF(truncate!GA7:PV15 > 255, 255, truncate!GA7:PV15))","v":0},{"$f":"IF(truncate!GB7:PW15 < 0, 0, IF(truncate!GB7:PW15 > 255, 255, truncate!GB7:PW15))","v":0},{"$f":"IF(truncate!GC7:PX15 < 0, 0, IF(truncate!GC7:PX15 > 255, 255, truncate!GC7:PX15))","v":0},{"$f":"IF(truncate!GD7:PY15 < 0, 0, IF(truncate!GD7:PY15 > 255, 255, truncate!GD7:PY15))","v":0},{"$f":"IF(truncate!GE7:PZ15 < 0, 0, IF(truncate!GE7:PZ15 > 255, 255, truncate!GE7:PZ15))","v":5},{"$f":"IF(truncate!GF7:QA15 < 0, 0, IF(truncate!GF7:QA15 > 255, 255, truncate!GF7:QA15))","v":1},{"$f":"IF(truncate!GG7:QB15 < 0, 0, IF(truncate!GG7:QB15 > 255, 255, truncate!GG7:QB15))","v":0},{"$f":"IF(truncate!GH7:QC15 < 0, 0, IF(truncate!GH7:QC15 > 255, 255, truncate!GH7:QC15))","v":0},{"$f":"IF(truncate!GI7:QD15 < 0, 0, IF(truncate!GI7:QD15 > 255, 255, truncate!GI7:QD15))","v":0},{"$f":"IF(truncate!GJ7:QE15 < 0, 0, IF(truncate!GJ7:QE15 > 255, 255, truncate!GJ7:QE15))","v":4},{"$f":"IF(truncate!GK7:QF15 < 0, 0, IF(truncate!GK7:QF15 > 255, 255, truncate!GK7:QF15))","v":4},{"$f":"IF(truncate!GL7:QG15 < 0, 0, IF(truncate!GL7:QG15 > 255, 255, truncate!GL7:QG15))","v":0},{"$f":"IF(truncate!GM7:QH15 < 0, 0, IF(truncate!GM7:QH15 > 255, 255, truncate!GM7:QH15))","v":0},{"$f":"IF(truncate!GN7:QI15 < 0, 0, IF(truncate!GN7:QI15 > 255, 255, truncate!GN7:QI15))","v":0},{"$f":"IF(truncate!GO7:QJ15 < 0, 0, IF(truncate!GO7:QJ15 > 255, 255, truncate!GO7:QJ15))","v":0},{"$f":"IF(truncate!GP7:QK15 < 0, 0, IF(truncate!GP7:QK15 > 255, 255, truncate!GP7:QK15))","v":2},{"$f":"IF(truncate!GQ7:QL15 < 0, 0, IF(truncate!GQ7:QL15 > 255, 255, truncate!GQ7:QL15))","v":1},{"$f":"IF(truncate!GR7:QM15 < 0, 0, IF(truncate!GR7:QM15 > 255, 255, truncate!GR7:QM15))","v":0},{"$f":"IF(truncate!GS7:QN15 < 0, 0, IF(truncate!GS7:QN15 > 255, 255, truncate!GS7:QN15))","v":0},{"$f":"IF(truncate!GT7:QO15 < 0, 0, IF(truncate!GT7:QO15 > 255, 255, truncate!GT7:QO15))","v":4},{"$f":"IF(truncate!GU7:QP15 < 0, 0, IF(truncate!GU7:QP15 > 255, 255, truncate!GU7:QP15))","v":1},{"$f":"IF(truncate!GV7:QQ15 < 0, 0, IF(truncate!GV7:QQ15 > 255, 255, truncate!GV7:QQ15))","v":4},{"$f":"IF(truncate!GW7:QR15 < 0, 0, IF(truncate!GW7:QR15 > 255, 255, truncate!GW7:QR15))","v":1},{"$f":"IF(truncate!GX7:QS15 < 0, 0, IF(truncate!GX7:QS15 > 255, 255, truncate!GX7:QS15))","v":0},{"$f":"IF(truncate!GY7:QT15 < 0, 0, IF(truncate!GY7:QT15 > 255, 255, truncate!GY7:QT15))","v":7},{"$f":"IF(truncate!GZ7:QU15 < 0, 0, IF(truncate!GZ7:QU15 > 255, 255, truncate!GZ7:QU15))","v":2},{"$f":"IF(truncate!HA7:QV15 < 0, 0, IF(truncate!HA7:QV15 > 255, 255, truncate!HA7:QV15))","v":9},{"$f":"IF(truncate!HB7:QW15 < 0, 0, IF(truncate!HB7:QW15 > 255, 255, truncate!HB7:QW15))","v":0},{"$f":"IF(truncate!HC7:QX15 < 0, 0, IF(truncate!HC7:QX15 > 255, 255, truncate!HC7:QX15))","v":9},{"$f":"IF(truncate!HD7:QY15 < 0, 0, IF(truncate!HD7:QY15 > 255, 255, truncate!HD7:QY15))","v":15},{"$f":"IF(truncate!HE7:QZ15 < 0, 0, IF(truncate!HE7:QZ15 > 255, 255, truncate!HE7:QZ15))","v":2},{"$f":"IF(truncate!HF7:RA15 < 0, 0, IF(truncate!HF7:RA15 > 255, 255, truncate!HF7:RA15))","v":3},{"$f":"IF(truncate!HG7:RB15 < 0, 0, IF(truncate!HG7:RB15 > 255, 255, truncate!HG7:RB15))","v":6},{"$f":"IF(truncate!HH7:RC15 < 0, 0, IF(truncate!HH7:RC15 > 255, 255, truncate!HH7:RC15))","v":8},{"$f":"IF(truncate!HI7:RD15 < 0, 0, IF(truncate!HI7:RD15 > 255, 255, truncate!HI7:RD15))","v":1},{"$f":"IF(truncate!HJ7:RE15 < 0, 0, IF(truncate!HJ7:RE15 > 255, 255, truncate!HJ7:RE15))","v":11},{"$f":"IF(truncate!HK7:RF15 < 0, 0, IF(truncate!HK7:RF15 > 255, 255, truncate!HK7:RF15))","v":0},{"$f":"IF(truncate!HL7:RG15 < 0, 0, IF(truncate!HL7:RG15 > 255, 255, truncate!HL7:RG15))","v":0},{"$f":"IF(truncate!HM7:RH15 < 0, 0, IF(truncate!HM7:RH15 > 255, 255, truncate!HM7:RH15))","v":0},{"$f":"IF(truncate!HN7:RI15 < 0, 0, IF(truncate!HN7:RI15 > 255, 255, truncate!HN7:RI15))","v":1},{"$f":"IF(truncate!HO7:RJ15 < 0, 0, IF(truncate!HO7:RJ15 > 255, 255, truncate!HO7:RJ15))","v":0},{"$f":"IF(truncate!HP7:RK15 < 0, 0, IF(truncate!HP7:RK15 > 255, 255, truncate!HP7:RK15))","v":1},{"$f":"IF(truncate!HQ7:RL15 < 0, 0, IF(truncate!HQ7:RL15 > 255, 255, truncate!HQ7:RL15))","v":15},{"$f":"IF(truncate!HR7:RM15 < 0, 0, IF(truncate!HR7:RM15 > 255, 255, truncate!HR7:RM15))","v":0},{"$f":"IF(truncate!HS7:RN15 < 0, 0, IF(truncate!HS7:RN15 > 255, 255, truncate!HS7:RN15))","v":0},{"$f":"IF(truncate!HT7:RO15 < 0, 0, IF(truncate!HT7:RO15 > 255, 255, truncate!HT7:RO15))","v":0},{"$f":"IF(truncate!HU7:RP15 < 0, 0, IF(truncate!HU7:RP15 > 255, 255, truncate!HU7:RP15))","v":12},{"$f":"IF(truncate!HV7:RQ15 < 0, 0, IF(truncate!HV7:RQ15 > 255, 255, truncate!HV7:RQ15))","v":10},{"$f":"IF(truncate!HW7:RR15 < 0, 0, IF(truncate!HW7:RR15 > 255, 255, truncate!HW7:RR15))","v":5},{"$f":"IF(truncate!HX7:RS15 < 0, 0, IF(truncate!HX7:RS15 > 255, 255, truncate!HX7:RS15))","v":0},{"$f":"IF(truncate!HY7:RT15 < 0, 0, IF(truncate!HY7:RT15 > 255, 255, truncate!HY7:RT15))","v":3},{"$f":"IF(truncate!HZ7:RU15 < 0, 0, IF(truncate!HZ7:RU15 > 255, 255, truncate!HZ7:RU15))","v":7},{"$f":"IF(truncate!IA7:RV15 < 0, 0, IF(truncate!IA7:RV15 > 255, 255, truncate!IA7:RV15))","v":0},{"$f":"IF(truncate!IB7:RW15 < 0, 0, IF(truncate!IB7:RW15 > 255, 255, truncate!IB7:RW15))","v":2},{"$f":"IF(truncate!IC7:RX15 < 0, 0, IF(truncate!IC7:RX15 > 255, 255, truncate!IC7:RX15))","v":0},{"$f":"IF(truncate!ID7:RY15 < 0, 0, IF(truncate!ID7:RY15 > 255, 255, truncate!ID7:RY15))","v":1},{"$f":"IF(truncate!IE7:RZ15 < 0, 0, IF(truncate!IE7:RZ15 > 255, 255, truncate!IE7:RZ15))","v":0},{"$f":"IF(truncate!IF7:SA15 < 0, 0, IF(truncate!IF7:SA15 > 255, 255, truncate!IF7:SA15))","v":0},{"$f":"IF(truncate!IG7:SB15 < 0, 0, IF(truncate!IG7:SB15 > 255, 255, truncate!IG7:SB15))","v":2},{"$f":"IF(truncate!IH7:SC15 < 0, 0, IF(truncate!IH7:SC15 > 255, 255, truncate!IH7:SC15))","v":1},{"$f":"IF(truncate!II7:SD15 < 0, 0, IF(truncate!II7:SD15 > 255, 255, truncate!II7:SD15))","v":0},{"$f":"IF(truncate!IJ7:SE15 < 0, 0, IF(truncate!IJ7:SE15 > 255, 255, truncate!IJ7:SE15))","v":0},{"$f":"IF(truncate!IK7:SF15 < 0, 0, IF(truncate!IK7:SF15 > 255, 255, truncate!IK7:SF15))","v":2},{"$f":"IF(truncate!IL7:SG15 < 0, 0, IF(truncate!IL7:SG15 > 255, 255, truncate!IL7:SG15))","v":11},{"$f":"IF(truncate!IM7:SH15 < 0, 0, IF(truncate!IM7:SH15 > 255, 255, truncate!IM7:SH15))","v":10},{"$f":"IF(truncate!IN7:SI15 < 0, 0, IF(truncate!IN7:SI15 > 255, 255, truncate!IN7:SI15))","v":0},{"$f":"IF(truncate!IO7:SJ15 < 0, 0, IF(truncate!IO7:SJ15 > 255, 255, truncate!IO7:SJ15))","v":0},{"$f":"IF(truncate!IP7:SK15 < 0, 0, IF(truncate!IP7:SK15 > 255, 255, truncate!IP7:SK15))","v":0},{"$f":"IF(truncate!IQ7:SL15 < 0, 0, IF(truncate!IQ7:SL15 > 255, 255, truncate!IQ7:SL15))","v":3},{"$f":"IF(truncate!IR7:SM15 < 0, 0, IF(truncate!IR7:SM15 > 255, 255, truncate!IR7:SM15))","v":8},{"$f":"IF(truncate!IS7:SN15 < 0, 0, IF(truncate!IS7:SN15 > 255, 255, truncate!IS7:SN15))","v":6},{"$f":"IF(truncate!IT7:SO15 < 0, 0, IF(truncate!IT7:SO15 > 255, 255, truncate!IT7:SO15))","v":0},{"$f":"IF(truncate!IU7:SP15 < 0, 0, IF(truncate!IU7:SP15 > 255, 255, truncate!IU7:SP15))","v":5},{"$f":"IF(truncate!IV7:SQ15 < 0, 0, IF(truncate!IV7:SQ15 > 255, 255, truncate!IV7:SQ15))","v":4}]
[{"$f":"IF(truncate!A8:IV16 < 0, 0, IF(truncate!A8:IV16 > 255, 255, truncate!A8:IV16))","v":17},{"$f":"IF(truncate!B8:IW16 < 0, 0, IF(truncate!B8:IW16 > 255, 255, truncate!B8:IW16))","v":14},{"$f":"IF(truncate!C8:IX16 < 0, 0, IF(truncate!C8:IX16 > 255, 255, truncate!C8:IX16))","v":11},{"$f":"IF(truncate!D8:IY16 < 0, 0, IF(truncate!D8:IY16 > 255, 255, truncate!D8:IY16))","v":0},{"$f":"IF(truncate!E8:IZ16 < 0, 0, IF(truncate!E8:IZ16 > 255, 255, truncate!E8:IZ16))","v":2},{"$f":"IF(truncate!F8:JA16 < 0, 0, IF(truncate!F8:JA16 > 255, 255, truncate!F8:JA16))","v":0},{"$f":"IF(truncate!G8:JB16 < 0, 0, IF(truncate!G8:JB16 > 255, 255, truncate!G8:JB16))","v":14},{"$f":"IF(truncate!H8:JC16 < 0, 0, IF(truncate!H8:JC16 > 255, 255, truncate!H8:JC16))","v":0},{"$f":"IF(truncate!I8:JD16 < 0, 0, IF(truncate!I8:JD16 > 255, 255, truncate!I8:JD16))","v":4},{"$f":"IF(truncate!J8:JE16 < 0, 0, IF(truncate!J8:JE16 > 255, 255, truncate!J8:JE16))","v":0},{"$f":"IF(truncate!K8:JF16 < 0, 0, IF(truncate!K8:JF16 > 255, 255, truncate!K8:JF16))","v":0},{"$f":"IF(truncate!L8:JG16 < 0, 0, IF(truncate!L8:JG16 > 255, 255, truncate!L8:JG16))","v":0},{"$f":"IF(truncate!M8:JH16 < 0, 0, IF(truncate!M8:JH16 > 255, 255, truncate!M8:JH16))","v":0},{"$f":"IF(truncate!N8:JI16 < 0, 0, IF(truncate!N8:JI16 > 255, 255, truncate!N8:JI16))","v":0},{"$f":"IF(truncate!O8:JJ16 < 0, 0, IF(truncate!O8:JJ16 > 255, 255, truncate!O8:JJ16))","v":14},{"$f":"IF(truncate!P8:JK16 < 0, 0, IF(truncate!P8:JK16 > 255, 255, truncate!P8:JK16))","v":6},{"$f":"IF(truncate!Q8:JL16 < 0, 0, IF(truncate!Q8:JL16 > 255, 255, truncate!Q8:JL16))","v":0},{"$f":"IF(truncate!R8:JM16 < 0, 0, IF(truncate!R8:JM16 > 255, 255, truncate!R8:JM16))","v":0},{"$f":"IF(truncate!S8:JN16 < 0, 0, IF(truncate!S8:JN16 > 255, 255, truncate!S8:JN16))","v":7},{"$f":"IF(truncate!T8:JO16 < 0, 0, IF(truncate!T8:JO16 > 255, 255, truncate!T8:JO16))","v":6},{"$f":"IF(truncate!U8:JP16 < 0, 0, IF(truncate!U8:JP16 > 255, 255, truncate!U8:JP16))","v":5},{"$f":"IF(truncate!V8:JQ16 < 0, 0, IF(truncate!V8:JQ16 > 255, 255, truncate!V8:JQ16))","v":9},{"$f":"IF(truncate!W8:JR16 < 0, 0, IF(truncate!W8:JR16 > 255, 255, truncate!W8:JR16))","v":0},{"$f":"IF(truncate!X8:JS16 < 0, 0, IF(truncate!X8:JS16 > 255, 255, truncate!X8:JS16))","v":14},{"$f":"IF(truncate!Y8:JT16 < 0, 0, IF(truncate!Y8:JT16 > 255, 255, truncate!Y8:JT16))","v":9},{"$f":"IF(truncate!Z8:JU16 < 0, 0, IF(truncate!Z8:JU16 > 255, 255, truncate!Z8:JU16))","v":0},{"$f":"IF(truncate!AA8:JV16 < 0, 0, IF(truncate!AA8:JV16 > 255, 255, truncate!AA8:JV16))","v":2},{"$f":"IF(truncate!AB8:JW16 < 0, 0, IF(truncate!AB8:JW16 > 255, 255, truncate!AB8:JW16))","v":0},{"$f":"IF(truncate!AC8:JX16 < 0, 0, IF(truncate!AC8:JX16 > 255, 255, truncate!AC8:JX16))","v":9},{"$f":"IF(truncate!AD8:JY16 < 0, 0, IF(truncate!AD8:JY16 > 255, 255, truncate!AD8:JY16))","v":0},{"$f":"IF(truncate!AE8:JZ16 < 0, 0, IF(truncate!AE8:JZ16 > 255, 255, truncate!AE8:JZ16))","v":15},{"$f":"IF(truncate!AF8:KA16 < 0, 0, IF(truncate!AF8:KA16 > 255, 255, truncate!AF8:KA16))","v":0},{"$f":"IF(truncate!AG8:KB16 < 0, 0, IF(truncate!AG8:KB16 > 255, 255, truncate!AG8:KB16))","v":1},{"$f":"IF(truncate!AH8:KC16 < 0, 0, IF(truncate!AH8:KC16 > 255, 255, truncate!AH8:KC16))","v":0},{"$f":"IF(truncate!AI8:KD16 < 0, 0, IF(truncate!AI8:KD16 > 255, 255, truncate!AI8:KD16))","v":1},{"$f":"IF(truncate!AJ8:KE16 < 0, 0, IF(truncate!AJ8:KE16 > 255, 255, truncate!AJ8:KE16))","v":2},{"$f":"IF(truncate!AK8:KF16 < 0, 0, IF(truncate!AK8:KF16 > 255, 255, truncate!AK8:KF16))","v":0},{"$f":"IF(truncate!AL8:KG16 < 0, 0, IF(truncate!AL8:KG16 > 255, 255, truncate!AL8:KG16))","v":9},{"$f":"IF(truncate!AM8:KH16 < 0, 0, IF(truncate!AM8:KH16 > 255, 255, truncate!AM8:KH16))","v":7},{"$f":"IF(truncate!AN8:KI16 < 0, 0, IF(truncate!AN8:KI16 > 255, 255, truncate!AN8:KI16))","v":0},{"$f":"IF(truncate!AO8:KJ16 < 0, 0, IF(truncate!AO8:KJ16 > 255, 255, truncate!AO8:KJ16))","v":0},{"$f":"IF(truncate!AP8:KK16 < 0, 0, IF(truncate!AP8:KK16 > 255, 255, truncate!AP8:KK16))","v":5},{"$f":"IF(truncate!AQ8:KL16 < 0, 0, IF(truncate!AQ8:KL16 > 255, 255, truncate!AQ8:KL16))","v":0},{"$f":"IF(truncate!AR8:KM16 < 0, 0, IF(truncate!AR8:KM16 > 255, 255, truncate!AR8:KM16))","v":4},{"$f":"IF(truncate!AS8:KN16 < 0, 0, IF(truncate!AS8:KN16 > 255, 255, truncate!AS8:KN16))","v":1},{"$f":"IF(truncate!AT8:KO16 < 0, 0, IF(truncate!AT8:KO16 > 255, 255, truncate!AT8:KO16))","v":0},{"$f":"IF(truncate!AU8:KP16 < 0, 0, IF(truncate!AU8:KP16 > 255, 255, truncate!AU8:KP16))","v":0},{"$f":"IF(truncate!AV8:KQ16 < 0, 0, IF(truncate!AV8:KQ16 > 255, 255, truncate!AV8:KQ16))","v":0},{"$f":"IF(truncate!AW8:KR16 < 0, 0, IF(truncate!AW8:KR16 > 255, 255, truncate!AW8:KR16))","v":11},{"$f":"IF(truncate!AX8:KS16 < 0, 0, IF(truncate!AX8:KS16 > 255, 255, truncate!AX8:KS16))","v":0},{"$f":"IF(truncate!AY8:KT16 < 0, 0, IF(truncate!AY8:KT16 > 255, 255, truncate!AY8:KT16))","v":0},{"$f":"IF(truncate!AZ8:KU16 < 0, 0, IF(truncate!AZ8:KU16 > 255, 255, truncate!AZ8:KU16))","v":13},{"$f":"IF(truncate!BA8:KV16 < 0, 0, IF(truncate!BA8:KV16 > 255, 255, truncate!BA8:KV16))","v":0},{"$f":"IF(truncate!BB8:KW16 < 0, 0, IF(truncate!BB8:KW16 > 255, 255, truncate!BB8:KW16))","v":4},{"$f":"IF(truncate!BC8:KX16 < 0, 0, IF(truncate!BC8:KX16 > 255, 255, truncate!BC8:KX16))","v":8},{"$f":"IF(truncate!BD8:KY16 < 0, 0, IF(truncate!BD8:KY16 > 255, 255, truncate!BD8:KY16))","v":0},{"$f":"IF(truncate!BE8:KZ16 < 0, 0, IF(truncate!BE8:KZ16 > 255, 255, truncate!BE8:KZ16))","v":1},{"$f":"IF(truncate!BF8:LA16 < 0, 0, IF(truncate!BF8:LA16 > 255, 255, truncate!BF8:LA16))","v":0},{"$f":"IF(truncate!BG8:LB16 < 0, 0, IF(truncate!BG8:LB16 > 255, 255, truncate!BG8:LB16))","v":5},{"$f":"IF(truncate!BH8:LC16 < 0, 0, IF(truncate!BH8:LC16 > 255, 255, truncate!BH8:LC16))","v":11},{"$f":"IF(truncate!BI8:LD16 < 0, 0, IF(truncate!BI8:LD16 > 255, 255, truncate!BI8:LD16))","v":20},{"$f":"IF(truncate!BJ8:LE16 < 0, 0, IF(truncate!BJ8:LE16 > 255, 255, truncate!BJ8:LE16))","v":0},{"$f":"IF(truncate!BK8:LF16 < 0, 0, IF(truncate!BK8:LF16 > 255, 255, truncate!BK8:LF16))","v":0},{"$f":"IF(truncate!BL8:LG16 < 0, 0, IF(truncate!BL8:LG16 > 255, 255, truncate!BL8:LG16))","v":5},{"$f":"IF(truncate!BM8:LH16 < 0, 0, IF(truncate!BM8:LH16 > 255, 255, truncate!BM8:LH16))","v":7},{"$f":"IF(truncate!BN8:LI16 < 0, 0, IF(truncate!BN8:LI16 > 255, 255, truncate!BN8:LI16))","v":12},{"$f":"IF(truncate!BO8:LJ16 < 0, 0, IF(truncate!BO8:LJ16 > 255, 255, truncate!BO8:LJ16))","v":0},{"$f":"IF(truncate!BP8:LK16 < 0, 0, IF(truncate!BP8:LK16 > 255, 255, truncate!BP8:LK16))","v":1},{"$f":"IF(truncate!BQ8:LL16 < 0, 0, IF(truncate!BQ8:LL16 > 255, 255, truncate!BQ8:LL16))","v":0},{"$f":"IF(truncate!BR8:LM16 < 0, 0, IF(truncate!BR8:LM16 > 255, 255, truncate!BR8:LM16))","v":8},{"$f":"IF(truncate!BS8:LN16 < 0, 0, IF(truncate!BS8:LN16 > 255, 255, truncate!BS8:LN16))","v":4},{"$f":"IF(truncate!BT8:LO16 < 0, 0, IF(truncate!BT8:LO16 > 255, 255, truncate!BT8:LO16))","v":0},{"$f":"IF(truncate!BU8:LP16 < 0, 0, IF(truncate!BU8:LP16 > 255, 255, truncate!BU8:LP16))","v":13},{"$f":"IF(truncate!BV8:LQ16 < 0, 0, IF(truncate!BV8:LQ16 > 255, 255, truncate!BV8:LQ16))","v":3},{"$f":"IF(truncate!BW8:LR16 < 0, 0, IF(truncate!BW8:LR16 > 255, 255, truncate!BW8:LR16))","v":7},{"$f":"IF(truncate!BX8:LS16 < 0, 0, IF(truncate!BX8:LS16 > 255, 255, truncate!BX8:LS16))","v":0},{"$f":"IF(truncate!BY8:LT16 < 0, 0, IF(truncate!BY8:LT16 > 255, 255, truncate!BY8:LT16))","v":0},{"$f":"IF(truncate!BZ8:LU16 < 0, 0, IF(truncate!BZ8:LU16 > 255, 255, truncate!BZ8:LU16))","v":0},{"$f":"IF(truncate!CA8:LV16 < 0, 0, IF(truncate!CA8:LV16 > 255, 255, truncate!CA8:LV16))","v":0},{"$f":"IF(truncate!CB8:LW16 < 0, 0, IF(truncate!CB8:LW16 > 255, 255, truncate!CB8:LW16))","v":0},{"$f":"IF(truncate!CC8:LX16 < 0, 0, IF(truncate!CC8:LX16 > 255, 255, truncate!CC8:LX16))","v":7},{"$f":"IF(truncate!CD8:LY16 < 0, 0, IF(truncate!CD8:LY16 > 255, 255, truncate!CD8:LY16))","v":0},{"$f":"IF(truncate!CE8:LZ16 < 0, 0, IF(truncate!CE8:LZ16 > 255, 255, truncate!CE8:LZ16))","v":0},{"$f":"IF(truncate!CF8:MA16 < 0, 0, IF(truncate!CF8:MA16 > 255, 255, truncate!CF8:MA16))","v":16},{"$f":"IF(truncate!CG8:MB16 < 0, 0, IF(truncate!CG8:MB16 > 255, 255, truncate!CG8:MB16))","v":4},{"$f":"IF(truncate!CH8:MC16 < 0, 0, IF(truncate!CH8:MC16 > 255, 255, truncate!CH8:MC16))","v":3},{"$f":"IF(truncate!CI8:MD16 < 0, 0, IF(truncate!CI8:MD16 > 255, 255, truncate!CI8:MD16))","v":10},{"$f":"IF(truncate!CJ8:ME16 < 0, 0, IF(truncate!CJ8:ME16 > 255, 255, truncate!CJ8:ME16))","v":20},{"$f":"IF(truncate!CK8:MF16 < 0, 0, IF(truncate!CK8:MF16 > 255, 255, truncate!CK8:MF16))","v":10},{"$f":"IF(truncate!CL8:MG16 < 0, 0, IF(truncate!CL8:MG16 > 255, 255, truncate!CL8:MG16))","v":16},{"$f":"IF(truncate!CM8:MH16 < 0, 0, IF(truncate!CM8:MH16 > 255, 255, truncate!CM8:MH16))","v":0},{"$f":"IF(truncate!CN8:MI16 < 0, 0, IF(truncate!CN8:MI16 > 255, 255, truncate!CN8:MI16))","v":8},{"$f":"IF(truncate!CO8:MJ16 < 0, 0, IF(truncate!CO8:MJ16 > 255, 255, truncate!CO8:MJ16))","v":0},{"$f":"IF(truncate!CP8:MK16 < 0, 0, IF(truncate!CP8:MK16 > 255, 255, truncate!CP8:MK16))","v":0},{"$f":"IF(truncate!CQ8:ML16 < 0, 0, IF(truncate!CQ8:ML16 > 255, 255, truncate!CQ8:ML16))","v":5},{"$f":"IF(truncate!CR8:MM16 < 0, 0, IF(truncate!CR8:MM16 > 255, 255, truncate!CR8:MM16))","v":15},{"$f":"IF(truncate!CS8:MN16 < 0, 0, IF(truncate!CS8:MN16 > 255, 255, truncate!CS8:MN16))","v":14},{"$f":"IF(truncate!CT8:MO16 < 0, 0, IF(truncate!CT8:MO16 > 255, 255, truncate!CT8:MO16))","v":0},{"$f":"IF(truncate!CU8:MP16 < 0, 0, IF(truncate!CU8:MP16 > 255, 255, truncate!CU8:MP16))","v":1},{"$f":"IF(truncate!CV8:MQ16 < 0, 0, IF(truncate!CV8:MQ16 > 255, 255, truncate!CV8:MQ16))","v":1},{"$f":"IF(truncate!CW8:MR16 < 0, 0, IF(truncate!CW8:MR16 > 255, 255, truncate!CW8:MR16))","v":1},{"$f":"IF(truncate!CX8:MS16 < 0, 0, IF(truncate!CX8:MS16 > 255, 255, truncate!CX8:MS16))","v":10},{"$f":"IF(truncate!CY8:MT16 < 0, 0, IF(truncate!CY8:MT16 > 255, 255, truncate!CY8:MT16))","v":0},{"$f":"IF(truncate!CZ8:MU16 < 0, 0, IF(truncate!CZ8:MU16 > 255, 255, truncate!CZ8:MU16))","v":0},{"$f":"IF(truncate!DA8:MV16 < 0, 0, IF(truncate!DA8:MV16 > 255, 255, truncate!DA8:MV16))","v":2},{"$f":"IF(truncate!DB8:MW16 < 0, 0, IF(truncate!DB8:MW16 > 255, 255, truncate!DB8:MW16))","v":9},{"$f":"IF(truncate!DC8:MX16 < 0, 0, IF(truncate!DC8:MX16 > 255, 255, truncate!DC8:MX16))","v":4},{"$f":"IF(truncate!DD8:MY16 < 0, 0, IF(truncate!DD8:MY16 > 255, 255, truncate!DD8:MY16))","v":0},{"$f":"IF(truncate!DE8:MZ16 < 0, 0, IF(truncate!DE8:MZ16 > 255, 255, truncate!DE8:MZ16))","v":26},{"$f":"IF(truncate!DF8:NA16 < 0, 0, IF(truncate!DF8:NA16 > 255, 255, truncate!DF8:NA16))","v":0},{"$f":"IF(truncate!DG8:NB16 < 0, 0, IF(truncate!DG8:NB16 > 255, 255, truncate!DG8:NB16))","v":0},{"$f":"IF(truncate!DH8:NC16 < 0, 0, IF(truncate!DH8:NC16 > 255, 255, truncate!DH8:NC16))","v":3},{"$f":"IF(truncate!DI8:ND16 < 0, 0, IF(truncate!DI8:ND16 > 255, 255, truncate!DI8:ND16))","v":0},{"$f":"IF(truncate!DJ8:NE16 < 0, 0, IF(truncate!DJ8:NE16 > 255, 255, truncate!DJ8:NE16))","v":0},{"$f":"IF(truncate!DK8:NF16 < 0, 0, IF(truncate!DK8:NF16 > 255, 255, truncate!DK8:NF16))","v":5},{"$f":"IF(truncate!DL8:NG16 < 0, 0, IF(truncate!DL8:NG16 > 255, 255, truncate!DL8:NG16))","v":7},{"$f":"IF(truncate!DM8:NH16 < 0, 0, IF(truncate!DM8:NH16 > 255, 255, truncate!DM8:NH16))","v":0},{"$f":"IF(truncate!DN8:NI16 < 0, 0, IF(truncate!DN8:NI16 > 255, 255, truncate!DN8:NI16))","v":6},{"$f":"IF(truncate!DO8:NJ16 < 0, 0, IF(truncate!DO8:NJ16 > 255, 255, truncate!DO8:NJ16))","v":0},{"$f":"IF(truncate!DP8:NK16 < 0, 0, IF(truncate!DP8:NK16 > 255, 255, truncate!DP8:NK16))","v":9},{"$f":"IF(truncate!DQ8:NL16 < 0, 0, IF(truncate!DQ8:NL16 > 255, 255, truncate!DQ8:NL16))","v":0},{"$f":"IF(truncate!DR8:NM16 < 0, 0, IF(truncate!DR8:NM16 > 255, 255, truncate!DR8:NM16))","v":0},{"$f":"IF(truncate!DS8:NN16 < 0, 0, IF(truncate!DS8:NN16 > 255, 255, truncate!DS8:NN16))","v":0},{"$f":"IF(truncate!DT8:NO16 < 0, 0, IF(truncate!DT8:NO16 > 255, 255, truncate!DT8:NO16))","v":4},{"$f":"IF(truncate!DU8:NP16 < 0, 0, IF(truncate!DU8:NP16 > 255, 255, truncate!DU8:NP16))","v":11},{"$f":"IF(truncate!DV8:NQ16 < 0, 0, IF(truncate!DV8:NQ16 > 255, 255, truncate!DV8:NQ16))","v":5},{"$f":"IF(truncate!DW8:NR16 < 0, 0, IF(truncate!DW8:NR16 > 255, 255, truncate!DW8:NR16))","v":0},{"$f":"IF(truncate!DX8:NS16 < 0, 0, IF(truncate!DX8:NS16 > 255, 255, truncate!DX8:NS16))","v":0},{"$f":"IF(truncate!DY8:NT16 < 0, 0, IF(truncate!DY8:NT16 > 255, 255, truncate!DY8:NT16))","v":0},{"$f":"IF(truncate!DZ8:NU16 < 0, 0, IF(truncate!DZ8:NU16 > 255, 255, truncate!DZ8:NU16))","v":1},{"$f":"IF(truncate!EA8:NV16 < 0, 0, IF(truncate!EA8:NV16 > 255, 255, truncate!EA8:NV16))","v":0},{"$f":"IF(truncate!EB8:NW16 < 0, 0, IF(truncate!EB8:NW16 > 255, 255, truncate!EB8:NW16))","v":0},{"$f":"IF(truncate!EC8:NX16 < 0, 0, IF(truncate!EC8:NX16 > 255, 255, truncate!EC8:NX16))","v":4},{"$f":"IF(truncate!ED8:NY16 < 0, 0, IF(truncate!ED8:NY16 > 255, 255, truncate!ED8:NY16))","v":14},{"$f":"IF(truncate!EE8:NZ16 < 0, 0, IF(truncate!EE8:NZ16 > 255, 255, truncate!EE8:NZ16))","v":5},{"$f":"IF(truncate!EF8:OA16 < 0, 0, IF(truncate!EF8:OA16 > 255, 255, truncate!EF8:OA16))","v":1},{"$f":"IF(truncate!EG8:OB16 < 0, 0, IF(truncate!EG8:OB16 > 255, 255, truncate!EG8:OB16))","v":9},{"$f":"IF(truncate!EH8:OC16 < 0, 0, IF(truncate!EH8:OC16 > 255, 255, truncate!EH8:OC16))","v":0},{"$f":"IF(truncate!EI8:OD16 < 0, 0, IF(truncate!EI8:OD16 > 255, 255, truncate!EI8:OD16))","v":4},{"$f":"IF(truncate!EJ8:OE16 < 0, 0, IF(truncate!EJ8:OE16 > 255, 255, truncate!EJ8:OE16))","v":7},{"$f":"IF(truncate!EK8:OF16 < 0, 0, IF(truncate!EK8:OF16 > 255, 255, truncate!EK8:OF16))","v":1},{"$f":"IF(truncate!EL8:OG16 < 0, 0, IF(truncate!EL8:OG16 > 255, 255, truncate!EL8:OG16))","v":5},{"$f":"IF(truncate!EM8:OH16 < 0, 0, IF(truncate!EM8:OH16 > 255, 255, truncate!EM8:OH16))","v":6},{"$f":"IF(truncate!EN8:OI16 < 0, 0, IF(truncate!EN8:OI16 > 255, 255, truncate!EN8:OI16))","v":2},{"$f":"IF(truncate!EO8:OJ16 < 0, 0, IF(truncate!EO8:OJ16 > 255, 255, truncate!EO8:OJ16))","v":7},{"$f":"IF(truncate!EP8:OK16 < 0, 0, IF(truncate!EP8:OK16 > 255, 255, truncate!EP8:OK16))","v":0},{"$f":"IF(truncate!EQ8:OL16 < 0, 0, IF(truncate!EQ8:OL16 > 255, 255, truncate!EQ8:OL16))","v":0},{"$f":"IF(truncate!ER8:OM16 < 0, 0, IF(truncate!ER8:OM16 > 255, 255, truncate!ER8:OM16))","v":1},{"$f":"IF(truncate!ES8:ON16 < 0, 0, IF(truncate!ES8:ON16 > 255, 255, truncate!ES8:ON16))","v":3},{"$f":"IF(truncate!ET8:OO16 < 0, 0, IF(truncate!ET8:OO16 > 255, 255, truncate!ET8:OO16))","v":25},{"$f":"IF(truncate!EU8:OP16 < 0, 0, IF(truncate!EU8:OP16 > 255, 255, truncate!EU8:OP16))","v":0},{"$f":"IF(truncate!EV8:OQ16 < 0, 0, IF(truncate!EV8:OQ16 > 255, 255, truncate!EV8:OQ16))","v":4},{"$f":"IF(truncate!EW8:OR16 < 0, 0, IF(truncate!EW8:OR16 > 255, 255, truncate!EW8:OR16))","v":2},{"$f":"IF(truncate!EX8:OS16 < 0, 0, IF(truncate!EX8:OS16 > 255, 255, truncate!EX8:OS16))","v":14},{"$f":"IF(truncate!EY8:OT16 < 0, 0, IF(truncate!EY8:OT16 > 255, 255, truncate!EY8:OT16))","v":11},{"$f":"IF(truncate!EZ8:OU16 < 0, 0, IF(truncate!EZ8:OU16 > 255, 255, truncate!EZ8:OU16))","v":3},{"$f":"IF(truncate!FA8:OV16 < 0, 0, IF(truncate!FA8:OV16 > 255, 255, truncate!FA8:OV16))","v":0},{"$f":"IF(truncate!FB8:OW16 < 0, 0, IF(truncate!FB8:OW16 > 255, 255, truncate!FB8:OW16))","v":12},{"$f":"IF(truncate!FC8:OX16 < 0, 0, IF(truncate!FC8:OX16 > 255, 255, truncate!FC8:OX16))","v":3},{"$f":"IF(truncate!FD8:OY16 < 0, 0, IF(truncate!FD8:OY16 > 255, 255, truncate!FD8:OY16))","v":7},{"$f":"IF(truncate!FE8:OZ16 < 0, 0, IF(truncate!FE8:OZ16 > 255, 255, truncate!FE8:OZ16))","v":6},{"$f":"IF(truncate!FF8:PA16 < 0, 0, IF(truncate!FF8:PA16 > 255, 255, truncate!FF8:PA16))","v":0},{"$f":"IF(truncate!FG8:PB16 < 0, 0, IF(truncate!FG8:PB16 > 255, 255, truncate!FG8:PB16))","v":2},{"$f":"IF(truncate!FH8:PC16 < 0, 0, IF(truncate!FH8:PC16 > 255, 255, truncate!FH8:PC16))","v":11},{"$f":"IF(truncate!FI8:PD16 < 0, 0, IF(truncate!FI8:PD16 > 255, 255, truncate!FI8:PD16))","v":0},{"$f":"IF(truncate!FJ8:PE16 < 0, 0, IF(truncate!FJ8:PE16 > 255, 255, truncate!FJ8:PE16))","v":0},{"$f":"IF(truncate!FK8:PF16 < 0, 0, IF(truncate!FK8:PF16 > 255, 255, truncate!FK8:PF16))","v":26},{"$f":"IF(truncate!FL8:PG16 < 0, 0, IF(truncate!FL8:PG16 > 255, 255, truncate!FL8:PG16))","v":0},{"$f":"IF(truncate!FM8:PH16 < 0, 0, IF(truncate!FM8:PH16 > 255, 255, truncate!FM8:PH16))","v":0},{"$f":"IF(truncate!FN8:PI16 < 0, 0, IF(truncate!FN8:PI16 > 255, 255, truncate!FN8:PI16))","v":4},{"$f":"IF(truncate!FO8:PJ16 < 0, 0, IF(truncate!FO8:PJ16 > 255, 255, truncate!FO8:PJ16))","v":0},{"$f":"IF(truncate!FP8:PK16 < 0, 0, IF(truncate!FP8:PK16 > 255, 255, truncate!FP8:PK16))","v":21},{"$f":"IF(truncate!FQ8:PL16 < 0, 0, IF(truncate!FQ8:PL16 > 255, 255, truncate!FQ8:PL16))","v":0},{"$f":"IF(truncate!FR8:PM16 < 0, 0, IF(truncate!FR8:PM16 > 255, 255, truncate!FR8:PM16))","v":12},{"$f":"IF(truncate!FS8:PN16 < 0, 0, IF(truncate!FS8:PN16 > 255, 255, truncate!FS8:PN16))","v":0},{"$f":"IF(truncate!FT8:PO16 < 0, 0, IF(truncate!FT8:PO16 > 255, 255, truncate!FT8:PO16))","v":4},{"$f":"IF(truncate!FU8:PP16 < 0, 0, IF(truncate!FU8:PP16 > 255, 255, truncate!FU8:PP16))","v":0},{"$f":"IF(truncate!FV8:PQ16 < 0, 0, IF(truncate!FV8:PQ16 > 255, 255, truncate!FV8:PQ16))","v":0},{"$f":"IF(truncate!FW8:PR16 < 0, 0, IF(truncate!FW8:PR16 > 255, 255, truncate!FW8:PR16))","v":0},{"$f":"IF(truncate!FX8:PS16 < 0, 0, IF(truncate!FX8:PS16 > 255, 255, truncate!FX8:PS16))","v":0},{"$f":"IF(truncate!FY8:PT16 < 0, 0, IF(truncate!FY8:PT16 > 255, 255, truncate!FY8:PT16))","v":0},{"$f":"IF(truncate!FZ8:PU16 < 0, 0, IF(truncate!FZ8:PU16 > 255, 255, truncate!FZ8:PU16))","v":0},{"$f":"IF(truncate!GA8:PV16 < 0, 0, IF(truncate!GA8:PV16 > 255, 255, truncate!GA8:PV16))","v":0},{"$f":"IF(truncate!GB8:PW16 < 0, 0, IF(truncate!GB8:PW16 > 255, 255, truncate!GB8:PW16))","v":0},{"$f":"IF(truncate!GC8:PX16 < 0, 0, IF(truncate!GC8:PX16 > 255, 255, truncate!GC8:PX16))","v":7},{"$f":"IF(truncate!GD8:PY16 < 0, 0, IF(truncate!GD8:PY16 > 255, 255, truncate!GD8:PY16))","v":0},{"$f":"IF(truncate!GE8:PZ16 < 0, 0, IF(truncate!GE8:PZ16 > 255, 255, truncate!GE8:PZ16))","v":3},{"$f":"IF(truncate!GF8:QA16 < 0, 0, IF(truncate!GF8:QA16 > 255, 255, truncate!GF8:QA16))","v":0},{"$f":"IF(truncate!GG8:QB16 < 0, 0, IF(truncate!GG8:QB16 > 255, 255, truncate!GG8:QB16))","v":0},{"$f":"IF(truncate!GH8:QC16 < 0, 0, IF(truncate!GH8:QC16 > 255, 255, truncate!GH8:QC16))","v":0},{"$f":"IF(truncate!GI8:QD16 < 0, 0, IF(truncate!GI8:QD16 > 255, 255, truncate!GI8:QD16))","v":11},{"$f":"IF(truncate!GJ8:QE16 < 0, 0, IF(truncate!GJ8:QE16 > 255, 255, truncate!GJ8:QE16))","v":0},{"$f":"IF(truncate!GK8:QF16 < 0, 0, IF(truncate!GK8:QF16 > 255, 255, truncate!GK8:QF16))","v":10},{"$f":"IF(truncate!GL8:QG16 < 0, 0, IF(truncate!GL8:QG16 > 255, 255, truncate!GL8:QG16))","v":3},{"$f":"IF(truncate!GM8:QH16 < 0, 0, IF(truncate!GM8:QH16 > 255, 255, truncate!GM8:QH16))","v":8},{"$f":"IF(truncate!GN8:QI16 < 0, 0, IF(truncate!GN8:QI16 > 255, 255, truncate!GN8:QI16))","v":0},{"$f":"IF(truncate!GO8:QJ16 < 0, 0, IF(truncate!GO8:QJ16 > 255, 255, truncate!GO8:QJ16))","v":0},{"$f":"IF(truncate!GP8:QK16 < 0, 0, IF(truncate!GP8:QK16 > 255, 255, truncate!GP8:QK16))","v":4},{"$f":"IF(truncate!GQ8:QL16 < 0, 0, IF(truncate!GQ8:QL16 > 255, 255, truncate!GQ8:QL16))","v":0},{"$f":"IF(truncate!GR8:QM16 < 0, 0, IF(truncate!GR8:QM16 > 255, 255, truncate!GR8:QM16))","v":4},{"$f":"IF(truncate!GS8:QN16 < 0, 0, IF(truncate!GS8:QN16 > 255, 255, truncate!GS8:QN16))","v":0},{"$f":"IF(truncate!GT8:QO16 < 0, 0, IF(truncate!GT8:QO16 > 255, 255, truncate!GT8:QO16))","v":4},{"$f":"IF(truncate!GU8:QP16 < 0, 0, IF(truncate!GU8:QP16 > 255, 255, truncate!GU8:QP16))","v":12},{"$f":"IF(truncate!GV8:QQ16 < 0, 0, IF(truncate!GV8:QQ16 > 255, 255, truncate!GV8:QQ16))","v":0},{"$f":"IF(truncate!GW8:QR16 < 0, 0, IF(truncate!GW8:QR16 > 255, 255, truncate!GW8:QR16))","v":0},{"$f":"IF(truncate!GX8:QS16 < 0, 0, IF(truncate!GX8:QS16 > 255, 255, truncate!GX8:QS16))","v":0},{"$f":"IF(truncate!GY8:QT16 < 0, 0, IF(truncate!GY8:QT16 > 255, 255, truncate!GY8:QT16))","v":11},{"$f":"IF(truncate!GZ8:QU16 < 0, 0, IF(truncate!GZ8:QU16 > 255, 255, truncate!GZ8:QU16))","v":4},{"$f":"IF(truncate!HA8:QV16 < 0, 0, IF(truncate!HA8:QV16 > 255, 255, truncate!HA8:QV16))","v":16},{"$f":"IF(truncate!HB8:QW16 < 0, 0, IF(truncate!HB8:QW16 > 255, 255, truncate!HB8:QW16))","v":0},{"$f":"IF(truncate!HC8:QX16 < 0, 0, IF(truncate!HC8:QX16 > 255, 255, truncate!HC8:QX16))","v":2},{"$f":"IF(truncate!HD8:QY16 < 0, 0, IF(truncate!HD8:QY16 > 255, 255, truncate!HD8:QY16))","v":5},{"$f":"IF(truncate!HE8:QZ16 < 0, 0, IF(truncate!HE8:QZ16 > 255, 255, truncate!HE8:QZ16))","v":0},{"$f":"IF(truncate!HF8:RA16 < 0, 0, IF(truncate!HF8:RA16 > 255, 255, truncate!HF8:RA16))","v":7},{"$f":"IF(truncate!HG8:RB16 < 0, 0, IF(truncate!HG8:RB16 > 255, 255, truncate!HG8:RB16))","v":0},{"$f":"IF(truncate!HH8:RC16 < 0, 0, IF(truncate!HH8:RC16 > 255, 255, truncate!HH8:RC16))","v":11},{"$f":"IF(truncate!HI8:RD16 < 0, 0, IF(truncate!HI8:RD16 > 255, 255, truncate!HI8:RD16))","v":6},{"$f":"IF(truncate!HJ8:RE16 < 0, 0, IF(truncate!HJ8:RE16 > 255, 255, truncate!HJ8:RE16))","v":21},{"$f":"IF(truncate!HK8:RF16 < 0, 0, IF(truncate!HK8:RF16 > 255, 255, truncate!HK8:RF16))","v":0},{"$f":"IF(truncate!HL8:RG16 < 0, 0, IF(truncate!HL8:RG16 > 255, 255, truncate!HL8:RG16))","v":0},{"$f":"IF(truncate!HM8:RH16 < 0, 0, IF(truncate!HM8:RH16 > 255, 255, truncate!HM8:RH16))","v":0},{"$f":"IF(truncate!HN8:RI16 < 0, 0, IF(truncate!HN8:RI16 > 255, 255, truncate!HN8:RI16))","v":8},{"$f":"IF(truncate!HO8:RJ16 < 0, 0, IF(truncate!HO8:RJ16 > 255, 255, truncate!HO8:RJ16))","v":0},{"$f":"IF(truncate!HP8:RK16 < 0, 0, IF(truncate!HP8:RK16 > 255, 255, truncate!HP8:RK16))","v":1},{"$f":"IF(truncate!HQ8:RL16 < 0, 0, IF(truncate!HQ8:RL16 > 255, 255, truncate!HQ8:RL16))","v":11},{"$f":"IF(truncate!HR8:RM16 < 0, 0, IF(truncate!HR8:RM16 > 255, 255, truncate!HR8:RM16))","v":1},{"$f":"IF(truncate!HS8:RN16 < 0, 0, IF(truncate!HS8:RN16 > 255, 255, truncate!HS8:RN16))","v":0},{"$f":"IF(truncate!HT8:RO16 < 0, 0, IF(truncate!HT8:RO16 > 255, 255, truncate!HT8:RO16))","v":0},{"$f":"IF(truncate!HU8:RP16 < 0, 0, IF(truncate!HU8:RP16 > 255, 255, truncate!HU8:RP16))","v":0},{"$f":"IF(truncate!HV8:RQ16 < 0, 0, IF(truncate!HV8:RQ16 > 255, 255, truncate!HV8:RQ16))","v":5},{"$f":"IF(truncate!HW8:RR16 < 0, 0, IF(truncate!HW8:RR16 > 255, 255, truncate!HW8:RR16))","v":15},{"$f":"IF(truncate!HX8:RS16 < 0, 0, IF(truncate!HX8:RS16 > 255, 255, truncate!HX8:RS16))","v":0},{"$f":"IF(truncate!HY8:RT16 < 0, 0, IF(truncate!HY8:RT16 > 255, 255, truncate!HY8:RT16))","v":10},{"$f":"IF(truncate!HZ8:RU16 < 0, 0, IF(truncate!HZ8:RU16 > 255, 255, truncate!HZ8:RU16))","v":4},{"$f":"IF(truncate!IA8:RV16 < 0, 0, IF(truncate!IA8:RV16 > 255, 255, truncate!IA8:RV16))","v":0},{"$f":"IF(truncate!IB8:RW16 < 0, 0, IF(truncate!IB8:RW16 > 255, 255, truncate!IB8:RW16))","v":1},{"$f":"IF(truncate!IC8:RX16 < 0, 0, IF(truncate!IC8:RX16 > 255, 255, truncate!IC8:RX16))","v":1},{"$f":"IF(truncate!ID8:RY16 < 0, 0, IF(truncate!ID8:RY16 > 255, 255, truncate!ID8:RY16))","v":12},{"$f":"IF(truncate!IE8:RZ16 < 0, 0, IF(truncate!IE8:RZ16 > 255, 255, truncate!IE8:RZ16))","v":0},{"$f":"IF(truncate!IF8:SA16 < 0, 0, IF(truncate!IF8:SA16 > 255, 255, truncate!IF8:SA16))","v":0},{"$f":"IF(truncate!IG8:SB16 < 0, 0, IF(truncate!IG8:SB16 > 255, 255, truncate!IG8:SB16))","v":6},{"$f":"IF(truncate!IH8:SC16 < 0, 0, IF(truncate!IH8:SC16 > 255, 255, truncate!IH8:SC16))","v":4},{"$f":"IF(truncate!II8:SD16 < 0, 0, IF(truncate!II8:SD16 > 255, 255, truncate!II8:SD16))","v":0},{"$f":"IF(truncate!IJ8:SE16 < 0, 0, IF(truncate!IJ8:SE16 > 255, 255, truncate!IJ8:SE16))","v":0},{"$f":"IF(truncate!IK8:SF16 < 0, 0, IF(truncate!IK8:SF16 > 255, 255, truncate!IK8:SF16))","v":3},{"$f":"IF(truncate!IL8:SG16 < 0, 0, IF(truncate!IL8:SG16 > 255, 255, truncate!IL8:SG16))","v":15},{"$f":"IF(truncate!IM8:SH16 < 0, 0, IF(truncate!IM8:SH16 > 255, 255, truncate!IM8:SH16))","v":3},{"$f":"IF(truncate!IN8:SI16 < 0, 0, IF(truncate!IN8:SI16 > 255, 255, truncate!IN8:SI16))","v":0},{"$f":"IF(truncate!IO8:SJ16 < 0, 0, IF(truncate!IO8:SJ16 > 255, 255, truncate!IO8:SJ16))","v":0},{"$f":"IF(truncate!IP8:SK16 < 0, 0, IF(truncate!IP8:SK16 > 255, 255, truncate!IP8:SK16))","v":2},{"$f":"IF(truncate!IQ8:SL16 < 0, 0, IF(truncate!IQ8:SL16 > 255, 255, truncate!IQ8:SL16))","v":0},{"$f":"IF(truncate!IR8:SM16 < 0, 0, IF(truncate!IR8:SM16 > 255, 255, truncate!IR8:SM16))","v":4},{"$f":"IF(truncate!IS8:SN16 < 0, 0, IF(truncate!IS8:SN16 > 255, 255, truncate!IS8:SN16))","v":6},{"$f":"IF(truncate!IT8:SO16 < 0, 0, IF(truncate!IT8:SO16 > 255, 255, truncate!IT8:SO16))","v":0},{"$f":"IF(truncate!IU8:SP16 < 0, 0, IF(truncate!IU8:SP16 > 255, 255, truncate!IU8:SP16))","v":2},{"$f":"IF(truncate!IV8:SQ16 < 0, 0, IF(truncate!IV8:SQ16 > 255, 255, truncate!IV8:SQ16))","v":15}]
[{"$f":"IF(truncate!A9:IV17 < 0, 0, IF(truncate!A9:IV17 > 255, 255, truncate!A9:IV17))","v":18},{"$f":"IF(truncate!B9:IW17 < 0, 0, IF(truncate!B9:IW17 > 255, 255, truncate!B9:IW17))","v":7},{"$f":"IF(truncate!C9:IX17 < 0, 0, IF(truncate!C9:IX17 > 255, 255, truncate!C9:IX17))","v":3},{"$f":"IF(truncate!D9:IY17 < 0, 0, IF(truncate!D9:IY17 > 255, 255, truncate!D9:IY17))","v":0},{"$f":"IF(truncate!E9:IZ17 < 0, 0, IF(truncate!E9:IZ17 > 255, 255, truncate!E9:IZ17))","v":5},{"$f":"IF(truncate!F9:JA17 < 0, 0, IF(truncate!F9:JA17 > 255, 255, truncate!F9:JA17))","v":0},{"$f":"IF(truncate!G9:JB17 < 0, 0, IF(truncate!G9:JB17 > 255, 255, truncate!G9:JB17))","v":5},{"$f":"IF(truncate!H9:JC17 < 0, 0, IF(truncate!H9:JC17 > 255, 255, truncate!H9:JC17))","v":0},{"$f":"IF(truncate!I9:JD17 < 0, 0, IF(truncate!I9:JD17 > 255, 255, truncate!I9:JD17))","v":0},{"$f":"IF(truncate!J9:JE17 < 0, 0, IF(truncate!J9:JE17 > 255, 255, truncate!J9:JE17))","v":0},{"$f":"IF(truncate!K9:JF17 < 0, 0, IF(truncate!K9:JF17 > 255, 255, truncate!K9:JF17))","v":0},{"$f":"IF(truncate!L9:JG17 < 0, 0, IF(truncate!L9:JG17 > 255, 255, truncate!L9:JG17))","v":0},{"$f":"IF(truncate!M9:JH17 < 0, 0, IF(truncate!M9:JH17 > 255, 255, truncate!M9:JH17))","v":0},{"$f":"IF(truncate!N9:JI17 < 0, 0, IF(truncate!N9:JI17 > 255, 255, truncate!N9:JI17))","v":0},{"$f":"IF(truncate!O9:JJ17 < 0, 0, IF(truncate!O9:JJ17 > 255, 255, truncate!O9:JJ17))","v":6},{"$f":"IF(truncate!P9:JK17 < 0, 0, IF(truncate!P9:JK17 > 255, 255, truncate!P9:JK17))","v":9},{"$f":"IF(truncate!Q9:JL17 < 0, 0, IF(truncate!Q9:JL17 > 255, 255, truncate!Q9:JL17))","v":4},{"$f":"IF(truncate!R9:JM17 < 0, 0, IF(truncate!R9:JM17 > 255, 255, truncate!R9:JM17))","v":0},{"$f":"IF(truncate!S9:JN17 < 0, 0, IF(truncate!S9:JN17 > 255, 255, truncate!S9:JN17))","v":4},{"$f":"IF(truncate!T9:JO17 < 0, 0, IF(truncate!T9:JO17 > 255, 255, truncate!T9:JO17))","v":0},{"$f":"IF(truncate!U9:JP17 < 0, 0, IF(truncate!U9:JP17 > 255, 255, truncate!U9:JP17))","v":9},{"$f":"IF(truncate!V9:JQ17 < 0, 0, IF(truncate!V9:JQ17 > 255, 255, truncate!V9:JQ17))","v":6},{"$f":"IF(truncate!W9:JR17 < 0, 0, IF(truncate!W9:JR17 > 255, 255, truncate!W9:JR17))","v":2},{"$f":"IF(truncate!X9:JS17 < 0, 0, IF(truncate!X9:JS17 > 255, 255, truncate!X9:JS17))","v":9},{"$f":"IF(truncate!Y9:JT17 < 0, 0, IF(truncate!Y9:JT17 > 255, 255, truncate!Y9:JT17))","v":12},{"$f":"IF(truncate!Z9:JU17 < 0, 0, IF(truncate!Z9:JU17 > 255, 255, truncate!Z9:JU17))","v":0},{"$f":"IF(truncate!AA9:JV17 < 0, 0, IF(truncate!AA9:JV17 > 255, 255, truncate!AA9:JV17))","v":0},{"$f":"IF(truncate!AB9:JW17 < 0, 0, IF(truncate!AB9:JW17 > 255, 255, truncate!AB9:JW17))","v":0},{"$f":"IF(truncate!AC9:JX17 < 0, 0, IF(truncate!AC9:JX17 > 255, 255, truncate!AC9:JX17))","v":9},{"$f":"IF(truncate!AD9:JY17 < 0, 0, IF(truncate!AD9:JY17 > 255, 255, truncate!AD9:JY17))","v":0},{"$f":"IF(truncate!AE9:JZ17 < 0, 0, IF(truncate!AE9:JZ17 > 255, 255, truncate!AE9:JZ17))","v":9},{"$f":"IF(truncate!AF9:KA17 < 0, 0, IF(truncate!AF9:KA17 > 255, 255, truncate!AF9:KA17))","v":0},{"$f":"IF(truncate!AG9:KB17 < 0, 0, IF(truncate!AG9:KB17 > 255, 255, truncate!AG9:KB17))","v":0},{"$f":"IF(truncate!AH9:KC17 < 0, 0, IF(truncate!AH9:KC17 > 255, 255, truncate!AH9:KC17))","v":1},{"$f":"IF(truncate!AI9:KD17 < 0, 0, IF(truncate!AI9:KD17 > 255, 255, truncate!AI9:KD17))","v":0},{"$f":"IF(truncate!AJ9:KE17 < 0, 0, IF(truncate!AJ9:KE17 > 255, 255, truncate!AJ9:KE17))","v":13},{"$f":"IF(truncate!AK9:KF17 < 0, 0, IF(truncate!AK9:KF17 > 255, 255, truncate!AK9:KF17))","v":0},{"$f":"IF(truncate!AL9:KG17 < 0, 0, IF(truncate!AL9:KG17 > 255, 255, truncate!AL9:KG17))","v":7},{"$f":"IF(truncate!AM9:KH17 < 0, 0, IF(truncate!AM9:KH17 > 255, 255, truncate!AM9:KH17))","v":9},{"$f":"IF(truncate!AN9:KI17 < 0, 0, IF(truncate!AN9:KI17 > 255, 255, truncate!AN9:KI17))","v":0},{"$f":"IF(truncate!AO9:KJ17 < 0, 0, IF(truncate!AO9:KJ17 > 255, 255, truncate!AO9:KJ17))","v":2},{"$f":"IF(truncate!AP9:KK17 < 0, 0, IF(truncate!AP9:KK17 > 255, 255, truncate!AP9:KK17))","v":2},{"$f":"IF(truncate!AQ9:KL17 < 0, 0, IF(truncate!AQ9:KL17 > 255, 255, truncate!AQ9:KL17))","v":0},{"$f":"IF(truncate!AR9:KM17 < 0, 0, IF(truncate!AR9:KM17 > 255, 255, truncate!AR9:KM17))","v":10},{"$f":"IF(truncate!AS9:KN17 < 0, 0, IF(truncate!AS9:KN17 > 255, 255, truncate!AS9:KN17))","v":3},{"$f":"IF(truncate!AT9:KO17 < 0, 0, IF(truncate!AT9:KO17 > 255, 255, truncate!AT9:KO17))","v":0},{"$f":"IF(truncate!AU9:KP17 < 0, 0, IF(truncate!AU9:KP17 > 255, 255, truncate!AU9:KP17))","v":0},{"$f":"IF(truncate!AV9:KQ17 < 0, 0, IF(truncate!AV9:KQ17 > 255, 255, truncate!AV9:KQ17))","v":0},{"$f":"IF(truncate!AW9:KR17 < 0, 0, IF(truncate!AW9:KR17 > 255, 255, truncate!AW9:KR17))","v":18},{"$f":"IF(truncate!AX9:KS17 < 0, 0, IF(truncate!AX9:KS17 > 255, 255, truncate!AX9:KS17))","v":8},{"$f":"IF(truncate!AY9:KT17 < 0, 0, IF(truncate!AY9:KT17 > 255, 255, truncate!AY9:KT17))","v":0},{"$f":"IF(truncate!AZ9:KU17 < 0, 0, IF(truncate!AZ9:KU17 > 255, 255, truncate!AZ9:KU17))","v":10},{"$f":"IF(truncate!BA9:KV17 < 0, 0, IF(truncate!BA9:KV17 > 255, 255, truncate!BA9:KV17))","v":0},{"$f":"IF(truncate!BB9:KW17 < 0, 0, IF(truncate!BB9:KW17 > 255, 255, truncate!BB9:KW17))","v":3},{"$f":"IF(truncate!BC9:KX17 < 0, 0, IF(truncate!BC9:KX17 > 255, 255, truncate!BC9:KX17))","v":7},{"$f":"IF(truncate!BD9:KY17 < 0, 0, IF(truncate!BD9:KY17 > 255, 255, truncate!BD9:KY17))","v":0},{"$f":"IF(truncate!BE9:KZ17 < 0, 0, IF(truncate!BE9:KZ17 > 255, 255, truncate!BE9:KZ17))","v":0},{"$f":"IF(truncate!BF9:LA17 < 0, 0, IF(truncate!BF9:LA17 > 255, 255, truncate!BF9:LA17))","v":0},{"$f":"IF(truncate!BG9:LB17 < 0, 0, IF(truncate!BG9:LB17 > 255, 255, truncate!BG9:LB17))","v":12},{"$f":"IF(truncate!BH9:LC17 < 0, 0, IF(truncate!BH9:LC17 > 255, 255, truncate!BH9:LC17))","v":10},{"$f":"IF(truncate!BI9:LD17 < 0, 0, IF(truncate!BI9:LD17 > 255, 255, truncate!BI9:LD17))","v":16},{"$f":"IF(truncate!BJ9:LE17 < 0, 0, IF(truncate!BJ9:LE17 > 255, 255, truncate!BJ9:LE17))","v":0},{"$f":"IF(truncate!BK9:LF17 < 0, 0, IF(truncate!BK9:LF17 > 255, 255, truncate!BK9:LF17))","v":0},{"$f":"IF(truncate!BL9:LG17 < 0, 0, IF(truncate!BL9:LG17 > 255, 255, truncate!BL9:LG17))","v":12},{"$f":"IF(truncate!BM9:LH17 < 0, 0, IF(truncate!BM9:LH17 > 255, 255, truncate!BM9:LH17))","v":12},{"$f":"IF(truncate!BN9:LI17 < 0, 0, IF(truncate!BN9:LI17 > 255, 255, truncate!BN9:LI17))","v":10},{"$f":"IF(truncate!BO9:LJ17 < 0, 0, IF(truncate!BO9:LJ17 > 255, 255, truncate!BO9:LJ17))","v":6},{"$f":"IF(truncate!BP9:LK17 < 0, 0, IF(truncate!BP9:LK17 > 255, 255, truncate!BP9:LK17))","v":0},{"$f":"IF(truncate!BQ9:LL17 < 0, 0, IF(truncate!BQ9:LL17 > 255, 255, truncate!BQ9:LL17))","v":0},{"$f":"IF(truncate!BR9:LM17 < 0, 0, IF(truncate!BR9:LM17 > 255, 255, truncate!BR9:LM17))","v":8},{"$f":"IF(truncate!BS9:LN17 < 0, 0, IF(truncate!BS9:LN17 > 255, 255, truncate!BS9:LN17))","v":2},{"$f":"IF(truncate!BT9:LO17 < 0, 0, IF(truncate!BT9:LO17 > 255, 255, truncate!BT9:LO17))","v":0},{"$f":"IF(truncate!BU9:LP17 < 0, 0, IF(truncate!BU9:LP17 > 255, 255, truncate!BU9:LP17))","v":0},{"$f":"IF(truncate!BV9:LQ17 < 0, 0, IF(truncate!BV9:LQ17 > 255, 255, truncate!BV9:LQ17))","v":9},{"$f":"IF(truncate!BW9:LR17 < 0, 0, IF(truncate!BW9:LR17 > 255, 255, truncate!BW9:LR17))","v":13},{"$f":"IF(truncate!BX9:LS17 < 0, 0, IF(truncate!BX9:LS17 > 255, 255, truncate!BX9:LS17))","v":3},{"$f":"IF(truncate!BY9:LT17 < 0, 0, IF(truncate!BY9:LT17 > 255, 255, truncate!BY9:LT17))","v":0},{"$f":"IF(truncate!BZ9:LU17 < 0, 0, IF(truncate!BZ9:LU17 > 255, 255, truncate!BZ9:LU17))","v":3},{"$f":"IF(truncate!CA9:LV17 < 0, 0, IF(truncate!CA9:LV17 > 255, 255, truncate!CA9:LV17))","v":2},{"$f":"IF(truncate!CB9:LW17 < 0, 0, IF(truncate!CB9:LW17 > 255, 255, truncate!CB9:LW17))","v":0},{"$f":"IF(truncate!CC9:LX17 < 0, 0, IF(truncate!CC9:LX17 > 255, 255, truncate!CC9:LX17))","v":8},{"$f":"IF(truncate!CD9:LY17 < 0, 0, IF(truncate!CD9:LY17 > 255, 255, truncate!CD9:LY17))","v":0},{"$f":"IF(truncate!CE9:LZ17 < 0, 0, IF(truncate!CE9:LZ17 > 255, 255, truncate!CE9:LZ17))","v":0},{"$f":"IF(truncate!CF9:MA17 < 0, 0, IF(truncate!CF9:MA17 > 255, 255, truncate!CF9:MA17))","v":21},{"$f":"IF(truncate!CG9:MB17 < 0, 0, IF(truncate!CG9:MB17 > 255, 255, truncate!CG9:MB17))","v":3},{"$f":"IF(truncate!CH9:MC17 < 0, 0, IF(truncate!CH9:MC17 > 255, 255, truncate!CH9:MC17))","v":0},{"$f":"IF(truncate!CI9:MD17 < 0, 0, IF(truncate!CI9:MD17 > 255, 255, truncate!CI9:MD17))","v":12},{"$f":"IF(truncate!CJ9:ME17 < 0, 0, IF(truncate!CJ9:ME17 > 255, 255, truncate!CJ9:ME17))","v":22},{"$f":"IF(truncate!CK9:MF17 < 0, 0, IF(truncate!CK9:MF17 > 255, 255, truncate!CK9:MF17))","v":8},{"$f":"IF(truncate!CL9:MG17 < 0, 0, IF(truncate!CL9:MG17 > 255, 255, truncate!CL9:MG17))","v":12},{"$f":"IF(truncate!CM9:MH17 < 0, 0, IF(truncate!CM9:MH17 > 255, 255, truncate!CM9:MH17))","v":0},{"$f":"IF(truncate!CN9:MI17 < 0, 0, IF(truncate!CN9:MI17 > 255, 255, truncate!CN9:MI17))","v":8},{"$f":"IF(truncate!CO9:MJ17 < 0, 0, IF(truncate!CO9:MJ17 > 255, 255, truncate!CO9:MJ17))","v":0},{"$f":"IF(truncate!CP9:MK17 < 0, 0, IF(truncate!CP9:MK17 > 255, 255, truncate!CP9:MK17))","v":0},{"$f":"IF(truncate!CQ9:ML17 < 0, 0, IF(truncate!CQ9:ML17 > 255, 255, truncate!CQ9:ML17))","v":9},{"$f":"IF(truncate!CR9:MM17 < 0, 0, IF(truncate!CR9:MM17 > 255, 255, truncate!CR9:MM17))","v":13},{"$f":"IF(truncate!CS9:MN17 < 0, 0, IF(truncate!CS9:MN17 > 255, 255, truncate!CS9:MN17))","v":11},{"$f":"IF(truncate!CT9:MO17 < 0, 0, IF(truncate!CT9:MO17 > 255, 255, truncate!CT9:MO17))","v":6},{"$f":"IF(truncate!CU9:MP17 < 0, 0, IF(truncate!CU9:MP17 > 255, 255, truncate!CU9:MP17))","v":6},{"$f":"IF(truncate!CV9:MQ17 < 0, 0, IF(truncate!CV9:MQ17 > 255, 255, truncate!CV9:MQ17))","v":0},{"$f":"IF(truncate!CW9:MR17 < 0, 0, IF(truncate!CW9:MR17 > 255, 255, truncate!CW9:MR17))","v":3},{"$f":"IF(truncate!CX9:MS17 < 0, 0, IF(truncate!CX9:MS17 > 255, 255, truncate!CX9:MS17))","v":13},{"$f":"IF(truncate!CY9:MT17 < 0, 0, IF(truncate!CY9:MT17 > 255, 255, truncate!CY9:MT17))","v":0},{"$f":"IF(truncate!CZ9:MU17 < 0, 0, IF(truncate!CZ9:MU17 > 255, 255, truncate!CZ9:MU17))","v":0},{"$f":"IF(truncate!DA9:MV17 < 0, 0, IF(truncate!DA9:MV17 > 255, 255, truncate!DA9:MV17))","v":8},{"$f":"IF(truncate!DB9:MW17 < 0, 0, IF(truncate!DB9:MW17 > 255, 255, truncate!DB9:MW17))","v":13},{"$f":"IF(truncate!DC9:MX17 < 0, 0, IF(truncate!DC9:MX17 > 255, 255, truncate!DC9:MX17))","v":3},{"$f":"IF(truncate!DD9:MY17 < 0, 0, IF(truncate!DD9:MY17 > 255, 255, truncate!DD9:MY17))","v":4},{"$f":"IF(truncate!DE9:MZ17 < 0, 0, IF(truncate!DE9:MZ17 > 255, 255, truncate!DE9:MZ17))","v":18},{"$f":"IF(truncate!DF9:NA17 < 0, 0, IF(truncate!DF9:NA17 > 255, 255, truncate!DF9:NA17))","v":5},{"$f":"IF(truncate!DG9:NB17 < 0, 0, IF(truncate!DG9:NB17 > 255, 255, truncate!DG9:NB17))","v":0},{"$f":"IF(truncate!DH9:NC17 < 0, 0, IF(truncate!DH9:NC17 > 255, 255, truncate!DH9:NC17))","v":6},{"$f":"IF(truncate!DI9:ND17 < 0, 0, IF(truncate!DI9:ND17 > 255, 255, truncate!DI9:ND17))","v":0},{"$f":"IF(truncate!DJ9:NE17 < 0, 0, IF(truncate!DJ9:NE17 > 255, 255, truncate!DJ9:NE17))","v":0},{"$f":"IF(truncate!DK9:NF17 < 0, 0, IF(truncate!DK9:NF17 > 255, 255, truncate!DK9:NF17))","v":6},{"$f":"IF(truncate!DL9:NG17 < 0, 0, IF(truncate!DL9:NG17 > 255, 255, truncate!DL9:NG17))","v":11},{"$f":"IF(truncate!DM9:NH17 < 0, 0, IF(truncate!DM9:NH17 > 255, 255, truncate!DM9:NH17))","v":0},{"$f":"IF(truncate!DN9:NI17 < 0, 0, IF(truncate!DN9:NI17 > 255, 255, truncate!DN9:NI17))","v":2},{"$f":"IF(truncate!DO9:NJ17 < 0, 0, IF(truncate!DO9:NJ17 > 255, 255, truncate!DO9:NJ17))","v":0},{"$f":"IF(truncate!DP9:NK17 < 0, 0, IF(truncate!DP9:NK17 > 255, 255, truncate!DP9:NK17))","v":10},{"$f":"IF(truncate!DQ9:NL17 < 0, 0, IF(truncate!DQ9:NL17 > 255, 255, truncate!DQ9:NL17))","v":0},{"$f":"IF(truncate!DR9:NM17 < 0, 0, IF(truncate!DR9:NM17 > 255, 255, truncate!DR9:NM17))","v":0},{"$f":"IF(truncate!DS9:NN17 < 0, 0, IF(truncate!DS9:NN17 > 255, 255, truncate!DS9:NN17))","v":0},{"$f":"IF(truncate!DT9:NO17 < 0, 0, IF(truncate!DT9:NO17 > 255, 255, truncate!DT9:NO17))","v":0},{"$f":"IF(truncate!DU9:NP17 < 0, 0, IF(truncate!DU9:NP17 > 255, 255, truncate!DU9:NP17))","v":13},{"$f":"IF(truncate!DV9:NQ17 < 0, 0, IF(truncate!DV9:NQ17 > 255, 255, truncate!DV9:NQ17))","v":0},{"$f":"IF(truncate!DW9:NR17 < 0, 0, IF(truncate!DW9:NR17 > 255, 255, truncate!DW9:NR17))","v":0},{"$f":"IF(truncate!DX9:NS17 < 0, 0, IF(truncate!DX9:NS17 > 255, 255, truncate!DX9:NS17))","v":0},{"$f":"IF(truncate!DY9:NT17 < 0, 0, IF(truncate!DY9:NT17 > 255, 255, truncate!DY9:NT17))","v":0},{"$f":"IF(truncate!DZ9:NU17 < 0, 0, IF(truncate!DZ9:NU17 > 255, 255, truncate!DZ9:NU17))","v":0},{"$f":"IF(truncate!EA9:NV17 < 0, 0, IF(truncate!EA9:NV17 > 255, 255, truncate!EA9:NV17))","v":0},{"$f":"IF(truncate!EB9:NW17 < 0, 0, IF(truncate!EB9:NW17 > 255, 255, truncate!EB9:NW17))","v":0},{"$f":"IF(truncate!EC9:NX17 < 0, 0, IF(truncate!EC9:NX17 > 255, 255, truncate!EC9:NX17))","v":5},{"$f":"IF(truncate!ED9:NY17 < 0, 0, IF(truncate!ED9:NY17 > 255, 255, truncate!ED9:NY17))","v":10},{"$f":"IF(truncate!EE9:NZ17 < 0, 0, IF(truncate!EE9:NZ17 > 255, 255, truncate!EE9:NZ17))","v":2},{"$f":"IF(truncate!EF9:OA17 < 0, 0, IF(truncate!EF9:OA17 > 255, 255, truncate!EF9:OA17))","v":0},{"$f":"IF(truncate!EG9:OB17 < 0, 0, IF(truncate!EG9:OB17 > 255, 255, truncate!EG9:OB17))","v":0},{"$f":"IF(truncate!EH9:OC17 < 0, 0, IF(truncate!EH9:OC17 > 255, 255, truncate!EH9:OC17))","v":0},{"$f":"IF(truncate!EI9:OD17 < 0, 0, IF(truncate!EI9:OD17 > 255, 255, truncate!EI9:OD17))","v":0},{"$f":"IF(truncate!EJ9:OE17 < 0, 0, IF(truncate!EJ9:OE17 > 255, 255, truncate!EJ9:OE17))","v":18},{"$f":"IF(truncate!EK9:OF17 < 0, 0, IF(truncate!EK9:OF17 > 255, 255, truncate!EK9:OF17))","v":0},{"$f":"IF(truncate!EL9:OG17 < 0, 0, IF(truncate!EL9:OG17 > 255, 255, truncate!EL9:OG17))","v":9},{"$f":"IF(truncate!EM9:OH17 < 0, 0, IF(truncate!EM9:OH17 > 255, 255, truncate!EM9:OH17))","v":2},{"$f":"IF(truncate!EN9:OI17 < 0, 0, IF(truncate!EN9:OI17 > 255, 255, truncate!EN9:OI17))","v":0},{"$f":"IF(truncate!EO9:OJ17 < 0, 0, IF(truncate!EO9:OJ17 > 255, 255, truncate!EO9:OJ17))","v":5},{"$f":"IF(truncate!EP9:OK17 < 0, 0, IF(truncate!EP9:OK17 > 255, 255, truncate!EP9:OK17))","v":0},{"$f":"IF(truncate!EQ9:OL17 < 0, 0, IF(truncate!EQ9:OL17 > 255, 255, truncate!EQ9:OL17))","v":0},{"$f":"IF(truncate!ER9:OM17 < 0, 0, IF(truncate!ER9:OM17 > 255, 255, truncate!ER9:OM17))","v":0},{"$f":"IF(truncate!ES9:ON17 < 0, 0, IF(truncate!ES9:ON17 > 255, 255, truncate!ES9:ON17))","v":0},{"$f":"IF(truncate!ET9:OO17 < 0, 0, IF(truncate!ET9:OO17 > 255, 255, truncate!ET9:OO17))","v":21},{"$f":"IF(truncate!EU9:OP17 < 0, 0, IF(truncate!EU9:OP17 > 255, 255, truncate!EU9:OP17))","v":0},{"$f":"IF(truncate!EV9:OQ17 < 0, 0, IF(truncate!EV9:OQ17 > 255, 255, truncate!EV9:OQ17))","v":0},{"$f":"IF(truncate!EW9:OR17 < 0, 0, IF(truncate!EW9:OR17 > 255, 255, truncate!EW9:OR17))","v":9},{"$f":"IF(truncate!EX9:OS17 < 0, 0, IF(truncate!EX9:OS17 > 255, 255, truncate!EX9:OS17))","v":7},{"$f":"IF(truncate!EY9:OT17 < 0, 0, IF(truncate!EY9:OT17 > 255, 255, truncate!EY9:OT17))","v":14},{"$f":"IF(truncate!EZ9:OU17 < 0, 0, IF(truncate!EZ9:OU17 > 255, 255, truncate!EZ9:OU17))","v":0},{"$f":"IF(truncate!FA9:OV17 < 0, 0, IF(truncate!FA9:OV17 > 255, 255, truncate!FA9:OV17))","v":6},{"$f":"IF(truncate!FB9:OW17 < 0, 0, IF(truncate!FB9:OW17 > 255, 255, truncate!FB9:OW17))","v":7},{"$f":"IF(truncate!FC9:OX17 < 0, 0, IF(truncate!FC9:OX17 > 255, 255, truncate!FC9:OX17))","v":0},{"$f":"IF(truncate!FD9:OY17 < 0, 0, IF(truncate!FD9:OY17 > 255, 255, truncate!FD9:OY17))","v":16},{"$f":"IF(truncate!FE9:OZ17 < 0, 0, IF(truncate!FE9:OZ17 > 255, 255, truncate!FE9:OZ17))","v":1},{"$f":"IF(truncate!FF9:PA17 < 0, 0, IF(truncate!FF9:PA17 > 255, 255, truncate!FF9:PA17))","v":0},{"$f":"IF(truncate!FG9:PB17 < 0, 0, IF(truncate!FG9:PB17 > 255, 255, truncate!FG9:PB17))","v":0},{"$f":"IF(truncate!FH9:PC17 < 0, 0, IF(truncate!FH9:PC17 > 255, 255, truncate!FH9:PC17))","v":13},{"$f":"IF(truncate!FI9:PD17 < 0, 0, IF(truncate!FI9:PD17 > 255, 255, truncate!FI9:PD17))","v":0},{"$f":"IF(truncate!FJ9:PE17 < 0, 0, IF(truncate!FJ9:PE17 > 255, 255, truncate!FJ9:PE17))","v":5},{"$f":"IF(truncate!FK9:PF17 < 0, 0, IF(truncate!FK9:PF17 > 255, 255, truncate!FK9:PF17))","v":10},{"$f":"IF(truncate!FL9:PG17 < 0, 0, IF(truncate!FL9:PG17 > 255, 255, truncate!FL9:PG17))","v":7},{"$f":"IF(truncate!FM9:PH17 < 0, 0, IF(truncate!FM9:PH17 > 255, 255, truncate!FM9:PH17))","v":0},{"$f":"IF(truncate!FN9:PI17 < 0, 0, IF(truncate!FN9:PI17 > 255, 255, truncate!FN9:PI17))","v":8},{"$f":"IF(truncate!FO9:PJ17 < 0, 0, IF(truncate!FO9:PJ17 > 255, 255, truncate!FO9:PJ17))","v":4},{"$f":"IF(truncate!FP9:PK17 < 0, 0, IF(truncate!FP9:PK17 > 255, 255, truncate!FP9:PK17))","v":25},{"$f":"IF(truncate!FQ9:PL17 < 0, 0, IF(truncate!FQ9:PL17 > 255, 255, truncate!FQ9:PL17))","v":0},{"$f":"IF(truncate!FR9:PM17 < 0, 0, IF(truncate!FR9:PM17 > 255, 255, truncate!FR9:PM17))","v":6},{"$f":"IF(truncate!FS9:PN17 < 0, 0, IF(truncate!FS9:PN17 > 255, 255, truncate!FS9:PN17))","v":0},{"$f":"IF(truncate!FT9:PO17 < 0, 0, IF(truncate!FT9:PO17 > 255, 255, truncate!FT9:PO17))","v":1},{"$f":"IF(truncate!FU9:PP17 < 0, 0, IF(truncate!FU9:PP17 > 255, 255, truncate!FU9:PP17))","v":0},{"$f":"IF(truncate!FV9:PQ17 < 0, 0, IF(truncate!FV9:PQ17 > 255, 255, truncate!FV9:PQ17))","v":0},{"$f":"IF(truncate!FW9:PR17 < 0, 0, IF(truncate!FW9:PR17 > 255, 255, truncate!FW9:PR17))","v":3},{"$f":"IF(truncate!FX9:PS17 < 0, 0, IF(truncate!FX9:PS17 > 255, 255, truncate!FX9:PS17))","v":5},{"$f":"IF(truncate!FY9:PT17 < 0, 0, IF(truncate!FY9:PT17 > 255, 255, truncate!FY9:PT17))","v":0},{"$f":"IF(truncate!FZ9:PU17 < 0, 0, IF(truncate!FZ9:PU17 > 255, 255, truncate!FZ9:PU17))","v":0},{"$f":"IF(truncate!GA9:PV17 < 0, 0, IF(truncate!GA9:PV17 > 255, 255, truncate!GA9:PV17))","v":0},{"$f":"IF(truncate!GB9:PW17 < 0, 0, IF(truncate!GB9:PW17 > 255, 255, truncate!GB9:PW17))","v":0},{"$f":"IF(truncate!GC9:PX17 < 0, 0, IF(truncate!GC9:PX17 > 255, 255, truncate!GC9:PX17))","v":6},{"$f":"IF(truncate!GD9:PY17 < 0, 0, IF(truncate!GD9:PY17 > 255, 255, truncate!GD9:PY17))","v":0},{"$f":"IF(truncate!GE9:PZ17 < 0, 0, IF(truncate!GE9:PZ17 > 255, 255, truncate!GE9:PZ17))","v":4},{"$f":"IF(truncate!GF9:QA17 < 0, 0, IF(truncate!GF9:QA17 > 255, 255, truncate!GF9:QA17))","v":0},{"$f":"IF(truncate!GG9:QB17 < 0, 0, IF(truncate!GG9:QB17 > 255, 255, truncate!GG9:QB17))","v":0},{"$f":"IF(truncate!GH9:QC17 < 0, 0, IF(truncate!GH9:QC17 > 255, 255, truncate!GH9:QC17))","v":0},{"$f":"IF(truncate!GI9:QD17 < 0, 0, IF(truncate!GI9:QD17 > 255, 255, truncate!GI9:QD17))","v":2},{"$f":"IF(truncate!GJ9:QE17 < 0, 0, IF(truncate!GJ9:QE17 > 255, 255, truncate!GJ9:QE17))","v":0},{"$f":"IF(truncate!GK9:QF17 < 0, 0, IF(truncate!GK9:QF17 > 255, 255, truncate!GK9:QF17))","v":7},{"$f":"IF(truncate!GL9:QG17 < 0, 0, IF(truncate!GL9:QG17 > 255, 255, truncate!GL9:QG17))","v":9},{"$f":"IF(truncate!GM9:QH17 < 0, 0, IF(truncate!GM9:QH17 > 255, 255, truncate!GM9:QH17))","v":4},{"$f":"IF(truncate!GN9:QI17 < 0, 0, IF(truncate!GN9:QI17 > 255, 255, truncate!GN9:QI17))","v":0},{"$f":"IF(truncate!GO9:QJ17 < 0, 0, IF(truncate!GO9:QJ17 > 255, 255, truncate!GO9:QJ17))","v":0},{"$f":"IF(truncate!GP9:QK17 < 0, 0, IF(truncate!GP9:QK17 > 255, 255, truncate!GP9:QK17))","v":5},{"$f":"IF(truncate!GQ9:QL17 < 0, 0, IF(truncate!GQ9:QL17 > 255, 255, truncate!GQ9:QL17))","v":1},{"$f":"IF(truncate!GR9:QM17 < 0, 0, IF(truncate!GR9:QM17 > 255, 255, truncate!GR9:QM17))","v":2},{"$f":"IF(truncate!GS9:QN17 < 0, 0, IF(truncate!GS9:QN17 > 255, 255, truncate!GS9:QN17))","v":0},{"$f":"IF(truncate!GT9:QO17 < 0, 0, IF(truncate!GT9:QO17 > 255, 255, truncate!GT9:QO17))","v":7},{"$f":"IF(truncate!GU9:QP17 < 0, 0, IF(truncate!GU9:QP17 > 255, 255, truncate!GU9:QP17))","v":12},{"$f":"IF(truncate!GV9:QQ17 < 0, 0, IF(truncate!GV9:QQ17 > 255, 255, truncate!GV9:QQ17))","v":1},{"$f":"IF(truncate!GW9:QR17 < 0, 0, IF(truncate!GW9:QR17 > 255, 255, truncate!GW9:QR17))","v":0},{"$f":"IF(truncate!GX9:QS17 < 0, 0, IF(truncate!GX9:QS17 > 255, 255, truncate!GX9:QS17))","v":0},{"$f":"IF(truncate!GY9:QT17 < 0, 0, IF(truncate!GY9:QT17 > 255, 255, truncate!GY9:QT17))","v":15},{"$f":"IF(truncate!GZ9:QU17 < 0, 0, IF(truncate!GZ9:QU17 > 255, 255, truncate!GZ9:QU17))","v":6},{"$f":"IF(truncate!HA9:QV17 < 0, 0, IF(truncate!HA9:QV17 > 255, 255, truncate!HA9:QV17))","v":12},{"$f":"IF(truncate!HB9:QW17 < 0, 0, IF(truncate!HB9:QW17 > 255, 255, truncate!HB9:QW17))","v":0},{"$f":"IF(truncate!HC9:QX17 < 0, 0, IF(truncate!HC9:QX17 > 255, 255, truncate!HC9:QX17))","v":6},{"$f":"IF(truncate!HD9:QY17 < 0, 0, IF(truncate!HD9:QY17 > 255, 255, truncate!HD9:QY17))","v":11},{"$f":"IF(truncate!HE9:QZ17 < 0, 0, IF(truncate!HE9:QZ17 > 255, 255, truncate!HE9:QZ17))","v":0},{"$f":"IF(truncate!HF9:RA17 < 0, 0, IF(truncate!HF9:RA17 > 255, 255, truncate!HF9:RA17))","v":5},{"$f":"IF(truncate!HG9:RB17 < 0, 0, IF(truncate!HG9:RB17 > 255, 255, truncate!HG9:RB17))","v":0},{"$f":"IF(truncate!HH9:RC17 < 0, 0, IF(truncate!HH9:RC17 > 255, 255, truncate!HH9:RC17))","v":4},{"$f":"IF(truncate!HI9:RD17 < 0, 0, IF(truncate!HI9:RD17 > 255, 255, truncate!HI9:RD17))","v":3},{"$f":"IF(truncate!HJ9:RE17 < 0, 0, IF(truncate!HJ9:RE17 > 255, 255, truncate!HJ9:RE17))","v":17},{"$f":"IF(truncate!HK9:RF17 < 0, 0, IF(truncate!HK9:RF17 > 255, 255, truncate!HK9:RF17))","v":0},{"$f":"IF(truncate!HL9:RG17 < 0, 0, IF(truncate!HL9:RG17 > 255, 255, truncate!HL9:RG17))","v":0},{"$f":"IF(truncate!HM9:RH17 < 0, 0, IF(truncate!HM9:RH17 > 255, 255, truncate!HM9:RH17))","v":0},{"$f":"IF(truncate!HN9:RI17 < 0, 0, IF(truncate!HN9:RI17 > 255, 255, truncate!HN9:RI17))","v":10},{"$f":"IF(truncate!HO9:RJ17 < 0, 0, IF(truncate!HO9:RJ17 > 255, 255, truncate!HO9:RJ17))","v":0},{"$f":"IF(truncate!HP9:RK17 < 0, 0, IF(truncate!HP9:RK17 > 255, 255, truncate!HP9:RK17))","v":0},{"$f":"IF(truncate!HQ9:RL17 < 0, 0, IF(truncate!HQ9:RL17 > 255, 255, truncate!HQ9:RL17))","v":18},{"$f":"IF(truncate!HR9:RM17 < 0, 0, IF(truncate!HR9:RM17 > 255, 255, truncate!HR9:RM17))","v":2},{"$f":"IF(truncate!HS9:RN17 < 0, 0, IF(truncate!HS9:RN17 > 255, 255, truncate!HS9:RN17))","v":0},{"$f":"IF(truncate!HT9:RO17 < 0, 0, IF(truncate!HT9:RO17 > 255, 255, truncate!HT9:RO17))","v":0},{"$f":"IF(truncate!HU9:RP17 < 0, 0, IF(truncate!HU9:RP17 > 255, 255, truncate!HU9:RP17))","v":0},{"$f":"IF(truncate!HV9:RQ17 < 0, 0, IF(truncate!HV9:RQ17 > 255, 255, truncate!HV9:RQ17))","v":7},{"$f":"IF(truncate!HW9:RR17 < 0, 0, IF(truncate!HW9:RR17 > 255, 255, truncate!HW9:RR17))","v":17},{"$f":"IF(truncate!HX9:RS17 < 0, 0, IF(truncate!HX9:RS17 > 255, 255, truncate!HX9:RS17))","v":0},{"$f":"IF(truncate!HY9:RT17 < 0, 0, IF(truncate!HY9:RT17 > 255, 255, truncate!HY9:RT17))","v":9},{"$f":"IF(truncate!HZ9:RU17 < 0, 0, IF(truncate!HZ9:RU17 > 255, 255, truncate!HZ9:RU17))","v":7},{"$f":"IF(truncate!IA9:RV17 < 0, 0, IF(truncate!IA9:RV17 > 255, 255, truncate!IA9:RV17))","v":0},{"$f":"IF(truncate!IB9:RW17 < 0, 0, IF(truncate!IB9:RW17 > 255, 255, truncate!IB9:RW17))","v":0},{"$f":"IF(truncate!IC9:RX17 < 0, 0, IF(truncate!IC9:RX17 > 255, 255, truncate!IC9:RX17))","v":1},{"$f":"IF(truncate!ID9:RY17 < 0, 0, IF(truncate!ID9:RY17 > 255, 255, truncate!ID9:RY17))","v":4},{"$f":"IF(truncate!IE9:RZ17 < 0, 0, IF(truncate!IE9:RZ17 > 255, 255, truncate!IE9:RZ17))","v":0},{"$f":"IF(truncate!IF9:SA17 < 0, 0, IF(truncate!IF9:SA17 > 255, 255, truncate!IF9:SA17))","v":0},{"$f":"IF(truncate!IG9:SB17 < 0, 0, IF(truncate!IG9:SB17 > 255, 255, truncate!IG9:SB17))","v":3},{"$f":"IF(truncate!IH9:SC17 < 0, 0, IF(truncate!IH9:SC17 > 255, 255, truncate!IH9:SC17))","v":3},{"$f":"IF(truncate!II9:SD17 < 0, 0, IF(truncate!II9:SD17 > 255, 255, truncate!II9:SD17))","v":0},{"$f":"IF(truncate!IJ9:SE17 < 0, 0, IF(truncate!IJ9:SE17 > 255, 255, truncate!IJ9:SE17))","v":0},{"$f":"IF(truncate!IK9:SF17 < 0, 0, IF(truncate!IK9:SF17 > 255, 255, truncate!IK9:SF17))","v":4},{"$f":"IF(truncate!IL9:SG17 < 0, 0, IF(truncate!IL9:SG17 > 255, 255, truncate!IL9:SG17))","v":20},{"$f":"IF(truncate!IM9:SH17 < 0, 0, IF(truncate!IM9:SH17 > 255, 255, truncate!IM9:SH17))","v":3},{"$f":"IF(truncate!IN9:SI17 < 0, 0, IF(truncate!IN9:SI17 > 255, 255, truncate!IN9:SI17))","v":6},{"$f":"IF(truncate!IO9:SJ17 < 0, 0, IF(truncate!IO9:SJ17 > 255, 255, truncate!IO9:SJ17))","v":0},{"$f":"IF(truncate!IP9:SK17 < 0, 0, IF(truncate!IP9:SK17 > 255, 255, truncate!IP9:SK17))","v":2},{"$f":"IF(truncate!IQ9:SL17 < 0, 0, IF(truncate!IQ9:SL17 > 255, 255, truncate!IQ9:SL17))","v":0},{"$f":"IF(truncate!IR9:SM17 < 0, 0, IF(truncate!IR9:SM17 > 255, 255, truncate!IR9:SM17))","v":3},{"$f":"IF(truncate!IS9:SN17 < 0, 0, IF(truncate!IS9:SN17 > 255, 255, truncate!IS9:SN17))","v":11},{"$f":"IF(truncate!IT9:SO17 < 0, 0, IF(truncate!IT9:SO17 > 255, 255, truncate!IT9:SO17))","v":0},{"$f":"IF(truncate!IU9:SP17 < 0, 0, IF(truncate!IU9:SP17 > 255, 255, truncate!IU9:SP17))","v":6},{"$f":"IF(truncate!IV9:SQ17 < 0, 0, IF(truncate!IV9:SQ17 > 255, 255, truncate!IV9:SQ17))","v":11}]

{"sheet":"outCh000","index":4,"n_rows":3,"n_cols":3,"rows_kept":3,"cut":false,"hidden":false,"merged":[]}
[{"$f":"OFFSET(INDIRECT(ADDRESS(1,1,,,\"Relu\")), (ROW()-1)*3+COLUMN()-1, 0)","v":25},28,26]
[25,19,16]
[18,17,18]

{"sheet":"outCh001","index":5,"n_rows":3,"n_cols":3,"rows_kept":3,"cut":false,"hidden":false,"merged":[]}
[{"$f":"OFFSET(INDIRECT(ADDRESS(1,2,,,\"Relu\")), (ROW()-1)*3+COLUMN()-1, 0)","v":8},10,9]
[10,12,5]
[11,14,7]

{"sheet":"outCh002","index":6,"n_rows":3,"n_cols":3,"rows_kept":3,"cut":false,"hidden":false,"merged":[]}
[{"$f":"OFFSET(INDIRECT(ADDRESS(1,3,,,\"Relu\")), (ROW()-1)*3+COLUMN()-1, 0)","v":7},11,8]
[5,8,5]
[2,11,3]

{"sheet":"outCh003","index":7,"n_rows":3,"n_cols":3,"rows_kept":3,"cut":false,"hidden":false,"merged":[]}
[{"$f":"OFFSET(INDIRECT(ADDRESS(1,4,,,\"Relu\")), (ROW()-1)*3+COLUMN()-1, 0)","v":10},16,11]
[2,3,0]
[0,0,0]

{"sheet":"outCh252","index":8,"n_rows":3,"n_cols":3,"rows_kept":3,"cut":false,"hidden":false,"merged":[]}
[{"$f":"OFFSET(INDIRECT(ADDRESS(1,253,,,\"Relu\")), (ROW()-1)*3+COLUMN()-1, 0)","v":12},15,11]
[4,4,3]
[6,6,11]

{"sheet":"outCh253","index":9,"n_rows":3,"n_cols":3,"rows_kept":3,"cut":false,"hidden":false,"merged":[]}
[{"$f":"OFFSET(INDIRECT(ADDRESS(1,254,,,\"Relu\")), (ROW()-1)*3+COLUMN()-1, 0)","v":0},0,0]
[0,0,0]
[0,0,0]

{"sheet":"outCh254","index":10,"n_rows":3,"n_cols":3,"rows_kept":3,"cut":false,"hidden":false,"merged":[]}
[{"$f":"OFFSET(INDIRECT(ADDRESS(1,255,,,\"Relu\")), (ROW()-1)*3+COLUMN()-1, 0)","v":5},5,2]
[4,9,10]
[5,2,6]

{"sheet":"outCh255","index":11,"n_rows":3,"n_cols":3,"rows_kept":3,"cut":false,"hidden":false,"merged":[]}
[{"$f":"OFFSET(INDIRECT(ADDRESS(1,256,,,\"Relu\")), (ROW()-1)*3+COLUMN()-1, 0)","v":7},7,2]
[5,15,8]
[4,15,11]