{"text_format":"1","workbook":"xlsx","n_sheets":12,"sheets":["exW7_Bias","im2colAll_exW7","truncate","Relu","outCh000","outCh001","outCh002","outCh003","outCh124","outCh125","outCh126","outCh127"],"not_rendered":{"charts":0,"images":0,"macros":1,"external_links":0,"defined_names":0,"comments":0,"pivot_tables":0},"unopened":[],"bounds":{"document_bytes":16777216,"sheet_cells":100000,"rows_first":2000,"rows_last":500,"rows_between":2000,"halvings":0,"cell_chars":16384,"cell_head_chars":4096},"cells_cut":0,"cells_raw":0,"read":"whole","date_system":"1900"}

{"sheet":"exW7_Bias","index":0,"n_rows":256,"n_cols":128,"rows_kept":256,"cut":false,"hidden":false,"merged":[]}
[4,-4,-1,4,1,4,4,-4,-1,2,2,-1,-2,4,-1,-2,-1,-4,2,-1,-1,4,1,-4,4,4,4,4,-2,-4,4,-1,-1,-4,1,-2,-1,-4,-2,4,2,1,-4,2,-4,4,-4,1,-4,1,-1,-2,-1,4,-4,2,-4,1,4,2,8,1,-4,-2,2,2,2,-2,4,-1,2,-2,-1,4,-1,8,-2,-1,-4,2,-4,2,-4,4,1,-2,2,-1,8,2,2,4,-1,-1,-4,2,8,4,-4,-4,-2,-4,-2,4,4,4,1,-2,8,4,2,8,1,-1,-2,1,-4,2,4,4,1,-4,8,1,4,-1,1,4]
[1,4,-2,4,2,4,2,-4,-1,-4,-4,-4,-2,-4,-2,-2,-1,4,-1,-2,-4,4,-4,4,4,4,-2,-1,-4,-4,-4,-1,1,-1,8,1,-4,-1,1,-4,-4,-2,4,4,-1,-1,4,4,-4,-2,-4,8,1,-2,4,-4,2,4,2,-4,2,1,4,1,1,-1,-2,-4,-1,-4,-4,-1,1,-4,4,4,2,-4,1,8,1,1,-1,-1,-4,-2,-4,1,-1,2,4,4,-2,-2,2,-1,8,-1,1,-4,1,4,4,2,-2,-4,-2,4,1,-1,-4,-4,2,-4,-2,-1,2,-4,2,-1,2,4,-4,-2,-4,4,2,-4]
[4,2,1,4,1,-1,-4,-2,-4,4,2,-4,4,-4,-2,1,1,-2,2,-4,-4,-2,2,-1,8,-2,-4,4,-1,1,2,2,-4,-1,8,1,2,-2,4,1,-4,1,2,-1,1,4,4,1,1,1,4,1,4,1,-2,-2,-1,4,2,2,1,-2,4,2,2,4,-4,4,-8,-4,4,-4,-4,4,2,-1,4,-4,4,1,4,-4,4,-1,-4,4,-4,-4,4,-1,-4,-4,4,2,-2,-1,1,4,4,-2,-4,4,-2,-4,-4,4,-1,-4,-2,-4,-4,-4,8,2,-4,-4,-4,-2,-1,-4,1,-4,-4,-1,4,-4,2,-4]
[-2,4,4,1,4,4,-1,-1,4,2,-4,4,4,4,1,-2,-2,4,-4,-4,4,-4,-1,4,-4,-1,-4,4,4,4,1,2,1,-1,-4,-4,4,2,-2,1,1,-2,4,1,-2,-4,2,-1,4,2,-4,-2,2,4,2,4,4,4,4,-4,1,-2,2,-1,-4,-4,-4,-1,-1,4,1,-1,-4,2,1,4,2,-1,4,-4,-1,4,-2,-4,2,4,4,4,-2,-2,-1,4,2,-1,1,4,1,1,-4,4,4,-1,4,-4,1,1,2,4,-4,-4,-2,-1,-1,-1,-1,2,1,4,2,-4,2,-2,4,-4,-4,1,-1,-1]
[2,4,4,4,1,-4,4,-4,-2,-2,4,-1,-4,1,1,1,-2,-4,2,2,2,-1,-4,-4,4,2,-4,4,2,-1,-4,-2,-1,4,1,-4,4,4,2,4,4,-1,2,-2,2,2,1,-1,-2,-4,-1,-4,2,8,-4,4,4,-1,-2,-1,-1,8,-4,4,2,-4,4,4,4,2,-4,2,2,2,1,8,1,4,-1,2,4,4,-4,-2,-2,2,-4,-2,4,2,2,-1,1,1,-4,4,4,-4,2,1,-1,-4,-1,4,4,2,-2,-1,2,4,1,-4,-2,-4,-4,-4,-2,-4,-2,-4,1,-4,-4,-2,-1,1,2,-1]
[-4,2,4,2,-4,-4,-1,-4,4,-4,4,-4,-4,-4,-2,2,4,2,-2,-4,-4,-1,-4,2,-2,1,-4,-1,2,-2,4,4,-2,-2,-4,-1,4,1,4,-4,-1,4,-4,4,4,4,4,2,4,-2,2,-4,2,-4,1,-1,-1,1,1,-2,-1,-2,-2,-1,2,2,-2,4,4,-1,4,4,4,4,1,4,-2,4,-2,4,-4,-4,-4,4,2,-2,-1,1,4,1,1,4,-4,2,-2,-2,4,-4,-1,1,-4,-1,1,1,-1,4,4,-2,-4,1,4,4,4,-2,-1,-4,4,-2,-2,-2,-4,-2,-4,-4,1,4,-4,-2]
[2,-2,-4,2,4,4,4,1,4,-4,4,-2,4,-1,-2,-2,-4,-4,-4,-4,-2,-2,4,2,1,4,1,1,-4,-4,-4,-4,-4,1,-4,-2,4,1,4,-1,-2,-1,4,4,-4,2,1,-2,-2,2,-2,4,-1,-2,-4,2,4,2,1,-4,-4,-4,2,-2,4,-1,-2,-1,4,-1,-2,2,1,4,4,4,4,4,-4,-4,-1,2,-1,-1,1,-2,-4,-4,-4,8,-4,-4,2,4,-4,-4,-1,4,-4,2,-1,4,4,2,4,-2,-4,4,-4,1,4,1,8,-4,-1,2,-2,-4,-4,1,2,-2,-1,2,-4,-2,4,-4]
[-4,-2,4,2,1,1,-4,4,-1,-2,-2,-4,1,-4,-4,4,4,-1,-1,4,-4,-1,1,1,2,-2,-4,4,-2,2,4,-4,-1,-1,1,-4,-1,-2,-2,-4,1,-2,1,-4,4,-4,2,2,-2,-1,-1,1,2,1,4,2,-2,-1,-1,-1,1,2,2,1,-4,-4,-1,-4,1,2,4,-2,-4,-1,-4,2,2,1,1,-4,4,4,4,-4,2,-4,4,-1,-2,4,-4,-1,-4,-1,-2,1,4,2,2,2,-4,1,-4,-4,-4,2,2,4,2,2,2,2,2,-2,4,4,1,2,4,4,-2,-2,-4,1,-1,-2,2,4]
[8,-4,4,4,-4,1,4,-4,-1,-4,4,-4,4,2,4,-4,4,-2,-4,1,-2,2,-4,2,-1,-1,-1,-2,4,-2,4,-1,-4,1,4,-2,-4,-4,-2,4,4,-2,-4,-1,-1,-4,-1,-4,4,-1,-4,4,-2,1,-2,-1,1,8,4,4,-1,-1,4,2,1,2,4,-1,-2,4,-1,-2,2,-4,2,-1,-4,4,4,1,-1,-1,-1,8,2,2,4,-1,-2,-4,2,1,4,-4,4,1,-2,-1,-4,4,1,-2,1,-4,4,-4,1,1,4,4,-4,8,4,1,1,-4,-4,4,-1,-2,2,-4,-1,4,2,4,-4,-1]
[4,-2,-4,-1,-4,4,-4,-4,1,-1,1,-2,-2,-4,-2,-2,-1,4,-1,-1,-1,-2,-1,4,2,4,4,1,1,-2,1,-2,4,-4,-4,-4,4,-4,1,-2,-4,-2,4,-1,4,4,4,1,-4,-2,-4,-2,4,1,-1,-4,-1,-2,-4,4,4,2,-4,-1,2,-4,1,4,1,1,-2,4,-4,-2,4,2,-1,-4,2,4,2,-1,1,4,2,4,-4,-2,-4,2,1,4,-2,-4,1,-4,-1,1,-4,4,-1,4,1,1,-4,4,2,-4,-4,-4,-1,-1,1,-1,-4,-4,2,-1,1,-4,-1,-4,-2,4,2,-4,2,-2]
[1,1,4,-4,1,1,1,-2,4,4,4,1,-1,-4,2,1,-4,2,4,-4,2,2,-4,-1,-4,-4,-4,-4,4,-2,-1,1,2,4,-4,2,2,1,-2,-4,-4,4,-4,-2,-4,-4,2,-1,-2,-4,4,-4,1,-1,-2,-2,-4,-4,2,-4,1,-1,4,-2,-2,-1,2,-1,1,-4,-2,1,4,-1,1,1,2,2,-4,-4,-4,4,1,-4,1,4,-1,4,-1,-4,2,-1,-2,-1,4,-4,-4,-4,-1,2,-2,-4,-2,-2,4,-1,-4,4,-1,-4,-1,4,1,1,-2,2,2,1,-1,-4,-4,-1,-4,2,4,4,1,1]
[-2,4,-1,-4,2,2,4,2,2,-4,-2,4,2,-4,-4,-2,1,4,4,-4,-2,-1,1,4,8,-4,-4,4,4,-4,4,-4,-2,2,4,4,4,2,4,-2,1,4,2,-2,2,4,4,4,4,2,1,-2,-2,-4,-4,1,4,-1,-4,1,1,-1,1,4,-2,-4,-4,-1,-2,2,1,2,-4,-2,-4,4,1,4,1,4,4,4,-2,-4,4,-4,1,1,2,-1,-4,4,-2,-4,-4,1,2,4,2,1,1,-1,4,2,1,-4,-2,4,-4,-4,4,1,1,-1,1,4,2,1,4,-2,4,-2,-4,1,4,-1,2,1]
[-2,-1,4,-4,-4,-1,-4,-2,-4,4,4,4,4,-4,4,1,-1,2,-4,2,1,4,-2,-2,-4,-2,4,2,-1,-2,2,-2,4,-1,-4,4,4,4,2,-4,-1,-2,1,-4,-2,1,1,1,-4,-4,-4,-1,1,-4,-4,-2,4,2,-1,-2,1,1,4,2,-4,-1,4,-4,2,-4,-1,-4,-1,-2,-1,-2,2,2,2,-4,-1,4,-4,-4,-2,-2,2,2,-4,-2,1,4,2,-2,-4,2,1,4,4,4,2,-2,-4,4,4,2,4,-4,2,-4,2,4,1,-4,1,-2,-2,-4,-4,4,1,-4,-1,1,2,-4,-4,-2]
[1,-1,1,-2,4,1,-4,2,2,1,-4,1,2,1,4,1,-2,-4,2,-4,-4,4,4,-1,-1,-1,-4,2,-4,-4,-1,-4,1,2,-1,4,4,2,4,-4,4,4,4,2,1,-2,1,4,4,-4,4,-2,-1,2,-2,4,-4,-4,-4,-1,-4,2,1,4,1,2,-2,-4,-2,-4,4,4,-4,-4,-4,-1,-4,-2,4,1,-2,1,2,2,2,-1,-2,4,2,2,1,-1,-1,-1,2,2,-4,1,2,-4,2,2,4,-2,-4,4,-4,-1,1,4,4,-4,-1,2,-1,-1,4,-4,4,-2,-1,-2,4,-4,-2,-2,-4,-1]
[-4,2,-2,4,-1,4,4,1,1,1,4,-2,-2,4,2,2,-2,-4,2,-4,2,-4,1,-4,4,-1,-4,-2,1,2,-4,-2,2,-2,4,8,-2,-2,-4,4,4,1,4,-1,-4,4,4,4,-4,-4,2,4,4,-2,-2,4,1,4,-4,1,-4,-2,-4,2,-1,-4,-4,-2,-1,4,1,-4,1,4,1,2,-1,4,-2,4,4,2,-4,2,2,-4,-4,-4,4,4,1,-2,-4,-1,-4,2,4,1,4,-4,-1,-1,2,4,2,-1,-1,-4,-4,4,2,2,4,-4,-2,-4,4,1,-4,-4,-1,2,-2,1,-4,2,-2,4]
[-4,-2,-2,4,-4,-1,-2,-2,-2,-4,1,4,4,1,-4,4,8,-4,2,8,-4,-4,4,-4,2,-1,2,4,2,4,4,2,-2,1,4,4,-2,-4,-4,-4,8,1,-1,4,-4,4,-1,-1,-1,4,1,4,4,4,-2,1,2,-4,4,-1,-1,2,4,-2,4,-1,-4,4,4,-4,4,1,1,4,-1,1,8,-1,-4,4,2,1,4,-2,-1,4,2,-4,2,1,-2,4,-2,-4,1,-2,2,2,4,-4,-1,-4,-1,-4,2,8,4,2,4,4,1,-4,1,-1,-2,4,2,-1,2,4,2,-4,4,-1,4,4,-1,2]
[1,1,-2,-1,-2,-1,4,-4,-2,4,-1,4,-4,-1,2,-4,-1,-4,-1,-4,-4,1,-4,4,-1,-1,-4,-2,1,-4,-2,-4,2,4,-4,-4,-1,-4,1,-2,-2,2,1,-4,-4,-2,1,-2,-2,4,-4,-4,-1,2,-4,-4,-1,4,4,4,-1,-4,4,1,4,-4,4,2,-1,-1,4,-1,2,-4,2,-2,-1,4,4,1,-2,-4,-1,2,-2,1,-2,2,-4,4,1,4,1,4,-4,-4,4,2,-2,4,-4,4,-4,4,2,1,1,4,-1,2,-4,4,2,-4,-2,4,2,-4,-1,-4,1,4,1,-4,-2,4,1,1]
[2,-4,1,-2,-1,1,-1,2,-2,1,2,4,-2,-2,-4,-1,-2,4,2,-4,4,-1,-1,-1,2,-1,1,-1,4,-4,-2,-1,2,-2,-4,-1,-2,-2,4,4,-4,4,-2,4,-4,1,-4,1,-2,-1,-1,-4,-2,4,-1,1,4,2,4,2,-4,-4,4,4,-4,4,1,-2,-1,1,2,2,-2,1,-2,4,1,-4,4,-1,4,4,4,-2,1,1,2,4,-4,-4,4,2,1,2,-4,-2,1,1,2,-4,4,4,-1,2,-1,-2,-2,4,-4,1,-2,-2,2,-2,-2,1,2,-4,2,-2,2,-1,-4,4,-1,-4,1,-4]
[-4,2,-2,-1,1,4,4,4,-4,1,-1,-2,-2,-4,4,4,-4,-4,-2,8,-2,4,2,-1,4,4,4,4,-1,4,4,-2,-4,-1,1,-4,-1,-4,4,-2,1,-2,-4,-1,-1,-4,4,-1,2,1,2,-1,-2,-4,-4,4,4,-2,4,1,2,-1,2,2,-4,2,-1,-2,-4,-2,2,4,1,1,-2,2,1,-4,2,1,-1,-2,-2,1,-4,-1,8,-2,4,-4,4,4,-4,1,-1,-2,1,4,2,2,2,2,-4,-2,1,4,-2,-4,-2,2,4,-4,-2,-4,4,-2,-4,-4,-4,-2,-4,-1,-4,-2,4,-1,-1,4]
[-4,-4,-4,-1,2,1,1,2,-1,-1,2,4,-1,4,-4,1,-2,4,-4,1,1,1,1,4,-4,-2,4,-1,-4,4,-4,2,-4,4,4,-1,1,-1,-4,4,4,4,8,4,1,-4,2,-2,4,-4,-2,4,-1,-2,-4,-4,4,-4,2,1,-2,-1,-2,-4,1,4,-2,4,8,-1,1,-2,1,-1,8,4,4,4,-4,-4,-4,4,4,-4,-2,4,-4,-2,2,-2,4,2,-4,4,2,4,-1,4,-1,4,-2,-1,2,2,-2,4,2,2,1,-4,-4,1,-2,-1,2,1,1,1,-4,4,-4,1,-2,1,-2,8,4,2]
[2,-2,2,2,4,1,2,4,-2,4,-4,-4,-2,4,-2,-4,2,4,2,8,4,1,2,-1,-2,-2,-4,2,2,-2,-2,1,4,4,8,2,-1,1,-1,-4,4,4,-4,-1,-1,-1,1,-4,1,1,2,-1,4,8,-4,2,2,-2,-2,4,-1,-4,4,-4,-1,-4,-4,-2,-4,-1,-1,4,-4,1,-4,8,1,-1,-1,-1,-1,1,2,4,-4,2,4,2,4,4,2,-4,-1,-2,1,4,4,8,-4,-1,-1,1,-4,4,-4,-2,-2,1,-1,-1,4,-4,4,-4,1,-4,2,-1,4,2,1,-4,-1,-4,-2,4,4,2]
[2,-2,-4,-4,4,4,2,4,4,-4,-2,4,2,2,4,2,-4,4,2,-2,-4,-4,1,-4,4,-1,4,4,-1,-2,-1,2,-1,4,2,4,1,-1,4,4,-4,-1,4,-2,-4,-4,-4,-4,2,1,4,4,2,4,2,-2,2,4,2,-2,-1,-2,4,1,1,4,-2,-1,2,4,2,-4,-4,4,-4,-4,-2,-1,1,4,-4,1,4,-2,2,4,-2,1,-4,-2,4,-1,-4,-2,4,1,-4,-2,-1,-1,-1,2,1,4,4,1,8,-2,2,2,4,-4,-2,1,4,1,4,4,-2,4,1,-4,-2,-1,4,-2,-1,-2]
[1,4,4,-1,1,-4,4,1,1,1,-2,1,4,4,4,-4,1,1,-2,2,1,-4,4,1,-4,-2,-1,-1,-4,2,-4,4,-4,2,-1,4,2,-4,4,-4,-1,4,4,-1,-2,2,2,-4,1,1,4,-1,4,4,2,-2,2,1,-4,2,8,8,-4,-4,-2,-4,4,2,4,-4,4,-2,-4,-4,4,2,4,1,-2,2,-4,4,-4,4,-1,-4,-4,4,2,-1,4,-1,-2,-2,-4,-1,-2,1,-4,1,4,4,-4,-1,-4,-2,-4,-2,-2,4,4,4,-1,-4,4,-2,1,-1,-2,-2,4,4,4,-1,-4,2,2,1]
[-4,-2,1,4,4,4,2,-1,-1,-4,1,1,4,-1,-4,2,-2,4,4,4,4,4,-2,1,-4,-4,4,-2,4,-4,1,1,-2,-4,-2,-2,2,2,-1,-1,1,-4,4,4,-2,1,4,-1,2,-4,-4,4,-2,-1,-2,4,-4,-2,4,-2,2,2,-1,-2,2,-4,-1,-2,-4,4,1,1,4,-1,1,-4,4,4,2,-4,2,-4,4,-2,-4,-2,1,4,-4,4,4,2,-2,4,-2,-4,8,1,1,-4,-2,4,1,4,2,4,4,2,-4,-1,-2,-2,2,4,4,2,-4,-1,-2,4,-1,1,4,-4,4,4,-4,4]
[-4,4,-1,4,4,2,4,-1,1,1,1,-2,-2,-4,2,1,2,4,-2,4,1,4,-4,1,-4,-1,4,-2,2,4,4,2,1,-2,1,-2,-2,1,2,-4,-4,-2,2,-4,-4,1,-4,1,-2,-1,2,-2,-4,-2,-1,-4,1,1,8,-4,1,-2,2,-1,4,-1,2,1,-1,-4,-2,-4,-4,1,-2,-1,-4,-4,-4,-2,-2,4,4,-1,1,-4,4,-4,-2,4,-4,-4,4,4,1,2,-1,1,-4,-1,-4,-2,1,-2,-4,4,1,-4,4,4,-4,2,4,2,-2,4,-4,-2,1,-4,2,-2,8,2,2,-1,4,-1]
[-1,4,2,2,1,2,-4,4,2,-4,-1,4,4,-4,-1,1,-4,-2,-4,-4,1,4,2,1,2,1,-2,-4,-4,-2,4,-2,-1,-2,4,-2,-1,4,-4,-2,4,-4,4,-1,-2,1,-4,-4,4,2,1,1,4,-1,-1,-1,1,4,1,2,4,-2,-4,2,-4,2,-4,-4,4,4,1,1,-4,1,-2,-4,1,4,4,2,-4,-2,1,2,-2,1,1,4,-2,-1,-2,-4,1,4,-2,2,-4,-4,2,2,-4,-4,-1,1,-2,1,-4,4,1,1,-1,2,4,-4,4,-4,-1,-4,-1,-2,-1,-4,-2,2,-2,-1,1,-4]
[4,-4,2,2,1,1,4,-2,-4,-4,1,-2,-4,-4,4,-1,2,4,4,1,4,-4,-1,1,1,4,-2,-2,-4,-1,1,2,4,1,-2,1,-4,4,-2,4,-1,-2,-1,-4,-2,-1,4,4,-1,1,-4,4,-2,1,-2,-4,2,4,-2,1,-2,-2,-1,2,-4,-4,2,1,4,-4,4,2,-1,2,4,4,-2,-4,-2,-1,2,4,-4,2,-4,4,-4,1,-2,4,4,-1,1,-1,-2,-1,2,-2,-4,-4,-1,-4,-2,4,1,1,4,4,-2,2,4,-2,2,2,4,-1,-1,4,-2,2,-2,2,-1,-4,-1,4,1,1]
[1,4,4,-2,-4,-1,-1,1,1,-1,-1,2,2,-4,-2,-1,-4,-1,4,-4,-1,-4,1,2,4,-1,1,4,1,-2,4,-4,1,-4,-1,-4,4,-4,-4,2,-2,-1,-4,4,2,1,2,-4,-2,-1,-4,2,4,-2,-4,4,1,-2,-4,4,-4,1,1,-4,2,-2,2,2,-1,-2,1,-1,-2,1,4,2,4,-2,-4,-4,4,4,1,-2,2,-4,-2,4,4,2,-4,-2,-4,4,-4,4,-4,-2,1,2,-1,4,-4,-4,-1,4,-4,-1,1,-4,4,-2,4,4,4,-4,4,4,-1,4,4,-1,2,-1,-2,1,2,4]
[-4,2,2,1,4,-1,1,-4,4,-1,4,4,2,4,-4,-2,4,4,-4,-4,1,-4,-4,-2,-1,-4,2,2,4,4,4,4,-4,-1,2,4,-2,4,1,-4,4,2,-4,-1,1,1,1,-4,-4,4,4,4,4,4,-4,-1,1,4,2,-1,8,-2,-4,-2,4,-1,1,2,-1,-1,-4,2,4,4,-1,-1,-1,4,1,4,-4,4,-4,2,4,-4,-4,-4,4,-4,-4,2,4,-1,-1,4,4,4,-2,-4,2,-1,2,-4,-4,-1,-4,-2,-2,1,1,-1,4,1,1,-4,-4,-4,4,4,4,2,2,-2,2,-2,-2,-2]
[-1,-4,-2,2,4,1,-4,-4,4,2,4,1,-4,-1,-4,-1,1,2,1,4,-4,4,-1,-4,2,1,-4,-2,-2,1,1,4,-2,-4,1,-1,-4,1,1,-4,4,4,4,1,-4,-1,4,1,-2,4,-2,2,2,2,-4,-1,2,4,2,-1,-4,4,2,4,-2,-1,-4,-4,-2,-2,4,-1,-4,-4,1,2,4,2,2,1,-4,-2,-4,1,1,1,-4,4,-4,-2,2,1,-2,-1,-4,-1,2,-4,4,4,-2,-1,-1,4,2,2,-4,-1,-1,4,1,1,-4,1,1,-1,-1,-2,4,1,4,1,4,-1,4,-2,-2,4]
[-4,-1,-4,2,4,-4,1,1,2,-2,-2,4,4,-1,-2,-1,8,8,-4,-4,-1,-1,4,-4,8,-1,-4,4,2,1,2,-4,-4,1,-4,1,-4,-1,-2,4,1,2,4,4,-2,-1,1,-4,-1,-4,-4,4,8,-4,-1,-4,-1,4,2,2,-2,-2,-4,1,-4,4,-4,2,-8,2,-2,4,4,1,-1,4,-1,-2,-4,-1,2,1,4,-4,-2,-1,1,-4,4,-1,1,2,1,-1,-4,8,4,4,-4,2,1,4,-2,-4,4,1,4,4,-2,-4,-2,-2,4,-4,1,-1,-4,-2,8,-4,1,2,-1,-2,-1,-2,2,-8]
[-4,-1,-2,-2,4,-4,-4,2,1,-2,-4,-1,2,-2,2,-2,4,-2,-2,2,2,1,4,-1,-4,1,-4,-4,4,2,-1,-2,2,4,-4,1,1,1,-1,-1,-4,-4,4,4,-2,-1,1,2,4,-4,1,-1,-1,2,-2,4,2,-4,-1,2,1,2,-2,2,-2,-1,4,-1,-4,-4,-4,1,-2,-4,4,1,-2,-2,4,-4,-4,-1,4,-1,-1,-4,4,1,4,-1,4,1,-4,4,-4,-4,4,-2,-4,-2,4,4,1,-2,1,4,-2,-1,1,-2,-2,1,4,-1,4,4,-4,2,2,-4,-1,1,-4,-1,2,-2,-1,-1]
[8,2,4,-4,-4,4,-4,4,-1,1,2,1,4,-4,4,4,-4,4,2,2,-4,-2,-1,-4,4,-1,-2,2,-2,-2,4,2,-1,4,-1,2,4,4,-1,4,2,-1,4,-4,-2,-4,-4,-1,4,4,-4,2,-4,1,2,1,4,2,4,4,1,-2,2,-1,-2,1,-4,-4,4,4,-4,4,-4,2,-2,4,2,-4,-2,1,4,1,-2,-1,1,1,-2,-4,4,-2,-2,4,2,1,4,1,4,-2,4,2,1,-2,-1,4,-2,-2,-2,2,1,4,-2,1,-1,2,4,2,4,-2,4,2,-4,-4,-4,-2,4,4,-2,-1]
[4,-2,-2,2,-4,-1,2,4,-2,4,1,4,4,4,2,-4,2,-4,-1,2,4,-4,4,-1,4,4,-4,-2,4,2,1,2,-4,-4,-1,-1,-1,2,2,-4,4,2,4,2,4,-2,-4,-4,4,-4,-1,4,1,-4,-2,-2,4,-2,4,-4,-2,-4,4,4,2,1,-2,4,-1,2,2,-4,-4,-2,-4,-4,-1,-1,4,-4,2,2,1,-4,2,-4,4,4,-1,1,-2,-1,-2,-2,4,4,-1,-1,1,-1,4,-2,4,-4,4,2,-4,-1,-2,4,-1,2,4,-1,2,-4,-4,-2,-4,4,-4,-4,1,4,4,4,1,-4]
[-2,2,2,4,-4,4,-4,-4,4,1,4,-2,-2,-4,1,2,-2,4,1,-4,-1,-1,4,4,-1,2,4,-1,1,2,2,4,2,4,-1,2,4,-4,-1,-2,1,-2,4,4,-1,2,-1,4,-1,-4,2,-2,1,-4,-2,4,-4,4,-4,4,-2,-4,1,-4,-4,1,-1,-1,2,2,1,1,-1,-2,1,1,1,2,-2,4,4,4,4,-2,-4,-2,-2,1,-1,-2,4,-4,1,1,4,-2,-2,1,-4,-2,4,1,4,-4,2,4,1,-4,4,-2,-4,4,1,-2,-1,2,4,-4,2,1,4,-4,-4,-4,-4,2,4,-4]
[-1,-4,-4,-4,-2,8,2,4,-4,1,4,-1,-2,4,2,4,-1,4,2,8,4,4,1,4,8,4,-1,8,4,4,-1,4,-2,4,-2,1,2,-2,4,4,2,-1,1,4,-4,-2,-1,-2,-1,-2,4,2,2,4,-4,4,4,-1,4,-4,1,4,-4,-2,1,2,4,2,-1,-4,4,2,-4,-4,4,-1,-4,1,-2,4,1,2,-4,-1,-2,-4,4,4,1,1,4,-1,-1,4,-4,2,1,1,4,4,1,1,2,2,4,2,-2,4,4,-1,-2,-1,-4,1,4,4,-1,4,4,-4,-4,-2,-4,4,4,1,2,-4]
[2,-2,-2,-4,-1,2,-2,2,-4,-2,4,4,-4,4,2,-2,-2,-2,1,4,-1,4,-2,-4,-1,2,4,-1,4,4,-1,2,-1,-4,4,-4,-4,-2,4,1,1,-4,-4,2,-2,-4,-2,2,-4,4,-2,4,-4,-1,4,4,4,1,4,-1,-4,4,-4,4,-4,4,-1,4,1,-4,4,-4,1,-4,-2,-1,4,-4,1,-4,-2,1,-4,-4,-4,2,1,1,1,-4,-4,-4,1,-4,-4,-1,-1,4,-1,1,1,-2,1,2,2,-4,4,4,-2,-1,2,-2,4,-4,-2,-4,-4,-1,2,2,-1,2,4,-2,1,-4,-4,-2]
[-2,-1,4,2,2,-4,4,4,4,-4,-2,4,-4,-4,4,-4,-4,8,-4,-4,-1,2,1,4,2,4,4,1,-2,-1,4,-4,-1,4,8,-2,-4,1,-1,4,-4,-2,-4,-4,2,-4,-4,2,-4,-4,4,-1,4,4,1,-2,-4,-2,-2,-2,1,-4,2,4,-1,-2,-4,1,-2,-4,-1,2,-4,4,-1,4,4,-4,-4,4,1,4,-4,-2,-4,2,4,-4,4,4,-1,4,-2,1,-4,4,8,-1,-4,-4,-4,-1,2,-1,-2,4,2,-1,1,-4,4,-1,2,-1,-4,-2,4,-4,-4,4,-2,-1,4,-2,4,-2,-1,-4]
[-1,-4,-2,-2,2,-4,1,-2,2,-4,-1,-4,-2,-1,4,-2,4,4,-1,-4,4,-4,-1,-1,2,1,2,2,4,2,1,4,4,-4,4,4,4,1,1,4,-4,-4,2,-1,-2,2,-4,4,2,1,4,-4,-1,-4,-4,2,1,-4,-4,-4,-1,2,1,-2,-2,4,1,-4,-1,1,-4,-4,-1,2,-1,4,-4,-2,4,1,2,-1,-1,-2,1,4,-2,1,-4,4,-4,-2,-2,1,4,-1,-4,1,-4,-2,-1,1,-4,1,-4,-4,2,-4,-4,2,1,-1,-1,-4,1,-4,4,-1,-4,4,-4,2,-4,4,1,4,4,4]
[2,-4,-2,4,-2,-1,4,-4,2,4,2,2,4,4,-4,-4,4,4,2,4,-1,1,-4,4,2,-2,2,4,2,2,1,-4,-2,-4,-1,2,-4,-2,2,2,4,-2,4,1,-2,-4,2,4,-2,-4,2,2,1,-4,2,4,2,-4,-1,-1,-1,4,4,2,4,-1,4,1,-2,-1,-4,-4,-4,1,4,-4,-1,1,4,-1,-1,-4,1,4,-4,1,4,2,-1,-2,4,1,-2,4,-1,-1,4,1,1,-2,-4,-4,1,4,-1,1,-1,-2,-1,4,4,-4,1,-4,1,-4,4,1,-4,2,-2,-1,-4,4,-2,-4,4,2]
[2,-1,-1,4,-1,4,1,2,-2,-2,-2,-2,1,-2,-4,-2,-1,-4,-4,4,1,4,-4,-2,-1,1,-2,2,2,-2,4,1,1,2,-2,4,-1,1,1,4,4,-2,2,2,4,1,2,-4,-4,-4,-4,-4,2,-1,-4,-4,-4,-4,2,-2,-2,-1,1,4,4,-1,-2,2,4,-2,2,-4,2,1,2,-4,-4,4,-4,4,-4,1,2,1,-4,-4,4,1,4,4,1,-1,1,1,4,1,-2,2,4,1,1,4,4,4,4,2,-4,1,4,2,2,-4,-4,-4,4,2,2,-4,-2,-4,2,2,1,4,4,-1,1,-4]
[8,-1,4,2,4,-4,1,2,-1,4,-4,4,-2,1,4,2,4,-2,1,8,2,4,-4,2,-2,4,-1,-4,4,2,1,-2,2,2,2,-4,4,-2,2,-1,2,-2,4,1,-4,2,-4,1,1,4,-4,4,1,4,-4,-4,4,-1,-4,-2,-1,-4,2,-1,1,4,-1,-1,2,2,1,-4,1,-4,-4,2,2,4,2,-2,4,4,1,-4,2,-2,-4,-1,-1,-2,-4,-2,2,-1,-1,-2,-1,-2,-2,4,-4,-4,-4,1,-1,-4,8,-4,2,4,4,4,-4,4,-2,-4,4,4,1,-4,-1,-4,2,-4,2,-1,4,4]
[-1,1,1,-2,-4,1,-1,-1,2,4,2,-1,4,-4,-4,-2,2,-4,2,1,4,-1,4,1,-2,2,4,1,4,-2,-2,2,2,-4,4,-1,1,-4,4,-4,4,4,2,-2,4,1,4,-2,-2,-4,4,-4,-2,-4,-2,-4,1,-4,-4,-4,-4,-2,4,-4,-4,-1,-4,-2,4,-2,-4,-1,-4,-4,4,4,-1,1,-4,-2,-4,4,4,-2,-4,4,2,-4,1,-1,-2,4,-2,-1,2,4,-4,-4,-4,-4,-4,-2,4,-4,-2,2,-2,-1,4,2,1,2,-4,4,-4,2,-4,-4,2,-4,-4,2,-1,1,4,4,4,-4]
[4,4,4,2,-4,-4,-1,-4,4,2,4,-2,2,4,-4,-2,-2,4,-2,4,2,-2,-4,-1,4,-4,4,-2,-2,4,-1,-2,-4,4,8,2,2,1,-2,-4,-1,-2,2,-4,-1,-1,-4,1,-1,-2,8,-4,4,4,-4,2,2,-4,1,-2,8,8,-4,-4,2,4,-2,-2,-2,-4,-2,4,2,-2,4,8,-1,-2,1,2,1,8,-4,-2,2,4,1,-4,-4,4,-2,-4,-4,4,4,-2,1,2,-4,1,-1,2,2,-2,4,4,4,4,8,-4,4,-4,-4,8,2,-4,4,-2,4,1,1,-2,4,-1,1,-4,2,2]
[-1,-2,2,-2,-2,-2,2,-4,4,-1,-4,4,8,-1,1,4,-4,4,4,1,4,-4,-2,4,-4,4,2,4,-1,-2,-1,1,-4,2,2,2,1,4,-4,4,-1,-2,4,-2,-2,4,2,1,4,-1,-1,-4,4,4,-1,1,-1,2,-1,-4,4,-1,4,-4,-4,-2,-1,-4,2,-4,4,4,-1,8,-2,2,2,-1,-4,2,2,8,-1,-2,-4,-1,1,-4,4,-4,4,1,-1,4,4,8,1,1,4,4,-2,-1,-4,1,-4,4,8,-2,4,-4,-2,4,2,1,8,-4,8,4,4,-1,1,4,-2,2,4,-4,1,-2]
[1,-4,-2,-1,-2,4,1,-2,2,1,4,1,-4,4,1,2,-1,1,-4,4,4,-1,-1,4,1,-4,-4,-4,-2,-4,4,2,4,1,1,-2,-4,-4,4,4,1,4,4,2,-1,1,-4,2,1,4,-1,1,-1,-1,-2,-4,2,-2,2,-1,4,-2,4,4,4,1,1,1,-2,2,-4,-4,2,-1,-4,1,2,-1,-4,-2,2,1,-4,-4,4,1,2,4,1,4,-2,1,-4,4,-1,2,-4,-4,-4,4,2,4,-4,4,4,4,4,-2,-1,4,-4,-4,1,4,-2,4,-4,4,2,1,-2,-1,1,-4,-1,1,-2,-1]
[4,1,4,2,-4,2,4,-2,-4,2,-4,2,-4,4,4,-2,-1,-4,-2,-1,-4,-1,-4,4,-2,-1,-4,4,4,-4,1,2,2,-4,-4,-4,-4,-4,-2,2,4,-4,2,-4,-4,2,-1,4,-2,2,-2,2,1,2,4,4,4,4,-1,4,-4,-4,4,1,-4,2,-4,4,2,4,1,-2,-1,2,4,1,1,-4,-2,-2,-4,4,1,-4,-4,-1,4,-2,4,-2,-2,1,-1,-1,1,-4,1,1,1,-1,-4,4,4,-4,4,1,-4,-2,1,-4,4,-2,-4,4,-2,4,-2,1,-1,-1,-4,-4,1,4,1,-1,-1,2]
[-4,1,1,-4,1,2,-2,-4,-4,-1,1,4,2,4,1,-2,-4,2,2,-1,4,4,-4,4,4,4,-2,-2,-2,-4,-1,-4,1,2,1,2,4,4,-2,-4,4,-1,-1,-1,-1,4,-1,2,-4,-2,-1,-1,4,2,4,-2,4,-4,4,2,4,-4,1,-2,2,4,-4,2,4,1,-4,-1,1,-1,-2,-4,-2,2,-4,4,-1,4,2,1,4,1,1,4,-4,-4,4,4,-4,-4,-4,1,-2,-4,-4,-1,4,1,2,1,2,-1,2,4,4,-4,-2,-2,2,-4,1,1,1,-4,-2,-4,4,-4,-4,2,4,-2,1,-2]
[-8,2,4,-1,2,4,4,-2,1,1,4,8,-4,2,1,-4,-4,4,2,-1,4,-4,2,-4,-4,4,4,4,4,-4,-2,4,-4,4,-2,1,4,-4,4,-2,4,4,4,-4,1,4,2,-4,-4,1,-1,1,4,-1,1,4,4,-1,-4,4,1,2,-2,-1,-1,2,4,-2,-4,-4,4,-4,2,-2,4,4,4,-4,-4,1,-2,8,2,4,-2,-2,2,-2,4,2,4,2,2,4,-1,2,4,4,4,1,2,-1,-2,4,4,8,4,-1,2,-1,1,2,-4,4,4,-1,2,1,-1,-4,1,4,4,1,2,-4,4,4]
[1,-4,-4,1,-4,4,-4,4,4,2,-2,-4,4,1,4,-2,2,-1,-4,-2,1,-4,1,2,8,-2,4,2,-1,-2,4,-4,4,4,1,-2,4,-4,1,2,1,-2,-4,-2,2,4,-2,-4,4,2,1,8,4,-2,4,-2,-4,4,8,-4,1,-2,4,-4,4,2,-4,-1,-2,4,2,-2,-1,-4,4,4,2,-2,-4,8,1,-4,4,-2,-1,-2,4,2,4,-4,2,2,-4,-1,1,1,4,8,-4,-4,-1,4,-4,4,-2,1,1,1,2,-4,1,-2,1,-1,-1,-2,-2,4,2,4,4,2,4,-2,4,-2,-1,4]
[4,2,-1,-1,-2,-4,-4,2,4,2,-2,-1,4,2,2,1,-4,-4,-4,2,2,4,2,-2,-2,2,2,1,1,-4,-2,4,-4,-4,-4,-4,4,1,4,2,4,2,2,2,2,-2,4,-4,-2,4,-1,4,2,2,4,-4,-4,2,-1,4,-2,-1,-2,-4,-4,4,1,-2,2,1,1,-4,-2,-2,-1,-1,1,-4,-4,-1,-4,4,2,-2,1,-4,-4,4,-2,-1,-4,4,-2,-2,4,-1,2,2,-4,-4,-1,4,1,-1,4,-4,-1,-2,-2,4,-4,2,1,4,-4,-4,1,-2,-2,2,-2,-2,-2,-1,4,1,-2,-1]
[-2,4,-1,-4,4,2,-4,-4,-2,-2,-2,2,4,4,1,-4,4,2,4,1,1,-2,-4,4,-2,-1,8,4,1,-2,4,-1,-2,2,-4,-8,2,-1,2,-4,8,4,-4,1,-2,-1,-4,-2,-4,4,-2,-4,-2,4,-2,-4,1,4,-2,-2,4,-4,1,-4,4,1,-4,-2,-8,4,1,2,-2,-4,-4,1,-2,-4,-2,4,4,2,-1,1,4,-1,1,4,2,1,1,4,4,4,2,8,-1,4,4,1,-2,4,-2,2,4,8,4,-1,8,4,-4,-2,4,-2,-2,-1,-2,2,4,-2,-4,-4,2,-4,4,-2,-1,1]
[-4,1,4,1,-4,-1,-1,-4,-1,-1,-1,-2,1,-4,-2,-4,4,2,2,-2,-1,2,4,-2,2,4,-1,2,4,-1,-4,-2,2,-1,1,1,1,2,2,4,-1,1,-4,4,1,4,4,-1,4,-2,-1,-2,2,-4,4,1,2,1,-4,-1,4,4,-1,1,-1,-2,1,-1,-1,-1,1,-1,-4,-2,4,-2,4,2,-4,-1,-2,1,-4,-4,4,-4,-2,-2,-4,-2,4,-4,2,-1,-2,-1,-2,-1,1,2,-2,-2,-1,-1,4,-1,-2,-1,4,4,4,-4,-4,4,4,-2,-4,-4,4,-1,2,-4,-1,2,4,1,2,-1]
[4,2,-4,-1,4,-4,-1,-1,4,2,-1,4,1,2,-1,4,-1,-4,-1,1,4,1,-1,-2,-4,-4,2,1,4,2,1,1,2,-4,1,4,2,4,-4,4,8,1,4,-4,-4,-4,-2,4,4,-4,-1,-2,1,1,1,-2,-1,-2,-1,4,2,4,4,4,-4,4,4,-4,2,4,2,-4,4,2,-2,4,4,2,-4,4,4,-1,-1,-1,-4,-2,-1,-2,-2,-4,2,-4,-4,4,-4,1,4,-4,2,4,4,1,-4,-1,1,-4,2,2,8,2,1,-1,-1,1,2,-1,4,2,4,-1,1,-2,1,-1,1,4,4,4]
[-4,-4,4,1,4,1,-2,8,4,-4,1,-4,-4,2,-1,-2,4,-1,1,2,4,4,-1,-4,4,-4,2,1,4,-2,-1,1,2,-1,-4,2,1,2,2,1,1,-1,-2,2,4,2,1,-2,-2,4,2,-4,-2,8,4,-2,4,2,-2,-1,-1,4,-4,-2,4,4,1,-4,4,-2,1,1,2,-4,4,2,-2,8,2,-1,4,2,4,4,-2,2,-1,-1,2,1,2,1,1,-4,-2,-1,-4,-2,-1,-2,4,-1,2,4,-4,1,-1,-4,4,2,-1,4,-2,1,2,-2,2,-4,-2,-2,-1,2,1,2,2,1,-1,2]
[-1,-1,-2,-4,-1,-4,4,-2,1,4,-1,-2,-4,2,-2,2,-4,1,2,-2,-4,4,-1,-4,-4,2,4,-4,-2,4,1,-1,4,4,-4,-4,-2,4,1,-4,1,-2,4,-1,-4,4,-4,4,-2,-4,-4,-2,1,-2,-2,4,-2,-2,-4,-1,1,-4,4,4,4,4,4,-2,-4,-4,-4,2,-4,4,1,-2,2,1,4,1,-4,-4,1,1,2,-4,-1,2,-2,-4,-4,4,-4,-1,4,2,-4,-1,2,-2,-4,2,2,1,-4,-4,-2,-4,-2,-2,1,1,-2,4,-4,4,-4,-2,1,4,1,2,4,-1,-1,-4,4,-1]
[8,-4,-4,4,-4,8,-2,4,1,-4,1,-2,-2,-4,1,-4,-4,2,-4,1,2,1,4,2,4,2,2,-4,-4,2,2,1,-1,-4,-1,-1,-1,-2,8,-1,4,-4,-4,2,-4,1,2,-4,4,-1,-1,8,2,1,-4,-4,2,8,2,-2,-4,-4,4,-1,1,1,-2,-1,-1,2,8,1,-2,-1,2,2,-2,4,4,8,-4,1,-4,2,4,-2,1,-4,4,1,-2,-1,-2,-2,1,1,1,-2,-2,2,8,-2,4,-4,-1,-4,4,-4,4,-2,-1,1,4,2,-4,-4,-1,-2,4,-1,4,-4,-4,2,-2,-2,1,-1]
[-4,4,-4,1,4,4,2,-2,-2,-4,4,4,-4,-2,-1,-4,-1,-2,-1,-1,-4,4,4,4,4,4,1,4,1,2,-4,2,-4,-4,4,2,1,-4,4,-4,-4,1,4,-4,1,4,-1,-4,2,-4,-1,-4,-4,-4,-2,-4,1,-4,1,1,4,-2,-1,2,-4,2,-4,-4,-1,-1,1,2,1,1,-1,1,-2,2,-1,-2,-2,-4,1,1,2,1,-1,2,4,-2,4,-4,4,-1,1,-4,8,-2,-4,2,2,4,-4,-4,-4,-2,-1,-2,2,-4,4,4,1,4,-4,-1,1,-1,4,4,4,1,2,1,4,-1,-4,2]
[-4,-4,-4,-1,4,4,4,4,4,2,4,-4,-2,-2,-2,-2,-4,4,-4,4,-1,4,-1,1,2,-4,-4,4,-4,-4,-4,2,-1,1,-1,-1,2,-1,4,-2,-4,4,1,4,-4,-2,-4,-2,4,1,-2,4,4,-2,-4,-1,1,1,-1,4,4,4,-4,4,1,2,-4,1,-2,-4,-2,1,4,-2,-2,2,-2,4,1,1,1,1,4,-1,1,4,4,-2,2,2,-1,-1,4,-1,-4,-2,4,4,-4,4,-1,1,-4,-1,2,4,-2,4,4,-2,-4,2,2,-4,-4,-4,4,-1,-4,-2,-4,-1,-2,-1,2,4,-4,-4]
[4,-1,-2,-4,4,-4,8,4,1,-2,2,1,4,4,2,-1,4,4,-1,-4,4,-4,-4,-1,-4,1,-2,1,-4,-1,-2,-4,4,-4,-2,1,-1,1,4,-1,-1,8,-1,2,-2,8,1,1,2,-2,1,1,-4,-4,-4,4,-1,4,4,4,2,1,-2,1,4,8,-2,-1,2,4,-4,1,-4,-4,2,1,2,-2,2,-4,-4,2,-1,4,4,-1,1,2,4,-1,1,4,-1,4,4,1,-2,1,-2,1,-4,-2,-2,-2,4,1,4,-4,1,2,1,-1,1,2,4,4,-2,-4,-2,4,2,4,2,1,2,4,2,4]
[-8,-1,-2,-4,1,1,8,-1,-2,1,4,4,-4,2,-2,4,4,4,4,4,4,-4,-1,4,2,-1,-2,2,-2,-4,2,4,4,2,-4,2,-2,4,4,-4,2,4,-1,-4,-4,-2,4,1,2,4,1,1,4,2,-4,-4,4,1,-4,4,1,4,2,-2,-2,1,2,1,2,4,-2,-2,-2,-2,4,4,-4,-4,-1,4,-4,-4,4,4,-1,-2,4,4,4,2,2,2,4,2,4,-1,2,8,4,4,2,-4,1,4,-4,-2,2,-4,1,-2,-2,-4,2,-1,4,1,-1,-4,-4,-4,2,-2,-4,4,4,-1,4,4]
[4,-2,1,4,-4,-2,-2,-2,-4,-2,2,2,4,-2,-4,1,-4,2,1,4,-2,4,-2,-2,-1,4,1,4,-4,-4,4,-2,-1,-2,4,2,4,-2,1,4,-4,4,-4,-2,4,4,-4,2,-1,1,-2,1,-4,1,2,4,4,2,-2,-2,-2,4,-4,2,-2,2,4,4,-1,-4,-1,-1,4,-1,-1,-2,4,-4,-2,-2,-1,-4,4,1,4,1,4,4,-4,-4,-2,2,-2,4,-1,-4,4,4,4,2,-2,4,2,-1,4,2,1,1,-1,2,-2,4,-1,-4,4,2,4,4,-4,4,1,2,-4,-4,-2,-2,4,2]
[-2,-1,-4,-4,4,-4,-1,4,2,2,4,1,-4,-1,1,4,2,1,-2,-4,4,-1,4,-2,-2,4,4,1,-2,1,-2,4,-4,-4,1,-4,-4,-4,-1,-4,4,4,-4,-4,-2,1,2,-4,-2,-2,2,4,-2,-2,2,-1,4,-1,2,1,-4,2,-4,1,4,-4,-2,-2,1,-2,-1,-2,2,2,-4,1,-4,4,-4,-2,-4,4,-2,-1,1,2,-1,1,4,1,-4,-2,4,-1,4,-1,-4,4,1,1,4,4,-4,2,2,4,4,-4,4,1,-2,-1,-2,-4,4,4,4,-2,4,-1,-1,4,4,-4,-4,-2,-4,-1]
[-4,1,4,-2,-4,2,8,8,2,4,-1,-4,-4,-4,2,4,4,-4,2,8,1,1,-4,-4,2,-4,4,4,2,-1,4,2,4,1,-2,4,-1,-1,-1,-1,-2,-1,-2,-1,-1,4,2,1,4,-4,8,-4,-2,-2,1,4,4,-4,4,1,-1,4,-1,-2,-2,4,-1,-2,4,-2,-1,4,-2,1,-4,-1,2,-2,-4,-2,4,-1,1,-2,4,-2,2,4,4,-4,1,-1,-2,-4,1,1,4,1,4,-4,-4,-4,-4,-1,-2,-4,8,4,1,-4,-2,-4,4,1,-4,2,-1,2,-4,-4,2,-4,4,2,-1,-1,-1,-1]
[2,4,-4,2,4,-4,4,-4,4,4,-1,-2,2,1,4,4,8,-4,2,-1,2,-1,4,1,-1,4,-2,4,2,4,4,2,4,-2,-4,-1,4,2,-1,-2,1,1,1,2,4,4,-4,2,-4,-4,-1,-4,1,1,1,4,-1,1,1,-2,4,1,4,1,-4,-4,-4,4,4,-1,4,-4,2,4,2,4,4,1,-1,4,-2,2,4,-4,-2,4,4,2,-1,4,4,4,2,-4,4,1,1,-2,-4,4,-1,4,4,-4,1,-4,4,-4,-1,1,-2,-4,1,2,-1,4,-2,-1,-4,1,-4,-1,1,-1,4,-1,2,4]
[-2,-1,-2,-2,-1,2,8,4,2,-4,4,-1,-1,2,-1,-1,4,2,-4,1,-1,-2,4,-1,-1,-4,4,1,2,-2,-1,-4,-2,-1,-4,4,-4,4,4,4,-1,2,-2,4,-4,4,-4,4,4,-2,-4,-2,-4,-2,-4,2,-4,-4,2,4,2,-4,4,-2,2,2,-4,1,4,8,-4,1,-4,-2,1,1,4,4,2,-1,-4,-4,4,2,2,1,-2,4,1,4,-2,-2,2,-1,-2,4,1,-4,4,-2,2,2,-1,-4,-4,4,2,-1,4,2,-1,1,-4,-2,2,-1,-2,4,-2,2,-1,1,2,4,-4,8,-1,1]
[-1,-1,4,1,-2,4,4,-1,-2,-4,-1,2,2,-1,-4,1,-2,2,-2,2,-4,4,-4,1,2,4,-1,-4,4,2,4,1,-2,2,4,-4,1,-2,-4,1,4,-2,-4,2,1,4,4,1,-4,-2,-4,2,4,1,2,-1,4,4,2,2,-4,-1,2,-4,2,1,4,4,-4,-4,-1,4,-4,-4,-4,-4,4,-4,2,2,-1,4,2,4,-4,-1,1,4,2,-4,4,1,4,-1,-4,-4,1,4,-1,-4,-2,2,-1,2,2,1,-2,2,-1,-4,4,2,-1,1,-2,1,2,2,-1,4,-1,-4,1,-1,-4,4,4,-2]
[4,1,2,2,-4,2,1,-4,1,-2,8,4,2,-4,4,-4,-1,4,-2,-4,-4,-4,4,-2,8,4,1,-2,-4,-4,2,4,4,-4,1,1,-2,1,1,2,4,2,-4,-4,-2,-2,1,-1,2,-1,-2,4,1,-2,-2,-2,-2,-1,-1,-2,-4,4,4,-1,-2,2,-1,-4,4,1,-2,-2,-4,-2,2,-2,2,-2,-4,4,2,4,1,4,-4,-1,-4,4,4,1,4,-4,2,-4,-2,4,-1,2,-4,1,4,4,2,-1,-4,-2,-1,2,-2,-1,4,8,-2,-4,-4,2,-2,1,-4,2,-4,-1,-2,-4,2,-1,2,2]
[1,-1,1,-4,1,-1,1,-1,-1,2,4,1,1,4,-2,-4,2,-1,4,4,-1,-4,4,4,-1,-2,-1,4,2,2,2,-4,-2,-4,2,-1,-2,4,4,-2,-4,1,2,4,-4,2,-1,-4,1,1,-1,4,-4,1,1,1,-2,4,-1,-4,-4,-4,-4,-4,-4,1,-1,1,-1,2,4,4,1,-4,-4,-1,4,4,-1,-1,-2,1,2,-4,-4,4,-2,-4,2,-1,2,4,-4,4,-1,-1,4,-2,-4,4,-2,4,-4,2,-2,2,-4,4,-4,-4,2,4,-2,1,1,-4,4,-4,-4,4,1,1,-2,-1,-4,-4,4,-1]
[-2,-2,4,2,8,-2,8,-1,-1,1,-2,2,4,-1,-1,4,2,4,-1,1,-4,-4,-1,4,-1,2,-1,2,4,-4,-4,-2,-1,8,-4,2,1,4,-1,2,4,4,-1,-1,2,-1,-4,-1,-1,1,4,4,1,4,4,4,-2,-4,4,-2,2,4,-4,4,1,-4,-1,1,1,-2,2,4,2,-1,4,8,4,4,2,1,4,-4,-4,4,1,-4,-2,4,4,1,2,1,-1,-2,-1,-4,4,1,1,4,-2,-4,1,-4,1,4,4,-1,-4,4,4,4,4,-1,1,4,-1,-2,-4,-4,-4,2,-1,1,-4,4,-2,-2]
[-4,-1,-2,2,2,4,4,-4,2,-1,4,1,-1,-1,1,1,2,4,-4,-2,-4,1,4,-4,-1,-1,-1,8,-2,-4,-4,4,2,-4,-1,4,1,-1,-4,-4,-4,-2,4,-4,2,-4,4,4,4,4,-4,-1,-2,-2,-2,4,-4,-1,1,-4,-1,1,-4,-2,-1,-4,-2,-4,2,-4,-1,4,-2,-4,-4,4,4,1,4,2,-2,8,1,-4,1,4,4,-1,-2,4,-2,4,2,4,4,-4,-2,2,-1,2,4,-4,1,-1,-4,1,8,-1,4,4,4,-1,4,2,4,4,8,4,-1,4,4,2,4,-2,4,1,4,1]
[2,4,1,-2,-4,1,4,-4,4,-2,-1,4,4,-2,-1,-4,-1,1,1,-4,4,4,-4,4,-2,2,2,-2,-2,-4,-4,1,-4,4,1,-1,4,4,-2,-4,-1,1,-4,2,-4,2,4,-4,-1,-4,1,-4,4,4,-4,-4,1,-4,1,-4,-2,-4,-4,-4,-1,-2,-2,2,4,1,-4,4,1,2,1,-4,-1,-4,-2,1,-4,1,-4,2,2,-1,-1,-4,-2,-2,4,-1,4,1,1,2,1,-4,-1,-4,2,2,-4,4,4,-2,-1,-4,-4,-2,2,2,4,4,1,-2,-4,-2,2,1,-4,4,-1,4,-1,4,-2,-1]
[1,-4,-4,-1,1,-4,2,-4,-2,2,-2,2,8,4,4,-4,-1,1,-1,1,-1,-2,-1,-4,1,1,2,-4,-2,-4,1,-1,-4,-1,-2,8,1,-4,1,-4,2,4,1,-1,2,-1,4,-2,1,-4,2,8,4,2,4,2,-1,8,2,4,-2,-4,2,4,2,2,4,-4,-2,-1,-4,2,4,1,1,4,4,-4,-4,-1,-1,2,4,4,1,-4,-1,-4,-2,4,-4,1,2,-1,-4,4,4,-4,-2,4,1,1,-4,2,1,-2,-2,-1,-8,-4,-4,-4,1,-4,4,-4,-4,-1,2,-4,4,-1,-2,-4,1,-4,4,-1]
[-1,4,-4,-4,-1,-2,1,4,-1,-2,-2,1,1,4,2,1,2,2,-4,4,2,-4,1,1,-1,4,-4,-4,-4,-4,1,-1,-4,4,1,-4,4,-1,4,1,2,2,2,2,4,4,-2,-4,-2,-2,2,-1,-2,-2,1,1,-1,-1,1,-1,4,2,-2,4,2,-2,-2,2,-1,-1,4,4,-1,4,-1,2,-4,2,-4,1,4,-2,4,-4,4,-4,4,2,-4,2,2,-4,-4,4,2,4,-2,4,-4,4,1,4,-2,-2,-1,-1,4,-4,-4,4,4,4,4,-1,1,4,1,4,2,-1,-4,-1,4,-4,-4,4,-4,-1]
[4,1,1,4,-2,2,8,-1,4,-4,-4,-4,-2,2,-1,1,-4,2,1,-4,1,-4,-4,-1,8,2,1,-4,-1,-4,-4,-4,-2,1,4,4,4,2,2,2,-4,-4,1,4,-2,-4,-4,4,-1,-2,-2,-4,4,4,4,-1,-2,2,-1,1,4,1,-2,-4,-4,4,4,4,4,-2,-2,4,-4,1,-4,4,-2,-2,-4,1,1,-1,-4,-4,-4,-1,4,-1,2,-4,-4,-4,1,-4,1,-4,8,-2,1,1,1,1,1,-1,-4,-1,-4,-1,-4,-2,4,1,4,-1,-4,-4,4,-1,1,-4,2,-4,-4,-4,4,4,-1,2]
[-1,-4,-1,4,-4,-2,2,4,-2,-1,-4,-4,4,4,-2,2,2,1,-1,2,-4,-4,2,-1,4,4,1,-4,-4,2,1,1,4,2,1,4,4,4,-4,-1,1,4,-2,4,-2,-1,-4,4,4,-1,2,-2,-2,4,2,2,1,-4,1,-1,-1,-4,-1,-1,-4,2,-4,4,8,-2,4,-4,-2,-4,-4,-1,4,-2,-1,-1,-4,-4,-2,-2,2,1,4,4,4,-2,-2,2,-4,4,4,4,4,2,-1,1,-2,4,-1,4,4,-4,-2,4,-2,4,4,2,-4,-1,-1,-1,1,1,1,1,-1,-2,4,2,4,1,1,4]
[-4,2,-4,-4,1,4,-2,-4,-1,4,-1,-2,-4,4,2,4,4,-1,-1,-2,4,4,-1,-1,-4,-1,-4,1,-4,-1,-4,-4,-4,1,4,2,1,-1,-2,-2,2,-4,4,-4,1,4,1,4,4,-4,1,-4,-1,1,-1,2,4,1,-1,1,-4,4,-4,4,4,4,4,-1,2,-4,1,1,2,-1,-1,4,-2,2,-1,-2,1,2,2,-4,-1,-4,1,-4,-2,-1,2,1,4,-2,-1,2,-4,4,-2,-2,4,-4,-1,-4,-4,2,-1,1,2,1,-1,1,1,2,-1,-2,-4,-4,-4,-4,-4,-1,4,2,2,-2,-4,-4]
[1,1,-4,4,4,-2,-4,-4,-1,1,4,-2,4,-2,-4,-1,4,-1,4,-4,-4,4,-4,-4,2,-4,-4,2,-4,2,-2,-4,2,-4,2,4,-4,4,4,1,4,-4,2,4,-1,-1,-4,-2,4,2,1,4,4,2,1,2,-4,4,4,-1,1,-1,1,4,-1,-4,1,2,1,-1,4,-1,4,4,-2,-4,4,-4,-2,4,1,2,-4,-4,-4,-4,2,4,4,-1,2,-4,4,-4,-4,4,-4,-1,4,4,4,2,-4,-1,4,-1,4,-2,-2,-1,4,4,-4,1,-2,2,1,-4,-4,4,8,1,2,1,-4,4,-4,-1]
[4,-4,4,2,-4,4,-2,-4,1,2,2,-4,-1,-2,4,-4,1,-4,-4,-2,2,4,-2,1,2,1,4,-4,4,-1,1,-4,-2,1,-2,-1,-2,-4,-4,1,2,-2,-4,-2,-1,8,1,-4,2,4,8,-4,4,8,-2,-2,-2,-4,1,1,4,4,-2,2,4,-4,4,1,-4,4,-2,-1,4,4,-2,8,-1,-4,4,8,4,4,-1,4,-1,2,4,-4,8,-4,-4,2,-4,-4,4,-2,-2,4,-1,-1,2,2,-1,2,-4,4,4,-2,-1,1,2,-2,-4,-4,-2,4,-1,-1,-2,4,-4,4,-4,-1,1,-4,4,4]
[4,4,1,-1,-1,-2,-4,-2,-2,-2,1,4,-1,1,2,1,4,1,1,-1,-4,2,-1,-4,4,-2,-4,-1,-4,4,1,-1,4,2,4,-4,4,-4,-4,2,-1,-4,2,1,-1,1,-1,2,1,-2,1,2,-4,-1,-4,-2,-1,4,-4,1,-2,4,-2,4,-2,-2,4,2,-1,4,-4,1,1,4,-2,1,4,-4,2,-1,-1,-1,-1,-4,1,-2,-4,-4,-2,2,2,4,-4,4,4,1,-2,-1,-4,4,2,1,-2,1,-4,4,1,-4,-2,4,2,-2,-4,-2,-1,2,4,4,-1,-4,-2,4,-2,-4,-2,-4,2,-1]
[4,4,-4,-1,-1,-2,-4,1,2,2,4,4,4,-2,2,2,-4,2,4,2,1,-4,2,-1,4,-1,4,-1,-4,-4,-1,4,2,-1,4,8,4,-1,-1,2,-4,-2,4,-4,4,-1,-2,1,1,1,-2,8,2,1,-1,-1,1,2,8,4,-1,-4,-2,-4,4,4,-4,-2,-2,-4,2,-1,2,-2,-4,-2,-4,2,4,-2,4,-4,4,4,4,1,-1,4,4,-1,-4,-2,-4,4,1,2,-4,4,1,-2,4,2,-2,-2,-1,4,4,-2,-1,-1,-4,4,-4,-1,-4,2,4,-2,1,4,4,-1,2,-4,4,-4,-4,2]
[4,-1,4,4,-1,2,-1,4,4,2,2,2,2,-1,4,-4,4,-4,4,4,-2,-2,2,4,1,2,1,4,-1,2,-1,-4,-4,-4,1,-2,1,2,1,4,2,-1,-2,2,-2,-4,4,-4,-1,4,2,1,2,-4,4,-4,-1,-4,-1,-1,-4,4,4,2,-1,2,-4,4,4,-1,-4,2,4,1,4,-4,-4,2,4,4,1,2,-4,2,1,-1,4,2,-2,-4,-1,2,2,-4,1,-4,-4,-1,-1,2,-2,4,-2,-4,-4,-4,4,-2,-4,4,-4,1,-2,-1,-2,-1,2,4,4,4,4,-1,-1,-4,-1,4,4,-2]
[1,-1,-2,-2,1,1,-1,1,-1,-2,4,-2,-1,4,-2,4,1,4,-4,1,-2,-4,-4,1,1,-4,4,2,-1,-1,1,-2,-2,4,1,1,4,4,-2,4,-1,4,1,1,4,-2,2,4,4,4,1,1,2,-4,4,-2,-1,2,-4,-1,2,4,-1,4,1,-4,4,1,4,4,4,-2,4,-4,-1,2,4,-2,4,-2,-1,2,-4,-4,-1,-2,-4,4,1,4,-4,-2,-1,-4,2,1,-1,-4,4,2,4,1,-1,-1,1,-2,-2,1,-1,-2,1,2,-4,1,-2,-1,4,4,1,4,4,4,-2,-1,2,-2,4,-1]
[-4,-1,4,1,1,4,4,4,1,4,2,1,-4,4,-4,-1,-1,-2,-2,1,4,1,4,4,4,-1,4,-1,-2,-4,-2,1,-4,1,-1,2,-4,-1,4,-4,1,-4,-2,-4,1,2,2,2,1,-2,1,-4,4,1,4,-4,4,2,-1,2,1,4,4,2,4,-2,-4,1,1,4,4,-4,2,4,-4,-4,2,4,-2,-4,4,-1,-4,-2,4,4,2,-1,-4,4,-2,4,1,-4,-4,-2,-2,2,1,1,4,4,4,4,-1,1,-4,-1,2,-4,4,1,-4,-4,1,-4,-2,-2,-4,4,2,4,-4,1,2,-1,2,-4]
[1,-1,-2,2,4,-4,4,1,-1,2,-4,-4,-2,1,-4,-2,2,-1,-4,-4,4,2,1,-4,-2,2,4,-1,-4,-4,-1,-1,2,-4,-4,1,-1,-1,-4,4,4,4,-2,-4,-2,-1,-2,-4,2,-4,1,-1,4,2,4,4,2,-4,4,-4,4,-2,-4,-1,4,4,4,4,-2,-1,1,4,-2,-4,4,4,-2,1,1,-4,-1,-1,-4,4,-4,4,8,4,2,-4,4,4,-1,-2,4,4,-2,-2,-1,1,-1,4,-2,-4,-4,4,4,4,-2,-1,1,-4,-4,2,-1,-2,-1,4,4,1,1,-2,-1,4,2,2,1,-2]
[4,-2,-2,4,4,2,1,2,1,-1,1,1,-4,4,1,4,-2,8,-4,-1,2,-1,-4,4,-2,-4,2,-1,4,4,4,4,4,-2,4,-2,-2,2,4,4,4,-1,-1,-4,2,4,-2,4,-2,-4,2,2,-4,1,-2,-4,-1,-4,-1,-2,-2,2,-2,4,2,-1,-1,-4,4,8,-2,4,-1,2,-1,-1,2,-1,1,-4,-4,1,4,4,4,-1,4,2,4,2,-4,1,-2,1,4,2,-4,-2,4,4,1,-4,-2,-4,1,-4,-4,-1,4,-2,-4,2,-1,4,-4,-4,-1,-2,2,4,-1,-4,2,2,1,-1,1,4]
[-4,-4,-4,-1,8,8,4,4,-2,4,4,2,-4,-4,-2,1,-2,1,-1,4,8,2,2,4,1,8,-4,4,-2,2,-2,4,-4,2,-2,1,4,-2,1,8,-4,-2,-2,4,4,-1,4,-2,-2,4,1,4,-1,4,2,-1,4,4,-4,2,-4,4,1,1,1,-4,-1,-4,4,8,2,-1,-1,1,4,1,4,4,-2,-1,-2,4,-1,-2,1,4,-1,-4,2,-2,-1,-4,-1,-1,1,-4,4,4,-1,1,1,-4,-4,-1,-1,-4,-4,1,4,4,2,-4,2,8,-4,1,-2,-1,-4,-4,4,-2,4,4,-4,4,-4,-4]
[8,4,2,4,-2,1,8,4,-2,-4,4,4,2,-1,-2,-1,4,-2,2,4,8,-2,-1,-4,8,-2,-1,1,2,-1,-4,-4,4,-4,4,4,-1,1,8,8,2,-1,1,-2,2,4,2,1,4,-2,4,1,4,-2,4,4,-4,-1,4,-1,-1,-2,4,4,-1,4,-4,-1,1,4,-1,-4,-2,-4,2,-4,1,4,1,1,1,-2,2,4,2,-4,1,-1,-4,-4,-4,4,-4,-4,-4,-4,-1,2,-2,1,4,1,-1,-4,1,-4,-4,4,8,4,4,-4,-4,4,-4,-1,-4,4,2,4,-1,-4,-2,2,-2,4,-2,8]
[-2,2,1,-4,-4,2,-2,-2,4,-4,2,2,8,-2,-2,-1,-2,8,-4,-1,4,-4,-4,1,4,4,1,4,-4,-4,8,1,-1,-2,4,-2,-1,4,-4,4,-2,4,-2,-4,-4,4,2,4,-4,-1,2,4,2,-4,2,4,2,-1,8,-4,-2,1,4,-4,-4,-4,1,-2,-2,1,4,-4,-1,4,-4,-1,-4,4,2,4,8,1,-2,2,2,1,-2,-1,-4,4,-4,2,1,-4,-2,-1,-1,4,-4,-1,4,4,-4,-4,-2,4,-4,-2,-4,2,4,-1,4,4,4,-2,-2,2,2,2,-2,-4,-1,4,2,1,-4,-2]
[4,-2,1,-4,4,-4,-1,-4,-4,-4,4,4,1,1,4,1,1,-2,-4,4,4,1,-2,-1,-2,4,-2,4,4,1,1,4,-2,-2,1,4,-1,4,4,2,-1,4,1,4,-2,4,1,-1,-4,4,-2,-2,4,-2,-1,-4,-2,-1,-1,-4,2,-4,4,4,4,-4,2,2,-4,-2,-2,-1,-2,-4,4,4,4,-2,4,-2,4,1,4,8,8,4,2,-4,-1,-4,-4,4,-4,-1,1,-1,2,1,4,4,4,-4,-2,4,-2,2,-1,-4,8,-4,-4,2,-2,-1,4,-2,-1,1,1,-4,-1,-4,-4,4,-1,1,-4,1]
[4,1,4,-1,1,-1,-4,-2,1,4,1,4,1,-4,1,-4,-2,2,-4,-4,-4,-1,-4,-2,2,-2,-4,-1,-4,2,-1,-4,-2,-4,4,2,-4,4,-1,4,1,4,2,2,1,4,-4,2,-4,-4,1,-4,-4,2,4,4,4,4,-2,-2,-4,2,-4,-4,-2,-1,-4,1,-4,-1,-4,-2,2,-1,-1,4,-4,1,-1,-4,-2,1,-2,1,-2,-4,2,-1,-4,-4,4,-2,1,1,2,-2,2,4,4,-1,-2,-2,2,4,-4,-1,-2,-1,-2,-4,-1,-1,-1,-1,2,-2,1,2,2,-4,-1,-4,4,-1,4,2,4,-4]
[1,-2,-2,-2,2,-4,4,1,4,-4,-2,1,-2,-4,4,4,4,-4,-1,2,4,4,2,2,-4,4,4,-2,1,2,4,-2,4,2,-2,-2,-4,2,4,1,4,4,2,-4,4,4,-2,-1,1,4,4,2,-1,8,-2,-4,4,-1,-4,2,-1,4,-2,-1,1,2,-4,-4,4,-4,1,2,-4,-2,2,4,4,2,-2,2,-2,-1,1,-4,-4,4,-4,-4,4,-4,4,-2,2,-2,-2,4,4,-4,1,-2,-4,4,-1,-2,4,-1,4,-4,4,4,4,-4,-4,-1,-1,1,-2,-4,4,-2,-4,1,2,4,2,1,-2,1]
[-4,-1,-4,1,-1,-1,4,-2,-1,-1,2,4,-1,4,1,4,-2,-2,-4,-1,-4,-2,-1,-4,-2,-1,2,-4,-1,-1,4,1,-1,-4,1,4,-1,1,-4,2,-2,-1,-4,2,4,-2,-4,4,1,-4,-1,1,-2,1,4,-2,-4,-4,2,1,-2,2,-4,-1,2,2,-1,-4,4,4,2,-4,1,4,-1,4,2,2,2,-4,-2,-4,-1,4,-1,-1,1,-4,-2,2,-2,2,1,-4,-2,-2,-2,1,4,2,-4,4,-4,-1,-4,2,4,2,2,-1,4,2,-1,-1,-1,2,-4,1,2,2,4,2,-4,-2,-4,1,2,-1]
[4,-2,1,-4,-1,-1,2,-4,-2,4,1,1,-2,1,-2,-4,-2,-4,4,-1,-1,-1,-1,4,-1,2,1,-4,4,-4,4,2,-4,-2,-2,-4,-1,4,-4,4,1,-4,4,1,1,-2,-2,-4,2,2,1,-1,2,2,1,-4,1,1,2,-1,4,1,2,4,-2,-4,2,-4,4,2,-1,-4,-2,4,4,-4,4,1,2,-1,4,4,1,-2,-2,-4,2,-4,1,4,-1,-2,-1,-1,2,4,-2,-4,2,1,4,-1,2,-4,-1,4,-1,-4,2,-2,-1,2,-1,-4,-1,2,2,1,2,-4,4,-2,4,-1,-1,4,-4,2]
[-1,4,-4,-1,2,-4,2,2,1,-4,-1,-4,1,-2,1,2,-2,-4,-4,-4,1,2,-2,4,-4,4,4,-4,-4,-2,-2,-1,2,-1,4,1,-1,-4,1,2,-4,4,4,-4,-1,2,-4,2,4,-2,4,1,-2,4,-4,-1,-4,-1,-4,2,4,2,-4,-4,4,2,-4,2,-1,-2,-4,-4,-2,-4,2,4,2,-4,4,4,-1,2,-1,4,1,-4,4,1,-4,1,4,-2,-2,2,-1,-2,4,-2,-4,1,-4,-4,-1,4,-4,-4,-1,4,-1,-1,-4,4,-4,2,-2,2,-4,4,-4,-1,-4,-1,4,-2,-1,-2,-4,-1]
[1,4,1,2,2,2,-1,4,-4,-4,1,2,4,-2,2,-4,-4,-2,2,4,2,-4,2,4,-2,1,4,4,4,-2,-2,4,2,-1,4,4,1,1,2,-4,4,-4,2,-2,-2,-2,-1,4,-4,4,2,-4,1,-2,-2,2,2,-1,4,-4,-2,-4,-4,-4,1,-2,-4,-2,-4,-1,-1,4,-2,2,-4,-4,-2,-4,-1,4,-2,2,2,-4,-2,-2,4,-4,-4,2,-4,4,1,2,4,-1,-2,8,-4,-4,-4,1,4,-4,4,8,4,4,8,-2,-4,-1,-1,-4,-2,2,4,4,1,-4,-2,2,4,1,2,4,-4,-4]
[1,4,-2,4,1,1,8,-1,1,1,-4,-2,-2,4,4,4,-2,4,-1,2,2,-4,2,1,2,-4,-4,1,-4,-4,-1,-4,4,-4,-2,2,2,4,-4,-1,-4,2,-2,-1,-4,-4,4,-1,1,-2,-2,-1,2,-2,1,-4,-4,4,2,2,4,4,4,4,-1,8,4,-4,2,4,-1,2,2,2,-2,4,4,1,4,4,-2,-4,-4,-2,-4,-4,1,4,1,-2,-4,-1,-4,-4,2,-2,4,1,1,2,-4,-2,-4,4,2,-2,-4,-2,-4,-1,2,1,1,4,-2,2,-4,-2,-4,4,-2,-1,1,4,-4,4,-1,-2]
[-1,-2,2,-1,1,4,4,-2,2,4,-2,-1,-2,1,4,2,-2,-1,-4,2,-2,-4,-4,-2,-2,-4,4,1,4,-4,1,4,2,-4,1,-4,-2,-4,-1,-2,4,2,-4,-4,1,4,-1,4,1,4,8,-4,4,4,-4,8,4,-4,-4,4,8,-1,-1,-1,-1,-2,1,2,1,-1,-4,-1,2,2,-2,4,4,-4,4,-2,1,8,4,2,2,-4,2,4,4,4,-4,4,2,-2,-2,-4,8,-4,-1,2,4,4,4,-4,-4,4,-4,4,8,2,1,4,4,-4,4,-1,1,1,2,4,2,2,4,2,2,2,2,1]
[-4,2,1,4,-1,2,4,8,4,-4,4,4,2,2,-2,1,2,2,-2,4,-1,4,4,4,4,4,-1,1,4,-4,4,4,2,4,-2,1,4,2,4,1,4,4,-2,2,-4,2,2,-2,-4,2,1,-2,1,4,-1,-4,-1,-4,4,2,1,-1,-4,-2,4,8,4,-2,4,-1,-4,-4,-1,2,2,-2,-4,1,-4,-2,1,-2,4,4,-2,4,-2,-2,4,4,-1,4,-4,2,-1,-4,-4,-4,1,4,1,-4,-4,-1,4,-2,-1,-4,4,-2,-1,4,-2,-4,-4,4,4,-2,-2,4,-1,-4,1,4,4,-1,4,4]
[4,2,-1,-2,2,2,-2,4,4,-4,2,-4,1,4,2,2,1,4,-2,-4,-2,2,2,-4,2,1,-4,-1,1,4,-4,-4,2,-4,-2,-4,-2,4,1,4,-2,-2,4,-4,1,1,-4,-1,-2,1,4,4,-1,-4,-4,1,4,2,4,2,4,4,2,2,2,2,4,4,2,1,-4,4,-4,-4,1,-4,-1,-1,-2,4,-4,4,4,1,2,4,-2,4,2,4,4,-1,4,4,-4,-1,-4,-4,-2,4,1,-2,4,-2,-4,-8,4,4,-4,-1,-1,4,-1,-4,4,4,-1,-4,4,-4,-4,-4,4,-1,2,4,1,-1]
[-1,4,1,-2,4,1,2,-1,-1,1,-2,-4,4,-1,-2,-4,4,1,-4,1,4,1,4,1,4,4,1,-4,-1,4,4,1,-2,4,4,4,-1,1,4,-4,2,4,1,-4,-2,-2,4,-4,1,4,-1,1,-2,-4,-1,-4,4,4,4,4,1,-2,2,2,-4,-4,-4,4,4,-2,2,-2,-4,-1,2,-4,-2,-4,1,1,-4,-4,-2,-1,-1,2,2,1,4,-1,-1,4,1,2,-1,-4,4,4,4,-2,2,-4,-4,1,-2,-2,1,1,4,1,2,4,4,-1,2,-4,4,2,4,2,-4,2,8,-2,-1,-4,4,4]
[4,-4,-1,-4,1,4,4,-4,-4,-4,2,-4,-4,4,2,2,4,-4,4,4,-2,1,-1,-2,2,4,-1,-2,4,-2,-1,2,4,1,-1,-1,1,1,-1,4,2,-2,-4,-4,-4,1,1,-2,-1,-1,-4,4,-1,8,1,1,-4,4,4,-2,-4,-2,4,1,-4,-2,-4,2,-2,1,-4,-2,4,-2,-1,-4,-2,4,2,4,4,-1,2,2,2,4,1,-1,-4,-4,-4,4,-1,2,4,2,2,1,-2,4,4,2,4,-2,4,-4,-4,-4,4,1,4,4,4,-1,-1,-2,-4,-4,1,-4,-1,-1,-4,-4,4,-1,-4,4]
[-4,1,-1,2,-1,-4,2,4,2,-2,1,1,-2,-1,-1,2,4,-4,4,4,-2,-4,-4,4,-1,1,-4,-1,4,1,2,1,4,4,1,-4,2,-4,2,2,-4,4,-2,-2,-1,2,-2,-4,4,-2,-2,-1,4,1,-2,-4,-1,-2,-4,-4,4,-4,-4,4,-4,-4,-2,-4,4,-1,-4,-2,-1,-4,4,4,1,-2,4,4,4,4,1,-4,1,4,1,4,-4,4,-1,1,4,-2,1,4,-1,-4,1,-2,-4,4,2,1,1,1,-4,-4,4,4,4,-1,-4,4,-2,-2,-4,-4,-4,4,1,-2,-4,-1,-2,4,4,-2]
[-1,2,-2,2,4,2,4,-2,-2,4,1,2,2,2,1,-2,-4,1,2,-4,-2,-1,2,4,-4,-1,2,-1,4,4,2,1,-2,4,4,-2,-1,-1,-1,-1,4,1,1,4,1,4,-1,1,2,-4,-1,-1,4,1,1,-4,-1,2,1,4,-1,-1,2,-4,-4,2,-2,-2,2,-2,1,2,-2,-1,1,4,-2,4,-2,1,-2,-1,4,4,2,4,1,1,-4,-4,-2,-2,1,-4,-1,-4,-2,-4,-4,1,4,1,-1,1,4,-2,2,-4,-4,-4,-4,-1,1,-1,4,2,4,-4,-4,-2,-2,1,2,4,4,1,2,2]
[-2,4,-4,4,-4,1,2,-4,4,-2,2,4,-2,-2,1,-4,4,-2,-4,4,-2,-1,2,4,-4,4,4,1,-4,-1,-1,4,-1,-1,-4,4,4,4,-4,-4,4,4,-1,-1,-1,4,1,-4,-4,4,1,-4,-4,1,-1,4,2,-1,-4,2,4,2,1,4,-1,-1,-2,-2,4,2,2,-2,-2,-2,1,4,-2,4,-4,2,-2,-2,-2,4,-4,1,-2,-4,-1,2,-1,-4,-1,2,-4,4,1,1,1,-4,-4,-4,-4,2,4,8,4,-4,4,-4,-1,2,1,-4,2,-1,4,2,4,-2,4,1,4,-1,-1,-4,1,-1]
[-1,4,2,2,4,-1,-2,4,1,1,-1,-2,4,-2,-1,4,4,-4,-2,4,1,2,-2,4,-4,-1,8,-4,-1,4,4,-2,4,-2,2,-2,1,2,4,-4,4,2,2,1,2,2,2,1,-4,-1,2,2,-2,-2,4,-4,4,-8,-4,2,8,-1,-4,1,4,4,2,-1,2,4,2,-2,-1,4,4,-4,-4,-1,2,4,-4,-2,4,-4,1,-2,4,4,-4,-2,-4,-4,2,-1,-1,-1,-1,4,-4,4,4,-2,4,-4,4,-1,4,-4,1,-2,1,4,-2,-1,4,4,-4,4,-4,4,-4,-4,2,4,-4,-4,-2,4]
[1,-1,2,-4,1,4,4,1,-2,-4,2,-4,-4,4,4,-4,-1,4,2,2,4,4,2,1,2,-1,2,-2,-2,-4,4,4,-4,-2,2,4,1,2,2,1,-1,-2,-2,4,-1,-1,1,-2,-4,2,-4,1,2,2,-2,2,-1,-2,-1,-4,1,4,4,-2,1,-4,-4,-4,1,4,2,-1,1,1,4,2,4,-2,-2,-1,-2,4,1,1,4,2,4,-4,-4,1,4,-4,-1,4,-1,2,4,-2,-4,2,4,-4,4,-4,1,4,2,2,1,4,1,1,1,-1,-4,-2,-1,2,2,4,4,4,8,1,2,4,-1,4]
[2,4,-2,-4,1,4,4,1,-4,-4,2,-1,8,-1,-2,-4,2,4,1,-1,-1,1,2,2,1,1,-1,-4,2,1,-4,-4,1,4,4,4,-4,4,1,2,-2,2,2,-1,4,2,4,1,4,-2,2,2,-1,-4,-4,-2,1,4,-4,-4,4,4,4,-1,-1,1,4,-2,-2,2,8,4,-1,-2,-2,-4,-4,-4,4,1,1,2,1,4,4,-2,4,4,-4,-4,-4,-4,2,-4,-1,-1,8,4,-1,4,4,-2,-1,2,-1,4,-4,4,-1,-2,-4,1,-1,4,1,-4,4,2,1,4,4,-4,4,-1,-2,4,-4,1]
[4,-1,4,-2,4,2,1,4,4,-1,2,4,-2,4,1,1,8,-2,-1,-1,8,-4,-1,-4,4,8,-4,-2,-2,-1,-1,-4,-2,2,-4,4,1,-2,-2,1,-2,1,-2,-4,-2,-4,-4,-4,4,1,-1,4,2,1,-1,-1,2,-4,4,4,1,4,2,1,-4,-2,-1,4,2,4,-1,-1,2,-1,8,4,-1,8,-2,-2,-1,4,2,2,8,-4,-4,-1,1,-4,-4,-2,2,-4,1,-1,4,4,1,2,1,-4,1,1,-4,4,-2,1,4,-4,-1,-4,4,4,-2,-4,4,-2,4,-4,4,-4,4,4,-4,4,1,-1]
[1,-4,-4,4,-1,1,-1,-4,-2,4,8,1,-4,-2,-1,-2,4,-4,-2,1,-4,4,1,-1,1,-2,4,4,4,1,-2,-1,-1,-8,4,-1,-2,-2,4,4,-1,-1,-4,1,2,4,2,2,4,-4,-1,1,1,-1,-4,-1,4,-2,8,1,4,2,-4,-4,-4,2,-1,-1,4,-4,-2,-2,4,2,2,-8,4,4,4,4,-1,-2,-2,4,-4,-2,-2,1,2,4,-2,-4,-1,2,-4,1,-4,-4,-1,1,4,2,2,1,4,8,-2,2,1,-2,-2,4,-1,2,4,2,-1,4,4,2,-4,-4,-2,-4,-1,-1,-2,4]
[4,-4,4,1,-4,2,-4,1,2,-4,-2,-4,-2,-4,4,-1,4,-1,4,-4,4,2,-1,2,-2,-1,4,-4,4,4,1,-2,1,4,-4,-4,-1,2,4,-2,4,4,1,-4,-4,1,-4,-1,2,-4,4,2,-4,2,-2,-4,-4,-4,2,2,-4,4,4,-2,1,-1,-1,4,2,4,4,-4,1,-4,-4,-4,4,-4,-4,1,1,-2,2,-1,2,2,2,-1,2,4,-1,-1,-2,4,4,-4,-2,-1,-2,1,4,2,4,-4,-2,2,4,-2,-4,1,1,-4,4,4,2,4,4,-1,1,-2,2,-4,1,4,1,1,4,-4]
[4,2,-2,-4,-1,-2,1,4,-4,2,2,-4,-4,4,-4,1,-2,2,1,1,1,-4,-4,2,-4,-1,-2,-4,2,-4,2,-1,1,-4,-4,-4,-2,1,-4,4,-2,-4,-4,1,2,4,-1,-4,-2,-1,4,4,-1,-4,-4,-1,-2,-2,4,1,4,4,4,1,2,4,-1,-2,-4,-1,2,4,-2,-4,4,2,-4,4,4,-2,2,-2,1,1,4,4,1,-2,-2,2,-1,-4,-4,4,-4,-2,2,-2,-4,-4,-2,-4,-2,4,4,1,-4,4,1,4,4,2,-1,-4,2,4,2,2,1,4,4,4,4,4,-2,2,-2,-2]
[-1,-4,-4,1,4,2,4,-4,-1,-1,1,-4,4,-1,-4,1,-2,-2,-2,4,2,-2,4,-4,-4,-1,2,1,-2,-1,2,-4,-1,-4,4,-2,-2,2,4,-2,4,-4,-2,-4,1,-4,4,-1,4,-2,2,2,2,1,-4,1,4,2,4,1,2,-4,-4,4,-2,-4,-2,-4,4,-2,4,-2,2,-2,4,2,4,2,4,-4,-1,4,2,-2,-4,4,4,1,-1,-1,-4,-4,-1,-2,-4,-2,4,-2,-1,-1,2,-4,-2,4,4,-1,-4,4,-2,4,4,-1,-2,-2,-4,-2,-1,-2,4,-4,-1,-2,-2,4,-2,-4,2,-4]
[1,2,1,-4,-2,1,-2,-4,-1,-2,-4,4,2,-4,1,1,-1,4,1,1,-4,4,-1,-4,-1,-1,-2,1,1,-2,4,4,-2,-1,-1,-1,-1,4,4,-1,-2,4,4,2,-4,2,-1,4,-4,1,4,-4,4,-4,1,2,-1,4,-4,1,-4,-4,-2,-1,4,-2,-1,-4,2,-4,-1,4,-4,4,4,-4,-1,-4,-4,4,-1,4,-1,-4,1,2,-2,-4,-2,-2,-1,-4,-2,-1,1,-4,1,-1,-2,-2,2,4,4,4,-2,-4,2,2,-4,1,-2,2,-4,1,-2,1,4,1,4,1,-1,-2,2,4,2,-2,-2,4]
[1,-2,-4,4,1,-1,-2,4,4,1,-1,2,1,4,4,4,4,-2,2,-1,1,1,1,4,-2,-4,4,4,2,4,2,4,-2,4,-2,2,-2,2,2,-4,4,1,-1,-4,-4,2,4,-2,-1,-1,2,4,4,4,2,-2,-1,-1,-2,-4,-4,1,2,2,-1,1,1,-4,-1,-4,4,2,1,4,1,4,-4,1,-2,-2,2,4,8,-4,-2,-4,-2,-4,-4,2,-1,-1,-1,4,4,-1,2,-2,4,-2,-4,-2,-1,1,1,4,4,-2,1,2,1,2,4,4,-4,-1,4,1,-4,-4,-1,-2,4,-1,-4,-4,-1,8]
[1,2,-4,1,-2,-4,4,4,1,1,2,-4,-1,8,4,2,-2,-2,-2,4,1,-1,4,-4,-4,-1,2,-1,2,-2,1,4,2,4,4,8,-2,4,4,2,4,4,2,4,-2,-4,4,-4,-1,2,-4,1,2,4,-1,2,4,1,1,-1,-1,2,2,1,4,-2,1,1,4,2,4,-2,2,2,2,-2,2,-2,-2,-4,4,-4,-4,-1,4,1,-4,1,-2,-1,4,1,2,-2,-2,-2,1,2,2,-1,2,-2,-1,-2,4,-1,2,-1,-4,-2,-2,4,-4,4,4,-4,4,-4,1,-1,2,2,2,4,-4,4,-4,4]
[-1,-4,4,2,-2,-2,4,-4,4,-2,-4,1,-1,2,4,2,-1,-4,1,4,-1,-1,-4,-2,-4,-2,-4,4,1,1,-2,-2,2,-4,-1,-2,-1,1,-1,4,1,-4,4,4,2,-4,4,1,-4,-1,4,-4,2,-4,-1,-2,1,-2,4,4,-4,-1,-1,4,1,-4,-4,-4,-4,4,-4,-1,4,1,-4,2,-1,1,-1,-4,1,1,-4,-4,1,-2,4,1,-4,2,2,-4,4,4,4,2,-2,2,1,4,4,1,2,1,-1,2,-4,1,-1,-4,2,2,-4,-1,4,-4,2,4,-2,4,1,-1,-1,-1,-1,2,4,-2]
[-4,2,-1,1,2,-1,-4,-1,-1,-2,4,4,2,4,-4,-2,-4,4,-2,-2,4,4,-1,4,8,-1,-2,4,-1,-1,-1,4,-2,8,-2,-2,1,-4,-4,-2,-4,1,4,-4,1,-4,4,-1,4,1,-8,1,-4,-4,1,1,4,-2,-4,-4,-2,-4,-2,-1,-4,-4,-4,-4,4,1,4,1,-4,1,4,-2,2,1,2,1,-4,2,-1,4,-4,4,-1,4,4,4,-1,1,1,-2,-1,-2,-4,2,-4,-2,-2,-4,-1,4,4,-4,-4,2,4,4,-2,1,8,2,2,-1,-1,2,2,-4,-4,-4,1,-1,-4,4,1,-1]
[2,2,-1,-1,-1,-4,-2,-2,2,-1,-1,4,-4,2,-4,4,-2,4,-4,4,-4,-4,1,2,-4,4,-2,4,-4,4,1,-1,-1,-1,-1,2,-1,4,4,-4,-2,-2,-4,-2,1,4,-2,-4,4,4,1,4,-1,-4,2,-1,-4,-4,-2,4,-4,-2,4,4,-4,4,-4,1,-1,-1,2,-4,2,-4,4,-4,-1,4,1,-4,-8,4,-2,-4,-4,-1,-1,4,-2,1,1,1,-1,-4,-4,2,-8,-2,-2,4,2,-4,4,-4,1,-4,-1,-1,-4,-2,-4,1,-1,4,2,2,-1,4,4,2,-1,-4,2,-1,-2,-4,-2,1]
[2,-2,1,2,1,1,-2,4,4,1,4,-4,1,4,1,-1,-4,1,1,2,-4,-1,2,1,-4,1,4,1,-1,-4,-1,-4,2,4,1,-4,-4,-2,-4,4,-4,-4,1,4,-4,-4,4,-4,-4,-1,2,-1,4,-2,2,-2,1,1,-2,-1,2,2,-1,2,1,-4,-4,2,4,4,4,4,-2,4,1,2,-4,-4,-1,4,1,4,-2,4,2,2,1,-1,-4,2,-4,-2,4,4,2,4,-4,4,-4,4,4,8,-4,-4,2,4,4,-4,-2,2,-2,4,4,-2,-2,1,1,4,-4,4,-4,-1,-2,-1,-1,2,4,2]
[-4,2,-1,-1,-1,-4,4,1,1,1,4,2,1,-4,-1,2,-4,4,-4,-2,4,2,-2,-1,2,-1,-4,-2,-4,-2,4,-4,4,-4,-2,-2,1,1,4,-1,4,-2,-1,4,-1,4,1,-2,1,1,4,2,-2,1,-4,-2,-4,-4,1,-4,1,4,1,-4,2,1,2,-2,2,-2,4,-4,-4,2,-4,-1,4,-2,-1,4,2,2,-4,4,-2,-2,1,-4,1,4,4,4,-4,4,1,2,1,-4,-4,-2,4,-4,-4,-1,-4,4,4,-2,-4,-4,2,-1,1,4,-2,2,1,-2,1,-1,-1,-1,4,4,-4,1,2,4]
[-4,1,-1,2,-2,4,-4,-1,-4,-1,4,4,-4,-1,-4,1,-2,4,-1,-1,-2,-1,-4,-2,1,4,-2,4,1,4,-4,-4,-1,4,-1,4,2,4,4,1,1,1,-4,-1,2,1,-4,4,4,2,-1,-1,2,-4,1,-1,-1,-4,4,-2,-2,2,4,-2,-2,4,2,-4,-2,-4,-4,4,4,1,-1,-4,-1,4,-1,-4,1,-2,-2,4,2,1,2,-2,4,-2,4,2,-4,1,4,4,-4,-1,-1,-1,-2,2,4,-2,-4,4,-4,-2,-2,2,4,2,-4,-1,4,1,-4,-4,1,-4,-4,-4,4,4,-1,4,1,1]
[-1,-2,-4,-2,-1,-4,4,1,4,-1,-4,-4,4,-1,4,4,4,4,-4,-4,1,4,-4,1,-1,-4,-2,2,-2,-4,4,4,-4,1,1,-4,2,-4,1,-2,-4,-4,-4,4,-1,-2,1,4,4,2,4,4,2,2,-4,-1,4,-4,-2,4,-2,4,4,-1,1,-4,-2,-4,-4,1,-4,-2,2,-4,4,-4,1,1,1,4,4,-4,2,4,-1,-1,2,-4,-1,-2,-4,4,1,-4,4,-1,-4,-4,2,-4,2,2,-2,-4,1,1,-4,4,-2,-1,1,2,1,4,-1,-2,-1,-2,-4,-4,-4,-1,2,2,-1,4,-4,4]
[-4,-4,-2,-4,-1,4,-2,-1,4,-2,-1,-2,1,-4,4,2,4,4,1,4,1,-2,-1,4,4,1,-4,1,4,-4,4,-2,2,-2,-1,-4,4,-4,-4,4,-4,-1,-1,-2,-2,-4,2,-2,1,8,-4,4,2,4,-2,1,4,-4,-1,1,4,-1,-4,2,2,4,4,2,4,1,2,4,-2,-2,1,2,1,1,-2,4,-4,2,4,2,-1,-4,-1,-2,4,-4,4,-4,-2,8,1,-2,4,4,4,-1,-2,-4,4,-2,1,1,-4,-4,-4,-4,4,4,4,-1,1,1,-1,-1,1,4,-2,-1,2,1,-4,1,-4,-4]
[-2,-4,2,2,-2,4,8,4,-4,-4,-2,1,-2,4,-4,4,-4,-2,1,-4,8,1,2,1,-1,4,1,8,1,2,-2,8,-1,4,1,-4,-1,-4,2,2,-4,1,4,2,2,1,-4,4,-4,-4,-4,1,-1,-4,2,4,-1,-1,-1,4,-2,-4,4,-4,1,4,-4,-2,4,-1,4,-4,-1,2,4,-4,-4,4,4,-4,-2,-4,-1,-1,2,-2,-4,-1,-4,8,4,4,-4,-4,4,-1,2,1,-2,1,-4,4,-4,4,2,2,-2,-4,-4,4,4,1,-1,4,-4,-2,-4,-2,-2,-1,-1,-1,4,1,4,-4,-2,8]
[-2,-4,-4,-4,2,1,4,4,1,4,-2,1,4,4,-4,4,-1,4,2,2,-1,1,-2,-4,-2,-2,-1,2,4,-1,8,2,1,-4,4,-2,-2,2,-4,-2,-1,8,2,-1,4,2,-1,4,1,-4,-4,-4,1,-2,4,4,4,-4,4,-2,1,4,-2,-4,4,-1,1,-2,1,4,2,-1,4,2,-4,1,4,2,-4,-4,4,4,4,1,-1,1,1,-4,-2,4,2,-4,-1,1,2,-4,4,4,-4,1,-2,-1,-4,4,4,-2,4,-1,-1,-2,4,1,1,-2,4,4,1,-4,4,-1,-4,-2,4,1,4,1,-2,1]
[4,1,4,-1,-4,1,-1,-4,4,-4,-4,2,-4,-2,4,4,4,-1,4,2,-4,-4,4,-1,4,-4,4,-1,2,-1,2,1,4,-1,-1,-4,4,-4,2,-1,1,-4,2,4,-4,-2,4,-1,1,-4,1,4,4,4,2,4,-2,-4,-2,2,1,4,4,4,-1,-4,1,4,4,4,-2,-4,-2,2,2,1,-4,1,4,-4,-1,4,-4,-2,1,4,-1,2,-4,-4,-1,4,4,4,-4,2,4,-1,-4,2,-2,4,-4,-2,2,-2,-1,-1,-4,-1,-2,-4,4,-1,-1,-2,-4,-2,-4,1,2,1,2,2,1,4,2,-4]
[-4,1,-4,-1,-4,-1,4,2,2,2,-2,4,4,-4,-2,1,-1,1,1,4,2,-2,1,4,-4,1,-2,4,2,-2,-4,1,2,-4,-2,1,2,-2,2,2,4,4,4,-2,4,-2,1,-4,-1,-2,4,4,1,-1,-1,4,-1,4,-1,2,1,-1,-1,-4,-1,4,-4,4,-4,-4,-4,4,1,1,-1,-1,-1,4,2,1,2,-4,-2,-2,-2,1,-2,4,2,2,1,-4,1,-1,-4,-4,4,-2,1,-1,2,1,4,-4,4,4,4,-1,4,-2,-1,1,4,1,1,-2,-4,4,4,-4,-1,2,-2,1,2,2,4,4]
[4,4,-2,-2,4,-4,-2,1,-1,-2,1,1,-4,-2,1,-4,-1,2,4,-2,4,-4,4,1,4,-1,-1,-2,-1,-1,4,4,4,4,-2,-4,-4,2,4,2,-4,-4,1,4,-1,-4,-1,-4,-1,-2,2,-2,-4,1,4,2,-2,4,-2,-4,4,-2,-2,-1,-1,2,2,1,4,-4,4,4,-4,-1,-4,2,1,1,4,-4,4,-1,-4,-2,-2,-4,2,-2,-2,2,-1,4,4,4,-4,-4,-2,4,-2,-1,-2,-1,-2,4,-1,-2,-2,2,4,4,4,-2,4,-1,-4,-2,2,-1,-2,-2,2,-1,2,-4,1,-4,-1,2]
[-4,-4,4,4,-2,-4,-1,4,4,4,-4,1,2,-1,-4,1,-4,4,4,4,-4,-1,1,2,1,-4,4,-1,1,4,1,1,4,-2,-2,-2,-1,4,4,-4,2,-4,2,1,1,-4,4,1,-4,-1,-4,4,-1,4,-1,-2,-4,-4,-1,2,1,4,1,4,-2,1,-4,-1,4,1,2,-2,-1,-2,4,4,-1,-4,-1,-2,2,-4,-4,-2,4,-4,-4,4,1,2,2,-1,-4,-2,-2,2,-2,-4,-2,4,-2,4,-4,-4,-1,2,4,2,-2,-1,1,-2,1,2,-4,-4,1,4,-4,2,-2,2,-4,-1,-1,2,-1,-2]
[-1,2,1,4,-2,-4,4,4,1,-4,2,-2,2,-1,-2,4,1,-4,-4,-4,-4,4,4,4,-1,-2,2,4,-4,1,1,-4,-4,1,-4,-1,2,-1,-1,4,-1,-1,4,-4,4,4,4,-2,1,-4,1,4,-1,4,-2,1,-2,-1,-1,2,4,-4,-1,-2,-4,-4,1,-4,4,-4,-1,4,4,-2,2,2,2,-1,-4,4,-1,2,-2,-1,2,-1,-4,-2,-1,-1,-1,-1,-1,1,1,4,-1,-4,2,4,-1,-1,4,-4,-1,4,-1,4,1,-1,1,-4,1,1,4,1,1,-4,-4,4,-4,1,-4,4,-1,1,2,-2]
[-4,1,-1,-2,2,-2,-4,-2,-2,-4,2,-4,-1,-2,4,-4,-4,2,-4,-4,1,-1,-2,-4,2,-1,-4,-2,1,1,4,2,-4,1,4,-4,4,1,1,-1,1,-1,1,1,-4,-4,-4,4,-4,-2,2,-1,4,2,4,-1,1,2,-4,1,1,-4,2,4,1,-4,-1,-2,4,-4,-4,1,4,1,-1,-4,-2,4,4,4,-1,2,-4,1,4,-1,2,4,-2,-1,-1,-2,-2,-1,4,-4,4,4,-1,-2,-2,4,-2,4,-4,-1,2,-1,2,4,-4,4,-4,-4,-4,-4,2,-1,-2,-4,4,4,-4,-4,1,-4,-2,2]
[2,-4,-4,4,1,1,4,-1,-2,-2,2,-2,1,1,-2,4,1,-4,-2,-1,4,4,2,-4,-4,-4,-2,4,-2,-1,2,1,4,2,-1,1,1,4,-4,4,4,4,2,-1,-1,2,1,4,-1,4,2,-4,-1,-1,-4,2,2,-1,4,-2,-2,-4,-1,-4,-2,4,-2,-2,4,4,-2,4,2,-2,-2,-4,1,1,4,-4,-4,-4,4,4,4,-1,2,-2,1,-2,-2,-1,-1,-4,2,1,1,2,-2,-4,4,-2,4,-2,-1,4,-4,1,4,4,-4,4,-4,1,1,4,-1,-1,-1,4,4,4,2,-4,1,4,-1,-2]
[2,-1,-2,2,-4,1,2,-1,-4,4,-2,2,1,4,4,4,-4,-4,2,-4,4,4,1,2,-2,-1,-4,4,-1,-4,1,-1,4,4,-4,-1,2,-4,4,-4,1,4,4,-1,1,-1,2,2,-2,-1,-1,-4,-4,1,1,1,4,-1,1,1,1,2,4,-2,-1,-2,2,1,-4,-1,2,-4,4,-4,-4,-4,4,4,-2,-4,1,-1,-2,2,-4,2,2,-1,-4,2,-4,-1,2,2,4,-1,-2,-2,4,1,4,-2,2,2,4,1,-2,1,4,2,4,1,-4,2,1,2,-2,-1,1,2,4,-1,4,-4,-1,4,-1,2]
[1,-4,-2,-4,4,4,4,1,-2,4,-4,4,-4,-2,-4,4,-1,4,-4,-4,-2,-1,4,-4,4,1,4,-1,-4,-4,-4,-1,2,-1,-4,2,-1,4,-2,2,-4,-2,-4,4,-1,-1,4,-4,-4,4,-4,-1,-4,-2,1,-4,2,4,-1,-4,-2,-2,4,-1,4,4,4,-2,4,-2,1,2,-1,-1,2,2,2,2,1,4,-2,4,-1,-4,-1,1,1,-4,-4,4,4,-2,1,-2,-4,-2,-2,1,1,-1,-2,-4,-2,4,-4,4,4,-2,2,4,4,4,1,-2,1,-4,-2,-2,4,1,-4,4,-2,-2,-4,-4,-4,-4]
[-2,-4,4,4,-4,-4,-1,-1,2,-4,-2,-1,-4,-4,-4,4,4,-4,4,-2,-4,4,2,-4,4,4,-1,-2,1,4,1,4,4,1,-1,2,1,-4,2,-1,-4,4,2,-2,-2,4,4,4,4,-1,-1,-4,-4,2,4,2,4,2,-2,-2,-4,-4,-2,4,1,-4,-2,-4,-2,-1,-4,-2,-2,-1,4,-4,-1,-2,2,-4,2,1,2,-4,-2,-4,-4,-4,4,1,-1,-1,2,4,-2,-4,1,2,-4,1,-1,-4,4,2,-4,2,1,4,-1,-4,-4,2,1,-1,-4,4,4,-4,2,-4,-4,2,-2,-1,2,-2,1,-1]
[-4,-1,-4,-4,-1,-4,1,-1,-2,-2,2,2,4,1,2,-2,4,-4,-1,-4,1,2,-2,1,1,1,1,2,-4,-2,1,4,2,2,2,4,4,-2,-2,8,-1,-1,-2,1,1,-4,-1,2,4,4,1,-2,-1,1,1,-4,-4,4,8,-2,4,-1,4,-4,-1,-2,-4,-2,4,2,2,2,4,1,4,-2,-4,2,-4,8,-4,4,-4,-1,4,-1,4,4,4,4,-4,-4,-1,2,-4,-1,4,4,2,4,2,-2,2,2,1,2,-4,4,-4,-2,2,4,-4,1,4,-4,-1,-2,-4,4,1,4,-1,1,2,4,-4,2]
[-4,4,4,4,2,-4,1,1,-1,-4,4,1,-2,4,-4,2,1,-4,-2,-4,-2,2,4,4,-1,1,-2,-4,-1,-2,4,-2,2,4,4,4,-2,2,1,2,-4,-4,2,1,-4,1,-4,1,4,-4,4,4,-1,4,2,4,-2,-4,-4,-4,2,-1,-2,-4,2,2,2,-1,2,2,4,-4,1,4,2,2,-2,1,-4,-4,-2,1,-2,2,4,-1,-4,-1,2,-4,-2,4,1,-2,4,-4,2,-4,-4,-1,4,4,-4,2,-4,-1,1,-2,4,-4,2,-4,-2,-4,-1,-4,-1,2,4,2,-2,4,4,4,4,2,1,-4]
[-4,4,4,-2,4,-1,-2,-2,4,2,-4,-2,-1,2,-1,2,1,2,-2,-4,-2,-2,-2,1,-1,-2,2,-1,1,-4,-1,-4,4,2,2,1,2,-2,4,2,-2,4,4,2,4,2,-4,2,-1,-4,-4,4,4,-2,4,-2,4,4,1,-4,-4,-1,-2,-1,-1,-4,2,1,1,1,1,-1,-4,-4,-1,-1,-1,-1,4,-4,-4,4,-1,-1,1,-4,1,-4,-1,-1,4,-2,4,4,-4,-2,-1,4,4,2,-4,-2,-1,1,-4,1,-4,2,1,4,-4,-4,-4,-4,-2,2,-2,-2,1,-4,-4,-4,-1,-2,-1,-2,-2,-2]
[4,2,-2,1,1,4,8,4,-4,-1,-1,4,4,4,1,4,1,-4,-4,-4,-2,-2,4,-4,-4,-1,-4,1,4,4,-2,2,-2,4,-2,-4,4,1,4,4,8,2,-2,-4,1,2,4,1,-1,-4,8,-8,4,4,-4,4,4,-4,-4,4,8,8,2,4,1,4,-4,-4,-2,-4,-4,-2,-1,2,-2,4,-4,-4,-1,-4,4,4,-4,4,1,4,1,1,8,-2,-4,-4,-4,4,-4,4,2,-2,-4,-4,-4,4,4,4,4,4,-2,4,2,-1,-2,-1,-8,2,-4,2,-1,4,4,-2,1,4,-1,2,4,1,-1,-2]
[2,-1,-4,2,4,-4,-1,-1,4,4,-4,-4,-1,1,-4,4,2,-1,4,-1,4,-1,-4,-1,-2,4,-4,-4,1,4,-1,-4,-4,4,2,-4,4,-1,4,8,2,-1,-1,1,1,-4,1,-2,1,4,-4,4,1,4,-2,2,-1,-4,-2,-1,-4,-4,-4,-1,1,1,1,-1,-4,1,4,-4,1,-4,2,1,4,-4,-4,4,-4,-4,-2,4,4,2,4,4,2,-1,-1,4,-1,-4,-1,-4,-4,-4,-4,-2,-1,-1,-4,-2,4,2,-4,4,-1,2,4,-2,4,4,-2,2,1,4,2,1,4,1,-1,1,4,2,4,2]
[-4,1,-4,4,-2,4,4,4,-2,4,2,1,-2,4,4,-2,-1,-1,4,1,-2,-2,2,-4,4,-1,-1,-4,-4,-1,-4,2,4,1,-2,1,4,-1,4,8,4,4,-4,-1,2,4,-4,4,2,2,8,-4,-4,2,-2,1,1,4,4,1,4,4,4,-1,4,-2,-2,1,4,4,-2,4,4,4,2,-4,-4,4,-2,-4,-2,-2,-2,1,-4,-1,1,-1,4,4,-4,4,4,-1,-4,2,-4,4,1,4,4,4,-1,1,1,2,-2,2,4,4,4,2,-2,4,-2,-4,1,-4,2,-4,4,1,2,-2,1,1,-2,4]
[4,-2,2,4,-8,-8,2,1,-1,-4,4,2,4,2,4,8,4,2,-4,4,-4,2,4,-4,-2,-1,-4,-2,-4,-1,2,1,4,-4,-4,1,4,4,-4,2,-1,2,-1,-1,-4,4,-2,1,-4,-2,4,4,1,-1,-1,-2,8,1,4,-1,4,-4,-4,-2,1,4,-4,4,4,-4,-4,1,-2,4,-2,-1,1,1,2,4,4,-2,4,-1,4,-4,2,4,1,-1,-4,1,2,-1,1,8,-1,1,1,2,-1,-4,-2,-1,-1,2,-2,2,-2,-4,1,1,-2,-1,-2,4,-4,2,-1,8,4,2,-1,-2,4,4,-4,-1]
[1,2,-4,-1,-2,-4,-4,4,-1,1,-2,-4,4,-4,-4,-1,2,-4,4,-2,-4,-4,2,1,-4,2,-4,1,1,1,-2,2,2,-4,-1,-1,2,-4,-4,-1,4,-4,-4,4,4,4,4,-4,4,1,4,-2,-2,-2,2,-2,-1,-4,4,-2,-1,2,4,-2,4,1,-4,-4,4,-2,-2,-4,-1,1,-2,-1,4,4,-2,2,1,-1,2,-1,-4,-4,-4,1,2,-4,-1,-4,-1,1,4,4,-4,1,-4,-4,2,-1,-2,-1,-1,-4,1,-4,4,-2,2,-1,4,1,-4,1,-1,-1,-2,2,-1,4,-4,-1,4,1,4,4]
[1,1,-2,-4,4,1,1,2,4,-4,1,1,-2,1,-1,1,2,-4,-4,4,-4,2,-4,4,-4,-1,-4,1,4,4,-4,1,4,2,4,-2,1,-1,1,-4,1,-1,1,4,-4,4,1,2,-4,-4,-2,4,4,-2,-4,-2,-1,-1,4,-4,-4,2,4,4,1,-1,4,4,1,-2,1,-4,4,4,1,2,-4,1,4,4,4,-1,1,-1,2,4,2,4,-4,-4,-4,4,-1,-4,2,-1,-4,2,-2,2,1,4,-4,2,-2,-1,-4,-2,2,2,-1,1,-1,1,-4,-1,1,4,-1,-4,-4,2,2,2,-4,-2,1,-4]
[-2,2,1,1,-1,1,-4,-1,1,-4,1,4,4,2,-4,-1,-4,-4,-1,2,2,-4,-1,4,-4,-1,4,-1,4,2,4,-2,2,-4,-2,2,-4,-2,-2,-4,4,2,2,-4,-2,4,-1,4,-1,-4,4,1,2,1,-1,4,4,2,-4,2,4,-2,1,-4,1,1,-2,-2,4,1,1,-1,-4,4,-4,4,-2,-4,-2,-4,-4,1,-1,-4,-2,-1,1,-2,2,-4,-1,-4,-1,-1,-2,4,4,2,-4,-4,-1,1,1,4,-1,2,-1,4,-1,1,-2,-4,-4,1,4,4,-4,2,4,-2,-4,-4,-4,1,-1,-4,-2,-4]
[4,-2,-1,1,-4,-2,-2,4,1,-4,4,-2,4,4,-4,1,4,-2,-1,4,-2,-4,-4,-2,4,-4,4,-4,-2,-4,1,4,4,-4,4,1,-4,-1,-4,-4,2,-4,-4,-4,1,4,-2,-1,4,1,1,4,-1,-2,2,-1,1,1,4,4,1,2,4,1,2,-2,4,4,4,-1,-4,-1,-2,4,4,2,-4,-2,-4,-1,2,2,1,4,4,1,-1,-4,-1,-4,-1,-4,-1,4,2,-4,-2,1,-1,-2,-2,-1,-2,-1,-1,2,-1,4,2,-4,-4,-2,-1,1,-1,-2,2,-2,1,1,2,2,-4,4,4,-2,4,1]
[2,2,-1,-2,-2,-2,4,-1,-2,4,-4,-2,-4,4,-2,1,-4,-2,2,4,2,-2,-1,-4,-2,-1,2,-4,-4,1,2,-2,1,2,1,4,-1,4,4,-1,-4,4,4,-4,4,-4,-4,2,-4,-4,2,4,4,1,-4,2,-4,-4,-1,1,-4,2,4,1,-1,4,1,1,-4,-4,-4,-1,4,4,1,1,-4,-1,4,4,1,2,4,-4,-1,-2,4,1,-4,-4,-4,1,-4,-4,-4,4,-2,-4,2,-4,1,1,-4,-4,-1,2,-4,-1,-4,-1,1,2,1,-4,1,4,-4,2,2,1,1,-1,2,1,-2,-1,1,4]
[-1,-1,4,4,2,-2,4,2,2,-2,-2,1,4,-2,-2,-1,4,-4,4,-4,-4,-1,1,2,4,1,-1,-1,-1,2,-2,4,1,-4,-1,2,-1,4,4,4,1,2,-1,1,4,2,-4,4,4,4,-4,1,-1,4,-4,-4,4,2,-2,-4,-2,-2,-4,1,4,2,2,-2,4,-1,-2,-2,-1,1,-1,-2,-2,-2,-1,4,2,-4,1,1,2,-4,2,1,-2,-2,-2,1,4,-1,4,4,4,-1,2,4,4,-4,-2,1,-4,-2,-1,-1,-4,1,1,4,4,2,-2,-2,2,1,-4,-1,-4,1,-2,-2,-4,-2,1,-4]
[2,4,2,-1,4,4,-4,-2,-4,-4,2,4,4,2,-4,1,4,1,-1,1,-2,4,4,4,1,4,2,4,1,1,1,4,-4,1,1,8,4,2,-2,-2,-4,2,4,-4,4,1,-1,-1,4,4,1,4,1,-4,1,-4,4,1,-2,-1,1,-1,-4,1,-2,-4,-2,2,4,-4,-2,-2,4,1,4,-4,4,4,1,-4,4,-4,-4,4,-2,-4,-4,4,-4,1,1,-4,2,-4,1,-2,-4,4,1,1,-1,2,-1,-1,-4,4,4,2,-2,4,-4,1,1,4,4,-4,-4,4,-1,-1,-1,-1,-1,4,1,4,1,-4]
[4,-1,-4,-1,4,-4,1,-1,-4,1,1,-1,4,-2,1,-1,-4,2,-4,4,4,4,4,-2,-2,-1,-4,-4,2,2,-2,-1,1,-4,-2,-2,4,-4,4,-4,2,-4,4,-4,-4,-1,2,4,4,4,-1,4,-4,-2,-4,-2,-2,-4,-1,4,-4,4,-4,-4,-4,-4,2,1,-4,4,4,1,-4,1,1,4,4,2,-1,-4,-1,4,4,4,2,4,4,1,1,-2,-4,4,-4,4,2,2,1,-2,1,4,4,-4,1,-4,-1,4,4,4,-1,-4,4,-2,-4,8,-2,2,2,2,2,-4,-4,4,-1,-4,4,2,-2,-2]
[1,1,-1,-2,1,4,1,-1,-1,-4,2,-1,-2,-4,1,4,1,1,-4,1,-2,-4,-1,4,-4,1,1,-1,-1,2,4,2,4,1,4,1,-2,-4,-2,1,1,-4,4,1,2,-4,-4,4,2,2,4,2,4,-1,4,1,-2,1,-4,2,-4,-2,-1,-4,-2,-2,1,2,-2,1,4,-2,-4,1,1,-2,-1,4,4,1,4,-2,-4,-1,-1,-1,-1,4,4,2,-4,4,2,-4,-2,-1,4,-1,-4,-4,-1,1,4,1,4,-2,2,2,-4,1,2,4,-4,-1,2,4,-2,4,-1,4,-2,1,-4,-2,-4,2,2,1]
[-1,4,-1,4,4,2,-4,4,-4,-2,-2,-4,4,2,4,4,2,1,-2,-1,1,-2,-2,-1,4,-1,-4,-1,1,4,4,-1,-4,2,-4,8,1,2,-1,-2,-4,2,4,4,1,4,4,-4,4,1,-4,4,1,4,-2,-1,-1,4,1,2,-4,-4,8,-2,4,4,-2,-2,2,-4,-4,-1,-4,-2,-2,4,-2,4,-4,-2,8,2,2,2,4,4,4,4,-1,4,4,-4,4,2,2,8,-1,2,-4,-1,4,2,4,-1,4,1,2,-4,-4,-1,1,4,-1,-4,-4,4,2,2,4,1,1,4,1,4,4,4,2,-4]
[-4,1,-4,-1,8,4,2,-2,-2,-4,-4,4,4,-1,-1,2,2,-1,2,-4,4,2,1,1,2,-4,-4,1,2,-2,4,-4,-4,-2,2,4,4,-1,4,4,4,-4,-4,1,4,2,4,4,4,1,-4,1,4,-1,1,-4,2,8,-1,4,-4,4,-1,1,1,-4,1,-1,1,4,4,-4,-4,1,-2,4,-4,-2,1,1,2,-4,-1,2,2,2,-4,-4,1,-2,-2,2,2,-2,-4,-4,4,-2,1,2,-4,-4,1,-4,-4,-4,4,2,2,-4,2,-8,-1,1,1,-1,4,2,2,-4,-4,4,-4,-4,4,4,-4,-4]
[-2,4,-4,-1,1,8,8,1,4,-4,4,2,-2,4,-4,-2,4,-4,-2,4,-2,-2,4,-1,-1,4,4,-1,1,-1,1,-1,-1,-2,-4,-2,4,2,-1,-2,1,-4,2,-2,-2,-2,-4,-4,-4,-1,8,-4,4,4,-4,1,-4,4,4,4,-1,4,-4,-4,-2,4,-4,4,-1,2,-4,2,2,4,-4,-4,-1,4,2,1,8,8,-4,2,1,-1,4,2,4,2,-4,2,-1,4,-1,4,-1,4,-4,-1,2,1,1,-4,4,-2,2,1,-4,4,-1,4,-2,-2,1,2,1,4,1,4,-4,-1,4,-4,2,4,-4,-1]
[1,1,-2,1,-2,-1,-4,1,4,-2,-4,-1,2,-4,2,4,-2,8,4,4,-4,-1,4,-1,-2,4,4,4,-4,4,4,8,-4,-2,4,4,-4,1,2,-1,4,2,4,1,4,1,1,4,1,4,-8,8,-1,-4,-1,-2,4,2,4,-1,2,1,4,2,2,-4,2,-1,-4,-4,4,-1,4,4,-1,-4,1,4,-2,4,2,4,4,-4,4,-4,1,-2,-1,4,-4,-1,-4,-1,-2,2,4,-2,4,-4,-1,4,-1,4,4,1,2,4,-4,-4,1,1,4,2,4,-1,4,-2,-4,1,2,-4,8,2,4,-4,-4,-1]
[-2,1,-2,-1,-1,-4,-2,4,-4,-4,-1,1,2,1,-4,1,4,2,1,-4,-4,4,2,-4,1,-4,-4,-4,4,1,-2,-4,-2,-4,2,-1,-4,2,4,-4,2,-1,4,4,1,-4,1,4,-4,2,2,-1,-2,4,1,4,1,-4,-4,-4,4,-2,-2,-4,2,-1,4,4,2,4,4,1,2,2,-1,2,2,-4,4,2,2,-4,4,-2,-4,-1,2,-1,1,-2,-2,2,4,-2,1,-1,4,4,-1,-1,-4,-4,-4,-1,-2,4,-4,2,-1,1,1,1,-4,-4,-4,4,2,4,-4,4,1,-4,4,-4,4,-4,1,4]
[2,-2,-2,-2,4,8,-1,-1,4,4,-4,4,-1,-4,-1,2,-1,2,-4,-4,8,-1,4,4,4,4,2,4,-4,2,1,-2,2,4,2,8,1,-1,-2,-1,-4,2,-2,-4,-4,1,4,4,1,-1,-2,4,8,1,4,-2,-4,8,-1,1,-4,4,2,2,-4,-4,4,-1,-2,4,4,2,-1,-4,-4,2,-1,8,2,1,-1,-4,1,-1,4,-2,1,-1,-2,1,-4,4,2,1,4,1,8,1,-4,2,4,4,4,-4,-2,-4,-1,-4,-1,-4,1,-2,1,-1,4,-4,4,-4,-4,2,-4,-2,4,1,-4,-1,-1,-4]
[2,4,-2,-1,-4,-1,4,-4,1,-4,4,-2,1,4,4,-1,2,-4,-2,-1,2,2,-2,1,-2,1,1,4,2,-1,4,-2,-1,-1,1,-1,1,-2,-2,-1,2,1,-1,2,4,4,-2,1,-1,-2,-2,4,1,-4,2,1,-1,-2,-1,-2,-2,-4,4,-1,1,2,-1,-4,2,2,2,-2,1,-4,-2,2,2,-4,4,4,4,-2,4,-2,-2,-4,-4,-4,2,-4,-4,-4,4,1,-4,1,-1,1,1,-1,1,-1,2,2,-2,2,-4,1,-4,4,-1,4,4,-2,-1,-4,-1,-2,-4,1,1,-4,4,-1,-4,4,-4,1]
[4,2,1,4,1,-2,2,2,1,2,-1,-4,1,4,1,-4,4,2,-1,-1,4,-4,2,-1,-2,4,-4,-4,-4,1,2,-4,-4,4,4,4,-1,1,-1,-4,4,1,1,4,-2,2,4,-1,2,-1,8,-1,1,4,4,2,4,4,4,-1,4,4,2,-4,-4,8,4,-1,-4,1,-4,1,2,4,4,8,-4,2,2,-1,4,-1,1,-2,4,-4,1,2,1,-2,1,-4,-2,4,-4,-2,1,2,1,-2,-2,2,1,-2,-1,1,-4,1,2,-4,-2,4,-2,1,-2,4,1,-1,-1,4,-4,-1,4,-1,-4,4,-2,4]
[4,-4,-1,4,-2,4,-1,2,1,2,4,1,1,4,4,1,-4,2,-2,-4,-2,-1,4,4,-1,-4,-4,2,1,-2,8,2,-1,-1,1,-4,-2,2,1,-4,-4,1,4,-1,4,1,-4,-2,4,4,4,-1,2,-2,4,-4,4,-1,1,-2,-4,-2,-4,-1,1,4,-2,4,-2,4,2,4,2,2,2,-1,-4,-4,-1,-2,-4,2,4,2,-1,4,1,4,-4,-1,2,4,2,4,-1,4,4,-4,-1,-1,4,2,-4,-1,-1,-4,-2,4,-2,-2,-4,2,2,4,2,-2,4,-1,-4,1,1,-2,-4,-2,2,-4,-2,1]
[2,-1,4,1,1,1,2,2,-4,-1,2,1,2,-2,2,1,4,4,-4,1,-1,1,-1,1,1,-4,-1,-4,-2,-2,-2,4,1,-4,-2,-4,2,2,1,-2,-1,-1,-2,2,1,2,-4,-4,2,2,2,4,2,4,-4,-1,1,2,4,-2,1,4,2,-4,-2,2,2,-4,4,-1,-1,4,-2,-2,2,4,2,2,-1,-2,-4,-4,-4,2,-1,2,-1,-4,-1,-2,2,2,4,-4,-2,2,-2,2,4,2,1,4,4,-1,-1,4,4,1,4,4,-1,4,-2,-4,-4,4,1,-2,-2,-4,-4,4,2,2,1,-4,2,-1]
[4,1,2,2,-2,-1,4,-2,2,-4,1,4,4,-4,2,-2,-2,4,-4,-1,4,-2,2,-1,1,1,4,1,-2,-4,4,2,-4,4,4,-2,-4,-4,-1,-4,2,1,-2,-4,1,4,4,-4,4,2,-4,1,4,-2,4,-2,-1,4,-2,4,4,-4,2,-1,-4,-2,-2,-2,-4,1,-4,-2,-4,-1,1,1,1,4,-4,-4,-2,-1,4,-1,4,-2,4,1,4,4,-1,4,4,-4,-1,-2,4,-1,2,4,4,2,2,1,-4,4,-2,-4,4,-2,4,-2,-4,-4,-4,-1,4,4,-2,-1,-2,2,4,2,-4,-1,-4,2]
[-2,-1,2,4,-4,-2,2,-1,2,-2,1,1,4,-2,-2,-1,-2,4,2,2,1,-1,1,-4,-1,-2,4,-4,4,4,4,-1,-4,-4,4,4,-2,-4,4,-4,4,-1,-1,-4,2,4,-4,-2,4,-2,-1,-1,4,1,1,-1,2,4,-4,-1,2,4,-1,-2,-2,-4,4,-4,1,-4,-2,-1,1,-2,-2,-4,2,-1,-4,-1,4,1,1,1,4,-2,4,2,-1,-2,1,-2,1,-4,-1,4,-4,2,-2,2,-1,4,2,2,1,8,-4,-2,2,-1,-2,2,2,1,-1,-1,4,4,4,-4,2,2,4,-4,-1,4,1,4]
[-1,4,1,2,2,4,-4,-1,1,-4,2,1,4,-1,-4,2,1,2,-2,4,-2,-4,-4,2,1,-4,2,-2,-1,-1,1,-4,1,4,1,4,2,-4,-4,-1,2,-4,4,-1,4,-1,-1,-4,1,1,-4,4,1,1,2,1,1,-4,-4,4,4,-2,1,2,4,4,2,4,-4,4,-1,-2,-4,-2,1,-1,-1,1,2,-4,-2,4,-1,-4,-1,1,2,2,-4,2,4,4,-1,-2,-1,-4,1,1,-4,-2,-2,4,4,4,-2,2,-1,-4,1,-1,-4,1,-2,-4,-4,-1,-1,-1,-4,1,-4,-1,-1,4,-4,4,-4,2]
[1,-4,4,1,-1,2,-1,4,-4,2,-4,-2,1,4,4,1,-1,4,4,-4,-4,-1,-4,1,-4,4,-4,-4,1,2,-2,1,1,2,-4,2,-2,4,-2,4,-2,-2,1,-1,4,4,4,4,1,1,4,-4,-2,2,-1,1,-4,2,-2,1,-2,2,4,-2,4,-1,-4,-1,4,4,-4,4,1,1,-1,-2,-2,4,1,4,2,-1,-1,1,-1,-1,-2,2,-1,4,-4,-4,-4,4,-4,-4,1,-1,2,-4,2,-4,2,-1,-2,-1,-4,-1,4,2,2,1,-2,4,-4,1,-2,-1,1,2,-2,1,-1,-4,-1,4,-1,-2]
[2,4,2,-1,-4,-4,-2,1,4,-4,1,4,8,4,1,2,4,8,4,1,2,-4,4,-4,-4,-1,-4,2,1,4,-1,-1,-1,1,-4,4,4,-4,4,4,1,1,1,-2,-4,-1,4,-4,-4,-4,-2,-1,2,-8,1,-4,1,4,-1,-1,-2,-1,4,-1,-1,4,4,1,-4,4,-4,2,-4,2,1,2,-1,4,-2,-2,4,-4,8,4,-2,2,-4,4,4,4,1,-4,-2,4,4,2,2,-2,4,-4,2,-2,-4,4,4,1,4,1,4,2,-4,4,-1,-1,4,-1,2,1,-1,2,4,-1,4,1,1,-4,2,2]
[-4,-2,2,-1,1,-8,4,-2,1,-4,4,-4,8,4,-4,4,2,-1,-2,4,-8,2,-2,-1,-1,-1,-1,2,4,4,1,-1,4,-4,2,1,1,2,-4,-4,-2,1,-1,-4,-4,-1,-2,-1,2,-4,4,4,-2,4,-2,2,2,4,-1,1,-4,4,-1,2,-1,8,2,-4,-4,-2,2,1,-4,4,-2,8,-2,-4,4,-1,4,4,-4,4,4,-4,-2,1,2,4,4,4,-4,2,-2,4,-4,-4,-1,-4,-2,-2,2,2,4,4,-1,2,-4,2,-1,4,1,-4,-4,4,-4,-1,-4,4,4,2,-4,-1,-2,-4,1,-2]
[-4,4,-2,-2,4,-1,4,2,4,4,-2,-4,4,4,4,-4,1,2,-1,-1,-4,4,-2,2,-4,-2,4,-2,1,-4,4,4,-4,-1,1,1,2,1,-4,-1,4,4,2,-2,-4,-2,2,4,-2,-4,1,-1,2,2,1,4,1,-4,4,-2,1,-1,1,2,4,2,-1,-1,-2,4,-1,4,4,-4,2,2,4,-2,-1,-2,1,2,-1,1,2,1,4,-1,2,2,-1,-2,-4,4,2,-4,4,-4,4,1,-2,-1,-1,-2,2,4,1,-4,1,4,2,4,2,4,4,4,-4,-4,-4,-4,-4,4,4,-4,-1,1,4,-4]
[4,-4,1,-2,2,-4,2,4,-2,-2,1,-1,1,-1,-4,4,-2,-4,1,2,4,-2,2,1,-2,-2,-4,-2,2,-1,-2,-4,4,1,-4,-1,-4,1,-2,-1,2,-1,2,2,1,2,4,1,-1,2,2,-2,2,-4,1,4,1,-1,2,2,-4,-1,4,1,-4,4,4,-4,4,2,-4,-4,1,-2,4,-2,-4,2,-2,-2,1,-1,4,4,1,-4,4,2,-4,1,-2,4,-1,1,-1,4,-8,4,-4,-2,1,-4,-2,-4,-1,2,-1,4,-4,1,-1,-4,-4,4,-1,2,2,2,-4,-4,-1,-1,4,4,-2,-1,-1,2]
[-4,-1,-4,-2,-1,-4,4,-4,-1,1,4,-1,2,-1,4,-2,4,-2,-4,1,-4,4,-4,-2,2,-4,2,4,-2,4,1,-2,-4,-4,-1,-8,-1,2,-4,-1,-4,4,-4,-4,4,-2,-2,-1,4,1,4,-2,-2,4,4,-1,4,-4,2,4,-1,-2,1,-4,-2,-2,4,-4,4,-4,-1,1,-4,4,2,-1,-4,2,-2,1,-2,2,4,-4,4,-4,-1,-2,-4,-4,-4,-2,4,1,4,-2,4,-2,-4,2,-2,-1,-2,-1,-2,4,4,2,-1,-1,4,-2,4,4,4,-4,2,1,-4,-1,1,1,4,1,4,4,2,-1]
[-4,-1,2,1,8,4,4,-2,-2,4,-4,4,-4,-1,-4,-4,-2,-1,-2,-1,2,1,2,-1,4,-1,4,4,4,-2,4,-4,-4,4,1,8,-4,-4,-1,1,-4,1,1,4,1,1,-1,-4,-4,4,4,2,1,2,-1,2,4,1,-4,2,4,-1,-2,-2,-1,4,-4,2,2,2,-2,-2,-2,-1,8,-2,-2,-1,4,-4,4,-4,2,-1,2,-2,-2,-2,4,-1,2,4,-2,-4,-1,-4,-1,8,-4,-2,-4,4,2,-1,4,1,4,-1,-4,-4,-4,-4,4,-2,4,-2,1,-4,-2,4,-4,-2,2,2,-4,1,1,4]
[-4,2,-2,4,4,4,-2,4,4,4,4,-4,-2,1,2,2,4,2,-1,-4,-4,1,-4,-2,2,2,4,1,-1,4,-2,-2,-4,-4,1,2,1,-4,-4,-2,1,4,-1,1,-1,-2,1,2,2,1,-4,2,-2,2,4,-4,-4,4,-1,4,2,1,-4,-2,1,-1,2,-4,-4,-4,-1,4,2,4,-2,1,-4,-4,4,1,-1,1,-2,4,2,4,-4,1,4,-1,-2,4,-1,4,1,-1,-4,4,-2,-4,-1,4,-4,-2,4,4,1,4,-2,4,4,2,1,-1,-1,-4,2,1,-2,-4,4,-1,1,-4,-4,4,4,1]
[1,4,2,2,1,-4,1,-4,-4,-4,4,4,-4,4,-2,-4,1,-4,4,-2,8,-4,2,-1,1,2,1,-4,2,-1,1,-4,-4,2,2,4,-4,-1,-1,-2,1,2,2,4,-4,1,-2,1,-2,1,-4,4,4,4,-4,1,-4,4,4,-1,1,-4,4,2,-4,1,4,2,-2,-4,-4,4,4,2,-4,-2,-2,2,-1,2,4,2,-4,2,4,-4,-1,-4,-4,2,4,4,2,1,-4,4,2,2,4,1,-1,4,4,-1,2,2,2,-2,1,4,-1,-4,-2,2,2,2,-2,1,1,4,2,4,-4,4,1,1,1,-2]
[4,1,2,1,-4,1,-1,1,4,-4,2,-1,-4,-4,4,-2,4,-4,-1,1,4,-4,1,1,2,-1,4,2,-1,4,1,-2,-4,-1,-1,-4,1,-4,4,-4,2,4,4,-2,-4,-1,4,2,-4,4,-4,4,1,2,-4,-2,-4,4,-2,2,1,-4,-1,-2,4,4,-4,1,-2,-1,4,-1,-2,2,2,-1,-4,4,-1,2,-4,-2,1,-2,-4,-2,-2,2,-4,4,1,-4,-1,4,4,-2,-2,-2,1,-2,-1,-1,-4,-2,-2,2,4,-4,-2,-4,1,2,-1,-2,-2,-1,4,-1,4,-4,1,-2,2,-1,2,-4,-2,-1]
[2,-2,4,-4,-2,-4,2,4,-1,-4,-1,-4,-4,4,4,4,-2,4,4,-2,4,-1,-2,-4,-4,1,-4,-4,-4,4,-4,2,2,-2,-4,-4,-4,-4,-2,-1,4,4,4,-4,-4,2,-2,-4,-4,4,-4,4,-4,4,4,1,-2,4,1,1,4,-2,1,-1,2,-4,-4,-1,8,-2,4,4,-2,-1,-1,-1,4,4,-4,-1,-4,-1,2,4,4,4,4,4,-4,-1,-1,4,4,4,-1,-4,-4,-1,-4,-1,-2,4,1,4,2,1,-4,-2,2,4,4,1,8,2,2,4,4,-1,1,-1,-2,-1,4,4,2,4,2,1]
[2,-1,-4,-1,-2,4,1,4,-2,-1,-2,4,-4,-1,2,4,1,-4,1,-2,1,2,2,-4,2,-4,1,4,4,-4,2,-4,4,4,2,2,-4,-4,-4,4,-2,-4,4,1,-4,4,-4,4,2,4,-4,1,4,-4,2,-1,-4,2,4,-1,-2,-2,1,2,-4,4,-2,1,2,1,4,-1,2,4,-1,4,-1,-2,-1,-2,1,-4,2,1,2,4,-1,2,-2,2,2,-4,1,2,1,-4,-1,2,4,-2,2,1,-1,-2,-4,-2,-4,4,1,4,4,4,-2,-4,-2,-4,-2,-1,4,-2,4,1,4,4,-2,-4,1,1]
[-4,4,1,-2,-1,2,4,2,-1,-4,-2,-1,4,-1,4,2,-4,2,1,-4,-4,-1,-4,-1,-2,4,2,-4,4,1,-4,4,-4,-4,2,-4,2,-2,4,-4,4,-1,-4,1,1,4,2,-4,4,2,-4,4,-4,-1,-1,-1,4,2,-1,-2,-4,4,-2,-4,2,-2,-4,2,-4,4,2,1,-4,1,-1,4,1,-1,-4,1,-2,4,1,-4,2,-2,1,4,-4,1,4,1,4,2,-4,4,-4,-2,-2,1,-1,4,2,-2,-1,1,4,2,2,-4,-4,-1,1,-4,-2,4,2,2,-4,-2,-4,4,-2,1,-1,-2,1,-4]
[-2,4,-4,-4,4,4,2,4,-1,4,-4,4,2,2,-4,-1,4,4,-4,-4,4,-2,4,-1,2,2,-4,4,4,1,2,-2,-1,1,4,1,-2,-2,-4,4,-4,-1,1,4,2,4,-1,4,-2,-2,4,1,-2,-2,-4,-4,1,-4,2,4,2,-4,-2,-2,-4,2,-4,-4,-4,-2,-1,1,-2,-1,2,2,-2,-4,2,2,-4,2,-4,4,2,4,-4,1,1,4,2,-4,-1,-1,-1,4,4,-2,4,4,2,-4,4,-4,4,-1,2,-2,-4,4,2,1,4,4,-2,-1,-2,-2,-4,2,-4,2,-2,-2,1,4,4,-4]
[4,4,-1,2,-4,2,-2,-2,-1,1,1,-4,2,-1,8,2,-4,-4,2,8,-4,2,-4,2,1,1,-1,4,-2,4,-1,-2,2,-1,1,-2,-2,-4,1,8,2,-4,-1,-2,-4,1,1,-4,1,-1,-4,-8,-4,4,1,2,4,-4,-4,-1,-1,1,4,4,-4,-4,-4,-2,4,2,-4,2,-1,-4,2,-2,-4,-1,-4,2,-4,4,-4,-4,-4,-2,8,-1,1,4,-2,-1,-1,4,1,-2,2,-4,-4,-2,-2,2,4,2,-2,4,1,-2,8,2,4,-2,-2,-2,4,-1,1,-4,4,1,-2,-2,4,1,8,-1,1,4]
[1,4,-2,4,-1,-2,4,-4,4,2,-4,-4,2,4,2,4,2,4,-2,-2,4,4,4,2,-4,-2,4,2,2,2,2,-4,4,-2,1,1,1,1,4,4,-4,-4,1,-1,-4,-2,2,-4,-2,4,-4,1,4,2,2,2,2,-1,-1,-1,1,-2,-2,4,2,-2,1,-2,-1,-4,-2,-2,2,1,4,1,2,4,-4,-2,2,-4,4,-4,-2,1,-2,-4,-1,1,-4,-1,-2,-2,2,-4,2,-1,-4,4,1,1,-4,-2,4,-4,-4,2,-2,-1,4,-2,-1,1,4,2,1,-2,-1,-2,-1,-4,-2,-4,4,4,-2,2]
[4,-4,1,-1,1,4,-1,-2,-1,4,-2,2,-2,2,-2,4,1,2,-4,-4,2,-4,1,-4,-1,2,1,1,4,1,4,4,2,2,-2,-4,-4,4,4,4,-2,1,4,-4,-4,-4,4,-1,-4,-4,2,-2,1,-4,1,-4,1,-1,-4,2,-4,2,4,-4,-1,-1,-2,4,4,4,-4,-4,2,-4,4,1,1,-4,-4,4,-4,4,-4,-1,-1,-4,-1,-4,-4,-2,4,4,1,4,2,4,4,4,-4,1,-1,4,4,1,2,2,-4,-2,1,1,1,4,-1,1,2,-1,4,-4,-4,4,-1,4,4,-4,-2,-2,2,4]
[2,-4,-4,4,2,-2,1,-2,1,2,-4,1,-2,1,4,-4,4,-1,4,-4,1,1,2,4,4,1,2,-1,2,-1,-2,-4,2,-4,1,-2,-1,4,-2,2,2,2,-2,1,4,-1,2,1,4,4,-1,-2,-4,4,2,2,-2,-4,-4,-1,4,4,1,2,2,-2,1,1,4,1,-4,-1,1,-2,-4,2,-1,-4,1,-2,-4,-2,-4,-2,2,2,4,1,-4,-1,-4,-2,-1,1,-4,4,-1,-4,-2,-4,-2,4,1,-4,-1,-4,-4,-4,-4,4,-4,-1,2,4,1,-4,1,1,2,-4,-1,-4,1,-2,-4,-2,1,-2]
[4,-1,-4,-1,4,-2,-4,1,-1,1,-1,-2,1,-2,-2,-4,4,-4,-1,-4,-2,2,-4,-2,4,-4,4,1,1,4,-1,-4,-4,4,-1,2,2,2,-2,-4,4,2,-4,-4,4,2,-1,-4,-1,-4,-4,-4,-4,4,-4,1,-4,4,2,-4,-1,-1,4,2,-4,-4,-2,4,-2,-4,-4,1,-4,2,2,-2,-2,-4,-4,-4,4,2,1,2,-2,4,2,-4,1,4,-2,2,4,4,2,-2,2,-1,4,-1,2,4,1,1,-1,-4,-1,-4,2,2,-4,4,2,1,1,4,2,-4,4,4,-2,4,-2,-4,-4,-4,1,-4]
[-2,4,-2,4,-1,1,2,-4,1,-1,-1,-1,-4,4,2,-4,4,2,4,-1,2,1,-1,2,4,-4,4,-2,-4,2,1,4,-4,-1,-4,2,4,1,8,-2,1,-4,2,-2,-2,4,2,4,1,-1,-4,2,4,4,-2,-2,-4,4,4,-2,1,-2,1,-1,2,4,1,-1,-2,4,2,-2,1,2,4,-4,-4,-2,4,-1,1,4,4,4,4,1,-4,-1,4,4,-1,4,1,2,-4,1,-4,-1,2,-4,2,4,4,-1,-4,1,1,4,-1,-4,-1,-4,-2,2,-1,4,-4,4,2,4,2,-4,-2,4,-4,4,4,4]
[-4,2,4,2,4,-4,-4,-4,-4,-1,1,-4,4,-4,-4,4,-2,2,4,1,-4,-1,-2,4,4,2,-1,4,-4,4,-1,-4,4,4,-2,-2,1,2,4,2,-2,-4,4,-1,4,2,-2,-4,4,-2,4,4,-1,2,-2,-1,1,4,-2,2,-1,-2,-1,4,4,1,1,4,4,-2,-4,1,-1,4,4,1,-4,-1,-2,-1,-2,2,-4,-2,-4,2,2,1,4,-4,1,-4,4,2,-4,-2,4,4,1,4,4,1,-1,-2,-4,4,-4,2,-2,-4,-1,4,-4,4,-1,4,-4,-2,4,2,4,-2,-4,-4,-1,-4,4,-1]
[1,1,-1,-2,4,4,4,4,1,-4,1,1,1,2,-2,-1,-1,1,4,4,4,-1,1,-2,2,2,1,-1,-4,-2,-4,-2,-1,4,-2,4,-4,-4,-4,-4,8,2,4,-1,-4,-2,1,-2,4,-2,-4,-2,-1,4,-1,-2,2,4,2,-4,-4,2,1,4,-1,1,-4,2,-1,2,-2,1,2,4,1,4,4,-2,4,1,-2,-1,-4,1,-8,-4,1,2,-4,-2,-4,-2,-4,4,4,-2,4,2,-2,-4,-1,2,4,1,2,4,-1,1,2,2,-4,-2,-2,4,4,-2,4,-2,8,-2,-4,-4,-1,1,-4,-2,2,4]
[-2,1,-1,-2,-4,1,-1,-2,4,4,2,2,-2,-4,-4,4,4,-4,-4,-4,-1,-4,-4,1,-1,-1,2,-1,2,-4,-4,1,2,2,-1,2,2,-2,-1,-1,-4,1,-2,-2,1,-4,-4,1,-2,1,-2,-4,4,1,-2,-2,-1,-1,-4,-1,-1,-4,-1,-2,4,-4,-2,-1,-4,2,-2,-4,2,-1,-4,-1,-2,-2,-4,-1,2,-2,1,4,4,-2,4,-4,4,2,-4,-4,4,-4,1,2,2,-1,-4,1,1,-1,1,-1,4,4,-2,2,2,4,-4,4,-4,4,-2,-2,1,-4,4,1,4,1,2,2,2,-2,4,-2]
[-2,1,2,-4,-4,-4,4,-2,2,-4,4,-4,-1,-1,-1,-4,-1,2,4,-4,1,-4,-2,-1,1,1,4,-1,1,-2,4,-4,2,1,4,2,4,-1,4,2,-2,1,-4,-4,2,4,-4,-2,-2,4,-4,4,-1,-2,2,-1,-2,2,-1,1,-4,-4,-1,4,4,-4,-1,1,2,-2,-1,1,1,-4,2,2,-4,-2,-1,-2,-4,-4,2,-4,-1,-2,-4,1,-2,-1,-4,-2,-1,-4,-1,1,1,4,1,-4,-4,-1,-2,2,1,4,-4,2,4,1,2,4,-2,4,2,-1,4,-1,1,-4,4,-2,2,-2,2,-2,-4,-4]
[4,-1,2,2,1,2,-1,1,1,-2,-4,1,4,-2,4,2,1,-1,-2,1,-1,2,-4,-4,-2,-1,1,-1,4,-2,1,-2,4,-4,-1,4,-1,2,4,-2,-1,-4,1,-4,2,-4,-4,-1,-1,-4,-2,-2,-1,-4,4,-4,-4,4,-1,-2,-2,-1,4,-4,4,-4,4,4,2,4,2,-4,1,1,-1,-2,-2,-4,4,4,1,-1,-4,2,-4,2,4,-4,1,1,4,-4,1,-2,-2,-1,2,-4,-1,4,-2,-4,-2,2,-1,-4,-4,1,2,2,1,-4,1,4,-4,4,-2,1,2,4,-1,-1,-4,-4,4,1,-4,-4]
[4,1,-4,1,4,1,-2,8,-4,1,4,-1,-1,4,4,2,-2,-2,2,4,-4,2,-4,-2,2,1,-1,-4,4,1,-4,4,1,2,-4,1,-1,-4,2,-4,2,4,1,-4,-2,2,4,-2,-2,4,-4,4,4,-4,-2,-2,1,1,4,-4,-2,-1,1,-2,-1,-1,-4,2,-4,4,-2,2,4,-4,-4,-4,2,-4,4,-2,4,4,4,-4,2,-1,2,-1,4,-2,-4,-1,-4,1,-2,1,-4,4,-4,-4,2,-4,-4,-4,-2,4,-2,-4,-4,1,2,4,4,-4,2,4,-2,4,-2,-1,-2,-2,4,-4,2,1,-4,2]
[-4,-1,-4,2,1,4,1,-4,1,-2,4,1,4,-1,-4,2,2,-1,1,2,1,2,4,1,1,4,4,4,-1,-1,4,-4,-4,1,-1,-4,-1,4,-4,4,-1,1,-4,-2,1,4,-1,-2,4,1,4,-1,1,1,-1,1,-1,4,-2,4,4,1,-4,1,-2,-1,1,4,-1,1,1,1,2,-2,-2,2,2,1,-4,4,-1,-4,-1,4,-2,1,4,-4,4,-4,-1,2,2,2,-1,2,4,-1,2,-4,-2,-2,1,-4,4,1,1,-4,1,4,4,-1,1,-2,-4,2,4,-4,2,-4,1,-2,1,-1,-4,4,4,4]
[2,4,-4,-2,2,4,-1,-1,-4,-2,-4,2,-4,1,2,-2,8,-2,4,-1,2,-4,-4,-1,-4,-4,4,-4,1,1,-1,-1,4,1,-2,4,4,-2,1,4,1,2,2,-4,2,2,-1,-4,-4,-1,-4,4,-1,-2,1,-4,-4,-2,2,4,-4,-1,-4,-4,4,1,4,-1,1,-4,1,-1,-2,-1,4,4,4,-4,4,4,2,1,-4,1,4,-2,-4,-4,4,-2,-2,-4,1,1,2,1,-2,-1,-1,4,4,-2,-2,-4,-1,-2,8,-4,-1,-4,-1,-1,-2,4,-2,-4,2,-4,4,-2,-4,1,1,4,-4,1,4,4]
[-2,4,-4,-4,1,1,4,1,-2,-1,-1,-4,8,-1,1,1,2,-1,-4,4,-2,-4,-1,-4,4,4,1,2,-4,2,-4,-1,-4,-2,-2,2,-1,4,-4,-1,1,4,2,2,4,-4,-1,-4,4,2,8,1,-1,-2,-1,1,2,2,-1,1,1,1,-4,1,-4,-4,-4,-2,-2,-4,-2,4,-4,4,2,-4,4,-4,-2,-2,-2,2,4,4,-4,-4,-2,-4,-2,-4,-2,-2,4,2,4,4,1,-4,2,-4,1,4,1,1,2,4,2,4,2,2,4,2,-1,-1,4,-1,2,-1,-1,-2,4,2,-2,-4,4,1,-4,-4]
[-1,-4,-4,4,-4,-4,1,-4,-2,2,1,4,4,-4,4,-4,-4,4,1,-1,-1,-4,-2,1,-4,2,2,4,-4,-4,4,-2,-4,-1,1,4,-4,4,-4,4,1,4,-4,-4,-1,1,-4,4,4,2,1,-1,2,-1,-4,1,1,4,4,-2,-4,-4,4,4,4,4,4,-2,-4,4,4,4,1,4,-2,-4,4,-4,4,-4,1,-4,-4,2,1,-2,-2,2,-2,4,4,-2,-4,-2,1,-2,1,-4,-2,-1,-4,1,2,-2,4,-1,-1,-1,-4,-2,-8,-4,-4,-2,-2,4,1,4,4,-4,-1,-4,2,2,-4,4,2,2]
[4,-2,-4,-4,1,-4,2,1,-4,-4,-1,2,4,-2,-2,4,2,4,-1,-2,-4,4,-4,2,1,4,2,-1,1,-1,-4,1,-1,2,2,-4,2,-4,2,-1,1,4,-1,2,-4,-2,4,4,-2,-1,-2,2,-2,-4,1,1,-2,2,4,-4,1,1,-2,-4,-4,-4,-4,-4,-2,4,4,-2,-1,4,2,-2,4,1,2,1,-4,4,-4,2,2,4,2,2,-2,1,2,4,-1,2,-1,-1,-1,1,-1,4,-2,-4,4,4,-4,-2,4,-2,-1,4,4,1,-4,2,4,2,2,-4,-4,1,-4,1,-1,-1,-4,-4,1,-1]
[-4,-4,4,1,-4,4,2,1,1,4,-4,4,4,-1,-4,1,-2,-4,-1,4,1,-1,-2,-4,-4,4,1,-4,-1,-4,2,-4,2,-1,-2,-2,2,2,4,4,-4,-4,4,-4,1,-2,1,-2,2,-2,-4,-2,4,-4,-2,2,4,-1,-2,1,-1,-4,-4,4,-4,1,-1,-1,-1,-1,-2,2,-2,-2,-1,1,1,4,2,-4,2,-1,1,4,-1,-1,-1,-1,2,-4,-1,-4,-1,-2,2,-1,-4,1,-1,-2,4,1,2,-2,-4,-4,-4,-4,-2,4,-2,4,-4,-1,2,2,-1,-1,2,1,-2,1,2,-4,-4,-4,1,-4]
[1,-2,-4,4,4,-4,-4,-2,-1,-1,1,2,-2,1,4,-1,2,8,1,2,1,-2,-4,-2,-4,2,2,4,-2,4,-4,4,4,2,-1,8,-4,-2,-4,4,-4,-4,-1,4,-2,1,-4,4,-2,1,4,4,-4,-2,4,4,-1,-1,-1,-2,2,-4,-2,-2,2,-4,-4,1,4,-2,-2,2,2,-1,-2,4,-1,-2,1,-1,-1,-4,1,-2,-4,4,1,4,-2,1,2,2,-1,-2,1,-2,-1,-1,4,-1,1,-2,-1,-2,-1,1,4,2,4,2,-4,-2,-4,8,-2,4,-1,2,1,-2,-4,-4,-4,1,-1,-4,-4,4]
[4,-4,-4,-2,-2,-2,-2,4,-1,-2,-2,-4,1,4,-1,1,4,-4,-2,1,4,4,1,4,-4,4,4,4,-1,-4,4,-2,1,-1,2,4,4,-1,-2,-2,2,-1,-2,4,2,-1,1,-4,4,4,1,4,-4,-2,-2,2,-1,4,-1,2,1,1,1,1,-1,4,4,-1,-4,-4,4,4,-4,-2,1,2,-1,2,2,-2,4,-1,1,2,-4,-1,2,-1,-1,-2,-4,-4,-2,4,2,2,4,-4,-2,4,-4,4,-2,1,4,-2,4,1,-2,1,4,4,2,-4,1,1,-1,-1,4,2,1,-2,4,-2,1,-1,-4,-2]
[2,-1,-4,-1,8,4,-2,2,-1,-4,1,1,-1,-2,-1,2,4,1,2,4,1,-4,-2,2,2,1,1,-1,-1,-1,4,-2,1,1,1,4,4,2,4,-1,1,4,4,-4,2,8,4,4,4,4,1,1,-2,2,-4,-2,-2,2,4,-2,2,4,-4,-4,-2,-1,-2,-1,-1,4,4,4,4,-2,-1,-4,-2,2,1,-4,-4,4,4,-4,1,1,-4,2,-4,-1,-4,2,-4,-4,-4,4,4,-4,-4,4,-4,4,-1,1,-1,-1,4,-4,1,-4,-4,1,-2,-2,4,1,-4,1,4,4,4,4,-2,4,-2,2,4,4]
[4,4,-1,-2,-4,-1,-4,1,1,-4,-1,4,4,-4,-4,4,2,2,4,4,-2,-2,1,-4,-1,-2,4,1,-1,-2,2,1,-4,-2,-2,1,4,-2,1,2,-1,-4,4,1,-2,1,2,-2,4,2,-4,-4,-2,-2,-4,2,-1,4,-4,2,4,-4,2,-2,1,2,-2,1,-4,2,-1,1,2,4,-1,1,1,2,-2,-4,4,-2,2,-4,-2,1,1,4,-4,-4,-2,1,-4,-4,-2,1,-1,2,-1,1,-1,-1,2,-1,4,-4,2,4,-4,-4,4,4,-4,-4,-1,-2,4,2,-2,-1,-2,2,-1,2,2,-2,1,4]
[4,-2,-2,1,2,-4,-1,1,-4,-2,8,-1,-4,2,-1,4,4,2,-1,4,4,-2,-4,-1,-4,-2,1,-2,-1,1,2,1,-2,-4,-1,4,-4,-2,-2,2,2,4,4,2,2,1,4,2,4,-2,4,1,4,-2,2,1,-4,4,-4,1,4,4,4,-2,1,2,-2,1,4,-2,1,-4,-1,2,4,1,2,1,-4,-4,1,4,-1,-2,-4,2,-4,-1,4,-4,4,2,1,1,-4,-4,4,-4,-2,-4,4,2,2,-2,-1,2,2,-2,4,1,8,1,4,-4,-4,-2,1,-4,1,-4,4,-1,-4,2,-4,-2,1,1]
[4,4,4,-2,-4,4,-4,1,-4,-2,-4,-1,-1,2,4,1,4,2,4,-2,-4,-4,1,-4,-4,4,-1,-2,2,4,-2,1,-1,4,-4,4,4,4,2,4,2,-2,-2,4,-2,2,4,4,4,1,4,-2,-4,-4,-1,-2,2,1,4,4,1,1,1,2,-2,8,2,4,2,4,1,2,-4,4,1,-4,4,1,-4,-1,2,-4,-4,4,-4,-4,-2,4,-1,2,-2,-4,2,-4,-2,4,-4,-4,4,-2,2,4,-2,4,-1,-4,8,-1,-4,-4,-4,4,4,4,4,4,-2,4,4,4,4,-1,-2,1,-4,-2,-2,4]
[-2,-2,-1,4,2,-1,2,-2,-1,2,-4,-4,2,-2,1,-1,2,-4,2,4,4,-4,2,4,-4,-4,-1,-4,1,4,-2,-4,-1,-1,-1,1,2,-2,4,-1,4,4,4,-4,1,-4,-4,-1,-2,1,8,1,1,1,-4,-1,-4,2,4,-1,-1,1,-1,4,2,-4,1,1,4,-2,4,4,1,-4,-2,4,4,-4,-4,2,4,-2,-4,-2,-4,4,4,-4,8,4,2,2,1,-2,-4,4,-2,-1,-4,-4,-1,4,1,-1,-2,4,4,1,4,-2,1,4,4,-2,2,1,-2,-4,-2,1,8,-4,-4,2,-2,-4,1,-2]
[-2,2,-2,-4,-1,-4,-4,-2,1,-1,4,-2,1,4,2,-4,4,-4,-2,2,-4,-4,-2,-4,4,-4,4,-4,-2,-4,-1,2,2,4,4,4,2,1,-4,4,-2,4,-4,4,-4,-4,4,-2,-2,-1,-2,1,-1,1,-1,4,-2,-4,1,-1,-4,-4,-1,4,-4,-4,-4,-2,-2,4,-4,1,-4,2,-1,4,-4,-2,-4,-2,4,2,1,4,4,-4,4,-2,-2,2,-2,-1,4,-2,2,1,-1,4,4,2,-1,-4,-1,-2,-4,4,4,4,-4,-1,-4,1,-1,1,-1,1,2,-2,2,-2,4,-4,4,-1,-2,1,-4,2]
[4,1,2,4,-2,-4,-2,4,-2,-2,2,-4,4,1,2,-2,4,-2,-4,4,-4,-4,4,4,2,-1,-4,4,-2,4,4,1,-4,-4,-4,1,-2,4,-2,1,4,-2,-1,-1,4,-4,-4,4,-1,-1,-4,-1,1,4,4,2,2,-2,-4,1,2,4,-4,-4,-4,-4,2,-4,-4,-4,-1,-2,-4,4,2,-4,-2,-4,1,-4,-2,-1,-4,-4,-4,-2,2,4,-1,-4,-4,4,-1,2,4,1,4,-2,4,4,4,2,4,-1,1,4,-4,2,-4,2,-4,-1,2,-4,2,2,-2,-4,4,1,2,-2,-2,-4,1,1,-1,-1]
[1,4,1,-4,4,8,1,-1,2,1,4,-2,-4,4,1,-4,2,-1,1,4,-1,-1,-4,2,4,-4,2,4,4,2,2,2,-4,2,-2,-4,1,1,-8,8,1,-2,-1,4,-4,-1,1,-1,-2,2,4,4,2,4,-2,1,-4,-4,-2,-2,4,-2,-4,-1,-4,2,-4,-1,4,4,-4,-4,-2,1,4,4,-4,4,4,-4,-4,-1,2,-4,1,4,4,1,4,1,4,-2,-1,2,1,1,2,-1,-1,-1,1,-1,4,-4,-4,-1,2,-4,-2,4,-2,-2,1,4,1,4,4,2,-1,-4,-4,-4,2,-4,4,4,2,-1]
[2,1,-4,-2,-4,8,-2,2,-2,-1,-2,-4,4,2,-1,-4,-4,4,1,4,-4,-2,-2,4,-2,-1,-2,2,-4,-2,4,-1,4,-2,8,-1,-4,4,-4,1,4,4,1,-4,2,-4,-1,1,-2,4,-4,4,2,-4,1,4,4,1,2,-2,4,-1,2,2,-1,-1,-2,-4,4,4,-1,2,-1,2,1,-1,1,-1,1,-2,4,1,-1,-2,-2,4,1,2,2,-2,-4,4,1,-1,4,-2,1,4,-2,4,2,1,1,4,2,2,-1,-2,-1,-4,-4,-1,4,-4,2,1,-4,-1,1,4,-4,-1,-4,-2,2,-2,4,-4]
[2,-1,-4,-2,4,2,4,1,-1,-4,-1,4,4,4,-4,-2,2,-4,4,8,2,-1,2,2,2,2,2,-4,1,4,4,-1,2,-2,1,8,-4,-1,2,2,2,4,2,-4,-1,4,-1,-1,4,1,4,4,1,8,-1,4,4,-4,1,1,-2,4,4,2,2,4,4,1,-4,-2,-4,4,4,-4,1,-4,-1,1,-1,1,-1,4,-1,-4,2,-1,-1,2,4,-4,-1,1,-2,1,1,-4,8,-2,-4,4,4,-1,-4,-1,-2,1,8,-1,4,-1,-4,4,-2,4,4,-4,4,-1,-1,4,2,-1,4,4,-2,-4,1,-2]
[8,-4,4,-1,-1,2,-2,-1,4,-1,-2,1,4,4,4,-2,2,4,-2,8,4,-4,-1,1,-4,8,2,-4,1,-1,-1,-2,2,-1,4,-2,1,1,4,-4,8,-1,4,-1,2,-1,-2,-4,8,1,4,-2,-1,4,-4,1,4,1,-1,4,-4,-4,2,-4,2,-4,-4,-4,8,4,4,-2,-2,-1,-2,-1,2,2,-2,2,-4,4,8,4,-1,1,2,2,-4,-4,4,-1,-1,-1,-1,4,2,-4,2,-2,8,-2,-2,-4,2,-4,8,-4,8,-4,1,-1,1,4,-1,1,4,-1,-2,-2,-1,1,-4,-1,4,-1,-1,8]
[4,4,4,1,1,2,4,-4,-1,2,4,4,-4,-4,2,-1,-4,4,4,4,-1,-2,4,2,4,2,1,-4,-4,-4,-2,4,-1,1,4,-1,-1,-2,1,4,-1,2,-4,1,4,1,-2,-4,-2,4,-4,4,1,4,1,4,4,-2,-1,-4,4,1,-1,4,-2,2,-1,-1,8,4,-2,1,-1,-4,-4,-2,-4,-4,4,1,2,1,4,8,2,1,1,1,4,4,-4,-2,-1,-1,4,1,8,4,4,-4,4,1,2,4,4,-1,-1,4,4,-2,8,-1,4,-1,-1,4,4,2,1,4,4,-2,-2,-4,4,-1,-4,4]
[-4,-4,-4,-2,4,1,4,2,-4,1,4,-2,4,-2,4,4,2,-4,-2,4,1,-4,-4,4,-2,-4,-1,-4,-1,-2,-2,1,-1,4,-2,-1,-4,-4,4,-2,4,-1,-4,4,-2,-4,4,-4,4,-4,2,-1,4,2,-2,-4,1,1,-1,1,-4,2,-4,-1,-4,1,-4,1,-4,-4,2,-2,-1,-1,-4,-2,4,1,-4,4,-1,1,-4,1,-1,2,8,4,-1,-1,-4,-2,-2,1,-4,-2,4,1,4,4,-4,1,-1,-4,-1,-4,2,-1,-4,-4,2,-4,-4,2,-4,-1,1,-2,-4,-4,-2,4,2,-2,2,4,-4,2]
[-4,2,4,-4,-2,2,1,-4,4,-1,-2,1,1,4,1,-1,-2,-4,4,2,4,-4,2,-4,-2,-4,-4,-1,-1,4,1,4,1,1,4,-2,-2,-2,4,-4,2,4,-4,-1,4,2,-4,2,4,-4,4,-1,4,-1,-4,4,1,-2,2,2,-1,2,-4,4,-2,-1,1,2,1,-4,1,2,-4,4,-1,-4,-2,1,-1,1,1,2,-4,1,4,-4,-4,-1,-4,2,-1,-4,1,2,-2,-1,1,-4,2,-2,-4,2,-4,4,-2,2,-4,4,-4,-1,4,-1,4,-4,-4,-4,-4,1,4,2,2,4,-4,4,-2,-4,4,-2]
[4,4,-1,4,8,-1,4,4,-2,-2,-4,4,-1,2,4,1,4,2,-4,2,-1,1,1,1,4,1,-4,-2,-4,1,-4,-1,-2,-4,2,-1,2,4,-1,4,2,-2,-4,-4,-1,-4,-2,2,-1,2,1,-1,-1,4,4,-4,1,4,1,4,-2,4,1,2,-1,4,2,-4,-4,4,2,-1,-2,1,1,1,2,4,2,-2,1,4,4,-2,4,-4,2,2,-1,-4,4,-4,4,-1,-2,-1,4,-1,4,4,-4,2,-4,-4,-4,-4,2,-4,-4,-1,2,4,1,4,-4,-1,4,1,2,2,4,2,4,1,1,2,-1,-4]
[4,-1,4,-4,-4,-4,-1,-4,4,2,-4,-4,1,-4,1,-4,2,1,2,-4,2,4,-4,4,-4,-4,-4,-4,2,-4,-1,2,1,2,1,1,2,-4,-2,1,-4,4,4,2,4,-4,-2,-1,1,-4,4,-4,2,4,2,4,-4,2,1,1,-1,-1,-2,1,-2,-4,-1,4,-2,-4,-4,-4,-2,1,-1,-2,1,4,-1,2,4,1,-1,-4,-1,4,4,4,4,1,4,-4,-1,-1,-2,1,-1,-4,-4,4,4,4,1,-1,2,4,4,1,-2,4,-4,-2,4,-4,-4,4,-1,-1,-4,2,-1,-4,4,4,4,2,-4,-2]
[-2,4,-2,1,2,4,4,-4,2,-2,8,-2,1,4,-4,-4,4,2,-4,-4,-1,4,-1,-4,2,1,-1,2,-2,-1,-2,4,-2,-4,1,-2,-4,2,-2,4,4,-4,-1,-4,4,-4,2,4,4,2,2,4,4,2,4,4,4,4,4,-1,-2,1,-4,-1,2,1,-4,1,1,-2,4,-2,-4,-4,2,1,2,-4,-4,2,2,1,4,8,4,-1,4,-2,-1,-4,1,1,-2,-4,1,4,1,2,-4,-1,1,1,4,-4,-1,1,1,-1,2,-2,-4,1,4,-2,-2,-1,-4,-4,4,-2,2,-4,-4,4,1,4,2,-1]
[-4,2,2,4,-1,4,-2,-2,4,1,4,-4,-2,2,-1,-4,2,1,-2,2,1,1,4,-2,2,2,-2,4,-2,4,-1,4,-4,1,2,2,2,-1,1,-1,-4,-2,-1,-2,-1,4,2,-4,4,-1,2,4,4,2,-2,4,-1,-1,4,-1,-4,1,-1,4,-4,4,1,-1,4,4,-1,4,4,4,4,4,1,4,-1,4,-4,-4,-1,-1,-1,4,4,1,4,4,-2,-4,1,1,-1,2,-1,-2,4,2,-1,4,4,4,-4,-2,-2,-1,4,4,1,1,4,4,-2,1,-4,1,-4,-1,4,-1,-2,2,4,-1,4,-2]
[-4,-4,2,2,-2,-4,4,4,-4,-4,4,4,1,2,-2,4,2,-1,4,-4,1,-4,-1,-1,-4,1,4,-2,-4,4,-1,-4,4,2,-1,8,1,1,-4,-4,-4,8,-2,-1,-2,4,4,4,1,-1,2,8,-4,1,-1,-2,-4,2,-1,4,1,1,-4,-2,4,4,1,-2,4,2,-1,2,2,4,-1,1,2,-1,-4,-4,-2,-4,2,4,-2,1,-4,4,-2,8,2,-1,-1,-1,4,-1,-4,4,4,-4,-4,-2,4,-4,4,-1,-4,4,-4,-2,-2,1,4,4,4,-1,-2,-1,-1,-2,4,-2,-1,4,-1,4,-1,4]
[-2,-4,-4,-1,-1,2,2,4,1,4,-4,2,-4,-2,-1,1,4,-4,2,-4,-4,-1,-1,-4,4,4,-2,1,2,2,1,-2,1,-4,-4,-4,1,4,-1,4,1,-1,-1,2,4,-2,-2,-1,4,-4,-4,-4,4,2,2,-4,4,-1,2,-2,-1,1,4,4,2,-2,-2,-2,2,-2,1,-4,1,-2,2,4,-4,1,2,4,-2,-4,4,-1,-2,-2,4,1,1,-1,1,-1,-4,-4,1,-4,-4,4,4,-2,2,-2,4,-2,-2,4,-1,-4,4,-2,4,-1,4,-2,-4,-4,2,-1,1,4,1,4,-4,-1,-4,2,4,-4]
[4,-4,-4,2,-2,-2,2,4,2,-1,1,-2,-2,-2,2,4,-2,4,-2,-1,1,-1,4,-4,1,4,2,-4,-4,-2,-4,-4,-4,4,-2,2,-2,4,4,-1,4,-4,4,-4,-1,4,-1,4,-4,-4,-4,-2,4,2,4,2,2,4,-1,1,-2,4,1,2,2,4,4,-2,4,-4,4,-1,-4,4,-2,-1,4,-1,4,4,-4,1,-2,-4,-4,2,-4,4,-4,-4,1,-1,-4,-2,-1,1,1,-1,-4,4,2,-4,-4,4,4,-2,4,-2,1,4,-1,-1,-4,1,-1,-2,-4,1,-4,2,2,4,1,2,-1,-1,-1,-1]
[4,2,-4,2,-2,-1,-4,-4,1,1,4,4,-1,2,1,4,-1,8,2,1,4,-1,4,1,2,2,-4,-4,-4,1,4,1,4,4,2,1,4,-4,-2,-4,4,1,4,-1,4,4,-4,2,-1,4,1,4,4,-4,2,4,-2,1,1,4,1,-2,4,2,1,8,2,4,-2,-4,-4,-4,-1,2,1,-4,2,-2,-1,1,-1,1,4,4,-2,-4,-4,-4,4,-4,-2,-4,4,-2,-1,-2,-4,-1,-2,-4,-1,-4,-4,-4,1,2,4,-2,4,-4,2,4,-4,4,-1,-4,2,-2,-2,4,2,-1,1,2,1,-4,-1,4]
[-1,4,2,-2,2,1,-1,4,-4,-1,4,-4,-4,-4,-4,1,-2,2,1,1,-1,-2,-1,4,4,-4,-1,2,-4,-2,2,-2,-1,2,4,-2,4,-1,-1,-1,-1,4,-2,-2,1,-1,-1,1,-1,4,2,-4,4,-4,2,-4,4,4,1,-4,-2,4,-1,-1,2,-1,-1,-4,1,-4,4,1,4,-4,4,-4,1,4,2,2,4,-1,1,-2,4,4,4,2,4,-4,4,-1,4,4,1,-2,-4,4,1,4,2,4,2,1,-1,-1,1,2,1,1,1,4,-1,-2,2,2,2,4,2,-2,-1,-2,-1,2,-4,4,-1,2]
[-1,-2,4,1,-2,1,4,-4,-4,-1,4,-2,2,-1,4,2,-4,4,-4,-4,1,2,4,2,-4,2,-2,-4,1,2,1,4,1,1,-4,1,-4,-2,-1,1,4,-4,-2,-1,-1,-2,4,4,4,1,1,1,1,4,4,2,4,-4,1,2,4,-4,-4,4,2,-4,4,-2,4,4,2,4,4,-4,-4,-4,-1,2,2,1,-4,-2,1,-4,4,-2,1,-1,4,-2,2,2,2,4,4,-1,-4,-4,-4,-2,2,2,-2,4,-1,-4,4,-2,-1,-4,-2,4,1,-4,-4,1,-1,-2,2,1,4,4,4,4,-2,2,-4,-4]
[-4,4,-1,4,4,4,-4,4,1,-2,-1,1,1,2,4,4,-4,2,4,-1,4,-1,1,-1,-4,-1,4,4,-4,-1,-4,1,-4,1,1,1,2,-2,-4,4,-1,-1,-1,1,-4,-4,-4,1,4,-4,1,2,4,-2,4,-4,-4,-4,2,4,-1,-2,-2,4,-4,-4,1,4,4,2,2,4,-1,-4,4,4,4,4,-2,1,-4,-2,-2,4,-2,-2,-4,-4,1,2,-4,-4,-2,-4,-1,1,2,-1,-2,4,1,4,-1,4,2,-4,1,4,-1,4,-1,4,-4,1,-4,1,2,4,1,-4,-4,2,4,-2,-4,-1,-4,-2]
[-4,-1,4,4,4,4,1,-4,4,1,1,2,4,-1,-4,-1,4,-1,-2,8,2,4,1,4,4,-4,1,4,4,-1,-1,2,4,-1,8,4,4,4,1,-4,2,4,4,-4,-2,-1,-2,4,-4,-1,1,4,4,8,2,-4,4,-2,-4,-2,-2,-4,2,-4,-2,-2,2,4,-8,-2,-1,-4,2,4,4,-1,1,4,4,-4,2,4,1,-2,-4,1,4,1,-1,1,-2,-2,1,2,4,2,2,4,-2,-4,-1,2,-4,-4,-4,4,4,-2,8,-4,4,-4,-4,4,1,-2,-4,2,1,4,4,4,8,-2,1,1,2,-1]
[2,-4,-2,8,1,4,-8,1,2,-2,4,2,2,-2,-4,-2,2,1,-1,4,-1,-2,1,-4,8,2,2,-1,4,-4,1,4,2,-2,-4,1,-1,-2,-1,1,1,4,4,-1,4,4,2,1,1,-2,-4,8,-1,-8,-2,2,4,1,4,-1,4,2,4,-2,-4,-1,4,-1,4,-1,8,2,1,1,-2,-4,2,-2,4,4,-1,4,1,4,4,-1,4,4,-4,4,-4,1,-1,4,4,2,-1,1,-4,-1,1,4,-2,4,-4,4,4,1,-4,-2,-4,4,4,1,4,-1,-1,2,2,-4,4,-4,-1,-2,-4,4,4,-4]
[-2,4,4,-4,4,2,2,-2,4,-2,1,4,-1,-1,2,2,-2,-1,1,-4,4,-4,2,-4,-4,2,-2,4,4,2,4,-2,2,1,4,-4,4,-1,4,-1,4,4,1,-4,4,1,-2,2,1,-4,-4,-4,4,2,-2,-4,2,2,4,-2,4,2,1,-1,-4,-1,1,1,1,-4,4,-2,4,-2,4,1,-1,2,-4,2,4,4,-2,-1,-4,-2,-2,1,4,-4,2,-4,2,2,1,4,-4,-4,-1,2,-4,-1,-4,4,-4,-2,-1,4,-2,2,-2,4,-1,4,-1,-4,2,-2,-4,-2,-2,2,4,4,-2,2,-4,4]
[-1,-4,-2,-2,4,4,-4,4,4,4,-1,4,-1,4,2,4,1,2,-4,4,4,2,2,-1,1,2,4,-4,2,-2,-1,-2,-1,-1,-4,-1,2,4,2,2,-4,2,-4,4,-2,4,-4,4,-1,-2,1,4,-1,2,2,-4,1,-4,-4,-2,-2,1,2,4,-4,-1,4,2,-4,-2,-4,-1,-1,-4,-1,-1,2,1,1,-2,-4,-2,-1,4,-4,-4,2,4,-4,4,1,-2,-4,4,-1,-2,4,2,-1,-4,-2,-1,4,2,4,1,1,-4,-4,1,4,-4,4,-4,-4,-1,-1,-4,4,-4,-4,4,-4,1,4,-1,-2,4]
[4,1,-2,2,-4,2,-1,-1,4,-1,4,1,-4,-1,-1,1,-1,-4,1,4,4,-2,2,-2,2,-1,-1,-1,-1,1,1,2,-1,2,-2,-4,1,4,1,4,4,1,-1,-4,-1,-4,2,-4,-2,1,4,-4,-4,4,-4,-4,-4,1,2,-4,4,8,-4,1,-1,2,2,-4,-4,4,1,-2,-1,-4,-1,4,2,-2,4,-4,-2,4,-4,-2,-4,4,4,-1,4,2,2,2,2,-2,-4,-4,8,-1,-1,-1,-2,-4,-2,-1,-2,-2,4,-1,-1,-4,4,-1,-1,2,-2,-4,4,1,-2,-4,4,4,-2,-1,2,4,1,-2]
[-4,4,-4,-2,4,4,4,4,2,-4,8,-1,4,1,-4,-4,4,4,2,-1,4,-4,-4,-1,4,1,4,4,4,4,2,-4,1,-4,1,1,-4,4,-4,4,-1,-4,-4,1,-4,1,4,-1,-1,2,4,-4,-1,4,1,-2,4,4,1,1,-1,-2,4,-4,-4,4,1,4,4,-2,-4,-4,-1,-2,-1,4,-2,1,1,4,-2,-4,4,1,-1,-2,-1,-2,1,4,-4,4,-1,4,4,-1,-4,-2,-2,4,4,4,-4,-4,1,4,4,4,4,-1,4,4,2,-4,4,-1,-2,4,-4,-4,4,-1,-2,-4,4,-2,4,1]
[-4,4,4,-2,4,-1,-2,-1,4,4,4,-2,4,-2,1,1,1,-2,4,-4,-2,1,1,2,-4,-1,4,-4,2,-4,-2,1,1,4,-1,4,2,2,-1,4,-4,4,2,-2,-4,4,-4,4,4,4,2,-2,-4,2,-2,4,1,-2,-4,-4,4,-1,-4,1,2,2,4,-4,4,4,-4,-4,4,1,4,2,-4,4,4,-4,1,4,4,-4,-4,-4,-4,-4,-4,1,1,1,-2,-2,-2,-4,-4,-4,2,1,-4,2,-4,-2,-2,-1,2,-2,4,-4,2,-4,4,2,-4,2,-1,-1,-1,-1,-4,4,1,2,-2,4,-4,4]
[-2,2,4,-2,2,1,-4,2,2,-1,-1,-1,-1,-2,-1,-2,-4,4,4,-2,2,1,1,-4,2,1,4,-4,-4,-2,1,-1,2,2,-4,4,4,1,4,4,1,-2,4,4,1,-1,-2,1,-2,-4,1,-1,4,1,-1,-1,-1,-4,2,-1,-4,-4,4,-1,-4,1,-4,-4,1,2,4,4,-4,-2,4,4,-4,-4,-1,-4,-1,1,-4,-4,2,-2,-4,-2,-4,1,-2,2,-4,2,-2,4,4,1,4,1,-4,-4,2,4,2,2,4,-2,4,1,4,4,-2,-2,4,1,-2,1,2,2,-2,1,-2,-1,4,4,2,1]
[-1,-2,-2,4,-4,-4,4,2,-1,-1,-1,1,-4,-2,2,-1,4,4,-4,4,-4,4,-4,4,4,-4,-4,-4,4,-2,-4,-4,-4,-2,1,4,1,2,4,2,4,2,-2,2,-1,4,-1,-1,-1,1,-2,-2,1,-2,-4,4,-4,4,-4,-2,-4,2,4,-2,4,2,-1,-4,-2,2,-4,-4,-1,4,2,-1,2,-1,1,-2,4,-1,2,4,4,-4,4,-1,-1,2,-1,-1,-1,2,1,-2,4,-1,2,-1,-4,-4,-1,-4,1,1,1,4,4,2,4,-2,2,4,-4,-1,2,2,-4,4,-1,4,-1,-1,1,-2,4,4]
[1,-2,-1,-4,-4,2,1,-1,-2,-4,-4,1,-2,4,-4,4,-4,-4,4,1,-2,4,4,-1,-2,-1,-4,4,-2,1,4,-1,4,4,4,-1,-4,4,-4,-1,-2,4,1,-4,4,4,-1,-4,-4,1,-4,-1,-2,4,4,2,-1,-1,1,4,1,4,-2,1,4,-4,2,-4,1,2,2,-2,1,2,4,4,1,4,-4,1,2,2,-2,-1,2,4,4,-1,4,4,4,-4,-4,4,-4,4,-4,8,2,2,-2,2,-4,-4,4,4,-1,2,-4,1,1,4,4,-4,2,4,-4,2,-2,1,-2,-1,1,2,4,-1,2,4]
[4,4,4,1,-4,-4,-2,1,4,1,4,1,-4,4,1,-4,-4,-4,1,4,4,-4,1,-4,4,1,2,-1,-4,1,-4,2,-4,-1,-1,1,-4,-1,-1,4,-4,1,1,-2,4,4,-4,2,-2,4,4,2,4,-1,4,4,2,4,2,2,-4,-4,4,1,4,1,-4,4,1,2,4,4,-4,4,-1,4,4,-4,1,4,1,-1,4,-4,2,4,4,2,-4,-4,1,-4,4,-1,4,1,-4,-1,1,-4,2,1,-4,4,1,-2,4,4,2,-4,2,4,-2,-4,1,1,2,4,1,-1,-1,2,-2,-1,2,1,2,-4]
[4,2,1,-2,4,-4,1,-4,4,2,-2,-1,-2,-2,4,-4,-4,2,4,2,4,2,4,-1,1,-2,-1,4,-2,-4,2,2,4,4,4,-4,-1,2,-2,-1,-4,-1,1,-2,-2,4,1,-4,-1,-4,-1,2,-1,4,4,-2,-2,-4,4,4,1,4,-1,-4,2,1,-1,-2,-1,-2,-4,-4,4,-4,4,-2,-1,4,-2,-4,-4,-4,-4,4,-2,-1,4,1,2,4,1,-1,1,-1,-4,-4,-4,1,-4,4,-4,4,-4,-4,2,4,2,4,-1,2,-4,4,2,2,-2,4,-4,4,4,1,4,4,2,4,-2,2,-2,-4]
[2,4,4,4,1,4,2,2,4,2,-4,-1,-2,-4,2,4,-4,4,1,2,-2,4,-4,1,-4,4,-4,4,4,4,-4,-4,2,2,-4,2,1,4,4,1,-4,4,2,-4,4,-2,-2,-1,-4,1,-4,4,4,4,1,-2,-4,-1,2,1,4,-2,-4,1,-2,2,-4,-4,-4,2,4,4,-4,1,1,4,1,4,-4,-1,-1,-2,-4,4,2,1,-1,4,-4,4,-2,-2,-1,4,-2,4,-4,-2,1,-2,2,-4,-4,4,2,4,4,2,-2,-4,-1,4,-4,1,2,-2,2,1,-4,-2,4,-1,-4,-4,-1,-2,-4,-4]
[-2,2,-2,-4,-2,-4,-4,2,-1,1,-4,-4,-2,-4,4,1,2,-4,1,1,1,-4,-1,-4,4,4,4,2,-1,-4,4,-1,2,4,-4,-4,1,-4,-2,4,1,2,2,4,-2,-1,1,-4,1,-2,1,-4,-4,2,-2,2,-4,-4,1,-1,-1,-2,4,4,-1,-4,-1,2,-4,-1,1,2,-2,-1,1,2,2,4,-2,-2,2,4,2,-2,1,-1,4,4,-2,4,-4,1,-2,4,-2,4,-4,-2,-4,4,4,-4,-1,4,2,4,-1,-4,-4,-4,-2,-2,4,2,2,4,4,-4,4,2,-1,-4,-1,-2,2,2,-2,-2]
[-1,-2,-2,-4,-4,-4,2,-1,-4,1,1,4,-4,4,-2,1,-4,4,-4,-1,4,2,4,-1,1,-4,-4,4,-4,1,2,4,-4,1,1,-4,4,2,1,2,2,-1,2,-4,-4,-4,1,-4,-1,-2,-1,-4,-1,-1,-4,2,-2,2,-1,1,-4,-1,-4,-1,-2,2,2,4,-1,-4,-4,-4,2,4,-2,1,4,-1,-1,-2,-4,4,-4,-1,4,4,1,2,-1,-4,-4,-1,1,-2,2,1,-4,4,1,4,-4,-1,-1,-4,-1,2,4,-4,4,4,-1,-2,4,-1,-4,-4,2,4,-4,1,4,2,4,2,4,1,4,-2]
[4,-1,4,-2,-2,-2,4,-1,-1,4,4,1,-4,-2,-4,1,1,1,1,8,-4,4,4,-1,4,1,2,4,-2,1,-1,-2,-2,-2,-4,1,4,2,2,4,4,4,-2,2,2,4,2,-4,2,4,-1,1,-4,-2,1,4,-4,1,1,1,1,-4,-4,4,-4,4,1,1,4,-4,4,-4,2,-1,-4,-2,-2,2,1,2,1,4,4,1,-4,4,-2,1,-4,2,-2,-2,-1,1,4,4,4,4,-1,-2,2,2,-4,-4,-1,4,-4,-4,1,1,4,2,4,-2,4,-4,4,1,2,4,4,4,4,-2,-1,1,2,-2]
[-1,2,-1,-1,1,-4,4,-1,4,4,-2,-2,-1,-2,-4,-1,1,4,-4,4,-4,-2,4,1,-2,4,-2,2,2,-2,-2,4,1,4,-2,2,-1,-1,-4,-4,-4,2,-4,1,-2,4,-1,2,-4,2,1,4,4,-4,1,4,-1,2,2,-1,-2,1,4,-4,4,4,-4,-4,-4,-4,4,-1,-4,-2,-1,-4,-4,4,-4,-4,-1,-4,2,1,-1,2,-4,-1,1,-2,1,4,4,-1,-2,1,2,-4,-1,4,1,2,4,2,-4,-1,-1,-4,4,2,1,4,1,4,-1,1,4,4,-2,2,4,-4,4,-2,-4,4,4,-4]
[-2,4,-2,-4,4,2,-2,-1,-4,1,1,-1,-2,2,-4,1,4,4,-1,4,-1,-1,-1,-4,4,-4,2,-4,4,-4,1,4,-2,2,-1,2,2,2,4,-1,2,-2,1,-1,-4,1,-4,4,-4,-1,-2,-1,1,-4,-2,-4,2,4,1,-1,-1,-2,4,4,4,4,1,-4,-4,-2,-1,2,2,4,-2,4,4,-2,-4,-4,-4,2,-4,-4,-4,-4,4,-4,1,1,-4,-2,-4,-2,-2,1,2,1,1,-4,-4,-1,-4,-2,-1,1,2,4,2,2,2,-2,-2,-4,-4,2,-4,-4,-1,-1,4,-1,1,4,4,4,2,-1]
[4,-2,2,4,1,-4,-2,-2,4,-1,1,-2,4,-4,-1,1,4,2,1,4,4,-2,2,-2,-1,4,1,-2,2,1,-4,-2,2,4,2,4,-1,2,-1,-1,4,-2,4,-4,4,-1,-4,-4,2,4,2,-4,-2,2,4,1,-2,-2,2,-1,1,-1,-4,4,-4,-2,-1,-2,1,4,4,-1,2,4,4,-2,4,-1,-4,-2,2,-2,2,4,2,2,-4,-2,4,-2,2,2,-2,-2,-2,2,-4,-4,-4,-4,-2,-1,4,-4,1,-1,-1,-1,4,4,-4,-2,-2,4,-2,-2,-4,2,-2,-2,1,1,-2,4,2,-4,-4,-1]
[2,-1,4,-4,2,1,2,1,-2,-4,-1,4,-4,4,-4,-4,2,4,-4,2,-4,4,4,2,4,2,-4,1,-2,-1,-1,-2,-4,4,-1,2,-2,4,-1,-2,-1,-2,-1,1,-4,-4,-1,-2,-4,4,4,-2,4,2,-1,-4,-1,2,1,-1,1,-2,-1,2,1,-2,1,-1,-2,4,-4,4,-4,4,2,1,-1,4,2,-4,-1,-1,-1,-4,-4,-4,-2,-2,1,4,-4,2,2,-4,-4,1,-4,-4,2,4,2,1,-4,4,-2,-1,4,-4,-4,1,-1,4,-4,-4,-4,1,2,-2,1,2,-1,1,2,-2,-1,4,-4,-1]
[1,-1,-4,-2,-4,4,-4,-2,2,4,-2,-1,-1,-2,4,-2,-1,1,-2,-2,1,2,-1,4,4,4,-1,-4,-1,4,4,4,4,4,2,4,-4,-4,2,-1,-2,4,4,-1,4,-1,-4,-4,-4,2,-1,2,-1,4,2,1,4,1,1,-4,-2,-1,4,2,-4,2,4,1,4,4,1,-4,4,-4,-1,-4,4,-4,-1,-4,4,-4,4,-4,-4,-1,-4,-1,-1,1,-2,2,-2,-4,-1,4,1,-2,2,2,-2,4,-4,4,2,-1,2,1,-1,1,2,-1,-2,4,1,-1,-1,1,2,-4,-4,4,-4,-4,-2,-4,-2,-4]
[-4,-4,-4,-1,-2,-2,2,4,-2,1,-1,-2,4,4,1,-1,-2,8,-4,4,2,1,-4,-4,-4,4,-2,4,1,-1,-4,-4,-4,2,4,4,-2,2,4,4,4,-1,-1,-2,-4,4,4,-4,4,-2,2,2,1,-1,-4,-1,-4,-1,-2,-2,4,-2,-4,1,-4,-4,-4,-4,2,4,4,1,-4,4,1,-4,4,1,-4,1,8,-1,-1,4,4,2,4,4,-4,-2,4,-4,2,4,1,4,4,4,1,1,-2,-4,2,-4,2,4,8,4,2,4,-4,-4,-1,-2,2,-1,2,2,2,2,-1,-4,4,2,-4,-2,-1,1]
[-1,-2,4,4,4,-2,4,2,2,-2,-2,4,-4,4,2,-2,4,4,-2,4,-4,2,1,1,2,-4,-2,2,4,-2,1,4,2,-1,-2,-4,-4,-4,-4,2,4,4,-1,-1,1,4,-4,-2,-2,4,8,-1,2,-2,2,-4,4,-1,-1,1,4,1,4,-4,4,4,-4,1,-1,-4,2,4,-1,1,4,-1,-2,2,1,2,1,-1,-2,-4,2,4,4,2,2,-1,-1,-4,-2,1,-1,-4,-1,4,2,2,4,-4,2,-4,-4,2,-4,-2,-4,2,4,4,-2,2,-4,1,1,2,-4,-4,-4,-4,-2,-4,-1,4,-4,1]
[8,4,-1,-1,1,-2,-4,1,2,4,8,-4,4,-4,-1,4,4,1,-2,-4,4,-2,2,4,1,4,-2,-8,-2,1,-1,4,8,1,4,-8,4,-4,8,-4,4,-2,-2,4,1,-4,1,2,1,-2,-1,4,8,4,4,-1,-1,1,8,1,2,-1,1,-4,1,4,2,4,-2,-4,-4,-1,-1,4,-2,-2,1,-4,4,2,-1,4,1,8,-1,4,8,-2,4,-4,1,4,2,4,-2,8,2,8,1,8,2,8,-1,-4,1,8,2,1,4,-1,-2,4,4,1,4,4,-4,1,1,2,4,1,2,-4,1,-4,-4,1]
[1,1,-2,1,-1,-4,4,4,2,-4,2,1,4,1,2,-2,-1,-4,-4,-2,1,2,-4,-2,4,-2,1,1,4,2,-1,-1,-4,-4,-4,4,-4,-1,4,2,1,-4,-4,-1,-4,-2,4,1,-1,4,2,2,1,-1,4,4,4,2,-1,1,-1,2,4,4,4,1,2,1,4,-2,-4,-1,-2,-4,4,-4,-4,-4,4,-1,-4,-4,-2,-4,4,-1,-4,-2,-1,2,1,1,2,2,-2,-1,4,-1,-4,1,-1,-2,-2,-4,2,-2,4,2,-4,-4,2,2,4,-1,4,-4,-4,2,-2,-1,-4,-4,1,-2,-2,-1,2,2]
[-1,-4,2,-1,-1,-1,-4,-4,2,2,-2,-4,4,-4,4,-4,-1,-1,1,4,-4,1,4,-4,2,-1,-4,4,1,-1,-4,-4,-4,2,4,4,2,2,4,-4,-2,4,1,-2,1,-4,4,1,2,-2,-2,-4,4,-1,4,1,-4,-4,-4,4,2,-1,-4,-1,-1,-2,-4,-4,4,1,-2,1,-2,2,4,-4,-1,1,1,4,-2,2,4,-2,-4,4,-4,-4,-4,-2,4,-4,-1,-4,4,-2,4,-4,-4,2,-1,1,2,1,-1,-2,2,-4,4,4,-1,-2,-4,-4,4,-4,2,-4,-1,-2,2,2,-4,-4,-1,-4,-4,-2]
[2,2,-1,4,1,-1,-4,-1,4,2,-2,-2,4,-1,-4,-4,-1,4,-2,8,1,1,-2,2,-4,-2,1,2,-1,4,4,2,-1,1,4,1,-2,1,4,2,8,-4,-4,-4,-2,1,-2,4,-2,-4,1,-4,-1,-1,4,4,1,-2,-4,-4,2,4,-4,-4,2,2,-4,-4,1,2,1,1,4,4,1,-1,2,2,2,-2,2,4,-1,2,4,-4,8,4,2,1,2,4,4,-4,-1,4,-2,-2,-4,4,2,-1,4,2,-1,4,-4,4,-2,-2,1,-4,-1,4,4,-4,8,-1,2,4,4,2,2,-4,4,-4,-4,4]
[-4,2,-1,2,4,2,-2,2,-1,-2,-4,-4,2,4,4,2,1,-4,-2,1,-1,-4,2,2,2,-4,4,-4,-2,-4,-4,4,2,4,-4,-2,-2,-4,-1,-1,-2,-4,1,2,1,1,-2,2,2,2,4,1,-1,-2,-1,-2,4,-4,-4,4,1,4,4,-4,2,-1,4,2,2,2,1,-4,-2,-1,-1,2,-2,4,1,-1,4,1,-2,2,4,-4,1,4,4,1,-4,-4,4,4,-4,1,4,-2,2,-4,1,-2,4,-2,2,-2,4,-1,-4,-2,4,1,2,4,-4,-1,1,-1,-4,2,-2,-4,4,2,2,-4,4,2]
[4,-4,1,-4,2,-2,1,-1,-2,4,8,-2,-1,-2,-1,1,-1,-4,2,-1,8,1,4,-4,-1,-1,-1,4,4,2,4,4,1,2,2,-4,-4,-1,1,-1,4,-4,-4,-4,4,-2,-2,-1,4,2,4,1,8,-2,2,2,-4,-1,1,1,-1,-2,2,2,2,4,-1,-4,-4,4,-1,-4,-2,1,-4,1,-2,4,4,8,1,1,2,2,4,-4,1,-2,4,4,-1,4,-1,4,-4,4,4,8,-4,-2,4,-2,1,-4,-2,1,-8,-2,8,4,1,1,4,-4,2,2,4,-4,4,4,-2,4,1,-1,-2,-2,-1,4]
[4,4,4,1,4,4,-1,4,4,1,-4,2,-2,-2,4,-1,4,1,-2,-2,2,4,4,1,-2,4,1,1,-2,4,-4,2,-1,-4,2,4,4,-2,2,4,-1,-2,-4,1,1,-4,1,-1,-2,2,-4,2,-2,2,2,4,-1,4,-1,-2,2,-1,4,-2,-1,-2,2,-1,4,-1,-4,-4,-4,-1,-2,-2,-2,-1,-1,-4,-1,2,-4,-2,1,1,-4,4,-2,-1,2,4,-1,2,-4,-4,-4,-4,-4,2,2,-4,2,-4,4,1,-4,-4,4,4,2,2,-4,-2,-1,4,-2,2,-2,1,-2,4,-4,-4,4,2,-4,2]
[4,-4,-4,-2,-1,1,4,4,-4,-2,-4,4,2,4,-4,-2,1,1,4,4,4,4,-1,4,-4,4,-1,-4,4,-4,-4,-2,-4,4,4,2,4,4,-2,2,2,-2,4,4,-2,4,-4,-1,4,4,4,-4,4,1,-1,-1,-4,2,-1,4,2,1,-4,2,-2,2,-1,1,-4,8,-1,2,-4,-4,1,4,-4,-2,4,-2,4,-4,2,-1,2,-2,1,-4,-2,1,-2,4,-4,-4,-1,4,2,2,1,1,-2,-4,-1,1,1,2,-4,-4,4,4,4,4,2,8,4,-4,1,-4,-4,4,1,2,1,2,-4,2,-4,4]
[-4,2,-2,1,-4,4,-4,1,4,1,-2,-1,-1,1,2,1,4,-4,-1,2,2,4,2,-2,-4,4,-2,4,-4,-1,4,1,-1,-2,-4,2,-1,-4,2,-4,-4,-4,-4,-1,2,1,1,1,2,-2,1,-1,-2,4,-1,1,-4,2,-2,4,-2,-4,4,1,-4,-4,4,1,-2,-4,2,4,4,-2,1,-2,4,-4,-1,-4,-2,-2,4,-4,-4,-2,2,1,4,2,4,4,-4,-1,1,4,-1,-4,1,-2,4,4,2,-1,2,-4,-4,-4,-1,-4,4,4,4,-4,4,2,4,-2,-4,1,1,4,2,1,2,4,4,-1]

{"sheet":"im2colAll_exW7","index":1,"n_rows":9,"n_cols":128,"rows_kept":9,"cut":false,"hidden":false,"merged":[]}
[-303,370,-309,392,1391,824,1867,123,109,-463,629,499,828,811,-53,-121,716,415,-360,1313,927,-496,211,-213,890,502,441,1044,372,-338,471,166,-442,783,936,582,22,-4,481,337,1652,681,-42,-907,-420,751,42,-465,-95,170,1195,70,1669,2014,-526,224,631,392,191,93,1452,877,-150,-143,-1,119,-774,-433,-568,-34,104,178,-191,567,189,1462,360,172,-640,765,965,1660,-279,457,336,-346,1608,-115,1451,466,-319,279,-283,351,-575,1347,1890,1681,-816,125,-13,638,-121,-265,396,1849,707,-212,1085,-88,688,233,80,-288,148,-364,424,-145,438,16,487,-113,1263,-89,808,410,-292,295]
[-323,514,-364,226,1566,721,1545,178,170,-648,551,533,1094,855,-121,-71,944,808,-480,1323,1042,-509,383,-153,854,921,403,1248,210,-511,625,203,-387,842,784,865,58,183,332,234,1377,952,237,-907,-539,693,-86,-556,-191,496,728,814,1652,1589,-406,-8,394,645,832,29,1156,266,-130,-317,-161,118,-957,-451,-531,130,67,237,-305,774,524,1336,548,483,-732,623,973,1424,166,528,581,-475,1721,42,1047,873,-368,355,1,525,-403,1619,1670,2082,-866,221,-162,521,-320,-509,228,2150,1089,-90,903,-47,276,413,793,-141,523,-174,322,-30,375,199,413,-351,1601,-15,692,506,-353,-27]
[-357,391,-90,300,1380,644,1709,308,89,-396,703,454,907,910,-144,129,889,572,-552,1200,936,-392,476,-152,599,516,577,820,254,-500,705,334,-80,797,879,570,-98,117,399,-249,1414,900,-11,-768,-443,699,-117,-379,-231,289,1142,375,1565,1701,-292,-163,916,267,566,133,1423,610,-280,-585,237,283,-648,-260,-386,-75,27,-211,-269,886,424,1198,374,374,-479,433,973,1267,17,603,413,-185,1787,176,993,707,-242,255,209,405,-378,1238,1247,2151,-626,258,-172,526,-265,-660,122,2139,1009,-46,982,-7,288,402,280,-48,175,44,92,210,256,207,207,-284,1595,-35,653,533,-223,312]
[-477,12,-279,444,1189,761,2106,720,123,-584,466,129,372,1127,-94,-8,575,377,-325,1068,785,-208,282,-406,890,390,81,855,272,-347,-71,79,-343,768,555,846,-69,-123,350,457,905,647,199,-616,-495,530,367,-605,-139,-62,963,343,1263,1656,-377,263,784,329,30,323,994,1085,-276,-129,77,302,-512,-274,167,-28,232,163,-401,253,362,1503,227,562,-507,472,961,1193,-320,495,313,-83,1112,204,1306,576,-22,18,-242,112,-709,777,1528,1405,-738,44,-23,346,-70,-179,547,1114,422,-256,393,28,665,467,376,-248,-21,-398,310,-249,-19,-120,270,-427,939,153,497,730,36,288]
[-451,37,-594,339,1252,815,1820,836,261,-893,558,394,890,1409,-71,254,626,965,-358,942,803,-468,551,-312,678,1082,7,1121,-222,-733,39,67,-504,852,-8,1725,175,129,58,570,29,1107,626,-594,-733,429,380,-574,58,383,166,1543,1174,664,-415,-48,554,906,799,425,339,345,102,-46,39,543,-511,-382,270,766,84,266,-98,627,981,1005,275,1182,-416,106,952,542,494,761,783,-506,587,401,268,1031,-349,38,-151,94,-189,780,847,1588,-621,220,12,266,-361,-328,576,1206,655,-283,-47,-10,5,824,1455,233,720,-246,96,-51,-295,105,208,-762,925,534,44,1168,-169,-127]
[-537,113,-441,323,1090,928,2302,1392,-32,-641,598,421,901,1695,-78,586,661,784,-322,1029,773,-538,601,-227,713,550,12,865,-19,-676,287,103,-125,1050,219,1567,178,213,216,276,514,1215,444,-470,-670,756,181,-563,124,184,1057,889,1199,1028,-235,51,1071,526,593,604,921,914,-20,-380,243,916,-622,-216,457,502,218,-155,-254,669,578,759,90,894,-222,10,1165,487,108,796,560,-364,1164,781,524,940,-177,-3,-84,184,-310,601,713,2008,-522,139,-68,444,-291,-378,826,1243,670,-64,151,45,362,879,588,335,567,136,97,138,-203,486,-51,-534,1201,490,275,1260,-209,413]
[-348,58,-174,341,1118,713,2171,428,133,-448,671,224,207,938,-108,86,704,189,-180,1019,972,-239,86,-329,676,99,201,646,424,-233,36,75,-61,542,577,1050,-124,-7,344,391,881,661,107,-599,-596,497,269,-336,30,27,1150,188,1206,1414,-471,245,832,256,-6,182,893,968,-189,-185,-53,486,-292,-263,195,64,-124,-45,-299,115,362,1305,175,321,-260,364,755,849,-145,544,198,-144,895,40,1229,312,-108,109,-268,68,-434,442,1376,1279,-450,17,69,190,-17,-191,303,819,398,-203,788,10,581,146,204,-129,75,-345,299,-291,-106,-189,169,-301,649,200,314,799,115,599]
[-210,327,-467,256,1380,901,1857,542,-18,-890,777,781,511,1117,-4,215,1142,566,48,660,1266,-559,319,-172,600,601,460,841,93,-531,332,23,-294,484,134,1978,148,-63,551,591,311,860,331,-526,-795,813,366,-22,-6,246,432,1119,1173,394,-341,-255,444,888,622,130,374,132,476,-155,146,682,-493,-362,93,749,-156,-171,75,408,922,504,387,864,-152,-76,859,158,700,667,603,-507,220,64,326,708,-454,183,-141,9,-94,367,1024,1364,-203,130,116,265,-87,-311,246,885,808,-403,755,-90,-171,51,761,466,496,-287,-66,-41,-109,130,9,-594,788,559,36,1078,-76,581]
[-285,356,-381,296,1205,1151,2262,828,-131,-506,921,346,384,1153,-139,216,1118,297,-128,1220,1255,-441,208,-52,603,537,535,814,437,-336,184,59,-204,738,383,1678,168,194,667,492,627,751,104,-374,-665,1065,139,-218,-25,197,1286,443,1227,1061,-446,176,604,397,409,287,1059,663,249,-338,63,906,-578,-343,322,376,-204,-347,-134,522,830,543,18,672,-49,43,1048,322,398,645,471,-385,865,254,462,579,-333,94,-250,164,-181,414,1080,1646,-389,41,37,519,-93,-450,435,1303,808,-190,1270,-3,187,211,258,509,220,0,87,167,-48,275,-30,-433,1148,412,228,994,-178,918]

{"sheet":"truncate","index":2,"n_rows":9,"n_cols":128,"rows_kept":9,"cut":false,"hidden":false,"merged":[]}
[{"$f":"IF(im2colAll_exW7!A1:DX9 > 0, ROUNDDOWN(im2colAll_exW7!A1:DX9/2^5, 0), ROUNDUP(im2colAll_exW7!A1:DX9/2^5, 0))","v":-10},{"$f":"IF(im2colAll_exW7!B1:DY9 > 0, ROUNDDOWN(im2colAll_exW7!B1:DY9/2^5, 0), ROUNDUP(im2colAll_exW7!B1:DY9/2^5, 0))","v":11},{"$f":"IF(im2colAll_exW7!C1:DZ9 > 0, ROUNDDOWN(im2colAll_exW7!C1:DZ9/2^5, 0), ROUNDUP(im2colAll_exW7!C1:DZ9/2^5, 0))","v":-10},{"$f":"IF(im2colAll_exW7!D1:EA9 > 0, ROUNDDOWN(im2colAll_exW7!D1:EA9/2^5, 0), ROUNDUP(im2colAll_exW7!D1:EA9/2^5, 0))","v":12},{"$f":"IF(im2colAll_exW7!E1:EB9 > 0, ROUNDDOWN(im2colAll_exW7!E1:EB9/2^5, 0), ROUNDUP(im2colAll_exW7!E1:EB9/2^5, 0))","v":43},{"$f":"IF(im2colAll_exW7!F1:EC9 > 0, ROUNDDOWN(im2colAll_exW7!F1:EC9/2^5, 0), ROUNDUP(im2colAll_exW7!F1:EC9/2^5, 0))","v":25},{"$f":"IF(im2colAll_exW7!G1:ED9 > 0, ROUNDDOWN(im2colAll_exW7!G1:ED9/2^5, 0), ROUNDUP(im2colAll_exW7!G1:ED9/2^5, 0))","v":58},{"$f":"IF(im2colAll_exW7!H1:EE9 > 0, ROUNDDOWN(im2colAll_exW7!H1:EE9/2^5, 0), ROUNDUP(im2colAll_exW7!H1:EE9/2^5, 0))","v":3},{"$f":"IF(im2colAll_exW7!I1:EF9 > 0, ROUNDDOWN(im2colAll_exW7!I1:EF9/2^5, 0), ROUNDUP(im2colAll_exW7!I1:EF9/2^5, 0))","v":3},{"$f":"IF(im2colAll_exW7!J1:EG9 > 0, ROUNDDOWN(im2colAll_exW7!J1:EG9/2^5, 0), ROUNDUP(im2colAll_exW7!J1:EG9/2^5, 0))","v":-15},{"$f":"IF(im2colAll_exW7!K1:EH9 > 0, ROUNDDOWN(im2colAll_exW7!K1:EH9/2^5, 0), ROUNDUP(im2colAll_exW7!K1:EH9/2^5, 0))","v":19},{"$f":"IF(im2colAll_exW7!L1:EI9 > 0, ROUNDDOWN(im2colAll_exW7!L1:EI9/2^5, 0), ROUNDUP(im2colAll_exW7!L1:EI9/2^5, 0))","v":15},{"$f":"IF(im2colAll_exW7!M1:EJ9 > 0, ROUNDDOWN(im2colAll_exW7!M1:EJ9/2^5, 0), ROUNDUP(im2colAll_exW7!M1:EJ9/2^5, 0))","v":25},{"$f":"IF(im2colAll_exW7!N1:EK9 > 0, ROUNDDOWN(im2colAll_exW7!N1:EK9/2^5, 0), ROUNDUP(im2colAll_exW7!N1:EK9/2^5, 0))","v":25},{"$f":"IF(im2colAll_exW7!O1:EL9 > 0, ROUNDDOWN(im2colAll_exW7!O1:EL9/2^5, 0), ROUNDUP(im2colAll_exW7!O1:EL9/2^5, 0))","v":-2},{"$f":"IF(im2colAll_exW7!P1:EM9 > 0, ROUNDDOWN(im2colAll_exW7!P1:EM9/2^5, 0), ROUNDUP(im2colAll_exW7!P1:EM9/2^5, 0))","v":-4},{"$f":"IF(im2colAll_exW7!Q1:EN9 > 0, ROUNDDOWN(im2colAll_exW7!Q1:EN9/2^5, 0), ROUNDUP(im2colAll_exW7!Q1:EN9/2^5, 0))","v":22},{"$f":"IF(im2colAll_exW7!R1:EO9 > 0, ROUNDDOWN(im2colAll_exW7!R1:EO9/2^5, 0), ROUNDUP(im2colAll_exW7!R1:EO9/2^5, 0))","v":12},{"$f":"IF(im2colAll_exW7!S1:EP9 > 0, ROUNDDOWN(im2colAll_exW7!S1:EP9/2^5, 0), ROUNDUP(im2colAll_exW7!S1:EP9/2^5, 0))","v":-12},{"$f":"IF(im2colAll_exW7!T1:EQ9 > 0, ROUNDDOWN(im2colAll_exW7!T1:EQ9/2^5, 0), ROUNDUP(im2colAll_exW7!T1:EQ9/2^5, 0))","v":41},{"$f":"IF(im2colAll_exW7!U1:ER9 > 0, ROUNDDOWN(im2colAll_exW7!U1:ER9/2^5, 0), ROUNDUP(im2colAll_exW7!U1:ER9/2^5, 0))","v":28},{"$f":"IF(im2colAll_exW7!V1:ES9 > 0, ROUNDDOWN(im2colAll_exW7!V1:ES9/2^5, 0), ROUNDUP(im2colAll_exW7!V1:ES9/2^5, 0))","v":-16},{"$f":"IF(im2colAll_exW7!W1:ET9 > 0, ROUNDDOWN(im2colAll_exW7!W1:ET9/2^5, 0), ROUNDUP(im2colAll_exW7!W1:ET9/2^5, 0))","v":6},{"$f":"IF(im2colAll_exW7!X1:EU9 > 0, ROUNDDOWN(im2colAll_exW7!X1:EU9/2^5, 0), ROUNDUP(im2colAll_exW7!X1:EU9/2^5, 0))","v":-7},{"$f":"IF(im2colAll_exW7!Y1:EV9 > 0, ROUNDDOWN(im2colAll_exW7!Y1:EV9/2^5, 0), ROUNDUP(im2colAll_exW7!Y1:EV9/2^5, 0))","v":27},{"$f":"IF(im2colAll_exW7!Z1:EW9 > 0, ROUNDDOWN(im2colAll_exW7!Z1:EW9/2^5, 0), ROUNDUP(im2colAll_exW7!Z1:EW9/2^5, 0))","v":15},{"$f":"IF(im2colAll_exW7!AA1:EX9 > 0, ROUNDDOWN(im2colAll_exW7!AA1:EX9/2^5, 0), ROUNDUP(im2colAll_exW7!AA1:EX9/2^5, 0))","v":13},{"$f":"IF(im2colAll_exW7!AB1:EY9 > 0, ROUNDDOWN(im2colAll_exW7!AB1:EY9/2^5, 0), ROUNDUP(im2colAll_exW7!AB1:EY9/2^5, 0))","v":32},{"$f":"IF(im2colAll_exW7!AC1:EZ9 > 0, ROUNDDOWN(im2colAll_exW7!AC1:EZ9/2^5, 0), ROUNDUP(im2colAll_exW7!AC1:EZ9/2^5, 0))","v":11},{"$f":"IF(im2colAll_exW7!AD1:FA9 > 0, ROUNDDOWN(im2colAll_exW7!AD1:FA9/2^5, 0), ROUNDUP(im2colAll_exW7!AD1:FA9/2^5, 0))","v":-11},{"$f":"IF(im2colAll_exW7!AE1:FB9 > 0, ROUNDDOWN(im2colAll_exW7!AE1:FB9/2^5, 0), ROUNDUP(im2colAll_exW7!AE1:FB9/2^5, 0))","v":14},{"$f":"IF(im2colAll_exW7!AF1:FC9 > 0, ROUNDDOWN(im2colAll_exW7!AF1:FC9/2^5, 0), ROUNDUP(im2colAll_exW7!AF1:FC9/2^5, 0))","v":5},{"$f":"IF(im2colAll_exW7!AG1:FD9 > 0, ROUNDDOWN(im2colAll_exW7!AG1:FD9/2^5, 0), ROUNDUP(im2colAll_exW7!AG1:FD9/2^5, 0))","v":-14},{"$f":"IF(im2colAll_exW7!AH1:FE9 > 0, ROUNDDOWN(im2colAll_exW7!AH1:FE9/2^5, 0), ROUNDUP(im2colAll_exW7!AH1:FE9/2^5, 0))","v":24},{"$f":"IF(im2colAll_exW7!AI1:FF9 > 0, ROUNDDOWN(im2colAll_exW7!AI1:FF9/2^5, 0), ROUNDUP(im2colAll_exW7!AI1:FF9/2^5, 0))","v":29},{"$f":"IF(im2colAll_exW7!AJ1:FG9 > 0, ROUNDDOWN(im2colAll_exW7!AJ1:FG9/2^5, 0), ROUNDUP(im2colAll_exW7!AJ1:FG9/2^5, 0))","v":18},{"$f":"IF(im2colAll_exW7!AK1:FH9 > 0, ROUNDDOWN(im2colAll_exW7!AK1:FH9/2^5, 0), ROUNDUP(im2colAll_exW7!AK1:FH9/2^5, 0))","v":0},{"$f":"IF(im2colAll_exW7!AL1:FI9 > 0, ROUNDDOWN(im2colAll_exW7!AL1:FI9/2^5, 0), ROUNDUP(im2colAll_exW7!AL1:FI9/2^5, 0))","v":-1},{"$f":"IF(im2colAll_exW7!AM1:FJ9 > 0, ROUNDDOWN(im2colAll_exW7!AM1:FJ9/2^5, 0), ROUNDUP(im2colAll_exW7!AM1:FJ9/2^5, 0))","v":15},{"$f":"IF(im2colAll_exW7!AN1:FK9 > 0, ROUNDDOWN(im2colAll_exW7!AN1:FK9/2^5, 0), ROUNDUP(im2colAll_exW7!AN1:FK9/2^5, 0))","v":10},{"$f":"IF(im2colAll_exW7!AO1:FL9 > 0, ROUNDDOWN(im2colAll_exW7!AO1:FL9/2^5, 0), ROUNDUP(im2colAll_exW7!AO1:FL9/2^5, 0))","v":51},{"$f":"IF(im2colAll_exW7!AP1:FM9 > 0, ROUNDDOWN(im2colAll_exW7!AP1:FM9/2^5, 0), ROUNDUP(im2colAll_exW7!AP1:FM9/2^5, 0))","v":21},{"$f":"IF(im2colAll_exW7!AQ1:FN9 > 0, ROUNDDOWN(im2colAll_exW7!AQ1:FN9/2^5, 0), ROUNDUP(im2colAll_exW7!AQ1:FN9/2^5, 0))","v":-2},{"$f":"IF(im2colAll_exW7!AR1:FO9 > 0, ROUNDDOWN(im2colAll_exW7!AR1:FO9/2^5, 0), ROUNDUP(im2colAll_exW7!AR1:FO9/2^5, 0))","v":-29},{"$f":"IF(im2colAll_exW7!AS1:FP9 > 0, ROUNDDOWN(im2colAll_exW7!AS1:FP9/2^5, 0), ROUNDUP(im2colAll_exW7!AS1:FP9/2^5, 0))","v":-14},{"$f":"IF(im2colAll_exW7!AT1:FQ9 > 0, ROUNDDOWN(im2colAll_exW7!AT1:FQ9/2^5, 0), ROUNDUP(im2colAll_exW7!AT1:FQ9/2^5, 0))","v":23},{"$f":"IF(im2colAll_exW7!AU1:FR9 > 0, ROUNDDOWN(im2colAll_exW7!AU1:FR9/2^5, 0), ROUNDUP(im2colAll_exW7!AU1:FR9/2^5, 0))","v":1},{"$f":"IF(im2colAll_exW7!AV1:FS9 > 0, ROUNDDOWN(im2colAll_exW7!AV1:FS9/2^5, 0), ROUNDUP(im2colAll_exW7!AV1:FS9/2^5, 0))","v":-15},{"$f":"IF(im2colAll_exW7!AW1:FT9 > 0, ROUNDDOWN(im2colAll_exW7!AW1:FT9/2^5, 0), ROUNDUP(im2colAll_exW7!AW1:FT9/2^5, 0))","v":-3},{"$f":"IF(im2colAll_exW7!AX1:FU9 > 0, ROUNDDOWN(im2colAll_exW7!AX1:FU9/2^5, 0), ROUNDUP(im2colAll_exW7!AX1:FU9/2^5, 0))","v":5},{"$f":"IF(im2colAll_exW7!AY1:FV9 > 0, ROUNDDOWN(im2colAll_exW7!AY1:FV9/2^5, 0), ROUNDUP(im2colAll_exW7!AY1:FV9/2^5, 0))","v":37},{"$f":"IF(im2colAll_exW7!AZ1:FW9 > 0, ROUNDDOWN(im2colAll_exW7!AZ1:FW9/2^5, 0), ROUNDUP(im2colAll_exW7!AZ1:FW9/2^5, 0))","v":2},{"$f":"IF(im2colAll_exW7!BA1:FX9 > 0, ROUNDDOWN(im2colAll_exW7!BA1:FX9/2^5, 0), ROUNDUP(im2colAll_exW7!BA1:FX9/2^5, 0))","v":52},{"$f":"IF(im2colAll_exW7!BB1:FY9 > 0, ROUNDDOWN(im2colAll_exW7!BB1:FY9/2^5, 0), ROUNDUP(im2colAll_exW7!BB1:FY9/2^5, 0))","v":62},{"$f":"IF(im2colAll_exW7!BC1:FZ9 > 0, ROUNDDOWN(im2colAll_exW7!BC1:FZ9/2^5, 0), ROUNDUP(im2colAll_exW7!BC1:FZ9/2^5, 0))","v":-17},{"$f":"IF(im2colAll_exW7!BD1:GA9 > 0, ROUNDDOWN(im2colAll_exW7!BD1:GA9/2^5, 0), ROUNDUP(im2colAll_exW7!BD1:GA9/2^5, 0))","v":7},{"$f":"IF(im2colAll_exW7!BE1:GB9 > 0, ROUNDDOWN(im2colAll_exW7!BE1:GB9/2^5, 0), ROUNDUP(im2colAll_exW7!BE1:GB9/2^5, 0))","v":19},{"$f":"IF(im2colAll_exW7!BF1:GC9 > 0, ROUNDDOWN(im2colAll_exW7!BF1:GC9/2^5, 0), ROUNDUP(im2colAll_exW7!BF1:GC9/2^5, 0))","v":12},{"$f":"IF(im2colAll_exW7!BG1:GD9 > 0, ROUNDDOWN(im2colAll_exW7!BG1:GD9/2^5, 0), ROUNDUP(im2colAll_exW7!BG1:GD9/2^5, 0))","v":5},{"$f":"IF(im2colAll_exW7!BH1:GE9 > 0, ROUNDDOWN(im2colAll_exW7!BH1:GE9/2^5, 0), ROUNDUP(im2colAll_exW7!BH1:GE9/2^5, 0))","v":2},{"$f":"IF(im2colAll_exW7!BI1:GF9 > 0, ROUNDDOWN(im2colAll_exW7!BI1:GF9/2^5, 0), ROUNDUP(im2colAll_exW7!BI1:GF9/2^5, 0))","v":45},{"$f":"IF(im2colAll_exW7!BJ1:GG9 > 0, ROUNDDOWN(im2colAll_exW7!BJ1:GG9/2^5, 0), ROUNDUP(im2colAll_exW7!BJ1:GG9/2^5, 0))","v":27},{"$f":"IF(im2colAll_exW7!BK1:GH9 > 0, ROUNDDOWN(im2colAll_exW7!BK1:GH9/2^5, 0), ROUNDUP(im2colAll_exW7!BK1:GH9/2^5, 0))","v":-5},{"$f":"IF(im2colAll_exW7!BL1:GI9 > 0, ROUNDDOWN(im2colAll_exW7!BL1:GI9/2^5, 0), ROUNDUP(im2colAll_exW7!BL1:GI9/2^5, 0))","v":-5},{"$f":"IF(im2colAll_exW7!BM1:GJ9 > 0, ROUNDDOWN(im2colAll_exW7!BM1:GJ9/2^5, 0), ROUNDUP(im2colAll_exW7!BM1:GJ9/2^5, 0))","v":-1},{"$f":"IF(im2colAll_exW7!BN1:GK9 > 0, ROUNDDOWN(im2colAll_exW7!BN1:GK9/2^5, 0), ROUNDUP(im2colAll_exW7!BN1:GK9/2^5, 0))","v":3},{"$f":"IF(im2colAll_exW7!BO1:GL9 > 0, ROUNDDOWN(im2colAll_exW7!BO1:GL9/2^5, 0), ROUNDUP(im2colAll_exW7!BO1:GL9/2^5, 0))","v":-25},{"$f":"IF(im2colAll_exW7!BP1:GM9 > 0, ROUNDDOWN(im2colAll_exW7!BP1:GM9/2^5, 0), ROUNDUP(im2colAll_exW7!BP1:GM9/2^5, 0))","v":-14},{"$f":"IF(im2colAll_exW7!BQ1:GN9 > 0, ROUNDDOWN(im2colAll_exW7!BQ1:GN9/2^5, 0), ROUNDUP(im2colAll_exW7!BQ1:GN9/2^5, 0))","v":-18},{"$f":"IF(im2colAll_exW7!BR1:GO9 > 0, ROUNDDOWN(im2colAll_exW7!BR1:GO9/2^5, 0), ROUNDUP(im2colAll_exW7!BR1:GO9/2^5, 0))","v":-2},{"$f":"IF(im2colAll_exW7!BS1:GP9 > 0, ROUNDDOWN(im2colAll_exW7!BS1:GP9/2^5, 0), ROUNDUP(im2colAll_exW7!BS1:GP9/2^5, 0))","v":3},{"$f":"IF(im2colAll_exW7!BT1:GQ9 > 0, ROUNDDOWN(im2colAll_exW7!BT1:GQ9/2^5, 0), ROUNDUP(im2colAll_exW7!BT1:GQ9/2^5, 0))","v":5},{"$f":"IF(im2colAll_exW7!BU1:GR9 > 0, ROUNDDOWN(im2colAll_exW7!BU1:GR9/2^5, 0), ROUNDUP(im2colAll_exW7!BU1:GR9/2^5, 0))","v":-6},{"$f":"IF(im2colAll_exW7!BV1:GS9 > 0, ROUNDDOWN(im2colAll_exW7!BV1:GS9/2^5, 0), ROUNDUP(im2colAll_exW7!BV1:GS9/2^5, 0))","v":17},{"$f":"IF(im2colAll_exW7!BW1:GT9 > 0, ROUNDDOWN(im2colAll_exW7!BW1:GT9/2^5, 0), ROUNDUP(im2colAll_exW7!BW1:GT9/2^5, 0))","v":5},{"$f":"IF(im2colAll_exW7!BX1:GU9 > 0, ROUNDDOWN(im2colAll_exW7!BX1:GU9/2^5, 0), ROUNDUP(im2colAll_exW7!BX1:GU9/2^5, 0))","v":45},{"$f":"IF(im2colAll_exW7!BY1:GV9 > 0, ROUNDDOWN(im2colAll_exW7!BY1:GV9/2^5, 0), ROUNDUP(im2colAll_exW7!BY1:GV9/2^5, 0))","v":11},{"$f":"IF(im2colAll_exW7!BZ1:GW9 > 0, ROUNDDOWN(im2colAll_exW7!BZ1:GW9/2^5, 0), ROUNDUP(im2colAll_exW7!BZ1:GW9/2^5, 0))","v":5},{"$f":"IF(im2colAll_exW7!CA1:GX9 > 0, ROUNDDOWN(im2colAll_exW7!CA1:GX9/2^5, 0), ROUNDUP(im2colAll_exW7!CA1:GX9/2^5, 0))","v":-20},{"$f":"IF(im2colAll_exW7!CB1:GY9 > 0, ROUNDDOWN(im2colAll_exW7!CB1:GY9/2^5, 0), ROUNDUP(im2colAll_exW7!CB1:GY9/2^5, 0))","v":23},{"$f":"IF(im2colAll_exW7!CC1:GZ9 > 0, ROUNDDOWN(im2colAll_exW7!CC1:GZ9/2^5, 0), ROUNDUP(im2colAll_exW7!CC1:GZ9/2^5, 0))","v":30},{"$f":"IF(im2colAll_exW7!CD1:HA9 > 0, ROUNDDOWN(im2colAll_exW7!CD1:HA9/2^5, 0), ROUNDUP(im2colAll_exW7!CD1:HA9/2^5, 0))","v":51},{"$f":"IF(im2colAll_exW7!CE1:HB9 > 0, ROUNDDOWN(im2colAll_exW7!CE1:HB9/2^5, 0), ROUNDUP(im2colAll_exW7!CE1:HB9/2^5, 0))","v":-9},{"$f":"IF(im2colAll_exW7!CF1:HC9 > 0, ROUNDDOWN(im2colAll_exW7!CF1:HC9/2^5, 0), ROUNDUP(im2colAll_exW7!CF1:HC9/2^5, 0))","v":14},{"$f":"IF(im2colAll_exW7!CG1:HD9 > 0, ROUNDDOWN(im2colAll_exW7!CG1:HD9/2^5, 0), ROUNDUP(im2colAll_exW7!CG1:HD9/2^5, 0))","v":10},{"$f":"IF(im2colAll_exW7!CH1:HE9 > 0, ROUNDDOWN(im2colAll_exW7!CH1:HE9/2^5, 0), ROUNDUP(im2colAll_exW7!CH1:HE9/2^5, 0))","v":-11},{"$f":"IF(im2colAll_exW7!CI1:HF9 > 0, ROUNDDOWN(im2colAll_exW7!CI1:HF9/2^5, 0), ROUNDUP(im2colAll_exW7!CI1:HF9/2^5, 0))","v":50},{"$f":"IF(im2colAll_exW7!CJ1:HG9 > 0, ROUNDDOWN(im2colAll_exW7!CJ1:HG9/2^5, 0), ROUNDUP(im2colAll_exW7!CJ1:HG9/2^5, 0))","v":-4},{"$f":"IF(im2colAll_exW7!CK1:HH9 > 0, ROUNDDOWN(im2colAll_exW7!CK1:HH9/2^5, 0), ROUNDUP(im2colAll_exW7!CK1:HH9/2^5, 0))","v":45},{"$f":"IF(im2colAll_exW7!CL1:HI9 > 0, ROUNDDOWN(im2colAll_exW7!CL1:HI9/2^5, 0), ROUNDUP(im2colAll_exW7!CL1:HI9/2^5, 0))","v":14},{"$f":"IF(im2colAll_exW7!CM1:HJ9 > 0, ROUNDDOWN(im2colAll_exW7!CM1:HJ9/2^5, 0), ROUNDUP(im2colAll_exW7!CM1:HJ9/2^5, 0))","v":-10},{"$f":"IF(im2colAll_exW7!CN1:HK9 > 0, ROUNDDOWN(im2colAll_exW7!CN1:HK9/2^5, 0), ROUNDUP(im2colAll_exW7!CN1:HK9/2^5, 0))","v":8},{"$f":"IF(im2colAll_exW7!CO1:HL9 > 0, ROUNDDOWN(im2colAll_exW7!CO1:HL9/2^5, 0), ROUNDUP(im2colAll_exW7!CO1:HL9/2^5, 0))","v":-9},{"$f":"IF(im2colAll_exW7!CP1:HM9 > 0, ROUNDDOWN(im2colAll_exW7!CP1:HM9/2^5, 0), ROUNDUP(im2colAll_exW7!CP1:HM9/2^5, 0))","v":10},{"$f":"IF(im2colAll_exW7!CQ1:HN9 > 0, ROUNDDOWN(im2colAll_exW7!CQ1:HN9/2^5, 0), ROUNDUP(im2colAll_exW7!CQ1:HN9/2^5, 0))","v":-18},{"$f":"IF(im2colAll_exW7!CR1:HO9 > 0, ROUNDDOWN(im2colAll_exW7!CR1:HO9/2^5, 0), ROUNDUP(im2colAll_exW7!CR1:HO9/2^5, 0))","v":42},{"$f":"IF(im2colAll_exW7!CS1:HP9 > 0, ROUNDDOWN(im2colAll_exW7!CS1:HP9/2^5, 0), ROUNDUP(im2colAll_exW7!CS1:HP9/2^5, 0))","v":59},{"$f":"IF(im2colAll_exW7!CT1:HQ9 > 0, ROUNDDOWN(im2colAll_exW7!CT1:HQ9/2^5, 0), ROUNDUP(im2colAll_exW7!CT1:HQ9/2^5, 0))","v":52},{"$f":"IF(im2colAll_exW7!CU1:HR9 > 0, ROUNDDOWN(im2colAll_exW7!CU1:HR9/2^5, 0), ROUNDUP(im2colAll_exW7!CU1:HR9/2^5, 0))","v":-26},{"$f":"IF(im2colAll_exW7!CV1:HS9 > 0, ROUNDDOWN(im2colAll_exW7!CV1:HS9/2^5, 0), ROUNDUP(im2colAll_exW7!CV1:HS9/2^5, 0))","v":3},{"$f":"IF(im2colAll_exW7!CW1:HT9 > 0, ROUNDDOWN(im2colAll_exW7!CW1:HT9/2^5, 0), ROUNDUP(im2colAll_exW7!CW1:HT9/2^5, 0))","v":-1},{"$f":"IF(im2colAll_exW7!CX1:HU9 > 0, ROUNDDOWN(im2colAll_exW7!CX1:HU9/2^5, 0), ROUNDUP(im2colAll_exW7!CX1:HU9/2^5, 0))","v":19},{"$f":"IF(im2colAll_exW7!CY1:HV9 > 0, ROUNDDOWN(im2colAll_exW7!CY1:HV9/2^5, 0), ROUNDUP(im2colAll_exW7!CY1:HV9/2^5, 0))","v":-4},{"$f":"IF(im2colAll_exW7!CZ1:HW9 > 0, ROUNDDOWN(im2colAll_exW7!CZ1:HW9/2^5, 0), ROUNDUP(im2colAll_exW7!CZ1:HW9/2^5, 0))","v":-9},{"$f":"IF(im2colAll_exW7!DA1:HX9 > 0, ROUNDDOWN(im2colAll_exW7!DA1:HX9/2^5, 0), ROUNDUP(im2colAll_exW7!DA1:HX9/2^5, 0))","v":12},{"$f":"IF(im2colAll_exW7!DB1:HY9 > 0, ROUNDDOWN(im2colAll_exW7!DB1:HY9/2^5, 0), ROUNDUP(im2colAll_exW7!DB1:HY9/2^5, 0))","v":57},{"$f":"IF(im2colAll_exW7!DC1:HZ9 > 0, ROUNDDOWN(im2colAll_exW7!DC1:HZ9/2^5, 0), ROUNDUP(im2colAll_exW7!DC1:HZ9/2^5, 0))","v":22},{"$f":"IF(im2colAll_exW7!DD1:IA9 > 0, ROUNDDOWN(im2colAll_exW7!DD1:IA9/2^5, 0), ROUNDUP(im2colAll_exW7!DD1:IA9/2^5, 0))","v":-7},{"$f":"IF(im2colAll_exW7!DE1:IB9 > 0, ROUNDDOWN(im2colAll_exW7!DE1:IB9/2^5, 0), ROUNDUP(im2colAll_exW7!DE1:IB9/2^5, 0))","v":33},{"$f":"IF(im2colAll_exW7!DF1:IC9 > 0, ROUNDDOWN(im2colAll_exW7!DF1:IC9/2^5, 0), ROUNDUP(im2colAll_exW7!DF1:IC9/2^5, 0))","v":-3},{"$f":"IF(im2colAll_exW7!DG1:ID9 > 0, ROUNDDOWN(im2colAll_exW7!DG1:ID9/2^5, 0), ROUNDUP(im2colAll_exW7!DG1:ID9/2^5, 0))","v":21},{"$f":"IF(im2colAll_exW7!DH1:IE9 > 0, ROUNDDOWN(im2colAll_exW7!DH1:IE9/2^5, 0), ROUNDUP(im2colAll_exW7!DH1:IE9/2^5, 0))","v":7},{"$f":"IF(im2colAll_exW7!DI1:IF9 > 0, ROUNDDOWN(im2colAll_exW7!DI1:IF9/2^5, 0), ROUNDUP(im2colAll_exW7!DI1:IF9/2^5, 0))","v":2},{"$f":"IF(im2colAll_exW7!DJ1:IG9 > 0, ROUNDDOWN(im2colAll_exW7!DJ1:IG9/2^5, 0), ROUNDUP(im2colAll_exW7!DJ1:IG9/2^5, 0))","v":-9},{"$f":"IF(im2colAll_exW7!DK1:IH9 > 0, ROUNDDOWN(im2colAll_exW7!DK1:IH9/2^5, 0), ROUNDUP(im2colAll_exW7!DK1:IH9/2^5, 0))","v":4},{"$f":"IF(im2colAll_exW7!DL1:II9 > 0, ROUNDDOWN(im2colAll_exW7!DL1:II9/2^5, 0), ROUNDUP(im2colAll_exW7!DL1:II9/2^5, 0))","v":-12},{"$f":"IF(im2colAll_exW7!DM1:IJ9 > 0, ROUNDDOWN(im2colAll_exW7!DM1:IJ9/2^5, 0), ROUNDUP(im2colAll_exW7!DM1:IJ9/2^5, 0))","v":13},{"$f":"IF(im2colAll_exW7!DN1:IK9 > 0, ROUNDDOWN(im2colAll_exW7!DN1:IK9/2^5, 0), ROUNDUP(im2colAll_exW7!DN1:IK9/2^5, 0))","v":-5},{"$f":"IF(im2colAll_exW7!DO1:IL9 > 0, ROUNDDOWN(im2colAll_exW7!DO1:IL9/2^5, 0), ROUNDUP(im2colAll_exW7!DO1:IL9/2^5, 0))","v":13},{"$f":"IF(im2colAll_exW7!DP1:IM9 > 0, ROUNDDOWN(im2colAll_exW7!DP1:IM9/2^5, 0), ROUNDUP(im2colAll_exW7!DP1:IM9/2^5, 0))","v":0},{"$f":"IF(im2colAll_exW7!DQ1:IN9 > 0, ROUNDDOWN(im2colAll_exW7!DQ1:IN9/2^5, 0), ROUNDUP(im2colAll_exW7!DQ1:IN9/2^5, 0))","v":15},{"$f":"IF(im2colAll_exW7!DR1:IO9 > 0, ROUNDDOWN(im2colAll_exW7!DR1:IO9/2^5, 0), ROUNDUP(im2colAll_exW7!DR1:IO9/2^5, 0))","v":-4},{"$f":"IF(im2colAll_exW7!DS1:IP9 > 0, ROUNDDOWN(im2colAll_exW7!DS1:IP9/2^5, 0), ROUNDUP(im2colAll_exW7!DS1:IP9/2^5, 0))","v":39},{"$f":"IF(im2colAll_exW7!DT1:IQ9 > 0, ROUNDDOWN(im2colAll_exW7!DT1:IQ9/2^5, 0), ROUNDUP(im2colAll_exW7!DT1:IQ9/2^5, 0))","v":-3},{"$f":"IF(im2colAll_exW7!DU1:IR9 > 0, ROUNDDOWN(im2colAll_exW7!DU1:IR9/2^5, 0), ROUNDUP(im2colAll_exW7!DU1:IR9/2^5, 0))","v":25},{"$f":"IF(im2colAll_exW7!DV1:IS9 > 0, ROUNDDOWN(im2colAll_exW7!DV1:IS9/2^5, 0), ROUNDUP(im2colAll_exW7!DV1:IS9/2^5, 0))","v":12},{"$f":"IF(im2colAll_exW7!DW1:IT9 > 0, ROUNDDOWN(im2colAll_exW7!DW1:IT9/2^5, 0), ROUNDUP(im2colAll_exW7!DW1:IT9/2^5, 0))","v":-10},{"$f":"IF(im2colAll_exW7!DX1:IU9 > 0, ROUNDDOWN(im2colAll_exW7!DX1:IU9/2^5, 0), ROUNDUP(im2colAll_exW7!DX1:IU9/2^5, 0))","v":9}]
[{"$f":"IF(im2colAll_exW7!A2:DX10 > 0, ROUNDDOWN(im2colAll_exW7!A2:DX10/2^5, 0), ROUNDUP(im2colAll_exW7!A2:DX10/2^5, 0))","v":-11},{"$f":"IF(im2colAll_exW7!B2:DY10 > 0, ROUNDDOWN(im2colAll_exW7!B2:DY10/2^5, 0), ROUNDUP(im2colAll_exW7!B2:DY10/2^5, 0))","v":16},{"$f":"IF(im2colAll_exW7!C2:DZ10 > 0, ROUNDDOWN(im2colAll_exW7!C2:DZ10/2^5, 0), ROUNDUP(im2colAll_exW7!C2:DZ10/2^5, 0))","v":-12},{"$f":"IF(im2colAll_exW7!D2:EA10 > 0, ROUNDDOWN(im2colAll_exW7!D2:EA10/2^5, 0), ROUNDUP(im2colAll_exW7!D2:EA10/2^5, 0))","v":7},{"$f":"IF(im2colAll_exW7!E2:EB10 > 0, ROUNDDOWN(im2colAll_exW7!E2:EB10/2^5, 0), ROUNDUP(im2colAll_exW7!E2:EB10/2^5, 0))","v":48},{"$f":"IF(im2colAll_exW7!F2:EC10 > 0, ROUNDDOWN(im2colAll_exW7!F2:EC10/2^5, 0), ROUNDUP(im2colAll_exW7!F2:EC10/2^5, 0))","v":22},{"$f":"IF(im2colAll_exW7!G2:ED10 > 0, ROUNDDOWN(im2colAll_exW7!G2:ED10/2^5, 0), ROUNDUP(im2colAll_exW7!G2:ED10/2^5, 0))","v":48},{"$f":"IF(im2colAll_exW7!H2:EE10 > 0, ROUNDDOWN(im2colAll_exW7!H2:EE10/2^5, 0), ROUNDUP(im2colAll_exW7!H2:EE10/2^5, 0))","v":5},{"$f":"IF(im2colAll_exW7!I2:EF10 > 0, ROUNDDOWN(im2colAll_exW7!I2:EF10/2^5, 0), ROUNDUP(im2colAll_exW7!I2:EF10/2^5, 0))","v":5},{"$f":"IF(im2colAll_exW7!J2:EG10 > 0, ROUNDDOWN(im2colAll_exW7!J2:EG10/2^5, 0), ROUNDUP(im2colAll_exW7!J2:EG10/2^5, 0))","v":-21},{"$f":"IF(im2colAll_exW7!K2:EH10 > 0, ROUNDDOWN(im2colAll_exW7!K2:EH10/2^5, 0), ROUNDUP(im2colAll_exW7!K2:EH10/2^5, 0))","v":17},{"$f":"IF(im2colAll_exW7!L2:EI10 > 0, ROUNDDOWN(im2colAll_exW7!L2:EI10/2^5, 0), ROUNDUP(im2colAll_exW7!L2:EI10/2^5, 0))","v":16},{"$f":"IF(im2colAll_exW7!M2:EJ10 > 0, ROUNDDOWN(im2colAll_exW7!M2:EJ10/2^5, 0), ROUNDUP(im2colAll_exW7!M2:EJ10/2^5, 0))","v":34},{"$f":"IF(im2colAll_exW7!N2:EK10 > 0, ROUNDDOWN(im2colAll_exW7!N2:EK10/2^5, 0), ROUNDUP(im2colAll_exW7!N2:EK10/2^5, 0))","v":26},{"$f":"IF(im2colAll_exW7!O2:EL10 > 0, ROUNDDOWN(im2colAll_exW7!O2:EL10/2^5, 0), ROUNDUP(im2colAll_exW7!O2:EL10/2^5, 0))","v":-4},{"$f":"IF(im2colAll_exW7!P2:EM10 > 0, ROUNDDOWN(im2colAll_exW7!P2:EM10/2^5, 0), ROUNDUP(im2colAll_exW7!P2:EM10/2^5, 0))","v":-3},{"$f":"IF(im2colAll_exW7!Q2:EN10 > 0, ROUNDDOWN(im2colAll_exW7!Q2:EN10/2^5, 0), ROUNDUP(im2colAll_exW7!Q2:EN10/2^5, 0))","v":29},{"$f":"IF(im2colAll_exW7!R2:EO10 > 0, ROUNDDOWN(im2colAll_exW7!R2:EO10/2^5, 0), ROUNDUP(im2colAll_exW7!R2:EO10/2^5, 0))","v":25},{"$f":"IF(im2colAll_exW7!S2:EP10 > 0, ROUNDDOWN(im2colAll_exW7!S2:EP10/2^5, 0), ROUNDUP(im2colAll_exW7!S2:EP10/2^5, 0))","v":-15},{"$f":"IF(im2colAll_exW7!T2:EQ10 > 0, ROUNDDOWN(im2colAll_exW7!T2:EQ10/2^5, 0), ROUNDUP(im2colAll_exW7!T2:EQ10/2^5, 0))","v":41},{"$f":"IF(im2colAll_exW7!U2:ER10 > 0, ROUNDDOWN(im2colAll_exW7!U2:ER10/2^5, 0), ROUNDUP(im2colAll_exW7!U2:ER10/2^5, 0))","v":32},{"$f":"IF(im2colAll_exW7!V2:ES10 > 0, ROUNDDOWN(im2colAll_exW7!V2:ES10/2^5, 0), ROUNDUP(im2colAll_exW7!V2:ES10/2^5, 0))","v":-16},{"$f":"IF(im2colAll_exW7!W2:ET10 > 0, ROUNDDOWN(im2colAll_exW7!W2:ET10/2^5, 0), ROUNDUP(im2colAll_exW7!W2:ET10/2^5, 0))","v":11},{"$f":"IF(im2colAll_exW7!X2:EU10 > 0, ROUNDDOWN(im2colAll_exW7!X2:EU10/2^5, 0), ROUNDUP(im2colAll_exW7!X2:EU10/2^5, 0))","v":-5},{"$f":"IF(im2colAll_exW7!Y2:EV10 > 0, ROUNDDOWN(im2colAll_exW7!Y2:EV10/2^5, 0), ROUNDUP(im2colAll_exW7!Y2:EV10/2^5, 0))","v":26},{"$f":"IF(im2colAll_exW7!Z2:EW10 > 0, ROUNDDOWN(im2colAll_exW7!Z2:EW10/2^5, 0), ROUNDUP(im2colAll_exW7!Z2:EW10/2^5, 0))","v":28},{"$f":"IF(im2colAll_exW7!AA2:EX10 > 0, ROUNDDOWN(im2colAll_exW7!AA2:EX10/2^5, 0), ROUNDUP(im2colAll_exW7!AA2:EX10/2^5, 0))","v":12},{"$f":"IF(im2colAll_exW7!AB2:EY10 > 0, ROUNDDOWN(im2colAll_exW7!AB2:EY10/2^5, 0), ROUNDUP(im2colAll_exW7!AB2:EY10/2^5, 0))","v":39},{"$f":"IF(im2colAll_exW7!AC2:EZ10 > 0, ROUNDDOWN(im2colAll_exW7!AC2:EZ10/2^5, 0), ROUNDUP(im2colAll_exW7!AC2:EZ10/2^5, 0))","v":6},{"$f":"IF(im2colAll_exW7!AD2:FA10 > 0, ROUNDDOWN(im2colAll_exW7!AD2:FA10/2^5, 0), ROUNDUP(im2colAll_exW7!AD2:FA10/2^5, 0))","v":-16},{"$f":"IF(im2colAll_exW7!AE2:FB10 > 0, ROUNDDOWN(im2colAll_exW7!AE2:FB10/2^5, 0), ROUNDUP(im2colAll_exW7!AE2:FB10/2^5, 0))","v":19},{"$f":"IF(im2colAll_exW7!AF2:FC10 > 0, ROUNDDOWN(im2colAll_exW7!AF2:FC10/2^5, 0), ROUNDUP(im2colAll_exW7!AF2:FC10/2^5, 0))","v":6},{"$f":"IF(im2colAll_exW7!AG2:FD10 > 0, ROUNDDOWN(im2colAll_exW7!AG2:FD10/2^5, 0), ROUNDUP(im2colAll_exW7!AG2:FD10/2^5, 0))","v":-13},{"$f":"IF(im2colAll_exW7!AH2:FE10 > 0, ROUNDDOWN(im2colAll_exW7!AH2:FE10/2^5, 0), ROUNDUP(im2colAll_exW7!AH2:FE10/2^5, 0))","v":26},{"$f":"IF(im2colAll_exW7!AI2:FF10 > 0, ROUNDDOWN(im2colAll_exW7!AI2:FF10/2^5, 0), ROUNDUP(im2colAll_exW7!AI2:FF10/2^5, 0))","v":24},{"$f":"IF(im2colAll_exW7!AJ2:FG10 > 0, ROUNDDOWN(im2colAll_exW7!AJ2:FG10/2^5, 0), ROUNDUP(im2colAll_exW7!AJ2:FG10/2^5, 0))","v":27},{"$f":"IF(im2colAll_exW7!AK2:FH10 > 0, ROUNDDOWN(im2colAll_exW7!AK2:FH10/2^5, 0), ROUNDUP(im2colAll_exW7!AK2:FH10/2^5, 0))","v":1},{"$f":"IF(im2colAll_exW7!AL2:FI10 > 0, ROUNDDOWN(im2colAll_exW7!AL2:FI10/2^5, 0), ROUNDUP(im2colAll_exW7!AL2:FI10/2^5, 0))","v":5},{"$f":"IF(im2colAll_exW7!AM2:FJ10 > 0, ROUNDDOWN(im2colAll_exW7!AM2:FJ10/2^5, 0), ROUNDUP(im2colAll_exW7!AM2:FJ10/2^5, 0))","v":10},{"$f":"IF(im2colAll_exW7!AN2:FK10 > 0, ROUNDDOWN(im2colAll_exW7!AN2:FK10/2^5, 0), ROUNDUP(im2colAll_exW7!AN2:FK10/2^5, 0))","v":7},{"$f":"IF(im2colAll_exW7!AO2:FL10 > 0, ROUNDDOWN(im2colAll_exW7!AO2:FL10/2^5, 0), ROUNDUP(im2colAll_exW7!AO2:FL10/2^5, 0))","v":43},{"$f":"IF(im2colAll_exW7!AP2:FM10 > 0, ROUNDDOWN(im2colAll_exW7!AP2:FM10/2^5, 0), ROUNDUP(im2colAll_exW7!AP2:FM10/2^5, 0))","v":29},{"$f":"IF(im2colAll_exW7!AQ2:FN10 > 0, ROUNDDOWN(im2colAll_exW7!AQ2:FN10/2^5, 0), ROUNDUP(im2colAll_exW7!AQ2:FN10/2^5, 0))","v":7},{"$f":"IF(im2colAll_exW7!AR2:FO10 > 0, ROUNDDOWN(im2colAll_exW7!AR2:FO10/2^5, 0), ROUNDUP(im2colAll_exW7!AR2:FO10/2^5, 0))","v":-29},{"$f":"IF(im2colAll_exW7!AS2:FP10 > 0, ROUNDDOWN(im2colAll_exW7!AS2:FP10/2^5, 0), ROUNDUP(im2colAll_exW7!AS2:FP10/2^5, 0))","v":-17},{"$f":"IF(im2colAll_exW7!AT2:FQ10 > 0, ROUNDDOWN(im2colAll_exW7!AT2:FQ10/2^5, 0), ROUNDUP(im2colAll_exW7!AT2:FQ10/2^5, 0))","v":21},{"$f":"IF(im2colAll_exW7!AU2:FR10 > 0, ROUNDDOWN(im2colAll_exW7!AU2:FR10/2^5, 0), ROUNDUP(im2colAll_exW7!AU2:FR10/2^5, 0))","v":-3},{"$f":"IF(im2colAll_exW7!AV2:FS10 > 0, ROUNDDOWN(im2colAll_exW7!AV2:FS10/2^5, 0), ROUNDUP(im2colAll_exW7!AV2:FS10/2^5, 0))","v":-18},{"$f":"IF(im2colAll_exW7!AW2:FT10 > 0, ROUNDDOWN(im2colAll_exW7!AW2:FT10/2^5, 0), ROUNDUP(im2colAll_exW7!AW2:FT10/2^5, 0))","v":-6},{"$f":"IF(im2colAll_exW7!AX2:FU10 > 0, ROUNDDOWN(im2colAll_exW7!AX2:FU10/2^5, 0), ROUNDUP(im2colAll_exW7!AX2:FU10/2^5, 0))","v":15},{"$f":"IF(im2colAll_exW7!AY2:FV10 > 0, ROUNDDOWN(im2colAll_exW7!AY2:FV10/2^5, 0), ROUNDUP(im2colAll_exW7!AY2:FV10/2^5, 0))","v":22},{"$f":"IF(im2colAll_exW7!AZ2:FW10 > 0, ROUNDDOWN(im2colAll_exW7!AZ2:FW10/2^5, 0), ROUNDUP(im2colAll_exW7!AZ2:FW10/2^5, 0))","v":25},{"$f":"IF(im2colAll_exW7!BA2:FX10 > 0, ROUNDDOWN(im2colAll_exW7!BA2:FX10/2^5, 0), ROUNDUP(im2colAll_exW7!BA2:FX10/2^5, 0))","v":51},{"$f":"IF(im2colAll_exW7!BB2:FY10 > 0, ROUNDDOWN(im2colAll_exW7!BB2:FY10/2^5, 0), ROUNDUP(im2colAll_exW7!BB2:FY10/2^5, 0))","v":49},{"$f":"IF(im2colAll_exW7!BC2:FZ10 > 0, ROUNDDOWN(im2colAll_exW7!BC2:FZ10/2^5, 0), ROUNDUP(im2colAll_exW7!BC2:FZ10/2^5, 0))","v":-13},{"$f":"IF(im2colAll_exW7!BD2:GA10 > 0, ROUNDDOWN(im2colAll_exW7!BD2:GA10/2^5, 0), ROUNDUP(im2colAll_exW7!BD2:GA10/2^5, 0))","v":-1},{"$f":"IF(im2colAll_exW7!BE2:GB10 > 0, ROUNDDOWN(im2colAll_exW7!BE2:GB10/2^5, 0), ROUNDUP(im2colAll_exW7!BE2:GB10/2^5, 0))","v":12},{"$f":"IF(im2colAll_exW7!BF2:GC10 > 0, ROUNDDOWN(im2colAll_exW7!BF2:GC10/2^5, 0), ROUNDUP(im2colAll_exW7!BF2:GC10/2^5, 0))","v":20},{"$f":"IF(im2colAll_exW7!BG2:GD10 > 0, ROUNDDOWN(im2colAll_exW7!BG2:GD10/2^5, 0), ROUNDUP(im2colAll_exW7!BG2:GD10/2^5, 0))","v":26},{"$f":"IF(im2colAll_exW7!BH2:GE10 > 0, ROUNDDOWN(im2colAll_exW7!BH2:GE10/2^5, 0), ROUNDUP(im2colAll_exW7!BH2:GE10/2^5, 0))","v":0},{"$f":"IF(im2colAll_exW7!BI2:GF10 > 0, ROUNDDOWN(im2colAll_exW7!BI2:GF10/2^5, 0), ROUNDUP(im2colAll_exW7!BI2:GF10/2^5, 0))","v":36},{"$f":"IF(im2colAll_exW7!BJ2:GG10 > 0, ROUNDDOWN(im2colAll_exW7!BJ2:GG10/2^5, 0), ROUNDUP(im2colAll_exW7!BJ2:GG10/2^5, 0))","v":8},{"$f":"IF(im2colAll_exW7!BK2:GH10 > 0, ROUNDDOWN(im2colAll_exW7!BK2:GH10/2^5, 0), ROUNDUP(im2colAll_exW7!BK2:GH10/2^5, 0))","v":-5},{"$f":"IF(im2colAll_exW7!BL2:GI10 > 0, ROUNDDOWN(im2colAll_exW7!BL2:GI10/2^5, 0), ROUNDUP(im2colAll_exW7!BL2:GI10/2^5, 0))","v":-10},{"$f":"IF(im2colAll_exW7!BM2:GJ10 > 0, ROUNDDOWN(im2colAll_exW7!BM2:GJ10/2^5, 0), ROUNDUP(im2colAll_exW7!BM2:GJ10/2^5, 0))","v":-6},{"$f":"IF(im2colAll_exW7!BN2:GK10 > 0, ROUNDDOWN(im2colAll_exW7!BN2:GK10/2^5, 0), ROUNDUP(im2colAll_exW7!BN2:GK10/2^5, 0))","v":3},{"$f":"IF(im2colAll_exW7!BO2:GL10 > 0, ROUNDDOWN(im2colAll_exW7!BO2:GL10/2^5, 0), ROUNDUP(im2colAll_exW7!BO2:GL10/2^5, 0))","v":-30},{"$f":"IF(im2colAll_exW7!BP2:GM10 > 0, ROUNDDOWN(im2colAll_exW7!BP2:GM10/2^5, 0), ROUNDUP(im2colAll_exW7!BP2:GM10/2^5, 0))","v":-15},{"$f":"IF(im2colAll_exW7!BQ2:GN10 > 0, ROUNDDOWN(im2colAll_exW7!BQ2:GN10/2^5, 0), ROUNDUP(im2colAll_exW7!BQ2:GN10/2^5, 0))","v":-17},{"$f":"IF(im2colAll_exW7!BR2:GO10 > 0, ROUNDDOWN(im2colAll_exW7!BR2:GO10/2^5, 0), ROUNDUP(im2colAll_exW7!BR2:GO10/2^5, 0))","v":4},{"$f":"IF(im2colAll_exW7!BS2:GP10 > 0, ROUNDDOWN(im2colAll_exW7!BS2:GP10/2^5, 0), ROUNDUP(im2colAll_exW7!BS2:GP10/2^5, 0))","v":2},{"$f":"IF(im2colAll_exW7!BT2:GQ10 > 0, ROUNDDOWN(im2colAll_exW7!BT2:GQ10/2^5, 0), ROUNDUP(im2colAll_exW7!BT2:GQ10/2^5, 0))","v":7},{"$f":"IF(im2colAll_exW7!BU2:GR10 > 0, ROUNDDOWN(im2colAll_exW7!BU2:GR10/2^5, 0), ROUNDUP(im2colAll_exW7!BU2:GR10/2^5, 0))","v":-10},{"$f":"IF(im2colAll_exW7!BV2:GS10 > 0, ROUNDDOWN(im2colAll_exW7!BV2:GS10/2^5, 0), ROUNDUP(im2colAll_exW7!BV2:GS10/2^5, 0))","v":24},{"$f":"IF(im2colAll_exW7!BW2:GT10 > 0, ROUNDDOWN(im2colAll_exW7!BW2:GT10/2^5, 0), ROUNDUP(im2colAll_exW7!BW2:GT10/2^5, 0))","v":16},{"$f":"IF(im2colAll_exW7!BX2:GU10 > 0, ROUNDDOWN(im2colAll_exW7!BX2:GU10/2^5, 0), ROUNDUP(im2colAll_exW7!BX2:GU10/2^5, 0))","v":41},{"$f":"IF(im2colAll_exW7!BY2:GV10 > 0, ROUNDDOWN(im2colAll_exW7!BY2:GV10/2^5, 0), ROUNDUP(im2colAll_exW7!BY2:GV10/2^5, 0))","v":17},{"$f":"IF(im2colAll_exW7!BZ2:GW10 > 0, ROUNDDOWN(im2colAll_exW7!BZ2:GW10/2^5, 0), ROUNDUP(im2colAll_exW7!BZ2:GW10/2^5, 0))","v":15},{"$f":"IF(im2colAll_exW7!CA2:GX10 > 0, ROUNDDOWN(im2colAll_exW7!CA2:GX10/2^5, 0), ROUNDUP(im2colAll_exW7!CA2:GX10/2^5, 0))","v":-23},{"$f":"IF(im2colAll_exW7!CB2:GY10 > 0, ROUNDDOWN(im2colAll_exW7!CB2:GY10/2^5, 0), ROUNDUP(im2colAll_exW7!CB2:GY10/2^5, 0))","v":19},{"$f":"IF(im2colAll_exW7!CC2:GZ10 > 0, ROUNDDOWN(im2colAll_exW7!CC2:GZ10/2^5, 0), ROUNDUP(im2colAll_exW7!CC2:GZ10/2^5, 0))","v":30},{"$f":"IF(im2colAll_exW7!CD2:HA10 > 0, ROUNDDOWN(im2colAll_exW7!CD2:HA10/2^5, 0), ROUNDUP(im2colAll_exW7!CD2:HA10/2^5, 0))","v":44},{"$f":"IF(im2colAll_exW7!CE2:HB10 > 0, ROUNDDOWN(im2colAll_exW7!CE2:HB10/2^5, 0), ROUNDUP(im2colAll_exW7!CE2:HB10/2^5, 0))","v":5},{"$f":"IF(im2colAll_exW7!CF2:HC10 > 0, ROUNDDOWN(im2colAll_exW7!CF2:HC10/2^5, 0), ROUNDUP(im2colAll_exW7!CF2:HC10/2^5, 0))","v":16},{"$f":"IF(im2colAll_exW7!CG2:HD10 > 0, ROUNDDOWN(im2colAll_exW7!CG2:HD10/2^5, 0), ROUNDUP(im2colAll_exW7!CG2:HD10/2^5, 0))","v":18},{"$f":"IF(im2colAll_exW7!CH2:HE10 > 0, ROUNDDOWN(im2colAll_exW7!CH2:HE10/2^5, 0), ROUNDUP(im2colAll_exW7!CH2:HE10/2^5, 0))","v":-15},{"$f":"IF(im2colAll_exW7!CI2:HF10 > 0, ROUNDDOWN(im2colAll_exW7!CI2:HF10/2^5, 0), ROUNDUP(im2colAll_exW7!CI2:HF10/2^5, 0))","v":53},{"$f":"IF(im2colAll_exW7!CJ2:HG10 > 0, ROUNDDOWN(im2colAll_exW7!CJ2:HG10/2^5, 0), ROUNDUP(im2colAll_exW7!CJ2:HG10/2^5, 0))","v":1},{"$f":"IF(im2colAll_exW7!CK2:HH10 > 0, ROUNDDOWN(im2colAll_exW7!CK2:HH10/2^5, 0), ROUNDUP(im2colAll_exW7!CK2:HH10/2^5, 0))","v":32},{"$f":"IF(im2colAll_exW7!CL2:HI10 > 0, ROUNDDOWN(im2colAll_exW7!CL2:HI10/2^5, 0), ROUNDUP(im2colAll_exW7!CL2:HI10/2^5, 0))","v":27},{"$f":"IF(im2colAll_exW7!CM2:HJ10 > 0, ROUNDDOWN(im2colAll_exW7!CM2:HJ10/2^5, 0), ROUNDUP(im2colAll_exW7!CM2:HJ10/2^5, 0))","v":-12},{"$f":"IF(im2colAll_exW7!CN2:HK10 > 0, ROUNDDOWN(im2colAll_exW7!CN2:HK10/2^5, 0), ROUNDUP(im2colAll_exW7!CN2:HK10/2^5, 0))","v":11},{"$f":"IF(im2colAll_exW7!CO2:HL10 > 0, ROUNDDOWN(im2colAll_exW7!CO2:HL10/2^5, 0), ROUNDUP(im2colAll_exW7!CO2:HL10/2^5, 0))","v":0},{"$f":"IF(im2colAll_exW7!CP2:HM10 > 0, ROUNDDOWN(im2colAll_exW7!CP2:HM10/2^5, 0), ROUNDUP(im2colAll_exW7!CP2:HM10/2^5, 0))","v":16},{"$f":"IF(im2colAll_exW7!CQ2:HN10 > 0, ROUNDDOWN(im2colAll_exW7!CQ2:HN10/2^5, 0), ROUNDUP(im2colAll_exW7!CQ2:HN10/2^5, 0))","v":-13},{"$f":"IF(im2colAll_exW7!CR2:HO10 > 0, ROUNDDOWN(im2colAll_exW7!CR2:HO10/2^5, 0), ROUNDUP(im2colAll_exW7!CR2:HO10/2^5, 0))","v":50},{"$f":"IF(im2colAll_exW7!CS2:HP10 > 0, ROUNDDOWN(im2colAll_exW7!CS2:HP10/2^5, 0), ROUNDUP(im2colAll_exW7!CS2:HP10/2^5, 0))","v":52},{"$f":"IF(im2colAll_exW7!CT2:HQ10 > 0, ROUNDDOWN(im2colAll_exW7!CT2:HQ10/2^5, 0), ROUNDUP(im2colAll_exW7!CT2:HQ10/2^5, 0))","v":65},{"$f":"IF(im2colAll_exW7!CU2:HR10 > 0, ROUNDDOWN(im2colAll_exW7!CU2:HR10/2^5, 0), ROUNDUP(im2colAll_exW7!CU2:HR10/2^5, 0))","v":-28},{"$f":"IF(im2colAll_exW7!CV2:HS10 > 0, ROUNDDOWN(im2colAll_exW7!CV2:HS10/2^5, 0), ROUNDUP(im2colAll_exW7!CV2:HS10/2^5, 0))","v":6},{"$f":"IF(im2colAll_exW7!CW2:HT10 > 0, ROUNDDOWN(im2colAll_exW7!CW2:HT10/2^5, 0), ROUNDUP(im2colAll_exW7!CW2:HT10/2^5, 0))","v":-6},{"$f":"IF(im2colAll_exW7!CX2:HU10 > 0, ROUNDDOWN(im2colAll_exW7!CX2:HU10/2^5, 0), ROUNDUP(im2colAll_exW7!CX2:HU10/2^5, 0))","v":16},{"$f":"IF(im2colAll_exW7!CY2:HV10 > 0, ROUNDDOWN(im2colAll_exW7!CY2:HV10/2^5, 0), ROUNDUP(im2colAll_exW7!CY2:HV10/2^5, 0))","v":-10},{"$f":"IF(im2colAll_exW7!CZ2:HW10 > 0, ROUNDDOWN(im2colAll_exW7!CZ2:HW10/2^5, 0), ROUNDUP(im2colAll_exW7!CZ2:HW10/2^5, 0))","v":-16},{"$f":"IF(im2colAll_exW7!DA2:HX10 > 0, ROUNDDOWN(im2colAll_exW7!DA2:HX10/2^5, 0), ROUNDUP(im2colAll_exW7!DA2:HX10/2^5, 0))","v":7},{"$f":"IF(im2colAll_exW7!DB2:HY10 > 0, ROUNDDOWN(im2colAll_exW7!DB2:HY10/2^5, 0), ROUNDUP(im2colAll_exW7!DB2:HY10/2^5, 0))","v":67},{"$f":"IF(im2colAll_exW7!DC2:HZ10 > 0, ROUNDDOWN(im2colAll_exW7!DC2:HZ10/2^5, 0), ROUNDUP(im2colAll_exW7!DC2:HZ10/2^5, 0))","v":34},{"$f":"IF(im2colAll_exW7!DD2:IA10 > 0, ROUNDDOWN(im2colAll_exW7!DD2:IA10/2^5, 0), ROUNDUP(im2colAll_exW7!DD2:IA10/2^5, 0))","v":-3},{"$f":"IF(im2colAll_exW7!DE2:IB10 > 0, ROUNDDOWN(im2colAll_exW7!DE2:IB10/2^5, 0), ROUNDUP(im2colAll_exW7!DE2:IB10/2^5, 0))","v":28},{"$f":"IF(im2colAll_exW7!DF2:IC10 > 0, ROUNDDOWN(im2colAll_exW7!DF2:IC10/2^5, 0), ROUNDUP(im2colAll_exW7!DF2:IC10/2^5, 0))","v":-2},{"$f":"IF(im2colAll_exW7!DG2:ID10 > 0, ROUNDDOWN(im2colAll_exW7!DG2:ID10/2^5, 0), ROUNDUP(im2colAll_exW7!DG2:ID10/2^5, 0))","v":8},{"$f":"IF(im2colAll_exW7!DH2:IE10 > 0, ROUNDDOWN(im2colAll_exW7!DH2:IE10/2^5, 0), ROUNDUP(im2colAll_exW7!DH2:IE10/2^5, 0))","v":12},{"$f":"IF(im2colAll_exW7!DI2:IF10 > 0, ROUNDDOWN(im2colAll_exW7!DI2:IF10/2^5, 0), ROUNDUP(im2colAll_exW7!DI2:IF10/2^5, 0))","v":24},{"$f":"IF(im2colAll_exW7!DJ2:IG10 > 0, ROUNDDOWN(im2colAll_exW7!DJ2:IG10/2^5, 0), ROUNDUP(im2colAll_exW7!DJ2:IG10/2^5, 0))","v":-5},{"$f":"IF(im2colAll_exW7!DK2:IH10 > 0, ROUNDDOWN(im2colAll_exW7!DK2:IH10/2^5, 0), ROUNDUP(im2colAll_exW7!DK2:IH10/2^5, 0))","v":16},{"$f":"IF(im2colAll_exW7!DL2:II10 > 0, ROUNDDOWN(im2colAll_exW7!DL2:II10/2^5, 0), ROUNDUP(im2colAll_exW7!DL2:II10/2^5, 0))","v":-6},{"$f":"IF(im2colAll_exW7!DM2:IJ10 > 0, ROUNDDOWN(im2colAll_exW7!DM2:IJ10/2^5, 0), ROUNDUP(im2colAll_exW7!DM2:IJ10/2^5, 0))","v":10},{"$f":"IF(im2colAll_exW7!DN2:IK10 > 0, ROUNDDOWN(im2colAll_exW7!DN2:IK10/2^5, 0), ROUNDUP(im2colAll_exW7!DN2:IK10/2^5, 0))","v":-1},{"$f":"IF(im2colAll_exW7!DO2:IL10 > 0, ROUNDDOWN(im2colAll_exW7!DO2:IL10/2^5, 0), ROUNDUP(im2colAll_exW7!DO2:IL10/2^5, 0))","v":11},{"$f":"IF(im2colAll_exW7!DP2:IM10 > 0, ROUNDDOWN(im2colAll_exW7!DP2:IM10/2^5, 0), ROUNDUP(im2colAll_exW7!DP2:IM10/2^5, 0))","v":6},{"$f":"IF(im2colAll_exW7!DQ2:IN10 > 0, ROUNDDOWN(im2colAll_exW7!DQ2:IN10/2^5, 0), ROUNDUP(im2colAll_exW7!DQ2:IN10/2^5, 0))","v":12},{"$f":"IF(im2colAll_exW7!DR2:IO10 > 0, ROUNDDOWN(im2colAll_exW7!DR2:IO10/2^5, 0), ROUNDUP(im2colAll_exW7!DR2:IO10/2^5, 0))","v":-11},{"$f":"IF(im2colAll_exW7!DS2:IP10 > 0, ROUNDDOWN(im2colAll_exW7!DS2:IP10/2^5, 0), ROUNDUP(im2colAll_exW7!DS2:IP10/2^5, 0))","v":50},{"$f":"IF(im2colAll_exW7!DT2:IQ10 > 0, ROUNDDOWN(im2colAll_exW7!DT2:IQ10/2^5, 0), ROUNDUP(im2colAll_exW7!DT2:IQ10/2^5, 0))","v":-1},{"$f":"IF(im2colAll_exW7!DU2:IR10 > 0, ROUNDDOWN(im2colAll_exW7!DU2:IR10/2^5, 0), ROUNDUP(im2colAll_exW7!DU2:IR10/2^5, 0))","v":21},{"$f":"IF(im2colAll_exW7!DV2:IS10 > 0, ROUNDDOWN(im2colAll_exW7!DV2:IS10/2^5, 0), ROUNDUP(im2colAll_exW7!DV2:IS10/2^5, 0))","v":15},{"$f":"IF(im2colAll_exW7!DW2:IT10 > 0, ROUNDDOWN(im2colAll_exW7!DW2:IT10/2^5, 0), ROUNDUP(im2colAll_exW7!DW2:IT10/2^5, 0))","v":-12},{"$f":"IF(im2colAll_exW7!DX2:IU10 > 0, ROUNDDOWN(im2colAll_exW7!DX2:IU10/2^5, 0), ROUNDUP(im2colAll_exW7!DX2:IU10/2^5, 0))","v":-1}]
[{"$f":"IF(im2colAll_exW7!A3:DX11 > 0, ROUNDDOWN(im2colAll_exW7!A3:DX11/2^5, 0), ROUNDUP(im2colAll_exW7!A3:DX11/2^5, 0))","v":-12},{"$f":"IF(im2colAll_exW7!B3:DY11 > 0, ROUNDDOWN(im2colAll_exW7!B3:DY11/2^5, 0), ROUNDUP(im2colAll_exW7!B3:DY11/2^5, 0))","v":12},{"$f":"IF(im2colAll_exW7!C3:DZ11 > 0, ROUNDDOWN(im2colAll_exW7!C3:DZ11/2^5, 0), ROUNDUP(im2colAll_exW7!C3:DZ11/2^5, 0))","v":-3},{"$f":"IF(im2colAll_exW7!D3:EA11 > 0, ROUNDDOWN(im2colAll_exW7!D3:EA11/2^5, 0), ROUNDUP(im2colAll_exW7!D3:EA11/2^5, 0))","v":9},{"$f":"IF(im2colAll_exW7!E3:EB11 > 0, ROUNDDOWN(im2colAll_exW7!E3:EB11/2^5, 0), ROUNDUP(im2colAll_exW7!E3:EB11/2^5, 0))","v":43},{"$f":"IF(im2colAll_exW7!F3:EC11 > 0, ROUNDDOWN(im2colAll_exW7!F3:EC11/2^5, 0), ROUNDUP(im2colAll_exW7!F3:EC11/2^5, 0))","v":20},{"$f":"IF(im2colAll_exW7!G3:ED11 > 0, ROUNDDOWN(im2colAll_exW7!G3:ED11/2^5, 0), ROUNDUP(im2colAll_exW7!G3:ED11/2^5, 0))","v":53},{"$f":"IF(im2colAll_exW7!H3:EE11 > 0, ROUNDDOWN(im2colAll_exW7!H3:EE11/2^5, 0), ROUNDUP(im2colAll_exW7!H3:EE11/2^5, 0))","v":9},{"$f":"IF(im2colAll_exW7!I3:EF11 > 0, ROUNDDOWN(im2colAll_exW7!I3:EF11/2^5, 0), ROUNDUP(im2colAll_exW7!I3:EF11/2^5, 0))","v":2},{"$f":"IF(im2colAll_exW7!J3:EG11 > 0, ROUNDDOWN(im2colAll_exW7!J3:EG11/2^5, 0), ROUNDUP(im2colAll_exW7!J3:EG11/2^5, 0))","v":-13},{"$f":"IF(im2colAll_exW7!K3:EH11 > 0, ROUNDDOWN(im2colAll_exW7!K3:EH11/2^5, 0), ROUNDUP(im2colAll_exW7!K3:EH11/2^5, 0))","v":21},{"$f":"IF(im2colAll_exW7!L3:EI11 > 0, ROUNDDOWN(im2colAll_exW7!L3:EI11/2^5, 0), ROUNDUP(im2colAll_exW7!L3:EI11/2^5, 0))","v":14},{"$f":"IF(im2colAll_exW7!M3:EJ11 > 0, ROUNDDOWN(im2colAll_exW7!M3:EJ11/2^5, 0), ROUNDUP(im2colAll_exW7!M3:EJ11/2^5, 0))","v":28},{"$f":"IF(im2colAll_exW7!N3:EK11 > 0, ROUNDDOWN(im2colAll_exW7!N3:EK11/2^5, 0), ROUNDUP(im2colAll_exW7!N3:EK11/2^5, 0))","v":28},{"$f":"IF(im2colAll_exW7!O3:EL11 > 0, ROUNDDOWN(im2colAll_exW7!O3:EL11/2^5, 0), ROUNDUP(im2colAll_exW7!O3:EL11/2^5, 0))","v":-5},{"$f":"IF(im2colAll_exW7!P3:EM11 > 0, ROUNDDOWN(im2colAll_exW7!P3:EM11/2^5, 0), ROUNDUP(im2colAll_exW7!P3:EM11/2^5, 0))","v":4},{"$f":"IF(im2colAll_exW7!Q3:EN11 > 0, ROUNDDOWN(im2colAll_exW7!Q3:EN11/2^5, 0), ROUNDUP(im2colAll_exW7!Q3:EN11/2^5, 0))","v":27},{"$f":"IF(im2colAll_exW7!R3:EO11 > 0, ROUNDDOWN(im2colAll_exW7!R3:EO11/2^5, 0), ROUNDUP(im2colAll_exW7!R3:EO11/2^5, 0))","v":17},{"$f":"IF(im2colAll_exW7!S3:EP11 > 0, ROUNDDOWN(im2colAll_exW7!S3:EP11/2^5, 0), ROUNDUP(im2colAll_exW7!S3:EP11/2^5, 0))","v":-18},{"$f":"IF(im2colAll_exW7!T3:EQ11 > 0, ROUNDDOWN(im2colAll_exW7!T3:EQ11/2^5, 0), ROUNDUP(im2colAll_exW7!T3:EQ11/2^5, 0))","v":37},{"$f":"IF(im2colAll_exW7!U3:ER11 > 0, ROUNDDOWN(im2colAll_exW7!U3:ER11/2^5, 0), ROUNDUP(im2colAll_exW7!U3:ER11/2^5, 0))","v":29},{"$f":"IF(im2colAll_exW7!V3:ES11 > 0, ROUNDDOWN(im2colAll_exW7!V3:ES11/2^5, 0), ROUNDUP(im2colAll_exW7!V3:ES11/2^5, 0))","v":-13},{"$f":"IF(im2colAll_exW7!W3:ET11 > 0, ROUNDDOWN(im2colAll_exW7!W3:ET11/2^5, 0), ROUNDUP(im2colAll_exW7!W3:ET11/2^5, 0))","v":14},{"$f":"IF(im2colAll_exW7!X3:EU11 > 0, ROUNDDOWN(im2colAll_exW7!X3:EU11/2^5, 0), ROUNDUP(im2colAll_exW7!X3:EU11/2^5, 0))","v":-5},{"$f":"IF(im2colAll_exW7!Y3:EV11 > 0, ROUNDDOWN(im2colAll_exW7!Y3:EV11/2^5, 0), ROUNDUP(im2colAll_exW7!Y3:EV11/2^5, 0))","v":18},{"$f":"IF(im2colAll_exW7!Z3:EW11 > 0, ROUNDDOWN(im2colAll_exW7!Z3:EW11/2^5, 0), ROUNDUP(im2colAll_exW7!Z3:EW11/2^5, 0))","v":16},{"$f":"IF(im2colAll_exW7!AA3:EX11 > 0, ROUNDDOWN(im2colAll_exW7!AA3:EX11/2^5, 0), ROUNDUP(im2colAll_exW7!AA3:EX11/2^5, 0))","v":18},{"$f":"IF(im2colAll_exW7!AB3:EY11 > 0, ROUNDDOWN(im2colAll_exW7!AB3:EY11/2^5, 0), ROUNDUP(im2colAll_exW7!AB3:EY11/2^5, 0))","v":25},{"$f":"IF(im2colAll_exW7!AC3:EZ11 > 0, ROUNDDOWN(im2colAll_exW7!AC3:EZ11/2^5, 0), ROUNDUP(im2colAll_exW7!AC3:EZ11/2^5, 0))","v":7},{"$f":"IF(im2colAll_exW7!AD3:FA11 > 0, ROUNDDOWN(im2colAll_exW7!AD3:FA11/2^5, 0), ROUNDUP(im2colAll_exW7!AD3:FA11/2^5, 0))","v":-16},{"$f":"IF(im2colAll_exW7!AE3:FB11 > 0, ROUNDDOWN(im2colAll_exW7!AE3:FB11/2^5, 0), ROUNDUP(im2colAll_exW7!AE3:FB11/2^5, 0))","v":22},{"$f":"IF(im2colAll_exW7!AF3:FC11 > 0, ROUNDDOWN(im2colAll_exW7!AF3:FC11/2^5, 0), ROUNDUP(im2colAll_exW7!AF3:FC11/2^5, 0))","v":10},{"$f":"IF(im2colAll_exW7!AG3:FD11 > 0, ROUNDDOWN(im2colAll_exW7!AG3:FD11/2^5, 0), ROUNDUP(im2colAll_exW7!AG3:FD11/2^5, 0))","v":-3},{"$f":"IF(im2colAll_exW7!AH3:FE11 > 0, ROUNDDOWN(im2colAll_exW7!AH3:FE11/2^5, 0), ROUNDUP(im2colAll_exW7!AH3:FE11/2^5, 0))","v":24},{"$f":"IF(im2colAll_exW7!AI3:FF11 > 0, ROUNDDOWN(im2colAll_exW7!AI3:FF11/2^5, 0), ROUNDUP(im2colAll_exW7!AI3:FF11/2^5, 0))","v":27},{"$f":"IF(im2colAll_exW7!AJ3:FG11 > 0, ROUNDDOWN(im2colAll_exW7!AJ3:FG11/2^5, 0), ROUNDUP(im2colAll_exW7!AJ3:FG11/2^5, 0))","v":17},{"$f":"IF(im2colAll_exW7!AK3:FH11 > 0, ROUNDDOWN(im2colAll_exW7!AK3:FH11/2^5, 0), ROUNDUP(im2colAll_exW7!AK3:FH11/2^5, 0))","v":-4},{"$f":"IF(im2colAll_exW7!AL3:FI11 > 0, ROUNDDOWN(im2colAll_exW7!AL3:FI11/2^5, 0), ROUNDUP(im2colAll_exW7!AL3:FI11/2^5, 0))","v":3},{"$f":"IF(im2colAll_exW7!AM3:FJ11 > 0, ROUNDDOWN(im2colAll_exW7!AM3:FJ11/2^5, 0), ROUNDUP(im2colAll_exW7!AM3:FJ11/2^5, 0))","v":12},{"$f":"IF(im2colAll_exW7!AN3:FK11 > 0, ROUNDDOWN(im2colAll_exW7!AN3:FK11/2^5, 0), ROUNDUP(im2colAll_exW7!AN3:FK11/2^5, 0))","v":-8},{"$f":"IF(im2colAll_exW7!AO3:FL11 > 0, ROUNDDOWN(im2colAll_exW7!AO3:FL11/2^5, 0), ROUNDUP(im2colAll_exW7!AO3:FL11/2^5, 0))","v":44},{"$f":"IF(im2colAll_exW7!AP3:FM11 > 0, ROUNDDOWN(im2colAll_exW7!AP3:FM11/2^5, 0), ROUNDUP(im2colAll_exW7!AP3:FM11/2^5, 0))","v":28},{"$f":"IF(im2colAll_exW7!AQ3:FN11 > 0, ROUNDDOWN(im2colAll_exW7!AQ3:FN11/2^5, 0), ROUNDUP(im2colAll_exW7!AQ3:FN11/2^5, 0))","v":-1},{"$f":"IF(im2colAll_exW7!AR3:FO11 > 0, ROUNDDOWN(im2colAll_exW7!AR3:FO11/2^5, 0), ROUNDUP(im2colAll_exW7!AR3:FO11/2^5, 0))","v":-24},{"$f":"IF(im2colAll_exW7!AS3:FP11 > 0, ROUNDDOWN(im2colAll_exW7!AS3:FP11/2^5, 0), ROUNDUP(im2colAll_exW7!AS3:FP11/2^5, 0))","v":-14},{"$f":"IF(im2colAll_exW7!AT3:FQ11 > 0, ROUNDDOWN(im2colAll_exW7!AT3:FQ11/2^5, 0), ROUNDUP(im2colAll_exW7!AT3:FQ11/2^5, 0))","v":21},{"$f":"IF(im2colAll_exW7!AU3:FR11 > 0, ROUNDDOWN(im2colAll_exW7!AU3:FR11/2^5, 0), ROUNDUP(im2colAll_exW7!AU3:FR11/2^5, 0))","v":-4},{"$f":"IF(im2colAll_exW7!AV3:FS11 > 0, ROUNDDOWN(im2colAll_exW7!AV3:FS11/2^5, 0), ROUNDUP(im2colAll_exW7!AV3:FS11/2^5, 0))","v":-12},{"$f":"IF(im2colAll_exW7!AW3:FT11 > 0, ROUNDDOWN(im2colAll_exW7!AW3:FT11/2^5, 0), ROUNDUP(im2colAll_exW7!AW3:FT11/2^5, 0))","v":-8},{"$f":"IF(im2colAll_exW7!AX3:FU11 > 0, ROUNDDOWN(im2colAll_exW7!AX3:FU11/2^5, 0), ROUNDUP(im2colAll_exW7!AX3:FU11/2^5, 0))","v":9},{"$f":"IF(im2colAll_exW7!AY3:FV11 > 0, ROUNDDOWN(im2colAll_exW7!AY3:FV11/2^5, 0), ROUNDUP(im2colAll_exW7!AY3:FV11/2^5, 0))","v":35},{"$f":"IF(im2colAll_exW7!AZ3:FW11 > 0, ROUNDDOWN(im2colAll_exW7!AZ3:FW11/2^5, 0), ROUNDUP(im2colAll_exW7!AZ3:FW11/2^5, 0))","v":11},{"$f":"IF(im2colAll_exW7!BA3:FX11 > 0, ROUNDDOWN(im2colAll_exW7!BA3:FX11/2^5, 0), ROUNDUP(im2colAll_exW7!BA3:FX11/2^5, 0))","v":48},{"$f":"IF(im2colAll_exW7!BB3:FY11 > 0, ROUNDDOWN(im2colAll_exW7!BB3:FY11/2^5, 0), ROUNDUP(im2colAll_exW7!BB3:FY11/2^5, 0))","v":53},{"$f":"IF(im2colAll_exW7!BC3:FZ11 > 0, ROUNDDOWN(im2colAll_exW7!BC3:FZ11/2^5, 0), ROUNDUP(im2colAll_exW7!BC3:FZ11/2^5, 0))","v":-10},{"$f":"IF(im2colAll_exW7!BD3:GA11 > 0, ROUNDDOWN(im2colAll_exW7!BD3:GA11/2^5, 0), ROUNDUP(im2colAll_exW7!BD3:GA11/2^5, 0))","v":-6},{"$f":"IF(im2colAll_exW7!BE3:GB11 > 0, ROUNDDOWN(im2colAll_exW7!BE3:GB11/2^5, 0), ROUNDUP(im2colAll_exW7!BE3:GB11/2^5, 0))","v":28},{"$f":"IF(im2colAll_exW7!BF3:GC11 > 0, ROUNDDOWN(im2colAll_exW7!BF3:GC11/2^5, 0), ROUNDUP(im2colAll_exW7!BF3:GC11/2^5, 0))","v":8},{"$f":"IF(im2colAll_exW7!BG3:GD11 > 0, ROUNDDOWN(im2colAll_exW7!BG3:GD11/2^5, 0), ROUNDUP(im2colAll_exW7!BG3:GD11/2^5, 0))","v":17},{"$f":"IF(im2colAll_exW7!BH3:GE11 > 0, ROUNDDOWN(im2colAll_exW7!BH3:GE11/2^5, 0), ROUNDUP(im2colAll_exW7!BH3:GE11/2^5, 0))","v":4},{"$f":"IF(im2colAll_exW7!BI3:GF11 > 0, ROUNDDOWN(im2colAll_exW7!BI3:GF11/2^5, 0), ROUNDUP(im2colAll_exW7!BI3:GF11/2^5, 0))","v":44},{"$f":"IF(im2colAll_exW7!BJ3:GG11 > 0, ROUNDDOWN(im2colAll_exW7!BJ3:GG11/2^5, 0), ROUNDUP(im2colAll_exW7!BJ3:GG11/2^5, 0))","v":19},{"$f":"IF(im2colAll_exW7!BK3:GH11 > 0, ROUNDDOWN(im2colAll_exW7!BK3:GH11/2^5, 0), ROUNDUP(im2colAll_exW7!BK3:GH11/2^5, 0))","v":-9},{"$f":"IF(im2colAll_exW7!BL3:GI11 > 0, ROUNDDOWN(im2colAll_exW7!BL3:GI11/2^5, 0), ROUNDUP(im2colAll_exW7!BL3:GI11/2^5, 0))","v":-19},{"$f":"IF(im2colAll_exW7!BM3:GJ11 > 0, ROUNDDOWN(im2colAll_exW7!BM3:GJ11/2^5, 0), ROUNDUP(im2colAll_exW7!BM3:GJ11/2^5, 0))","v":7},{"$f":"IF(im2colAll_exW7!BN3:GK11 > 0, ROUNDDOWN(im2colAll_exW7!BN3:GK11/2^5, 0), ROUNDUP(im2colAll_exW7!BN3:GK11/2^5, 0))","v":8},{"$f":"IF(im2colAll_exW7!BO3:GL11 > 0, ROUNDDOWN(im2colAll_exW7!BO3:GL11/2^5, 0), ROUNDUP(im2colAll_exW7!BO3:GL11/2^5, 0))","v":-21},{"$f":"IF(im2colAll_exW7!BP3:GM11 > 0, ROUNDDOWN(im2colAll_exW7!BP3:GM11/2^5, 0), ROUNDUP(im2colAll_exW7!BP3:GM11/2^5, 0))","v":-9},{"$f":"IF(im2colAll_exW7!BQ3:GN11 > 0, ROUNDDOWN(im2colAll_exW7!BQ3:GN11/2^5, 0), ROUNDUP(im2colAll_exW7!BQ3:GN11/2^5, 0))","v":-13},{"$f":"IF(im2colAll_exW7!BR3:GO11 > 0, ROUNDDOWN(im2colAll_exW7!BR3:GO11/2^5, 0), ROUNDUP(im2colAll_exW7!BR3:GO11/2^5, 0))","v":-3},{"$f":"IF(im2colAll_exW7!BS3:GP11 > 0, ROUNDDOWN(im2colAll_exW7!BS3:GP11/2^5, 0), ROUNDUP(im2colAll_exW7!BS3:GP11/2^5, 0))","v":0},{"$f":"IF(im2colAll_exW7!BT3:GQ11 > 0, ROUNDDOWN(im2colAll_exW7!BT3:GQ11/2^5, 0), ROUNDUP(im2colAll_exW7!BT3:GQ11/2^5, 0))","v":-7},{"$f":"IF(im2colAll_exW7!BU3:GR11 > 0, ROUNDDOWN(im2colAll_exW7!BU3:GR11/2^5, 0), ROUNDUP(im2colAll_exW7!BU3:GR11/2^5, 0))","v":-9},{"$f":"IF(im2colAll_exW7!BV3:GS11 > 0, ROUNDDOWN(im2colAll_exW7!BV3:GS11/2^5, 0), ROUNDUP(im2colAll_exW7!BV3:GS11/2^5, 0))","v":27},{"$f":"IF(im2colAll_exW7!BW3:GT11 > 0, ROUNDDOWN(im2colAll_exW7!BW3:GT11/2^5, 0), ROUNDUP(im2colAll_exW7!BW3:GT11/2^5, 0))","v":13},{"$f":"IF(im2colAll_exW7!BX3:GU11 > 0, ROUNDDOWN(im2colAll_exW7!BX3:GU11/2^5, 0), ROUNDUP(im2colAll_exW7!BX3:GU11/2^5, 0))","v":37},{"$f":"IF(im2colAll_exW7!BY3:GV11 > 0, ROUNDDOWN(im2colAll_exW7!BY3:GV11/2^5, 0), ROUNDUP(im2colAll_exW7!BY3:GV11/2^5, 0))","v":11},{"$f":"IF(im2colAll_exW7!BZ3:GW11 > 0, ROUNDDOWN(im2colAll_exW7!BZ3:GW11/2^5, 0), ROUNDUP(im2colAll_exW7!BZ3:GW11/2^5, 0))","v":11},{"$f":"IF(im2colAll_exW7!CA3:GX11 > 0, ROUNDDOWN(im2colAll_exW7!CA3:GX11/2^5, 0), ROUNDUP(im2colAll_exW7!CA3:GX11/2^5, 0))","v":-15},{"$f":"IF(im2colAll_exW7!CB3:GY11 > 0, ROUNDDOWN(im2colAll_exW7!CB3:GY11/2^5, 0), ROUNDUP(im2colAll_exW7!CB3:GY11/2^5, 0))","v":13},{"$f":"IF(im2colAll_exW7!CC3:GZ11 > 0, ROUNDDOWN(im2colAll_exW7!CC3:GZ11/2^5, 0), ROUNDUP(im2colAll_exW7!CC3:GZ11/2^5, 0))","v":30},{"$f":"IF(im2colAll_exW7!CD3:HA11 > 0, ROUNDDOWN(im2colAll_exW7!CD3:HA11/2^5, 0), ROUNDUP(im2colAll_exW7!CD3:HA11/2^5, 0))","v":39},{"$f":"IF(im2colAll_exW7!CE3:HB11 > 0, ROUNDDOWN(im2colAll_exW7!CE3:HB11/2^5, 0), ROUNDUP(im2colAll_exW7!CE3:HB11/2^5, 0))","v":0},{"$f":"IF(im2colAll_exW7!CF3:HC11 > 0, ROUNDDOWN(im2colAll_exW7!CF3:HC11/2^5, 0), ROUNDUP(im2colAll_exW7!CF3:HC11/2^5, 0))","v":18},{"$f":"IF(im2colAll_exW7!CG3:HD11 > 0, ROUNDDOWN(im2colAll_exW7!CG3:HD11/2^5, 0), ROUNDUP(im2colAll_exW7!CG3:HD11/2^5, 0))","v":12},{"$f":"IF(im2colAll_exW7!CH3:HE11 > 0, ROUNDDOWN(im2colAll_exW7!CH3:HE11/2^5, 0), ROUNDUP(im2colAll_exW7!CH3:HE11/2^5, 0))","v":-6},{"$f":"IF(im2colAll_exW7!CI3:HF11 > 0, ROUNDDOWN(im2colAll_exW7!CI3:HF11/2^5, 0), ROUNDUP(im2colAll_exW7!CI3:HF11/2^5, 0))","v":55},{"$f":"IF(im2colAll_exW7!CJ3:HG11 > 0, ROUNDDOWN(im2colAll_exW7!CJ3:HG11/2^5, 0), ROUNDUP(im2colAll_exW7!CJ3:HG11/2^5, 0))","v":5},{"$f":"IF(im2colAll_exW7!CK3:HH11 > 0, ROUNDDOWN(im2colAll_exW7!CK3:HH11/2^5, 0), ROUNDUP(im2colAll_exW7!CK3:HH11/2^5, 0))","v":31},{"$f":"IF(im2colAll_exW7!CL3:HI11 > 0, ROUNDDOWN(im2colAll_exW7!CL3:HI11/2^5, 0), ROUNDUP(im2colAll_exW7!CL3:HI11/2^5, 0))","v":22},{"$f":"IF(im2colAll_exW7!CM3:HJ11 > 0, ROUNDDOWN(im2colAll_exW7!CM3:HJ11/2^5, 0), ROUNDUP(im2colAll_exW7!CM3:HJ11/2^5, 0))","v":-8},{"$f":"IF(im2colAll_exW7!CN3:HK11 > 0, ROUNDDOWN(im2colAll_exW7!CN3:HK11/2^5, 0), ROUNDUP(im2colAll_exW7!CN3:HK11/2^5, 0))","v":7},{"$f":"IF(im2colAll_exW7!CO3:HL11 > 0, ROUNDDOWN(im2colAll_exW7!CO3:HL11/2^5, 0), ROUNDUP(im2colAll_exW7!CO3:HL11/2^5, 0))","v":6},{"$f":"IF(im2colAll_exW7!CP3:HM11 > 0, ROUNDDOWN(im2colAll_exW7!CP3:HM11/2^5, 0), ROUNDUP(im2colAll_exW7!CP3:HM11/2^5, 0))","v":12},{"$f":"IF(im2colAll_exW7!CQ3:HN11 > 0, ROUNDDOWN(im2colAll_exW7!CQ3:HN11/2^5, 0), ROUNDUP(im2colAll_exW7!CQ3:HN11/2^5, 0))","v":-12},{"$f":"IF(im2colAll_exW7!CR3:HO11 > 0, ROUNDDOWN(im2colAll_exW7!CR3:HO11/2^5, 0), ROUNDUP(im2colAll_exW7!CR3:HO11/2^5, 0))","v":38},{"$f":"IF(im2colAll_exW7!CS3:HP11 > 0, ROUNDDOWN(im2colAll_exW7!CS3:HP11/2^5, 0), ROUNDUP(im2colAll_exW7!CS3:HP11/2^5, 0))","v":38},{"$f":"IF(im2colAll_exW7!CT3:HQ11 > 0, ROUNDDOWN(im2colAll_exW7!CT3:HQ11/2^5, 0), ROUNDUP(im2colAll_exW7!CT3:HQ11/2^5, 0))","v":67},{"$f":"IF(im2colAll_exW7!CU3:HR11 > 0, ROUNDDOWN(im2colAll_exW7!CU3:HR11/2^5, 0), ROUNDUP(im2colAll_exW7!CU3:HR11/2^5, 0))","v":-20},{"$f":"IF(im2colAll_exW7!CV3:HS11 > 0, ROUNDDOWN(im2colAll_exW7!CV3:HS11/2^5, 0), ROUNDUP(im2colAll_exW7!CV3:HS11/2^5, 0))","v":8},{"$f":"IF(im2colAll_exW7!CW3:HT11 > 0, ROUNDDOWN(im2colAll_exW7!CW3:HT11/2^5, 0), ROUNDUP(im2colAll_exW7!CW3:HT11/2^5, 0))","v":-6},{"$f":"IF(im2colAll_exW7!CX3:HU11 > 0, ROUNDDOWN(im2colAll_exW7!CX3:HU11/2^5, 0), ROUNDUP(im2colAll_exW7!CX3:HU11/2^5, 0))","v":16},{"$f":"IF(im2colAll_exW7!CY3:HV11 > 0, ROUNDDOWN(im2colAll_exW7!CY3:HV11/2^5, 0), ROUNDUP(im2colAll_exW7!CY3:HV11/2^5, 0))","v":-9},{"$f":"IF(im2colAll_exW7!CZ3:HW11 > 0, ROUNDDOWN(im2colAll_exW7!CZ3:HW11/2^5, 0), ROUNDUP(im2colAll_exW7!CZ3:HW11/2^5, 0))","v":-21},{"$f":"IF(im2colAll_exW7!DA3:HX11 > 0, ROUNDDOWN(im2colAll_exW7!DA3:HX11/2^5, 0), ROUNDUP(im2colAll_exW7!DA3:HX11/2^5, 0))","v":3},{"$f":"IF(im2colAll_exW7!DB3:HY11 > 0, ROUNDDOWN(im2colAll_exW7!DB3:HY11/2^5, 0), ROUNDUP(im2colAll_exW7!DB3:HY11/2^5, 0))","v":66},{"$f":"IF(im2colAll_exW7!DC3:HZ11 > 0, ROUNDDOWN(im2colAll_exW7!DC3:HZ11/2^5, 0), ROUNDUP(im2colAll_exW7!DC3:HZ11/2^5, 0))","v":31},{"$f":"IF(im2colAll_exW7!DD3:IA11 > 0, ROUNDDOWN(im2colAll_exW7!DD3:IA11/2^5, 0), ROUNDUP(im2colAll_exW7!DD3:IA11/2^5, 0))","v":-2},{"$f":"IF(im2colAll_exW7!DE3:IB11 > 0, ROUNDDOWN(im2colAll_exW7!DE3:IB11/2^5, 0), ROUNDUP(im2colAll_exW7!DE3:IB11/2^5, 0))","v":30},{"$f":"IF(im2colAll_exW7!DF3:IC11 > 0, ROUNDDOWN(im2colAll_exW7!DF3:IC11/2^5, 0), ROUNDUP(im2colAll_exW7!DF3:IC11/2^5, 0))","v":-1},{"$f":"IF(im2colAll_exW7!DG3:ID11 > 0, ROUNDDOWN(im2colAll_exW7!DG3:ID11/2^5, 0), ROUNDUP(im2colAll_exW7!DG3:ID11/2^5, 0))","v":9},{"$f":"IF(im2colAll_exW7!DH3:IE11 > 0, ROUNDDOWN(im2colAll_exW7!DH3:IE11/2^5, 0), ROUNDUP(im2colAll_exW7!DH3:IE11/2^5, 0))","v":12},{"$f":"IF(im2colAll_exW7!DI3:IF11 > 0, ROUNDDOWN(im2colAll_exW7!DI3:IF11/2^5, 0), ROUNDUP(im2colAll_exW7!DI3:IF11/2^5, 0))","v":8},{"$f":"IF(im2colAll_exW7!DJ3:IG11 > 0, ROUNDDOWN(im2colAll_exW7!DJ3:IG11/2^5, 0), ROUNDUP(im2colAll_exW7!DJ3:IG11/2^5, 0))","v":-2},{"$f":"IF(im2colAll_exW7!DK3:IH11 > 0, ROUNDDOWN(im2colAll_exW7!DK3:IH11/2^5, 0), ROUNDUP(im2colAll_exW7!DK3:IH11/2^5, 0))","v":5},{"$f":"IF(im2colAll_exW7!DL3:II11 > 0, ROUNDDOWN(im2colAll_exW7!DL3:II11/2^5, 0), ROUNDUP(im2colAll_exW7!DL3:II11/2^5, 0))","v":1},{"$f":"IF(im2colAll_exW7!DM3:IJ11 > 0, ROUNDDOWN(im2colAll_exW7!DM3:IJ11/2^5, 0), ROUNDUP(im2colAll_exW7!DM3:IJ11/2^5, 0))","v":2},{"$f":"IF(im2colAll_exW7!DN3:IK11 > 0, ROUNDDOWN(im2colAll_exW7!DN3:IK11/2^5, 0), ROUNDUP(im2colAll_exW7!DN3:IK11/2^5, 0))","v":6},{"$f":"IF(im2colAll_exW7!DO3:IL11 > 0, ROUNDDOWN(im2colAll_exW7!DO3:IL11/2^5, 0), ROUNDUP(im2colAll_exW7!DO3:IL11/2^5, 0))","v":8},{"$f":"IF(im2colAll_exW7!DP3:IM11 > 0, ROUNDDOWN(im2colAll_exW7!DP3:IM11/2^5, 0), ROUNDUP(im2colAll_exW7!DP3:IM11/2^5, 0))","v":6},{"$f":"IF(im2colAll_exW7!DQ3:IN11 > 0, ROUNDDOWN(im2colAll_exW7!DQ3:IN11/2^5, 0), ROUNDUP(im2colAll_exW7!DQ3:IN11/2^5, 0))","v":6},{"$f":"IF(im2colAll_exW7!DR3:IO11 > 0, ROUNDDOWN(im2colAll_exW7!DR3:IO11/2^5, 0), ROUNDUP(im2colAll_exW7!DR3:IO11/2^5, 0))","v":-9},{"$f":"IF(im2colAll_exW7!DS3:IP11 > 0, ROUNDDOWN(im2colAll_exW7!DS3:IP11/2^5, 0), ROUNDUP(im2colAll_exW7!DS3:IP11/2^5, 0))","v":49},{"$f":"IF(im2colAll_exW7!DT3:IQ11 > 0, ROUNDDOWN(im2colAll_exW7!DT3:IQ11/2^5, 0), ROUNDUP(im2colAll_exW7!DT3:IQ11/2^5, 0))","v":-2},{"$f":"IF(im2colAll_exW7!DU3:IR11 > 0, ROUNDDOWN(im2colAll_exW7!DU3:IR11/2^5, 0), ROUNDUP(im2colAll_exW7!DU3:IR11/2^5, 0))","v":20},{"$f":"IF(im2colAll_exW7!DV3:IS11 > 0, ROUNDDOWN(im2colAll_exW7!DV3:IS11/2^5, 0), ROUNDUP(im2colAll_exW7!DV3:IS11/2^5, 0))","v":16},{"$f":"IF(im2colAll_exW7!DW3:IT11 > 0, ROUNDDOWN(im2colAll_exW7!DW3:IT11/2^5, 0), ROUNDUP(im2colAll_exW7!DW3:IT11/2^5, 0))","v":-7},{"$f":"IF(im2colAll_exW7!DX3:IU11 > 0, ROUNDDOWN(im2colAll_exW7!DX3:IU11/2^5, 0), ROUNDUP(im2colAll_exW7!DX3:IU11/2^5, 0))","v":9}]
[{"$f":"IF(im2colAll_exW7!A4:DX12 > 0, ROUNDDOWN(im2colAll_exW7!A4:DX12/2^5, 0), ROUNDUP(im2colAll_exW7!A4:DX12/2^5, 0))","v":-15},{"$f":"IF(im2colAll_exW7!B4:DY12 > 0, ROUNDDOWN(im2colAll_exW7!B4:DY12/2^5, 0), ROUNDUP(im2colAll_exW7!B4:DY12/2^5, 0))","v":0},{"$f":"IF(im2colAll_exW7!C4:DZ12 > 0, ROUNDDOWN(im2colAll_exW7!C4:DZ12/2^5, 0), ROUNDUP(im2colAll_exW7!C4:DZ12/2^5, 0))","v":-9},{"$f":"IF(im2colAll_exW7!D4:EA12 > 0, ROUNDDOWN(im2colAll_exW7!D4:EA12/2^5, 0), ROUNDUP(im2colAll_exW7!D4:EA12/2^5, 0))","v":13},{"$f":"IF(im2colAll_exW7!E4:EB12 > 0, ROUNDDOWN(im2colAll_exW7!E4:EB12/2^5, 0), ROUNDUP(im2colAll_exW7!E4:EB12/2^5, 0))","v":37},{"$f":"IF(im2colAll_exW7!F4:EC12 > 0, ROUNDDOWN(im2colAll_exW7!F4:EC12/2^5, 0), ROUNDUP(im2colAll_exW7!F4:EC12/2^5, 0))","v":23},{"$f":"IF(im2colAll_exW7!G4:ED12 > 0, ROUNDDOWN(im2colAll_exW7!G4:ED12/2^5, 0), ROUNDUP(im2colAll_exW7!G4:ED12/2^5, 0))","v":65},{"$f":"IF(im2colAll_exW7!H4:EE12 > 0, ROUNDDOWN(im2colAll_exW7!H4:EE12/2^5, 0), ROUNDUP(im2colAll_exW7!H4:EE12/2^5, 0))","v":22},{"$f":"IF(im2colAll_exW7!I4:EF12 > 0, ROUNDDOWN(im2colAll_exW7!I4:EF12/2^5, 0), ROUNDUP(im2colAll_exW7!I4:EF12/2^5, 0))","v":3},{"$f":"IF(im2colAll_exW7!J4:EG12 > 0, ROUNDDOWN(im2colAll_exW7!J4:EG12/2^5, 0), ROUNDUP(im2colAll_exW7!J4:EG12/2^5, 0))","v":-19},{"$f":"IF(im2colAll_exW7!K4:EH12 > 0, ROUNDDOWN(im2colAll_exW7!K4:EH12/2^5, 0), ROUNDUP(im2colAll_exW7!K4:EH12/2^5, 0))","v":14},{"$f":"IF(im2colAll_exW7!L4:EI12 > 0, ROUNDDOWN(im2colAll_exW7!L4:EI12/2^5, 0), ROUNDUP(im2colAll_exW7!L4:EI12/2^5, 0))","v":4},{"$f":"IF(im2colAll_exW7!M4:EJ12 > 0, ROUNDDOWN(im2colAll_exW7!M4:EJ12/2^5, 0), ROUNDUP(im2colAll_exW7!M4:EJ12/2^5, 0))","v":11},{"$f":"IF(im2colAll_exW7!N4:EK12 > 0, ROUNDDOWN(im2colAll_exW7!N4:EK12/2^5, 0), ROUNDUP(im2colAll_exW7!N4:EK12/2^5, 0))","v":35},{"$f":"IF(im2colAll_exW7!O4:EL12 > 0, ROUNDDOWN(im2colAll_exW7!O4:EL12/2^5, 0), ROUNDUP(im2colAll_exW7!O4:EL12/2^5, 0))","v":-3},{"$f":"IF(im2colAll_exW7!P4:EM12 > 0, ROUNDDOWN(im2colAll_exW7!P4:EM12/2^5, 0), ROUNDUP(im2colAll_exW7!P4:EM12/2^5, 0))","v":-1},{"$f":"IF(im2colAll_exW7!Q4:EN12 > 0, ROUNDDOWN(im2colAll_exW7!Q4:EN12/2^5, 0), ROUNDUP(im2colAll_exW7!Q4:EN12/2^5, 0))","v":17},{"$f":"IF(im2colAll_exW7!R4:EO12 > 0, ROUNDDOWN(im2colAll_exW7!R4:EO12/2^5, 0), ROUNDUP(im2colAll_exW7!R4:EO12/2^5, 0))","v":11},{"$f":"IF(im2colAll_exW7!S4:EP12 > 0, ROUNDDOWN(im2colAll_exW7!S4:EP12/2^5, 0), ROUNDUP(im2colAll_exW7!S4:EP12/2^5, 0))","v":-11},{"$f":"IF(im2colAll_exW7!T4:EQ12 > 0, ROUNDDOWN(im2colAll_exW7!T4:EQ12/2^5, 0), ROUNDUP(im2colAll_exW7!T4:EQ12/2^5, 0))","v":33},{"$f":"IF(im2colAll_exW7!U4:ER12 > 0, ROUNDDOWN(im2colAll_exW7!U4:ER12/2^5, 0), ROUNDUP(im2colAll_exW7!U4:ER12/2^5, 0))","v":24},{"$f":"IF(im2colAll_exW7!V4:ES12 > 0, ROUNDDOWN(im2colAll_exW7!V4:ES12/2^5, 0), ROUNDUP(im2colAll_exW7!V4:ES12/2^5, 0))","v":-7},{"$f":"IF(im2colAll_exW7!W4:ET12 > 0, ROUNDDOWN(im2colAll_exW7!W4:ET12/2^5, 0), ROUNDUP(im2colAll_exW7!W4:ET12/2^5, 0))","v":8},{"$f":"IF(im2colAll_exW7!X4:EU12 > 0, ROUNDDOWN(im2colAll_exW7!X4:EU12/2^5, 0), ROUNDUP(im2colAll_exW7!X4:EU12/2^5, 0))","v":-13},{"$f":"IF(im2colAll_exW7!Y4:EV12 > 0, ROUNDDOWN(im2colAll_exW7!Y4:EV12/2^5, 0), ROUNDUP(im2colAll_exW7!Y4:EV12/2^5, 0))","v":27},{"$f":"IF(im2colAll_exW7!Z4:EW12 > 0, ROUNDDOWN(im2colAll_exW7!Z4:EW12/2^5, 0), ROUNDUP(im2colAll_exW7!Z4:EW12/2^5, 0))","v":12},{"$f":"IF(im2colAll_exW7!AA4:EX12 > 0, ROUNDDOWN(im2colAll_exW7!AA4:EX12/2^5, 0), ROUNDUP(im2colAll_exW7!AA4:EX12/2^5, 0))","v":2},{"$f":"IF(im2colAll_exW7!AB4:EY12 > 0, ROUNDDOWN(im2colAll_exW7!AB4:EY12/2^5, 0), ROUNDUP(im2colAll_exW7!AB4:EY12/2^5, 0))","v":26},{"$f":"IF(im2colAll_exW7!AC4:EZ12 > 0, ROUNDDOWN(im2colAll_exW7!AC4:EZ12/2^5, 0), ROUNDUP(im2colAll_exW7!AC4:EZ12/2^5, 0))","v":8},{"$f":"IF(im2colAll_exW7!AD4:FA12 > 0, ROUNDDOWN(im2colAll_exW7!AD4:FA12/2^5, 0), ROUNDUP(im2colAll_exW7!AD4:FA12/2^5, 0))","v":-11},{"$f":"IF(im2colAll_exW7!AE4:FB12 > 0, ROUNDDOWN(im2colAll_exW7!AE4:FB12/2^5, 0), ROUNDUP(im2colAll_exW7!AE4:FB12/2^5, 0))","v":-3},{"$f":"IF(im2colAll_exW7!AF4:FC12 > 0, ROUNDDOWN(im2colAll_exW7!AF4:FC12/2^5, 0), ROUNDUP(im2colAll_exW7!AF4:FC12/2^5, 0))","v":2},{"$f":"IF(im2colAll_exW7!AG4:FD12 > 0, ROUNDDOWN(im2colAll_exW7!AG4:FD12/2^5, 0), ROUNDUP(im2colAll_exW7!AG4:FD12/2^5, 0))","v":-11},{"$f":"IF(im2colAll_exW7!AH4:FE12 > 0, ROUNDDOWN(im2colAll_exW7!AH4:FE12/2^5, 0), ROUNDUP(im2colAll_exW7!AH4:FE12/2^5, 0))","v":24},{"$f":"IF(im2colAll_exW7!AI4:FF12 > 0, ROUNDDOWN(im2colAll_exW7!AI4:FF12/2^5, 0), ROUNDUP(im2colAll_exW7!AI4:FF12/2^5, 0))","v":17},{"$f":"IF(im2colAll_exW7!AJ4:FG12 > 0, ROUNDDOWN(im2colAll_exW7!AJ4:FG12/2^5, 0), ROUNDUP(im2colAll_exW7!AJ4:FG12/2^5, 0))","v":26},{"$f":"IF(im2colAll_exW7!AK4:FH12 > 0, ROUNDDOWN(im2colAll_exW7!AK4:FH12/2^5, 0), ROUNDUP(im2colAll_exW7!AK4:FH12/2^5, 0))","v":-3},{"$f":"IF(im2colAll_exW7!AL4:FI12 > 0, ROUNDDOWN(im2colAll_exW7!AL4:FI12/2^5, 0), ROUNDUP(im2colAll_exW7!AL4:FI12/2^5, 0))","v":-4},{"$f":"IF(im2colAll_exW7!AM4:FJ12 > 0, ROUNDDOWN(im2colAll_exW7!AM4:FJ12/2^5, 0), ROUNDUP(im2colAll_exW7!AM4:FJ12/2^5, 0))","v":10},{"$f":"IF(im2colAll_exW7!AN4:FK12 > 0, ROUNDDOWN(im2colAll_exW7!AN4:FK12/2^5, 0), ROUNDUP(im2colAll_exW7!AN4:FK12/2^5, 0))","v":14},{"$f":"IF(im2colAll_exW7!AO4:FL12 > 0, ROUNDDOWN(im2colAll_exW7!AO4:FL12/2^5, 0), ROUNDUP(im2colAll_exW7!AO4:FL12/2^5, 0))","v":28},{"$f":"IF(im2colAll_exW7!AP4:FM12 > 0, ROUNDDOWN(im2colAll_exW7!AP4:FM12/2^5, 0), ROUNDUP(im2colAll_exW7!AP4:FM12/2^5, 0))","v":20},{"$f":"IF(im2colAll_exW7!AQ4:FN12 > 0, ROUNDDOWN(im2colAll_exW7!AQ4:FN12/2^5, 0), ROUNDUP(im2colAll_exW7!AQ4:FN12/2^5, 0))","v":6},{"$f":"IF(im2colAll_exW7!AR4:FO12 > 0, ROUNDDOWN(im2colAll_exW7!AR4:FO12/2^5, 0), ROUNDUP(im2colAll_exW7!AR4:FO12/2^5, 0))","v":-20},{"$f":"IF(im2colAll_exW7!AS4:FP12 > 0, ROUNDDOWN(im2colAll_exW7!AS4:FP12/2^5, 0), ROUNDUP(im2colAll_exW7!AS4:FP12/2^5, 0))","v":-16},{"$f":"IF(im2colAll_exW7!AT4:FQ12 > 0, ROUNDDOWN(im2colAll_exW7!AT4:FQ12/2^5, 0), ROUNDUP(im2colAll_exW7!AT4:FQ12/2^5, 0))","v":16},{"$f":"IF(im2colAll_exW7!AU4:FR12 > 0, ROUNDDOWN(im2colAll_exW7!AU4:FR12/2^5, 0), ROUNDUP(im2colAll_exW7!AU4:FR12/2^5, 0))","v":11},{"$f":"IF(im2colAll_exW7!AV4:FS12 > 0, ROUNDDOWN(im2colAll_exW7!AV4:FS12/2^5, 0), ROUNDUP(im2colAll_exW7!AV4:FS12/2^5, 0))","v":-19},{"$f":"IF(im2colAll_exW7!AW4:FT12 > 0, ROUNDDOWN(im2colAll_exW7!AW4:FT12/2^5, 0), ROUNDUP(im2colAll_exW7!AW4:FT12/2^5, 0))","v":-5},{"$f":"IF(im2colAll_exW7!AX4:FU12 > 0, ROUNDDOWN(im2colAll_exW7!AX4:FU12/2^5, 0), ROUNDUP(im2colAll_exW7!AX4:FU12/2^5, 0))","v":-2},{"$f":"IF(im2colAll_exW7!AY4:FV12 > 0, ROUNDDOWN(im2colAll_exW7!AY4:FV12/2^5, 0), ROUNDUP(im2colAll_exW7!AY4:FV12/2^5, 0))","v":30},{"$f":"IF(im2colAll_exW7!AZ4:FW12 > 0, ROUNDDOWN(im2colAll_exW7!AZ4:FW12/2^5, 0), ROUNDUP(im2colAll_exW7!AZ4:FW12/2^5, 0))","v":10},{"$f":"IF(im2colAll_exW7!BA4:FX12 > 0, ROUNDDOWN(im2colAll_exW7!BA4:FX12/2^5, 0), ROUNDUP(im2colAll_exW7!BA4:FX12/2^5, 0))","v":39},{"$f":"IF(im2colAll_exW7!BB4:FY12 > 0, ROUNDDOWN(im2colAll_exW7!BB4:FY12/2^5, 0), ROUNDUP(im2colAll_exW7!BB4:FY12/2^5, 0))","v":51},{"$f":"IF(im2colAll_exW7!BC4:FZ12 > 0, ROUNDDOWN(im2colAll_exW7!BC4:FZ12/2^5, 0), ROUNDUP(im2colAll_exW7!BC4:FZ12/2^5, 0))","v":-12},{"$f":"IF(im2colAll_exW7!BD4:GA12 > 0, ROUNDDOWN(im2colAll_exW7!BD4:GA12/2^5, 0), ROUNDUP(im2colAll_exW7!BD4:GA12/2^5, 0))","v":8},{"$f":"IF(im2colAll_exW7!BE4:GB12 > 0, ROUNDDOWN(im2colAll_exW7!BE4:GB12/2^5, 0), ROUNDUP(im2colAll_exW7!BE4:GB12/2^5, 0))","v":24},{"$f":"IF(im2colAll_exW7!BF4:GC12 > 0, ROUNDDOWN(im2colAll_exW7!BF4:GC12/2^5, 0), ROUNDUP(im2colAll_exW7!BF4:GC12/2^5, 0))","v":10},{"$f":"IF(im2colAll_exW7!BG4:GD12 > 0, ROUNDDOWN(im2colAll_exW7!BG4:GD12/2^5, 0), ROUNDUP(im2colAll_exW7!BG4:GD12/2^5, 0))","v":0},{"$f":"IF(im2colAll_exW7!BH4:GE12 > 0, ROUNDDOWN(im2colAll_exW7!BH4:GE12/2^5, 0), ROUNDUP(im2colAll_exW7!BH4:GE12/2^5, 0))","v":10},{"$f":"IF(im2colAll_exW7!BI4:GF12 > 0, ROUNDDOWN(im2colAll_exW7!BI4:GF12/2^5, 0), ROUNDUP(im2colAll_exW7!BI4:GF12/2^5, 0))","v":31},{"$f":"IF(im2colAll_exW7!BJ4:GG12 > 0, ROUNDDOWN(im2colAll_exW7!BJ4:GG12/2^5, 0), ROUNDUP(im2colAll_exW7!BJ4:GG12/2^5, 0))","v":33},{"$f":"IF(im2colAll_exW7!BK4:GH12 > 0, ROUNDDOWN(im2colAll_exW7!BK4:GH12/2^5, 0), ROUNDUP(im2colAll_exW7!BK4:GH12/2^5, 0))","v":-9},{"$f":"IF(im2colAll_exW7!BL4:GI12 > 0, ROUNDDOWN(im2colAll_exW7!BL4:GI12/2^5, 0), ROUNDUP(im2colAll_exW7!BL4:GI12/2^5, 0))","v":-5},{"$f":"IF(im2colAll_exW7!BM4:GJ12 > 0, ROUNDDOWN(im2colAll_exW7!BM4:GJ12/2^5, 0), ROUNDUP(im2colAll_exW7!BM4:GJ12/2^5, 0))","v":2},{"$f":"IF(im2colAll_exW7!BN4:GK12 > 0, ROUNDDOWN(im2colAll_exW7!BN4:GK12/2^5, 0), ROUNDUP(im2colAll_exW7!BN4:GK12/2^5, 0))","v":9},{"$f":"IF(im2colAll_exW7!BO4:GL12 > 0, ROUNDDOWN(im2colAll_exW7!BO4:GL12/2^5, 0), ROUNDUP(im2colAll_exW7!BO4:GL12/2^5, 0))","v":-16},{"$f":"IF(im2colAll_exW7!BP4:GM12 > 0, ROUNDDOWN(im2colAll_exW7!BP4:GM12/2^5, 0), ROUNDUP(im2colAll_exW7!BP4:GM12/2^5, 0))","v":-9},{"$f":"IF(im2colAll_exW7!BQ4:GN12 > 0, ROUNDDOWN(im2colAll_exW7!BQ4:GN12/2^5, 0), ROUNDUP(im2colAll_exW7!BQ4:GN12/2^5, 0))","v":5},{"$f":"IF(im2colAll_exW7!BR4:GO12 > 0, ROUNDDOWN(im2colAll_exW7!BR4:GO12/2^5, 0), ROUNDUP(im2colAll_exW7!BR4:GO12/2^5, 0))","v":-1},{"$f":"IF(im2colAll_exW7!BS4:GP12 > 0, ROUNDDOWN(im2colAll_exW7!BS4:GP12/2^5, 0), ROUNDUP(im2colAll_exW7!BS4:GP12/2^5, 0))","v":7},{"$f":"IF(im2colAll_exW7!BT4:GQ12 > 0, ROUNDDOWN(im2colAll_exW7!BT4:GQ12/2^5, 0), ROUNDUP(im2colAll_exW7!BT4:GQ12/2^5, 0))","v":5},{"$f":"IF(im2colAll_exW7!BU4:GR12 > 0, ROUNDDOWN(im2colAll_exW7!BU4:GR12/2^5, 0), ROUNDUP(im2colAll_exW7!BU4:GR12/2^5, 0))","v":-13},{"$f":"IF(im2colAll_exW7!BV4:GS12 > 0, ROUNDDOWN(im2colAll_exW7!BV4:GS12/2^5, 0), ROUNDUP(im2colAll_exW7!BV4:GS12/2^5, 0))","v":7},{"$f":"IF(im2colAll_exW7!BW4:GT12 > 0, ROUNDDOWN(im2colAll_exW7!BW4:GT12/2^5, 0), ROUNDUP(im2colAll_exW7!BW4:GT12/2^5, 0))","v":11},{"$f":"IF(im2colAll_exW7!BX4:GU12 > 0, ROUNDDOWN(im2colAll_exW7!BX4:GU12/2^5, 0), ROUNDUP(im2colAll_exW7!BX4:GU12/2^5, 0))","v":46},{"$f":"IF(im2colAll_exW7!BY4:GV12 > 0, ROUNDDOWN(im2colAll_exW7!BY4:GV12/2^5, 0), ROUNDUP(im2colAll_exW7!BY4:GV12/2^5, 0))","v":7},{"$f":"IF(im2colAll_exW7!BZ4:GW12 > 0, ROUNDDOWN(im2colAll_exW7!BZ4:GW12/2^5, 0), ROUNDUP(im2colAll_exW7!BZ4:GW12/2^5, 0))","v":17},{"$f":"IF(im2colAll_exW7!CA4:GX12 > 0, ROUNDDOWN(im2colAll_exW7!CA4:GX12/2^5, 0), ROUNDUP(im2colAll_exW7!CA4:GX12/2^5, 0))","v":-16},{"$f":"IF(im2colAll_exW7!CB4:GY12 > 0, ROUNDDOWN(im2colAll_exW7!CB4:GY12/2^5, 0), ROUNDUP(im2colAll_exW7!CB4:GY12/2^5, 0))","v":14},{"$f":"IF(im2colAll_exW7!CC4:GZ12 > 0, ROUNDDOWN(im2colAll_exW7!CC4:GZ12/2^5, 0), ROUNDUP(im2colAll_exW7!CC4:GZ12/2^5, 0))","v":30},{"$f":"IF(im2colAll_exW7!CD4:HA12 > 0, ROUNDDOWN(im2colAll_exW7!CD4:HA12/2^5, 0), ROUNDUP(im2colAll_exW7!CD4:HA12/2^5, 0))","v":37},{"$f":"IF(im2colAll_exW7!CE4:HB12 > 0, ROUNDDOWN(im2colAll_exW7!CE4:HB12/2^5, 0), ROUNDUP(im2colAll_exW7!CE4:HB12/2^5, 0))","v":-10},{"$f":"IF(im2colAll_exW7!CF4:HC12 > 0, ROUNDDOWN(im2colAll_exW7!CF4:HC12/2^5, 0), ROUNDUP(im2colAll_exW7!CF4:HC12/2^5, 0))","v":15},{"$f":"IF(im2colAll_exW7!CG4:HD12 > 0, ROUNDDOWN(im2colAll_exW7!CG4:HD12/2^5, 0), ROUNDUP(im2colAll_exW7!CG4:HD12/2^5, 0))","v":9},{"$f":"IF(im2colAll_exW7!CH4:HE12 > 0, ROUNDDOWN(im2colAll_exW7!CH4:HE12/2^5, 0), ROUNDUP(im2colAll_exW7!CH4:HE12/2^5, 0))","v":-3},{"$f":"IF(im2colAll_exW7!CI4:HF12 > 0, ROUNDDOWN(im2colAll_exW7!CI4:HF12/2^5, 0), ROUNDUP(im2colAll_exW7!CI4:HF12/2^5, 0))","v":34},{"$f":"IF(im2colAll_exW7!CJ4:HG12 > 0, ROUNDDOWN(im2colAll_exW7!CJ4:HG12/2^5, 0), ROUNDUP(im2colAll_exW7!CJ4:HG12/2^5, 0))","v":6},{"$f":"IF(im2colAll_exW7!CK4:HH12 > 0, ROUNDDOWN(im2colAll_exW7!CK4:HH12/2^5, 0), ROUNDUP(im2colAll_exW7!CK4:HH12/2^5, 0))","v":40},{"$f":"IF(im2colAll_exW7!CL4:HI12 > 0, ROUNDDOWN(im2colAll_exW7!CL4:HI12/2^5, 0), ROUNDUP(im2colAll_exW7!CL4:HI12/2^5, 0))","v":18},{"$f":"IF(im2colAll_exW7!CM4:HJ12 > 0, ROUNDDOWN(im2colAll_exW7!CM4:HJ12/2^5, 0), ROUNDUP(im2colAll_exW7!CM4:HJ12/2^5, 0))","v":-1},{"$f":"IF(im2colAll_exW7!CN4:HK12 > 0, ROUNDDOWN(im2colAll_exW7!CN4:HK12/2^5, 0), ROUNDUP(im2colAll_exW7!CN4:HK12/2^5, 0))","v":0},{"$f":"IF(im2colAll_exW7!CO4:HL12 > 0, ROUNDDOWN(im2colAll_exW7!CO4:HL12/2^5, 0), ROUNDUP(im2colAll_exW7!CO4:HL12/2^5, 0))","v":-8},{"$f":"IF(im2colAll_exW7!CP4:HM12 > 0, ROUNDDOWN(im2colAll_exW7!CP4:HM12/2^5, 0), ROUNDUP(im2colAll_exW7!CP4:HM12/2^5, 0))","v":3},{"$f":"IF(im2colAll_exW7!CQ4:HN12 > 0, ROUNDDOWN(im2colAll_exW7!CQ4:HN12/2^5, 0), ROUNDUP(im2colAll_exW7!CQ4:HN12/2^5, 0))","v":-23},{"$f":"IF(im2colAll_exW7!CR4:HO12 > 0, ROUNDDOWN(im2colAll_exW7!CR4:HO12/2^5, 0), ROUNDUP(im2colAll_exW7!CR4:HO12/2^5, 0))","v":24},{"$f":"IF(im2colAll_exW7!CS4:HP12 > 0, ROUNDDOWN(im2colAll_exW7!CS4:HP12/2^5, 0), ROUNDUP(im2colAll_exW7!CS4:HP12/2^5, 0))","v":47},{"$f":"IF(im2colAll_exW7!CT4:HQ12 > 0, ROUNDDOWN(im2colAll_exW7!CT4:HQ12/2^5, 0), ROUNDUP(im2colAll_exW7!CT4:HQ12/2^5, 0))","v":43},{"$f":"IF(im2colAll_exW7!CU4:HR12 > 0, ROUNDDOWN(im2colAll_exW7!CU4:HR12/2^5, 0), ROUNDUP(im2colAll_exW7!CU4:HR12/2^5, 0))","v":-24},{"$f":"IF(im2colAll_exW7!CV4:HS12 > 0, ROUNDDOWN(im2colAll_exW7!CV4:HS12/2^5, 0), ROUNDUP(im2colAll_exW7!CV4:HS12/2^5, 0))","v":1},{"$f":"IF(im2colAll_exW7!CW4:HT12 > 0, ROUNDDOWN(im2colAll_exW7!CW4:HT12/2^5, 0), ROUNDUP(im2colAll_exW7!CW4:HT12/2^5, 0))","v":-1},{"$f":"IF(im2colAll_exW7!CX4:HU12 > 0, ROUNDDOWN(im2colAll_exW7!CX4:HU12/2^5, 0), ROUNDUP(im2colAll_exW7!CX4:HU12/2^5, 0))","v":10},{"$f":"IF(im2colAll_exW7!CY4:HV12 > 0, ROUNDDOWN(im2colAll_exW7!CY4:HV12/2^5, 0), ROUNDUP(im2colAll_exW7!CY4:HV12/2^5, 0))","v":-3},{"$f":"IF(im2colAll_exW7!CZ4:HW12 > 0, ROUNDDOWN(im2colAll_exW7!CZ4:HW12/2^5, 0), ROUNDUP(im2colAll_exW7!CZ4:HW12/2^5, 0))","v":-6},{"$f":"IF(im2colAll_exW7!DA4:HX12 > 0, ROUNDDOWN(im2colAll_exW7!DA4:HX12/2^5, 0), ROUNDUP(im2colAll_exW7!DA4:HX12/2^5, 0))","v":17},{"$f":"IF(im2colAll_exW7!DB4:HY12 > 0, ROUNDDOWN(im2colAll_exW7!DB4:HY12/2^5, 0), ROUNDUP(im2colAll_exW7!DB4:HY12/2^5, 0))","v":34},{"$f":"IF(im2colAll_exW7!DC4:HZ12 > 0, ROUNDDOWN(im2colAll_exW7!DC4:HZ12/2^5, 0), ROUNDUP(im2colAll_exW7!DC4:HZ12/2^5, 0))","v":13},{"$f":"IF(im2colAll_exW7!DD4:IA12 > 0, ROUNDDOWN(im2colAll_exW7!DD4:IA12/2^5, 0), ROUNDUP(im2colAll_exW7!DD4:IA12/2^5, 0))","v":-8},{"$f":"IF(im2colAll_exW7!DE4:IB12 > 0, ROUNDDOWN(im2colAll_exW7!DE4:IB12/2^5, 0), ROUNDUP(im2colAll_exW7!DE4:IB12/2^5, 0))","v":12},{"$f":"IF(im2colAll_exW7!DF4:IC12 > 0, ROUNDDOWN(im2colAll_exW7!DF4:IC12/2^5, 0), ROUNDUP(im2colAll_exW7!DF4:IC12/2^5, 0))","v":0},{"$f":"IF(im2colAll_exW7!DG4:ID12 > 0, ROUNDDOWN(im2colAll_exW7!DG4:ID12/2^5, 0), ROUNDUP(im2colAll_exW7!DG4:ID12/2^5, 0))","v":20},{"$f":"IF(im2colAll_exW7!DH4:IE12 > 0, ROUNDDOWN(im2colAll_exW7!DH4:IE12/2^5, 0), ROUNDUP(im2colAll_exW7!DH4:IE12/2^5, 0))","v":14},{"$f":"IF(im2colAll_exW7!DI4:IF12 > 0, ROUNDDOWN(im2colAll_exW7!DI4:IF12/2^5, 0), ROUNDUP(im2colAll_exW7!DI4:IF12/2^5, 0))","v":11},{"$f":"IF(im2colAll_exW7!DJ4:IG12 > 0, ROUNDDOWN(im2colAll_exW7!DJ4:IG12/2^5, 0), ROUNDUP(im2colAll_exW7!DJ4:IG12/2^5, 0))","v":-8},{"$f":"IF(im2colAll_exW7!DK4:IH12 > 0, ROUNDDOWN(im2colAll_exW7!DK4:IH12/2^5, 0), ROUNDUP(im2colAll_exW7!DK4:IH12/2^5, 0))","v":-1},{"$f":"IF(im2colAll_exW7!DL4:II12 > 0, ROUNDDOWN(im2colAll_exW7!DL4:II12/2^5, 0), ROUNDUP(im2colAll_exW7!DL4:II12/2^5, 0))","v":-13},{"$f":"IF(im2colAll_exW7!DM4:IJ12 > 0, ROUNDDOWN(im2colAll_exW7!DM4:IJ12/2^5, 0), ROUNDUP(im2colAll_exW7!DM4:IJ12/2^5, 0))","v":9},{"$f":"IF(im2colAll_exW7!DN4:IK12 > 0, ROUNDDOWN(im2colAll_exW7!DN4:IK12/2^5, 0), ROUNDUP(im2colAll_exW7!DN4:IK12/2^5, 0))","v":-8},{"$f":"IF(im2colAll_exW7!DO4:IL12 > 0, ROUNDDOWN(im2colAll_exW7!DO4:IL12/2^5, 0), ROUNDUP(im2colAll_exW7!DO4:IL12/2^5, 0))","v":-1},{"$f":"IF(im2colAll_exW7!DP4:IM12 > 0, ROUNDDOWN(im2colAll_exW7!DP4:IM12/2^5, 0), ROUNDUP(im2colAll_exW7!DP4:IM12/2^5, 0))","v":-4},{"$f":"IF(im2colAll_exW7!DQ4:IN12 > 0, ROUNDDOWN(im2colAll_exW7!DQ4:IN12/2^5, 0), ROUNDUP(im2colAll_exW7!DQ4:IN12/2^5, 0))","v":8},{"$f":"IF(im2colAll_exW7!DR4:IO12 > 0, ROUNDDOWN(im2colAll_exW7!DR4:IO12/2^5, 0), ROUNDUP(im2colAll_exW7!DR4:IO12/2^5, 0))","v":-14},{"$f":"IF(im2colAll_exW7!DS4:IP12 > 0, ROUNDDOWN(im2colAll_exW7!DS4:IP12/2^5, 0), ROUNDUP(im2colAll_exW7!DS4:IP12/2^5, 0))","v":29},{"$f":"IF(im2colAll_exW7!DT4:IQ12 > 0, ROUNDDOWN(im2colAll_exW7!DT4:IQ12/2^5, 0), ROUNDUP(im2colAll_exW7!DT4:IQ12/2^5, 0))","v":4},{"$f":"IF(im2colAll_exW7!DU4:IR12 > 0, ROUNDDOWN(im2colAll_exW7!DU4:IR12/2^5, 0), ROUNDUP(im2colAll_exW7!DU4:IR12/2^5, 0))","v":15},{"$f":"IF(im2colAll_exW7!DV4:IS12 > 0, ROUNDDOWN(im2colAll_exW7!DV4:IS12/2^5, 0), ROUNDUP(im2colAll_exW7!DV4:IS12/2^5, 0))","v":22},{"$f":"IF(im2colAll_exW7!DW4:IT12 > 0, ROUNDDOWN(im2colAll_exW7!DW4:IT12/2^5, 0), ROUNDUP(im2colAll_exW7!DW4:IT12/2^5, 0))","v":1},{"$f":"IF(im2colAll_exW7!DX4:IU12 > 0, ROUNDDOWN(im2colAll_exW7!DX4:IU12/2^5, 0), ROUNDUP(im2colAll_exW7!DX4:IU12/2^5, 0))","v":9}]
[{"$f":"IF(im2colAll_exW7!A5:DX13 > 0, ROUNDDOWN(im2colAll_exW7!A5:DX13/2^5, 0), ROUNDUP(im2colAll_exW7!A5:DX13/2^5, 0))","v":-15},{"$f":"IF(im2colAll_exW7!B5:DY13 > 0, ROUNDDOWN(im2colAll_exW7!B5:DY13/2^5, 0), ROUNDUP(im2colAll_exW7!B5:DY13/2^5, 0))","v":1},{"$f":"IF(im2colAll_exW7!C5:DZ13 > 0, ROUNDDOWN(im2colAll_exW7!C5:DZ13/2^5, 0), ROUNDUP(im2colAll_exW7!C5:DZ13/2^5, 0))","v":-19},{"$f":"IF(im2colAll_exW7!D5:EA13 > 0, ROUNDDOWN(im2colAll_exW7!D5:EA13/2^5, 0), ROUNDUP(im2colAll_exW7!D5:EA13/2^5, 0))","v":10},{"$f":"IF(im2colAll_exW7!E5:EB13 > 0, ROUNDDOWN(im2colAll_exW7!E5:EB13/2^5, 0), ROUNDUP(im2colAll_exW7!E5:EB13/2^5, 0))","v":39},{"$f":"IF(im2colAll_exW7!F5:EC13 > 0, ROUNDDOWN(im2colAll_exW7!F5:EC13/2^5, 0), ROUNDUP(im2colAll_exW7!F5:EC13/2^5, 0))","v":25},{"$f":"IF(im2colAll_exW7!G5:ED13 > 0, ROUNDDOWN(im2colAll_exW7!G5:ED13/2^5, 0), ROUNDUP(im2colAll_exW7!G5:ED13/2^5, 0))","v":56},{"$f":"IF(im2colAll_exW7!H5:EE13 > 0, ROUNDDOWN(im2colAll_exW7!H5:EE13/2^5, 0), ROUNDUP(im2colAll_exW7!H5:EE13/2^5, 0))","v":26},{"$f":"IF(im2colAll_exW7!I5:EF13 > 0, ROUNDDOWN(im2colAll_exW7!I5:EF13/2^5, 0), ROUNDUP(im2colAll_exW7!I5:EF13/2^5, 0))","v":8},{"$f":"IF(im2colAll_exW7!J5:EG13 > 0, ROUNDDOWN(im2colAll_exW7!J5:EG13/2^5, 0), ROUNDUP(im2colAll_exW7!J5:EG13/2^5, 0))","v":-28},{"$f":"IF(im2colAll_exW7!K5:EH13 > 0, ROUNDDOWN(im2colAll_exW7!K5:EH13/2^5, 0), ROUNDUP(im2colAll_exW7!K5:EH13/2^5, 0))","v":17},{"$f":"IF(im2colAll_exW7!L5:EI13 > 0, ROUNDDOWN(im2colAll_exW7!L5:EI13/2^5, 0), ROUNDUP(im2colAll_exW7!L5:EI13/2^5, 0))","v":12},{"$f":"IF(im2colAll_exW7!M5:EJ13 > 0, ROUNDDOWN(im2colAll_exW7!M5:EJ13/2^5, 0), ROUNDUP(im2colAll_exW7!M5:EJ13/2^5, 0))","v":27},{"$f":"IF(im2colAll_exW7!N5:EK13 > 0, ROUNDDOWN(im2colAll_exW7!N5:EK13/2^5, 0), ROUNDUP(im2colAll_exW7!N5:EK13/2^5, 0))","v":44},{"$f":"IF(im2colAll_exW7!O5:EL13 > 0, ROUNDDOWN(im2colAll_exW7!O5:EL13/2^5, 0), ROUNDUP(im2colAll_exW7!O5:EL13/2^5, 0))","v":-3},{"$f":"IF(im2colAll_exW7!P5:EM13 > 0, ROUNDDOWN(im2colAll_exW7!P5:EM13/2^5, 0), ROUNDUP(im2colAll_exW7!P5:EM13/2^5, 0))","v":7},{"$f":"IF(im2colAll_exW7!Q5:EN13 > 0, ROUNDDOWN(im2colAll_exW7!Q5:EN13/2^5, 0), ROUNDUP(im2colAll_exW7!Q5:EN13/2^5, 0))","v":19},{"$f":"IF(im2colAll_exW7!R5:EO13 > 0, ROUNDDOWN(im2colAll_exW7!R5:EO13/2^5, 0), ROUNDUP(im2colAll_exW7!R5:EO13/2^5, 0))","v":30},{"$f":"IF(im2colAll_exW7!S5:EP13 > 0, ROUNDDOWN(im2colAll_exW7!S5:EP13/2^5, 0), ROUNDUP(im2colAll_exW7!S5:EP13/2^5, 0))","v":-12},{"$f":"IF(im2colAll_exW7!T5:EQ13 > 0, ROUNDDOWN(im2colAll_exW7!T5:EQ13/2^5, 0), ROUNDUP(im2colAll_exW7!T5:EQ13/2^5, 0))","v":29},{"$f":"IF(im2colAll_exW7!U5:ER13 > 0, ROUNDDOWN(im2colAll_exW7!U5:ER13/2^5, 0), ROUNDUP(im2colAll_exW7!U5:ER13/2^5, 0))","v":25},{"$f":"IF(im2colAll_exW7!V5:ES13 > 0, ROUNDDOWN(im2colAll_exW7!V5:ES13/2^5, 0), ROUNDUP(im2colAll_exW7!V5:ES13/2^5, 0))","v":-15},{"$f":"IF(im2colAll_exW7!W5:ET13 > 0, ROUNDDOWN(im2colAll_exW7!W5:ET13/2^5, 0), ROUNDUP(im2colAll_exW7!W5:ET13/2^5, 0))","v":17},{"$f":"IF(im2colAll_exW7!X5:EU13 > 0, ROUNDDOWN(im2colAll_exW7!X5:EU13/2^5, 0), ROUNDUP(im2colAll_exW7!X5:EU13/2^5, 0))","v":-10},{"$f":"IF(im2colAll_exW7!Y5:EV13 > 0, ROUNDDOWN(im2colAll_exW7!Y5:EV13/2^5, 0), ROUNDUP(im2colAll_exW7!Y5:EV13/2^5, 0))","v":21},{"$f":"IF(im2colAll_exW7!Z5:EW13 > 0, ROUNDDOWN(im2colAll_exW7!Z5:EW13/2^5, 0), ROUNDUP(im2colAll_exW7!Z5:EW13/2^5, 0))","v":33},{"$f":"IF(im2colAll_exW7!AA5:EX13 > 0, ROUNDDOWN(im2colAll_exW7!AA5:EX13/2^5, 0), ROUNDUP(im2colAll_exW7!AA5:EX13/2^5, 0))","v":0},{"$f":"IF(im2colAll_exW7!AB5:EY13 > 0, ROUNDDOWN(im2colAll_exW7!AB5:EY13/2^5, 0), ROUNDUP(im2colAll_exW7!AB5:EY13/2^5, 0))","v":35},{"$f":"IF(im2colAll_exW7!AC5:EZ13 > 0, ROUNDDOWN(im2colAll_exW7!AC5:EZ13/2^5, 0), ROUNDUP(im2colAll_exW7!AC5:EZ13/2^5, 0))","v":-7},{"$f":"IF(im2colAll_exW7!AD5:FA13 > 0, ROUNDDOWN(im2colAll_exW7!AD5:FA13/2^5, 0), ROUNDUP(im2colAll_exW7!AD5:FA13/2^5, 0))","v":-23},{"$f":"IF(im2colAll_exW7!AE5:FB13 > 0, ROUNDDOWN(im2colAll_exW7!AE5:FB13/2^5, 0), ROUNDUP(im2colAll_exW7!AE5:FB13/2^5, 0))","v":1},{"$f":"IF(im2colAll_exW7!AF5:FC13 > 0, ROUNDDOWN(im2colAll_exW7!AF5:FC13/2^5, 0), ROUNDUP(im2colAll_exW7!AF5:FC13/2^5, 0))","v":2},{"$f":"IF(im2colAll_exW7!AG5:FD13 > 0, ROUNDDOWN(im2colAll_exW7!AG5:FD13/2^5, 0), ROUNDUP(im2colAll_exW7!AG5:FD13/2^5, 0))","v":-16},{"$f":"IF(im2colAll_exW7!AH5:FE13 > 0, ROUNDDOWN(im2colAll_exW7!AH5:FE13/2^5, 0), ROUNDUP(im2colAll_exW7!AH5:FE13/2^5, 0))","v":26},{"$f":"IF(im2colAll_exW7!AI5:FF13 > 0, ROUNDDOWN(im2colAll_exW7!AI5:FF13/2^5, 0), ROUNDUP(im2colAll_exW7!AI5:FF13/2^5, 0))","v":-1},{"$f":"IF(im2colAll_exW7!AJ5:FG13 > 0, ROUNDDOWN(im2colAll_exW7!AJ5:FG13/2^5, 0), ROUNDUP(im2colAll_exW7!AJ5:FG13/2^5, 0))","v":53},{"$f":"IF(im2colAll_exW7!AK5:FH13 > 0, ROUNDDOWN(im2colAll_exW7!AK5:FH13/2^5, 0), ROUNDUP(im2colAll_exW7!AK5:FH13/2^5, 0))","v":5},{"$f":"IF(im2colAll_exW7!AL5:FI13 > 0, ROUNDDOWN(im2colAll_exW7!AL5:FI13/2^5, 0), ROUNDUP(im2colAll_exW7!AL5:FI13/2^5, 0))","v":4},{"$f":"IF(im2colAll_exW7!AM5:FJ13 > 0, ROUNDDOWN(im2colAll_exW7!AM5:FJ13/2^5, 0), ROUNDUP(im2colAll_exW7!AM5:FJ13/2^5, 0))","v":1},{"$f":"IF(im2colAll_exW7!AN5:FK13 > 0, ROUNDDOWN(im2colAll_exW7!AN5:FK13/2^5, 0), ROUNDUP(im2colAll_exW7!AN5:FK13/2^5, 0))","v":17},{"$f":"IF(im2colAll_exW7!AO5:FL13 > 0, ROUNDDOWN(im2colAll_exW7!AO5:FL13/2^5, 0), ROUNDUP(im2colAll_exW7!AO5:FL13/2^5, 0))","v":0},{"$f":"IF(im2colAll_exW7!AP5:FM13 > 0, ROUNDDOWN(im2colAll_exW7!AP5:FM13/2^5, 0), ROUNDUP(im2colAll_exW7!AP5:FM13/2^5, 0))","v":34},{"$f":"IF(im2colAll_exW7!AQ5:FN13 > 0, ROUNDDOWN(im2colAll_exW7!AQ5:FN13/2^5, 0), ROUNDUP(im2colAll_exW7!AQ5:FN13/2^5, 0))","v":19},{"$f":"IF(im2colAll_exW7!AR5:FO13 > 0, ROUNDDOWN(im2colAll_exW7!AR5:FO13/2^5, 0), ROUNDUP(im2colAll_exW7!AR5:FO13/2^5, 0))","v":-19},{"$f":"IF(im2colAll_exW7!AS5:FP13 > 0, ROUNDDOWN(im2colAll_exW7!AS5:FP13/2^5, 0), ROUNDUP(im2colAll_exW7!AS5:FP13/2^5, 0))","v":-23},{"$f":"IF(im2colAll_exW7!AT5:FQ13 > 0, ROUNDDOWN(im2colAll_exW7!AT5:FQ13/2^5, 0), ROUNDUP(im2colAll_exW7!AT5:FQ13/2^5, 0))","v":13},{"$f":"IF(im2colAll_exW7!AU5:FR13 > 0, ROUNDDOWN(im2colAll_exW7!AU5:FR13/2^5, 0), ROUNDUP(im2colAll_exW7!AU5:FR13/2^5, 0))","v":11},{"$f":"IF(im2colAll_exW7!AV5:FS13 > 0, ROUNDDOWN(im2colAll_exW7!AV5:FS13/2^5, 0), ROUNDUP(im2colAll_exW7!AV5:FS13/2^5, 0))","v":-18},{"$f":"IF(im2colAll_exW7!AW5:FT13 > 0, ROUNDDOWN(im2colAll_exW7!AW5:FT13/2^5, 0), ROUNDUP(im2colAll_exW7!AW5:FT13/2^5, 0))","v":1},{"$f":"IF(im2colAll_exW7!AX5:FU13 > 0, ROUNDDOWN(im2colAll_exW7!AX5:FU13/2^5, 0), ROUNDUP(im2colAll_exW7!AX5:FU13/2^5, 0))","v":11},{"$f":"IF(im2colAll_exW7!AY5:FV13 > 0, ROUNDDOWN(im2colAll_exW7!AY5:FV13/2^5, 0), ROUNDUP(im2colAll_exW7!AY5:FV13/2^5, 0))","v":5},{"$f":"IF(im2colAll_exW7!AZ5:FW13 > 0, ROUNDDOWN(im2colAll_exW7!AZ5:FW13/2^5, 0), ROUNDUP(im2colAll_exW7!AZ5:FW13/2^5, 0))","v":48},{"$f":"IF(im2colAll_exW7!BA5:FX13 > 0, ROUNDDOWN(im2colAll_exW7!BA5:FX13/2^5, 0), ROUNDUP(im2colAll_exW7!BA5:FX13/2^5, 0))","v":36},{"$f":"IF(im2colAll_exW7!BB5:FY13 > 0, ROUNDDOWN(im2colAll_exW7!BB5:FY13/2^5, 0), ROUNDUP(im2colAll_exW7!BB5:FY13/2^5, 0))","v":20},{"$f":"IF(im2colAll_exW7!BC5:FZ13 > 0, ROUNDDOWN(im2colAll_exW7!BC5:FZ13/2^5, 0), ROUNDUP(im2colAll_exW7!BC5:FZ13/2^5, 0))","v":-13},{"$f":"IF(im2colAll_exW7!BD5:GA13 > 0, ROUNDDOWN(im2colAll_exW7!BD5:GA13/2^5, 0), ROUNDUP(im2colAll_exW7!BD5:GA13/2^5, 0))","v":-2},{"$f":"IF(im2colAll_exW7!BE5:GB13 > 0, ROUNDDOWN(im2colAll_exW7!BE5:GB13/2^5, 0), ROUNDUP(im2colAll_exW7!BE5:GB13/2^5, 0))","v":17},{"$f":"IF(im2colAll_exW7!BF5:GC13 > 0, ROUNDDOWN(im2colAll_exW7!BF5:GC13/2^5, 0), ROUNDUP(im2colAll_exW7!BF5:GC13/2^5, 0))","v":28},{"$f":"IF(im2colAll_exW7!BG5:GD13 > 0, ROUNDDOWN(im2colAll_exW7!BG5:GD13/2^5, 0), ROUNDUP(im2colAll_exW7!BG5:GD13/2^5, 0))","v":24},{"$f":"IF(im2colAll_exW7!BH5:GE13 > 0, ROUNDDOWN(im2colAll_exW7!BH5:GE13/2^5, 0), ROUNDUP(im2colAll_exW7!BH5:GE13/2^5, 0))","v":13},{"$f":"IF(im2colAll_exW7!BI5:GF13 > 0, ROUNDDOWN(im2colAll_exW7!BI5:GF13/2^5, 0), ROUNDUP(im2colAll_exW7!BI5:GF13/2^5, 0))","v":10},{"$f":"IF(im2colAll_exW7!BJ5:GG13 > 0, ROUNDDOWN(im2colAll_exW7!BJ5:GG13/2^5, 0), ROUNDUP(im2colAll_exW7!BJ5:GG13/2^5, 0))","v":10},{"$f":"IF(im2colAll_exW7!BK5:GH13 > 0, ROUNDDOWN(im2colAll_exW7!BK5:GH13/2^5, 0), ROUNDUP(im2colAll_exW7!BK5:GH13/2^5, 0))","v":3},{"$f":"IF(im2colAll_exW7!BL5:GI13 > 0, ROUNDDOWN(im2colAll_exW7!BL5:GI13/2^5, 0), ROUNDUP(im2colAll_exW7!BL5:GI13/2^5, 0))","v":-2},{"$f":"IF(im2colAll_exW7!BM5:GJ13 > 0, ROUNDDOWN(im2colAll_exW7!BM5:GJ13/2^5, 0), ROUNDUP(im2colAll_exW7!BM5:GJ13/2^5, 0))","v":1},{"$f":"IF(im2colAll_exW7!BN5:GK13 > 0, ROUNDDOWN(im2colAll_exW7!BN5:GK13/2^5, 0), ROUNDUP(im2colAll_exW7!BN5:GK13/2^5, 0))","v":16},{"$f":"IF(im2colAll_exW7!BO5:GL13 > 0, ROUNDDOWN(im2colAll_exW7!BO5:GL13/2^5, 0), ROUNDUP(im2colAll_exW7!BO5:GL13/2^5, 0))","v":-16},{"$f":"IF(im2colAll_exW7!BP5:GM13 > 0, ROUNDDOWN(im2colAll_exW7!BP5:GM13/2^5, 0), ROUNDUP(im2colAll_exW7!BP5:GM13/2^5, 0))","v":-12},{"$f":"IF(im2colAll_exW7!BQ5:GN13 > 0, ROUNDDOWN(im2colAll_exW7!BQ5:GN13/2^5, 0), ROUNDUP(im2colAll_exW7!BQ5:GN13/2^5, 0))","v":8},{"$f":"IF(im2colAll_exW7!BR5:GO13 > 0, ROUNDDOWN(im2colAll_exW7!BR5:GO13/2^5, 0), ROUNDUP(im2colAll_exW7!BR5:GO13/2^5, 0))","v":23},{"$f":"IF(im2colAll_exW7!BS5:GP13 > 0, ROUNDDOWN(im2colAll_exW7!BS5:GP13/2^5, 0), ROUNDUP(im2colAll_exW7!BS5:GP13/2^5, 0))","v":2},{"$f":"IF(im2colAll_exW7!BT5:GQ13 > 0, ROUNDDOWN(im2colAll_exW7!BT5:GQ13/2^5, 0), ROUNDUP(im2colAll_exW7!BT5:GQ13/2^5, 0))","v":8},{"$f":"IF(im2colAll_exW7!BU5:GR13 > 0, ROUNDDOWN(im2colAll_exW7!BU5:GR13/2^5, 0), ROUNDUP(im2colAll_exW7!BU5:GR13/2^5, 0))","v":-4},{"$f":"IF(im2colAll_exW7!BV5:GS13 > 0, ROUNDDOWN(im2colAll_exW7!BV5:GS13/2^5, 0), ROUNDUP(im2colAll_exW7!BV5:GS13/2^5, 0))","v":19},{"$f":"IF(im2colAll_exW7!BW5:GT13 > 0, ROUNDDOWN(im2colAll_exW7!BW5:GT13/2^5, 0), ROUNDUP(im2colAll_exW7!BW5:GT13/2^5, 0))","v":30},{"$f":"IF(im2colAll_exW7!BX5:GU13 > 0, ROUNDDOWN(im2colAll_exW7!BX5:GU13/2^5, 0), ROUNDUP(im2colAll_exW7!BX5:GU13/2^5, 0))","v":31},{"$f":"IF(im2colAll_exW7!BY5:GV13 > 0, ROUNDDOWN(im2colAll_exW7!BY5:GV13/2^5, 0), ROUNDUP(im2colAll_exW7!BY5:GV13/2^5, 0))","v":8},{"$f":"IF(im2colAll_exW7!BZ5:GW13 > 0, ROUNDDOWN(im2colAll_exW7!BZ5:GW13/2^5, 0), ROUNDUP(im2colAll_exW7!BZ5:GW13/2^5, 0))","v":36},{"$f":"IF(im2colAll_exW7!CA5:GX13 > 0, ROUNDDOWN(im2colAll_exW7!CA5:GX13/2^5, 0), ROUNDUP(im2colAll_exW7!CA5:GX13/2^5, 0))","v":-13},{"$f":"IF(im2colAll_exW7!CB5:GY13 > 0, ROUNDDOWN(im2colAll_exW7!CB5:GY13/2^5, 0), ROUNDUP(im2colAll_exW7!CB5:GY13/2^5, 0))","v":3},{"$f":"IF(im2colAll_exW7!CC5:GZ13 > 0, ROUNDDOWN(im2colAll_exW7!CC5:GZ13/2^5, 0), ROUNDUP(im2colAll_exW7!CC5:GZ13/2^5, 0))","v":29},{"$f":"IF(im2colAll_exW7!CD5:HA13 > 0, ROUNDDOWN(im2colAll_exW7!CD5:HA13/2^5, 0), ROUNDUP(im2colAll_exW7!CD5:HA13/2^5, 0))","v":16},{"$f":"IF(im2colAll_exW7!CE5:HB13 > 0, ROUNDDOWN(im2colAll_exW7!CE5:HB13/2^5, 0), ROUNDUP(im2colAll_exW7!CE5:HB13/2^5, 0))","v":15},{"$f":"IF(im2colAll_exW7!CF5:HC13 > 0, ROUNDDOWN(im2colAll_exW7!CF5:HC13/2^5, 0), ROUNDUP(im2colAll_exW7!CF5:HC13/2^5, 0))","v":23},{"$f":"IF(im2colAll_exW7!CG5:HD13 > 0, ROUNDDOWN(im2colAll_exW7!CG5:HD13/2^5, 0), ROUNDUP(im2colAll_exW7!CG5:HD13/2^5, 0))","v":24},{"$f":"IF(im2colAll_exW7!CH5:HE13 > 0, ROUNDDOWN(im2colAll_exW7!CH5:HE13/2^5, 0), ROUNDUP(im2colAll_exW7!CH5:HE13/2^5, 0))","v":-16},{"$f":"IF(im2colAll_exW7!CI5:HF13 > 0, ROUNDDOWN(im2colAll_exW7!CI5:HF13/2^5, 0), ROUNDUP(im2colAll_exW7!CI5:HF13/2^5, 0))","v":18},{"$f":"IF(im2colAll_exW7!CJ5:HG13 > 0, ROUNDDOWN(im2colAll_exW7!CJ5:HG13/2^5, 0), ROUNDUP(im2colAll_exW7!CJ5:HG13/2^5, 0))","v":12},{"$f":"IF(im2colAll_exW7!CK5:HH13 > 0, ROUNDDOWN(im2colAll_exW7!CK5:HH13/2^5, 0), ROUNDUP(im2colAll_exW7!CK5:HH13/2^5, 0))","v":8},{"$f":"IF(im2colAll_exW7!CL5:HI13 > 0, ROUNDDOWN(im2colAll_exW7!CL5:HI13/2^5, 0), ROUNDUP(im2colAll_exW7!CL5:HI13/2^5, 0))","v":32},{"$f":"IF(im2colAll_exW7!CM5:HJ13 > 0, ROUNDDOWN(im2colAll_exW7!CM5:HJ13/2^5, 0), ROUNDUP(im2colAll_exW7!CM5:HJ13/2^5, 0))","v":-11},{"$f":"IF(im2colAll_exW7!CN5:HK13 > 0, ROUNDDOWN(im2colAll_exW7!CN5:HK13/2^5, 0), ROUNDUP(im2colAll_exW7!CN5:HK13/2^5, 0))","v":1},{"$f":"IF(im2colAll_exW7!CO5:HL13 > 0, ROUNDDOWN(im2colAll_exW7!CO5:HL13/2^5, 0), ROUNDUP(im2colAll_exW7!CO5:HL13/2^5, 0))","v":-5},{"$f":"IF(im2colAll_exW7!CP5:HM13 > 0, ROUNDDOWN(im2colAll_exW7!CP5:HM13/2^5, 0), ROUNDUP(im2colAll_exW7!CP5:HM13/2^5, 0))","v":2},{"$f":"IF(im2colAll_exW7!CQ5:HN13 > 0, ROUNDDOWN(im2colAll_exW7!CQ5:HN13/2^5, 0), ROUNDUP(im2colAll_exW7!CQ5:HN13/2^5, 0))","v":-6},{"$f":"IF(im2colAll_exW7!CR5:HO13 > 0, ROUNDDOWN(im2colAll_exW7!CR5:HO13/2^5, 0), ROUNDUP(im2colAll_exW7!CR5:HO13/2^5, 0))","v":24},{"$f":"IF(im2colAll_exW7!CS5:HP13 > 0, ROUNDDOWN(im2colAll_exW7!CS5:HP13/2^5, 0), ROUNDUP(im2colAll_exW7!CS5:HP13/2^5, 0))","v":26},{"$f":"IF(im2colAll_exW7!CT5:HQ13 > 0, ROUNDDOWN(im2colAll_exW7!CT5:HQ13/2^5, 0), ROUNDUP(im2colAll_exW7!CT5:HQ13/2^5, 0))","v":49},{"$f":"IF(im2colAll_exW7!CU5:HR13 > 0, ROUNDDOWN(im2colAll_exW7!CU5:HR13/2^5, 0), ROUNDUP(im2colAll_exW7!CU5:HR13/2^5, 0))","v":-20},{"$f":"IF(im2colAll_exW7!CV5:HS13 > 0, ROUNDDOWN(im2colAll_exW7!CV5:HS13/2^5, 0), ROUNDUP(im2colAll_exW7!CV5:HS13/2^5, 0))","v":6},{"$f":"IF(im2colAll_exW7!CW5:HT13 > 0, ROUNDDOWN(im2colAll_exW7!CW5:HT13/2^5, 0), ROUNDUP(im2colAll_exW7!CW5:HT13/2^5, 0))","v":0},{"$f":"IF(im2colAll_exW7!CX5:HU13 > 0, ROUNDDOWN(im2colAll_exW7!CX5:HU13/2^5, 0), ROUNDUP(im2colAll_exW7!CX5:HU13/2^5, 0))","v":8},{"$f":"IF(im2colAll_exW7!CY5:HV13 > 0, ROUNDDOWN(im2colAll_exW7!CY5:HV13/2^5, 0), ROUNDUP(im2colAll_exW7!CY5:HV13/2^5, 0))","v":-12},{"$f":"IF(im2colAll_exW7!CZ5:HW13 > 0, ROUNDDOWN(im2colAll_exW7!CZ5:HW13/2^5, 0), ROUNDUP(im2colAll_exW7!CZ5:HW13/2^5, 0))","v":-11},{"$f":"IF(im2colAll_exW7!DA5:HX13 > 0, ROUNDDOWN(im2colAll_exW7!DA5:HX13/2^5, 0), ROUNDUP(im2colAll_exW7!DA5:HX13/2^5, 0))","v":18},{"$f":"IF(im2colAll_exW7!DB5:HY13 > 0, ROUNDDOWN(im2colAll_exW7!DB5:HY13/2^5, 0), ROUNDUP(im2colAll_exW7!DB5:HY13/2^5, 0))","v":37},{"$f":"IF(im2colAll_exW7!DC5:HZ13 > 0, ROUNDDOWN(im2colAll_exW7!DC5:HZ13/2^5, 0), ROUNDUP(im2colAll_exW7!DC5:HZ13/2^5, 0))","v":20},{"$f":"IF(im2colAll_exW7!DD5:IA13 > 0, ROUNDDOWN(im2colAll_exW7!DD5:IA13/2^5, 0), ROUNDUP(im2colAll_exW7!DD5:IA13/2^5, 0))","v":-9},{"$f":"IF(im2colAll_exW7!DE5:IB13 > 0, ROUNDDOWN(im2colAll_exW7!DE5:IB13/2^5, 0), ROUNDUP(im2colAll_exW7!DE5:IB13/2^5, 0))","v":-2},{"$f":"IF(im2colAll_exW7!DF5:IC13 > 0, ROUNDDOWN(im2colAll_exW7!DF5:IC13/2^5, 0), ROUNDUP(im2colAll_exW7!DF5:IC13/2^5, 0))","v":-1},{"$f":"IF(im2colAll_exW7!DG5:ID13 > 0, ROUNDDOWN(im2colAll_exW7!DG5:ID13/2^5, 0), ROUNDUP(im2colAll_exW7!DG5:ID13/2^5, 0))","v":0},{"$f":"IF(im2colAll_exW7!DH5:IE13 > 0, ROUNDDOWN(im2colAll_exW7!DH5:IE13/2^5, 0), ROUNDUP(im2colAll_exW7!DH5:IE13/2^5, 0))","v":25},{"$f":"IF(im2colAll_exW7!DI5:IF13 > 0, ROUNDDOWN(im2colAll_exW7!DI5:IF13/2^5, 0), ROUNDUP(im2colAll_exW7!DI5:IF13/2^5, 0))","v":45},{"$f":"IF(im2colAll_exW7!DJ5:IG13 > 0, ROUNDDOWN(im2colAll_exW7!DJ5:IG13/2^5, 0), ROUNDUP(im2colAll_exW7!DJ5:IG13/2^5, 0))","v":7},{"$f":"IF(im2colAll_exW7!DK5:IH13 > 0, ROUNDDOWN(im2colAll_exW7!DK5:IH13/2^5, 0), ROUNDUP(im2colAll_exW7!DK5:IH13/2^5, 0))","v":22},{"$f":"IF(im2colAll_exW7!DL5:II13 > 0, ROUNDDOWN(im2colAll_exW7!DL5:II13/2^5, 0), ROUNDUP(im2colAll_exW7!DL5:II13/2^5, 0))","v":-8},{"$f":"IF(im2colAll_exW7!DM5:IJ13 > 0, ROUNDDOWN(im2colAll_exW7!DM5:IJ13/2^5, 0), ROUNDUP(im2colAll_exW7!DM5:IJ13/2^5, 0))","v":3},{"$f":"IF(im2colAll_exW7!DN5:IK13 > 0, ROUNDDOWN(im2colAll_exW7!DN5:IK13/2^5, 0), ROUNDUP(im2colAll_exW7!DN5:IK13/2^5, 0))","v":-2},{"$f":"IF(im2colAll_exW7!DO5:IL13 > 0, ROUNDDOWN(im2colAll_exW7!DO5:IL13/2^5, 0), ROUNDUP(im2colAll_exW7!DO5:IL13/2^5, 0))","v":-10},{"$f":"IF(im2colAll_exW7!DP5:IM13 > 0, ROUNDDOWN(im2colAll_exW7!DP5:IM13/2^5, 0), ROUNDUP(im2colAll_exW7!DP5:IM13/2^5, 0))","v":3},{"$f":"IF(im2colAll_exW7!DQ5:IN13 > 0, ROUNDDOWN(im2colAll_exW7!DQ5:IN13/2^5, 0), ROUNDUP(im2colAll_exW7!DQ5:IN13/2^5, 0))","v":6},{"$f":"IF(im2colAll_exW7!DR5:IO13 > 0, ROUNDDOWN(im2colAll_exW7!DR5:IO13/2^5, 0), ROUNDUP(im2colAll_exW7!DR5:IO13/2^5, 0))","v":-24},{"$f":"IF(im2colAll_exW7!DS5:IP13 > 0, ROUNDDOWN(im2colAll_exW7!DS5:IP13/2^5, 0), ROUNDUP(im2colAll_exW7!DS5:IP13/2^5, 0))","v":28},{"$f":"IF(im2colAll_exW7!DT5:IQ13 > 0, ROUNDDOWN(im2colAll_exW7!DT5:IQ13/2^5, 0), ROUNDUP(im2colAll_exW7!DT5:IQ13/2^5, 0))","v":16},{"$f":"IF(im2colAll_exW7!DU5:IR13 > 0, ROUNDDOWN(im2colAll_exW7!DU5:IR13/2^5, 0), ROUNDUP(im2colAll_exW7!DU5:IR13/2^5, 0))","v":1},{"$f":"IF(im2colAll_exW7!DV5:IS13 > 0, ROUNDDOWN(im2colAll_exW7!DV5:IS13/2^5, 0), ROUNDUP(im2colAll_exW7!DV5:IS13/2^5, 0))","v":36},{"$f":"IF(im2colAll_exW7!DW5:IT13 > 0, ROUNDDOWN(im2colAll_exW7!DW5:IT13/2^5, 0), ROUNDUP(im2colAll_exW7!DW5:IT13/2^5, 0))","v":-6},{"$f":"IF(im2colAll_exW7!DX5:IU13 > 0, ROUNDDOWN(im2colAll_exW7!DX5:IU13/2^5, 0), ROUNDUP(im2colAll_exW7!DX5:IU13/2^5, 0))","v":-4}]
[{"$f":"IF(im2colAll_exW7!A6:DX14 > 0, ROUNDDOWN(im2colAll_exW7!A6:DX14/2^5, 0), ROUNDUP(im2colAll_exW7!A6:DX14/2^5, 0))","v":-17},{"$f":"IF(im2colAll_exW7!B6:DY14 > 0, ROUNDDOWN(im2colAll_exW7!B6:DY14/2^5, 0), ROUNDUP(im2colAll_exW7!B6:DY14/2^5, 0))","v":3},{"$f":"IF(im2colAll_exW7!C6:DZ14 > 0, ROUNDDOWN(im2colAll_exW7!C6:DZ14/2^5, 0), ROUNDUP(im2colAll_exW7!C6:DZ14/2^5, 0))","v":-14},{"$f":"IF(im2colAll_exW7!D6:EA14 > 0, ROUNDDOWN(im2colAll_exW7!D6:EA14/2^5, 0), ROUNDUP(im2colAll_exW7!D6:EA14/2^5, 0))","v":10},{"$f":"IF(im2colAll_exW7!E6:EB14 > 0, ROUNDDOWN(im2colAll_exW7!E6:EB14/2^5, 0), ROUNDUP(im2colAll_exW7!E6:EB14/2^5, 0))","v":34},{"$f":"IF(im2colAll_exW7!F6:EC14 > 0, ROUNDDOWN(im2colAll_exW7!F6:EC14/2^5, 0), ROUNDUP(im2colAll_exW7!F6:EC14/2^5, 0))","v":29},{"$f":"IF(im2colAll_exW7!G6:ED14 > 0, ROUNDDOWN(im2colAll_exW7!G6:ED14/2^5, 0), ROUNDUP(im2colAll_exW7!G6:ED14/2^5, 0))","v":71},{"$f":"IF(im2colAll_exW7!H6:EE14 > 0, ROUNDDOWN(im2colAll_exW7!H6:EE14/2^5, 0), ROUNDUP(im2colAll_exW7!H6:EE14/2^5, 0))","v":43},{"$f":"IF(im2colAll_exW7!I6:EF14 > 0, ROUNDDOWN(im2colAll_exW7!I6:EF14/2^5, 0), ROUNDUP(im2colAll_exW7!I6:EF14/2^5, 0))","v":-1},{"$f":"IF(im2colAll_exW7!J6:EG14 > 0, ROUNDDOWN(im2colAll_exW7!J6:EG14/2^5, 0), ROUNDUP(im2colAll_exW7!J6:EG14/2^5, 0))","v":-21},{"$f":"IF(im2colAll_exW7!K6:EH14 > 0, ROUNDDOWN(im2colAll_exW7!K6:EH14/2^5, 0), ROUNDUP(im2colAll_exW7!K6:EH14/2^5, 0))","v":18},{"$f":"IF(im2colAll_exW7!L6:EI14 > 0, ROUNDDOWN(im2colAll_exW7!L6:EI14/2^5, 0), ROUNDUP(im2colAll_exW7!L6:EI14/2^5, 0))","v":13},{"$f":"IF(im2colAll_exW7!M6:EJ14 > 0, ROUNDDOWN(im2colAll_exW7!M6:EJ14/2^5, 0), ROUNDUP(im2colAll_exW7!M6:EJ14/2^5, 0))","v":28},{"$f":"IF(im2colAll_exW7!N6:EK14 > 0, ROUNDDOWN(im2colAll_exW7!N6:EK14/2^5, 0), ROUNDUP(im2colAll_exW7!N6:EK14/2^5, 0))","v":52},{"$f":"IF(im2colAll_exW7!O6:EL14 > 0, ROUNDDOWN(im2colAll_exW7!O6:EL14/2^5, 0), ROUNDUP(im2colAll_exW7!O6:EL14/2^5, 0))","v":-3},{"$f":"IF(im2colAll_exW7!P6:EM14 > 0, ROUNDDOWN(im2colAll_exW7!P6:EM14/2^5, 0), ROUNDUP(im2colAll_exW7!P6:EM14/2^5, 0))","v":18},{"$f":"IF(im2colAll_exW7!Q6:EN14 > 0, ROUNDDOWN(im2colAll_exW7!Q6:EN14/2^5, 0), ROUNDUP(im2colAll_exW7!Q6:EN14/2^5, 0))","v":20},{"$f":"IF(im2colAll_exW7!R6:EO14 > 0, ROUNDDOWN(im2colAll_exW7!R6:EO14/2^5, 0), ROUNDUP(im2colAll_exW7!R6:EO14/2^5, 0))","v":24},{"$f":"IF(im2colAll_exW7!S6:EP14 > 0, ROUNDDOWN(im2colAll_exW7!S6:EP14/2^5, 0), ROUNDUP(im2colAll_exW7!S6:EP14/2^5, 0))","v":-11},{"$f":"IF(im2colAll_exW7!T6:EQ14 > 0, ROUNDDOWN(im2colAll_exW7!T6:EQ14/2^5, 0), ROUNDUP(im2colAll_exW7!T6:EQ14/2^5, 0))","v":32},{"$f":"IF(im2colAll_exW7!U6:ER14 > 0, ROUNDDOWN(im2colAll_exW7!U6:ER14/2^5, 0), ROUNDUP(im2colAll_exW7!U6:ER14/2^5, 0))","v":24},{"$f":"IF(im2colAll_exW7!V6:ES14 > 0, ROUNDDOWN(im2colAll_exW7!V6:ES14/2^5, 0), ROUNDUP(im2colAll_exW7!V6:ES14/2^5, 0))","v":-17},{"$f":"IF(im2colAll_exW7!W6:ET14 > 0, ROUNDDOWN(im2colAll_exW7!W6:ET14/2^5, 0), ROUNDUP(im2colAll_exW7!W6:ET14/2^5, 0))","v":18},{"$f":"IF(im2colAll_exW7!X6:EU14 > 0, ROUNDDOWN(im2colAll_exW7!X6:EU14/2^5, 0), ROUNDUP(im2colAll_exW7!X6:EU14/2^5, 0))","v":-8},{"$f":"IF(im2colAll_exW7!Y6:EV14 > 0, ROUNDDOWN(im2colAll_exW7!Y6:EV14/2^5, 0), ROUNDUP(im2colAll_exW7!Y6:EV14/2^5, 0))","v":22},{"$f":"IF(im2colAll_exW7!Z6:EW14 > 0, ROUNDDOWN(im2colAll_exW7!Z6:EW14/2^5, 0), ROUNDUP(im2colAll_exW7!Z6:EW14/2^5, 0))","v":17},{"$f":"IF(im2colAll_exW7!AA6:EX14 > 0, ROUNDDOWN(im2colAll_exW7!AA6:EX14/2^5, 0), ROUNDUP(im2colAll_exW7!AA6:EX14/2^5, 0))","v":0},{"$f":"IF(im2colAll_exW7!AB6:EY14 > 0, ROUNDDOWN(im2colAll_exW7!AB6:EY14/2^5, 0), ROUNDUP(im2colAll_exW7!AB6:EY14/2^5, 0))","v":27},{"$f":"IF(im2colAll_exW7!AC6:EZ14 > 0, ROUNDDOWN(im2colAll_exW7!AC6:EZ14/2^5, 0), ROUNDUP(im2colAll_exW7!AC6:EZ14/2^5, 0))","v":-1},{"$f":"IF(im2colAll_exW7!AD6:FA14 > 0, ROUNDDOWN(im2colAll_exW7!AD6:FA14/2^5, 0), ROUNDUP(im2colAll_exW7!AD6:FA14/2^5, 0))","v":-22},{"$f":"IF(im2colAll_exW7!AE6:FB14 > 0, ROUNDDOWN(im2colAll_exW7!AE6:FB14/2^5, 0), ROUNDUP(im2colAll_exW7!AE6:FB14/2^5, 0))","v":8},{"$f":"IF(im2colAll_exW7!AF6:FC14 > 0, ROUNDDOWN(im2colAll_exW7!AF6:FC14/2^5, 0), ROUNDUP(im2colAll_exW7!AF6:FC14/2^5, 0))","v":3},{"$f":"IF(im2colAll_exW7!AG6:FD14 > 0, ROUNDDOWN(im2colAll_exW7!AG6:FD14/2^5, 0), ROUNDUP(im2colAll_exW7!AG6:FD14/2^5, 0))","v":-4},{"$f":"IF(im2colAll_exW7!AH6:FE14 > 0, ROUNDDOWN(im2colAll_exW7!AH6:FE14/2^5, 0), ROUNDUP(im2colAll_exW7!AH6:FE14/2^5, 0))","v":32},{"$f":"IF(im2colAll_exW7!AI6:FF14 > 0, ROUNDDOWN(im2colAll_exW7!AI6:FF14/2^5, 0), ROUNDUP(im2colAll_exW7!AI6:FF14/2^5, 0))","v":6},{"$f":"IF(im2colAll_exW7!AJ6:FG14 > 0, ROUNDDOWN(im2colAll_exW7!AJ6:FG14/2^5, 0), ROUNDUP(im2colAll_exW7!AJ6:FG14/2^5, 0))","v":48},{"$f":"IF(im2colAll_exW7!AK6:FH14 > 0, ROUNDDOWN(im2colAll_exW7!AK6:FH14/2^5, 0), ROUNDUP(im2colAll_exW7!AK6:FH14/2^5, 0))","v":5},{"$f":"IF(im2colAll_exW7!AL6:FI14 > 0, ROUNDDOWN(im2colAll_exW7!AL6:FI14/2^5, 0), ROUNDUP(im2colAll_exW7!AL6:FI14/2^5, 0))","v":6},{"$f":"IF(im2colAll_exW7!AM6:FJ14 > 0, ROUNDDOWN(im2colAll_exW7!AM6:FJ14/2^5, 0), ROUNDUP(im2colAll_exW7!AM6:FJ14/2^5, 0))","v":6},{"$f":"IF(im2colAll_exW7!AN6:FK14 > 0, ROUNDDOWN(im2colAll_exW7!AN6:FK14/2^5, 0), ROUNDUP(im2colAll_exW7!AN6:FK14/2^5, 0))","v":8},{"$f":"IF(im2colAll_exW7!AO6:FL14 > 0, ROUNDDOWN(im2colAll_exW7!AO6:FL14/2^5, 0), ROUNDUP(im2colAll_exW7!AO6:FL14/2^5, 0))","v":16},{"$f":"IF(im2colAll_exW7!AP6:FM14 > 0, ROUNDDOWN(im2colAll_exW7!AP6:FM14/2^5, 0), ROUNDUP(im2colAll_exW7!AP6:FM14/2^5, 0))","v":37},{"$f":"IF(im2colAll_exW7!AQ6:FN14 > 0, ROUNDDOWN(im2colAll_exW7!AQ6:FN14/2^5, 0), ROUNDUP(im2colAll_exW7!AQ6:FN14/2^5, 0))","v":13},{"$f":"IF(im2colAll_exW7!AR6:FO14 > 0, ROUNDDOWN(im2colAll_exW7!AR6:FO14/2^5, 0), ROUNDUP(im2colAll_exW7!AR6:FO14/2^5, 0))","v":-15},{"$f":"IF(im2colAll_exW7!AS6:FP14 > 0, ROUNDDOWN(im2colAll_exW7!AS6:FP14/2^5, 0), ROUNDUP(im2colAll_exW7!AS6:FP14/2^5, 0))","v":-21},{"$f":"IF(im2colAll_exW7!AT6:FQ14 > 0, ROUNDDOWN(im2colAll_exW7!AT6:FQ14/2^5, 0), ROUNDUP(im2colAll_exW7!AT6:FQ14/2^5, 0))","v":23},{"$f":"IF(im2colAll_exW7!AU6:FR14 > 0, ROUNDDOWN(im2colAll_exW7!AU6:FR14/2^5, 0), ROUNDUP(im2colAll_exW7!AU6:FR14/2^5, 0))","v":5},{"$f":"IF(im2colAll_exW7!AV6:FS14 > 0, ROUNDDOWN(im2colAll_exW7!AV6:FS14/2^5, 0), ROUNDUP(im2colAll_exW7!AV6:FS14/2^5, 0))","v":-18},{"$f":"IF(im2colAll_exW7!AW6:FT14 > 0, ROUNDDOWN(im2colAll_exW7!AW6:FT14/2^5, 0), ROUNDUP(im2colAll_exW7!AW6:FT14/2^5, 0))","v":3},{"$f":"IF(im2colAll_exW7!AX6:FU14 > 0, ROUNDDOWN(im2colAll_exW7!AX6:FU14/2^5, 0), ROUNDUP(im2colAll_exW7!AX6:FU14/2^5, 0))","v":5},{"$f":"IF(im2colAll_exW7!AY6:FV14 > 0, ROUNDDOWN(im2colAll_exW7!AY6:FV14/2^5, 0), ROUNDUP(im2colAll_exW7!AY6:FV14/2^5, 0))","v":33},{"$f":"IF(im2colAll_exW7!AZ6:FW14 > 0, ROUNDDOWN(im2colAll_exW7!AZ6:FW14/2^5, 0), ROUNDUP(im2colAll_exW7!AZ6:FW14/2^5, 0))","v":27},{"$f":"IF(im2colAll_exW7!BA6:FX14 > 0, ROUNDDOWN(im2colAll_exW7!BA6:FX14/2^5, 0), ROUNDUP(im2colAll_exW7!BA6:FX14/2^5, 0))","v":37},{"$f":"IF(im2colAll_exW7!BB6:FY14 > 0, ROUNDDOWN(im2colAll_exW7!BB6:FY14/2^5, 0), ROUNDUP(im2colAll_exW7!BB6:FY14/2^5, 0))","v":32},{"$f":"IF(im2colAll_exW7!BC6:FZ14 > 0, ROUNDDOWN(im2colAll_exW7!BC6:FZ14/2^5, 0), ROUNDUP(im2colAll_exW7!BC6:FZ14/2^5, 0))","v":-8},{"$f":"IF(im2colAll_exW7!BD6:GA14 > 0, ROUNDDOWN(im2colAll_exW7!BD6:GA14/2^5, 0), ROUNDUP(im2colAll_exW7!BD6:GA14/2^5, 0))","v":1},{"$f":"IF(im2colAll_exW7!BE6:GB14 > 0, ROUNDDOWN(im2colAll_exW7!BE6:GB14/2^5, 0), ROUNDUP(im2colAll_exW7!BE6:GB14/2^5, 0))","v":33},{"$f":"IF(im2colAll_exW7!BF6:GC14 > 0, ROUNDDOWN(im2colAll_exW7!BF6:GC14/2^5, 0), ROUNDUP(im2colAll_exW7!BF6:GC14/2^5, 0))","v":16},{"$f":"IF(im2colAll_exW7!BG6:GD14 > 0, ROUNDDOWN(im2colAll_exW7!BG6:GD14/2^5, 0), ROUNDUP(im2colAll_exW7!BG6:GD14/2^5, 0))","v":18},{"$f":"IF(im2colAll_exW7!BH6:GE14 > 0, ROUNDDOWN(im2colAll_exW7!BH6:GE14/2^5, 0), ROUNDUP(im2colAll_exW7!BH6:GE14/2^5, 0))","v":18},{"$f":"IF(im2colAll_exW7!BI6:GF14 > 0, ROUNDDOWN(im2colAll_exW7!BI6:GF14/2^5, 0), ROUNDUP(im2colAll_exW7!BI6:GF14/2^5, 0))","v":28},{"$f":"IF(im2colAll_exW7!BJ6:GG14 > 0, ROUNDDOWN(im2colAll_exW7!BJ6:GG14/2^5, 0), ROUNDUP(im2colAll_exW7!BJ6:GG14/2^5, 0))","v":28},{"$f":"IF(im2colAll_exW7!BK6:GH14 > 0, ROUNDDOWN(im2colAll_exW7!BK6:GH14/2^5, 0), ROUNDUP(im2colAll_exW7!BK6:GH14/2^5, 0))","v":-1},{"$f":"IF(im2colAll_exW7!BL6:GI14 > 0, ROUNDDOWN(im2colAll_exW7!BL6:GI14/2^5, 0), ROUNDUP(im2colAll_exW7!BL6:GI14/2^5, 0))","v":-12},{"$f":"IF(im2colAll_exW7!BM6:GJ14 > 0, ROUNDDOWN(im2colAll_exW7!BM6:GJ14/2^5, 0), ROUNDUP(im2colAll_exW7!BM6:GJ14/2^5, 0))","v":7},{"$f":"IF(im2colAll_exW7!BN6:GK14 > 0, ROUNDDOWN(im2colAll_exW7!BN6:GK14/2^5, 0), ROUNDUP(im2colAll_exW7!BN6:GK14/2^5, 0))","v":28},{"$f":"IF(im2colAll_exW7!BO6:GL14 > 0, ROUNDDOWN(im2colAll_exW7!BO6:GL14/2^5, 0), ROUNDUP(im2colAll_exW7!BO6:GL14/2^5, 0))","v":-20},{"$f":"IF(im2colAll_exW7!BP6:GM14 > 0, ROUNDDOWN(im2colAll_exW7!BP6:GM14/2^5, 0), ROUNDUP(im2colAll_exW7!BP6:GM14/2^5, 0))","v":-7},{"$f":"IF(im2colAll_exW7!BQ6:GN14 > 0, ROUNDDOWN(im2colAll_exW7!BQ6:GN14/2^5, 0), ROUNDUP(im2colAll_exW7!BQ6:GN14/2^5, 0))","v":14},{"$f":"IF(im2colAll_exW7!BR6:GO14 > 0, ROUNDDOWN(im2colAll_exW7!BR6:GO14/2^5, 0), ROUNDUP(im2colAll_exW7!BR6:GO14/2^5, 0))","v":15},{"$f":"IF(im2colAll_exW7!BS6:GP14 > 0, ROUNDDOWN(im2colAll_exW7!BS6:GP14/2^5, 0), ROUNDUP(im2colAll_exW7!BS6:GP14/2^5, 0))","v":6},{"$f":"IF(im2colAll_exW7!BT6:GQ14 > 0, ROUNDDOWN(im2colAll_exW7!BT6:GQ14/2^5, 0), ROUNDUP(im2colAll_exW7!BT6:GQ14/2^5, 0))","v":-5},{"$f":"IF(im2colAll_exW7!BU6:GR14 > 0, ROUNDDOWN(im2colAll_exW7!BU6:GR14/2^5, 0), ROUNDUP(im2colAll_exW7!BU6:GR14/2^5, 0))","v":-8},{"$f":"IF(im2colAll_exW7!BV6:GS14 > 0, ROUNDDOWN(im2colAll_exW7!BV6:GS14/2^5, 0), ROUNDUP(im2colAll_exW7!BV6:GS14/2^5, 0))","v":20},{"$f":"IF(im2colAll_exW7!BW6:GT14 > 0, ROUNDDOWN(im2colAll_exW7!BW6:GT14/2^5, 0), ROUNDUP(im2colAll_exW7!BW6:GT14/2^5, 0))","v":18},{"$f":"IF(im2colAll_exW7!BX6:GU14 > 0, ROUNDDOWN(im2colAll_exW7!BX6:GU14/2^5, 0), ROUNDUP(im2colAll_exW7!BX6:GU14/2^5, 0))","v":23},{"$f":"IF(im2colAll_exW7!BY6:GV14 > 0, ROUNDDOWN(im2colAll_exW7!BY6:GV14/2^5, 0), ROUNDUP(im2colAll_exW7!BY6:GV14/2^5, 0))","v":2},{"$f":"IF(im2colAll_exW7!BZ6:GW14 > 0, ROUNDDOWN(im2colAll_exW7!BZ6:GW14/2^5, 0), ROUNDUP(im2colAll_exW7!BZ6:GW14/2^5, 0))","v":27},{"$f":"IF(im2colAll_exW7!CA6:GX14 > 0, ROUNDDOWN(im2colAll_exW7!CA6:GX14/2^5, 0), ROUNDUP(im2colAll_exW7!CA6:GX14/2^5, 0))","v":-7},{"$f":"IF(im2colAll_exW7!CB6:GY14 > 0, ROUNDDOWN(im2colAll_exW7!CB6:GY14/2^5, 0), ROUNDUP(im2colAll_exW7!CB6:GY14/2^5, 0))","v":0},{"$f":"IF(im2colAll_exW7!CC6:GZ14 > 0, ROUNDDOWN(im2colAll_exW7!CC6:GZ14/2^5, 0), ROUNDUP(im2colAll_exW7!CC6:GZ14/2^5, 0))","v":36},{"$f":"IF(im2colAll_exW7!CD6:HA14 > 0, ROUNDDOWN(im2colAll_exW7!CD6:HA14/2^5, 0), ROUNDUP(im2colAll_exW7!CD6:HA14/2^5, 0))","v":15},{"$f":"IF(im2colAll_exW7!CE6:HB14 > 0, ROUNDDOWN(im2colAll_exW7!CE6:HB14/2^5, 0), ROUNDUP(im2colAll_exW7!CE6:HB14/2^5, 0))","v":3},{"$f":"IF(im2colAll_exW7!CF6:HC14 > 0, ROUNDDOWN(im2colAll_exW7!CF6:HC14/2^5, 0), ROUNDUP(im2colAll_exW7!CF6:HC14/2^5, 0))","v":24},{"$f":"IF(im2colAll_exW7!CG6:HD14 > 0, ROUNDDOWN(im2colAll_exW7!CG6:HD14/2^5, 0), ROUNDUP(im2colAll_exW7!CG6:HD14/2^5, 0))","v":17},{"$f":"IF(im2colAll_exW7!CH6:HE14 > 0, ROUNDDOWN(im2colAll_exW7!CH6:HE14/2^5, 0), ROUNDUP(im2colAll_exW7!CH6:HE14/2^5, 0))","v":-12},{"$f":"IF(im2colAll_exW7!CI6:HF14 > 0, ROUNDDOWN(im2colAll_exW7!CI6:HF14/2^5, 0), ROUNDUP(im2colAll_exW7!CI6:HF14/2^5, 0))","v":36},{"$f":"IF(im2colAll_exW7!CJ6:HG14 > 0, ROUNDDOWN(im2colAll_exW7!CJ6:HG14/2^5, 0), ROUNDUP(im2colAll_exW7!CJ6:HG14/2^5, 0))","v":24},{"$f":"IF(im2colAll_exW7!CK6:HH14 > 0, ROUNDDOWN(im2colAll_exW7!CK6:HH14/2^5, 0), ROUNDUP(im2colAll_exW7!CK6:HH14/2^5, 0))","v":16},{"$f":"IF(im2colAll_exW7!CL6:HI14 > 0, ROUNDDOWN(im2colAll_exW7!CL6:HI14/2^5, 0), ROUNDUP(im2colAll_exW7!CL6:HI14/2^5, 0))","v":29},{"$f":"IF(im2colAll_exW7!CM6:HJ14 > 0, ROUNDDOWN(im2colAll_exW7!CM6:HJ14/2^5, 0), ROUNDUP(im2colAll_exW7!CM6:HJ14/2^5, 0))","v":-6},{"$f":"IF(im2colAll_exW7!CN6:HK14 > 0, ROUNDDOWN(im2colAll_exW7!CN6:HK14/2^5, 0), ROUNDUP(im2colAll_exW7!CN6:HK14/2^5, 0))","v":-1},{"$f":"IF(im2colAll_exW7!CO6:HL14 > 0, ROUNDDOWN(im2colAll_exW7!CO6:HL14/2^5, 0), ROUNDUP(im2colAll_exW7!CO6:HL14/2^5, 0))","v":-3},{"$f":"IF(im2colAll_exW7!CP6:HM14 > 0, ROUNDDOWN(im2colAll_exW7!CP6:HM14/2^5, 0), ROUNDUP(im2colAll_exW7!CP6:HM14/2^5, 0))","v":5},{"$f":"IF(im2colAll_exW7!CQ6:HN14 > 0, ROUNDDOWN(im2colAll_exW7!CQ6:HN14/2^5, 0), ROUNDUP(im2colAll_exW7!CQ6:HN14/2^5, 0))","v":-10},{"$f":"IF(im2colAll_exW7!CR6:HO14 > 0, ROUNDDOWN(im2colAll_exW7!CR6:HO14/2^5, 0), ROUNDUP(im2colAll_exW7!CR6:HO14/2^5, 0))","v":18},{"$f":"IF(im2colAll_exW7!CS6:HP14 > 0, ROUNDDOWN(im2colAll_exW7!CS6:HP14/2^5, 0), ROUNDUP(im2colAll_exW7!CS6:HP14/2^5, 0))","v":22},{"$f":"IF(im2colAll_exW7!CT6:HQ14 > 0, ROUNDDOWN(im2colAll_exW7!CT6:HQ14/2^5, 0), ROUNDUP(im2colAll_exW7!CT6:HQ14/2^5, 0))","v":62},{"$f":"IF(im2colAll_exW7!CU6:HR14 > 0, ROUNDDOWN(im2colAll_exW7!CU6:HR14/2^5, 0), ROUNDUP(im2colAll_exW7!CU6:HR14/2^5, 0))","v":-17},{"$f":"IF(im2colAll_exW7!CV6:HS14 > 0, ROUNDDOWN(im2colAll_exW7!CV6:HS14/2^5, 0), ROUNDUP(im2colAll_exW7!CV6:HS14/2^5, 0))","v":4},{"$f":"IF(im2colAll_exW7!CW6:HT14 > 0, ROUNDDOWN(im2colAll_exW7!CW6:HT14/2^5, 0), ROUNDUP(im2colAll_exW7!CW6:HT14/2^5, 0))","v":-3},{"$f":"IF(im2colAll_exW7!CX6:HU14 > 0, ROUNDDOWN(im2colAll_exW7!CX6:HU14/2^5, 0), ROUNDUP(im2colAll_exW7!CX6:HU14/2^5, 0))","v":13},{"$f":"IF(im2colAll_exW7!CY6:HV14 > 0, ROUNDDOWN(im2colAll_exW7!CY6:HV14/2^5, 0), ROUNDUP(im2colAll_exW7!CY6:HV14/2^5, 0))","v":-10},{"$f":"IF(im2colAll_exW7!CZ6:HW14 > 0, ROUNDDOWN(im2colAll_exW7!CZ6:HW14/2^5, 0), ROUNDUP(im2colAll_exW7!CZ6:HW14/2^5, 0))","v":-12},{"$f":"IF(im2colAll_exW7!DA6:HX14 > 0, ROUNDDOWN(im2colAll_exW7!DA6:HX14/2^5, 0), ROUNDUP(im2colAll_exW7!DA6:HX14/2^5, 0))","v":25},{"$f":"IF(im2colAll_exW7!DB6:HY14 > 0, ROUNDDOWN(im2colAll_exW7!DB6:HY14/2^5, 0), ROUNDUP(im2colAll_exW7!DB6:HY14/2^5, 0))","v":38},{"$f":"IF(im2colAll_exW7!DC6:HZ14 > 0, ROUNDDOWN(im2colAll_exW7!DC6:HZ14/2^5, 0), ROUNDUP(im2colAll_exW7!DC6:HZ14/2^5, 0))","v":20},{"$f":"IF(im2colAll_exW7!DD6:IA14 > 0, ROUNDDOWN(im2colAll_exW7!DD6:IA14/2^5, 0), ROUNDUP(im2colAll_exW7!DD6:IA14/2^5, 0))","v":-2},{"$f":"IF(im2colAll_exW7!DE6:IB14 > 0, ROUNDDOWN(im2colAll_exW7!DE6:IB14/2^5, 0), ROUNDUP(im2colAll_exW7!DE6:IB14/2^5, 0))","v":4},{"$f":"IF(im2colAll_exW7!DF6:IC14 > 0, ROUNDDOWN(im2colAll_exW7!DF6:IC14/2^5, 0), ROUNDUP(im2colAll_exW7!DF6:IC14/2^5, 0))","v":1},{"$f":"IF(im2colAll_exW7!DG6:ID14 > 0, ROUNDDOWN(im2colAll_exW7!DG6:ID14/2^5, 0), ROUNDUP(im2colAll_exW7!DG6:ID14/2^5, 0))","v":11},{"$f":"IF(im2colAll_exW7!DH6:IE14 > 0, ROUNDDOWN(im2colAll_exW7!DH6:IE14/2^5, 0), ROUNDUP(im2colAll_exW7!DH6:IE14/2^5, 0))","v":27},{"$f":"IF(im2colAll_exW7!DI6:IF14 > 0, ROUNDDOWN(im2colAll_exW7!DI6:IF14/2^5, 0), ROUNDUP(im2colAll_exW7!DI6:IF14/2^5, 0))","v":18},{"$f":"IF(im2colAll_exW7!DJ6:IG14 > 0, ROUNDDOWN(im2colAll_exW7!DJ6:IG14/2^5, 0), ROUNDUP(im2colAll_exW7!DJ6:IG14/2^5, 0))","v":10},{"$f":"IF(im2colAll_exW7!DK6:IH14 > 0, ROUNDDOWN(im2colAll_exW7!DK6:IH14/2^5, 0), ROUNDUP(im2colAll_exW7!DK6:IH14/2^5, 0))","v":17},{"$f":"IF(im2colAll_exW7!DL6:II14 > 0, ROUNDDOWN(im2colAll_exW7!DL6:II14/2^5, 0), ROUNDUP(im2colAll_exW7!DL6:II14/2^5, 0))","v":4},{"$f":"IF(im2colAll_exW7!DM6:IJ14 > 0, ROUNDDOWN(im2colAll_exW7!DM6:IJ14/2^5, 0), ROUNDUP(im2colAll_exW7!DM6:IJ14/2^5, 0))","v":3},{"$f":"IF(im2colAll_exW7!DN6:IK14 > 0, ROUNDDOWN(im2colAll_exW7!DN6:IK14/2^5, 0), ROUNDUP(im2colAll_exW7!DN6:IK14/2^5, 0))","v":4},{"$f":"IF(im2colAll_exW7!DO6:IL14 > 0, ROUNDDOWN(im2colAll_exW7!DO6:IL14/2^5, 0), ROUNDUP(im2colAll_exW7!DO6:IL14/2^5, 0))","v":-7},{"$f":"IF(im2colAll_exW7!DP6:IM14 > 0, ROUNDDOWN(im2colAll_exW7!DP6:IM14/2^5, 0), ROUNDUP(im2colAll_exW7!DP6:IM14/2^5, 0))","v":15},{"$f":"IF(im2colAll_exW7!DQ6:IN14 > 0, ROUNDDOWN(im2colAll_exW7!DQ6:IN14/2^5, 0), ROUNDUP(im2colAll_exW7!DQ6:IN14/2^5, 0))","v":-2},{"$f":"IF(im2colAll_exW7!DR6:IO14 > 0, ROUNDDOWN(im2colAll_exW7!DR6:IO14/2^5, 0), ROUNDUP(im2colAll_exW7!DR6:IO14/2^5, 0))","v":-17},{"$f":"IF(im2colAll_exW7!DS6:IP14 > 0, ROUNDDOWN(im2colAll_exW7!DS6:IP14/2^5, 0), ROUNDUP(im2colAll_exW7!DS6:IP14/2^5, 0))","v":37},{"$f":"IF(im2colAll_exW7!DT6:IQ14 > 0, ROUNDDOWN(im2colAll_exW7!DT6:IQ14/2^5, 0), ROUNDUP(im2colAll_exW7!DT6:IQ14/2^5, 0))","v":15},{"$f":"IF(im2colAll_exW7!DU6:IR14 > 0, ROUNDDOWN(im2colAll_exW7!DU6:IR14/2^5, 0), ROUNDUP(im2colAll_exW7!DU6:IR14/2^5, 0))","v":8},{"$f":"IF(im2colAll_exW7!DV6:IS14 > 0, ROUNDDOWN(im2colAll_exW7!DV6:IS14/2^5, 0), ROUNDUP(im2colAll_exW7!DV6:IS14/2^5, 0))","v":39},{"$f":"IF(im2colAll_exW7!DW6:IT14 > 0, ROUNDDOWN(im2colAll_exW7!DW6:IT14/2^5, 0), ROUNDUP(im2colAll_exW7!DW6:IT14/2^5, 0))","v":-7},{"$f":"IF(im2colAll_exW7!DX6:IU14 > 0, ROUNDDOWN(im2colAll_exW7!DX6:IU14/2^5, 0), ROUNDUP(im2colAll_exW7!DX6:IU14/2^5, 0))","v":12}]
[{"$f":"IF(im2colAll_exW7!A7:DX15 > 0, ROUNDDOWN(im2colAll_exW7!A7:DX15/2^5, 0), ROUNDUP(im2colAll_exW7!A7:DX15/2^5, 0))","v":-11},{"$f":"IF(im2colAll_exW7!B7:DY15 > 0, ROUNDDOWN(im2colAll_exW7!B7:DY15/2^5, 0), ROUNDUP(im2colAll_exW7!B7:DY15/2^5, 0))","v":1},{"$f":"IF(im2colAll_exW7!C7:DZ15 > 0, ROUNDDOWN(im2colAll_exW7!C7:DZ15/2^5, 0), ROUNDUP(im2colAll_exW7!C7:DZ15/2^5, 0))","v":-6},{"$f":"IF(im2colAll_exW7!D7:EA15 > 0, ROUNDDOWN(im2colAll_exW7!D7:EA15/2^5, 0), ROUNDUP(im2colAll_exW7!D7:EA15/2^5, 0))","v":10},{"$f":"IF(im2colAll_exW7!E7:EB15 > 0, ROUNDDOWN(im2colAll_exW7!E7:EB15/2^5, 0), ROUNDUP(im2colAll_exW7!E7:EB15/2^5, 0))","v":34},{"$f":"IF(im2colAll_exW7!F7:EC15 > 0, ROUNDDOWN(im2colAll_exW7!F7:EC15/2^5, 0), ROUNDUP(im2colAll_exW7!F7:EC15/2^5, 0))","v":22},{"$f":"IF(im2colAll_exW7!G7:ED15 > 0, ROUNDDOWN(im2colAll_exW7!G7:ED15/2^5, 0), ROUNDUP(im2colAll_exW7!G7:ED15/2^5, 0))","v":67},{"$f":"IF(im2colAll_exW7!H7:EE15 > 0, ROUNDDOWN(im2colAll_exW7!H7:EE15/2^5, 0), ROUNDUP(im2colAll_exW7!H7:EE15/2^5, 0))","v":13},{"$f":"IF(im2colAll_exW7!I7:EF15 > 0, ROUNDDOWN(im2colAll_exW7!I7:EF15/2^5, 0), ROUNDUP(im2colAll_exW7!I7:EF15/2^5, 0))","v":4},{"$f":"IF(im2colAll_exW7!J7:EG15 > 0, ROUNDDOWN(im2colAll_exW7!J7:EG15/2^5, 0), ROUNDUP(im2colAll_exW7!J7:EG15/2^5, 0))","v":-14},{"$f":"IF(im2colAll_exW7!K7:EH15 > 0, ROUNDDOWN(im2colAll_exW7!K7:EH15/2^5, 0), ROUNDUP(im2colAll_exW7!K7:EH15/2^5, 0))","v":20},{"$f":"IF(im2colAll_exW7!L7:EI15 > 0, ROUNDDOWN(im2colAll_exW7!L7:EI15/2^5, 0), ROUNDUP(im2colAll_exW7!L7:EI15/2^5, 0))","v":7},{"$f":"IF(im2colAll_exW7!M7:EJ15 > 0, ROUNDDOWN(im2colAll_exW7!M7:EJ15/2^5, 0), ROUNDUP(im2colAll_exW7!M7:EJ15/2^5, 0))","v":6},{"$f":"IF(im2colAll_exW7!N7:EK15 > 0, ROUNDDOWN(im2colAll_exW7!N7:EK15/2^5, 0), ROUNDUP(im2colAll_exW7!N7:EK15/2^5, 0))","v":29},{"$f":"IF(im2colAll_exW7!O7:EL15 > 0, ROUNDDOWN(im2colAll_exW7!O7:EL15/2^5, 0), ROUNDUP(im2colAll_exW7!O7:EL15/2^5, 0))","v":-4},{"$f":"IF(im2colAll_exW7!P7:EM15 > 0, ROUNDDOWN(im2colAll_exW7!P7:EM15/2^5, 0), ROUNDUP(im2colAll_exW7!P7:EM15/2^5, 0))","v":2},{"$f":"IF(im2colAll_exW7!Q7:EN15 > 0, ROUNDDOWN(im2colAll_exW7!Q7:EN15/2^5, 0), ROUNDUP(im2colAll_exW7!Q7:EN15/2^5, 0))","v":22},{"$f":"IF(im2colAll_exW7!R7:EO15 > 0, ROUNDDOWN(im2colAll_exW7!R7:EO15/2^5, 0), ROUNDUP(im2colAll_exW7!R7:EO15/2^5, 0))","v":5},{"$f":"IF(im2colAll_exW7!S7:EP15 > 0, ROUNDDOWN(im2colAll_exW7!S7:EP15/2^5, 0), ROUNDUP(im2colAll_exW7!S7:EP15/2^5, 0))","v":-6},{"$f":"IF(im2colAll_exW7!T7:EQ15 > 0, ROUNDDOWN(im2colAll_exW7!T7:EQ15/2^5, 0), ROUNDUP(im2colAll_exW7!T7:EQ15/2^5, 0))","v":31},{"$f":"IF(im2colAll_exW7!U7:ER15 > 0, ROUNDDOWN(im2colAll_exW7!U7:ER15/2^5, 0), ROUNDUP(im2colAll_exW7!U7:ER15/2^5, 0))","v":30},{"$f":"IF(im2colAll_exW7!V7:ES15 > 0, ROUNDDOWN(im2colAll_exW7!V7:ES15/2^5, 0), ROUNDUP(im2colAll_exW7!V7:ES15/2^5, 0))","v":-8},{"$f":"IF(im2colAll_exW7!W7:ET15 > 0, ROUNDDOWN(im2colAll_exW7!W7:ET15/2^5, 0), ROUNDUP(im2colAll_exW7!W7:ET15/2^5, 0))","v":2},{"$f":"IF(im2colAll_exW7!X7:EU15 > 0, ROUNDDOWN(im2colAll_exW7!X7:EU15/2^5, 0), ROUNDUP(im2colAll_exW7!X7:EU15/2^5, 0))","v":-11},{"$f":"IF(im2colAll_exW7!Y7:EV15 > 0, ROUNDDOWN(im2colAll_exW7!Y7:EV15/2^5, 0), ROUNDUP(im2colAll_exW7!Y7:EV15/2^5, 0))","v":21},{"$f":"IF(im2colAll_exW7!Z7:EW15 > 0, ROUNDDOWN(im2colAll_exW7!Z7:EW15/2^5, 0), ROUNDUP(im2colAll_exW7!Z7:EW15/2^5, 0))","v":3},{"$f":"IF(im2colAll_exW7!AA7:EX15 > 0, ROUNDDOWN(im2colAll_exW7!AA7:EX15/2^5, 0), ROUNDUP(im2colAll_exW7!AA7:EX15/2^5, 0))","v":6},{"$f":"IF(im2colAll_exW7!AB7:EY15 > 0, ROUNDDOWN(im2colAll_exW7!AB7:EY15/2^5, 0), ROUNDUP(im2colAll_exW7!AB7:EY15/2^5, 0))","v":20},{"$f":"IF(im2colAll_exW7!AC7:EZ15 > 0, ROUNDDOWN(im2colAll_exW7!AC7:EZ15/2^5, 0), ROUNDUP(im2colAll_exW7!AC7:EZ15/2^5, 0))","v":13},{"$f":"IF(im2colAll_exW7!AD7:FA15 > 0, ROUNDDOWN(im2colAll_exW7!AD7:FA15/2^5, 0), ROUNDUP(im2colAll_exW7!AD7:FA15/2^5, 0))","v":-8},{"$f":"IF(im2colAll_exW7!AE7:FB15 > 0, ROUNDDOWN(im2colAll_exW7!AE7:FB15/2^5, 0), ROUNDUP(im2colAll_exW7!AE7:FB15/2^5, 0))","v":1},{"$f":"IF(im2colAll_exW7!AF7:FC15 > 0, ROUNDDOWN(im2colAll_exW7!AF7:FC15/2^5, 0), ROUNDUP(im2colAll_exW7!AF7:FC15/2^5, 0))","v":2},{"$f":"IF(im2colAll_exW7!AG7:FD15 > 0, ROUNDDOWN(im2colAll_exW7!AG7:FD15/2^5, 0), ROUNDUP(im2colAll_exW7!AG7:FD15/2^5, 0))","v":-2},{"$f":"IF(im2colAll_exW7!AH7:FE15 > 0, ROUNDDOWN(im2colAll_exW7!AH7:FE15/2^5, 0), ROUNDUP(im2colAll_exW7!AH7:FE15/2^5, 0))","v":16},{"$f":"IF(im2colAll_exW7!AI7:FF15 > 0, ROUNDDOWN(im2colAll_exW7!AI7:FF15/2^5, 0), ROUNDUP(im2colAll_exW7!AI7:FF15/2^5, 0))","v":18},{"$f":"IF(im2colAll_exW7!AJ7:FG15 > 0, ROUNDDOWN(im2colAll_exW7!AJ7:FG15/2^5, 0), ROUNDUP(im2colAll_exW7!AJ7:FG15/2^5, 0))","v":32},{"$f":"IF(im2colAll_exW7!AK7:FH15 > 0, ROUNDDOWN(im2colAll_exW7!AK7:FH15/2^5, 0), ROUNDUP(im2colAll_exW7!AK7:FH15/2^5, 0))","v":-4},{"$f":"IF(im2colAll_exW7!AL7:FI15 > 0, ROUNDDOWN(im2colAll_exW7!AL7:FI15/2^5, 0), ROUNDUP(im2colAll_exW7!AL7:FI15/2^5, 0))","v":-1},{"$f":"IF(im2colAll_exW7!AM7:FJ15 > 0, ROUNDDOWN(im2colAll_exW7!AM7:FJ15/2^5, 0), ROUNDUP(im2colAll_exW7!AM7:FJ15/2^5, 0))","v":10},{"$f":"IF(im2colAll_exW7!AN7:FK15 > 0, ROUNDDOWN(im2colAll_exW7!AN7:FK15/2^5, 0), ROUNDUP(im2colAll_exW7!AN7:FK15/2^5, 0))","v":12},{"$f":"IF(im2colAll_exW7!AO7:FL15 > 0, ROUNDDOWN(im2colAll_exW7!AO7:FL15/2^5, 0), ROUNDUP(im2colAll_exW7!AO7:FL15/2^5, 0))","v":27},{"$f":"IF(im2colAll_exW7!AP7:FM15 > 0, ROUNDDOWN(im2colAll_exW7!AP7:FM15/2^5, 0), ROUNDUP(im2colAll_exW7!AP7:FM15/2^5, 0))","v":20},{"$f":"IF(im2colAll_exW7!AQ7:FN15 > 0, ROUNDDOWN(im2colAll_exW7!AQ7:FN15/2^5, 0), ROUNDUP(im2colAll_exW7!AQ7:FN15/2^5, 0))","v":3},{"$f":"IF(im2colAll_exW7!AR7:FO15 > 0, ROUNDDOWN(im2colAll_exW7!AR7:FO15/2^5, 0), ROUNDUP(im2colAll_exW7!AR7:FO15/2^5, 0))","v":-19},{"$f":"IF(im2colAll_exW7!AS7:FP15 > 0, ROUNDDOWN(im2colAll_exW7!AS7:FP15/2^5, 0), ROUNDUP(im2colAll_exW7!AS7:FP15/2^5, 0))","v":-19},{"$f":"IF(im2colAll_exW7!AT7:FQ15 > 0, ROUNDDOWN(im2colAll_exW7!AT7:FQ15/2^5, 0), ROUNDUP(im2colAll_exW7!AT7:FQ15/2^5, 0))","v":15},{"$f":"IF(im2colAll_exW7!AU7:FR15 > 0, ROUNDDOWN(im2colAll_exW7!AU7:FR15/2^5, 0), ROUNDUP(im2colAll_exW7!AU7:FR15/2^5, 0))","v":8},{"$f":"IF(im2colAll_exW7!AV7:FS15 > 0, ROUNDDOWN(im2colAll_exW7!AV7:FS15/2^5, 0), ROUNDUP(im2colAll_exW7!AV7:FS15/2^5, 0))","v":-11},{"$f":"IF(im2colAll_exW7!AW7:FT15 > 0, ROUNDDOWN(im2colAll_exW7!AW7:FT15/2^5, 0), ROUNDUP(im2colAll_exW7!AW7:FT15/2^5, 0))","v":0},{"$f":"IF(im2colAll_exW7!AX7:FU15 > 0, ROUNDDOWN(im2colAll_exW7!AX7:FU15/2^5, 0), ROUNDUP(im2colAll_exW7!AX7:FU15/2^5, 0))","v":0},{"$f":"IF(im2colAll_exW7!AY7:FV15 > 0, ROUNDDOWN(im2colAll_exW7!AY7:FV15/2^5, 0), ROUNDUP(im2colAll_exW7!AY7:FV15/2^5, 0))","v":35},{"$f":"IF(im2colAll_exW7!AZ7:FW15 > 0, ROUNDDOWN(im2colAll_exW7!AZ7:FW15/2^5, 0), ROUNDUP(im2colAll_exW7!AZ7:FW15/2^5, 0))","v":5},{"$f":"IF(im2colAll_exW7!BA7:FX15 > 0, ROUNDDOWN(im2colAll_exW7!BA7:FX15/2^5, 0), ROUNDUP(im2colAll_exW7!BA7:FX15/2^5, 0))","v":37},{"$f":"IF(im2colAll_exW7!BB7:FY15 > 0, ROUNDDOWN(im2colAll_exW7!BB7:FY15/2^5, 0), ROUNDUP(im2colAll_exW7!BB7:FY15/2^5, 0))","v":44},{"$f":"IF(im2colAll_exW7!BC7:FZ15 > 0, ROUNDDOWN(im2colAll_exW7!BC7:FZ15/2^5, 0), ROUNDUP(im2colAll_exW7!BC7:FZ15/2^5, 0))","v":-15},{"$f":"IF(im2colAll_exW7!BD7:GA15 > 0, ROUNDDOWN(im2colAll_exW7!BD7:GA15/2^5, 0), ROUNDUP(im2colAll_exW7!BD7:GA15/2^5, 0))","v":7},{"$f":"IF(im2colAll_exW7!BE7:GB15 > 0, ROUNDDOWN(im2colAll_exW7!BE7:GB15/2^5, 0), ROUNDUP(im2colAll_exW7!BE7:GB15/2^5, 0))","v":26},{"$f":"IF(im2colAll_exW7!BF7:GC15 > 0, ROUNDDOWN(im2colAll_exW7!BF7:GC15/2^5, 0), ROUNDUP(im2colAll_exW7!BF7:GC15/2^5, 0))","v":8},{"$f":"IF(im2colAll_exW7!BG7:GD15 > 0, ROUNDDOWN(im2colAll_exW7!BG7:GD15/2^5, 0), ROUNDUP(im2colAll_exW7!BG7:GD15/2^5, 0))","v":-1},{"$f":"IF(im2colAll_exW7!BH7:GE15 > 0, ROUNDDOWN(im2colAll_exW7!BH7:GE15/2^5, 0), ROUNDUP(im2colAll_exW7!BH7:GE15/2^5, 0))","v":5},{"$f":"IF(im2colAll_exW7!BI7:GF15 > 0, ROUNDDOWN(im2colAll_exW7!BI7:GF15/2^5, 0), ROUNDUP(im2colAll_exW7!BI7:GF15/2^5, 0))","v":27},{"$f":"IF(im2colAll_exW7!BJ7:GG15 > 0, ROUNDDOWN(im2colAll_exW7!BJ7:GG15/2^5, 0), ROUNDUP(im2colAll_exW7!BJ7:GG15/2^5, 0))","v":30},{"$f":"IF(im2colAll_exW7!BK7:GH15 > 0, ROUNDDOWN(im2colAll_exW7!BK7:GH15/2^5, 0), ROUNDUP(im2colAll_exW7!BK7:GH15/2^5, 0))","v":-6},{"$f":"IF(im2colAll_exW7!BL7:GI15 > 0, ROUNDDOWN(im2colAll_exW7!BL7:GI15/2^5, 0), ROUNDUP(im2colAll_exW7!BL7:GI15/2^5, 0))","v":-6},{"$f":"IF(im2colAll_exW7!BM7:GJ15 > 0, ROUNDDOWN(im2colAll_exW7!BM7:GJ15/2^5, 0), ROUNDUP(im2colAll_exW7!BM7:GJ15/2^5, 0))","v":-2},{"$f":"IF(im2colAll_exW7!BN7:GK15 > 0, ROUNDDOWN(im2colAll_exW7!BN7:GK15/2^5, 0), ROUNDUP(im2colAll_exW7!BN7:GK15/2^5, 0))","v":15},{"$f":"IF(im2colAll_exW7!BO7:GL15 > 0, ROUNDDOWN(im2colAll_exW7!BO7:GL15/2^5, 0), ROUNDUP(im2colAll_exW7!BO7:GL15/2^5, 0))","v":-10},{"$f":"IF(im2colAll_exW7!BP7:GM15 > 0, ROUNDDOWN(im2colAll_exW7!BP7:GM15/2^5, 0), ROUNDUP(im2colAll_exW7!BP7:GM15/2^5, 0))","v":-9},{"$f":"IF(im2colAll_exW7!BQ7:GN15 > 0, ROUNDDOWN(im2colAll_exW7!BQ7:GN15/2^5, 0), ROUNDUP(im2colAll_exW7!BQ7:GN15/2^5, 0))","v":6},{"$f":"IF(im2colAll_exW7!BR7:GO15 > 0, ROUNDDOWN(im2colAll_exW7!BR7:GO15/2^5, 0), ROUNDUP(im2colAll_exW7!BR7:GO15/2^5, 0))","v":2},{"$f":"IF(im2colAll_exW7!BS7:GP15 > 0, ROUNDDOWN(im2colAll_exW7!BS7:GP15/2^5, 0), ROUNDUP(im2colAll_exW7!BS7:GP15/2^5, 0))","v":-4},{"$f":"IF(im2colAll_exW7!BT7:GQ15 > 0, ROUNDDOWN(im2colAll_exW7!BT7:GQ15/2^5, 0), ROUNDUP(im2colAll_exW7!BT7:GQ15/2^5, 0))","v":-2},{"$f":"IF(im2colAll_exW7!BU7:GR15 > 0, ROUNDDOWN(im2colAll_exW7!BU7:GR15/2^5, 0), ROUNDUP(im2colAll_exW7!BU7:GR15/2^5, 0))","v":-10},{"$f":"IF(im2colAll_exW7!BV7:GS15 > 0, ROUNDDOWN(im2colAll_exW7!BV7:GS15/2^5, 0), ROUNDUP(im2colAll_exW7!BV7:GS15/2^5, 0))","v":3},{"$f":"IF(im2colAll_exW7!BW7:GT15 > 0, ROUNDDOWN(im2colAll_exW7!BW7:GT15/2^5, 0), ROUNDUP(im2colAll_exW7!BW7:GT15/2^5, 0))","v":11},{"$f":"IF(im2colAll_exW7!BX7:GU15 > 0, ROUNDDOWN(im2colAll_exW7!BX7:GU15/2^5, 0), ROUNDUP(im2colAll_exW7!BX7:GU15/2^5, 0))","v":40},{"$f":"IF(im2colAll_exW7!BY7:GV15 > 0, ROUNDDOWN(im2colAll_exW7!BY7:GV15/2^5, 0), ROUNDUP(im2colAll_exW7!BY7:GV15/2^5, 0))","v":5},{"$f":"IF(im2colAll_exW7!BZ7:GW15 > 0, ROUNDDOWN(im2colAll_exW7!BZ7:GW15/2^5, 0), ROUNDUP(im2colAll_exW7!BZ7:GW15/2^5, 0))","v":10},{"$f":"IF(im2colAll_exW7!CA7:GX15 > 0, ROUNDDOWN(im2colAll_exW7!CA7:GX15/2^5, 0), ROUNDUP(im2colAll_exW7!CA7:GX15/2^5, 0))","v":-9},{"$f":"IF(im2colAll_exW7!CB7:GY15 > 0, ROUNDDOWN(im2colAll_exW7!CB7:GY15/2^5, 0), ROUNDUP(im2colAll_exW7!CB7:GY15/2^5, 0))","v":11},{"$f":"IF(im2colAll_exW7!CC7:GZ15 > 0, ROUNDDOWN(im2colAll_exW7!CC7:GZ15/2^5, 0), ROUNDUP(im2colAll_exW7!CC7:GZ15/2^5, 0))","v":23},{"$f":"IF(im2colAll_exW7!CD7:HA15 > 0, ROUNDDOWN(im2colAll_exW7!CD7:HA15/2^5, 0), ROUNDUP(im2colAll_exW7!CD7:HA15/2^5, 0))","v":26},{"$f":"IF(im2colAll_exW7!CE7:HB15 > 0, ROUNDDOWN(im2colAll_exW7!CE7:HB15/2^5, 0), ROUNDUP(im2colAll_exW7!CE7:HB15/2^5, 0))","v":-5},{"$f":"IF(im2colAll_exW7!CF7:HC15 > 0, ROUNDDOWN(im2colAll_exW7!CF7:HC15/2^5, 0), ROUNDUP(im2colAll_exW7!CF7:HC15/2^5, 0))","v":17},{"$f":"IF(im2colAll_exW7!CG7:HD15 > 0, ROUNDDOWN(im2colAll_exW7!CG7:HD15/2^5, 0), ROUNDUP(im2colAll_exW7!CG7:HD15/2^5, 0))","v":6},{"$f":"IF(im2colAll_exW7!CH7:HE15 > 0, ROUNDDOWN(im2colAll_exW7!CH7:HE15/2^5, 0), ROUNDUP(im2colAll_exW7!CH7:HE15/2^5, 0))","v":-5},{"$f":"IF(im2colAll_exW7!CI7:HF15 > 0, ROUNDDOWN(im2colAll_exW7!CI7:HF15/2^5, 0), ROUNDUP(im2colAll_exW7!CI7:HF15/2^5, 0))","v":27},{"$f":"IF(im2colAll_exW7!CJ7:HG15 > 0, ROUNDDOWN(im2colAll_exW7!CJ7:HG15/2^5, 0), ROUNDUP(im2colAll_exW7!CJ7:HG15/2^5, 0))","v":1},{"$f":"IF(im2colAll_exW7!CK7:HH15 > 0, ROUNDDOWN(im2colAll_exW7!CK7:HH15/2^5, 0), ROUNDUP(im2colAll_exW7!CK7:HH15/2^5, 0))","v":38},{"$f":"IF(im2colAll_exW7!CL7:HI15 > 0, ROUNDDOWN(im2colAll_exW7!CL7:HI15/2^5, 0), ROUNDUP(im2colAll_exW7!CL7:HI15/2^5, 0))","v":9},{"$f":"IF(im2colAll_exW7!CM7:HJ15 > 0, ROUNDDOWN(im2colAll_exW7!CM7:HJ15/2^5, 0), ROUNDUP(im2colAll_exW7!CM7:HJ15/2^5, 0))","v":-4},{"$f":"IF(im2colAll_exW7!CN7:HK15 > 0, ROUNDDOWN(im2colAll_exW7!CN7:HK15/2^5, 0), ROUNDUP(im2colAll_exW7!CN7:HK15/2^5, 0))","v":3},{"$f":"IF(im2colAll_exW7!CO7:HL15 > 0, ROUNDDOWN(im2colAll_exW7!CO7:HL15/2^5, 0), ROUNDUP(im2colAll_exW7!CO7:HL15/2^5, 0))","v":-9},{"$f":"IF(im2colAll_exW7!CP7:HM15 > 0, ROUNDDOWN(im2colAll_exW7!CP7:HM15/2^5, 0), ROUNDUP(im2colAll_exW7!CP7:HM15/2^5, 0))","v":2},{"$f":"IF(im2colAll_exW7!CQ7:HN15 > 0, ROUNDDOWN(im2colAll_exW7!CQ7:HN15/2^5, 0), ROUNDUP(im2colAll_exW7!CQ7:HN15/2^5, 0))","v":-14},{"$f":"IF(im2colAll_exW7!CR7:HO15 > 0, ROUNDDOWN(im2colAll_exW7!CR7:HO15/2^5, 0), ROUNDUP(im2colAll_exW7!CR7:HO15/2^5, 0))","v":13},{"$f":"IF(im2colAll_exW7!CS7:HP15 > 0, ROUNDDOWN(im2colAll_exW7!CS7:HP15/2^5, 0), ROUNDUP(im2colAll_exW7!CS7:HP15/2^5, 0))","v":43},{"$f":"IF(im2colAll_exW7!CT7:HQ15 > 0, ROUNDDOWN(im2colAll_exW7!CT7:HQ15/2^5, 0), ROUNDUP(im2colAll_exW7!CT7:HQ15/2^5, 0))","v":39},{"$f":"IF(im2colAll_exW7!CU7:HR15 > 0, ROUNDDOWN(im2colAll_exW7!CU7:HR15/2^5, 0), ROUNDUP(im2colAll_exW7!CU7:HR15/2^5, 0))","v":-15},{"$f":"IF(im2colAll_exW7!CV7:HS15 > 0, ROUNDDOWN(im2colAll_exW7!CV7:HS15/2^5, 0), ROUNDUP(im2colAll_exW7!CV7:HS15/2^5, 0))","v":0},{"$f":"IF(im2colAll_exW7!CW7:HT15 > 0, ROUNDDOWN(im2colAll_exW7!CW7:HT15/2^5, 0), ROUNDUP(im2colAll_exW7!CW7:HT15/2^5, 0))","v":2},{"$f":"IF(im2colAll_exW7!CX7:HU15 > 0, ROUNDDOWN(im2colAll_exW7!CX7:HU15/2^5, 0), ROUNDUP(im2colAll_exW7!CX7:HU15/2^5, 0))","v":5},{"$f":"IF(im2colAll_exW7!CY7:HV15 > 0, ROUNDDOWN(im2colAll_exW7!CY7:HV15/2^5, 0), ROUNDUP(im2colAll_exW7!CY7:HV15/2^5, 0))","v":-1},{"$f":"IF(im2colAll_exW7!CZ7:HW15 > 0, ROUNDDOWN(im2colAll_exW7!CZ7:HW15/2^5, 0), ROUNDUP(im2colAll_exW7!CZ7:HW15/2^5, 0))","v":-6},{"$f":"IF(im2colAll_exW7!DA7:HX15 > 0, ROUNDDOWN(im2colAll_exW7!DA7:HX15/2^5, 0), ROUNDUP(im2colAll_exW7!DA7:HX15/2^5, 0))","v":9},{"$f":"IF(im2colAll_exW7!DB7:HY15 > 0, ROUNDDOWN(im2colAll_exW7!DB7:HY15/2^5, 0), ROUNDUP(im2colAll_exW7!DB7:HY15/2^5, 0))","v":25},{"$f":"IF(im2colAll_exW7!DC7:HZ15 > 0, ROUNDDOWN(im2colAll_exW7!DC7:HZ15/2^5, 0), ROUNDUP(im2colAll_exW7!DC7:HZ15/2^5, 0))","v":12},{"$f":"IF(im2colAll_exW7!DD7:IA15 > 0, ROUNDDOWN(im2colAll_exW7!DD7:IA15/2^5, 0), ROUNDUP(im2colAll_exW7!DD7:IA15/2^5, 0))","v":-7},{"$f":"IF(im2colAll_exW7!DE7:IB15 > 0, ROUNDDOWN(im2colAll_exW7!DE7:IB15/2^5, 0), ROUNDUP(im2colAll_exW7!DE7:IB15/2^5, 0))","v":24},{"$f":"IF(im2colAll_exW7!DF7:IC15 > 0, ROUNDDOWN(im2colAll_exW7!DF7:IC15/2^5, 0), ROUNDUP(im2colAll_exW7!DF7:IC15/2^5, 0))","v":0},{"$f":"IF(im2colAll_exW7!DG7:ID15 > 0, ROUNDDOWN(im2colAll_exW7!DG7:ID15/2^5, 0), ROUNDUP(im2colAll_exW7!DG7:ID15/2^5, 0))","v":18},{"$f":"IF(im2colAll_exW7!DH7:IE15 > 0, ROUNDDOWN(im2colAll_exW7!DH7:IE15/2^5, 0), ROUNDUP(im2colAll_exW7!DH7:IE15/2^5, 0))","v":4},{"$f":"IF(im2colAll_exW7!DI7:IF15 > 0, ROUNDDOWN(im2colAll_exW7!DI7:IF15/2^5, 0), ROUNDUP(im2colAll_exW7!DI7:IF15/2^5, 0))","v":6},{"$f":"IF(im2colAll_exW7!DJ7:IG15 > 0, ROUNDDOWN(im2colAll_exW7!DJ7:IG15/2^5, 0), ROUNDUP(im2colAll_exW7!DJ7:IG15/2^5, 0))","v":-5},{"$f":"IF(im2colAll_exW7!DK7:IH15 > 0, ROUNDDOWN(im2colAll_exW7!DK7:IH15/2^5, 0), ROUNDUP(im2colAll_exW7!DK7:IH15/2^5, 0))","v":2},{"$f":"IF(im2colAll_exW7!DL7:II15 > 0, ROUNDDOWN(im2colAll_exW7!DL7:II15/2^5, 0), ROUNDUP(im2colAll_exW7!DL7:II15/2^5, 0))","v":-11},{"$f":"IF(im2colAll_exW7!DM7:IJ15 > 0, ROUNDDOWN(im2colAll_exW7!DM7:IJ15/2^5, 0), ROUNDUP(im2colAll_exW7!DM7:IJ15/2^5, 0))","v":9},{"$f":"IF(im2colAll_exW7!DN7:IK15 > 0, ROUNDDOWN(im2colAll_exW7!DN7:IK15/2^5, 0), ROUNDUP(im2colAll_exW7!DN7:IK15/2^5, 0))","v":-10},{"$f":"IF(im2colAll_exW7!DO7:IL15 > 0, ROUNDDOWN(im2colAll_exW7!DO7:IL15/2^5, 0), ROUNDUP(im2colAll_exW7!DO7:IL15/2^5, 0))","v":-4},{"$f":"IF(im2colAll_exW7!DP7:IM15 > 0, ROUNDDOWN(im2colAll_exW7!DP7:IM15/2^5, 0), ROUNDUP(im2colAll_exW7!DP7:IM15/2^5, 0))","v":-6},{"$f":"IF(im2colAll_exW7!DQ7:IN15 > 0, ROUNDDOWN(im2colAll_exW7!DQ7:IN15/2^5, 0), ROUNDUP(im2colAll_exW7!DQ7:IN15/2^5, 0))","v":5},{"$f":"IF(im2colAll_exW7!DR7:IO15 > 0, ROUNDDOWN(im2colAll_exW7!DR7:IO15/2^5, 0), ROUNDUP(im2colAll_exW7!DR7:IO15/2^5, 0))","v":-10},{"$f":"IF(im2colAll_exW7!DS7:IP15 > 0, ROUNDDOWN(im2colAll_exW7!DS7:IP15/2^5, 0), ROUNDUP(im2colAll_exW7!DS7:IP15/2^5, 0))","v":20},{"$f":"IF(im2colAll_exW7!DT7:IQ15 > 0, ROUNDDOWN(im2colAll_exW7!DT7:IQ15/2^5, 0), ROUNDUP(im2colAll_exW7!DT7:IQ15/2^5, 0))","v":6},{"$f":"IF(im2colAll_exW7!DU7:IR15 > 0, ROUNDDOWN(im2colAll_exW7!DU7:IR15/2^5, 0), ROUNDUP(im2colAll_exW7!DU7:IR15/2^5, 0))","v":9},{"$f":"IF(im2colAll_exW7!DV7:IS15 > 0, ROUNDDOWN(im2colAll_exW7!DV7:IS15/2^5, 0), ROUNDUP(im2colAll_exW7!DV7:IS15/2^5, 0))","v":24},{"$f":"IF(im2colAll_exW7!DW7:IT15 > 0, ROUNDDOWN(im2colAll_exW7!DW7:IT15/2^5, 0), ROUNDUP(im2colAll_exW7!DW7:IT15/2^5, 0))","v":3},{"$f":"IF(im2colAll_exW7!DX7:IU15 > 0, ROUNDDOWN(im2colAll_exW7!DX7:IU15/2^5, 0), ROUNDUP(im2colAll_exW7!DX7:IU15/2^5, 0))","v":18}]
[{"$f":"IF(im2colAll_exW7!A8:DX16 > 0, ROUNDDOWN(im2colAll_exW7!A8:DX16/2^5, 0), ROUNDUP(im2colAll_exW7!A8:DX16/2^5, 0))","v":-7},{"$f":"IF(im2colAll_exW7!B8:DY16 > 0, ROUNDDOWN(im2colAll_exW7!B8:DY16/2^5, 0), ROUNDUP(im2colAll_exW7!B8:DY16/2^5, 0))","v":10},{"$f":"IF(im2colAll_exW7!C8:DZ16 > 0, ROUNDDOWN(im2colAll_exW7!C8:DZ16/2^5, 0), ROUNDUP(im2colAll_exW7!C8:DZ16/2^5, 0))","v":-15},{"$f":"IF(im2colAll_exW7!D8:EA16 > 0, ROUNDDOWN(im2colAll_exW7!D8:EA16/2^5, 0), ROUNDUP(im2colAll_exW7!D8:EA16/2^5, 0))","v":8},{"$f":"IF(im2colAll_exW7!E8:EB16 > 0, ROUNDDOWN(im2colAll_exW7!E8:EB16/2^5, 0), ROUNDUP(im2colAll_exW7!E8:EB16/2^5, 0))","v":43},{"$f":"IF(im2colAll_exW7!F8:EC16 > 0, ROUNDDOWN(im2colAll_exW7!F8:EC16/2^5, 0), ROUNDUP(im2colAll_exW7!F8:EC16/2^5, 0))","v":28},{"$f":"IF(im2colAll_exW7!G8:ED16 > 0, ROUNDDOWN(im2colAll_exW7!G8:ED16/2^5, 0), ROUNDUP(im2colAll_exW7!G8:ED16/2^5, 0))","v":58},{"$f":"IF(im2colAll_exW7!H8:EE16 > 0, ROUNDDOWN(im2colAll_exW7!H8:EE16/2^5, 0), ROUNDUP(im2colAll_exW7!H8:EE16/2^5, 0))","v":16},{"$f":"IF(im2colAll_exW7!I8:EF16 > 0, ROUNDDOWN(im2colAll_exW7!I8:EF16/2^5, 0), ROUNDUP(im2colAll_exW7!I8:EF16/2^5, 0))","v":-1},{"$f":"IF(im2colAll_exW7!J8:EG16 > 0, ROUNDDOWN(im2colAll_exW7!J8:EG16/2^5, 0), ROUNDUP(im2colAll_exW7!J8:EG16/2^5, 0))","v":-28},{"$f":"IF(im2colAll_exW7!K8:EH16 > 0, ROUNDDOWN(im2colAll_exW7!K8:EH16/2^5, 0), ROUNDUP(im2colAll_exW7!K8:EH16/2^5, 0))","v":24},{"$f":"IF(im2colAll_exW7!L8:EI16 > 0, ROUNDDOWN(im2colAll_exW7!L8:EI16/2^5, 0), ROUNDUP(im2colAll_exW7!L8:EI16/2^5, 0))","v":24},{"$f":"IF(im2colAll_exW7!M8:EJ16 > 0, ROUNDDOWN(im2colAll_exW7!M8:EJ16/2^5, 0), ROUNDUP(im2colAll_exW7!M8:EJ16/2^5, 0))","v":15},{"$f":"IF(im2colAll_exW7!N8:EK16 > 0, ROUNDDOWN(im2colAll_exW7!N8:EK16/2^5, 0), ROUNDUP(im2colAll_exW7!N8:EK16/2^5, 0))","v":34},{"$f":"IF(im2colAll_exW7!O8:EL16 > 0, ROUNDDOWN(im2colAll_exW7!O8:EL16/2^5, 0), ROUNDUP(im2colAll_exW7!O8:EL16/2^5, 0))","v":-1},{"$f":"IF(im2colAll_exW7!P8:EM16 > 0, ROUNDDOWN(im2colAll_exW7!P8:EM16/2^5, 0), ROUNDUP(im2colAll_exW7!P8:EM16/2^5, 0))","v":6},{"$f":"IF(im2colAll_exW7!Q8:EN16 > 0, ROUNDDOWN(im2colAll_exW7!Q8:EN16/2^5, 0), ROUNDUP(im2colAll_exW7!Q8:EN16/2^5, 0))","v":35},{"$f":"IF(im2colAll_exW7!R8:EO16 > 0, ROUNDDOWN(im2colAll_exW7!R8:EO16/2^5, 0), ROUNDUP(im2colAll_exW7!R8:EO16/2^5, 0))","v":17},{"$f":"IF(im2colAll_exW7!S8:EP16 > 0, ROUNDDOWN(im2colAll_exW7!S8:EP16/2^5, 0), ROUNDUP(im2colAll_exW7!S8:EP16/2^5, 0))","v":1},{"$f":"IF(im2colAll_exW7!T8:EQ16 > 0, ROUNDDOWN(im2colAll_exW7!T8:EQ16/2^5, 0), ROUNDUP(im2colAll_exW7!T8:EQ16/2^5, 0))","v":20},{"$f":"IF(im2colAll_exW7!U8:ER16 > 0, ROUNDDOWN(im2colAll_exW7!U8:ER16/2^5, 0), ROUNDUP(im2colAll_exW7!U8:ER16/2^5, 0))","v":39},{"$f":"IF(im2colAll_exW7!V8:ES16 > 0, ROUNDDOWN(im2colAll_exW7!V8:ES16/2^5, 0), ROUNDUP(im2colAll_exW7!V8:ES16/2^5, 0))","v":-18},{"$f":"IF(im2colAll_exW7!W8:ET16 > 0, ROUNDDOWN(im2colAll_exW7!W8:ET16/2^5, 0), ROUNDUP(im2colAll_exW7!W8:ET16/2^5, 0))","v":9},{"$f":"IF(im2colAll_exW7!X8:EU16 > 0, ROUNDDOWN(im2colAll_exW7!X8:EU16/2^5, 0), ROUNDUP(im2colAll_exW7!X8:EU16/2^5, 0))","v":-6},{"$f":"IF(im2colAll_exW7!Y8:EV16 > 0, ROUNDDOWN(im2colAll_exW7!Y8:EV16/2^5, 0), ROUNDUP(im2colAll_exW7!Y8:EV16/2^5, 0))","v":18},{"$f":"IF(im2colAll_exW7!Z8:EW16 > 0, ROUNDDOWN(im2colAll_exW7!Z8:EW16/2^5, 0), ROUNDUP(im2colAll_exW7!Z8:EW16/2^5, 0))","v":18},{"$f":"IF(im2colAll_exW7!AA8:EX16 > 0, ROUNDDOWN(im2colAll_exW7!AA8:EX16/2^5, 0), ROUNDUP(im2colAll_exW7!AA8:EX16/2^5, 0))","v":14},{"$f":"IF(im2colAll_exW7!AB8:EY16 > 0, ROUNDDOWN(im2colAll_exW7!AB8:EY16/2^5, 0), ROUNDUP(im2colAll_exW7!AB8:EY16/2^5, 0))","v":26},{"$f":"IF(im2colAll_exW7!AC8:EZ16 > 0, ROUNDDOWN(im2colAll_exW7!AC8:EZ16/2^5, 0), ROUNDUP(im2colAll_exW7!AC8:EZ16/2^5, 0))","v":2},{"$f":"IF(im2colAll_exW7!AD8:FA16 > 0, ROUNDDOWN(im2colAll_exW7!AD8:FA16/2^5, 0), ROUNDUP(im2colAll_exW7!AD8:FA16/2^5, 0))","v":-17},{"$f":"IF(im2colAll_exW7!AE8:FB16 > 0, ROUNDDOWN(im2colAll_exW7!AE8:FB16/2^5, 0), ROUNDUP(im2colAll_exW7!AE8:FB16/2^5, 0))","v":10},{"$f":"IF(im2colAll_exW7!AF8:FC16 > 0, ROUNDDOWN(im2colAll_exW7!AF8:FC16/2^5, 0), ROUNDUP(im2colAll_exW7!AF8:FC16/2^5, 0))","v":0},{"$f":"IF(im2colAll_exW7!AG8:FD16 > 0, ROUNDDOWN(im2colAll_exW7!AG8:FD16/2^5, 0), ROUNDUP(im2colAll_exW7!AG8:FD16/2^5, 0))","v":-10},{"$f":"IF(im2colAll_exW7!AH8:FE16 > 0, ROUNDDOWN(im2colAll_exW7!AH8:FE16/2^5, 0), ROUNDUP(im2colAll_exW7!AH8:FE16/2^5, 0))","v":15},{"$f":"IF(im2colAll_exW7!AI8:FF16 > 0, ROUNDDOWN(im2colAll_exW7!AI8:FF16/2^5, 0), ROUNDUP(im2colAll_exW7!AI8:FF16/2^5, 0))","v":4},{"$f":"IF(im2colAll_exW7!AJ8:FG16 > 0, ROUNDDOWN(im2colAll_exW7!AJ8:FG16/2^5, 0), ROUNDUP(im2colAll_exW7!AJ8:FG16/2^5, 0))","v":61},{"$f":"IF(im2colAll_exW7!AK8:FH16 > 0, ROUNDDOWN(im2colAll_exW7!AK8:FH16/2^5, 0), ROUNDUP(im2colAll_exW7!AK8:FH16/2^5, 0))","v":4},{"$f":"IF(im2colAll_exW7!AL8:FI16 > 0, ROUNDDOWN(im2colAll_exW7!AL8:FI16/2^5, 0), ROUNDUP(im2colAll_exW7!AL8:FI16/2^5, 0))","v":-2},{"$f":"IF(im2colAll_exW7!AM8:FJ16 > 0, ROUNDDOWN(im2colAll_exW7!AM8:FJ16/2^5, 0), ROUNDUP(im2colAll_exW7!AM8:FJ16/2^5, 0))","v":17},{"$f":"IF(im2colAll_exW7!AN8:FK16 > 0, ROUNDDOWN(im2colAll_exW7!AN8:FK16/2^5, 0), ROUNDUP(im2colAll_exW7!AN8:FK16/2^5, 0))","v":18},{"$f":"IF(im2colAll_exW7!AO8:FL16 > 0, ROUNDDOWN(im2colAll_exW7!AO8:FL16/2^5, 0), ROUNDUP(im2colAll_exW7!AO8:FL16/2^5, 0))","v":9},{"$f":"IF(im2colAll_exW7!AP8:FM16 > 0, ROUNDDOWN(im2colAll_exW7!AP8:FM16/2^5, 0), ROUNDUP(im2colAll_exW7!AP8:FM16/2^5, 0))","v":26},{"$f":"IF(im2colAll_exW7!AQ8:FN16 > 0, ROUNDDOWN(im2colAll_exW7!AQ8:FN16/2^5, 0), ROUNDUP(im2colAll_exW7!AQ8:FN16/2^5, 0))","v":10},{"$f":"IF(im2colAll_exW7!AR8:FO16 > 0, ROUNDDOWN(im2colAll_exW7!AR8:FO16/2^5, 0), ROUNDUP(im2colAll_exW7!AR8:FO16/2^5, 0))","v":-17},{"$f":"IF(im2colAll_exW7!AS8:FP16 > 0, ROUNDDOWN(im2colAll_exW7!AS8:FP16/2^5, 0), ROUNDUP(im2colAll_exW7!AS8:FP16/2^5, 0))","v":-25},{"$f":"IF(im2colAll_exW7!AT8:FQ16 > 0, ROUNDDOWN(im2colAll_exW7!AT8:FQ16/2^5, 0), ROUNDUP(im2colAll_exW7!AT8:FQ16/2^5, 0))","v":25},{"$f":"IF(im2colAll_exW7!AU8:FR16 > 0, ROUNDDOWN(im2colAll_exW7!AU8:FR16/2^5, 0), ROUNDUP(im2colAll_exW7!AU8:FR16/2^5, 0))","v":11},{"$f":"IF(im2colAll_exW7!AV8:FS16 > 0, ROUNDDOWN(im2colAll_exW7!AV8:FS16/2^5, 0), ROUNDUP(im2colAll_exW7!AV8:FS16/2^5, 0))","v":-1},{"$f":"IF(im2colAll_exW7!AW8:FT16 > 0, ROUNDDOWN(im2colAll_exW7!AW8:FT16/2^5, 0), ROUNDUP(im2colAll_exW7!AW8:FT16/2^5, 0))","v":-1},{"$f":"IF(im2colAll_exW7!AX8:FU16 > 0, ROUNDDOWN(im2colAll_exW7!AX8:FU16/2^5, 0), ROUNDUP(im2colAll_exW7!AX8:FU16/2^5, 0))","v":7},{"$f":"IF(im2colAll_exW7!AY8:FV16 > 0, ROUNDDOWN(im2colAll_exW7!AY8:FV16/2^5, 0), ROUNDUP(im2colAll_exW7!AY8:FV16/2^5, 0))","v":13},{"$f":"IF(im2colAll_exW7!AZ8:FW16 > 0, ROUNDDOWN(im2colAll_exW7!AZ8:FW16/2^5, 0), ROUNDUP(im2colAll_exW7!AZ8:FW16/2^5, 0))","v":34},{"$f":"IF(im2colAll_exW7!BA8:FX16 > 0, ROUNDDOWN(im2colAll_exW7!BA8:FX16/2^5, 0), ROUNDUP(im2colAll_exW7!BA8:FX16/2^5, 0))","v":36},{"$f":"IF(im2colAll_exW7!BB8:FY16 > 0, ROUNDDOWN(im2colAll_exW7!BB8:FY16/2^5, 0), ROUNDUP(im2colAll_exW7!BB8:FY16/2^5, 0))","v":12},{"$f":"IF(im2colAll_exW7!BC8:FZ16 > 0, ROUNDDOWN(im2colAll_exW7!BC8:FZ16/2^5, 0), ROUNDUP(im2colAll_exW7!BC8:FZ16/2^5, 0))","v":-11},{"$f":"IF(im2colAll_exW7!BD8:GA16 > 0, ROUNDDOWN(im2colAll_exW7!BD8:GA16/2^5, 0), ROUNDUP(im2colAll_exW7!BD8:GA16/2^5, 0))","v":-8},{"$f":"IF(im2colAll_exW7!BE8:GB16 > 0, ROUNDDOWN(im2colAll_exW7!BE8:GB16/2^5, 0), ROUNDUP(im2colAll_exW7!BE8:GB16/2^5, 0))","v":13},{"$f":"IF(im2colAll_exW7!BF8:GC16 > 0, ROUNDDOWN(im2colAll_exW7!BF8:GC16/2^5, 0), ROUNDUP(im2colAll_exW7!BF8:GC16/2^5, 0))","v":27},{"$f":"IF(im2colAll_exW7!BG8:GD16 > 0, ROUNDDOWN(im2colAll_exW7!BG8:GD16/2^5, 0), ROUNDUP(im2colAll_exW7!BG8:GD16/2^5, 0))","v":19},{"$f":"IF(im2colAll_exW7!BH8:GE16 > 0, ROUNDDOWN(im2colAll_exW7!BH8:GE16/2^5, 0), ROUNDUP(im2colAll_exW7!BH8:GE16/2^5, 0))","v":4},{"$f":"IF(im2colAll_exW7!BI8:GF16 > 0, ROUNDDOWN(im2colAll_exW7!BI8:GF16/2^5, 0), ROUNDUP(im2colAll_exW7!BI8:GF16/2^5, 0))","v":11},{"$f":"IF(im2colAll_exW7!BJ8:GG16 > 0, ROUNDDOWN(im2colAll_exW7!BJ8:GG16/2^5, 0), ROUNDUP(im2colAll_exW7!BJ8:GG16/2^5, 0))","v":4},{"$f":"IF(im2colAll_exW7!BK8:GH16 > 0, ROUNDDOWN(im2colAll_exW7!BK8:GH16/2^5, 0), ROUNDUP(im2colAll_exW7!BK8:GH16/2^5, 0))","v":14},{"$f":"IF(im2colAll_exW7!BL8:GI16 > 0, ROUNDDOWN(im2colAll_exW7!BL8:GI16/2^5, 0), ROUNDUP(im2colAll_exW7!BL8:GI16/2^5, 0))","v":-5},{"$f":"IF(im2colAll_exW7!BM8:GJ16 > 0, ROUNDDOWN(im2colAll_exW7!BM8:GJ16/2^5, 0), ROUNDUP(im2colAll_exW7!BM8:GJ16/2^5, 0))","v":4},{"$f":"IF(im2colAll_exW7!BN8:GK16 > 0, ROUNDDOWN(im2colAll_exW7!BN8:GK16/2^5, 0), ROUNDUP(im2colAll_exW7!BN8:GK16/2^5, 0))","v":21},{"$f":"IF(im2colAll_exW7!BO8:GL16 > 0, ROUNDDOWN(im2colAll_exW7!BO8:GL16/2^5, 0), ROUNDUP(im2colAll_exW7!BO8:GL16/2^5, 0))","v":-16},{"$f":"IF(im2colAll_exW7!BP8:GM16 > 0, ROUNDDOWN(im2colAll_exW7!BP8:GM16/2^5, 0), ROUNDUP(im2colAll_exW7!BP8:GM16/2^5, 0))","v":-12},{"$f":"IF(im2colAll_exW7!BQ8:GN16 > 0, ROUNDDOWN(im2colAll_exW7!BQ8:GN16/2^5, 0), ROUNDUP(im2colAll_exW7!BQ8:GN16/2^5, 0))","v":2},{"$f":"IF(im2colAll_exW7!BR8:GO16 > 0, ROUNDDOWN(im2colAll_exW7!BR8:GO16/2^5, 0), ROUNDUP(im2colAll_exW7!BR8:GO16/2^5, 0))","v":23},{"$f":"IF(im2colAll_exW7!BS8:GP16 > 0, ROUNDDOWN(im2colAll_exW7!BS8:GP16/2^5, 0), ROUNDUP(im2colAll_exW7!BS8:GP16/2^5, 0))","v":-5},{"$f":"IF(im2colAll_exW7!BT8:GQ16 > 0, ROUNDDOWN(im2colAll_exW7!BT8:GQ16/2^5, 0), ROUNDUP(im2colAll_exW7!BT8:GQ16/2^5, 0))","v":-6},{"$f":"IF(im2colAll_exW7!BU8:GR16 > 0, ROUNDDOWN(im2colAll_exW7!BU8:GR16/2^5, 0), ROUNDUP(im2colAll_exW7!BU8:GR16/2^5, 0))","v":2},{"$f":"IF(im2colAll_exW7!BV8:GS16 > 0, ROUNDDOWN(im2colAll_exW7!BV8:GS16/2^5, 0), ROUNDUP(im2colAll_exW7!BV8:GS16/2^5, 0))","v":12},{"$f":"IF(im2colAll_exW7!BW8:GT16 > 0, ROUNDDOWN(im2colAll_exW7!BW8:GT16/2^5, 0), ROUNDUP(im2colAll_exW7!BW8:GT16/2^5, 0))","v":28},{"$f":"IF(im2colAll_exW7!BX8:GU16 > 0, ROUNDDOWN(im2colAll_exW7!BX8:GU16/2^5, 0), ROUNDUP(im2colAll_exW7!BX8:GU16/2^5, 0))","v":15},{"$f":"IF(im2colAll_exW7!BY8:GV16 > 0, ROUNDDOWN(im2colAll_exW7!BY8:GV16/2^5, 0), ROUNDUP(im2colAll_exW7!BY8:GV16/2^5, 0))","v":12},{"$f":"IF(im2colAll_exW7!BZ8:GW16 > 0, ROUNDDOWN(im2colAll_exW7!BZ8:GW16/2^5, 0), ROUNDUP(im2colAll_exW7!BZ8:GW16/2^5, 0))","v":27},{"$f":"IF(im2colAll_exW7!CA8:GX16 > 0, ROUNDDOWN(im2colAll_exW7!CA8:GX16/2^5, 0), ROUNDUP(im2colAll_exW7!CA8:GX16/2^5, 0))","v":-5},{"$f":"IF(im2colAll_exW7!CB8:GY16 > 0, ROUNDDOWN(im2colAll_exW7!CB8:GY16/2^5, 0), ROUNDUP(im2colAll_exW7!CB8:GY16/2^5, 0))","v":-3},{"$f":"IF(im2colAll_exW7!CC8:GZ16 > 0, ROUNDDOWN(im2colAll_exW7!CC8:GZ16/2^5, 0), ROUNDUP(im2colAll_exW7!CC8:GZ16/2^5, 0))","v":26},{"$f":"IF(im2colAll_exW7!CD8:HA16 > 0, ROUNDDOWN(im2colAll_exW7!CD8:HA16/2^5, 0), ROUNDUP(im2colAll_exW7!CD8:HA16/2^5, 0))","v":4},{"$f":"IF(im2colAll_exW7!CE8:HB16 > 0, ROUNDDOWN(im2colAll_exW7!CE8:HB16/2^5, 0), ROUNDUP(im2colAll_exW7!CE8:HB16/2^5, 0))","v":21},{"$f":"IF(im2colAll_exW7!CF8:HC16 > 0, ROUNDDOWN(im2colAll_exW7!CF8:HC16/2^5, 0), ROUNDUP(im2colAll_exW7!CF8:HC16/2^5, 0))","v":20},{"$f":"IF(im2colAll_exW7!CG8:HD16 > 0, ROUNDDOWN(im2colAll_exW7!CG8:HD16/2^5, 0), ROUNDUP(im2colAll_exW7!CG8:HD16/2^5, 0))","v":18},{"$f":"IF(im2colAll_exW7!CH8:HE16 > 0, ROUNDDOWN(im2colAll_exW7!CH8:HE16/2^5, 0), ROUNDUP(im2colAll_exW7!CH8:HE16/2^5, 0))","v":-16},{"$f":"IF(im2colAll_exW7!CI8:HF16 > 0, ROUNDDOWN(im2colAll_exW7!CI8:HF16/2^5, 0), ROUNDUP(im2colAll_exW7!CI8:HF16/2^5, 0))","v":6},{"$f":"IF(im2colAll_exW7!CJ8:HG16 > 0, ROUNDDOWN(im2colAll_exW7!CJ8:HG16/2^5, 0), ROUNDUP(im2colAll_exW7!CJ8:HG16/2^5, 0))","v":2},{"$f":"IF(im2colAll_exW7!CK8:HH16 > 0, ROUNDDOWN(im2colAll_exW7!CK8:HH16/2^5, 0), ROUNDUP(im2colAll_exW7!CK8:HH16/2^5, 0))","v":10},{"$f":"IF(im2colAll_exW7!CL8:HI16 > 0, ROUNDDOWN(im2colAll_exW7!CL8:HI16/2^5, 0), ROUNDUP(im2colAll_exW7!CL8:HI16/2^5, 0))","v":22},{"$f":"IF(im2colAll_exW7!CM8:HJ16 > 0, ROUNDDOWN(im2colAll_exW7!CM8:HJ16/2^5, 0), ROUNDUP(im2colAll_exW7!CM8:HJ16/2^5, 0))","v":-15},{"$f":"IF(im2colAll_exW7!CN8:HK16 > 0, ROUNDDOWN(im2colAll_exW7!CN8:HK16/2^5, 0), ROUNDUP(im2colAll_exW7!CN8:HK16/2^5, 0))","v":5},{"$f":"IF(im2colAll_exW7!CO8:HL16 > 0, ROUNDDOWN(im2colAll_exW7!CO8:HL16/2^5, 0), ROUNDUP(im2colAll_exW7!CO8:HL16/2^5, 0))","v":-5},{"$f":"IF(im2colAll_exW7!CP8:HM16 > 0, ROUNDDOWN(im2colAll_exW7!CP8:HM16/2^5, 0), ROUNDUP(im2colAll_exW7!CP8:HM16/2^5, 0))","v":0},{"$f":"IF(im2colAll_exW7!CQ8:HN16 > 0, ROUNDDOWN(im2colAll_exW7!CQ8:HN16/2^5, 0), ROUNDUP(im2colAll_exW7!CQ8:HN16/2^5, 0))","v":-3},{"$f":"IF(im2colAll_exW7!CR8:HO16 > 0, ROUNDDOWN(im2colAll_exW7!CR8:HO16/2^5, 0), ROUNDUP(im2colAll_exW7!CR8:HO16/2^5, 0))","v":11},{"$f":"IF(im2colAll_exW7!CS8:HP16 > 0, ROUNDDOWN(im2colAll_exW7!CS8:HP16/2^5, 0), ROUNDUP(im2colAll_exW7!CS8:HP16/2^5, 0))","v":32},{"$f":"IF(im2colAll_exW7!CT8:HQ16 > 0, ROUNDDOWN(im2colAll_exW7!CT8:HQ16/2^5, 0), ROUNDUP(im2colAll_exW7!CT8:HQ16/2^5, 0))","v":42},{"$f":"IF(im2colAll_exW7!CU8:HR16 > 0, ROUNDDOWN(im2colAll_exW7!CU8:HR16/2^5, 0), ROUNDUP(im2colAll_exW7!CU8:HR16/2^5, 0))","v":-7},{"$f":"IF(im2colAll_exW7!CV8:HS16 > 0, ROUNDDOWN(im2colAll_exW7!CV8:HS16/2^5, 0), ROUNDUP(im2colAll_exW7!CV8:HS16/2^5, 0))","v":4},{"$f":"IF(im2colAll_exW7!CW8:HT16 > 0, ROUNDDOWN(im2colAll_exW7!CW8:HT16/2^5, 0), ROUNDUP(im2colAll_exW7!CW8:HT16/2^5, 0))","v":3},{"$f":"IF(im2colAll_exW7!CX8:HU16 > 0, ROUNDDOWN(im2colAll_exW7!CX8:HU16/2^5, 0), ROUNDUP(im2colAll_exW7!CX8:HU16/2^5, 0))","v":8},{"$f":"IF(im2colAll_exW7!CY8:HV16 > 0, ROUNDDOWN(im2colAll_exW7!CY8:HV16/2^5, 0), ROUNDUP(im2colAll_exW7!CY8:HV16/2^5, 0))","v":-3},{"$f":"IF(im2colAll_exW7!CZ8:HW16 > 0, ROUNDDOWN(im2colAll_exW7!CZ8:HW16/2^5, 0), ROUNDUP(im2colAll_exW7!CZ8:HW16/2^5, 0))","v":-10},{"$f":"IF(im2colAll_exW7!DA8:HX16 > 0, ROUNDDOWN(im2colAll_exW7!DA8:HX16/2^5, 0), ROUNDUP(im2colAll_exW7!DA8:HX16/2^5, 0))","v":7},{"$f":"IF(im2colAll_exW7!DB8:HY16 > 0, ROUNDDOWN(im2colAll_exW7!DB8:HY16/2^5, 0), ROUNDUP(im2colAll_exW7!DB8:HY16/2^5, 0))","v":27},{"$f":"IF(im2colAll_exW7!DC8:HZ16 > 0, ROUNDDOWN(im2colAll_exW7!DC8:HZ16/2^5, 0), ROUNDUP(im2colAll_exW7!DC8:HZ16/2^5, 0))","v":25},{"$f":"IF(im2colAll_exW7!DD8:IA16 > 0, ROUNDDOWN(im2colAll_exW7!DD8:IA16/2^5, 0), ROUNDUP(im2colAll_exW7!DD8:IA16/2^5, 0))","v":-13},{"$f":"IF(im2colAll_exW7!DE8:IB16 > 0, ROUNDDOWN(im2colAll_exW7!DE8:IB16/2^5, 0), ROUNDUP(im2colAll_exW7!DE8:IB16/2^5, 0))","v":23},{"$f":"IF(im2colAll_exW7!DF8:IC16 > 0, ROUNDDOWN(im2colAll_exW7!DF8:IC16/2^5, 0), ROUNDUP(im2colAll_exW7!DF8:IC16/2^5, 0))","v":-3},{"$f":"IF(im2colAll_exW7!DG8:ID16 > 0, ROUNDDOWN(im2colAll_exW7!DG8:ID16/2^5, 0), ROUNDUP(im2colAll_exW7!DG8:ID16/2^5, 0))","v":-6},{"$f":"IF(im2colAll_exW7!DH8:IE16 > 0, ROUNDDOWN(im2colAll_exW7!DH8:IE16/2^5, 0), ROUNDUP(im2colAll_exW7!DH8:IE16/2^5, 0))","v":1},{"$f":"IF(im2colAll_exW7!DI8:IF16 > 0, ROUNDDOWN(im2colAll_exW7!DI8:IF16/2^5, 0), ROUNDUP(im2colAll_exW7!DI8:IF16/2^5, 0))","v":23},{"$f":"IF(im2colAll_exW7!DJ8:IG16 > 0, ROUNDDOWN(im2colAll_exW7!DJ8:IG16/2^5, 0), ROUNDUP(im2colAll_exW7!DJ8:IG16/2^5, 0))","v":14},{"$f":"IF(im2colAll_exW7!DK8:IH16 > 0, ROUNDDOWN(im2colAll_exW7!DK8:IH16/2^5, 0), ROUNDUP(im2colAll_exW7!DK8:IH16/2^5, 0))","v":15},{"$f":"IF(im2colAll_exW7!DL8:II16 > 0, ROUNDDOWN(im2colAll_exW7!DL8:II16/2^5, 0), ROUNDUP(im2colAll_exW7!DL8:II16/2^5, 0))","v":-9},{"$f":"IF(im2colAll_exW7!DM8:IJ16 > 0, ROUNDDOWN(im2colAll_exW7!DM8:IJ16/2^5, 0), ROUNDUP(im2colAll_exW7!DM8:IJ16/2^5, 0))","v":-3},{"$f":"IF(im2colAll_exW7!DN8:IK16 > 0, ROUNDDOWN(im2colAll_exW7!DN8:IK16/2^5, 0), ROUNDUP(im2colAll_exW7!DN8:IK16/2^5, 0))","v":-2},{"$f":"IF(im2colAll_exW7!DO8:IL16 > 0, ROUNDDOWN(im2colAll_exW7!DO8:IL16/2^5, 0), ROUNDUP(im2colAll_exW7!DO8:IL16/2^5, 0))","v":-4},{"$f":"IF(im2colAll_exW7!DP8:IM16 > 0, ROUNDDOWN(im2colAll_exW7!DP8:IM16/2^5, 0), ROUNDUP(im2colAll_exW7!DP8:IM16/2^5, 0))","v":4},{"$f":"IF(im2colAll_exW7!DQ8:IN16 > 0, ROUNDDOWN(im2colAll_exW7!DQ8:IN16/2^5, 0), ROUNDUP(im2colAll_exW7!DQ8:IN16/2^5, 0))","v":0},{"$f":"IF(im2colAll_exW7!DR8:IO16 > 0, ROUNDDOWN(im2colAll_exW7!DR8:IO16/2^5, 0), ROUNDUP(im2colAll_exW7!DR8:IO16/2^5, 0))","v":-19},{"$f":"IF(im2colAll_exW7!DS8:IP16 > 0, ROUNDDOWN(im2colAll_exW7!DS8:IP16/2^5, 0), ROUNDUP(im2colAll_exW7!DS8:IP16/2^5, 0))","v":24},{"$f":"IF(im2colAll_exW7!DT8:IQ16 > 0, ROUNDDOWN(im2colAll_exW7!DT8:IQ16/2^5, 0), ROUNDUP(im2colAll_exW7!DT8:IQ16/2^5, 0))","v":17},{"$f":"IF(im2colAll_exW7!DU8:IR16 > 0, ROUNDDOWN(im2colAll_exW7!DU8:IR16/2^5, 0), ROUNDUP(im2colAll_exW7!DU8:IR16/2^5, 0))","v":1},{"$f":"IF(im2colAll_exW7!DV8:IS16 > 0, ROUNDDOWN(im2colAll_exW7!DV8:IS16/2^5, 0), ROUNDUP(im2colAll_exW7!DV8:IS16/2^5, 0))","v":33},{"$f":"IF(im2colAll_exW7!DW8:IT16 > 0, ROUNDDOWN(im2colAll_exW7!DW8:IT16/2^5, 0), ROUNDUP(im2colAll_exW7!DW8:IT16/2^5, 0))","v":-3},{"$f":"IF(im2colAll_exW7!DX8:IU16 > 0, ROUNDDOWN(im2colAll_exW7!DX8:IU16/2^5, 0), ROUNDUP(im2colAll_exW7!DX8:IU16/2^5, 0))","v":18}]
[{"$f":"IF(im2colAll_exW7!A9:DX17 > 0, ROUNDDOWN(im2colAll_exW7!A9:DX17/2^5, 0), ROUNDUP(im2colAll_exW7!A9:DX17/2^5, 0))","v":-9},{"$f":"IF(im2colAll_exW7!B9:DY17 > 0, ROUNDDOWN(im2colAll_exW7!B9:DY17/2^5, 0), ROUNDUP(im2colAll_exW7!B9:DY17/2^5, 0))","v":11},{"$f":"IF(im2colAll_exW7!C9:DZ17 > 0, ROUNDDOWN(im2colAll_exW7!C9:DZ17/2^5, 0), ROUNDUP(im2colAll_exW7!C9:DZ17/2^5, 0))","v":-12},{"$f":"IF(im2colAll_exW7!D9:EA17 > 0, ROUNDDOWN(im2colAll_exW7!D9:EA17/2^5, 0), ROUNDUP(im2colAll_exW7!D9:EA17/2^5, 0))","v":9},{"$f":"IF(im2colAll_exW7!E9:EB17 > 0, ROUNDDOWN(im2colAll_exW7!E9:EB17/2^5, 0), ROUNDUP(im2colAll_exW7!E9:EB17/2^5, 0))","v":37},{"$f":"IF(im2colAll_exW7!F9:EC17 > 0, ROUNDDOWN(im2colAll_exW7!F9:EC17/2^5, 0), ROUNDUP(im2colAll_exW7!F9:EC17/2^5, 0))","v":35},{"$f":"IF(im2colAll_exW7!G9:ED17 > 0, ROUNDDOWN(im2colAll_exW7!G9:ED17/2^5, 0), ROUNDUP(im2colAll_exW7!G9:ED17/2^5, 0))","v":70},{"$f":"IF(im2colAll_exW7!H9:EE17 > 0, ROUNDDOWN(im2colAll_exW7!H9:EE17/2^5, 0), ROUNDUP(im2colAll_exW7!H9:EE17/2^5, 0))","v":25},{"$f":"IF(im2colAll_exW7!I9:EF17 > 0, ROUNDDOWN(im2colAll_exW7!I9:EF17/2^5, 0), ROUNDUP(im2colAll_exW7!I9:EF17/2^5, 0))","v":-5},{"$f":"IF(im2colAll_exW7!J9:EG17 > 0, ROUNDDOWN(im2colAll_exW7!J9:EG17/2^5, 0), ROUNDUP(im2colAll_exW7!J9:EG17/2^5, 0))","v":-16},{"$f":"IF(im2colAll_exW7!K9:EH17 > 0, ROUNDDOWN(im2colAll_exW7!K9:EH17/2^5, 0), ROUNDUP(im2colAll_exW7!K9:EH17/2^5, 0))","v":28},{"$f":"IF(im2colAll_exW7!L9:EI17 > 0, ROUNDDOWN(im2colAll_exW7!L9:EI17/2^5, 0), ROUNDUP(im2colAll_exW7!L9:EI17/2^5, 0))","v":10},{"$f":"IF(im2colAll_exW7!M9:EJ17 > 0, ROUNDDOWN(im2colAll_exW7!M9:EJ17/2^5, 0), ROUNDUP(im2colAll_exW7!M9:EJ17/2^5, 0))","v":12},{"$f":"IF(im2colAll_exW7!N9:EK17 > 0, ROUNDDOWN(im2colAll_exW7!N9:EK17/2^5, 0), ROUNDUP(im2colAll_exW7!N9:EK17/2^5, 0))","v":36},{"$f":"IF(im2colAll_exW7!O9:EL17 > 0, ROUNDDOWN(im2colAll_exW7!O9:EL17/2^5, 0), ROUNDUP(im2colAll_exW7!O9:EL17/2^5, 0))","v":-5},{"$f":"IF(im2colAll_exW7!P9:EM17 > 0, ROUNDDOWN(im2colAll_exW7!P9:EM17/2^5, 0), ROUNDUP(im2colAll_exW7!P9:EM17/2^5, 0))","v":6},{"$f":"IF(im2colAll_exW7!Q9:EN17 > 0, ROUNDDOWN(im2colAll_exW7!Q9:EN17/2^5, 0), ROUNDUP(im2colAll_exW7!Q9:EN17/2^5, 0))","v":34},{"$f":"IF(im2colAll_exW7!R9:EO17 > 0, ROUNDDOWN(im2colAll_exW7!R9:EO17/2^5, 0), ROUNDUP(im2colAll_exW7!R9:EO17/2^5, 0))","v":9},{"$f":"IF(im2colAll_exW7!S9:EP17 > 0, ROUNDDOWN(im2colAll_exW7!S9:EP17/2^5, 0), ROUNDUP(im2colAll_exW7!S9:EP17/2^5, 0))","v":-4},{"$f":"IF(im2colAll_exW7!T9:EQ17 > 0, ROUNDDOWN(im2colAll_exW7!T9:EQ17/2^5, 0), ROUNDUP(im2colAll_exW7!T9:EQ17/2^5, 0))","v":38},{"$f":"IF(im2colAll_exW7!U9:ER17 > 0, ROUNDDOWN(im2colAll_exW7!U9:ER17/2^5, 0), ROUNDUP(im2colAll_exW7!U9:ER17/2^5, 0))","v":39},{"$f":"IF(im2colAll_exW7!V9:ES17 > 0, ROUNDDOWN(im2colAll_exW7!V9:ES17/2^5, 0), ROUNDUP(im2colAll_exW7!V9:ES17/2^5, 0))","v":-14},{"$f":"IF(im2colAll_exW7!W9:ET17 > 0, ROUNDDOWN(im2colAll_exW7!W9:ET17/2^5, 0), ROUNDUP(im2colAll_exW7!W9:ET17/2^5, 0))","v":6},{"$f":"IF(im2colAll_exW7!X9:EU17 > 0, ROUNDDOWN(im2colAll_exW7!X9:EU17/2^5, 0), ROUNDUP(im2colAll_exW7!X9:EU17/2^5, 0))","v":-2},{"$f":"IF(im2colAll_exW7!Y9:EV17 > 0, ROUNDDOWN(im2colAll_exW7!Y9:EV17/2^5, 0), ROUNDUP(im2colAll_exW7!Y9:EV17/2^5, 0))","v":18},{"$f":"IF(im2colAll_exW7!Z9:EW17 > 0, ROUNDDOWN(im2colAll_exW7!Z9:EW17/2^5, 0), ROUNDUP(im2colAll_exW7!Z9:EW17/2^5, 0))","v":16},{"$f":"IF(im2colAll_exW7!AA9:EX17 > 0, ROUNDDOWN(im2colAll_exW7!AA9:EX17/2^5, 0), ROUNDUP(im2colAll_exW7!AA9:EX17/2^5, 0))","v":16},{"$f":"IF(im2colAll_exW7!AB9:EY17 > 0, ROUNDDOWN(im2colAll_exW7!AB9:EY17/2^5, 0), ROUNDUP(im2colAll_exW7!AB9:EY17/2^5, 0))","v":25},{"$f":"IF(im2colAll_exW7!AC9:EZ17 > 0, ROUNDDOWN(im2colAll_exW7!AC9:EZ17/2^5, 0), ROUNDUP(im2colAll_exW7!AC9:EZ17/2^5, 0))","v":13},{"$f":"IF(im2colAll_exW7!AD9:FA17 > 0, ROUNDDOWN(im2colAll_exW7!AD9:FA17/2^5, 0), ROUNDUP(im2colAll_exW7!AD9:FA17/2^5, 0))","v":-11},{"$f":"IF(im2colAll_exW7!AE9:FB17 > 0, ROUNDDOWN(im2colAll_exW7!AE9:FB17/2^5, 0), ROUNDUP(im2colAll_exW7!AE9:FB17/2^5, 0))","v":5},{"$f":"IF(im2colAll_exW7!AF9:FC17 > 0, ROUNDDOWN(im2colAll_exW7!AF9:FC17/2^5, 0), ROUNDUP(im2colAll_exW7!AF9:FC17/2^5, 0))","v":1},{"$f":"IF(im2colAll_exW7!AG9:FD17 > 0, ROUNDDOWN(im2colAll_exW7!AG9:FD17/2^5, 0), ROUNDUP(im2colAll_exW7!AG9:FD17/2^5, 0))","v":-7},{"$f":"IF(im2colAll_exW7!AH9:FE17 > 0, ROUNDDOWN(im2colAll_exW7!AH9:FE17/2^5, 0), ROUNDUP(im2colAll_exW7!AH9:FE17/2^5, 0))","v":23},{"$f":"IF(im2colAll_exW7!AI9:FF17 > 0, ROUNDDOWN(im2colAll_exW7!AI9:FF17/2^5, 0), ROUNDUP(im2colAll_exW7!AI9:FF17/2^5, 0))","v":11},{"$f":"IF(im2colAll_exW7!AJ9:FG17 > 0, ROUNDDOWN(im2colAll_exW7!AJ9:FG17/2^5, 0), ROUNDUP(im2colAll_exW7!AJ9:FG17/2^5, 0))","v":52},{"$f":"IF(im2colAll_exW7!AK9:FH17 > 0, ROUNDDOWN(im2colAll_exW7!AK9:FH17/2^5, 0), ROUNDUP(im2colAll_exW7!AK9:FH17/2^5, 0))","v":5},{"$f":"IF(im2colAll_exW7!AL9:FI17 > 0, ROUNDDOWN(im2colAll_exW7!AL9:FI17/2^5, 0), ROUNDUP(im2colAll_exW7!AL9:FI17/2^5, 0))","v":6},{"$f":"IF(im2colAll_exW7!AM9:FJ17 > 0, ROUNDDOWN(im2colAll_exW7!AM9:FJ17/2^5, 0), ROUNDUP(im2colAll_exW7!AM9:FJ17/2^5, 0))","v":20},{"$f":"IF(im2colAll_exW7!AN9:FK17 > 0, ROUNDDOWN(im2colAll_exW7!AN9:FK17/2^5, 0), ROUNDUP(im2colAll_exW7!AN9:FK17/2^5, 0))","v":15},{"$f":"IF(im2colAll_exW7!AO9:FL17 > 0, ROUNDDOWN(im2colAll_exW7!AO9:FL17/2^5, 0), ROUNDUP(im2colAll_exW7!AO9:FL17/2^5, 0))","v":19},{"$f":"IF(im2colAll_exW7!AP9:FM17 > 0, ROUNDDOWN(im2colAll_exW7!AP9:FM17/2^5, 0), ROUNDUP(im2colAll_exW7!AP9:FM17/2^5, 0))","v":23},{"$f":"IF(im2colAll_exW7!AQ9:FN17 > 0, ROUNDDOWN(im2colAll_exW7!AQ9:FN17/2^5, 0), ROUNDUP(im2colAll_exW7!AQ9:FN17/2^5, 0))","v":3},{"$f":"IF(im2colAll_exW7!AR9:FO17 > 0, ROUNDDOWN(im2colAll_exW7!AR9:FO17/2^5, 0), ROUNDUP(im2colAll_exW7!AR9:FO17/2^5, 0))","v":-12},{"$f":"IF(im2colAll_exW7!AS9:FP17 > 0, ROUNDDOWN(im2colAll_exW7!AS9:FP17/2^5, 0), ROUNDUP(im2colAll_exW7!AS9:FP17/2^5, 0))","v":-21},{"$f":"IF(im2colAll_exW7!AT9:FQ17 > 0, ROUNDDOWN(im2colAll_exW7!AT9:FQ17/2^5, 0), ROUNDUP(im2colAll_exW7!AT9:FQ17/2^5, 0))","v":33},{"$f":"IF(im2colAll_exW7!AU9:FR17 > 0, ROUNDDOWN(im2colAll_exW7!AU9:FR17/2^5, 0), ROUNDUP(im2colAll_exW7!AU9:FR17/2^5, 0))","v":4},{"$f":"IF(im2colAll_exW7!AV9:FS17 > 0, ROUNDDOWN(im2colAll_exW7!AV9:FS17/2^5, 0), ROUNDUP(im2colAll_exW7!AV9:FS17/2^5, 0))","v":-7},{"$f":"IF(im2colAll_exW7!AW9:FT17 > 0, ROUNDDOWN(im2colAll_exW7!AW9:FT17/2^5, 0), ROUNDUP(im2colAll_exW7!AW9:FT17/2^5, 0))","v":-1},{"$f":"IF(im2colAll_exW7!AX9:FU17 > 0, ROUNDDOWN(im2colAll_exW7!AX9:FU17/2^5, 0), ROUNDUP(im2colAll_exW7!AX9:FU17/2^5, 0))","v":6},{"$f":"IF(im2colAll_exW7!AY9:FV17 > 0, ROUNDDOWN(im2colAll_exW7!AY9:FV17/2^5, 0), ROUNDUP(im2colAll_exW7!AY9:FV17/2^5, 0))","v":40},{"$f":"IF(im2colAll_exW7!AZ9:FW17 > 0, ROUNDDOWN(im2colAll_exW7!AZ9:FW17/2^5, 0), ROUNDUP(im2colAll_exW7!AZ9:FW17/2^5, 0))","v":13},{"$f":"IF(im2colAll_exW7!BA9:FX17 > 0, ROUNDDOWN(im2colAll_exW7!BA9:FX17/2^5, 0), ROUNDUP(im2colAll_exW7!BA9:FX17/2^5, 0))","v":38},{"$f":"IF(im2colAll_exW7!BB9:FY17 > 0, ROUNDDOWN(im2colAll_exW7!BB9:FY17/2^5, 0), ROUNDUP(im2colAll_exW7!BB9:FY17/2^5, 0))","v":33},{"$f":"IF(im2colAll_exW7!BC9:FZ17 > 0, ROUNDDOWN(im2colAll_exW7!BC9:FZ17/2^5, 0), ROUNDUP(im2colAll_exW7!BC9:FZ17/2^5, 0))","v":-14},{"$f":"IF(im2colAll_exW7!BD9:GA17 > 0, ROUNDDOWN(im2colAll_exW7!BD9:GA17/2^5, 0), ROUNDUP(im2colAll_exW7!BD9:GA17/2^5, 0))","v":5},{"$f":"IF(im2colAll_exW7!BE9:GB17 > 0, ROUNDDOWN(im2colAll_exW7!BE9:GB17/2^5, 0), ROUNDUP(im2colAll_exW7!BE9:GB17/2^5, 0))","v":18},{"$f":"IF(im2colAll_exW7!BF9:GC17 > 0, ROUNDDOWN(im2colAll_exW7!BF9:GC17/2^5, 0), ROUNDUP(im2colAll_exW7!BF9:GC17/2^5, 0))","v":12},{"$f":"IF(im2colAll_exW7!BG9:GD17 > 0, ROUNDDOWN(im2colAll_exW7!BG9:GD17/2^5, 0), ROUNDUP(im2colAll_exW7!BG9:GD17/2^5, 0))","v":12},{"$f":"IF(im2colAll_exW7!BH9:GE17 > 0, ROUNDDOWN(im2colAll_exW7!BH9:GE17/2^5, 0), ROUNDUP(im2colAll_exW7!BH9:GE17/2^5, 0))","v":8},{"$f":"IF(im2colAll_exW7!BI9:GF17 > 0, ROUNDDOWN(im2colAll_exW7!BI9:GF17/2^5, 0), ROUNDUP(im2colAll_exW7!BI9:GF17/2^5, 0))","v":33},{"$f":"IF(im2colAll_exW7!BJ9:GG17 > 0, ROUNDDOWN(im2colAll_exW7!BJ9:GG17/2^5, 0), ROUNDUP(im2colAll_exW7!BJ9:GG17/2^5, 0))","v":20},{"$f":"IF(im2colAll_exW7!BK9:GH17 > 0, ROUNDDOWN(im2colAll_exW7!BK9:GH17/2^5, 0), ROUNDUP(im2colAll_exW7!BK9:GH17/2^5, 0))","v":7},{"$f":"IF(im2colAll_exW7!BL9:GI17 > 0, ROUNDDOWN(im2colAll_exW7!BL9:GI17/2^5, 0), ROUNDUP(im2colAll_exW7!BL9:GI17/2^5, 0))","v":-11},{"$f":"IF(im2colAll_exW7!BM9:GJ17 > 0, ROUNDDOWN(im2colAll_exW7!BM9:GJ17/2^5, 0), ROUNDUP(im2colAll_exW7!BM9:GJ17/2^5, 0))","v":1},{"$f":"IF(im2colAll_exW7!BN9:GK17 > 0, ROUNDDOWN(im2colAll_exW7!BN9:GK17/2^5, 0), ROUNDUP(im2colAll_exW7!BN9:GK17/2^5, 0))","v":28},{"$f":"IF(im2colAll_exW7!BO9:GL17 > 0, ROUNDDOWN(im2colAll_exW7!BO9:GL17/2^5, 0), ROUNDUP(im2colAll_exW7!BO9:GL17/2^5, 0))","v":-19},{"$f":"IF(im2colAll_exW7!BP9:GM17 > 0, ROUNDDOWN(im2colAll_exW7!BP9:GM17/2^5, 0), ROUNDUP(im2colAll_exW7!BP9:GM17/2^5, 0))","v":-11},{"$f":"IF(im2colAll_exW7!BQ9:GN17 > 0, ROUNDDOWN(im2colAll_exW7!BQ9:GN17/2^5, 0), ROUNDUP(im2colAll_exW7!BQ9:GN17/2^5, 0))","v":10},{"$f":"IF(im2colAll_exW7!BR9:GO17 > 0, ROUNDDOWN(im2colAll_exW7!BR9:GO17/2^5, 0), ROUNDUP(im2colAll_exW7!BR9:GO17/2^5, 0))","v":11},{"$f":"IF(im2colAll_exW7!BS9:GP17 > 0, ROUNDDOWN(im2colAll_exW7!BS9:GP17/2^5, 0), ROUNDUP(im2colAll_exW7!BS9:GP17/2^5, 0))","v":-7},{"$f":"IF(im2colAll_exW7!BT9:GQ17 > 0, ROUNDDOWN(im2colAll_exW7!BT9:GQ17/2^5, 0), ROUNDUP(im2colAll_exW7!BT9:GQ17/2^5, 0))","v":-11},{"$f":"IF(im2colAll_exW7!BU9:GR17 > 0, ROUNDDOWN(im2colAll_exW7!BU9:GR17/2^5, 0), ROUNDUP(im2colAll_exW7!BU9:GR17/2^5, 0))","v":-5},{"$f":"IF(im2colAll_exW7!BV9:GS17 > 0, ROUNDDOWN(im2colAll_exW7!BV9:GS17/2^5, 0), ROUNDUP(im2colAll_exW7!BV9:GS17/2^5, 0))","v":16},{"$f":"IF(im2colAll_exW7!BW9:GT17 > 0, ROUNDDOWN(im2colAll_exW7!BW9:GT17/2^5, 0), ROUNDUP(im2colAll_exW7!BW9:GT17/2^5, 0))","v":25},{"$f":"IF(im2colAll_exW7!BX9:GU17 > 0, ROUNDDOWN(im2colAll_exW7!BX9:GU17/2^5, 0), ROUNDUP(im2colAll_exW7!BX9:GU17/2^5, 0))","v":16},{"$f":"IF(im2colAll_exW7!BY9:GV17 > 0, ROUNDDOWN(im2colAll_exW7!BY9:GV17/2^5, 0), ROUNDUP(im2colAll_exW7!BY9:GV17/2^5, 0))","v":0},{"$f":"IF(im2colAll_exW7!BZ9:GW17 > 0, ROUNDDOWN(im2colAll_exW7!BZ9:GW17/2^5, 0), ROUNDUP(im2colAll_exW7!BZ9:GW17/2^5, 0))","v":21},{"$f":"IF(im2colAll_exW7!CA9:GX17 > 0, ROUNDDOWN(im2colAll_exW7!CA9:GX17/2^5, 0), ROUNDUP(im2colAll_exW7!CA9:GX17/2^5, 0))","v":-2},{"$f":"IF(im2colAll_exW7!CB9:GY17 > 0, ROUNDDOWN(im2colAll_exW7!CB9:GY17/2^5, 0), ROUNDUP(im2colAll_exW7!CB9:GY17/2^5, 0))","v":1},{"$f":"IF(im2colAll_exW7!CC9:GZ17 > 0, ROUNDDOWN(im2colAll_exW7!CC9:GZ17/2^5, 0), ROUNDUP(im2colAll_exW7!CC9:GZ17/2^5, 0))","v":32},{"$f":"IF(im2colAll_exW7!CD9:HA17 > 0, ROUNDDOWN(im2colAll_exW7!CD9:HA17/2^5, 0), ROUNDUP(im2colAll_exW7!CD9:HA17/2^5, 0))","v":10},{"$f":"IF(im2colAll_exW7!CE9:HB17 > 0, ROUNDDOWN(im2colAll_exW7!CE9:HB17/2^5, 0), ROUNDUP(im2colAll_exW7!CE9:HB17/2^5, 0))","v":12},{"$f":"IF(im2colAll_exW7!CF9:HC17 > 0, ROUNDDOWN(im2colAll_exW7!CF9:HC17/2^5, 0), ROUNDUP(im2colAll_exW7!CF9:HC17/2^5, 0))","v":20},{"$f":"IF(im2colAll_exW7!CG9:HD17 > 0, ROUNDDOWN(im2colAll_exW7!CG9:HD17/2^5, 0), ROUNDUP(im2colAll_exW7!CG9:HD17/2^5, 0))","v":14},{"$f":"IF(im2colAll_exW7!CH9:HE17 > 0, ROUNDDOWN(im2colAll_exW7!CH9:HE17/2^5, 0), ROUNDUP(im2colAll_exW7!CH9:HE17/2^5, 0))","v":-13},{"$f":"IF(im2colAll_exW7!CI9:HF17 > 0, ROUNDDOWN(im2colAll_exW7!CI9:HF17/2^5, 0), ROUNDUP(im2colAll_exW7!CI9:HF17/2^5, 0))","v":27},{"$f":"IF(im2colAll_exW7!CJ9:HG17 > 0, ROUNDDOWN(im2colAll_exW7!CJ9:HG17/2^5, 0), ROUNDUP(im2colAll_exW7!CJ9:HG17/2^5, 0))","v":7},{"$f":"IF(im2colAll_exW7!CK9:HH17 > 0, ROUNDDOWN(im2colAll_exW7!CK9:HH17/2^5, 0), ROUNDUP(im2colAll_exW7!CK9:HH17/2^5, 0))","v":14},{"$f":"IF(im2colAll_exW7!CL9:HI17 > 0, ROUNDDOWN(im2colAll_exW7!CL9:HI17/2^5, 0), ROUNDUP(im2colAll_exW7!CL9:HI17/2^5, 0))","v":18},{"$f":"IF(im2colAll_exW7!CM9:HJ17 > 0, ROUNDDOWN(im2colAll_exW7!CM9:HJ17/2^5, 0), ROUNDUP(im2colAll_exW7!CM9:HJ17/2^5, 0))","v":-11},{"$f":"IF(im2colAll_exW7!CN9:HK17 > 0, ROUNDDOWN(im2colAll_exW7!CN9:HK17/2^5, 0), ROUNDUP(im2colAll_exW7!CN9:HK17/2^5, 0))","v":2},{"$f":"IF(im2colAll_exW7!CO9:HL17 > 0, ROUNDDOWN(im2colAll_exW7!CO9:HL17/2^5, 0), ROUNDUP(im2colAll_exW7!CO9:HL17/2^5, 0))","v":-8},{"$f":"IF(im2colAll_exW7!CP9:HM17 > 0, ROUNDDOWN(im2colAll_exW7!CP9:HM17/2^5, 0), ROUNDUP(im2colAll_exW7!CP9:HM17/2^5, 0))","v":5},{"$f":"IF(im2colAll_exW7!CQ9:HN17 > 0, ROUNDDOWN(im2colAll_exW7!CQ9:HN17/2^5, 0), ROUNDUP(im2colAll_exW7!CQ9:HN17/2^5, 0))","v":-6},{"$f":"IF(im2colAll_exW7!CR9:HO17 > 0, ROUNDDOWN(im2colAll_exW7!CR9:HO17/2^5, 0), ROUNDUP(im2colAll_exW7!CR9:HO17/2^5, 0))","v":12},{"$f":"IF(im2colAll_exW7!CS9:HP17 > 0, ROUNDDOWN(im2colAll_exW7!CS9:HP17/2^5, 0), ROUNDUP(im2colAll_exW7!CS9:HP17/2^5, 0))","v":33},{"$f":"IF(im2colAll_exW7!CT9:HQ17 > 0, ROUNDDOWN(im2colAll_exW7!CT9:HQ17/2^5, 0), ROUNDUP(im2colAll_exW7!CT9:HQ17/2^5, 0))","v":51},{"$f":"IF(im2colAll_exW7!CU9:HR17 > 0, ROUNDDOWN(im2colAll_exW7!CU9:HR17/2^5, 0), ROUNDUP(im2colAll_exW7!CU9:HR17/2^5, 0))","v":-13},{"$f":"IF(im2colAll_exW7!CV9:HS17 > 0, ROUNDDOWN(im2colAll_exW7!CV9:HS17/2^5, 0), ROUNDUP(im2colAll_exW7!CV9:HS17/2^5, 0))","v":1},{"$f":"IF(im2colAll_exW7!CW9:HT17 > 0, ROUNDDOWN(im2colAll_exW7!CW9:HT17/2^5, 0), ROUNDUP(im2colAll_exW7!CW9:HT17/2^5, 0))","v":1},{"$f":"IF(im2colAll_exW7!CX9:HU17 > 0, ROUNDDOWN(im2colAll_exW7!CX9:HU17/2^5, 0), ROUNDUP(im2colAll_exW7!CX9:HU17/2^5, 0))","v":16},{"$f":"IF(im2colAll_exW7!CY9:HV17 > 0, ROUNDDOWN(im2colAll_exW7!CY9:HV17/2^5, 0), ROUNDUP(im2colAll_exW7!CY9:HV17/2^5, 0))","v":-3},{"$f":"IF(im2colAll_exW7!CZ9:HW17 > 0, ROUNDDOWN(im2colAll_exW7!CZ9:HW17/2^5, 0), ROUNDUP(im2colAll_exW7!CZ9:HW17/2^5, 0))","v":-15},{"$f":"IF(im2colAll_exW7!DA9:HX17 > 0, ROUNDDOWN(im2colAll_exW7!DA9:HX17/2^5, 0), ROUNDUP(im2colAll_exW7!DA9:HX17/2^5, 0))","v":13},{"$f":"IF(im2colAll_exW7!DB9:HY17 > 0, ROUNDDOWN(im2colAll_exW7!DB9:HY17/2^5, 0), ROUNDUP(im2colAll_exW7!DB9:HY17/2^5, 0))","v":40},{"$f":"IF(im2colAll_exW7!DC9:HZ17 > 0, ROUNDDOWN(im2colAll_exW7!DC9:HZ17/2^5, 0), ROUNDUP(im2colAll_exW7!DC9:HZ17/2^5, 0))","v":25},{"$f":"IF(im2colAll_exW7!DD9:IA17 > 0, ROUNDDOWN(im2colAll_exW7!DD9:IA17/2^5, 0), ROUNDUP(im2colAll_exW7!DD9:IA17/2^5, 0))","v":-6},{"$f":"IF(im2colAll_exW7!DE9:IB17 > 0, ROUNDDOWN(im2colAll_exW7!DE9:IB17/2^5, 0), ROUNDUP(im2colAll_exW7!DE9:IB17/2^5, 0))","v":39},{"$f":"IF(im2colAll_exW7!DF9:IC17 > 0, ROUNDDOWN(im2colAll_exW7!DF9:IC17/2^5, 0), ROUNDUP(im2colAll_exW7!DF9:IC17/2^5, 0))","v":-1},{"$f":"IF(im2colAll_exW7!DG9:ID17 > 0, ROUNDDOWN(im2colAll_exW7!DG9:ID17/2^5, 0), ROUNDUP(im2colAll_exW7!DG9:ID17/2^5, 0))","v":5},{"$f":"IF(im2colAll_exW7!DH9:IE17 > 0, ROUNDDOWN(im2colAll_exW7!DH9:IE17/2^5, 0), ROUNDUP(im2colAll_exW7!DH9:IE17/2^5, 0))","v":6},{"$f":"IF(im2colAll_exW7!DI9:IF17 > 0, ROUNDDOWN(im2colAll_exW7!DI9:IF17/2^5, 0), ROUNDUP(im2colAll_exW7!DI9:IF17/2^5, 0))","v":8},{"$f":"IF(im2colAll_exW7!DJ9:IG17 > 0, ROUNDDOWN(im2colAll_exW7!DJ9:IG17/2^5, 0), ROUNDUP(im2colAll_exW7!DJ9:IG17/2^5, 0))","v":15},{"$f":"IF(im2colAll_exW7!DK9:IH17 > 0, ROUNDDOWN(im2colAll_exW7!DK9:IH17/2^5, 0), ROUNDUP(im2colAll_exW7!DK9:IH17/2^5, 0))","v":6},{"$f":"IF(im2colAll_exW7!DL9:II17 > 0, ROUNDDOWN(im2colAll_exW7!DL9:II17/2^5, 0), ROUNDUP(im2colAll_exW7!DL9:II17/2^5, 0))","v":0},{"$f":"IF(im2colAll_exW7!DM9:IJ17 > 0, ROUNDDOWN(im2colAll_exW7!DM9:IJ17/2^5, 0), ROUNDUP(im2colAll_exW7!DM9:IJ17/2^5, 0))","v":2},{"$f":"IF(im2colAll_exW7!DN9:IK17 > 0, ROUNDDOWN(im2colAll_exW7!DN9:IK17/2^5, 0), ROUNDUP(im2colAll_exW7!DN9:IK17/2^5, 0))","v":5},{"$f":"IF(im2colAll_exW7!DO9:IL17 > 0, ROUNDDOWN(im2colAll_exW7!DO9:IL17/2^5, 0), ROUNDUP(im2colAll_exW7!DO9:IL17/2^5, 0))","v":-2},{"$f":"IF(im2colAll_exW7!DP9:IM17 > 0, ROUNDDOWN(im2colAll_exW7!DP9:IM17/2^5, 0), ROUNDUP(im2colAll_exW7!DP9:IM17/2^5, 0))","v":8},{"$f":"IF(im2colAll_exW7!DQ9:IN17 > 0, ROUNDDOWN(im2colAll_exW7!DQ9:IN17/2^5, 0), ROUNDUP(im2colAll_exW7!DQ9:IN17/2^5, 0))","v":-1},{"$f":"IF(im2colAll_exW7!DR9:IO17 > 0, ROUNDDOWN(im2colAll_exW7!DR9:IO17/2^5, 0), ROUNDUP(im2colAll_exW7!DR9:IO17/2^5, 0))","v":-14},{"$f":"IF(im2colAll_exW7!DS9:IP17 > 0, ROUNDDOWN(im2colAll_exW7!DS9:IP17/2^5, 0), ROUNDUP(im2colAll_exW7!DS9:IP17/2^5, 0))","v":35},{"$f":"IF(im2colAll_exW7!DT9:IQ17 > 0, ROUNDDOWN(im2colAll_exW7!DT9:IQ17/2^5, 0), ROUNDUP(im2colAll_exW7!DT9:IQ17/2^5, 0))","v":12},{"$f":"IF(im2colAll_exW7!DU9:IR17 > 0, ROUNDDOWN(im2colAll_exW7!DU9:IR17/2^5, 0), ROUNDUP(im2colAll_exW7!DU9:IR17/2^5, 0))","v":7},{"$f":"IF(im2colAll_exW7!DV9:IS17 > 0, ROUNDDOWN(im2colAll_exW7!DV9:IS17/2^5, 0), ROUNDUP(im2colAll_exW7!DV9:IS17/2^5, 0))","v":31},{"$f":"IF(im2colAll_exW7!DW9:IT17 > 0, ROUNDDOWN(im2colAll_exW7!DW9:IT17/2^5, 0), ROUNDUP(im2colAll_exW7!DW9:IT17/2^5, 0))","v":-6},{"$f":"IF(im2colAll_exW7!DX9:IU17 > 0, ROUNDDOWN(im2colAll_exW7!DX9:IU17/2^5, 0), ROUNDUP(im2colAll_exW7!DX9:IU17/2^5, 0))","v":28}]

{"sheet":"Relu","index":3,"n_rows":9,"n_cols":128,"rows_kept":9,"cut":false,"hidden":false,"merged":[]}
[{"$f":"IF(truncate!A1:DX9 < 0, 0, IF(truncate!A1:DX9 > 255, 255, truncate!A1:DX9))","v":0},{"$f":"IF(truncate!B1:DY9 < 0, 0, IF(truncate!B1:DY9 > 255, 255, truncate!B1:DY9))","v":11},{"$f":"IF(truncate!C1:DZ9 < 0, 0, IF(truncate!C1:DZ9 > 255, 255, truncate!C1:DZ9))","v":0},{"$f":"IF(truncate!D1:EA9 < 0, 0, IF(truncate!D1:EA9 > 255, 255, truncate!D1:EA9))","v":12},{"$f":"IF(truncate!E1:EB9 < 0, 0, IF(truncate!E1:EB9 > 255, 255, truncate!E1:EB9))","v":43},{"$f":"IF(truncate!F1:EC9 < 0, 0, IF(truncate!F1:EC9 > 255, 255, truncate!F1:EC9))","v":25},{"$f":"IF(truncate!G1:ED9 < 0, 0, IF(truncate!G1:ED9 > 255, 255, truncate!G1:ED9))","v":58},{"$f":"IF(truncate!H1:EE9 < 0, 0, IF(truncate!H1:EE9 > 255, 255, truncate!H1:EE9))","v":3},{"$f":"IF(truncate!I1:EF9 < 0, 0, IF(truncate!I1:EF9 > 255, 255, truncate!I1:EF9))","v":3},{"$f":"IF(truncate!J1:EG9 < 0, 0, IF(truncate!J1:EG9 > 255, 255, truncate!J1:EG9))","v":0},{"$f":"IF(truncate!K1:EH9 < 0, 0, IF(truncate!K1:EH9 > 255, 255, truncate!K1:EH9))","v":19},{"$f":"IF(truncate!L1:EI9 < 0, 0, IF(truncate!L1:EI9 > 255, 255, truncate!L1:EI9))","v":15},{"$f":"IF(truncate!M1:EJ9 < 0, 0, IF(truncate!M1:EJ9 > 255, 255, truncate!M1:EJ9))","v":25},{"$f":"IF(truncate!N1:EK9 < 0, 0, IF(truncate!N1:EK9 > 255, 255, truncate!N1:EK9))","v":25},{"$f":"IF(truncate!O1:EL9 < 0, 0, IF(truncate!O1:EL9 > 255, 255, truncate!O1:EL9))","v":0},{"$f":"IF(truncate!P1:EM9 < 0, 0, IF(truncate!P1:EM9 > 255, 255, truncate!P1:EM9))","v":0},{"$f":"IF(truncate!Q1:EN9 < 0, 0, IF(truncate!Q1:EN9 > 255, 255, truncate!Q1:EN9))","v":22},{"$f":"IF(truncate!R1:EO9 < 0, 0, IF(truncate!R1:EO9 > 255, 255, truncate!R1:EO9))","v":12},{"$f":"IF(truncate!S1:EP9 < 0, 0, IF(truncate!S1:EP9 > 255, 255, truncate!S1:EP9))","v":0},{"$f":"IF(truncate!T1:EQ9 < 0, 0, IF(truncate!T1:EQ9 > 255, 255, truncate!T1:EQ9))","v":41},{"$f":"IF(truncate!U1:ER9 < 0, 0, IF(truncate!U1:ER9 > 255, 255, truncate!U1:ER9))","v":28},{"$f":"IF(truncate!V1:ES9 < 0, 0, IF(truncate!V1:ES9 > 255, 255, truncate!V1:ES9))","v":0},{"$f":"IF(truncate!W1:ET9 < 0, 0, IF(truncate!W1:ET9 > 255, 255, truncate!W1:ET9))","v":6},{"$f":"IF(truncate!X1:EU9 < 0, 0, IF(truncate!X1:EU9 > 255, 255, truncate!X1:EU9))","v":0},{"$f":"IF(truncate!Y1:EV9 < 0, 0, IF(truncate!Y1:EV9 > 255, 255, truncate!Y1:EV9))","v":27},{"$f":"IF(truncate!Z1:EW9 < 0, 0, IF(truncate!Z1:EW9 > 255, 255, truncate!Z1:EW9))","v":15},{"$f":"IF(truncate!AA1:EX9 < 0, 0, IF(truncate!AA1:EX9 > 255, 255, truncate!AA1:EX9))","v":13},{"$f":"IF(truncate!AB1:EY9 < 0, 0, IF(truncate!AB1:EY9 > 255, 255, truncate!AB1:EY9))","v":32},{"$f":"IF(truncate!AC1:EZ9 < 0, 0, IF(truncate!AC1:EZ9 > 255, 255, truncate!AC1:EZ9))","v":11},{"$f":"IF(truncate!AD1:FA9 < 0, 0, IF(truncate!AD1:FA9 > 255, 255, truncate!AD1:FA9))","v":0},{"$f":"IF(truncate!AE1:FB9 < 0, 0, IF(truncate!AE1:FB9 > 255, 255, truncate!AE1:FB9))","v":14},{"$f":"IF(truncate!AF1:FC9 < 0, 0, IF(truncate!AF1:FC9 > 255, 255, truncate!AF1:FC9))","v":5},{"$f":"IF(truncate!AG1:FD9 < 0, 0, IF(truncate!AG1:FD9 > 255, 255, truncate!AG1:FD9))","v":0},{"$f":"IF(truncate!AH1:FE9 < 0, 0, IF(truncate!AH1:FE9 > 255, 255, truncate!AH1:FE9))","v":24},{"$f":"IF(truncate!AI1:FF9 < 0, 0, IF(truncate!AI1:FF9 > 255, 255, truncate!AI1:FF9))","v":29},{"$f":"IF(truncate!AJ1:FG9 < 0, 0, IF(truncate!AJ1:FG9 > 255, 255, truncate!AJ1:FG9))","v":18},{"$f":"IF(truncate!AK1:FH9 < 0, 0, IF(truncate!AK1:FH9 > 255, 255, truncate!AK1:FH9))","v":0},{"$f":"IF(truncate!AL1:FI9 < 0, 0, IF(truncate!AL1:FI9 > 255, 255, truncate!AL1:FI9))","v":0},{"$f":"IF(truncate!AM1:FJ9 < 0, 0, IF(truncate!AM1:FJ9 > 255, 255, truncate!AM1:FJ9))","v":15},{"$f":"IF(truncate!AN1:FK9 < 0, 0, IF(truncate!AN1:FK9 > 255, 255, truncate!AN1:FK9))","v":10},{"$f":"IF(truncate!AO1:FL9 < 0, 0, IF(truncate!AO1:FL9 > 255, 255, truncate!AO1:FL9))","v":51},{"$f":"IF(truncate!AP1:FM9 < 0, 0, IF(truncate!AP1:FM9 > 255, 255, truncate!AP1:FM9))","v":21},{"$f":"IF(truncate!AQ1:FN9 < 0, 0, IF(truncate!AQ1:FN9 > 255, 255, truncate!AQ1:FN9))","v":0},{"$f":"IF(truncate!AR1:FO9 < 0, 0, IF(truncate!AR1:FO9 > 255, 255, truncate!AR1:FO9))","v":0},{"$f":"IF(truncate!AS1:FP9 < 0, 0, IF(truncate!AS1:FP9 > 255, 255, truncate!AS1:FP9))","v":0},{"$f":"IF(truncate!AT1:FQ9 < 0, 0, IF(truncate!AT1:FQ9 > 255, 255, truncate!AT1:FQ9))","v":23},{"$f":"IF(truncate!AU1:FR9 < 0, 0, IF(truncate!AU1:FR9 > 255, 255, truncate!AU1:FR9))","v":1},{"$f":"IF(truncate!AV1:FS9 < 0, 0, IF(truncate!AV1:FS9 > 255, 255, truncate!AV1:FS9))","v":0},{"$f":"IF(truncate!AW1:FT9 < 0, 0, IF(truncate!AW1:FT9 > 255, 255, truncate!AW1:FT9))","v":0},{"$f":"IF(truncate!AX1:FU9 < 0, 0, IF(truncate!AX1:FU9 > 255, 255, truncate!AX1:FU9))","v":5},{"$f":"IF(truncate!AY1:FV9 < 0, 0, IF(truncate!AY1:FV9 > 255, 255, truncate!AY1:FV9))","v":37},{"$f":"IF(truncate!AZ1:FW9 < 0, 0, IF(truncate!AZ1:FW9 > 255, 255, truncate!AZ1:FW9))","v":2},{"$f":"IF(truncate!BA1:FX9 < 0, 0, IF(truncate!BA1:FX9 > 255, 255, truncate!BA1:FX9))","v":52},{"$f":"IF(truncate!BB1:FY9 < 0, 0, IF(truncate!BB1:FY9 > 255, 255, truncate!BB1:FY9))","v":62},{"$f":"IF(truncate!BC1:FZ9 < 0, 0, IF(truncate!BC1:FZ9 > 255, 255, truncate!BC1:FZ9))","v":0},{"$f":"IF(truncate!BD1:GA9 < 0, 0, IF(truncate!BD1:GA9 > 255, 255, truncate!BD1:GA9))","v":7},{"$f":"IF(truncate!BE1:GB9 < 0, 0, IF(truncate!BE1:GB9 > 255, 255, truncate!BE1:GB9))","v":19},{"$f":"IF(truncate!BF1:GC9 < 0, 0, IF(truncate!BF1:GC9 > 255, 255, truncate!BF1:GC9))","v":12},{"$f":"IF(truncate!BG1:GD9 < 0, 0, IF(truncate!BG1:GD9 > 255, 255, truncate!BG1:GD9))","v":5},{"$f":"IF(truncate!BH1:GE9 < 0, 0, IF(truncate!BH1:GE9 > 255, 255, truncate!BH1:GE9))","v":2},{"$f":"IF(truncate!BI1:GF9 < 0, 0, IF(truncate!BI1:GF9 > 255, 255, truncate!BI1:GF9))","v":45},{"$f":"IF(truncate!BJ1:GG9 < 0, 0, IF(truncate!BJ1:GG9 > 255, 255, truncate!BJ1:GG9))","v":27},{"$f":"IF(truncate!BK1:GH9 < 0, 0, IF(truncate!BK1:GH9 > 255, 255, truncate!BK1:GH9))","v":0},{"$f":"IF(truncate!BL1:GI9 < 0, 0, IF(truncate!BL1:GI9 > 255, 255, truncate!BL1:GI9))","v":0},{"$f":"IF(truncate!BM1:GJ9 < 0, 0, IF(truncate!BM1:GJ9 > 255, 255, truncate!BM1:GJ9))","v":0},{"$f":"IF(truncate!BN1:GK9 < 0, 0, IF(truncate!BN1:GK9 > 255, 255, truncate!BN1:GK9))","v":3},{"$f":"IF(truncate!BO1:GL9 < 0, 0, IF(truncate!BO1:GL9 > 255, 255, truncate!BO1:GL9))","v":0},{"$f":"IF(truncate!BP1:GM9 < 0, 0, IF(truncate!BP1:GM9 > 255, 255, truncate!BP1:GM9))","v":0},{"$f":"IF(truncate!BQ1:GN9 < 0, 0, IF(truncate!BQ1:GN9 > 255, 255, truncate!BQ1:GN9))","v":0},{"$f":"IF(truncate!BR1:GO9 < 0, 0, IF(truncate!BR1:GO9 > 255, 255, truncate!BR1:GO9))","v":0},{"$f":"IF(truncate!BS1:GP9 < 0, 0, IF(truncate!BS1:GP9 > 255, 255, truncate!BS1:GP9))","v":3},{"$f":"IF(truncate!BT1:GQ9 < 0, 0, IF(truncate!BT1:GQ9 > 255, 255, truncate!BT1:GQ9))","v":5},{"$f":"IF(truncate!BU1:GR9 < 0, 0, IF(truncate!BU1:GR9 > 255, 255, truncate!BU1:GR9))","v":0},{"$f":"IF(truncate!BV1:GS9 < 0, 0, IF(truncate!BV1:GS9 > 255, 255, truncate!BV1:GS9))","v":17},{"$f":"IF(truncate!BW1:GT9 < 0, 0, IF(truncate!BW1:GT9 > 255, 255, truncate!BW1:GT9))","v":5},{"$f":"IF(truncate!BX1:GU9 < 0, 0, IF(truncate!BX1:GU9 > 255, 255, truncate!BX1:GU9))","v":45},{"$f":"IF(truncate!BY1:GV9 < 0, 0, IF(truncate!BY1:GV9 > 255, 255, truncate!BY1:GV9))","v":11},{"$f":"IF(truncate!BZ1:GW9 < 0, 0, IF(truncate!BZ1:GW9 > 255, 255, truncate!BZ1:GW9))","v":5},{"$f":"IF(truncate!CA1:GX9 < 0, 0, IF(truncate!CA1:GX9 > 255, 255, truncate!CA1:GX9))","v":0},{"$f":"IF(truncate!CB1:GY9 < 0, 0, IF(truncate!CB1:GY9 > 255, 255, truncate!CB1:GY9))","v":23},{"$f":"IF(truncate!CC1:GZ9 < 0, 0, IF(truncate!CC1:GZ9 > 255, 255, truncate!CC1:GZ9))","v":30},{"$f":"IF(truncate!CD1:HA9 < 0, 0, IF(truncate!CD1:HA9 > 255, 255, truncate!CD1:HA9))","v":51},{"$f":"IF(truncate!CE1:HB9 < 0, 0, IF(truncate!CE1:HB9 > 255, 255, truncate!CE1:HB9))","v":0},{"$f":"IF(truncate!CF1:HC9 < 0, 0, IF(truncate!CF1:HC9 > 255, 255, truncate!CF1:HC9))","v":14},{"$f":"IF(truncate!CG1:HD9 < 0, 0, IF(truncate!CG1:HD9 > 255, 255, truncate!CG1:HD9))","v":10},{"$f":"IF(truncate!CH1:HE9 < 0, 0, IF(truncate!CH1:HE9 > 255, 255, truncate!CH1:HE9))","v":0},{"$f":"IF(truncate!CI1:HF9 < 0, 0, IF(truncate!CI1:HF9 > 255, 255, truncate!CI1:HF9))","v":50},{"$f":"IF(truncate!CJ1:HG9 < 0, 0, IF(truncate!CJ1:HG9 > 255, 255, truncate!CJ1:HG9))","v":0},{"$f":"IF(truncate!CK1:HH9 < 0, 0, IF(truncate!CK1:HH9 > 255, 255, truncate!CK1:HH9))","v":45},{"$f":"IF(truncate!CL1:HI9 < 0, 0, IF(truncate!CL1:HI9 > 255, 255, truncate!CL1:HI9))","v":14},{"$f":"IF(truncate!CM1:HJ9 < 0, 0, IF(truncate!CM1:HJ9 > 255, 255, truncate!CM1:HJ9))","v":0},{"$f":"IF(truncate!CN1:HK9 < 0, 0, IF(truncate!CN1:HK9 > 255, 255, truncate!CN1:HK9))","v":8},{"$f":"IF(truncate!CO1:HL9 < 0, 0, IF(truncate!CO1:HL9 > 255, 255, truncate!CO1:HL9))","v":0},{"$f":"IF(truncate!CP1:HM9 < 0, 0, IF(truncate!CP1:HM9 > 255, 255, truncate!CP1:HM9))","v":10},{"$f":"IF(truncate!CQ1:HN9 < 0, 0, IF(truncate!CQ1:HN9 > 255, 255, truncate!CQ1:HN9))","v":0},{"$f":"IF(truncate!CR1:HO9 < 0, 0, IF(truncate!CR1:HO9 > 255, 255, truncate!CR1:HO9))","v":42},{"$f":"IF(truncate!CS1:HP9 < 0, 0, IF(truncate!CS1:HP9 > 255, 255, truncate!CS1:HP9))","v":59},{"$f":"IF(truncate!CT1:HQ9 < 0, 0, IF(truncate!CT1:HQ9 > 255, 255, truncate!CT1:HQ9))","v":52},{"$f":"IF(truncate!CU1:HR9 < 0, 0, IF(truncate!CU1:HR9 > 255, 255, truncate!CU1:HR9))","v":0},{"$f":"IF(truncate!CV1:HS9 < 0, 0, IF(truncate!CV1:HS9 > 255, 255, truncate!CV1:HS9))","v":3},{"$f":"IF(truncate!CW1:HT9 < 0, 0, IF(truncate!CW1:HT9 > 255, 255, truncate!CW1:HT9))","v":0},{"$f":"IF(truncate!CX1:HU9 < 0, 0, IF(truncate!CX1:HU9 > 255, 255, truncate!CX1:HU9))","v":19},{"$f":"IF(truncate!CY1:HV9 < 0, 0, IF(truncate!CY1:HV9 > 255, 255, truncate!CY1:HV9))","v":0},{"$f":"IF(truncate!CZ1:HW9 < 0, 0, IF(truncate!CZ1:HW9 > 255, 255, truncate!CZ1:HW9))","v":0},{"$f":"IF(truncate!DA1:HX9 < 0, 0, IF(truncate!DA1:HX9 > 255, 255, truncate!DA1:HX9))","v":12},{"$f":"IF(truncate!DB1:HY9 < 0, 0, IF(truncate!DB1:HY9 > 255, 255, truncate!DB1:HY9))","v":57},{"$f":"IF(truncate!DC1:HZ9 < 0, 0, IF(truncate!DC1:HZ9 > 255, 255, truncate!DC1:HZ9))","v":22},{"$f":"IF(truncate!DD1:IA9 < 0, 0, IF(truncate!DD1:IA9 > 255, 255, truncate!DD1:IA9))","v":0},{"$f":"IF(truncate!DE1:IB9 < 0, 0, IF(truncate!DE1:IB9 > 255, 255, truncate!DE1:IB9))","v":33},{"$f":"IF(truncate!DF1:IC9 < 0, 0, IF(truncate!DF1:IC9 > 255, 255, truncate!DF1:IC9))","v":0},{"$f":"IF(truncate!DG1:ID9 < 0, 0, IF(truncate!DG1:ID9 > 255, 255, truncate!DG1:ID9))","v":21},{"$f":"IF(truncate!DH1:IE9 < 0, 0, IF(truncate!DH1:IE9 > 255, 255, truncate!DH1:IE9))","v":7},{"$f":"IF(truncate!DI1:IF9 < 0, 0, IF(truncate!DI1:IF9 > 255, 255, truncate!DI1:IF9))","v":2},{"$f":"IF(truncate!DJ1:IG9 < 0, 0, IF(truncate!DJ1:IG9 > 255, 255, truncate!DJ1:IG9))","v":0},{"$f":"IF(truncate!DK1:IH9 < 0, 0, IF(truncate!DK1:IH9 > 255, 255, truncate!DK1:IH9))","v":4},{"$f":"IF(truncate!DL1:II9 < 0, 0, IF(truncate!DL1:II9 > 255, 255, truncate!DL1:II9))","v":0},{"$f":"IF(truncate!DM1:IJ9 < 0, 0, IF(truncate!DM1:IJ9 > 255, 255, truncate!DM1:IJ9))","v":13},{"$f":"IF(truncate!DN1:IK9 < 0, 0, IF(truncate!DN1:IK9 > 255, 255, truncate!DN1:IK9))","v":0},{"$f":"IF(truncate!DO1:IL9 < 0, 0, IF(truncate!DO1:IL9 > 255, 255, truncate!DO1:IL9))","v":13},{"$f":"IF(truncate!DP1:IM9 < 0, 0, IF(truncate!DP1:IM9 > 255, 255, truncate!DP1:IM9))","v":0},{"$f":"IF(truncate!DQ1:IN9 < 0, 0, IF(truncate!DQ1:IN9 > 255, 255, truncate!DQ1:IN9))","v":15},{"$f":"IF(truncate!DR1:IO9 < 0, 0, IF(truncate!DR1:IO9 > 255, 255, truncate!DR1:IO9))","v":0},{"$f":"IF(truncate!DS1:IP9 < 0, 0, IF(truncate!DS1:IP9 > 255, 255, truncate!DS1:IP9))","v":39},{"$f":"IF(truncate!DT1:IQ9 < 0, 0, IF(truncate!DT1:IQ9 > 255, 255, truncate!DT1:IQ9))","v":0},{"$f":"IF(truncate!DU1:IR9 < 0, 0, IF(truncate!DU1:IR9 > 255, 255, truncate!DU1:IR9))","v":25},{"$f":"IF(truncate!DV1:IS9 < 0, 0, IF(truncate!DV1:IS9 > 255, 255, truncate!DV1:IS9))","v":12},{"$f":"IF(truncate!DW1:IT9 < 0, 0, IF(truncate!DW1:IT9 > 255, 255, truncate!DW1:IT9))","v":0},{"$f":"IF(truncate!DX1:IU9 < 0, 0, IF(truncate!DX1:IU9 > 255, 255, truncate!DX1:IU9))","v":9}]
[{"$f":"IF(truncate!A2:DX10 < 0, 0, IF(truncate!A2:DX10 > 255, 255, truncate!A2:DX10))","v":0},{"$f":"IF(truncate!B2:DY10 < 0, 0, IF(truncate!B2:DY10 > 255, 255, truncate!B2:DY10))","v":16},{"$f":"IF(truncate!C2:DZ10 < 0, 0, IF(truncate!C2:DZ10 > 255, 255, truncate!C2:DZ10))","v":0},{"$f":"IF(truncate!D2:EA10 < 0, 0, IF(truncate!D2:EA10 > 255, 255, truncate!D2:EA10))","v":7},{"$f":"IF(truncate!E2:EB10 < 0, 0, IF(truncate!E2:EB10 > 255, 255, truncate!E2:EB10))","v":48},{"$f":"IF(truncate!F2:EC10 < 0, 0, IF(truncate!F2:EC10 > 255, 255, truncate!F2:EC10))","v":22},{"$f":"IF(truncate!G2:ED10 < 0, 0, IF(truncate!G2:ED10 > 255, 255, truncate!G2:ED10))","v":48},{"$f":"IF(truncate!H2:EE10 < 0, 0, IF(truncate!H2:EE10 > 255, 255, truncate!H2:EE10))","v":5},{"$f":"IF(truncate!I2:EF10 < 0, 0, IF(truncate!I2:EF10 > 255, 255, truncate!I2:EF10))","v":5},{"$f":"IF(truncate!J2:EG10 < 0, 0, IF(truncate!J2:EG10 > 255, 255, truncate!J2:EG10))","v":0},{"$f":"IF(truncate!K2:EH10 < 0, 0, IF(truncate!K2:EH10 > 255, 255, truncate!K2:EH10))","v":17},{"$f":"IF(truncate!L2:EI10 < 0, 0, IF(truncate!L2:EI10 > 255, 255, truncate!L2:EI10))","v":16},{"$f":"IF(truncate!M2:EJ10 < 0, 0, IF(truncate!M2:EJ10 > 255, 255, truncate!M2:EJ10))","v":34},{"$f":"IF(truncate!N2:EK10 < 0, 0, IF(truncate!N2:EK10 > 255, 255, truncate!N2:EK10))","v":26},{"$f":"IF(truncate!O2:EL10 < 0, 0, IF(truncate!O2:EL10 > 255, 255, truncate!O2:EL10))","v":0},{"$f":"IF(truncate!P2:EM10 < 0, 0, IF(truncate!P2:EM10 > 255, 255, truncate!P2:EM10))","v":0},{"$f":"IF(truncate!Q2:EN10 < 0, 0, IF(truncate!Q2:EN10 > 255, 255, truncate!Q2:EN10))","v":29},{"$f":"IF(truncate!R2:EO10 < 0, 0, IF(truncate!R2:EO10 > 255, 255, truncate!R2:EO10))","v":25},{"$f":"IF(truncate!S2:EP10 < 0, 0, IF(truncate!S2:EP10 > 255, 255, truncate!S2:EP10))","v":0},{"$f":"IF(truncate!T2:EQ10 < 0, 0, IF(truncate!T2:EQ10 > 255, 255, truncate!T2:EQ10))","v":41},{"$f":"IF(truncate!U2:ER10 < 0, 0, IF(truncate!U2:ER10 > 255, 255, truncate!U2:ER10))","v":32},{"$f":"IF(truncate!V2:ES10 < 0, 0, IF(truncate!V2:ES10 > 255, 255, truncate!V2:ES10))","v":0},{"$f":"IF(truncate!W2:ET10 < 0, 0, IF(truncate!W2:ET10 > 255, 255, truncate!W2:ET10))","v":11},{"$f":"IF(truncate!X2:EU10 < 0, 0, IF(truncate!X2:EU10 > 255, 255, truncate!X2:EU10))","v":0},{"$f":"IF(truncate!Y2:EV10 < 0, 0, IF(truncate!Y2:EV10 > 255, 255, truncate!Y2:EV10))","v":26},{"$f":"IF(truncate!Z2:EW10 < 0, 0, IF(truncate!Z2:EW10 > 255, 255, truncate!Z2:EW10))","v":28},{"$f":"IF(truncate!AA2:EX10 < 0, 0, IF(truncate!AA2:EX10 > 255, 255, truncate!AA2:EX10))","v":12},{"$f":"IF(truncate!AB2:EY10 < 0, 0, IF(truncate!AB2:EY10 > 255, 255, truncate!AB2:EY10))","v":39},{"$f":"IF(truncate!AC2:EZ10 < 0, 0, IF(truncate!AC2:EZ10 > 255, 255, truncate!AC2:EZ10))","v":6},{"$f":"IF(truncate!AD2:FA10 < 0, 0, IF(truncate!AD2:FA10 > 255, 255, truncate!AD2:FA10))","v":0},{"$f":"IF(truncate!AE2:FB10 < 0, 0, IF(truncate!AE2:FB10 > 255, 255, truncate!AE2:FB10))","v":19},{"$f":"IF(truncate!AF2:FC10 < 0, 0, IF(truncate!AF2:FC10 > 255, 255, truncate!AF2:FC10))","v":6},{"$f":"IF(truncate!AG2:FD10 < 0, 0, IF(truncate!AG2:FD10 > 255, 255, truncate!AG2:FD10))","v":0},{"$f":"IF(truncate!AH2:FE10 < 0, 0, IF(truncate!AH2:FE10 > 255, 255, truncate!AH2:FE10))","v":26},{"$f":"IF(truncate!AI2:FF10 < 0, 0, IF(truncate!AI2:FF10 > 255, 255, truncate!AI2:FF10))","v":24},{"$f":"IF(truncate!AJ2:FG10 < 0, 0, IF(truncate!AJ2:FG10 > 255, 255, truncate!AJ2:FG10))","v":27},{"$f":"IF(truncate!AK2:FH10 < 0, 0, IF(truncate!AK2:FH10 > 255, 255, truncate!AK2:FH10))","v":1},{"$f":"IF(truncate!AL2:FI10 < 0, 0, IF(truncate!AL2:FI10 > 255, 255, truncate!AL2:FI10))","v":5},{"$f":"IF(truncate!AM2:FJ10 < 0, 0, IF(truncate!AM2:FJ10 > 255, 255, truncate!AM2:FJ10))","v":10},{"$f":"IF(truncate!AN2:FK10 < 0, 0, IF(truncate!AN2:FK10 > 255, 255, truncate!AN2:FK10))","v":7},{"$f":"IF(truncate!AO2:FL10 < 0, 0, IF(truncate!AO2:FL10 > 255, 255, truncate!AO2:FL10))","v":43},{"$f":"IF(truncate!AP2:FM10 < 0, 0, IF(truncate!AP2:FM10 > 255, 255, truncate!AP2:FM10))","v":29},{"$f":"IF(truncate!AQ2:FN10 < 0, 0, IF(truncate!AQ2:FN10 > 255, 255, truncate!AQ2:FN10))","v":7},{"$f":"IF(truncate!AR2:FO10 < 0, 0, IF(truncate!AR2:FO10 > 255, 255, truncate!AR2:FO10))","v":0},{"$f":"IF(truncate!AS2:FP10 < 0, 0, IF(truncate!AS2:FP10 > 255, 255, truncate!AS2:FP10))","v":0},{"$f":"IF(truncate!AT2:FQ10 < 0, 0, IF(truncate!AT2:FQ10 > 255, 255, truncate!AT2:FQ10))","v":21},{"$f":"IF(truncate!AU2:FR10 < 0, 0, IF(truncate!AU2:FR10 > 255, 255, truncate!AU2:FR10))","v":0},{"$f":"IF(truncate!AV2:FS10 < 0, 0, IF(truncate!AV2:FS10 > 255, 255, truncate!AV2:FS10))","v":0},{"$f":"IF(truncate!AW2:FT10 < 0, 0, IF(truncate!AW2:FT10 > 255, 255, truncate!AW2:FT10))","v":0},{"$f":"IF(truncate!AX2:FU10 < 0, 0, IF(truncate!AX2:FU10 > 255, 255, truncate!AX2:FU10))","v":15},{"$f":"IF(truncate!AY2:FV10 < 0, 0, IF(truncate!AY2:FV10 > 255, 255, truncate!AY2:FV10))","v":22},{"$f":"IF(truncate!AZ2:FW10 < 0, 0, IF(truncate!AZ2:FW10 > 255, 255, truncate!AZ2:FW10))","v":25},{"$f":"IF(truncate!BA2:FX10 < 0, 0, IF(truncate!BA2:FX10 > 255, 255, truncate!BA2:FX10))","v":51},{"$f":"IF(truncate!BB2:FY10 < 0, 0, IF(truncate!BB2:FY10 > 255, 255, truncate!BB2:FY10))","v":49},{"$f":"IF(truncate!BC2:FZ10 < 0, 0, IF(truncate!BC2:FZ10 > 255, 255, truncate!BC2:FZ10))","v":0},{"$f":"IF(truncate!BD2:GA10 < 0, 0, IF(truncate!BD2:GA10 > 255, 255, truncate!BD2:GA10))","v":0},{"$f":"IF(truncate!BE2:GB10 < 0, 0, IF(truncate!BE2:GB10 > 255, 255, truncate!BE2:GB10))","v":12},{"$f":"IF(truncate!BF2:GC10 < 0, 0, IF(truncate!BF2:GC10 > 255, 255, truncate!BF2:GC10))","v":20},{"$f":"IF(truncate!BG2:GD10 < 0, 0, IF(truncate!BG2:GD10 > 255, 255, truncate!BG2:GD10))","v":26},{"$f":"IF(truncate!BH2:GE10 < 0, 0, IF(truncate!BH2:GE10 > 255, 255, truncate!BH2:GE10))","v":0},{"$f":"IF(truncate!BI2:GF10 < 0, 0, IF(truncate!BI2:GF10 > 255, 255, truncate!BI2:GF10))","v":36},{"$f":"IF(truncate!BJ2:GG10 < 0, 0, IF(truncate!BJ2:GG10 > 255, 255, truncate!BJ2:GG10))","v":8},{"$f":"IF(truncate!BK2:GH10 < 0, 0, IF(truncate!BK2:GH10 > 255, 255, truncate!BK2:GH10))","v":0},{"$f":"IF(truncate!BL2:GI10 < 0, 0, IF(truncate!BL2:GI10 > 255, 255, truncate!BL2:GI10))","v":0},{"$f":"IF(truncate!BM2:GJ10 < 0, 0, IF(truncate!BM2:GJ10 > 255, 255, truncate!BM2:GJ10))","v":0},{"$f":"IF(truncate!BN2:GK10 < 0, 0, IF(truncate!BN2:GK10 > 255, 255, truncate!BN2:GK10))","v":3},{"$f":"IF(truncate!BO2:GL10 < 0, 0, IF(truncate!BO2:GL10 > 255, 255, truncate!BO2:GL10))","v":0},{"$f":"IF(truncate!BP2:GM10 < 0, 0, IF(truncate!BP2:GM10 > 255, 255, truncate!BP2:GM10))","v":0},{"$f":"IF(truncate!BQ2:GN10 < 0, 0, IF(truncate!BQ2:GN10 > 255, 255, truncate!BQ2:GN10))","v":0},{"$f":"IF(truncate!BR2:GO10 < 0, 0, IF(truncate!BR2:GO10 > 255, 255, truncate!BR2:GO10))","v":4},{"$f":"IF(truncate!BS2:GP10 < 0, 0, IF(truncate!BS2:GP10 > 255, 255, truncate!BS2:GP10))","v":2},{"$f":"IF(truncate!BT2:GQ10 < 0, 0, IF(truncate!BT2:GQ10 > 255, 255, truncate!BT2:GQ10))","v":7},{"$f":"IF(truncate!BU2:GR10 < 0, 0, IF(truncate!BU2:GR10 > 255, 255, truncate!BU2:GR10))","v":0},{"$f":"IF(truncate!BV2:GS10 < 0, 0, IF(truncate!BV2:GS10 > 255, 255, truncate!BV2:GS10))","v":24},{"$f":"IF(truncate!BW2:GT10 < 0, 0, IF(truncate!BW2:GT10 > 255, 255, truncate!BW2:GT10))","v":16},{"$f":"IF(truncate!BX2:GU10 < 0, 0, IF(truncate!BX2:GU10 > 255, 255, truncate!BX2:GU10))","v":41},{"$f":"IF(truncate!BY2:GV10 < 0, 0, IF(truncate!BY2:GV10 > 255, 255, truncate!BY2:GV10))","v":17},{"$f":"IF(truncate!BZ2:GW10 < 0, 0, IF(truncate!BZ2:GW10 > 255, 255, truncate!BZ2:GW10))","v":15},{"$f":"IF(truncate!CA2:GX10 < 0, 0, IF(truncate!CA2:GX10 > 255, 255, truncate!CA2:GX10))","v":0},{"$f":"IF(truncate!CB2:GY10 < 0, 0, IF(truncate!CB2:GY10 > 255, 255, truncate!CB2:GY10))","v":19},{"$f":"IF(truncate!CC2:GZ10 < 0, 0, IF(truncate!CC2:GZ10 > 255, 255, truncate!CC2:GZ10))","v":30},{"$f":"IF(truncate!CD2:HA10 < 0, 0, IF(truncate!CD2:HA10 > 255, 255, truncate!CD2:HA10))","v":44},{"$f":"IF(truncate!CE2:HB10 < 0, 0, IF(truncate!CE2:HB10 > 255, 255, truncate!CE2:HB10))","v":5},{"$f":"IF(truncate!CF2:HC10 < 0, 0, IF(truncate!CF2:HC10 > 255, 255, truncate!CF2:HC10))","v":16},{"$f":"IF(truncate!CG2:HD10 < 0, 0, IF(truncate!CG2:HD10 > 255, 255, truncate!CG2:HD10))","v":18},{"$f":"IF(truncate!CH2:HE10 < 0, 0, IF(truncate!CH2:HE10 > 255, 255, truncate!CH2:HE10))","v":0},{"$f":"IF(truncate!CI2:HF10 < 0, 0, IF(truncate!CI2:HF10 > 255, 255, truncate!CI2:HF10))","v":53},{"$f":"IF(truncate!CJ2:HG10 < 0, 0, IF(truncate!CJ2:HG10 > 255, 255, truncate!CJ2:HG10))","v":1},{"$f":"IF(truncate!CK2:HH10 < 0, 0, IF(truncate!CK2:HH10 > 255, 255, truncate!CK2:HH10))","v":32},{"$f":"IF(truncate!CL2:HI10 < 0, 0, IF(truncate!CL2:HI10 > 255, 255, truncate!CL2:HI10))","v":27},{"$f":"IF(truncate!CM2:HJ10 < 0, 0, IF(truncate!CM2:HJ10 > 255, 255, truncate!CM2:HJ10))","v":0},{"$f":"IF(truncate!CN2:HK10 < 0, 0, IF(truncate!CN2:HK10 > 255, 255, truncate!CN2:HK10))","v":11},{"$f":"IF(truncate!CO2:HL10 < 0, 0, IF(truncate!CO2:HL10 > 255, 255, truncate!CO2:HL10))","v":0},{"$f":"IF(truncate!CP2:HM10 < 0, 0, IF(truncate!CP2:HM10 > 255, 255, truncate!CP2:HM10))","v":16},{"$f":"IF(truncate!CQ2:HN10 < 0, 0, IF(truncate!CQ2:HN10 > 255, 255, truncate!CQ2:HN10))","v":0},{"$f":"IF(truncate!CR2:HO10 < 0, 0, IF(truncate!CR2:HO10 > 255, 255, truncate!CR2:HO10))","v":50},{"$f":"IF(truncate!CS2:HP10 < 0, 0, IF(truncate!CS2:HP10 > 255, 255, truncate!CS2:HP10))","v":52},{"$f":"IF(truncate!CT2:HQ10 < 0, 0, IF(truncate!CT2:HQ10 > 255, 255, truncate!CT2:HQ10))","v":65},{"$f":"IF(truncate!CU2:HR10 < 0, 0, IF(truncate!CU2:HR10 > 255, 255, truncate!CU2:HR10))","v":0},{"$f":"IF(truncate!CV2:HS10 < 0, 0, IF(truncate!CV2:HS10 > 255, 255, truncate!CV2:HS10))","v":6},{"$f":"IF(truncate!CW2:HT10 < 0, 0, IF(truncate!CW2:HT10 > 255, 255, truncate!CW2:HT10))","v":0},{"$f":"IF(truncate!CX2:HU10 < 0, 0, IF(truncate!CX2:HU10 > 255, 255, truncate!CX2:HU10))","v":16},{"$f":"IF(truncate!CY2:HV10 < 0, 0, IF(truncate!CY2:HV10 > 255, 255, truncate!CY2:HV10))","v":0},{"$f":"IF(truncate!CZ2:HW10 < 0, 0, IF(truncate!CZ2:HW10 > 255, 255, truncate!CZ2:HW10))","v":0},{"$f":"IF(truncate!DA2:HX10 < 0, 0, IF(truncate!DA2:HX10 > 255, 255, truncate!DA2:HX10))","v":7},{"$f":"IF(truncate!DB2:HY10 < 0, 0, IF(truncate!DB2:HY10 > 255, 255, truncate!DB2:HY10))","v":67},{"$f":"IF(truncate!DC2:HZ10 < 0, 0, IF(truncate!DC2:HZ10 > 255, 255, truncate!DC2:HZ10))","v":34},{"$f":"IF(truncate!DD2:IA10 < 0, 0, IF(truncate!DD2:IA10 > 255, 255, truncate!DD2:IA10))","v":0},{"$f":"IF(truncate!DE2:IB10 < 0, 0, IF(truncate!DE2:IB10 > 255, 255, truncate!DE2:IB10))","v":28},{"$f":"IF(truncate!DF2:IC10 < 0, 0, IF(truncate!DF2:IC10 > 255, 255, truncate!DF2:IC10))","v":0},{"$f":"IF(truncate!DG2:ID10 < 0, 0, IF(truncate!DG2:ID10 > 255, 255, truncate!DG2:ID10))","v":8},{"$f":"IF(truncate!DH2:IE10 < 0, 0, IF(truncate!DH2:IE10 > 255, 255, truncate!DH2:IE10))","v":12},{"$f":"IF(truncate!DI2:IF10 < 0, 0, IF(truncate!DI2:IF10 > 255, 255, truncate!DI2:IF10))","v":24},{"$f":"IF(truncate!DJ2:IG10 < 0, 0, IF(truncate!DJ2:IG10 > 255, 255, truncate!DJ2:IG10))","v":0},{"$f":"IF(truncate!DK2:IH10 < 0, 0, IF(truncate!DK2:IH10 > 255, 255, truncate!DK2:IH10))","v":16},{"$f":"IF(truncate!DL2:II10 < 0, 0, IF(truncate!DL2:II10 > 255, 255, truncate!DL2:II10))","v":0},{"$f":"IF(truncate!DM2:IJ10 < 0, 0, IF(truncate!DM2:IJ10 > 255, 255, truncate!DM2:IJ10))","v":10},{"$f":"IF(truncate!DN2:IK10 < 0, 0, IF(truncate!DN2:IK10 > 255, 255, truncate!DN2:IK10))","v":0},{"$f":"IF(truncate!DO2:IL10 < 0, 0, IF(truncate!DO2:IL10 > 255, 255, truncate!DO2:IL10))","v":11},{"$f":"IF(truncate!DP2:IM10 < 0, 0, IF(truncate!DP2:IM10 > 255, 255, truncate!DP2:IM10))","v":6},{"$f":"IF(truncate!DQ2:IN10 < 0, 0, IF(truncate!DQ2:IN10 > 255, 255, truncate!DQ2:IN10))","v":12},{"$f":"IF(truncate!DR2:IO10 < 0, 0, IF(truncate!DR2:IO10 > 255, 255, truncate!DR2:IO10))","v":0},{"$f":"IF(truncate!DS2:IP10 < 0, 0, IF(truncate!DS2:IP10 > 255, 255, truncate!DS2:IP10))","v":50},{"$f":"IF(truncate!DT2:IQ10 < 0, 0, IF(truncate!DT2:IQ10 > 255, 255, truncate!DT2:IQ10))","v":0},{"$f":"IF(truncate!DU2:IR10 < 0, 0, IF(truncate!DU2:IR10 > 255, 255, truncate!DU2:IR10))","v":21},{"$f":"IF(truncate!DV2:IS10 < 0, 0, IF(truncate!DV2:IS10 > 255, 255, truncate!DV2:IS10))","v":15},{"$f":"IF(truncate!DW2:IT10 < 0, 0, IF(truncate!DW2:IT10 > 255, 255, truncate!DW2:IT10))","v":0},{"$f":"IF(truncate!DX2:IU10 < 0, 0, IF(truncate!DX2:IU10 > 255, 255, truncate!DX2:IU10))","v":0}]
[{"$f":"IF(truncate!A3:DX11 < 0, 0, IF(truncate!A3:DX11 > 255, 255, truncate!A3:DX11))","v":0},{"$f":"IF(truncate!B3:DY11 < 0, 0, IF(truncate!B3:DY11 > 255, 255, truncate!B3:DY11))","v":12},{"$f":"IF(truncate!C3:DZ11 < 0, 0, IF(truncate!C3:DZ11 > 255, 255, truncate!C3:DZ11))","v":0},{"$f":"IF(truncate!D3:EA11 < 0, 0, IF(truncate!D3:EA11 > 255, 255, truncate!D3:EA11))","v":9},{"$f":"IF(truncate!E3:EB11 < 0, 0, IF(truncate!E3:EB11 > 255, 255, truncate!E3:EB11))","v":43},{"$f":"IF(truncate!F3:EC11 < 0, 0, IF(truncate!F3:EC11 > 255, 255, truncate!F3:EC11))","v":20},{"$f":"IF(truncate!G3:ED11 < 0, 0, IF(truncate!G3:ED11 > 255, 255, truncate!G3:ED11))","v":53},{"$f":"IF(truncate!H3:EE11 < 0, 0, IF(truncate!H3:EE11 > 255, 255, truncate!H3:EE11))","v":9},{"$f":"IF(truncate!I3:EF11 < 0, 0, IF(truncate!I3:EF11 > 255, 255, truncate!I3:EF11))","v":2},{"$f":"IF(truncate!J3:EG11 < 0, 0, IF(truncate!J3:EG11 > 255, 255, truncate!J3:EG11))","v":0},{"$f":"IF(truncate!K3:EH11 < 0, 0, IF(truncate!K3:EH11 > 255, 255, truncate!K3:EH11))","v":21},{"$f":"IF(truncate!L3:EI11 < 0, 0, IF(truncate!L3:EI11 > 255, 255, truncate!L3:EI11))","v":14},{"$f":"IF(truncate!M3:EJ11 < 0, 0, IF(truncate!M3:EJ11 > 255, 255, truncate!M3:EJ11))","v":28},{"$f":"IF(truncate!N3:EK11 < 0, 0, IF(truncate!N3:EK11 > 255, 255, truncate!N3:EK11))","v":28},{"$f":"IF(truncate!O3:EL11 < 0, 0, IF(truncate!O3:EL11 > 255, 255, truncate!O3:EL11))","v":0},{"$f":"IF(truncate!P3:EM11 < 0, 0, IF(truncate!P3:EM11 > 255, 255, truncate!P3:EM11))","v":4},{"$f":"IF(truncate!Q3:EN11 < 0, 0, IF(truncate!Q3:EN11 > 255, 255, truncate!Q3:EN11))","v":27},{"$f":"IF(truncate!R3:EO11 < 0, 0, IF(truncate!R3:EO11 > 255, 255, truncate!R3:EO11))","v":17},{"$f":"IF(truncate!S3:EP11 < 0, 0, IF(truncate!S3:EP11 > 255, 255, truncate!S3:EP11))","v":0},{"$f":"IF(truncate!T3:EQ11 < 0, 0, IF(truncate!T3:EQ11 > 255, 255, truncate!T3:EQ11))","v":37},{"$f":"IF(truncate!U3:ER11 < 0, 0, IF(truncate!U3:ER11 > 255, 255, truncate!U3:ER11))","v":29},{"$f":"IF(truncate!V3:ES11 < 0, 0, IF(truncate!V3:ES11 > 255, 255, truncate!V3:ES11))","v":0},{"$f":"IF(truncate!W3:ET11 < 0, 0, IF(truncate!W3:ET11 > 255, 255, truncate!W3:ET11))","v":14},{"$f":"IF(truncate!X3:EU11 < 0, 0, IF(truncate!X3:EU11 > 255, 255, truncate!X3:EU11))","v":0},{"$f":"IF(truncate!Y3:EV11 < 0, 0, IF(truncate!Y3:EV11 > 255, 255, truncate!Y3:EV11))","v":18},{"$f":"IF(truncate!Z3:EW11 < 0, 0, IF(truncate!Z3:EW11 > 255, 255, truncate!Z3:EW11))","v":16},{"$f":"IF(truncate!AA3:EX11 < 0, 0, IF(truncate!AA3:EX11 > 255, 255, truncate!AA3:EX11))","v":18},{"$f":"IF(truncate!AB3:EY11 < 0, 0, IF(truncate!AB3:EY11 > 255, 255, truncate!AB3:EY11))","v":25},{"$f":"IF(truncate!AC3:EZ11 < 0, 0, IF(truncate!AC3:EZ11 > 255, 255, truncate!AC3:EZ11))","v":7},{"$f":"IF(truncate!AD3:FA11 < 0, 0, IF(truncate!AD3:FA11 > 255, 255, truncate!AD3:FA11))","v":0},{"$f":"IF(truncate!AE3:FB11 < 0, 0, IF(truncate!AE3:FB11 > 255, 255, truncate!AE3:FB11))","v":22},{"$f":"IF(truncate!AF3:FC11 < 0, 0, IF(truncate!AF3:FC11 > 255, 255, truncate!AF3:FC11))","v":10},{"$f":"IF(truncate!AG3:FD11 < 0, 0, IF(truncate!AG3:FD11 > 255, 255, truncate!AG3:FD11))","v":0},{"$f":"IF(truncate!AH3:FE11 < 0, 0, IF(truncate!AH3:FE11 > 255, 255, truncate!AH3:FE11))","v":24},{"$f":"IF(truncate!AI3:FF11 < 0, 0, IF(truncate!AI3:FF11 > 255, 255, truncate!AI3:FF11))","v":27},{"$f":"IF(truncate!AJ3:FG11 < 0, 0, IF(truncate!AJ3:FG11 > 255, 255, truncate!AJ3:FG11))","v":17},{"$f":"IF(truncate!AK3:FH11 < 0, 0, IF(truncate!AK3:FH11 > 255, 255, truncate!AK3:FH11))","v":0},{"$f":"IF(truncate!AL3:FI11 < 0, 0, IF(truncate!AL3:FI11 > 255, 255, truncate!AL3:FI11))","v":3},{"$f":"IF(truncate!AM3:FJ11 < 0, 0, IF(truncate!AM3:FJ11 > 255, 255, truncate!AM3:FJ11))","v":12},{"$f":"IF(truncate!AN3:FK11 < 0, 0, IF(truncate!AN3:FK11 > 255, 255, truncate!AN3:FK11))","v":0},{"$f":"IF(truncate!AO3:FL11 < 0, 0, IF(truncate!AO3:FL11 > 255, 255, truncate!AO3:FL11))","v":44},{"$f":"IF(truncate!AP3:FM11 < 0, 0, IF(truncate!AP3:FM11 > 255, 255, truncate!AP3:FM11))","v":28},{"$f":"IF(truncate!AQ3:FN11 < 0, 0, IF(truncate!AQ3:FN11 > 255, 255, truncate!AQ3:FN11))","v":0},{"$f":"IF(truncate!AR3:FO11 < 0, 0, IF(truncate!AR3:FO11 > 255, 255, truncate!AR3:FO11))","v":0},{"$f":"IF(truncate!AS3:FP11 < 0, 0, IF(truncate!AS3:FP11 > 255, 255, truncate!AS3:FP11))","v":0},{"$f":"IF(truncate!AT3:FQ11 < 0, 0, IF(truncate!AT3:FQ11 > 255, 255, truncate!AT3:FQ11))","v":21},{"$f":"IF(truncate!AU3:FR11 < 0, 0, IF(truncate!AU3:FR11 > 255, 255, truncate!AU3:FR11))","v":0},{"$f":"IF(truncate!AV3:FS11 < 0, 0, IF(truncate!AV3:FS11 > 255, 255, truncate!AV3:FS11))","v":0},{"$f":"IF(truncate!AW3:FT11 < 0, 0, IF(truncate!AW3:FT11 > 255, 255, truncate!AW3:FT11))","v":0},{"$f":"IF(truncate!AX3:FU11 < 0, 0, IF(truncate!AX3:FU11 > 255, 255, truncate!AX3:FU11))","v":9},{"$f":"IF(truncate!AY3:FV11 < 0, 0, IF(truncate!AY3:FV11 > 255, 255, truncate!AY3:FV11))","v":35},{"$f":"IF(truncate!AZ3:FW11 < 0, 0, IF(truncate!AZ3:FW11 > 255, 255, truncate!AZ3:FW11))","v":11},{"$f":"IF(truncate!BA3:FX11 < 0, 0, IF(truncate!BA3:FX11 > 255, 255, truncate!BA3:FX11))","v":48},{"$f":"IF(truncate!BB3:FY11 < 0, 0, IF(truncate!BB3:FY11 > 255, 255, truncate!BB3:FY11))","v":53},{"$f":"IF(truncate!BC3:FZ11 < 0, 0, IF(truncate!BC3:FZ11 > 255, 255, truncate!BC3:FZ11))","v":0},{"$f":"IF(truncate!BD3:GA11 < 0, 0, IF(truncate!BD3:GA11 > 255, 255, truncate!BD3:GA11))","v":0},{"$f":"IF(truncate!BE3:GB11 < 0, 0, IF(truncate!BE3:GB11 > 255, 255, truncate!BE3:GB11))","v":28},{"$f":"IF(truncate!BF3:GC11 < 0, 0, IF(truncate!BF3:GC11 > 255, 255, truncate!BF3:GC11))","v":8},{"$f":"IF(truncate!BG3:GD11 < 0, 0, IF(truncate!BG3:GD11 > 255, 255, truncate!BG3:GD11))","v":17},{"$f":"IF(truncate!BH3:GE11 < 0, 0, IF(truncate!BH3:GE11 > 255, 255, truncate!BH3:GE11))","v":4},{"$f":"IF(truncate!BI3:GF11 < 0, 0, IF(truncate!BI3:GF11 > 255, 255, truncate!BI3:GF11))","v":44},{"$f":"IF(truncate!BJ3:GG11 < 0, 0, IF(truncate!BJ3:GG11 > 255, 255, truncate!BJ3:GG11))","v":19},{"$f":"IF(truncate!BK3:GH11 < 0, 0, IF(truncate!BK3:GH11 > 255, 255, truncate!BK3:GH11))","v":0},{"$f":"IF(truncate!BL3:GI11 < 0, 0, IF(truncate!BL3:GI11 > 255, 255, truncate!BL3:GI11))","v":0},{"$f":"IF(truncate!BM3:GJ11 < 0, 0, IF(truncate!BM3:GJ11 > 255, 255, truncate!BM3:GJ11))","v":7},{"$f":"IF(truncate!BN3:GK11 < 0, 0, IF(truncate!BN3:GK11 > 255, 255, truncate!BN3:GK11))","v":8},{"$f":"IF(truncate!BO3:GL11 < 0, 0, IF(truncate!BO3:GL11 > 255, 255, truncate!BO3:GL11))","v":0},{"$f":"IF(truncate!BP3:GM11 < 0, 0, IF(truncate!BP3:GM11 > 255, 255, truncate!BP3:GM11))","v":0},{"$f":"IF(truncate!BQ3:GN11 < 0, 0, IF(truncate!BQ3:GN11 > 255, 255, truncate!BQ3:GN11))","v":0},{"$f":"IF(truncate!BR3:GO11 < 0, 0, IF(truncate!BR3:GO11 > 255, 255, truncate!BR3:GO11))","v":0},{"$f":"IF(truncate!BS3:GP11 < 0, 0, IF(truncate!BS3:GP11 > 255, 255, truncate!BS3:GP11))","v":0},{"$f":"IF(truncate!BT3:GQ11 < 0, 0, IF(truncate!BT3:GQ11 > 255, 255, truncate!BT3:GQ11))","v":0},{"$f":"IF(truncate!BU3:GR11 < 0, 0, IF(truncate!BU3:GR11 > 255, 255, truncate!BU3:GR11))","v":0},{"$f":"IF(truncate!BV3:GS11 < 0, 0, IF(truncate!BV3:GS11 > 255, 255, truncate!BV3:GS11))","v":27},{"$f":"IF(truncate!BW3:GT11 < 0, 0, IF(truncate!BW3:GT11 > 255, 255, truncate!BW3:GT11))","v":13},{"$f":"IF(truncate!BX3:GU11 < 0, 0, IF(truncate!BX3:GU11 > 255, 255, truncate!BX3:GU11))","v":37},{"$f":"IF(truncate!BY3:GV11 < 0, 0, IF(truncate!BY3:GV11 > 255, 255, truncate!BY3:GV11))","v":11},{"$f":"IF(truncate!BZ3:GW11 < 0, 0, IF(truncate!BZ3:GW11 > 255, 255, truncate!BZ3:GW11))","v":11},{"$f":"IF(truncate!CA3:GX11 < 0, 0, IF(truncate!CA3:GX11 > 255, 255, truncate!CA3:GX11))","v":0},{"$f":"IF(truncate!CB3:GY11 < 0, 0, IF(truncate!CB3:GY11 > 255, 255, truncate!CB3:GY11))","v":13},{"$f":"IF(truncate!CC3:GZ11 < 0, 0, IF(truncate!CC3:GZ11 > 255, 255, truncate!CC3:GZ11))","v":30},{"$f":"IF(truncate!CD3:HA11 < 0, 0, IF(truncate!CD3:HA11 > 255, 255, truncate!CD3:HA11))","v":39},{"$f":"IF(truncate!CE3:HB11 < 0, 0, IF(truncate!CE3:HB11 > 255, 255, truncate!CE3:HB11))","v":0},{"$f":"IF(truncate!CF3:HC11 < 0, 0, IF(truncate!CF3:HC11 > 255, 255, truncate!CF3:HC11))","v":18},{"$f":"IF(truncate!CG3:HD11 < 0, 0, IF(truncate!CG3:HD11 > 255, 255, truncate!CG3:HD11))","v":12},{"$f":"IF(truncate!CH3:HE11 < 0, 0, IF(truncate!CH3:HE11 > 255, 255, truncate!CH3:HE11))","v":0},{"$f":"IF(truncate!CI3:HF11 < 0, 0, IF(truncate!CI3:HF11 > 255, 255, truncate!CI3:HF11))","v":55},{"$f":"IF(truncate!CJ3:HG11 < 0, 0, IF(truncate!CJ3:HG11 > 255, 255, truncate!CJ3:HG11))","v":5},{"$f":"IF(truncate!CK3:HH11 < 0, 0, IF(truncate!CK3:HH11 > 255, 255, truncate!CK3:HH11))","v":31},{"$f":"IF(truncate!CL3:HI11 < 0, 0, IF(truncate!CL3:HI11 > 255, 255, truncate!CL3:HI11))","v":22},{"$f":"IF(truncate!CM3:HJ11 < 0, 0, IF(truncate!CM3:HJ11 > 255, 255, truncate!CM3:HJ11))","v":0},{"$f":"IF(truncate!CN3:HK11 < 0, 0, IF(truncate!CN3:HK11 > 255, 255, truncate!CN3:HK11))","v":7},{"$f":"IF(truncate!CO3:HL11 < 0, 0, IF(truncate!CO3:HL11 > 255, 255, truncate!CO3:HL11))","v":6},{"$f":"IF(truncate!CP3:HM11 < 0, 0, IF(truncate!CP3:HM11 > 255, 255, truncate!CP3:HM11))","v":12},{"$f":"IF(truncate!CQ3:HN11 < 0, 0, IF(truncate!CQ3:HN11 > 255, 255, truncate!CQ3:HN11))","v":0},{"$f":"IF(truncate!CR3:HO11 < 0, 0, IF(truncate!CR3:HO11 > 255, 255, truncate!CR3:HO11))","v":38},{"$f":"IF(truncate!CS3:HP11 < 0, 0, IF(truncate!CS3:HP11 > 255, 255, truncate!CS3:HP11))","v":38},{"$f":"IF(truncate!CT3:HQ11 < 0, 0, IF(truncate!CT3:HQ11 > 255, 255, truncate!CT3:HQ11))","v":67},{"$f":"IF(truncate!CU3:HR11 < 0, 0, IF(truncate!CU3:HR11 > 255, 255, truncate!CU3:HR11))","v":0},{"$f":"IF(truncate!CV3:HS11 < 0, 0, IF(truncate!CV3:HS11 > 255, 255, truncate!CV3:HS11))","v":8},{"$f":"IF(truncate!CW3:HT11 < 0, 0, IF(truncate!CW3:HT11 > 255, 255, truncate!CW3:HT11))","v":0},{"$f":"IF(truncate!CX3:HU11 < 0, 0, IF(truncate!CX3:HU11 > 255, 255, truncate!CX3:HU11))","v":16},{"$f":"IF(truncate!CY3:HV11 < 0, 0, IF(truncate!CY3:HV11 > 255, 255, truncate!CY3:HV11))","v":0},{"$f":"IF(truncate!CZ3:HW11 < 0, 0, IF(truncate!CZ3:HW11 > 255, 255, truncate!CZ3:HW11))","v":0},{"$f":"IF(truncate!DA3:HX11 < 0, 0, IF(truncate!DA3:HX11 > 255, 255, truncate!DA3:HX11))","v":3},{"$f":"IF(truncate!DB3:HY11 < 0, 0, IF(truncate!DB3:HY11 > 255, 255, truncate!DB3:HY11))","v":66},{"$f":"IF(truncate!DC3:HZ11 < 0, 0, IF(truncate!DC3:HZ11 > 255, 255, truncate!DC3:HZ11))","v":31},{"$f":"IF(truncate!DD3:IA11 < 0, 0, IF(truncate!DD3:IA11 > 255, 255, truncate!DD3:IA11))","v":0},{"$f":"IF(truncate!DE3:IB11 < 0, 0, IF(truncate!DE3:IB11 > 255, 255, truncate!DE3:IB11))","v":30},{"$f":"IF(truncate!DF3:IC11 < 0, 0, IF(truncate!DF3:IC11 > 255, 255, truncate!DF3:IC11))","v":0},{"$f":"IF(truncate!DG3:ID11 < 0, 0, IF(truncate!DG3:ID11 > 255, 255, truncate!DG3:ID11))","v":9},{"$f":"IF(truncate!DH3:IE11 < 0, 0, IF(truncate!DH3:IE11 > 255, 255, truncate!DH3:IE11))","v":12},{"$f":"IF(truncate!DI3:IF11 < 0, 0, IF(truncate!DI3:IF11 > 255, 255, truncate!DI3:IF11))","v":8},{"$f":"IF(truncate!DJ3:IG11 < 0, 0, IF(truncate!DJ3:IG11 > 255, 255, truncate!DJ3:IG11))","v":0},{"$f":"IF(truncate!DK3:IH11 < 0, 0, IF(truncate!DK3:IH11 > 255, 255, truncate!DK3:IH11))","v":5},{"$f":"IF(truncate!DL3:II11 < 0, 0, IF(truncate!DL3:II11 > 255, 255, truncate!DL3:II11))","v":1},{"$f":"IF(truncate!DM3:IJ11 < 0, 0, IF(truncate!DM3:IJ11 > 255, 255, truncate!DM3:IJ11))","v":2},{"$f":"IF(truncate!DN3:IK11 < 0, 0, IF(truncate!DN3:IK11 > 255, 255, truncate!DN3:IK11))","v":6},{"$f":"IF(truncate!DO3:IL11 < 0, 0, IF(truncate!DO3:IL11 > 255, 255, truncate!DO3:IL11))","v":8},{"$f":"IF(truncate!DP3:IM11 < 0, 0, IF(truncate!DP3:IM11 > 255, 255, truncate!DP3:IM11))","v":6},{"$f":"IF(truncate!DQ3:IN11 < 0, 0, IF(truncate!DQ3:IN11 > 255, 255, truncate!DQ3:IN11))","v":6},{"$f":"IF(truncate!DR3:IO11 < 0, 0, IF(truncate!DR3:IO11 > 255, 255, truncate!DR3:IO11))","v":0},{"$f":"IF(truncate!DS3:IP11 < 0, 0, IF(truncate!DS3:IP11 > 255, 255, truncate!DS3:IP11))","v":49},{"$f":"IF(truncate!DT3:IQ11 < 0, 0, IF(truncate!DT3:IQ11 > 255, 255, truncate!DT3:IQ11))","v":0},{"$f":"IF(truncate!DU3:IR11 < 0, 0, IF(truncate!DU3:IR11 > 255, 255, truncate!DU3:IR11))","v":20},{"$f":"IF(truncate!DV3:IS11 < 0, 0, IF(truncate!DV3:IS11 > 255, 255, truncate!DV3:IS11))","v":16},{"$f":"IF(truncate!DW3:IT11 < 0, 0, IF(truncate!DW3:IT11 > 255, 255, truncate!DW3:IT11))","v":0},{"$f":"IF(truncate!DX3:IU11 < 0, 0, IF(truncate!DX3:IU11 > 255, 255, truncate!DX3:IU11))","v":9}]
[{"$f":"IF(truncate!A4:DX12 < 0, 0, IF(truncate!A4:DX12 > 255, 255, truncate!A4:DX12))","v":0},{"$f":"IF(truncate!B4:DY12 < 0, 0, IF(truncate!B4:DY12 > 255, 255, truncate!B4:DY12))","v":0},{"$f":"IF(truncate!C4:DZ12 < 0, 0, IF(truncate!C4:DZ12 > 255, 255, truncate!C4:DZ12))","v":0},{"$f":"IF(truncate!D4:EA12 < 0, 0, IF(truncate!D4:EA12 > 255, 255, truncate!D4:EA12))","v":13},{"$f":"IF(truncate!E4:EB12 < 0, 0, IF(truncate!E4:EB12 > 255, 255, truncate!E4:EB12))","v":37},{"$f":"IF(truncate!F4:EC12 < 0, 0, IF(truncate!F4:EC12 > 255, 255, truncate!F4:EC12))","v":23},{"$f":"IF(truncate!G4:ED12 < 0, 0, IF(truncate!G4:ED12 > 255, 255, truncate!G4:ED12))","v":65},{"$f":"IF(truncate!H4:EE12 < 0, 0, IF(truncate!H4:EE12 > 255, 255, truncate!H4:EE12))","v":22},{"$f":"IF(truncate!I4:EF12 < 0, 0, IF(truncate!I4:EF12 > 255, 255, truncate!I4:EF12))","v":3},{"$f":"IF(truncate!J4:EG12 < 0, 0, IF(truncate!J4:EG12 > 255, 255, truncate!J4:EG12))","v":0},{"$f":"IF(truncate!K4:EH12 < 0, 0, IF(truncate!K4:EH12 > 255, 255, truncate!K4:EH12))","v":14},{"$f":"IF(truncate!L4:EI12 < 0, 0, IF(truncate!L4:EI12 > 255, 255, truncate!L4:EI12))","v":4},{"$f":"IF(truncate!M4:EJ12 < 0, 0, IF(truncate!M4:EJ12 > 255, 255, truncate!M4:EJ12))","v":11},{"$f":"IF(truncate!N4:EK12 < 0, 0, IF(truncate!N4:EK12 > 255, 255, truncate!N4:EK12))","v":35},{"$f":"IF(truncate!O4:EL12 < 0, 0, IF(truncate!O4:EL12 > 255, 255, truncate!O4:EL12))","v":0},{"$f":"IF(truncate!P4:EM12 < 0, 0, IF(truncate!P4:EM12 > 255, 255, truncate!P4:EM12))","v":0},{"$f":"IF(truncate!Q4:EN12 < 0, 0, IF(truncate!Q4:EN12 > 255, 255, truncate!Q4:EN12))","v":17},{"$f":"IF(truncate!R4:EO12 < 0, 0, IF(truncate!R4:EO12 > 255, 255, truncate!R4:EO12))","v":11},{"$f":"IF(truncate!S4:EP12 < 0, 0, IF(truncate!S4:EP12 > 255, 255, truncate!S4:EP12))","v":0},{"$f":"IF(truncate!T4:EQ12 < 0, 0, IF(truncate!T4:EQ12 > 255, 255, truncate!T4:EQ12))","v":33},{"$f":"IF(truncate!U4:ER12 < 0, 0, IF(truncate!U4:ER12 > 255, 255, truncate!U4:ER12))","v":24},{"$f":"IF(truncate!V4:ES12 < 0, 0, IF(truncate!V4:ES12 > 255, 255, truncate!V4:ES12))","v":0},{"$f":"IF(truncate!W4:ET12 < 0, 0, IF(truncate!W4:ET12 > 255, 255, truncate!W4:ET12))","v":8},{"$f":"IF(truncate!X4:EU12 < 0, 0, IF(truncate!X4:EU12 > 255, 255, truncate!X4:EU12))","v":0},{"$f":"IF(truncate!Y4:EV12 < 0, 0, IF(truncate!Y4:EV12 > 255, 255, truncate!Y4:EV12))","v":27},{"$f":"IF(truncate!Z4:EW12 < 0, 0, IF(truncate!Z4:EW12 > 255, 255, truncate!Z4:EW12))","v":12},{"$f":"IF(truncate!AA4:EX12 < 0, 0, IF(truncate!AA4:EX12 > 255, 255, truncate!AA4:EX12))","v":2},{"$f":"IF(truncate!AB4:EY12 < 0, 0, IF(truncate!AB4:EY12 > 255, 255, truncate!AB4:EY12))","v":26},{"$f":"IF(truncate!AC4:EZ12 < 0, 0, IF(truncate!AC4:EZ12 > 255, 255, truncate!AC4:EZ12))","v":8},{"$f":"IF(truncate!AD4:FA12 < 0, 0, IF(truncate!AD4:FA12 > 255, 255, truncate!AD4:FA12))","v":0},{"$f":"IF(truncate!AE4:FB12 < 0, 0, IF(truncate!AE4:FB12 > 255, 255, truncate!AE4:FB12))","v":0},{"$f":"IF(truncate!AF4:FC12 < 0, 0, IF(truncate!AF4:FC12 > 255, 255, truncate!AF4:FC12))","v":2},{"$f":"IF(truncate!AG4:FD12 < 0, 0, IF(truncate!AG4:FD12 > 255, 255, truncate!AG4:FD12))","v":0},{"$f":"IF(truncate!AH4:FE12 < 0, 0, IF(truncate!AH4:FE12 > 255, 255, truncate!AH4:FE12))","v":24},{"$f":"IF(truncate!AI4:FF12 < 0, 0, IF(truncate!AI4:FF12 > 255, 255, truncate!AI4:FF12))","v":17},{"$f":"IF(truncate!AJ4:FG12 < 0, 0, IF(truncate!AJ4:FG12 > 255, 255, truncate!AJ4:FG12))","v":26},{"$f":"IF(truncate!AK4:FH12 < 0, 0, IF(truncate!AK4:FH12 > 255, 255, truncate!AK4:FH12))","v":0},{"$f":"IF(truncate!AL4:FI12 < 0, 0, IF(truncate!AL4:FI12 > 255, 255, truncate!AL4:FI12))","v":0},{"$f":"IF(truncate!AM4:FJ12 < 0, 0, IF(truncate!AM4:FJ12 > 255, 255, truncate!AM4:FJ12))","v":10},{"$f":"IF(truncate!AN4:FK12 < 0, 0, IF(truncate!AN4:FK12 > 255, 255, truncate!AN4:FK12))","v":14},{"$f":"IF(truncate!AO4:FL12 < 0, 0, IF(truncate!AO4:FL12 > 255, 255, truncate!AO4:FL12))","v":28},{"$f":"IF(truncate!AP4:FM12 < 0, 0, IF(truncate!AP4:FM12 > 255, 255, truncate!AP4:FM12))","v":20},{"$f":"IF(truncate!AQ4:FN12 < 0, 0, IF(truncate!AQ4:FN12 > 255, 255, truncate!AQ4:FN12))","v":6},{"$f":"IF(truncate!AR4:FO12 < 0, 0, IF(truncate!AR4:FO12 > 255, 255, truncate!AR4:FO12))","v":0},{"$f":"IF(truncate!AS4:FP12 < 0, 0, IF(truncate!AS4:FP12 > 255, 255, truncate!AS4:FP12))","v":0},{"$f":"IF(truncate!AT4:FQ12 < 0, 0, IF(truncate!AT4:FQ12 > 255, 255, truncate!AT4:FQ12))","v":16},{"$f":"IF(truncate!AU4:FR12 < 0, 0, IF(truncate!AU4:FR12 > 255, 255, truncate!AU4:FR12))","v":11},{"$f":"IF(truncate!AV4:FS12 < 0, 0, IF(truncate!AV4:FS12 > 255, 255, truncate!AV4:FS12))","v":0},{"$f":"IF(truncate!AW4:FT12 < 0, 0, IF(truncate!AW4:FT12 > 255, 255, truncate!AW4:FT12))","v":0},{"$f":"IF(truncate!AX4:FU12 < 0, 0, IF(truncate!AX4:FU12 > 255, 255, truncate!AX4:FU12))","v":0},{"$f":"IF(truncate!AY4:FV12 < 0, 0, IF(truncate!AY4:FV12 > 255, 255, truncate!AY4:FV12))","v":30},{"$f":"IF(truncate!AZ4:FW12 < 0, 0, IF(truncate!AZ4:FW12 > 255, 255, truncate!AZ4:FW12))","v":10},{"$f":"IF(truncate!BA4:FX12 < 0, 0, IF(truncate!BA4:FX12 > 255, 255, truncate!BA4:FX12))","v":39},{"$f":"IF(truncate!BB4:FY12 < 0, 0, IF(truncate!BB4:FY12 > 255, 255, truncate!BB4:FY12))","v":51},{"$f":"IF(truncate!BC4:FZ12 < 0, 0, IF(truncate!BC4:FZ12 > 255, 255, truncate!BC4:FZ12))","v":0},{"$f":"IF(truncate!BD4:GA12 < 0, 0, IF(truncate!BD4:GA12 > 255, 255, truncate!BD4:GA12))","v":8},{"$f":"IF(truncate!BE4:GB12 < 0, 0, IF(truncate!BE4:GB12 > 255, 255, truncate!BE4:GB12))","v":24},{"$f":"IF(truncate!BF4:GC12 < 0, 0, IF(truncate!BF4:GC12 > 255, 255, truncate!BF4:GC12))","v":10},{"$f":"IF(truncate!BG4:GD12 < 0, 0, IF(truncate!BG4:GD12 > 255, 255, truncate!BG4:GD12))","v":0},{"$f":"IF(truncate!BH4:GE12 < 0, 0, IF(truncate!BH4:GE12 > 255, 255, truncate!BH4:GE12))","v":10},{"$f":"IF(truncate!BI4:GF12 < 0, 0, IF(truncate!BI4:GF12 > 255, 255, truncate!BI4:GF12))","v":31},{"$f":"IF(truncate!BJ4:GG12 < 0, 0, IF(truncate!BJ4:GG12 > 255, 255, truncate!BJ4:GG12))","v":33},{"$f":"IF(truncate!BK4:GH12 < 0, 0, IF(truncate!BK4:GH12 > 255, 255, truncate!BK4:GH12))","v":0},{"$f":"IF(truncate!BL4:GI12 < 0, 0, IF(truncate!BL4:GI12 > 255, 255, truncate!BL4:GI12))","v":0},{"$f":"IF(truncate!BM4:GJ12 < 0, 0, IF(truncate!BM4:GJ12 > 255, 255, truncate!BM4:GJ12))","v":2},{"$f":"IF(truncate!BN4:GK12 < 0, 0, IF(truncate!BN4:GK12 > 255, 255, truncate!BN4:GK12))","v":9},{"$f":"IF(truncate!BO4:GL12 < 0, 0, IF(truncate!BO4:GL12 > 255, 255, truncate!BO4:GL12))","v":0},{"$f":"IF(truncate!BP4:GM12 < 0, 0, IF(truncate!BP4:GM12 > 255, 255, truncate!BP4:GM12))","v":0},{"$f":"IF(truncate!BQ4:GN12 < 0, 0, IF(truncate!BQ4:GN12 > 255, 255, truncate!BQ4:GN12))","v":5},{"$f":"IF(truncate!BR4:GO12 < 0, 0, IF(truncate!BR4:GO12 > 255, 255, truncate!BR4:GO12))","v":0},{"$f":"IF(truncate!BS4:GP12 < 0, 0, IF(truncate!BS4:GP12 > 255, 255, truncate!BS4:GP12))","v":7},{"$f":"IF(truncate!BT4:GQ12 < 0, 0, IF(truncate!BT4:GQ12 > 255, 255, truncate!BT4:GQ12))","v":5},{"$f":"IF(truncate!BU4:GR12 < 0, 0, IF(truncate!BU4:GR12 > 255, 255, truncate!BU4:GR12))","v":0},{"$f":"IF(truncate!BV4:GS12 < 0, 0, IF(truncate!BV4:GS12 > 255, 255, truncate!BV4:GS12))","v":7},{"$f":"IF(truncate!BW4:GT12 < 0, 0, IF(truncate!BW4:GT12 > 255, 255, truncate!BW4:GT12))","v":11},{"$f":"IF(truncate!BX4:GU12 < 0, 0, IF(truncate!BX4:GU12 > 255, 255, truncate!BX4:GU12))","v":46},{"$f":"IF(truncate!BY4:GV12 < 0, 0, IF(truncate!BY4:GV12 > 255, 255, truncate!BY4:GV12))","v":7},{"$f":"IF(truncate!BZ4:GW12 < 0, 0, IF(truncate!BZ4:GW12 > 255, 255, truncate!BZ4:GW12))","v":17},{"$f":"IF(truncate!CA4:GX12 < 0, 0, IF(truncate!CA4:GX12 > 255, 255, truncate!CA4:GX12))","v":0},{"$f":"IF(truncate!CB4:GY12 < 0, 0, IF(truncate!CB4:GY12 > 255, 255, truncate!CB4:GY12))","v":14},{"$f":"IF(truncate!CC4:GZ12 < 0, 0, IF(truncate!CC4:GZ12 > 255, 255, truncate!CC4:GZ12))","v":30},{"$f":"IF(truncate!CD4:HA12 < 0, 0, IF(truncate!CD4:HA12 > 255, 255, truncate!CD4:HA12))","v":37},{"$f":"IF(truncate!CE4:HB12 < 0, 0, IF(truncate!CE4:HB12 > 255, 255, truncate!CE4:HB12))","v":0},{"$f":"IF(truncate!CF4:HC12 < 0, 0, IF(truncate!CF4:HC12 > 255, 255, truncate!CF4:HC12))","v":15},{"$f":"IF(truncate!CG4:HD12 < 0, 0, IF(truncate!CG4:HD12 > 255, 255, truncate!CG4:HD12))","v":9},{"$f":"IF(truncate!CH4:HE12 < 0, 0, IF(truncate!CH4:HE12 > 255, 255, truncate!CH4:HE12))","v":0},{"$f":"IF(truncate!CI4:HF12 < 0, 0, IF(truncate!CI4:HF12 > 255, 255, truncate!CI4:HF12))","v":34},{"$f":"IF(truncate!CJ4:HG12 < 0, 0, IF(truncate!CJ4:HG12 > 255, 255, truncate!CJ4:HG12))","v":6},{"$f":"IF(truncate!CK4:HH12 < 0, 0, IF(truncate!CK4:HH12 > 255, 255, truncate!CK4:HH12))","v":40},{"$f":"IF(truncate!CL4:HI12 < 0, 0, IF(truncate!CL4:HI12 > 255, 255, truncate!CL4:HI12))","v":18},{"$f":"IF(truncate!CM4:HJ12 < 0, 0, IF(truncate!CM4:HJ12 > 255, 255, truncate!CM4:HJ12))","v":0},{"$f":"IF(truncate!CN4:HK12 < 0, 0, IF(truncate!CN4:HK12 > 255, 255, truncate!CN4:HK12))","v":0},{"$f":"IF(truncate!CO4:HL12 < 0, 0, IF(truncate!CO4:HL12 > 255, 255, truncate!CO4:HL12))","v":0},{"$f":"IF(truncate!CP4:HM12 < 0, 0, IF(truncate!CP4:HM12 > 255, 255, truncate!CP4:HM12))","v":3},{"$f":"IF(truncate!CQ4:HN12 < 0, 0, IF(truncate!CQ4:HN12 > 255, 255, truncate!CQ4:HN12))","v":0},{"$f":"IF(truncate!CR4:HO12 < 0, 0, IF(truncate!CR4:HO12 > 255, 255, truncate!CR4:HO12))","v":24},{"$f":"IF(truncate!CS4:HP12 < 0, 0, IF(truncate!CS4:HP12 > 255, 255, truncate!CS4:HP12))","v":47},{"$f":"IF(truncate!CT4:HQ12 < 0, 0, IF(truncate!CT4:HQ12 > 255, 255, truncate!CT4:HQ12))","v":43},{"$f":"IF(truncate!CU4:HR12 < 0, 0, IF(truncate!CU4:HR12 > 255, 255, truncate!CU4:HR12))","v":0},{"$f":"IF(truncate!CV4:HS12 < 0, 0, IF(truncate!CV4:HS12 > 255, 255, truncate!CV4:HS12))","v":1},{"$f":"IF(truncate!CW4:HT12 < 0, 0, IF(truncate!CW4:HT12 > 255, 255, truncate!CW4:HT12))","v":0},{"$f":"IF(truncate!CX4:HU12 < 0, 0, IF(truncate!CX4:HU12 > 255, 255, truncate!CX4:HU12))","v":10},{"$f":"IF(truncate!CY4:HV12 < 0, 0, IF(truncate!CY4:HV12 > 255, 255, truncate!CY4:HV12))","v":0},{"$f":"IF(truncate!CZ4:HW12 < 0, 0, IF(truncate!CZ4:HW12 > 255, 255, truncate!CZ4:HW12))","v":0},{"$f":"IF(truncate!DA4:HX12 < 0, 0, IF(truncate!DA4:HX12 > 255, 255, truncate!DA4:HX12))","v":17},{"$f":"IF(truncate!DB4:HY12 < 0, 0, IF(truncate!DB4:HY12 > 255, 255, truncate!DB4:HY12))","v":34},{"$f":"IF(truncate!DC4:HZ12 < 0, 0, IF(truncate!DC4:HZ12 > 255, 255, truncate!DC4:HZ12))","v":13},{"$f":"IF(truncate!DD4:IA12 < 0, 0, IF(truncate!DD4:IA12 > 255, 255, truncate!DD4:IA12))","v":0},{"$f":"IF(truncate!DE4:IB12 < 0, 0, IF(truncate!DE4:IB12 > 255, 255, truncate!DE4:IB12))","v":12},{"$f":"IF(truncate!DF4:IC12 < 0, 0, IF(truncate!DF4:IC12 > 255, 255, truncate!DF4:IC12))","v":0},{"$f":"IF(truncate!DG4:ID12 < 0, 0, IF(truncate!DG4:ID12 > 255, 255, truncate!DG4:ID12))","v":20},{"$f":"IF(truncate!DH4:IE12 < 0, 0, IF(truncate!DH4:IE12 > 255, 255, truncate!DH4:IE12))","v":14},{"$f":"IF(truncate!DI4:IF12 < 0, 0, IF(truncate!DI4:IF12 > 255, 255, truncate!DI4:IF12))","v":11},{"$f":"IF(truncate!DJ4:IG12 < 0, 0, IF(truncate!DJ4:IG12 > 255, 255, truncate!DJ4:IG12))","v":0},{"$f":"IF(truncate!DK4:IH12 < 0, 0, IF(truncate!DK4:IH12 > 255, 255, truncate!DK4:IH12))","v":0},{"$f":"IF(truncate!DL4:II12 < 0, 0, IF(truncate!DL4:II12 > 255, 255, truncate!DL4:II12))","v":0},{"$f":"IF(truncate!DM4:IJ12 < 0, 0, IF(truncate!DM4:IJ12 > 255, 255, truncate!DM4:IJ12))","v":9},{"$f":"IF(truncate!DN4:IK12 < 0, 0, IF(truncate!DN4:IK12 > 255, 255, truncate!DN4:IK12))","v":0},{"$f":"IF(truncate!DO4:IL12 < 0, 0, IF(truncate!DO4:IL12 > 255, 255, truncate!DO4:IL12))","v":0},{"$f":"IF(truncate!DP4:IM12 < 0, 0, IF(truncate!DP4:IM12 > 255, 255, truncate!DP4:IM12))","v":0},{"$f":"IF(truncate!DQ4:IN12 < 0, 0, IF(truncate!DQ4:IN12 > 255, 255, truncate!DQ4:IN12))","v":8},{"$f":"IF(truncate!DR4:IO12 < 0, 0, IF(truncate!DR4:IO12 > 255, 255, truncate!DR4:IO12))","v":0},{"$f":"IF(truncate!DS4:IP12 < 0, 0, IF(truncate!DS4:IP12 > 255, 255, truncate!DS4:IP12))","v":29},{"$f":"IF(truncate!DT4:IQ12 < 0, 0, IF(truncate!DT4:IQ12 > 255, 255, truncate!DT4:IQ12))","v":4},{"$f":"IF(truncate!DU4:IR12 < 0, 0, IF(truncate!DU4:IR12 > 255, 255, truncate!DU4:IR12))","v":15},{"$f":"IF(truncate!DV4:IS12 < 0, 0, IF(truncate!DV4:IS12 > 255, 255, truncate!DV4:IS12))","v":22},{"$f":"IF(truncate!DW4:IT12 < 0, 0, IF(truncate!DW4:IT12 > 255, 255, truncate!DW4:IT12))","v":1},{"$f":"IF(truncate!DX4:IU12 < 0, 0, IF(truncate!DX4:IU12 > 255, 255, truncate!DX4:IU12))","v":9}]
[{"$f":"IF(truncate!A5:DX13 < 0, 0, IF(truncate!A5:DX13 > 255, 255, truncate!A5:DX13))","v":0},{"$f":"IF(truncate!B5:DY13 < 0, 0, IF(truncate!B5:DY13 > 255, 255, truncate!B5:DY13))","v":1},{"$f":"IF(truncate!C5:DZ13 < 0, 0, IF(truncate!C5:DZ13 > 255, 255, truncate!C5:DZ13))","v":0},{"$f":"IF(truncate!D5:EA13 < 0, 0, IF(truncate!D5:EA13 > 255, 255, truncate!D5:EA13))","v":10},{"$f":"IF(truncate!E5:EB13 < 0, 0, IF(truncate!E5:EB13 > 255, 255, truncate!E5:EB13))","v":39},{"$f":"IF(truncate!F5:EC13 < 0, 0, IF(truncate!F5:EC13 > 255, 255, truncate!F5:EC13))","v":25},{"$f":"IF(truncate!G5:ED13 < 0, 0, IF(truncate!G5:ED13 > 255, 255, truncate!G5:ED13))","v":56},{"$f":"IF(truncate!H5:EE13 < 0, 0, IF(truncate!H5:EE13 > 255, 255, truncate!H5:EE13))","v":26},{"$f":"IF(truncate!I5:EF13 < 0, 0, IF(truncate!I5:EF13 > 255, 255, truncate!I5:EF13))","v":8},{"$f":"IF(truncate!J5:EG13 < 0, 0, IF(truncate!J5:EG13 > 255, 255, truncate!J5:EG13))","v":0},{"$f":"IF(truncate!K5:EH13 < 0, 0, IF(truncate!K5:EH13 > 255, 255, truncate!K5:EH13))","v":17},{"$f":"IF(truncate!L5:EI13 < 0, 0, IF(truncate!L5:EI13 > 255, 255, truncate!L5:EI13))","v":12},{"$f":"IF(truncate!M5:EJ13 < 0, 0, IF(truncate!M5:EJ13 > 255, 255, truncate!M5:EJ13))","v":27},{"$f":"IF(truncate!N5:EK13 < 0, 0, IF(truncate!N5:EK13 > 255, 255, truncate!N5:EK13))","v":44},{"$f":"IF(truncate!O5:EL13 < 0, 0, IF(truncate!O5:EL13 > 255, 255, truncate!O5:EL13))","v":0},{"$f":"IF(truncate!P5:EM13 < 0, 0, IF(truncate!P5:EM13 > 255, 255, truncate!P5:EM13))","v":7},{"$f":"IF(truncate!Q5:EN13 < 0, 0, IF(truncate!Q5:EN13 > 255, 255, truncate!Q5:EN13))","v":19},{"$f":"IF(truncate!R5:EO13 < 0, 0, IF(truncate!R5:EO13 > 255, 255, truncate!R5:EO13))","v":30},{"$f":"IF(truncate!S5:EP13 < 0, 0, IF(truncate!S5:EP13 > 255, 255, truncate!S5:EP13))","v":0},{"$f":"IF(truncate!T5:EQ13 < 0, 0, IF(truncate!T5:EQ13 > 255, 255, truncate!T5:EQ13))","v":29},{"$f":"IF(truncate!U5:ER13 < 0, 0, IF(truncate!U5:ER13 > 255, 255, truncate!U5:ER13))","v":25},{"$f":"IF(truncate!V5:ES13 < 0, 0, IF(truncate!V5:ES13 > 255, 255, truncate!V5:ES13))","v":0},{"$f":"IF(truncate!W5:ET13 < 0, 0, IF(truncate!W5:ET13 > 255, 255, truncate!W5:ET13))","v":17},{"$f":"IF(truncate!X5:EU13 < 0, 0, IF(truncate!X5:EU13 > 255, 255, truncate!X5:EU13))","v":0},{"$f":"IF(truncate!Y5:EV13 < 0, 0, IF(truncate!Y5:EV13 > 255, 255, truncate!Y5:EV13))","v":21},{"$f":"IF(truncate!Z5:EW13 < 0, 0, IF(truncate!Z5:EW13 > 255, 255, truncate!Z5:EW13))","v":33},{"$f":"IF(truncate!AA5:EX13 < 0, 0, IF(truncate!AA5:EX13 > 255, 255, truncate!AA5:EX13))","v":0},{"$f":"IF(truncate!AB5:EY13 < 0, 0, IF(truncate!AB5:EY13 > 255, 255, truncate!AB5:EY13))","v":35},{"$f":"IF(truncate!AC5:EZ13 < 0, 0, IF(truncate!AC5:EZ13 > 255, 255, truncate!AC5:EZ13))","v":0},{"$f":"IF(truncate!AD5:FA13 < 0, 0, IF(truncate!AD5:FA13 > 255, 255, truncate!AD5:FA13))","v":0},{"$f":"IF(truncate!AE5:FB13 < 0, 0, IF(truncate!AE5:FB13 > 255, 255, truncate!AE5:FB13))","v":1},{"$f":"IF(truncate!AF5:FC13 < 0, 0, IF(truncate!AF5:FC13 > 255, 255, truncate!AF5:FC13))","v":2},{"$f":"IF(truncate!AG5:FD13 < 0, 0, IF(truncate!AG5:FD13 > 255, 255, truncate!AG5:FD13))","v":0},{"$f":"IF(truncate!AH5:FE13 < 0, 0, IF(truncate!AH5:FE13 > 255, 255, truncate!AH5:FE13))","v":26},{"$f":"IF(truncate!AI5:FF13 < 0, 0, IF(truncate!AI5:FF13 > 255, 255, truncate!AI5:FF13))","v":0},{"$f":"IF(truncate!AJ5:FG13 < 0, 0, IF(truncate!AJ5:FG13 > 255, 255, truncate!AJ5:FG13))","v":53},{"$f":"IF(truncate!AK5:FH13 < 0, 0, IF(truncate!AK5:FH13 > 255, 255, truncate!AK5:FH13))","v":5},{"$f":"IF(truncate!AL5:FI13 < 0, 0, IF(truncate!AL5:FI13 > 255, 255, truncate!AL5:FI13))","v":4},{"$f":"IF(truncate!AM5:FJ13 < 0, 0, IF(truncate!AM5:FJ13 > 255, 255, truncate!AM5:FJ13))","v":1},{"$f":"IF(truncate!AN5:FK13 < 0, 0, IF(truncate!AN5:FK13 > 255, 255, truncate!AN5:FK13))","v":17},{"$f":"IF(truncate!AO5:FL13 < 0, 0, IF(truncate!AO5:FL13 > 255, 255, truncate!AO5:FL13))","v":0},{"$f":"IF(truncate!AP5:FM13 < 0, 0, IF(truncate!AP5:FM13 > 255, 255, truncate!AP5:FM13))","v":34},{"$f":"IF(truncate!AQ5:FN13 < 0, 0, IF(truncate!AQ5:FN13 > 255, 255, truncate!AQ5:FN13))","v":19},{"$f":"IF(truncate!AR5:FO13 < 0, 0, IF(truncate!AR5:FO13 > 255, 255, truncate!AR5:FO13))","v":0},{"$f":"IF(truncate!AS5:FP13 < 0, 0, IF(truncate!AS5:FP13 > 255, 255, truncate!AS5:FP13))","v":0},{"$f":"IF(truncate!AT5:FQ13 < 0, 0, IF(truncate!AT5:FQ13 > 255, 255, truncate!AT5:FQ13))","v":13},{"$f":"IF(truncate!AU5:FR13 < 0, 0, IF(truncate!AU5:FR13 > 255, 255, truncate!AU5:FR13))","v":11},{"$f":"IF(truncate!AV5:FS13 < 0, 0, IF(truncate!AV5:FS13 > 255, 255, truncate!AV5:FS13))","v":0},{"$f":"IF(truncate!AW5:FT13 < 0, 0, IF(truncate!AW5:FT13 > 255, 255, truncate!AW5:FT13))","v":1},{"$f":"IF(truncate!AX5:FU13 < 0, 0, IF(truncate!AX5:FU13 > 255, 255, truncate!AX5:FU13))","v":11},{"$f":"IF(truncate!AY5:FV13 < 0, 0, IF(truncate!AY5:FV13 > 255, 255, truncate!AY5:FV13))","v":5},{"$f":"IF(truncate!AZ5:FW13 < 0, 0, IF(truncate!AZ5:FW13 > 255, 255, truncate!AZ5:FW13))","v":48},{"$f":"IF(truncate!BA5:FX13 < 0, 0, IF(truncate!BA5:FX13 > 255, 255, truncate!BA5:FX13))","v":36},{"$f":"IF(truncate!BB5:FY13 < 0, 0, IF(truncate!BB5:FY13 > 255, 255, truncate!BB5:FY13))","v":20},{"$f":"IF(truncate!BC5:FZ13 < 0, 0, IF(truncate!BC5:FZ13 > 255, 255, truncate!BC5:FZ13))","v":0},{"$f":"IF(truncate!BD5:GA13 < 0, 0, IF(truncate!BD5:GA13 > 255, 255, truncate!BD5:GA13))","v":0},{"$f":"IF(truncate!BE5:GB13 < 0, 0, IF(truncate!BE5:GB13 > 255, 255, truncate!BE5:GB13))","v":17},{"$f":"IF(truncate!BF5:GC13 < 0, 0, IF(truncate!BF5:GC13 > 255, 255, truncate!BF5:GC13))","v":28},{"$f":"IF(truncate!BG5:GD13 < 0, 0, IF(truncate!BG5:GD13 > 255, 255, truncate!BG5:GD13))","v":24},{"$f":"IF(truncate!BH5:GE13 < 0, 0, IF(truncate!BH5:GE13 > 255, 255, truncate!BH5:GE13))","v":13},{"$f":"IF(truncate!BI5:GF13 < 0, 0, IF(truncate!BI5:GF13 > 255, 255, truncate!BI5:GF13))","v":10},{"$f":"IF(truncate!BJ5:GG13 < 0, 0, IF(truncate!BJ5:GG13 > 255, 255, truncate!BJ5:GG13))","v":10},{"$f":"IF(truncate!BK5:GH13 < 0, 0, IF(truncate!BK5:GH13 > 255, 255, truncate!BK5:GH13))","v":3},{"$f":"IF(truncate!BL5:GI13 < 0, 0, IF(truncate!BL5:GI13 > 255, 255, truncate!BL5:GI13))","v":0},{"$f":"IF(truncate!BM5:GJ13 < 0, 0, IF(truncate!BM5:GJ13 > 255, 255, truncate!BM5:GJ13))","v":1},{"$f":"IF(truncate!BN5:GK13 < 0, 0, IF(truncate!BN5:GK13 > 255, 255, truncate!BN5:GK13))","v":16},{"$f":"IF(truncate!BO5:GL13 < 0, 0, IF(truncate!BO5:GL13 > 255, 255, truncate!BO5:GL13))","v":0},{"$f":"IF(truncate!BP5:GM13 < 0, 0, IF(truncate!BP5:GM13 > 255, 255, truncate!BP5:GM13))","v":0},{"$f":"IF(truncate!BQ5:GN13 < 0, 0, IF(truncate!BQ5:GN13 > 255, 255, truncate!BQ5:GN13))","v":8},{"$f":"IF(truncate!BR5:GO13 < 0, 0, IF(truncate!BR5:GO13 > 255, 255, truncate!BR5:GO13))","v":23},{"$f":"IF(truncate!BS5:GP13 < 0, 0, IF(truncate!BS5:GP13 > 255, 255, truncate!BS5:GP13))","v":2},{"$f":"IF(truncate!BT5:GQ13 < 0, 0, IF(truncate!BT5:GQ13 > 255, 255, truncate!BT5:GQ13))","v":8},{"$f":"IF(truncate!BU5:GR13 < 0, 0, IF(truncate!BU5:GR13 > 255, 255, truncate!BU5:GR13))","v":0},{"$f":"IF(truncate!BV5:GS13 < 0, 0, IF(truncate!BV5:GS13 > 255, 255, truncate!BV5:GS13))","v":19},{"$f":"IF(truncate!BW5:GT13 < 0, 0, IF(truncate!BW5:GT13 > 255, 255, truncate!BW5:GT13))","v":30},{"$f":"IF(truncate!BX5:GU13 < 0, 0, IF(truncate!BX5:GU13 > 255, 255, truncate!BX5:GU13))","v":31},{"$f":"IF(truncate!BY5:GV13 < 0, 0, IF(truncate!BY5:GV13 > 255, 255, truncate!BY5:GV13))","v":8},{"$f":"IF(truncate!BZ5:GW13 < 0, 0, IF(truncate!BZ5:GW13 > 255, 255, truncate!BZ5:GW13))","v":36},{"$f":"IF(truncate!CA5:GX13 < 0, 0, IF(truncate!CA5:GX13 > 255, 255, truncate!CA5:GX13))","v":0},{"$f":"IF(truncate!CB5:GY13 < 0, 0, IF(truncate!CB5:GY13 > 255, 255, truncate!CB5:GY13))","v":3},{"$f":"IF(truncate!CC5:GZ13 < 0, 0, IF(truncate!CC5:GZ13 > 255, 255, truncate!CC5:GZ13))","v":29},{"$f":"IF(truncate!CD5:HA13 < 0, 0, IF(truncate!CD5:HA13 > 255, 255, truncate!CD5:HA13))","v":16},{"$f":"IF(truncate!CE5:HB13 < 0, 0, IF(truncate!CE5:HB13 > 255, 255, truncate!CE5:HB13))","v":15},{"$f":"IF(truncate!CF5:HC13 < 0, 0, IF(truncate!CF5:HC13 > 255, 255, truncate!CF5:HC13))","v":23},{"$f":"IF(truncate!CG5:HD13 < 0, 0, IF(truncate!CG5:HD13 > 255, 255, truncate!CG5:HD13))","v":24},{"$f":"IF(truncate!CH5:HE13 < 0, 0, IF(truncate!CH5:HE13 > 255, 255, truncate!CH5:HE13))","v":0},{"$f":"IF(truncate!CI5:HF13 < 0, 0, IF(truncate!CI5:HF13 > 255, 255, truncate!CI5:HF13))","v":18},{"$f":"IF(truncate!CJ5:HG13 < 0, 0, IF(truncate!CJ5:HG13 > 255, 255, truncate!CJ5:HG13))","v":12},{"$f":"IF(truncate!CK5:HH13 < 0, 0, IF(truncate!CK5:HH13 > 255, 255, truncate!CK5:HH13))","v":8},{"$f":"IF(truncate!CL5:HI13 < 0, 0, IF(truncate!CL5:HI13 > 255, 255, truncate!CL5:HI13))","v":32},{"$f":"IF(truncate!CM5:HJ13 < 0, 0, IF(truncate!CM5:HJ13 > 255, 255, truncate!CM5:HJ13))","v":0},{"$f":"IF(truncate!CN5:HK13 < 0, 0, IF(truncate!CN5:HK13 > 255, 255, truncate!CN5:HK13))","v":1},{"$f":"IF(truncate!CO5:HL13 < 0, 0, IF(truncate!CO5:HL13 > 255, 255, truncate!CO5:HL13))","v":0},{"$f":"IF(truncate!CP5:HM13 < 0, 0, IF(truncate!CP5:HM13 > 255, 255, truncate!CP5:HM13))","v":2},{"$f":"IF(truncate!CQ5:HN13 < 0, 0, IF(truncate!CQ5:HN13 > 255, 255, truncate!CQ5:HN13))","v":0},{"$f":"IF(truncate!CR5:HO13 < 0, 0, IF(truncate!CR5:HO13 > 255, 255, truncate!CR5:HO13))","v":24},{"$f":"IF(truncate!CS5:HP13 < 0, 0, IF(truncate!CS5:HP13 > 255, 255, truncate!CS5:HP13))","v":26},{"$f":"IF(truncate!CT5:HQ13 < 0, 0, IF(truncate!CT5:HQ13 > 255, 255, truncate!CT5:HQ13))","v":49},{"$f":"IF(truncate!CU5:HR13 < 0, 0, IF(truncate!CU5:HR13 > 255, 255, truncate!CU5:HR13))","v":0},{"$f":"IF(truncate!CV5:HS13 < 0, 0, IF(truncate!CV5:HS13 > 255, 255, truncate!CV5:HS13))","v":6},{"$f":"IF(truncate!CW5:HT13 < 0, 0, IF(truncate!CW5:HT13 > 255, 255, truncate!CW5:HT13))","v":0},{"$f":"IF(truncate!CX5:HU13 < 0, 0, IF(truncate!CX5:HU13 > 255, 255, truncate!CX5:HU13))","v":8},{"$f":"IF(truncate!CY5:HV13 < 0, 0, IF(truncate!CY5:HV13 > 255, 255, truncate!CY5:HV13))","v":0},{"$f":"IF(truncate!CZ5:HW13 < 0, 0, IF(truncate!CZ5:HW13 > 255, 255, truncate!CZ5:HW13))","v":0},{"$f":"IF(truncate!DA5:HX13 < 0, 0, IF(truncate!DA5:HX13 > 255, 255, truncate!DA5:HX13))","v":18},{"$f":"IF(truncate!DB5:HY13 < 0, 0, IF(truncate!DB5:HY13 > 255, 255, truncate!DB5:HY13))","v":37},{"$f":"IF(truncate!DC5:HZ13 < 0, 0, IF(truncate!DC5:HZ13 > 255, 255, truncate!DC5:HZ13))","v":20},{"$f":"IF(truncate!DD5:IA13 < 0, 0, IF(truncate!DD5:IA13 > 255, 255, truncate!DD5:IA13))","v":0},{"$f":"IF(truncate!DE5:IB13 < 0, 0, IF(truncate!DE5:IB13 > 255, 255, truncate!DE5:IB13))","v":0},{"$f":"IF(truncate!DF5:IC13 < 0, 0, IF(truncate!DF5:IC13 > 255, 255, truncate!DF5:IC13))","v":0},{"$f":"IF(truncate!DG5:ID13 < 0, 0, IF(truncate!DG5:ID13 > 255, 255, truncate!DG5:ID13))","v":0},{"$f":"IF(truncate!DH5:IE13 < 0, 0, IF(truncate!DH5:IE13 > 255, 255, truncate!DH5:IE13))","v":25},{"$f":"IF(truncate!DI5:IF13 < 0, 0, IF(truncate!DI5:IF13 > 255, 255, truncate!DI5:IF13))","v":45},{"$f":"IF(truncate!DJ5:IG13 < 0, 0, IF(truncate!DJ5:IG13 > 255, 255, truncate!DJ5:IG13))","v":7},{"$f":"IF(truncate!DK5:IH13 < 0, 0, IF(truncate!DK5:IH13 > 255, 255, truncate!DK5:IH13))","v":22},{"$f":"IF(truncate!DL5:II13 < 0, 0, IF(truncate!DL5:II13 > 255, 255, truncate!DL5:II13))","v":0},{"$f":"IF(truncate!DM5:IJ13 < 0, 0, IF(truncate!DM5:IJ13 > 255, 255, truncate!DM5:IJ13))","v":3},{"$f":"IF(truncate!DN5:IK13 < 0, 0, IF(truncate!DN5:IK13 > 255, 255, truncate!DN5:IK13))","v":0},{"$f":"IF(truncate!DO5:IL13 < 0, 0, IF(truncate!DO5:IL13 > 255, 255, truncate!DO5:IL13))","v":0},{"$f":"IF(truncate!DP5:IM13 < 0, 0, IF(truncate!DP5:IM13 > 255, 255, truncate!DP5:IM13))","v":3},{"$f":"IF(truncate!DQ5:IN13 < 0, 0, IF(truncate!DQ5:IN13 > 255, 255, truncate!DQ5:IN13))","v":6},{"$f":"IF(truncate!DR5:IO13 < 0, 0, IF(truncate!DR5:IO13 > 255, 255, truncate!DR5:IO13))","v":0},{"$f":"IF(truncate!DS5:IP13 < 0, 0, IF(truncate!DS5:IP13 > 255, 255, truncate!DS5:IP13))","v":28},{"$f":"IF(truncate!DT5:IQ13 < 0, 0, IF(truncate!DT5:IQ13 > 255, 255, truncate!DT5:IQ13))","v":16},{"$f":"IF(truncate!DU5:IR13 < 0, 0, IF(truncate!DU5:IR13 > 255, 255, truncate!DU5:IR13))","v":1},{"$f":"IF(truncate!DV5:IS13 < 0, 0, IF(truncate!DV5:IS13 > 255, 255, truncate!DV5:IS13))","v":36},{"$f":"IF(truncate!DW5:IT13 < 0, 0, IF(truncate!DW5:IT13 > 255, 255, truncate!DW5:IT13))","v":0},{"$f":"IF(truncate!DX5:IU13 < 0, 0, IF(truncate!DX5:IU13 > 255, 255, truncate!DX5:IU13))","v":0}]
[{"$f":"IF(truncate!A6:DX14 < 0, 0, IF(truncate!A6:DX14 > 255, 255, truncate!A6:DX14))","v":0},{"$f":"IF(truncate!B6:DY14 < 0, 0, IF(truncate!B6:DY14 > 255, 255, truncate!B6:DY14))","v":3},{"$f":"IF(truncate!C6:DZ14 < 0, 0, IF(truncate!C6:DZ14 > 255, 255, truncate!C6:DZ14))","v":0},{"$f":"IF(truncate!D6:EA14 < 0, 0, IF(truncate!D6:EA14 > 255, 255, truncate!D6:EA14))","v":10},{"$f":"IF(truncate!E6:EB14 < 0, 0, IF(truncate!E6:EB14 > 255, 255, truncate!E6:EB14))","v":34},{"$f":"IF(truncate!F6:EC14 < 0, 0, IF(truncate!F6:EC14 > 255, 255, truncate!F6:EC14))","v":29},{"$f":"IF(truncate!G6:ED14 < 0, 0, IF(truncate!G6:ED14 > 255, 255, truncate!G6:ED14))","v":71},{"$f":"IF(truncate!H6:EE14 < 0, 0, IF(truncate!H6:EE14 > 255, 255, truncate!H6:EE14))","v":43},{"$f":"IF(truncate!I6:EF14 < 0, 0, IF(truncate!I6:EF14 > 255, 255, truncate!I6:EF14))","v":0},{"$f":"IF(truncate!J6:EG14 < 0, 0, IF(truncate!J6:EG14 > 255, 255, truncate!J6:EG14))","v":0},{"$f":"IF(truncate!K6:EH14 < 0, 0, IF(truncate!K6:EH14 > 255, 255, truncate!K6:EH14))","v":18},{"$f":"IF(truncate!L6:EI14 < 0, 0, IF(truncate!L6:EI14 > 255, 255, truncate!L6:EI14))","v":13},{"$f":"IF(truncate!M6:EJ14 < 0, 0, IF(truncate!M6:EJ14 > 255, 255, truncate!M6:EJ14))","v":28},{"$f":"IF(truncate!N6:EK14 < 0, 0, IF(truncate!N6:EK14 > 255, 255, truncate!N6:EK14))","v":52},{"$f":"IF(truncate!O6:EL14 < 0, 0, IF(truncate!O6:EL14 > 255, 255, truncate!O6:EL14))","v":0},{"$f":"IF(truncate!P6:EM14 < 0, 0, IF(truncate!P6:EM14 > 255, 255, truncate!P6:EM14))","v":18},{"$f":"IF(truncate!Q6:EN14 < 0, 0, IF(truncate!Q6:EN14 > 255, 255, truncate!Q6:EN14))","v":20},{"$f":"IF(truncate!R6:EO14 < 0, 0, IF(truncate!R6:EO14 > 255, 255, truncate!R6:EO14))","v":24},{"$f":"IF(truncate!S6:EP14 < 0, 0, IF(truncate!S6:EP14 > 255, 255, truncate!S6:EP14))","v":0},{"$f":"IF(truncate!T6:EQ14 < 0, 0, IF(truncate!T6:EQ14 > 255, 255, truncate!T6:EQ14))","v":32},{"$f":"IF(truncate!U6:ER14 < 0, 0, IF(truncate!U6:ER14 > 255, 255, truncate!U6:ER14))","v":24},{"$f":"IF(truncate!V6:ES14 < 0, 0, IF(truncate!V6:ES14 > 255, 255, truncate!V6:ES14))","v":0},{"$f":"IF(truncate!W6:ET14 < 0, 0, IF(truncate!W6:ET14 > 255, 255, truncate!W6:ET14))","v":18},{"$f":"IF(truncate!X6:EU14 < 0, 0, IF(truncate!X6:EU14 > 255, 255, truncate!X6:EU14))","v":0},{"$f":"IF(truncate!Y6:EV14 < 0, 0, IF(truncate!Y6:EV14 > 255, 255, truncate!Y6:EV14))","v":22},{"$f":"IF(truncate!Z6:EW14 < 0, 0, IF(truncate!Z6:EW14 > 255, 255, truncate!Z6:EW14))","v":17},{"$f":"IF(truncate!AA6:EX14 < 0, 0, IF(truncate!AA6:EX14 > 255, 255, truncate!AA6:EX14))","v":0},{"$f":"IF(truncate!AB6:EY14 < 0, 0, IF(truncate!AB6:EY14 > 255, 255, truncate!AB6:EY14))","v":27},{"$f":"IF(truncate!AC6:EZ14 < 0, 0, IF(truncate!AC6:EZ14 > 255, 255, truncate!AC6:EZ14))","v":0},{"$f":"IF(truncate!AD6:FA14 < 0, 0, IF(truncate!AD6:FA14 > 255, 255, truncate!AD6:FA14))","v":0},{"$f":"IF(truncate!AE6:FB14 < 0, 0, IF(truncate!AE6:FB14 > 255, 255, truncate!AE6:FB14))","v":8},{"$f":"IF(truncate!AF6:FC14 < 0, 0, IF(truncate!AF6:FC14 > 255, 255, truncate!AF6:FC14))","v":3},{"$f":"IF(truncate!AG6:FD14 < 0, 0, IF(truncate!AG6:FD14 > 255, 255, truncate!AG6:FD14))","v":0},{"$f":"IF(truncate!AH6:FE14 < 0, 0, IF(truncate!AH6:FE14 > 255, 255, truncate!AH6:FE14))","v":32},{"$f":"IF(truncate!AI6:FF14 < 0, 0, IF(truncate!AI6:FF14 > 255, 255, truncate!AI6:FF14))","v":6},{"$f":"IF(truncate!AJ6:FG14 < 0, 0, IF(truncate!AJ6:FG14 > 255, 255, truncate!AJ6:FG14))","v":48},{"$f":"IF(truncate!AK6:FH14 < 0, 0, IF(truncate!AK6:FH14 > 255, 255, truncate!AK6:FH14))","v":5},{"$f":"IF(truncate!AL6:FI14 < 0, 0, IF(truncate!AL6:FI14 > 255, 255, truncate!AL6:FI14))","v":6},{"$f":"IF(truncate!AM6:FJ14 < 0, 0, IF(truncate!AM6:FJ14 > 255, 255, truncate!AM6:FJ14))","v":6},{"$f":"IF(truncate!AN6:FK14 < 0, 0, IF(truncate!AN6:FK14 > 255, 255, truncate!AN6:FK14))","v":8},{"$f":"IF(truncate!AO6:FL14 < 0, 0, IF(truncate!AO6:FL14 > 255, 255, truncate!AO6:FL14))","v":16},{"$f":"IF(truncate!AP6:FM14 < 0, 0, IF(truncate!AP6:FM14 > 255, 255, truncate!AP6:FM14))","v":37},{"$f":"IF(truncate!AQ6:FN14 < 0, 0, IF(truncate!AQ6:FN14 > 255, 255, truncate!AQ6:FN14))","v":13},{"$f":"IF(truncate!AR6:FO14 < 0, 0, IF(truncate!AR6:FO14 > 255, 255, truncate!AR6:FO14))","v":0},{"$f":"IF(truncate!AS6:FP14 < 0, 0, IF(truncate!AS6:FP14 > 255, 255, truncate!AS6:FP14))","v":0},{"$f":"IF(truncate!AT6:FQ14 < 0, 0, IF(truncate!AT6:FQ14 > 255, 255, truncate!AT6:FQ14))","v":23},{"$f":"IF(truncate!AU6:FR14 < 0, 0, IF(truncate!AU6:FR14 > 255, 255, truncate!AU6:FR14))","v":5},{"$f":"IF(truncate!AV6:FS14 < 0, 0, IF(truncate!AV6:FS14 > 255, 255, truncate!AV6:FS14))","v":0},{"$f":"IF(truncate!AW6:FT14 < 0, 0, IF(truncate!AW6:FT14 > 255, 255, truncate!AW6:FT14))","v":3},{"$f":"IF(truncate!AX6:FU14 < 0, 0, IF(truncate!AX6:FU14 > 255, 255, truncate!AX6:FU14))","v":5},{"$f":"IF(truncate!AY6:FV14 < 0, 0, IF(truncate!AY6:FV14 > 255, 255, truncate!AY6:FV14))","v":33},{"$f":"IF(truncate!AZ6:FW14 < 0, 0, IF(truncate!AZ6:FW14 > 255, 255, truncate!AZ6:FW14))","v":27},{"$f":"IF(truncate!BA6:FX14 < 0, 0, IF(truncate!BA6:FX14 > 255, 255, truncate!BA6:FX14))","v":37},{"$f":"IF(truncate!BB6:FY14 < 0, 0, IF(truncate!BB6:FY14 > 255, 255, truncate!BB6:FY14))","v":32},{"$f":"IF(truncate!BC6:FZ14 < 0, 0, IF(truncate!BC6:FZ14 > 255, 255, truncate!BC6:FZ14))","v":0},{"$f":"IF(truncate!BD6:GA14 < 0, 0, IF(truncate!BD6:GA14 > 255, 255, truncate!BD6:GA14))","v":1},{"$f":"IF(truncate!BE6:GB14 < 0, 0, IF(truncate!BE6:GB14 > 255, 255, truncate!BE6:GB14))","v":33},{"$f":"IF(truncate!BF6:GC14 < 0, 0, IF(truncate!BF6:GC14 > 255, 255, truncate!BF6:GC14))","v":16},{"$f":"IF(truncate!BG6:GD14 < 0, 0, IF(truncate!BG6:GD14 > 255, 255, truncate!BG6:GD14))","v":18},{"$f":"IF(truncate!BH6:GE14 < 0, 0, IF(truncate!BH6:GE14 > 255, 255, truncate!BH6:GE14))","v":18},{"$f":"IF(truncate!BI6:GF14 < 0, 0, IF(truncate!BI6:GF14 > 255, 255, truncate!BI6:GF14))","v":28},{"$f":"IF(truncate!BJ6:GG14 < 0, 0, IF(truncate!BJ6:GG14 > 255, 255, truncate!BJ6:GG14))","v":28},{"$f":"IF(truncate!BK6:GH14 < 0, 0, IF(truncate!BK6:GH14 > 255, 255, truncate!BK6:GH14))","v":0},{"$f":"IF(truncate!BL6:GI14 < 0, 0, IF(truncate!BL6:GI14 > 255, 255, truncate!BL6:GI14))","v":0},{"$f":"IF(truncate!BM6:GJ14 < 0, 0, IF(truncate!BM6:GJ14 > 255, 255, truncate!BM6:GJ14))","v":7},{"$f":"IF(truncate!BN6:GK14 < 0, 0, IF(truncate!BN6:GK14 > 255, 255, truncate!BN6:GK14))","v":28},{"$f":"IF(truncate!BO6:GL14 < 0, 0, IF(truncate!BO6:GL14 > 255, 255, truncate!BO6:GL14))","v":0},{"$f":"IF(truncate!BP6:GM14 < 0, 0, IF(truncate!BP6:GM14 > 255, 255, truncate!BP6:GM14))","v":0},{"$f":"IF(truncate!BQ6:GN14 < 0, 0, IF(truncate!BQ6:GN14 > 255, 255, truncate!BQ6:GN14))","v":14},{"$f":"IF(truncate!BR6:GO14 < 0, 0, IF(truncate!BR6:GO14 > 255, 255, truncate!BR6:GO14))","v":15},{"$f":"IF(truncate!BS6:GP14 < 0, 0, IF(truncate!BS6:GP14 > 255, 255, truncate!BS6:GP14))","v":6},{"$f":"IF(truncate!BT6:GQ14 < 0, 0, IF(truncate!BT6:GQ14 > 255, 255, truncate!BT6:GQ14))","v":0},{"$f":"IF(truncate!BU6:GR14 < 0, 0, IF(truncate!BU6:GR14 > 255, 255, truncate!BU6:GR14))","v":0},{"$f":"IF(truncate!BV6:GS14 < 0, 0, IF(truncate!BV6:GS14 > 255, 255, truncate!BV6:GS14))","v":20},{"$f":"IF(truncate!BW6:GT14 < 0, 0, IF(truncate!BW6:GT14 > 255, 255, truncate!BW6:GT14))","v":18},{"$f":"IF(truncate!BX6:GU14 < 0, 0, IF(truncate!BX6:GU14 > 255, 255, truncate!BX6:GU14))","v":23},{"$f":"IF(truncate!BY6:GV14 < 0, 0, IF(truncate!BY6:GV14 > 255, 255, truncate!BY6:GV14))","v":2},{"$f":"IF(truncate!BZ6:GW14 < 0, 0, IF(truncate!BZ6:GW14 > 255, 255, truncate!BZ6:GW14))","v":27},{"$f":"IF(truncate!CA6:GX14 < 0, 0, IF(truncate!CA6:GX14 > 255, 255, truncate!CA6:GX14))","v":0},{"$f":"IF(truncate!CB6:GY14 < 0, 0, IF(truncate!CB6:GY14 > 255, 255, truncate!CB6:GY14))","v":0},{"$f":"IF(truncate!CC6:GZ14 < 0, 0, IF(truncate!CC6:GZ14 > 255, 255, truncate!CC6:GZ14))","v":36},{"$f":"IF(truncate!CD6:HA14 < 0, 0, IF(truncate!CD6:HA14 > 255, 255, truncate!CD6:HA14))","v":15},{"$f":"IF(truncate!CE6:HB14 < 0, 0, IF(truncate!CE6:HB14 > 255, 255, truncate!CE6:HB14))","v":3},{"$f":"IF(truncate!CF6:HC14 < 0, 0, IF(truncate!CF6:HC14 > 255, 255, truncate!CF6:HC14))","v":24},{"$f":"IF(truncate!CG6:HD14 < 0, 0, IF(truncate!CG6:HD14 > 255, 255, truncate!CG6:HD14))","v":17},{"$f":"IF(truncate!CH6:HE14 < 0, 0, IF(truncate!CH6:HE14 > 255, 255, truncate!CH6:HE14))","v":0},{"$f":"IF(truncate!CI6:HF14 < 0, 0, IF(truncate!CI6:HF14 > 255, 255, truncate!CI6:HF14))","v":36},{"$f":"IF(truncate!CJ6:HG14 < 0, 0, IF(truncate!CJ6:HG14 > 255, 255, truncate!CJ6:HG14))","v":24},{"$f":"IF(truncate!CK6:HH14 < 0, 0, IF(truncate!CK6:HH14 > 255, 255, truncate!CK6:HH14))","v":16},{"$f":"IF(truncate!CL6:HI14 < 0, 0, IF(truncate!CL6:HI14 > 255, 255, truncate!CL6:HI14))","v":29},{"$f":"IF(truncate!CM6:HJ14 < 0, 0, IF(truncate!CM6:HJ14 > 255, 255, truncate!CM6:HJ14))","v":0},{"$f":"IF(truncate!CN6:HK14 < 0, 0, IF(truncate!CN6:HK14 > 255, 255, truncate!CN6:HK14))","v":0},{"$f":"IF(truncate!CO6:HL14 < 0, 0, IF(truncate!CO6:HL14 > 255, 255, truncate!CO6:HL14))","v":0},{"$f":"IF(truncate!CP6:HM14 < 0, 0, IF(truncate!CP6:HM14 > 255, 255, truncate!CP6:HM14))","v":5},{"$f":"IF(truncate!CQ6:HN14 < 0, 0, IF(truncate!CQ6:HN14 > 255, 255, truncate!CQ6:HN14))","v":0},{"$f":"IF(truncate!CR6:HO14 < 0, 0, IF(truncate!CR6:HO14 > 255, 255, truncate!CR6:HO14))","v":18},{"$f":"IF(truncate!CS6:HP14 < 0, 0, IF(truncate!CS6:HP14 > 255, 255, truncate!CS6:HP14))","v":22},{"$f":"IF(truncate!CT6:HQ14 < 0, 0, IF(truncate!CT6:HQ14 > 255, 255, truncate!CT6:HQ14))","v":62},{"$f":"IF(truncate!CU6:HR14 < 0, 0, IF(truncate!CU6:HR14 > 255, 255, truncate!CU6:HR14))","v":0},{"$f":"IF(truncate!CV6:HS14 < 0, 0, IF(truncate!CV6:HS14 > 255, 255, truncate!CV6:HS14))","v":4},{"$f":"IF(truncate!CW6:HT14 < 0, 0, IF(truncate!CW6:HT14 > 255, 255, truncate!CW6:HT14))","v":0},{"$f":"IF(truncate!CX6:HU14 < 0, 0, IF(truncate!CX6:HU14 > 255, 255, truncate!CX6:HU14))","v":13},{"$f":"IF(truncate!CY6:HV14 < 0, 0, IF(truncate!CY6:HV14 > 255, 255, truncate!CY6:HV14))","v":0},{"$f":"IF(truncate!CZ6:HW14 < 0, 0, IF(truncate!CZ6:HW14 > 255, 255, truncate!CZ6:HW14))","v":0},{"$f":"IF(truncate!DA6:HX14 < 0, 0, IF(truncate!DA6:HX14 > 255, 255, truncate!DA6:HX14))","v":25},{"$f":"IF(truncate!DB6:HY14 < 0, 0, IF(truncate!DB6:HY14 > 255, 255, truncate!DB6:HY14))","v":38},{"$f":"IF(truncate!DC6:HZ14 < 0, 0, IF(truncate!DC6:HZ14 > 255, 255, truncate!DC6:HZ14))","v":20},{"$f":"IF(truncate!DD6:IA14 < 0, 0, IF(truncate!DD6:IA14 > 255, 255, truncate!DD6:IA14))","v":0},{"$f":"IF(truncate!DE6:IB14 < 0, 0, IF(truncate!DE6:IB14 > 255, 255, truncate!DE6:IB14))","v":4},{"$f":"IF(truncate!DF6:IC14 < 0, 0, IF(truncate!DF6:IC14 > 255, 255, truncate!DF6:IC14))","v":1},{"$f":"IF(truncate!DG6:ID14 < 0, 0, IF(truncate!DG6:ID14 > 255, 255, truncate!DG6:ID14))","v":11},{"$f":"IF(truncate!DH6:IE14 < 0, 0, IF(truncate!DH6:IE14 > 255, 255, truncate!DH6:IE14))","v":27},{"$f":"IF(truncate!DI6:IF14 < 0, 0, IF(truncate!DI6:IF14 > 255, 255, truncate!DI6:IF14))","v":18},{"$f":"IF(truncate!DJ6:IG14 < 0, 0, IF(truncate!DJ6:IG14 > 255, 255, truncate!DJ6:IG14))","v":10},{"$f":"IF(truncate!DK6:IH14 < 0, 0, IF(truncate!DK6:IH14 > 255, 255, truncate!DK6:IH14))","v":17},{"$f":"IF(truncate!DL6:II14 < 0, 0, IF(truncate!DL6:II14 > 255, 255, truncate!DL6:II14))","v":4},{"$f":"IF(truncate!DM6:IJ14 < 0, 0, IF(truncate!DM6:IJ14 > 255, 255, truncate!DM6:IJ14))","v":3},{"$f":"IF(truncate!DN6:IK14 < 0, 0, IF(truncate!DN6:IK14 > 255, 255, truncate!DN6:IK14))","v":4},{"$f":"IF(truncate!DO6:IL14 < 0, 0, IF(truncate!DO6:IL14 > 255, 255, truncate!DO6:IL14))","v":0},{"$f":"IF(truncate!DP6:IM14 < 0, 0, IF(truncate!DP6:IM14 > 255, 255, truncate!DP6:IM14))","v":15},{"$f":"IF(truncate!DQ6:IN14 < 0, 0, IF(truncate!DQ6:IN14 > 255, 255, truncate!DQ6:IN14))","v":0},{"$f":"IF(truncate!DR6:IO14 < 0, 0, IF(truncate!DR6:IO14 > 255, 255, truncate!DR6:IO14))","v":0},{"$f":"IF(truncate!DS6:IP14 < 0, 0, IF(truncate!DS6:IP14 > 255, 255, truncate!DS6:IP14))","v":37},{"$f":"IF(truncate!DT6:IQ14 < 0, 0, IF(truncate!DT6:IQ14 > 255, 255, truncate!DT6:IQ14))","v":15},{"$f":"IF(truncate!DU6:IR14 < 0, 0, IF(truncate!DU6:IR14 > 255, 255, truncate!DU6:IR14))","v":8},{"$f":"IF(truncate!DV6:IS14 < 0, 0, IF(truncate!DV6:IS14 > 255, 255, truncate!DV6:IS14))","v":39},{"$f":"IF(truncate!DW6:IT14 < 0, 0, IF(truncate!DW6:IT14 > 255, 255, truncate!DW6:IT14))","v":0},{"$f":"IF(truncate!DX6:IU14 < 0, 0, IF(truncate!DX6:IU14 > 255, 255, truncate!DX6:IU14))","v":12}]
[{"$f":"IF(truncate!A7:DX15 < 0, 0, IF(truncate!A7:DX15 > 255, 255, truncate!A7:DX15))","v":0},{"$f":"IF(truncate!B7:DY15 < 0, 0, IF(truncate!B7:DY15 > 255, 255, truncate!B7:DY15))","v":1},{"$f":"IF(truncate!C7:DZ15 < 0, 0, IF(truncate!C7:DZ15 > 255, 255, truncate!C7:DZ15))","v":0},{"$f":"IF(truncate!D7:EA15 < 0, 0, IF(truncate!D7:EA15 > 255, 255, truncate!D7:EA15))","v":10},{"$f":"IF(truncate!E7:EB15 < 0, 0, IF(truncate!E7:EB15 > 255, 255, truncate!E7:EB15))","v":34},{"$f":"IF(truncate!F7:EC15 < 0, 0, IF(truncate!F7:EC15 > 255, 255, truncate!F7:EC15))","v":22},{"$f":"IF(truncate!G7:ED15 < 0, 0, IF(truncate!G7:ED15 > 255, 255, truncate!G7:ED15))","v":67},{"$f":"IF(truncate!H7:EE15 < 0, 0, IF(truncate!H7:EE15 > 255, 255, truncate!H7:EE15))","v":13},{"$f":"IF(truncate!I7:EF15 < 0, 0, IF(truncate!I7:EF15 > 255, 255, truncate!I7:EF15))","v":4},{"$f":"IF(truncate!J7:EG15 < 0, 0, IF(truncate!J7:EG15 > 255, 255, truncate!J7:EG15))","v":0},{"$f":"IF(truncate!K7:EH15 < 0, 0, IF(truncate!K7:EH15 > 255, 255, truncate!K7:EH15))","v":20},{"$f":"IF(truncate!L7:EI15 < 0, 0, IF(truncate!L7:EI15 > 255, 255, truncate!L7:EI15))","v":7},{"$f":"IF(truncate!M7:EJ15 < 0, 0, IF(truncate!M7:EJ15 > 255, 255, truncate!M7:EJ15))","v":6},{"$f":"IF(truncate!N7:EK15 < 0, 0, IF(truncate!N7:EK15 > 255, 255, truncate!N7:EK15))","v":29},{"$f":"IF(truncate!O7:EL15 < 0, 0, IF(truncate!O7:EL15 > 255, 255, truncate!O7:EL15))","v":0},{"$f":"IF(truncate!P7:EM15 < 0, 0, IF(truncate!P7:EM15 > 255, 255, truncate!P7:EM15))","v":2},{"$f":"IF(truncate!Q7:EN15 < 0, 0, IF(truncate!Q7:EN15 > 255, 255, truncate!Q7:EN15))","v":22},{"$f":"IF(truncate!R7:EO15 < 0, 0, IF(truncate!R7:EO15 > 255, 255, truncate!R7:EO15))","v":5},{"$f":"IF(truncate!S7:EP15 < 0, 0, IF(truncate!S7:EP15 > 255, 255, truncate!S7:EP15))","v":0},{"$f":"IF(truncate!T7:EQ15 < 0, 0, IF(truncate!T7:EQ15 > 255, 255, truncate!T7:EQ15))","v":31},{"$f":"IF(truncate!U7:ER15 < 0, 0, IF(truncate!U7:ER15 > 255, 255, truncate!U7:ER15))","v":30},{"$f":"IF(truncate!V7:ES15 < 0, 0, IF(truncate!V7:ES15 > 255, 255, truncate!V7:ES15))","v":0},{"$f":"IF(truncate!W7:ET15 < 0, 0, IF(truncate!W7:ET15 > 255, 255, truncate!W7:ET15))","v":2},{"$f":"IF(truncate!X7:EU15 < 0, 0, IF(truncate!X7:EU15 > 255, 255, truncate!X7:EU15))","v":0},{"$f":"IF(truncate!Y7:EV15 < 0, 0, IF(truncate!Y7:EV15 > 255, 255, truncate!Y7:EV15))","v":21},{"$f":"IF(truncate!Z7:EW15 < 0, 0, IF(truncate!Z7:EW15 > 255, 255, truncate!Z7:EW15))","v":3},{"$f":"IF(truncate!AA7:EX15 < 0, 0, IF(truncate!AA7:EX15 > 255, 255, truncate!AA7:EX15))","v":6},{"$f":"IF(truncate!AB7:EY15 < 0, 0, IF(truncate!AB7:EY15 > 255, 255, truncate!AB7:EY15))","v":20},{"$f":"IF(truncate!AC7:EZ15 < 0, 0, IF(truncate!AC7:EZ15 > 255, 255, truncate!AC7:EZ15))","v":13},{"$f":"IF(truncate!AD7:FA15 < 0, 0, IF(truncate!AD7:FA15 > 255, 255, truncate!AD7:FA15))","v":0},{"$f":"IF(truncate!AE7:FB15 < 0, 0, IF(truncate!AE7:FB15 > 255, 255, truncate!AE7:FB15))","v":1},{"$f":"IF(truncate!AF7:FC15 < 0, 0, IF(truncate!AF7:FC15 > 255, 255, truncate!AF7:FC15))","v":2},{"$f":"IF(truncate!AG7:FD15 < 0, 0, IF(truncate!AG7:FD15 > 255, 255, truncate!AG7:FD15))","v":0},{"$f":"IF(truncate!AH7:FE15 < 0, 0, IF(truncate!AH7:FE15 > 255, 255, truncate!AH7:FE15))","v":16},{"$f":"IF(truncate!AI7:FF15 < 0, 0, IF(truncate!AI7:FF15 > 255, 255, truncate!AI7:FF15))","v":18},{"$f":"IF(truncate!AJ7:FG15 < 0, 0, IF(truncate!AJ7:FG15 > 255, 255, truncate!AJ7:FG15))","v":32},{"$f":"IF(truncate!AK7:FH15 < 0, 0, IF(truncate!AK7:FH15 > 255, 255, truncate!AK7:FH15))","v":0},{"$f":"IF(truncate!AL7:FI15 < 0, 0, IF(truncate!AL7:FI15 > 255, 255, truncate!AL7:FI15))","v":0},{"$f":"IF(truncate!AM7:FJ15 < 0, 0, IF(truncate!AM7:FJ15 > 255, 255, truncate!AM7:FJ15))","v":10},{"$f":"IF(truncate!AN7:FK15 < 0, 0, IF(truncate!AN7:FK15 > 255, 255, truncate!AN7:FK15))","v":12},{"$f":"IF(truncate!AO7:FL15 < 0, 0, IF(truncate!AO7:FL15 > 255, 255, truncate!AO7:FL15))","v":27},{"$f":"IF(truncate!AP7:FM15 < 0, 0, IF(truncate!AP7:FM15 > 255, 255, truncate!AP7:FM15))","v":20},{"$f":"IF(truncate!AQ7:FN15 < 0, 0, IF(truncate!AQ7:FN15 > 255, 255, truncate!AQ7:FN15))","v":3},{"$f":"IF(truncate!AR7:FO15 < 0, 0, IF(truncate!AR7:FO15 > 255, 255, truncate!AR7:FO15))","v":0},{"$f":"IF(truncate!AS7:FP15 < 0, 0, IF(truncate!AS7:FP15 > 255, 255, truncate!AS7:FP15))","v":0},{"$f":"IF(truncate!AT7:FQ15 < 0, 0, IF(truncate!AT7:FQ15 > 255, 255, truncate!AT7:FQ15))","v":15},{"$f":"IF(truncate!AU7:FR15 < 0, 0, IF(truncate!AU7:FR15 > 255, 255, truncate!AU7:FR15))","v":8},{"$f":"IF(truncate!AV7:FS15 < 0, 0, IF(truncate!AV7:FS15 > 255, 255, truncate!AV7:FS15))","v":0},{"$f":"IF(truncate!AW7:FT15 < 0, 0, IF(truncate!AW7:FT15 > 255, 255, truncate!AW7:FT15))","v":0},{"$f":"IF(truncate!AX7:FU15 < 0, 0, IF(truncate!AX7:FU15 > 255, 255, truncate!AX7:FU15))","v":0},{"$f":"IF(truncate!AY7:FV15 < 0, 0, IF(truncate!AY7:FV15 > 255, 255, truncate!AY7:FV15))","v":35},{"$f":"IF(truncate!AZ7:FW15 < 0, 0, IF(truncate!AZ7:FW15 > 255, 255, truncate!AZ7:FW15))","v":5},{"$f":"IF(truncate!BA7:FX15 < 0, 0, IF(truncate!BA7:FX15 > 255, 255, truncate!BA7:FX15))","v":37},{"$f":"IF(truncate!BB7:FY15 < 0, 0, IF(truncate!BB7:FY15 > 255, 255, truncate!BB7:FY15))","v":44},{"$f":"IF(truncate!BC7:FZ15 < 0, 0, IF(truncate!BC7:FZ15 > 255, 255, truncate!BC7:FZ15))","v":0},{"$f":"IF(truncate!BD7:GA15 < 0, 0, IF(truncate!BD7:GA15 > 255, 255, truncate!BD7:GA15))","v":7},{"$f":"IF(truncate!BE7:GB15 < 0, 0, IF(truncate!BE7:GB15 > 255, 255, truncate!BE7:GB15))","v":26},{"$f":"IF(truncate!BF7:GC15 < 0, 0, IF(truncate!BF7:GC15 > 255, 255, truncate!BF7:GC15))","v":8},{"$f":"IF(truncate!BG7:GD15 < 0, 0, IF(truncate!BG7:GD15 > 255, 255, truncate!BG7:GD15))","v":0},{"$f":"IF(truncate!BH7:GE15 < 0, 0, IF(truncate!BH7:GE15 > 255, 255, truncate!BH7:GE15))","v":5},{"$f":"IF(truncate!BI7:GF15 < 0, 0, IF(truncate!BI7:GF15 > 255, 255, truncate!BI7:GF15))","v":27},{"$f":"IF(truncate!BJ7:GG15 < 0, 0, IF(truncate!BJ7:GG15 > 255, 255, truncate!BJ7:GG15))","v":30},{"$f":"IF(truncate!BK7:GH15 < 0, 0, IF(truncate!BK7:GH15 > 255, 255, truncate!BK7:GH15))","v":0},{"$f":"IF(truncate!BL7:GI15 < 0, 0, IF(truncate!BL7:GI15 > 255, 255, truncate!BL7:GI15))","v":0},{"$f":"IF(truncate!BM7:GJ15 < 0, 0, IF(truncate!BM7:GJ15 > 255, 255, truncate!BM7:GJ15))","v":0},{"$f":"IF(truncate!BN7:GK15 < 0, 0, IF(truncate!BN7:GK15 > 255, 255, truncate!BN7:GK15))","v":15},{"$f":"IF(truncate!BO7:GL15 < 0, 0, IF(truncate!BO7:GL15 > 255, 255, truncate!BO7:GL15))","v":0},{"$f":"IF(truncate!BP7:GM15 < 0, 0, IF(truncate!BP7:GM15 > 255, 255, truncate!BP7:GM15))","v":0},{"$f":"IF(truncate!BQ7:GN15 < 0, 0, IF(truncate!BQ7:GN15 > 255, 255, truncate!BQ7:GN15))","v":6},{"$f":"IF(truncate!BR7:GO15 < 0, 0, IF(truncate!BR7:GO15 > 255, 255, truncate!BR7:GO15))","v":2},{"$f":"IF(truncate!BS7:GP15 < 0, 0, IF(truncate!BS7:GP15 > 255, 255, truncate!BS7:GP15))","v":0},{"$f":"IF(truncate!BT7:GQ15 < 0, 0, IF(truncate!BT7:GQ15 > 255, 255, truncate!BT7:GQ15))","v":0},{"$f":"IF(truncate!BU7:GR15 < 0, 0, IF(truncate!BU7:GR15 > 255, 255, truncate!BU7:GR15))","v":0},{"$f":"IF(truncate!BV7:GS15 < 0, 0, IF(truncate!BV7:GS15 > 255, 255, truncate!BV7:GS15))","v":3},{"$f":"IF(truncate!BW7:GT15 < 0, 0, IF(truncate!BW7:GT15 > 255, 255, truncate!BW7:GT15))","v":11},{"$f":"IF(truncate!BX7:GU15 < 0, 0, IF(truncate!BX7:GU15 > 255, 255, truncate!BX7:GU15))","v":40},{"$f":"IF(truncate!BY7:GV15 < 0, 0, IF(truncate!BY7:GV15 > 255, 255, truncate!BY7:GV15))","v":5},{"$f":"IF(truncate!BZ7:GW15 < 0, 0, IF(truncate!BZ7:GW15 > 255, 255, truncate!BZ7:GW15))","v":10},{"$f":"IF(truncate!CA7:GX15 < 0, 0, IF(truncate!CA7:GX15 > 255, 255, truncate!CA7:GX15))","v":0},{"$f":"IF(truncate!CB7:GY15 < 0, 0, IF(truncate!CB7:GY15 > 255, 255, truncate!CB7:GY15))","v":11},{"$f":"IF(truncate!CC7:GZ15 < 0, 0, IF(truncate!CC7:GZ15 > 255, 255, truncate!CC7:GZ15))","v":23},{"$f":"IF(truncate!CD7:HA15 < 0, 0, IF(truncate!CD7:HA15 > 255, 255, truncate!CD7:HA15))","v":26},{"$f":"IF(truncate!CE7:HB15 < 0, 0, IF(truncate!CE7:HB15 > 255, 255, truncate!CE7:HB15))","v":0},{"$f":"IF(truncate!CF7:HC15 < 0, 0, IF(truncate!CF7:HC15 > 255, 255, truncate!CF7:HC15))","v":17},{"$f":"IF(truncate!CG7:HD15 < 0, 0, IF(truncate!CG7:HD15 > 255, 255, truncate!CG7:HD15))","v":6},{"$f":"IF(truncate!CH7:HE15 < 0, 0, IF(truncate!CH7:HE15 > 255, 255, truncate!CH7:HE15))","v":0},{"$f":"IF(truncate!CI7:HF15 < 0, 0, IF(truncate!CI7:HF15 > 255, 255, truncate!CI7:HF15))","v":27},{"$f":"IF(truncate!CJ7:HG15 < 0, 0, IF(truncate!CJ7:HG15 > 255, 255, truncate!CJ7:HG15))","v":1},{"$f":"IF(truncate!CK7:HH15 < 0, 0, IF(truncate!CK7:HH15 > 255, 255, truncate!CK7:HH15))","v":38},{"$f":"IF(truncate!CL7:HI15 < 0, 0, IF(truncate!CL7:HI15 > 255, 255, truncate!CL7:HI15))","v":9},{"$f":"IF(truncate!CM7:HJ15 < 0, 0, IF(truncate!CM7:HJ15 > 255, 255, truncate!CM7:HJ15))","v":0},{"$f":"IF(truncate!CN7:HK15 < 0, 0, IF(truncate!CN7:HK15 > 255, 255, truncate!CN7:HK15))","v":3},{"$f":"IF(truncate!CO7:HL15 < 0, 0, IF(truncate!CO7:HL15 > 255, 255, truncate!CO7:HL15))","v":0},{"$f":"IF(truncate!CP7:HM15 < 0, 0, IF(truncate!CP7:HM15 > 255, 255, truncate!CP7:HM15))","v":2},{"$f":"IF(truncate!CQ7:HN15 < 0, 0, IF(truncate!CQ7:HN15 > 255, 255, truncate!CQ7:HN15))","v":0},{"$f":"IF(truncate!CR7:HO15 < 0, 0, IF(truncate!CR7:HO15 > 255, 255, truncate!CR7:HO15))","v":13},{"$f":"IF(truncate!CS7:HP15 < 0, 0, IF(truncate!CS7:HP15 > 255, 255, truncate!CS7:HP15))","v":43},{"$f":"IF(truncate!CT7:HQ15 < 0, 0, IF(truncate!CT7:HQ15 > 255, 255, truncate!CT7:HQ15))","v":39},{"$f":"IF(truncate!CU7:HR15 < 0, 0, IF(truncate!CU7:HR15 > 255, 255, truncate!CU7:HR15))","v":0},{"$f":"IF(truncate!CV7:HS15 < 0, 0, IF(truncate!CV7:HS15 > 255, 255, truncate!CV7:HS15))","v":0},{"$f":"IF(truncate!CW7:HT15 < 0, 0, IF(truncate!CW7:HT15 > 255, 255, truncate!CW7:HT15))","v":2},{"$f":"IF(truncate!CX7:HU15 < 0, 0, IF(truncate!CX7:HU15 > 255, 255, truncate!CX7:HU15))","v":5},{"$f":"IF(truncate!CY7:HV15 < 0, 0, IF(truncate!CY7:HV15 > 255, 255, truncate!CY7:HV15))","v":0},{"$f":"IF(truncate!CZ7:HW15 < 0, 0, IF(truncate!CZ7:HW15 > 255, 255, truncate!CZ7:HW15))","v":0},{"$f":"IF(truncate!DA7:HX15 < 0, 0, IF(truncate!DA7:HX15 > 255, 255, truncate!DA7:HX15))","v":9},{"$f":"IF(truncate!DB7:HY15 < 0, 0, IF(truncate!DB7:HY15 > 255, 255, truncate!DB7:HY15))","v":25},{"$f":"IF(truncate!DC7:HZ15 < 0, 0, IF(truncate!DC7:HZ15 > 255, 255, truncate!DC7:HZ15))","v":12},{"$f":"IF(truncate!DD7:IA15 < 0, 0, IF(truncate!DD7:IA15 > 255, 255, truncate!DD7:IA15))","v":0},{"$f":"IF(truncate!DE7:IB15 < 0, 0, IF(truncate!DE7:IB15 > 255, 255, truncate!DE7:IB15))","v":24},{"$f":"IF(truncate!DF7:IC15 < 0, 0, IF(truncate!DF7:IC15 > 255, 255, truncate!DF7:IC15))","v":0},{"$f":"IF(truncate!DG7:ID15 < 0, 0, IF(truncate!DG7:ID15 > 255, 255, truncate!DG7:ID15))","v":18},{"$f":"IF(truncate!DH7:IE15 < 0, 0, IF(truncate!DH7:IE15 > 255, 255, truncate!DH7:IE15))","v":4},{"$f":"IF(truncate!DI7:IF15 < 0, 0, IF(truncate!DI7:IF15 > 255, 255, truncate!DI7:IF15))","v":6},{"$f":"IF(truncate!DJ7:IG15 < 0, 0, IF(truncate!DJ7:IG15 > 255, 255, truncate!DJ7:IG15))","v":0},{"$f":"IF(truncate!DK7:IH15 < 0, 0, IF(truncate!DK7:IH15 > 255, 255, truncate!DK7:IH15))","v":2},{"$f":"IF(truncate!DL7:II15 < 0, 0, IF(truncate!DL7:II15 > 255, 255, truncate!DL7:II15))","v":0},{"$f":"IF(truncate!DM7:IJ15 < 0, 0, IF(truncate!DM7:IJ15 > 255, 255, truncate!DM7:IJ15))","v":9},{"$f":"IF(truncate!DN7:IK15 < 0, 0, IF(truncate!DN7:IK15 > 255, 255, truncate!DN7:IK15))","v":0},{"$f":"IF(truncate!DO7:IL15 < 0, 0, IF(truncate!DO7:IL15 > 255, 255, truncate!DO7:IL15))","v":0},{"$f":"IF(truncate!DP7:IM15 < 0, 0, IF(truncate!DP7:IM15 > 255, 255, truncate!DP7:IM15))","v":0},{"$f":"IF(truncate!DQ7:IN15 < 0, 0, IF(truncate!DQ7:IN15 > 255, 255, truncate!DQ7:IN15))","v":5},{"$f":"IF(truncate!DR7:IO15 < 0, 0, IF(truncate!DR7:IO15 > 255, 255, truncate!DR7:IO15))","v":0},{"$f":"IF(truncate!DS7:IP15 < 0, 0, IF(truncate!DS7:IP15 > 255, 255, truncate!DS7:IP15))","v":20},{"$f":"IF(truncate!DT7:IQ15 < 0, 0, IF(truncate!DT7:IQ15 > 255, 255, truncate!DT7:IQ15))","v":6},{"$f":"IF(truncate!DU7:IR15 < 0, 0, IF(truncate!DU7:IR15 > 255, 255, truncate!DU7:IR15))","v":9},{"$f":"IF(truncate!DV7:IS15 < 0, 0, IF(truncate!DV7:IS15 > 255, 255, truncate!DV7:IS15))","v":24},{"$f":"IF(truncate!DW7:IT15 < 0, 0, IF(truncate!DW7:IT15 > 255, 255, truncate!DW7:IT15))","v":3},{"$f":"IF(truncate!DX7:IU15 < 0, 0, IF(truncate!DX7:IU15 > 255, 255, truncate!DX7:IU15))","v":18}]
[{"$f":"IF(truncate!A8:DX16 < 0, 0, IF(truncate!A8:DX16 > 255, 255, truncate!A8:DX16))","v":0},{"$f":"IF(truncate!B8:DY16 < 0, 0, IF(truncate!B8:DY16 > 255, 255, truncate!B8:DY16))","v":10},{"$f":"IF(truncate!C8:DZ16 < 0, 0, IF(truncate!C8:DZ16 > 255, 255, truncate!C8:DZ16))","v":0},{"$f":"IF(truncate!D8:EA16 < 0, 0, IF(truncate!D8:EA16 > 255, 255, truncate!D8:EA16))","v":8},{"$f":"IF(truncate!E8:EB16 < 0, 0, IF(truncate!E8:EB16 > 255, 255, truncate!E8:EB16))","v":43},{"$f":"IF(truncate!F8:EC16 < 0, 0, IF(truncate!F8:EC16 > 255, 255, truncate!F8:EC16))","v":28},{"$f":"IF(truncate!G8:ED16 < 0, 0, IF(truncate!G8:ED16 > 255, 255, truncate!G8:ED16))","v":58},{"$f":"IF(truncate!H8:EE16 < 0, 0, IF(truncate!H8:EE16 > 255, 255, truncate!H8:EE16))","v":16},{"$f":"IF(truncate!I8:EF16 < 0, 0, IF(truncate!I8:EF16 > 255, 255, truncate!I8:EF16))","v":0},{"$f":"IF(truncate!J8:EG16 < 0, 0, IF(truncate!J8:EG16 > 255, 255, truncate!J8:EG16))","v":0},{"$f":"IF(truncate!K8:EH16 < 0, 0, IF(truncate!K8:EH16 > 255, 255, truncate!K8:EH16))","v":24},{"$f":"IF(truncate!L8:EI16 < 0, 0, IF(truncate!L8:EI16 > 255, 255, truncate!L8:EI16))","v":24},{"$f":"IF(truncate!M8:EJ16 < 0, 0, IF(truncate!M8:EJ16 > 255, 255, truncate!M8:EJ16))","v":15},{"$f":"IF(truncate!N8:EK16 < 0, 0, IF(truncate!N8:EK16 > 255, 255, truncate!N8:EK16))","v":34},{"$f":"IF(truncate!O8:EL16 < 0, 0, IF(truncate!O8:EL16 > 255, 255, truncate!O8:EL16))","v":0},{"$f":"IF(truncate!P8:EM16 < 0, 0, IF(truncate!P8:EM16 > 255, 255, truncate!P8:EM16))","v":6},{"$f":"IF(truncate!Q8:EN16 < 0, 0, IF(truncate!Q8:EN16 > 255, 255, truncate!Q8:EN16))","v":35},{"$f":"IF(truncate!R8:EO16 < 0, 0, IF(truncate!R8:EO16 > 255, 255, truncate!R8:EO16))","v":17},{"$f":"IF(truncate!S8:EP16 < 0, 0, IF(truncate!S8:EP16 > 255, 255, truncate!S8:EP16))","v":1},{"$f":"IF(truncate!T8:EQ16 < 0, 0, IF(truncate!T8:EQ16 > 255, 255, truncate!T8:EQ16))","v":20},{"$f":"IF(truncate!U8:ER16 < 0, 0, IF(truncate!U8:ER16 > 255, 255, truncate!U8:ER16))","v":39},{"$f":"IF(truncate!V8:ES16 < 0, 0, IF(truncate!V8:ES16 > 255, 255, truncate!V8:ES16))","v":0},{"$f":"IF(truncate!W8:ET16 < 0, 0, IF(truncate!W8:ET16 > 255, 255, truncate!W8:ET16))","v":9},{"$f":"IF(truncate!X8:EU16 < 0, 0, IF(truncate!X8:EU16 > 255, 255, truncate!X8:EU16))","v":0},{"$f":"IF(truncate!Y8:EV16 < 0, 0, IF(truncate!Y8:EV16 > 255, 255, truncate!Y8:EV16))","v":18},{"$f":"IF(truncate!Z8:EW16 < 0, 0, IF(truncate!Z8:EW16 > 255, 255, truncate!Z8:EW16))","v":18},{"$f":"IF(truncate!AA8:EX16 < 0, 0, IF(truncate!AA8:EX16 > 255, 255, truncate!AA8:EX16))","v":14},{"$f":"IF(truncate!AB8:EY16 < 0, 0, IF(truncate!AB8:EY16 > 255, 255, truncate!AB8:EY16))","v":26},{"$f":"IF(truncate!AC8:EZ16 < 0, 0, IF(truncate!AC8:EZ16 > 255, 255, truncate!AC8:EZ16))","v":2},{"$f":"IF(truncate!AD8:FA16 < 0, 0, IF(truncate!AD8:FA16 > 255, 255, truncate!AD8:FA16))","v":0},{"$f":"IF(truncate!AE8:FB16 < 0, 0, IF(truncate!AE8:FB16 > 255, 255, truncate!AE8:FB16))","v":10},{"$f":"IF(truncate!AF8:FC16 < 0, 0, IF(truncate!AF8:FC16 > 255, 255, truncate!AF8:FC16))","v":0},{"$f":"IF(truncate!AG8:FD16 < 0, 0, IF(truncate!AG8:FD16 > 255, 255, truncate!AG8:FD16))","v":0},{"$f":"IF(truncate!AH8:FE16 < 0, 0, IF(truncate!AH8:FE16 > 255, 255, truncate!AH8:FE16))","v":15},{"$f":"IF(truncate!AI8:FF16 < 0, 0, IF(truncate!AI8:FF16 > 255, 255, truncate!AI8:FF16))","v":4},{"$f":"IF(truncate!AJ8:FG16 < 0, 0, IF(truncate!AJ8:FG16 > 255, 255, truncate!AJ8:FG16))","v":61},{"$f":"IF(truncate!AK8:FH16 < 0, 0, IF(truncate!AK8:FH16 > 255, 255, truncate!AK8:FH16))","v":4},{"$f":"IF(truncate!AL8:FI16 < 0, 0, IF(truncate!AL8:FI16 > 255, 255, truncate!AL8:FI16))","v":0},{"$f":"IF(truncate!AM8:FJ16 < 0, 0, IF(truncate!AM8:FJ16 > 255, 255, truncate!AM8:FJ16))","v":17},{"$f":"IF(truncate!AN8:FK16 < 0, 0, IF(truncate!AN8:FK16 > 255, 255, truncate!AN8:FK16))","v":18},{"$f":"IF(truncate!AO8:FL16 < 0, 0, IF(truncate!AO8:FL16 > 255, 255, truncate!AO8:FL16))","v":9},{"$f":"IF(truncate!AP8:FM16 < 0, 0, IF(truncate!AP8:FM16 > 255, 255, truncate!AP8:FM16))","v":26},{"$f":"IF(truncate!AQ8:FN16 < 0, 0, IF(truncate!AQ8:FN16 > 255, 255, truncate!AQ8:FN16))","v":10},{"$f":"IF(truncate!AR8:FO16 < 0, 0, IF(truncate!AR8:FO16 > 255, 255, truncate!AR8:FO16))","v":0},{"$f":"IF(truncate!AS8:FP16 < 0, 0, IF(truncate!AS8:FP16 > 255, 255, truncate!AS8:FP16))","v":0},{"$f":"IF(truncate!AT8:FQ16 < 0, 0, IF(truncate!AT8:FQ16 > 255, 255, truncate!AT8:FQ16))","v":25},{"$f":"IF(truncate!AU8:FR16 < 0, 0, IF(truncate!AU8:FR16 > 255, 255, truncate!AU8:FR16))","v":11},{"$f":"IF(truncate!AV8:FS16 < 0, 0, IF(truncate!AV8:FS16 > 255, 255, truncate!AV8:FS16))","v":0},{"$f":"IF(truncate!AW8:FT16 < 0, 0, IF(truncate!AW8:FT16 > 255, 255, truncate!AW8:FT16))","v":0},{"$f":"IF(truncate!AX8:FU16 < 0, 0, IF(truncate!AX8:FU16 > 255, 255, truncate!AX8:FU16))","v":7},{"$f":"IF(truncate!AY8:FV16 < 0, 0, IF(truncate!AY8:FV16 > 255, 255, truncate!AY8:FV16))","v":13},{"$f":"IF(truncate!AZ8:FW16 < 0, 0, IF(truncate!AZ8:FW16 > 255, 255, truncate!AZ8:FW16))","v":34},{"$f":"IF(truncate!BA8:FX16 < 0, 0, IF(truncate!BA8:FX16 > 255, 255, truncate!BA8:FX16))","v":36},{"$f":"IF(truncate!BB8:FY16 < 0, 0, IF(truncate!BB8:FY16 > 255, 255, truncate!BB8:FY16))","v":12},{"$f":"IF(truncate!BC8:FZ16 < 0, 0, IF(truncate!BC8:FZ16 > 255, 255, truncate!BC8:FZ16))","v":0},{"$f":"IF(truncate!BD8:GA16 < 0, 0, IF(truncate!BD8:GA16 > 255, 255, truncate!BD8:GA16))","v":0},{"$f":"IF(truncate!BE8:GB16 < 0, 0, IF(truncate!BE8:GB16 > 255, 255, truncate!BE8:GB16))","v":13},{"$f":"IF(truncate!BF8:GC16 < 0, 0, IF(truncate!BF8:GC16 > 255, 255, truncate!BF8:GC16))","v":27},{"$f":"IF(truncate!BG8:GD16 < 0, 0, IF(truncate!BG8:GD16 > 255, 255, truncate!BG8:GD16))","v":19},{"$f":"IF(truncate!BH8:GE16 < 0, 0, IF(truncate!BH8:GE16 > 255, 255, truncate!BH8:GE16))","v":4},{"$f":"IF(truncate!BI8:GF16 < 0, 0, IF(truncate!BI8:GF16 > 255, 255, truncate!BI8:GF16))","v":11},{"$f":"IF(truncate!BJ8:GG16 < 0, 0, IF(truncate!BJ8:GG16 > 255, 255, truncate!BJ8:GG16))","v":4},{"$f":"IF(truncate!BK8:GH16 < 0, 0, IF(truncate!BK8:GH16 > 255, 255, truncate!BK8:GH16))","v":14},{"$f":"IF(truncate!BL8:GI16 < 0, 0, IF(truncate!BL8:GI16 > 255, 255, truncate!BL8:GI16))","v":0},{"$f":"IF(truncate!BM8:GJ16 < 0, 0, IF(truncate!BM8:GJ16 > 255, 255, truncate!BM8:GJ16))","v":4},{"$f":"IF(truncate!BN8:GK16 < 0, 0, IF(truncate!BN8:GK16 > 255, 255, truncate!BN8:GK16))","v":21},{"$f":"IF(truncate!BO8:GL16 < 0, 0, IF(truncate!BO8:GL16 > 255, 255, truncate!BO8:GL16))","v":0},{"$f":"IF(truncate!BP8:GM16 < 0, 0, IF(truncate!BP8:GM16 > 255, 255, truncate!BP8:GM16))","v":0},{"$f":"IF(truncate!BQ8:GN16 < 0, 0, IF(truncate!BQ8:GN16 > 255, 255, truncate!BQ8:GN16))","v":2},{"$f":"IF(truncate!BR8:GO16 < 0, 0, IF(truncate!BR8:GO16 > 255, 255, truncate!BR8:GO16))","v":23},{"$f":"IF(truncate!BS8:GP16 < 0, 0, IF(truncate!BS8:GP16 > 255, 255, truncate!BS8:GP16))","v":0},{"$f":"IF(truncate!BT8:GQ16 < 0, 0, IF(truncate!BT8:GQ16 > 255, 255, truncate!BT8:GQ16))","v":0},{"$f":"IF(truncate!BU8:GR16 < 0, 0, IF(truncate!BU8:GR16 > 255, 255, truncate!BU8:GR16))","v":2},{"$f":"IF(truncate!BV8:GS16 < 0, 0, IF(truncate!BV8:GS16 > 255, 255, truncate!BV8:GS16))","v":12},{"$f":"IF(truncate!BW8:GT16 < 0, 0, IF(truncate!BW8:GT16 > 255, 255, truncate!BW8:GT16))","v":28},{"$f":"IF(truncate!BX8:GU16 < 0, 0, IF(truncate!BX8:GU16 > 255, 255, truncate!BX8:GU16))","v":15},{"$f":"IF(truncate!BY8:GV16 < 0, 0, IF(truncate!BY8:GV16 > 255, 255, truncate!BY8:GV16))","v":12},{"$f":"IF(truncate!BZ8:GW16 < 0, 0, IF(truncate!BZ8:GW16 > 255, 255, truncate!BZ8:GW16))","v":27},{"$f":"IF(truncate!CA8:GX16 < 0, 0, IF(truncate!CA8:GX16 > 255, 255, truncate!CA8:GX16))","v":0},{"$f":"IF(truncate!CB8:GY16 < 0, 0, IF(truncate!CB8:GY16 > 255, 255, truncate!CB8:GY16))","v":0},{"$f":"IF(truncate!CC8:GZ16 < 0, 0, IF(truncate!CC8:GZ16 > 255, 255, truncate!CC8:GZ16))","v":26},{"$f":"IF(truncate!CD8:HA16 < 0, 0, IF(truncate!CD8:HA16 > 255, 255, truncate!CD8:HA16))","v":4},{"$f":"IF(truncate!CE8:HB16 < 0, 0, IF(truncate!CE8:HB16 > 255, 255, truncate!CE8:HB16))","v":21},{"$f":"IF(truncate!CF8:HC16 < 0, 0, IF(truncate!CF8:HC16 > 255, 255, truncate!CF8:HC16))","v":20},{"$f":"IF(truncate!CG8:HD16 < 0, 0, IF(truncate!CG8:HD16 > 255, 255, truncate!CG8:HD16))","v":18},{"$f":"IF(truncate!CH8:HE16 < 0, 0, IF(truncate!CH8:HE16 > 255, 255, truncate!CH8:HE16))","v":0},{"$f":"IF(truncate!CI8:HF16 < 0, 0, IF(truncate!CI8:HF16 > 255, 255, truncate!CI8:HF16))","v":6},{"$f":"IF(truncate!CJ8:HG16 < 0, 0, IF(truncate!CJ8:HG16 > 255, 255, truncate!CJ8:HG16))","v":2},{"$f":"IF(truncate!CK8:HH16 < 0, 0, IF(truncate!CK8:HH16 > 255, 255, truncate!CK8:HH16))","v":10},{"$f":"IF(truncate!CL8:HI16 < 0, 0, IF(truncate!CL8:HI16 > 255, 255, truncate!CL8:HI16))","v":22},{"$f":"IF(truncate!CM8:HJ16 < 0, 0, IF(truncate!CM8:HJ16 > 255, 255, truncate!CM8:HJ16))","v":0},{"$f":"IF(truncate!CN8:HK16 < 0, 0, IF(truncate!CN8:HK16 > 255, 255, truncate!CN8:HK16))","v":5},{"$f":"IF(truncate!CO8:HL16 < 0, 0, IF(truncate!CO8:HL16 > 255, 255, truncate!CO8:HL16))","v":0},{"$f":"IF(truncate!CP8:HM16 < 0, 0, IF(truncate!CP8:HM16 > 255, 255, truncate!CP8:HM16))","v":0},{"$f":"IF(truncate!CQ8:HN16 < 0, 0, IF(truncate!CQ8:HN16 > 255, 255, truncate!CQ8:HN16))","v":0},{"$f":"IF(truncate!CR8:HO16 < 0, 0, IF(truncate!CR8:HO16 > 255, 255, truncate!CR8:HO16))","v":11},{"$f":"IF(truncate!CS8:HP16 < 0, 0, IF(truncate!CS8:HP16 > 255, 255, truncate!CS8:HP16))","v":32},{"$f":"IF(truncate!CT8:HQ16 < 0, 0, IF(truncate!CT8:HQ16 > 255, 255, truncate!CT8:HQ16))","v":42},{"$f":"IF(truncate!CU8:HR16 < 0, 0, IF(truncate!CU8:HR16 > 255, 255, truncate!CU8:HR16))","v":0},{"$f":"IF(truncate!CV8:HS16 < 0, 0, IF(truncate!CV8:HS16 > 255, 255, truncate!CV8:HS16))","v":4},{"$f":"IF(truncate!CW8:HT16 < 0, 0, IF(truncate!CW8:HT16 > 255, 255, truncate!CW8:HT16))","v":3},{"$f":"IF(truncate!CX8:HU16 < 0, 0, IF(truncate!CX8:HU16 > 255, 255, truncate!CX8:HU16))","v":8},{"$f":"IF(truncate!CY8:HV16 < 0, 0, IF(truncate!CY8:HV16 > 255, 255, truncate!CY8:HV16))","v":0},{"$f":"IF(truncate!CZ8:HW16 < 0, 0, IF(truncate!CZ8:HW16 > 255, 255, truncate!CZ8:HW16))","v":0},{"$f":"IF(truncate!DA8:HX16 < 0, 0, IF(truncate!DA8:HX16 > 255, 255, truncate!DA8:HX16))","v":7},{"$f":"IF(truncate!DB8:HY16 < 0, 0, IF(truncate!DB8:HY16 > 255, 255, truncate!DB8:HY16))","v":27},{"$f":"IF(truncate!DC8:HZ16 < 0, 0, IF(truncate!DC8:HZ16 > 255, 255, truncate!DC8:HZ16))","v":25},{"$f":"IF(truncate!DD8:IA16 < 0, 0, IF(truncate!DD8:IA16 > 255, 255, truncate!DD8:IA16))","v":0},{"$f":"IF(truncate!DE8:IB16 < 0, 0, IF(truncate!DE8:IB16 > 255, 255, truncate!DE8:IB16))","v":23},{"$f":"IF(truncate!DF8:IC16 < 0, 0, IF(truncate!DF8:IC16 > 255, 255, truncate!DF8:IC16))","v":0},{"$f":"IF(truncate!DG8:ID16 < 0, 0, IF(truncate!DG8:ID16 > 255, 255, truncate!DG8:ID16))","v":0},{"$f":"IF(truncate!DH8:IE16 < 0, 0, IF(truncate!DH8:IE16 > 255, 255, truncate!DH8:IE16))","v":1},{"$f":"IF(truncate!DI8:IF16 < 0, 0, IF(truncate!DI8:IF16 > 255, 255, truncate!DI8:IF16))","v":23},{"$f":"IF(truncate!DJ8:IG16 < 0, 0, IF(truncate!DJ8:IG16 > 255, 255, truncate!DJ8:IG16))","v":14},{"$f":"IF(truncate!DK8:IH16 < 0, 0, IF(truncate!DK8:IH16 > 255, 255, truncate!DK8:IH16))","v":15},{"$f":"IF(truncate!DL8:II16 < 0, 0, IF(truncate!DL8:II16 > 255, 255, truncate!DL8:II16))","v":0},{"$f":"IF(truncate!DM8:IJ16 < 0, 0, IF(truncate!DM8:IJ16 > 255, 255, truncate!DM8:IJ16))","v":0},{"$f":"IF(truncate!DN8:IK16 < 0, 0, IF(truncate!DN8:IK16 > 255, 255, truncate!DN8:IK16))","v":0},{"$f":"IF(truncate!DO8:IL16 < 0, 0, IF(truncate!DO8:IL16 > 255, 255, truncate!DO8:IL16))","v":0},{"$f":"IF(truncate!DP8:IM16 < 0, 0, IF(truncate!DP8:IM16 > 255, 255, truncate!DP8:IM16))","v":4},{"$f":"IF(truncate!DQ8:IN16 < 0, 0, IF(truncate!DQ8:IN16 > 255, 255, truncate!DQ8:IN16))","v":0},{"$f":"IF(truncate!DR8:IO16 < 0, 0, IF(truncate!DR8:IO16 > 255, 255, truncate!DR8:IO16))","v":0},{"$f":"IF(truncate!DS8:IP16 < 0, 0, IF(truncate!DS8:IP16 > 255, 255, truncate!DS8:IP16))","v":24},{"$f":"IF(truncate!DT8:IQ16 < 0, 0, IF(truncate!DT8:IQ16 > 255, 255, truncate!DT8:IQ16))","v":17},{"$f":"IF(truncate!DU8:IR16 < 0, 0, IF(truncate!DU8:IR16 > 255, 255, truncate!DU8:IR16))","v":1},{"$f":"IF(truncate!DV8:IS16 < 0, 0, IF(truncate!DV8:IS16 > 255, 255, truncate!DV8:IS16))","v":33},{"$f":"IF(truncate!DW8:IT16 < 0, 0, IF(truncate!DW8:IT16 > 255, 255, truncate!DW8:IT16))","v":0},{"$f":"IF(truncate!DX8:IU16 < 0, 0, IF(truncate!DX8:IU16 > 255, 255, truncate!DX8:IU16))","v":18}]
[{"$f":"IF(truncate!A9:DX17 < 0, 0, IF(truncate!A9:DX17 > 255, 255, truncate!A9:DX17))","v":0},{"$f":"IF(truncate!B9:DY17 < 0, 0, IF(truncate!B9:DY17 > 255, 255, truncate!B9:DY17))","v":11},{"$f":"IF(truncate!C9:DZ17 < 0, 0, IF(truncate!C9:DZ17 > 255, 255, truncate!C9:DZ17))","v":0},{"$f":"IF(truncate!D9:EA17 < 0, 0, IF(truncate!D9:EA17 > 255, 255, truncate!D9:EA17))","v":9},{"$f":"IF(truncate!E9:EB17 < 0, 0, IF(truncate!E9:EB17 > 255, 255, truncate!E9:EB17))","v":37},{"$f":"IF(truncate!F9:EC17 < 0, 0, IF(truncate!F9:EC17 > 255, 255, truncate!F9:EC17))","v":35},{"$f":"IF(truncate!G9:ED17 < 0, 0, IF(truncate!G9:ED17 > 255, 255, truncate!G9:ED17))","v":70},{"$f":"IF(truncate!H9:EE17 < 0, 0, IF(truncate!H9:EE17 > 255, 255, truncate!H9:EE17))","v":25},{"$f":"IF(truncate!I9:EF17 < 0, 0, IF(truncate!I9:EF17 > 255, 255, truncate!I9:EF17))","v":0},{"$f":"IF(truncate!J9:EG17 < 0, 0, IF(truncate!J9:EG17 > 255, 255, truncate!J9:EG17))","v":0},{"$f":"IF(truncate!K9:EH17 < 0, 0, IF(truncate!K9:EH17 > 255, 255, truncate!K9:EH17))","v":28},{"$f":"IF(truncate!L9:EI17 < 0, 0, IF(truncate!L9:EI17 > 255, 255, truncate!L9:EI17))","v":10},{"$f":"IF(truncate!M9:EJ17 < 0, 0, IF(truncate!M9:EJ17 > 255, 255, truncate!M9:EJ17))","v":12},{"$f":"IF(truncate!N9:EK17 < 0, 0, IF(truncate!N9:EK17 > 255, 255, truncate!N9:EK17))","v":36},{"$f":"IF(truncate!O9:EL17 < 0, 0, IF(truncate!O9:EL17 > 255, 255, truncate!O9:EL17))","v":0},{"$f":"IF(truncate!P9:EM17 < 0, 0, IF(truncate!P9:EM17 > 255, 255, truncate!P9:EM17))","v":6},{"$f":"IF(truncate!Q9:EN17 < 0, 0, IF(truncate!Q9:EN17 > 255, 255, truncate!Q9:EN17))","v":34},{"$f":"IF(truncate!R9:EO17 < 0, 0, IF(truncate!R9:EO17 > 255, 255, truncate!R9:EO17))","v":9},{"$f":"IF(truncate!S9:EP17 < 0, 0, IF(truncate!S9:EP17 > 255, 255, truncate!S9:EP17))","v":0},{"$f":"IF(truncate!T9:EQ17 < 0, 0, IF(truncate!T9:EQ17 > 255, 255, truncate!T9:EQ17))","v":38},{"$f":"IF(truncate!U9:ER17 < 0, 0, IF(truncate!U9:ER17 > 255, 255, truncate!U9:ER17))","v":39},{"$f":"IF(truncate!V9:ES17 < 0, 0, IF(truncate!V9:ES17 > 255, 255, truncate!V9:ES17))","v":0},{"$f":"IF(truncate!W9:ET17 < 0, 0, IF(truncate!W9:ET17 > 255, 255, truncate!W9:ET17))","v":6},{"$f":"IF(truncate!X9:EU17 < 0, 0, IF(truncate!X9:EU17 > 255, 255, truncate!X9:EU17))","v":0},{"$f":"IF(truncate!Y9:EV17 < 0, 0, IF(truncate!Y9:EV17 > 255, 255, truncate!Y9:EV17))","v":18},{"$f":"IF(truncate!Z9:EW17 < 0, 0, IF(truncate!Z9:EW17 > 255, 255, truncate!Z9:EW17))","v":16},{"$f":"IF(truncate!AA9:EX17 < 0, 0, IF(truncate!AA9:EX17 > 255, 255, truncate!AA9:EX17))","v":16},{"$f":"IF(truncate!AB9:EY17 < 0, 0, IF(truncate!AB9:EY17 > 255, 255, truncate!AB9:EY17))","v":25},{"$f":"IF(truncate!AC9:EZ17 < 0, 0, IF(truncate!AC9:EZ17 > 255, 255, truncate!AC9:EZ17))","v":13},{"$f":"IF(truncate!AD9:FA17 < 0, 0, IF(truncate!AD9:FA17 > 255, 255, truncate!AD9:FA17))","v":0},{"$f":"IF(truncate!AE9:FB17 < 0, 0, IF(truncate!AE9:FB17 > 255, 255, truncate!AE9:FB17))","v":5},{"$f":"IF(truncate!AF9:FC17 < 0, 0, IF(truncate!AF9:FC17 > 255, 255, truncate!AF9:FC17))","v":1},{"$f":"IF(truncate!AG9:FD17 < 0, 0, IF(truncate!AG9:FD17 > 255, 255, truncate!AG9:FD17))","v":0},{"$f":"IF(truncate!AH9:FE17 < 0, 0, IF(truncate!AH9:FE17 > 255, 255, truncate!AH9:FE17))","v":23},{"$f":"IF(truncate!AI9:FF17 < 0, 0, IF(truncate!AI9:FF17 > 255, 255, truncate!AI9:FF17))","v":11},{"$f":"IF(truncate!AJ9:FG17 < 0, 0, IF(truncate!AJ9:FG17 > 255, 255, truncate!AJ9:FG17))","v":52},{"$f":"IF(truncate!AK9:FH17 < 0, 0, IF(truncate!AK9:FH17 > 255, 255, truncate!AK9:FH17))","v":5},{"$f":"IF(truncate!AL9:FI17 < 0, 0, IF(truncate!AL9:FI17 > 255, 255, truncate!AL9:FI17))","v":6},{"$f":"IF(truncate!AM9:FJ17 < 0, 0, IF(truncate!AM9:FJ17 > 255, 255, truncate!AM9:FJ17))","v":20},{"$f":"IF(truncate!AN9:FK17 < 0, 0, IF(truncate!AN9:FK17 > 255, 255, truncate!AN9:FK17))","v":15},{"$f":"IF(truncate!AO9:FL17 < 0, 0, IF(truncate!AO9:FL17 > 255, 255, truncate!AO9:FL17))","v":19},{"$f":"IF(truncate!AP9:FM17 < 0, 0, IF(truncate!AP9:FM17 > 255, 255, truncate!AP9:FM17))","v":23},{"$f":"IF(truncate!AQ9:FN17 < 0, 0, IF(truncate!AQ9:FN17 > 255, 255, truncate!AQ9:FN17))","v":3},{"$f":"IF(truncate!AR9:FO17 < 0, 0, IF(truncate!AR9:FO17 > 255, 255, truncate!AR9:FO17))","v":0},{"$f":"IF(truncate!AS9:FP17 < 0, 0, IF(truncate!AS9:FP17 > 255, 255, truncate!AS9:FP17))","v":0},{"$f":"IF(truncate!AT9:FQ17 < 0, 0, IF(truncate!AT9:FQ17 > 255, 255, truncate!AT9:FQ17))","v":33},{"$f":"IF(truncate!AU9:FR17 < 0, 0, IF(truncate!AU9:FR17 > 255, 255, truncate!AU9:FR17))","v":4},{"$f":"IF(truncate!AV9:FS17 < 0, 0, IF(truncate!AV9:FS17 > 255, 255, truncate!AV9:FS17))","v":0},{"$f":"IF(truncate!AW9:FT17 < 0, 0, IF(truncate!AW9:FT17 > 255, 255, truncate!AW9:FT17))","v":0},{"$f":"IF(truncate!AX9:FU17 < 0, 0, IF(truncate!AX9:FU17 > 255, 255, truncate!AX9:FU17))","v":6},{"$f":"IF(truncate!AY9:FV17 < 0, 0, IF(truncate!AY9:FV17 > 255, 255, truncate!AY9:FV17))","v":40},{"$f":"IF(truncate!AZ9:FW17 < 0, 0, IF(truncate!AZ9:FW17 > 255, 255, truncate!AZ9:FW17))","v":13},{"$f":"IF(truncate!BA9:FX17 < 0, 0, IF(truncate!BA9:FX17 > 255, 255, truncate!BA9:FX17))","v":38},{"$f":"IF(truncate!BB9:FY17 < 0, 0, IF(truncate!BB9:FY17 > 255, 255, truncate!BB9:FY17))","v":33},{"$f":"IF(truncate!BC9:FZ17 < 0, 0, IF(truncate!BC9:FZ17 > 255, 255, truncate!BC9:FZ17))","v":0},{"$f":"IF(truncate!BD9:GA17 < 0, 0, IF(truncate!BD9:GA17 > 255, 255, truncate!BD9:GA17))","v":5},{"$f":"IF(truncate!BE9:GB17 < 0, 0, IF(truncate!BE9:GB17 > 255, 255, truncate!BE9:GB17))","v":18},{"$f":"IF(truncate!BF9:GC17 < 0, 0, IF(truncate!BF9:GC17 > 255, 255, truncate!BF9:GC17))","v":12},{"$f":"IF(truncate!BG9:GD17 < 0, 0, IF(truncate!BG9:GD17 > 255, 255, truncate!BG9:GD17))","v":12},{"$f":"IF(truncate!BH9:GE17 < 0, 0, IF(truncate!BH9:GE17 > 255, 255, truncate!BH9:GE17))","v":8},{"$f":"IF(truncate!BI9:GF17 < 0, 0, IF(truncate!BI9:GF17 > 255, 255, truncate!BI9:GF17))","v":33},{"$f":"IF(truncate!BJ9:GG17 < 0, 0, IF(truncate!BJ9:GG17 > 255, 255, truncate!BJ9:GG17))","v":20},{"$f":"IF(truncate!BK9:GH17 < 0, 0, IF(truncate!BK9:GH17 > 255, 255, truncate!BK9:GH17))","v":7},{"$f":"IF(truncate!BL9:GI17 < 0, 0, IF(truncate!BL9:GI17 > 255, 255, truncate!BL9:GI17))","v":0},{"$f":"IF(truncate!BM9:GJ17 < 0, 0, IF(truncate!BM9:GJ17 > 255, 255, truncate!BM9:GJ17))","v":1},{"$f":"IF(truncate!BN9:GK17 < 0, 0, IF(truncate!BN9:GK17 > 255, 255, truncate!BN9:GK17))","v":28},{"$f":"IF(truncate!BO9:GL17 < 0, 0, IF(truncate!BO9:GL17 > 255, 255, truncate!BO9:GL17))","v":0},{"$f":"IF(truncate!BP9:GM17 < 0, 0, IF(truncate!BP9:GM17 > 255, 255, truncate!BP9:GM17))","v":0},{"$f":"IF(truncate!BQ9:GN17 < 0, 0, IF(truncate!BQ9:GN17 > 255, 255, truncate!BQ9:GN17))","v":10},{"$f":"IF(truncate!BR9:GO17 < 0, 0, IF(truncate!BR9:GO17 > 255, 255, truncate!BR9:GO17))","v":11},{"$f":"IF(truncate!BS9:GP17 < 0, 0, IF(truncate!BS9:GP17 > 255, 255, truncate!BS9:GP17))","v":0},{"$f":"IF(truncate!BT9:GQ17 < 0, 0, IF(truncate!BT9:GQ17 > 255, 255, truncate!BT9:GQ17))","v":0},{"$f":"IF(truncate!BU9:GR17 < 0, 0, IF(truncate!BU9:GR17 > 255, 255, truncate!BU9:GR17))","v":0},{"$f":"IF(truncate!BV9:GS17 < 0, 0, IF(truncate!BV9:GS17 > 255, 255, truncate!BV9:GS17))","v":16},{"$f":"IF(truncate!BW9:GT17 < 0, 0, IF(truncate!BW9:GT17 > 255, 255, truncate!BW9:GT17))","v":25},{"$f":"IF(truncate!BX9:GU17 < 0, 0, IF(truncate!BX9:GU17 > 255, 255, truncate!BX9:GU17))","v":16},{"$f":"IF(truncate!BY9:GV17 < 0, 0, IF(truncate!BY9:GV17 > 255, 255, truncate!BY9:GV17))","v":0},{"$f":"IF(truncate!BZ9:GW17 < 0, 0, IF(truncate!BZ9:GW17 > 255, 255, truncate!BZ9:GW17))","v":21},{"$f":"IF(truncate!CA9:GX17 < 0, 0, IF(truncate!CA9:GX17 > 255, 255, truncate!CA9:GX17))","v":0},{"$f":"IF(truncate!CB9:GY17 < 0, 0, IF(truncate!CB9:GY17 > 255, 255, truncate!CB9:GY17))","v":1},{"$f":"IF(truncate!CC9:GZ17 < 0, 0, IF(truncate!CC9:GZ17 > 255, 255, truncate!CC9:GZ17))","v":32},{"$f":"IF(truncate!CD9:HA17 < 0, 0, IF(truncate!CD9:HA17 > 255, 255, truncate!CD9:HA17))","v":10},{"$f":"IF(truncate!CE9:HB17 < 0, 0, IF(truncate!CE9:HB17 > 255, 255, truncate!CE9:HB17))","v":12},{"$f":"IF(truncate!CF9:HC17 < 0, 0, IF(truncate!CF9:HC17 > 255, 255, truncate!CF9:HC17))","v":20},{"$f":"IF(truncate!CG9:HD17 < 0, 0, IF(truncate!CG9:HD17 > 255, 255, truncate!CG9:HD17))","v":14},{"$f":"IF(truncate!CH9:HE17 < 0, 0, IF(truncate!CH9:HE17 > 255, 255, truncate!CH9:HE17))","v":0},{"$f":"IF(truncate!CI9:HF17 < 0, 0, IF(truncate!CI9:HF17 > 255, 255, truncate!CI9:HF17))","v":27},{"$f":"IF(truncate!CJ9:HG17 < 0, 0, IF(truncate!CJ9:HG17 > 255, 255, truncate!CJ9:HG17))","v":7},{"$f":"IF(truncate!CK9:HH17 < 0, 0, IF(truncate!CK9:HH17 > 255, 255, truncate!CK9:HH17))","v":14},{"$f":"IF(truncate!CL9:HI17 < 0, 0, IF(truncate!CL9:HI17 > 255, 255, truncate!CL9:HI17))","v":18},{"$f":"IF(truncate!CM9:HJ17 < 0, 0, IF(truncate!CM9:HJ17 > 255, 255, truncate!CM9:HJ17))","v":0},{"$f":"IF(truncate!CN9:HK17 < 0, 0, IF(truncate!CN9:HK17 > 255, 255, truncate!CN9:HK17))","v":2},{"$f":"IF(truncate!CO9:HL17 < 0, 0, IF(truncate!CO9:HL17 > 255, 255, truncate!CO9:HL17))","v":0},{"$f":"IF(truncate!CP9:HM17 < 0, 0, IF(truncate!CP9:HM17 > 255, 255, truncate!CP9:HM17))","v":5},{"$f":"IF(truncate!CQ9:HN17 < 0, 0, IF(truncate!CQ9:HN17 > 255, 255, truncate!CQ9:HN17))","v":0},{"$f":"IF(truncate!CR9:HO17 < 0, 0, IF(truncate!CR9:HO17 > 255, 255, truncate!CR9:HO17))","v":12},{"$f":"IF(truncate!CS9:HP17 < 0, 0, IF(truncate!CS9:HP17 > 255, 255, truncate!CS9:HP17))","v":33},{"$f":"IF(truncate!CT9:HQ17 < 0, 0, IF(truncate!CT9:HQ17 > 255, 255, truncate!CT9:HQ17))","v":51},{"$f":"IF(truncate!CU9:HR17 < 0, 0, IF(truncate!CU9:HR17 > 255, 255, truncate!CU9:HR17))","v":0},{"$f":"IF(truncate!CV9:HS17 < 0, 0, IF(truncate!CV9:HS17 > 255, 255, truncate!CV9:HS17))","v":1},{"$f":"IF(truncate!CW9:HT17 < 0, 0, IF(truncate!CW9:HT17 > 255, 255, truncate!CW9:HT17))","v":1},{"$f":"IF(truncate!CX9:HU17 < 0, 0, IF(truncate!CX9:HU17 > 255, 255, truncate!CX9:HU17))","v":16},{"$f":"IF(truncate!CY9:HV17 < 0, 0, IF(truncate!CY9:HV17 > 255, 255, truncate!CY9:HV17))","v":0},{"$f":"IF(truncate!CZ9:HW17 < 0, 0, IF(truncate!CZ9:HW17 > 255, 255, truncate!CZ9:HW17))","v":0},{"$f":"IF(truncate!DA9:HX17 < 0, 0, IF(truncate!DA9:HX17 > 255, 255, truncate!DA9:HX17))","v":13},{"$f":"IF(truncate!DB9:HY17 < 0, 0, IF(truncate!DB9:HY17 > 255, 255, truncate!DB9:HY17))","v":40},{"$f":"IF(truncate!DC9:HZ17 < 0, 0, IF(truncate!DC9:HZ17 > 255, 255, truncate!DC9:HZ17))","v":25},{"$f":"IF(truncate!DD9:IA17 < 0, 0, IF(truncate!DD9:IA17 > 255, 255, truncate!DD9:IA17))","v":0},{"$f":"IF(truncate!DE9:IB17 < 0, 0, IF(truncate!DE9:IB17 > 255, 255, truncate!DE9:IB17))","v":39},{"$f":"IF(truncate!DF9:IC17 < 0, 0, IF(truncate!DF9:IC17 > 255, 255, truncate!DF9:IC17))","v":0},{"$f":"IF(truncate!DG9:ID17 < 0, 0, IF(truncate!DG9:ID17 > 255, 255, truncate!DG9:ID17))","v":5},{"$f":"IF(truncate!DH9:IE17 < 0, 0, IF(truncate!DH9:IE17 > 255, 255, truncate!DH9:IE17))","v":6},{"$f":"IF(truncate!DI9:IF17 < 0, 0, IF(truncate!DI9:IF17 > 255, 255, truncate!DI9:IF17))","v":8},{"$f":"IF(truncate!DJ9:IG17 < 0, 0, IF(truncate!DJ9:IG17 > 255, 255, truncate!DJ9:IG17))","v":15},{"$f":"IF(truncate!DK9:IH17 < 0, 0, IF(truncate!DK9:IH17 > 255, 255, truncate!DK9:IH17))","v":6},{"$f":"IF(truncate!DL9:II17 < 0, 0, IF(truncate!DL9:II17 > 255, 255, truncate!DL9:II17))","v":0},{"$f":"IF(truncate!DM9:IJ17 < 0, 0, IF(truncate!DM9:IJ17 > 255, 255, truncate!DM9:IJ17))","v":2},{"$f":"IF(truncate!DN9:IK17 < 0, 0, IF(truncate!DN9:IK17 > 255, 255, truncate!DN9:IK17))","v":5},{"$f":"IF(truncate!DO9:IL17 < 0, 0, IF(truncate!DO9:IL17 > 255, 255, truncate!DO9:IL17))","v":0},{"$f":"IF(truncate!DP9:IM17 < 0, 0, IF(truncate!DP9:IM17 > 255, 255, truncate!DP9:IM17))","v":8},{"$f":"IF(truncate!DQ9:IN17 < 0, 0, IF(truncate!DQ9:IN17 > 255, 255, truncate!DQ9:IN17))","v":0},{"$f":"IF(truncate!DR9:IO17 < 0, 0, IF(truncate!DR9:IO17 > 255, 255, truncate!DR9:IO17))","v":0},{"$f":"IF(truncate!DS9:IP17 < 0, 0, IF(truncate!DS9:IP17 > 255, 255, truncate!DS9:IP17))","v":35},{"$f":"IF(truncate!DT9:IQ17 < 0, 0, IF(truncate!DT9:IQ17 > 255, 255, truncate!DT9:IQ17))","v":12},{"$f":"IF(truncate!DU9:IR17 < 0, 0, IF(truncate!DU9:IR17 > 255, 255, truncate!DU9:IR17))","v":7},{"$f":"IF(truncate!DV9:IS17 < 0, 0, IF(truncate!DV9:IS17 > 255, 255, truncate!DV9:IS17))","v":31},{"$f":"IF(truncate!DW9:IT17 < 0, 0, IF(truncate!DW9:IT17 > 255, 255, truncate!DW9:IT17))","v":0},{"$f":"IF(truncate!DX9:IU17 < 0, 0, IF(truncate!DX9:IU17 > 255, 255, truncate!DX9:IU17))","v":28}]

{"sheet":"outCh000","index":4,"n_rows":3,"n_cols":3,"rows_kept":3,"cut":false,"hidden":false,"merged":[]}
[{"$f":"OFFSET(INDIRECT(ADDRESS(1,1,,,\"Relu\")), (ROW()-1)*3+COLUMN()-1, 0)","v":0},0,0]
[0,0,0]
[0,0,0]

{"sheet":"outCh001","index":5,"n_rows":3,"n_cols":3,"rows_kept":3,"cut":false,"hidden":false,"merged":[]}
[{"$f":"OFFSET(INDIRECT(ADDRESS(1,2,,,\"Relu\")), (ROW()-1)*3+COLUMN()-1, 0)","v":11},16,12]
[0,1,3]
[1,10,11]

{"sheet":"outCh002","index":6,"n_rows":3,"n_cols":3,"rows_kept":3,"cut":false,"hidden":false,"merged":[]}
[{"$f":"OFFSET(INDIRECT(ADDRESS(1,3,,,\"Relu\")), (ROW()-1)*3+COLUMN()-1, 0)","v":0},0,0]
[0,0,0]
[0,0,0]

{"sheet":"outCh003","index":7,"n_rows":3,"n_cols":3,"rows_kept":3,"cut":false,"hidden":false,"merged":[]}
[{"$f":"OFFSET(INDIRECT(ADDRESS(1,4,,,\"Relu\")), (ROW()-1)*3+COLUMN()-1, 0)","v":12},7,9]
[13,10,10]
[10,8,9]

{"sheet":"outCh124","index":8,"n_rows":3,"n_cols":3,"rows_kept":3,"cut":false,"hidden":false,"merged":[]}
[{"$f":"OFFSET(INDIRECT(ADDRESS(1,125,,,\"Relu\")), (ROW()-1)*3+COLUMN()-1, 0)","v":25},21,20]
[15,1,8]
[9,1,7]

{"sheet":"outCh125","index":9,"n_rows":3,"n_cols":3,"rows_kept":3,"cut":false,"hidden":false,"merged":[]}
[{"$f":"OFFSET(INDIRECT(ADDRESS(1,126,,,\"Relu\")), (ROW()-1)*3+COLUMN()-1, 0)","v":12},15,16]
[22,36,39]
[24,33,31]

{"sheet":"outCh126","index":10,"n_rows":3,"n_cols":3,"rows_kept":3,"cut":false,"hidden":false,"merged":[]}
[{"$f":"OFFSET(INDIRECT(ADDRESS(1,127,,,\"Relu\")), (ROW()-1)*3+COLUMN()-1, 0)","v":0},0,0]
[1,0,0]
[3,0,0]

{"sheet":"outCh127","index":11,"n_rows":3,"n_cols":3,"rows_kept":3,"cut":false,"hidden":false,"merged":[]}
[{"$f":"OFFSET(INDIRECT(ADDRESS(1,128,,,\"Relu\")), (ROW()-1)*3+COLUMN()-1, 0)","v":9},0,9]
[9,0,12]
[18,18,28]