{"text_format":"1","workbook":"xlsx","n_sheets":4,"sheets":["README","f-response","io-sinwave","io-impulse"],"not_rendered":{"charts":6,"images":2,"macros":1,"external_links":0,"defined_names":5,"comments":0,"pivot_tables":0},"unopened":[],"bounds":{"document_bytes":16777216,"sheet_cells":100000,"rows_first":2000,"rows_last":500,"rows_between":2000,"halvings":0,"cell_chars":16384,"cell_head_chars":4096},"cells_cut":0,"cells_raw":0,"read":"whole","date_system":"1900"}

{"sheet":"README","index":0,"n_rows":54,"n_cols":4,"rows_kept":54,"cut":false,"hidden":false,"merged":[]}
["FIRフィルタ計算用EXCELシート"]
[]
["●パラメータ","値",null,"反映される列"]
["サンプリング周波数",44100,null,"f-responseのomega列, io-sinwave, io-impulseのTime列"]
["入力サイン波の周波数",2000,null,"io-sinwaveのx[n]列"]
["F特計算周波数のステップ",100,null,"f-responseのfrequency列"]
["（＊）F特の計算、出力の計算にはVBAを使います（詳しくは弊社サイトhttp://digitalfilter.comの「お役立ちEXCEL for Filters」ご参照）"]
["（＊）FIRの係数はf-responseシートのD列に直接入力します。係数の数（140）を変更する際はVBAも変更しましょう"]
[]
["●シートの説明（詳しくは弊社サイトhttp://digitalfilter.comの「スマホとEXCELで学ぶ！実践ディジタル信号処理入門」ご参照）"]
["f-response","係数から周波数特性を求める。Gain（振幅）とTheta（位相）"]
["io-sinwave","入出力特性。サイン波を入力した際の出力"]
["io-impulse","インパルス応答。単位インパルスを入力した際の出力"]
[]
["●その他追記事項"]
["タップ数（次数、係数の数）N=140のFIRフィルタ.（以下にブロック図、差分方程式、伝達関数）"]
[]
[]
[]
[]
[]
[]
[]
[]
[]
[]
[]
[]
[]
[]
[]
[]
[]
[]
[]
[]
[]
[]
[]
[]
[]
[]
[]
[]
[]
[]
["改訂履歴"]
["2024/03/11 : version 1.0"]
[]
["by Toshio Iwata at DIGITALFILTER.COM, all rights reserved"]
[]
["詳しい説明・使用法は弊社サイトhttp://digitalfilter.comの「スマホとEXCELで学ぶ！実践ディジタル信号処理入門」を参考にしてください"]
["本EXCELシートの無断配布を禁じます（上記サイトからダウンロードして使用してください）"]
["本EXCELシートはユーザー各自の責任において使用してください"]

{"sheet":"f-response","index":1,"n_rows":281,"n_cols":10,"rows_kept":281,"cut":false,"hidden":false,"merged":[]}
["freq-base","frequency","omega","FIRの係数","Areal1","Aimag1","Gain [dB]","Theta [rad]"]
[0,{"$f":"A2*README!B$6","v":0},{"$f":"2*3.14159*B2/README!B$4","v":0},7.1820349999999998E-5,null,null,{"$f":"10*LOG(E2^2+F2^2)","v":{"$error":"#NUM!"}},{"$f":"ATAN2(E2, F2)","v":{"$error":"#DIV/0!"}}]
[1,{"$f":"A3*README!B$6","v":100},{"$f":"2*3.14159*B3/README!B$4","v":1.4247573696145124E-2},8.4186700000000005E-5,null,null,{"$f":"10*LOG(E3^2+F3^2)","v":{"$error":"#NUM!"}},{"$f":"ATAN2(E3, F3)","v":{"$error":"#DIV/0!"}}]
[2,{"$f":"A4*README!B$6","v":200},{"$f":"2*3.14159*B4/README!B$4","v":2.8495147392290247E-2},1.2696623000000001E-4,null,null,{"$error":"#NUM!"},{"$error":"#DIV/0!"}]
[3,{"$f":"A5*README!B$6","v":300},{"$f":"2*3.14159*B5/README!B$4","v":4.2742721088435374E-2},1.7749064E-4,null,null,{"$error":"#NUM!"},{"$error":"#DIV/0!"}]
[4,{"$f":"A6*README!B$6","v":400},{"$f":"2*3.14159*B6/README!B$4","v":5.6990294784580495E-2},2.3355709999999999E-4,null,null,{"$error":"#NUM!"},{"$error":"#DIV/0!"}]
[5,{"$f":"A7*README!B$6","v":500},{"$f":"2*3.14159*B7/README!B$4","v":7.1237868480725622E-2},2.9188678999999998E-4,null,null,{"$error":"#NUM!"},{"$error":"#DIV/0!"}]
[6,{"$f":"A8*README!B$6","v":600},{"$f":"2*3.14159*B8/README!B$4","v":8.5485442176870749E-2},3.4776506000000002E-4,null,null,{"$error":"#NUM!"},{"$error":"#DIV/0!"}]
[7,{"$f":"A9*README!B$6","v":700},{"$f":"2*3.14159*B9/README!B$4","v":9.9733015873015862E-2},3.9598226000000001E-4,null,null,{"$error":"#NUM!"},{"$error":"#DIV/0!"}]
[8,{"$f":"A10*README!B$6","v":800},{"$f":"2*3.14159*B10/README!B$4","v":0.11398058956916099},4.3050309999999997E-4,null,null,{"$error":"#NUM!"},{"$error":"#DIV/0!"}]
[9,{"$f":"A11*README!B$6","v":900},{"$f":"2*3.14159*B11/README!B$4","v":0.12822816326530612},4.4534396000000002E-4,null,null,{"$error":"#NUM!"},{"$error":"#DIV/0!"}]
[10,{"$f":"A12*README!B$6","v":1000},{"$f":"2*3.14159*B12/README!B$4","v":0.14247573696145124},4.3494380999999999E-4,null,null,{"$error":"#NUM!"},{"$error":"#DIV/0!"}]
[11,{"$f":"A13*README!B$6","v":1100},{"$f":"2*3.14159*B13/README!B$4","v":0.15672331065759637},3.9480186E-4,null,null,{"$error":"#NUM!"},{"$error":"#DIV/0!"}]
[12,{"$f":"A14*README!B$6","v":1200},{"$f":"2*3.14159*B14/README!B$4","v":0.1709708843537415},3.2223758999999999E-4,null,null,{"$error":"#NUM!"},{"$error":"#DIV/0!"}]
[13,{"$f":"A15*README!B$6","v":1300},{"$f":"2*3.14159*B15/README!B$4","v":0.18521845804988663},2.1671017E-4,null,null,{"$error":"#NUM!"},{"$error":"#DIV/0!"}]
[14,{"$f":"A16*README!B$6","v":1400},{"$f":"2*3.14159*B16/README!B$4","v":0.19946603174603172},8.0378280000000001E-5,null,null,{"$error":"#NUM!"},{"$error":"#DIV/0!"}]
[15,{"$f":"A17*README!B$6","v":1500},{"$f":"2*3.14159*B17/README!B$4","v":0.21371360544217688},-8.1785810000000006E-5,null,null,{"$error":"#NUM!"},{"$error":"#DIV/0!"}]
[16,{"$f":"A18*README!B$6","v":1600},{"$f":"2*3.14159*B18/README!B$4","v":0.22796117913832198},-2.6196849E-4,null,null,{"$error":"#NUM!"},{"$error":"#DIV/0!"}]
[17,{"$f":"A19*README!B$6","v":1700},{"$f":"2*3.14159*B19/README!B$4","v":0.24220875283446711},-4.4979336000000001E-4,null,null,{"$error":"#NUM!"},{"$error":"#DIV/0!"}]
[18,{"$f":"A20*README!B$6","v":1800},{"$f":"2*3.14159*B20/README!B$4","v":0.25645632653061223},-6.3300034000000004E-4,null,null,{"$error":"#NUM!"},{"$error":"#DIV/0!"},null,"F特の計算にはVBAを使います（詳しくは弊社サイトhttp://digitalfilter.comの「スマホとEXCELで学ぶ！実践ディジタル信号処理入門」ご参照）"]
[19,{"$f":"A21*README!B$6","v":1900},{"$f":"2*3.14159*B21/README!B$4","v":0.27070390022675733},-7.9822392000000004E-4,null,null,{"$error":"#NUM!"},{"$error":"#DIV/0!"}]
[20,{"$f":"A22*README!B$6","v":2000},{"$f":"2*3.14159*B22/README!B$4","v":0.28495147392290249},-9.3209976999999999E-4,null,null,{"$error":"#NUM!"},{"$error":"#DIV/0!"}]
[21,{"$f":"A23*README!B$6","v":2100},{"$f":"2*3.14159*B23/README!B$4","v":0.29919904761904764},-1.02239525E-3,null,null,{"$error":"#NUM!"},{"$error":"#DIV/0!"}]
[22,{"$f":"A24*README!B$6","v":2200},{"$f":"2*3.14159*B24/README!B$4","v":0.31344662131519274},-1.05921752E-3,null,null,{"$error":"#NUM!"},{"$error":"#DIV/0!"}]
[23,{"$f":"A25*README!B$6","v":2300},{"$f":"2*3.14159*B25/README!B$4","v":0.3276941950113379},-1.0361872600000001E-3,null,null,{"$error":"#NUM!"},{"$error":"#DIV/0!"}]
[24,{"$f":"A26*README!B$6","v":2400},{"$f":"2*3.14159*B26/README!B$4","v":0.341941768707483},-9.5132363999999995E-4,null,null,{"$error":"#NUM!"},{"$error":"#DIV/0!"}]
[25,{"$f":"A27*README!B$6","v":2500},{"$f":"2*3.14159*B27/README!B$4","v":0.3561893424036281},-8.0769203000000003E-4,null,null,{"$error":"#NUM!"},{"$error":"#DIV/0!"}]
[26,{"$f":"A28*README!B$6","v":2600},{"$f":"2*3.14159*B28/README!B$4","v":0.37043691609977325},-6.1355416E-4,null,null,{"$error":"#NUM!"},{"$error":"#DIV/0!"}]
[27,{"$f":"A29*README!B$6","v":2700},{"$f":"2*3.14159*B29/README!B$4","v":0.38468448979591835},-3.8210662000000002E-4,null,null,{"$error":"#NUM!"},{"$error":"#DIV/0!"}]
[28,{"$f":"A30*README!B$6","v":2800},{"$f":"2*3.14159*B30/README!B$4","v":0.39893206349206345},-1.3073431999999999E-4,null,null,{"$error":"#NUM!"},{"$error":"#DIV/0!"}]
[29,{"$f":"A31*README!B$6","v":2900},{"$f":"2*3.14159*B31/README!B$4","v":0.41317963718820855},1.2022989E-4,null,null,{"$error":"#NUM!"},{"$error":"#DIV/0!"}]
[30,{"$f":"A32*README!B$6","v":3000},{"$f":"2*3.14159*B32/README!B$4","v":0.42742721088435376},3.4908891E-4,null,null,{"$error":"#NUM!"},{"$error":"#DIV/0!"}]
[31,{"$f":"A33*README!B$6","v":3100},{"$f":"2*3.14159*B33/README!B$4","v":0.44167478458049886},5.3469338000000004E-4,null,null,{"$error":"#NUM!"},{"$error":"#DIV/0!"}]
[32,{"$f":"A34*README!B$6","v":3200},{"$f":"2*3.14159*B34/README!B$4","v":0.45592235827664396},6.5841958E-4,null,null,{"$error":"#NUM!"},{"$error":"#DIV/0!"}]
[33,{"$f":"A35*README!B$6","v":3300},{"$f":"2*3.14159*B35/README!B$4","v":0.47016993197278911},7.0608854000000002E-4,null,null,{"$error":"#NUM!"},{"$error":"#DIV/0!"}]
[34,{"$f":"A36*README!B$6","v":3400},{"$f":"2*3.14159*B36/README!B$4","v":0.48441750566893421},6.6963139999999999E-4,null,null,{"$error":"#NUM!"},{"$error":"#DIV/0!"}]
[35,{"$f":"A37*README!B$6","v":3500},{"$f":"2*3.14159*B37/README!B$4","v":0.49866507936507931},5.4827526000000002E-4,null,null,{"$error":"#NUM!"},{"$error":"#DIV/0!"}]
[36,{"$f":"A38*README!B$6","v":3600},{"$f":"2*3.14159*B38/README!B$4","v":0.51291265306122447},3.4916653999999999E-4,null,null,{"$error":"#NUM!"},{"$error":"#DIV/0!"}]
[37,{"$f":"A39*README!B$6","v":3700},{"$f":"2*3.14159*B39/README!B$4","v":0.52716022675736962},8.7241610000000002E-5,null,null,{"$error":"#NUM!"},{"$error":"#DIV/0!"}]
[38,{"$f":"A40*README!B$6","v":3800},{"$f":"2*3.14159*B40/README!B$4","v":0.54140780045351466},-2.1563149999999999E-4,null,null,{"$error":"#NUM!"},{"$error":"#DIV/0!"}]
[39,{"$f":"A41*README!B$6","v":3900},{"$f":"2*3.14159*B41/README!B$4","v":0.55565537414965982},-5.3224553000000003E-4,null,null,{"$error":"#NUM!"},{"$error":"#DIV/0!"}]
[40,{"$f":"A42*README!B$6","v":4000},{"$f":"2*3.14159*B42/README!B$4","v":0.56990294784580497},-8.3229153000000003E-4,null,null,{"$error":"#NUM!"},{"$error":"#DIV/0!"}]
[41,{"$f":"A43*README!B$6","v":4100},{"$f":"2*3.14159*B43/README!B$4","v":0.58415052154195013},-1.0850412900000001E-3,null,null,{"$error":"#NUM!"},{"$error":"#DIV/0!"}]
[42,{"$f":"A44*README!B$6","v":4200},{"$f":"2*3.14159*B44/README!B$4","v":0.59839809523809528},-1.26230126E-3,null,null,{"$error":"#NUM!"},{"$error":"#DIV/0!"}]
[43,{"$f":"A45*README!B$6","v":4300},{"$f":"2*3.14159*B45/README!B$4","v":0.61264566893424033},-1.3413082399999999E-3,null,null,{"$error":"#NUM!"},{"$error":"#DIV/0!"}]
[44,{"$f":"A46*README!B$6","v":4400},{"$f":"2*3.14159*B46/README!B$4","v":0.62689324263038548},-1.3073099899999999E-3,null,null,{"$error":"#NUM!"},{"$error":"#DIV/0!"}]
[45,{"$f":"A47*README!B$6","v":4500},{"$f":"2*3.14159*B47/README!B$4","v":0.64114081632653053},-1.15554696E-3,null,null,{"$error":"#NUM!"},{"$error":"#DIV/0!"}]
[46,{"$f":"A48*README!B$6","v":4600},{"$f":"2*3.14159*B48/README!B$4","v":0.65538839002267579},-8.9238437999999997E-4,null,null,{"$error":"#NUM!"},{"$error":"#DIV/0!"}]
[47,{"$f":"A49*README!B$6","v":4700},{"$f":"2*3.14159*B49/README!B$4","v":0.66963596371882084},-5.3546395999999998E-4,null,null,{"$error":"#NUM!"},{"$error":"#DIV/0!"}]
[48,{"$f":"A50*README!B$6","v":4800},{"$f":"2*3.14159*B50/README!B$4","v":0.68388353741496599},-1.1274048E-4,null,null,{"$error":"#NUM!"},{"$error":"#DIV/0!"}]
[49,{"$f":"A51*README!B$6","v":4900},{"$f":"2*3.14159*B51/README!B$4","v":0.69813111111111104},3.3954324E-4,null,null,{"$error":"#NUM!"},{"$error":"#DIV/0!"}]
[50,{"$f":"A52*README!B$6","v":5000},{"$f":"2*3.14159*B52/README!B$4","v":0.71237868480725619},7.7984175000000001E-4,null,null,{"$error":"#NUM!"},{"$error":"#DIV/0!"}]
[51,{"$f":"A53*README!B$6","v":5100},{"$f":"2*3.14159*B53/README!B$4","v":0.72662625850340135},1.1650212100000001E-3,null,null,{"$error":"#NUM!"},{"$error":"#DIV/0!"}]
[52,{"$f":"A54*README!B$6","v":5200},{"$f":"2*3.14159*B54/README!B$4","v":0.7408738321995465},1.45446713E-3,null,null,{"$error":"#NUM!"},{"$error":"#DIV/0!"}]
[53,{"$f":"A55*README!B$6","v":5300},{"$f":"2*3.14159*B55/README!B$4","v":0.75512140589569154},1.6142391099999999E-3,null,null,{"$error":"#NUM!"},{"$error":"#DIV/0!"}]
[54,{"$f":"A56*README!B$6","v":5400},{"$f":"2*3.14159*B56/README!B$4","v":0.7693689795918367},1.6208317999999999E-3,null,null,{"$error":"#NUM!"},{"$error":"#DIV/0!"}]
[55,{"$f":"A57*README!B$6","v":5500},{"$f":"2*3.14159*B57/README!B$4","v":0.78361655328798185},1.4641671699999999E-3,null,null,{"$error":"#NUM!"},{"$error":"#DIV/0!"}]
[56,{"$f":"A58*README!B$6","v":5600},{"$f":"2*3.14159*B58/README!B$4","v":0.7978641269841269},1.1494608699999999E-3,null,null,{"$error":"#NUM!"},{"$error":"#DIV/0!"}]
[57,{"$f":"A59*README!B$6","v":5700},{"$f":"2*3.14159*B59/README!B$4","v":0.81211170068027205},6.9769779000000004E-4,null,null,{"$error":"#NUM!"},{"$error":"#DIV/0!"}]
[58,{"$f":"A60*README!B$6","v":5800},{"$f":"2*3.14159*B60/README!B$4","v":0.8263592743764171},1.4460222000000001E-4,null,null,{"$error":"#NUM!"},{"$error":"#DIV/0!"}]
[59,{"$f":"A61*README!B$6","v":5900},{"$f":"2*3.14159*B61/README!B$4","v":0.84060684807256225},-4.6192377E-4,null,null,{"$error":"#NUM!"},{"$error":"#DIV/0!"}]
[60,{"$f":"A62*README!B$6","v":6000},{"$f":"2*3.14159*B62/README!B$4","v":0.85485442176870752},-1.06571637E-3,null,null,{"$error":"#NUM!"},{"$error":"#DIV/0!"}]
[61,{"$f":"A63*README!B$6","v":6100},{"$f":"2*3.14159*B63/README!B$4","v":0.86910199546485267},-1.6073404900000001E-3,null,null,{"$error":"#NUM!"},{"$error":"#DIV/0!"}]
[62,{"$f":"A64*README!B$6","v":6200},{"$f":"2*3.14159*B64/README!B$4","v":0.88334956916099772},-2.0297249800000001E-3,null,null,{"$error":"#NUM!"},{"$error":"#DIV/0!"}]
[63,{"$f":"A65*README!B$6","v":6300},{"$f":"2*3.14159*B65/README!B$4","v":0.89759714285714287},-2.2839149700000002E-3,null,null,{"$error":"#NUM!"},{"$error":"#DIV/0!"}]
[64,{"$f":"A66*README!B$6","v":6400},{"$f":"2*3.14159*B66/README!B$4","v":0.91184471655328792},-2.3343996400000001E-3,null,null,{"$error":"#NUM!"},{"$error":"#DIV/0!"}]
[65,{"$f":"A67*README!B$6","v":6500},{"$f":"2*3.14159*B67/README!B$4","v":0.92609229024943307},-2.1634416800000002E-3,null,null,{"$f":"10*LOG(E67^2+F67^2)","v":{"$error":"#NUM!"}},{"$f":"ATAN2(E67, F67)","v":{"$error":"#DIV/0!"}}]
[66,{"$f":"A68*README!B$6","v":6600},{"$f":"2*3.14159*B68/README!B$4","v":0.94033986394557822},-1.7739363499999999E-3,null,null,{"$error":"#NUM!"},{"$error":"#DIV/0!"}]
[67,{"$f":"A69*README!B$6","v":6700},{"$f":"2*3.14159*B69/README!B$4","v":0.95458743764172327},-1.1904149800000001E-3,null,null,{"$error":"#NUM!"},{"$error":"#DIV/0!"}]
[68,{"$f":"A70*README!B$6","v":6800},{"$f":"2*3.14159*B70/README!B$4","v":0.96883501133786842},-4.5797334999999998E-4,null,null,{"$error":"#NUM!"},{"$error":"#DIV/0!"}]
[69,{"$f":"A71*README!B$6","v":6900},{"$f":"2*3.14159*B71/README!B$4","v":0.98308258503401347},3.6088454000000002E-4,null,null,{"$error":"#NUM!"},{"$error":"#DIV/0!"}]
[70,{"$f":"A72*README!B$6","v":7000},{"$f":"2*3.14159*B72/README!B$4","v":0.99733015873015862},1.19132219E-3,null,null,{"$error":"#NUM!"},{"$error":"#DIV/0!"}]
[null,null,null,1.9527638400000001E-3]
[null,null,null,2.5664636099999999E-3]
[null,null,null,2.9633606000000002E-3]
[null,null,null,3.0914584100000001E-3]
[null,null,null,2.92198418E-3]
[null,null,null,2.4536314000000001E-3]
[null,null,null,1.7143664899999999E-3]
[null,null,null,7.6046608000000001E-4]
[null,null,null,-3.2728895999999997E-4]
[null,null,null,-1.45005272E-3]
[null,null,null,-2.4995240400000002E-3]
[null,null,null,-3.36799715E-3]
[null,null,null,-3.9589655099999998E-3]
[null,null,null,-4.1972699900000004E-3]
[null,null,null,-4.0377704800000002E-3]
[null,null,null,-3.4716113099999999E-3]
[null,null,null,-2.5293121599999999E-3]
[null,null,null,-1.28020276E-3]
[null,null,null,1.7196902000000001E-4]
[null,null,null,1.6970554099999999E-3]
[null,null,null,3.1495884699999999E-3]
[null,null,null,4.3820382099999996E-3]
[null,null,null,5.2590845400000003E-3]
[null,null,null,5.6715897599999999E-3]
[null,null,null,5.5488974499999996E-3]
[null,null,null,4.8681693799999997E-3]
[null,null,null,3.6596847499999999E-3]
[null,null,null,2.0073371100000001E-3]
[null,null,null,4.3993560000000002E-5]
[null,null,null,-2.05816137E-3]
[null,null,null,-4.1016819100000001E-3]
[null,null,null,-5.8812498499999999E-3]
[null,null,null,-7.20295837E-3]
[null,null,null,-7.9037774699999997E-3]
[null,null,null,-7.8693807500000001E-3]
[null,null,null,-7.0485473200000001E-3]
[null,null,null,-5.46257172E-3]
[null,null,null,-3.2084868799999999E-3]
[null,null,null,-4.5539859000000001E-4]
[null,null,null,2.5661700299999999E-3]
[null,null,null,5.58140353E-3]
[null,null,null,8.2936424499999994E-3]
[null,null,null,1.041046472E-2]
[null,null,null,1.1671291239999999E-2]
[null,null,null,1.187414675E-2]
[null,null,null,1.089916026E-2]
[null,null,null,8.7265354299999997E-3]
[null,null,null,5.4470895599999999E-3]
[null,null,null,1.2640047E-3]
[null,null,null,-3.5148785000000001E-3]
[null,null,null,-8.4941116199999996E-3]
[null,null,null,-1.321612852E-2]
[null,null,null,-1.7193507730000002E-2]
[null,null,null,-1.9945699559999999E-2]
[null,null,null,-2.1037437369999998E-2]
[null,null,null,-2.011579581E-2]
[null,null,null,-1.6942856730000001E-2]
[null,null,null,-1.1421182780000001E-2]
[null,null,null,-3.6097888500000001E-3]
[null,null,null,6.2710111800000001E-3]
[null,null,null,1.784666033E-2]
[null,null,null,3.0607163539999999E-2]
[null,null,null,4.3936554310000001E-2]
[null,null,null,5.7151062400000001E-2]
[null,null,null,6.9543298350000005E-2]
[null,null,null,8.0429244570000002E-2]
[null,null,null,8.9194569969999998E-2]
[null,null,null,9.5336791160000003E-2]
[null,null,null,9.8500082660000002E-2]
[null,null,null,9.8500082660000002E-2]
[null,null,null,9.5336791160000003E-2]
[null,null,null,8.9194569969999998E-2]
[null,null,null,8.0429244570000002E-2]
[null,null,null,6.9543298350000005E-2]
[null,null,null,5.7151062400000001E-2]
[null,null,null,4.3936554310000001E-2]
[null,null,null,3.0607163539999999E-2]
[null,null,null,1.784666033E-2]
[null,null,null,6.2710111800000001E-3]
[null,null,null,-3.6097888500000001E-3]
[null,null,null,-1.1421182780000001E-2]
[null,null,null,-1.6942856730000001E-2]
[null,null,null,-2.011579581E-2]
[null,null,null,-2.1037437369999998E-2]
[null,null,null,-1.9945699559999999E-2]
[null,null,null,-1.7193507730000002E-2]
[null,null,null,-1.321612852E-2]
[null,null,null,-8.4941116199999996E-3]
[null,null,null,-3.5148785000000001E-3]
[null,null,null,1.2640047E-3]
[null,null,null,5.4470895599999999E-3]
[null,null,null,8.7265354299999997E-3]
[null,null,null,1.089916026E-2]
[null,null,null,1.187414675E-2]
[null,null,null,1.1671291239999999E-2]
[null,null,null,1.041046472E-2]
[null,null,null,8.2936424499999994E-3]
[null,null,null,5.58140353E-3]
[null,null,null,2.5661700299999999E-3]
[null,null,null,-4.5539859000000001E-4]
[null,null,null,-3.2084868799999999E-3]
[null,null,null,-5.46257172E-3]
[null,null,null,-7.0485473200000001E-3]
[null,null,null,-7.8693807500000001E-3]
[null,null,null,-7.9037774699999997E-3]
[null,null,null,-7.20295837E-3]
[null,null,null,-5.8812498499999999E-3]
[null,null,null,-4.1016819100000001E-3]
[null,null,null,-2.05816137E-3]
[null,null,null,4.3993560000000002E-5]
[null,null,null,2.0073371100000001E-3]
[null,null,null,3.6596847499999999E-3]
[null,null,null,4.8681693799999997E-3]
[null,null,null,5.5488974499999996E-3]
[null,null,null,5.6715897599999999E-3]
[null,null,null,5.2590845400000003E-3]
[null,null,null,4.3820382099999996E-3]
[null,null,null,3.1495884699999999E-3]
[null,null,null,1.6970554099999999E-3]
[null,null,null,1.7196902000000001E-4]
[null,null,null,-1.28020276E-3]
[null,null,null,-2.5293121599999999E-3]
[null,null,null,-3.4716113099999999E-3]
[null,null,null,-4.0377704800000002E-3]
[null,null,null,-4.1972699900000004E-3]
[null,null,null,-3.9589655099999998E-3]
[null,null,null,-3.36799715E-3]
[null,null,null,-2.4995240400000002E-3]
[null,null,null,-1.45005272E-3]
[null,null,null,-3.2728895999999997E-4]
[null,null,null,7.6046608000000001E-4]
[null,null,null,1.7143664899999999E-3]
[null,null,null,2.4536314000000001E-3]
[null,null,null,2.92198418E-3]
[null,null,null,3.0914584100000001E-3]
[null,null,null,2.9633606000000002E-3]
[null,null,null,2.5664636099999999E-3]
[null,null,null,1.9527638400000001E-3]
[null,null,null,1.19132219E-3]
[null,null,null,3.6088454000000002E-4]
[null,null,null,-4.5797334999999998E-4]
[null,null,null,-1.1904149800000001E-3]
[null,null,null,-1.7739363499999999E-3]
[null,null,null,-2.1634416800000002E-3]
[null,null,null,-2.3343996400000001E-3]
[null,null,null,-2.2839149700000002E-3]
[null,null,null,-2.0297249800000001E-3]
[null,null,null,-1.6073404900000001E-3]
[null,null,null,-1.06571637E-3]
[null,null,null,-4.6192377E-4]
[null,null,null,1.4460222000000001E-4]
[null,null,null,6.9769779000000004E-4]
[null,null,null,1.1494608699999999E-3]
[null,null,null,1.4641671699999999E-3]
[null,null,null,1.6208317999999999E-3]
[null,null,null,1.6142391099999999E-3]
[null,null,null,1.45446713E-3]
[null,null,null,1.1650212100000001E-3]
[null,null,null,7.7984175000000001E-4]
[null,null,null,3.3954324E-4]
[null,null,null,-1.1274048E-4]
[null,null,null,-5.3546395999999998E-4]
[null,null,null,-8.9238437999999997E-4]
[null,null,null,-1.15554696E-3]
[null,null,null,-1.3073099899999999E-3]
[null,null,null,-1.3413082399999999E-3]
[null,null,null,-1.26230126E-3]
[null,null,null,-1.0850412900000001E-3]
[null,null,null,-8.3229153000000003E-4]
[null,null,null,-5.3224553000000003E-4]
[null,null,null,-2.1563149999999999E-4]
[null,null,null,8.7241610000000002E-5]
[null,null,null,3.4916653999999999E-4]
[null,null,null,5.4827526000000002E-4]
[null,null,null,6.6963139999999999E-4]
[null,null,null,7.0608854000000002E-4]
[null,null,null,6.5841958E-4]
[null,null,null,5.3469338000000004E-4]
[null,null,null,3.4908891E-4]
[null,null,null,1.2022989E-4]
[null,null,null,-1.3073431999999999E-4]
[null,null,null,-3.8210662000000002E-4]
[null,null,null,-6.1355416E-4]
[null,null,null,-8.0769203000000003E-4]
[null,null,null,-9.5132363999999995E-4]
[null,null,null,-1.0361872600000001E-3]
[null,null,null,-1.05921752E-3]
[null,null,null,-1.02239525E-3]
[null,null,null,-9.3209976999999999E-4]
[null,null,null,-7.9822392000000004E-4]
[null,null,null,-6.3300034000000004E-4]
[null,null,null,-4.4979336000000001E-4]
[null,null,null,-2.6196849E-4]
[null,null,null,-8.1785810000000006E-5]
[null,null,null,8.0378280000000001E-5]
[null,null,null,2.1671017E-4]
[null,null,null,3.2223758999999999E-4]
[null,null,null,3.9480186E-4]
[null,null,null,4.3494380999999999E-4]
[null,null,null,4.4534396000000002E-4]
[null,null,null,4.3050309999999997E-4]
[null,null,null,3.9598226000000001E-4]
[null,null,null,3.4776506000000002E-4]
[null,null,null,2.9188678999999998E-4]
[null,null,null,2.3355709999999999E-4]
[null,null,null,1.7749064E-4]
[null,null,null,1.2696623000000001E-4]
[null,null,null,8.4186700000000005E-5]
[null,null,null,7.1820349999999998E-5]

{"sheet":"io-sinwave","index":2,"n_rows":2049,"n_cols":6,"rows_kept":2049,"cut":false,"hidden":false,"merged":[]}
["index","Time","x[n]","y[n]"]
[0,{"$f":"A2/README!B$4","v":0},{"$f":"SIN(2*PI()*B2*README!B$5)","v":0}]
[1,{"$f":"A3/README!B$4","v":2.2675736961451248E-5},{"$f":"SIN(2*PI()*B3*README!B$5)","v":0.28111111333165495}]
[2,{"$f":"A4/README!B$4","v":4.5351473922902495E-5},{"$f":"SIN(2*PI()*B4*README!B$5)","v":0.53955074318618113}]
[3,{"$f":"A5/README!B$4","v":6.802721088435374E-5},{"$f":"SIN(2*PI()*B5*README!B$5)","v":0.75447585092081437}]
[4,{"$f":"A6/README!B$4","v":9.0702947845804991E-5},{"$f":"SIN(2*PI()*B6*README!B$5)","v":0.9085528243169686}]
[5,{"$f":"A7/README!B$4","v":1.1337868480725624E-4},{"$f":"SIN(2*PI()*B7*README!B$5)","v":0.98935542552457478}]
[6,{"$f":"A8/README!B$4","v":1.3605442176870748E-4},{"$f":"SIN(2*PI()*B8*README!B$5)","v":0.99036696149483805}]
[7,{"$f":"A9/README!B$4","v":1.5873015873015873E-4},{"$f":"SIN(2*PI()*B9*README!B$5)","v":0.91150585231167325}]
[8,{"$f":"A10/README!B$4","v":1.8140589569160998E-4},{"$f":"SIN(2*PI()*B10*README!B$5)","v":0.75913221057484348}]
[9,{"$f":"A11/README!B$4","v":2.0408163265306123E-4},{"$f":"SIN(2*PI()*B11*README!B$5)","v":0.54553490121054871}]
[10,{"$f":"A12/README!B$4","v":2.2675736961451248E-4},{"$f":"SIN(2*PI()*B12*README!B$5)","v":0.28794045010251862}]
[11,{"$f":"A13/README!B$4","v":2.4943310657596373E-4},{"$f":"SIN(2*PI()*B13*README!B$5)","v":7.1237326118913586E-3}]
[12,{"$f":"A14/README!B$4","v":2.7210884353741496E-4},{"$f":"SIN(2*PI()*B14*README!B$5)","v":-0.27426751067493038}]
[13,{"$f":"A15/README!B$4","v":2.9478458049886624E-4},{"$f":"SIN(2*PI()*B15*README!B$5)","v":-0.53353920392730092}]
[14,{"$f":"A16/README!B$4","v":3.1746031746031746E-4},{"$f":"SIN(2*PI()*B16*README!B$5)","v":-0.74978120296773398}]
[15,{"$f":"A17/README!B$4","v":3.4013605442176868E-4},{"$f":"SIN(2*PI()*B17*README!B$5)","v":-0.90555368889258414}]
[16,{"$f":"A18/README!B$4","v":3.6281179138321996E-4},{"$f":"SIN(2*PI()*B18*README!B$5)","v":-0.98829368153724295}]
[17,{"$f":"A19/README!B$4","v":3.8548752834467119E-4},{"$f":"SIN(2*PI()*B19*README!B$5)","v":-0.99132823811439319},null,null,"出力の計算にはVBAを使います（詳しくは弊社サイトhttp://digitalfilter.comの「スマホとEXCELで学ぶ！実践ディジタル信号処理入門」ご参照）"]
[18,{"$f":"A20/README!B$4","v":4.0816326530612246E-4},{"$f":"SIN(2*PI()*B20*README!B$5)","v":-0.9144126230158125}]
[19,{"$f":"A21/README!B$4","v":4.3083900226757369E-4},{"$f":"SIN(2*PI()*B21*README!B$5)","v":-0.7637500456279025}]
[20,{"$f":"A22/README!B$4","v":4.5351473922902497E-4},{"$f":"SIN(2*PI()*B22*README!B$5)","v":-0.55149137431509343}]
[21,{"$f":"A23/README!B$4","v":4.7619047619047619E-4},{"$f":"SIN(2*PI()*B23*README!B$5)","v":-0.29475517441090388}]
[22,{"$f":"A24/README!B$4","v":4.9886621315192747E-4},{"$f":"SIN(2*PI()*B24*README!B$5)","v":-1.4247103707102927E-2}]
[23,{"$f":"A25/README!B$4","v":5.2154195011337864E-4},{"$f":"SIN(2*PI()*B25*README!B$5)","v":0.26740998943293021}]
[24,{"$f":"A26/README!B$4","v":5.4421768707482992E-4},{"$f":"SIN(2*PI()*B26*README!B$5)","v":0.5275005885087648}]
[25,{"$f":"A27/README!B$4","v":5.6689342403628119E-4},{"$f":"SIN(2*PI()*B27*README!B$5)","v":0.74504850496058328}]
[26,{"$f":"A28/README!B$4","v":5.8956916099773247E-4},{"$f":"SIN(2*PI()*B28*README!B$5)","v":0.90250859823927532}]
[27,{"$f":"A29/README!B$4","v":6.1224489795918364E-4},{"$f":"SIN(2*PI()*B29*README!B$5)","v":0.98718178341444995}]
[28,{"$f":"A30/README!B$4","v":6.3492063492063492E-4},{"$f":"SIN(2*PI()*B30*README!B$5)","v":0.99223920660017217}]
[29,{"$f":"A31/README!B$4","v":6.575963718820862E-4},{"$f":"SIN(2*PI()*B31*README!B$5)","v":0.91727298891597564}]
[30,{"$f":"A32/README!B$4","v":6.8027210884353737E-4},{"$f":"SIN(2*PI()*B32*README!B$5)","v":0.7683291217331284}]
[31,{"$f":"A33/README!B$4","v":7.0294784580498865E-4},{"$f":"SIN(2*PI()*B33*README!B$5)","v":0.55741986021946732}]
[32,{"$f":"A34/README!B$4","v":7.2562358276643992E-4},{"$f":"SIN(2*PI()*B34*README!B$5)","v":0.30155494042175085}]
[33,{"$f":"A35/README!B$4","v":7.482993197278912E-4},{"$f":"SIN(2*PI()*B35*README!B$5)","v":2.1369751787301241E-2}]
[34,{"$f":"A36/README!B$4","v":7.7097505668934237E-4},{"$f":"SIN(2*PI()*B36*README!B$5)","v":-0.26053889761258625}]
[35,{"$f":"A37/README!B$4","v":7.9365079365079365E-4},{"$f":"SIN(2*PI()*B37*README!B$5)","v":-0.52143520337949656}]
[36,{"$f":"A38/README!B$4","v":8.1632653061224493E-4},{"$f":"SIN(2*PI()*B38*README!B$5)","v":-0.74027799707531539}]
[37,{"$f":"A39/README!B$4","v":8.390022675736961E-4},{"$f":"SIN(2*PI()*B39*README!B$5)","v":-0.89941770688994116}]
[38,{"$f":"A40/README!B$4","v":8.6167800453514738E-4},{"$f":"SIN(2*PI()*B40*README!B$5)","v":-0.98601978758303555}]
[39,{"$f":"A41/README!B$4","v":8.8435374149659865E-4},{"$f":"SIN(2*PI()*B41*README!B$5)","v":-0.99309982072215464}]
[40,{"$f":"A42/README!B$4","v":9.0702947845804993E-4},{"$f":"SIN(2*PI()*B42*README!B$5)","v":-0.92008680485371364}]
[41,{"$f":"A43/README!B$4","v":9.297052154195011E-4},{"$f":"SIN(2*PI()*B43*README!B$5)","v":-0.77286920651060365}]
[42,{"$f":"A44/README!B$4","v":9.5238095238095238E-4},{"$f":"SIN(2*PI()*B44*README!B$5)","v":-0.5633200580636214}]
[43,{"$f":"A45/README!B$4","v":9.7505668934240366E-4},{"$f":"SIN(2*PI()*B45*README!B$5)","v":-0.30833940305910151}]
[44,{"$f":"A46/README!B$4","v":9.9773242630385494E-4},{"$f":"SIN(2*PI()*B46*README!B$5)","v":-2.8491315390844554E-2}]
[45,{"$f":"A47/README!B$4","v":1.0204081632653062E-3},{"$f":"SIN(2*PI()*B47*README!B$5)","v":0.25365458390950935}]
[46,{"$f":"A48/README!B$4","v":1.0430839002267573E-3},{"$f":"SIN(2*PI()*B48*README!B$5)","v":0.51534335634693818}]
[47,{"$f":"A49/README!B$4","v":1.0657596371882086E-3},{"$f":"SIN(2*PI()*B49*README!B$5)","v":0.73546992140666589}]
[48,{"$f":"A50/README!B$4","v":1.0884353741496598E-3},{"$f":"SIN(2*PI()*B50*README!B$5)","v":0.89628117170178667}]
[49,{"$f":"A51/README!B$4","v":1.1111111111111111E-3},{"$f":"SIN(2*PI()*B51*README!B$5)","v":0.98480775301220802}]
[50,{"$f":"A52/README!B$4","v":1.1337868480725624E-3},{"$f":"SIN(2*PI()*B52*README!B$5)","v":0.99391003680571444}]
[51,{"$f":"A53/README!B$4","v":1.1564625850340137E-3},{"$f":"SIN(2*PI()*B53*README!B$5)","v":0.92285392803290323}]
[52,{"$f":"A54/README!B$4","v":1.1791383219954649E-3},{"$f":"SIN(2*PI()*B54*README!B$5)","v":0.77737006955915111}]
[53,{"$f":"A55/README!B$4","v":1.201814058956916E-3},{"$f":"SIN(2*PI()*B55*README!B$5)","v":0.56919166842307689}]
[54,{"$f":"A56/README!B$4","v":1.2244897959183673E-3},{"$f":"SIN(2*PI()*B56*README!B$5)","v":0.31510821802362343}]
[55,{"$f":"A57/README!B$4","v":1.2471655328798186E-3},{"$f":"SIN(2*PI()*B57*README!B$5)","v":3.5611433111126363E-2}]
[56,{"$f":"A58/README!B$4","v":1.2698412698412698E-3},{"$f":"SIN(2*PI()*B58*README!B$5)","v":-0.24675739769029226}]
[57,{"$f":"A59/README!B$4","v":1.2925170068027211E-3},{"$f":"SIN(2*PI()*B59*README!B$5)","v":-0.50922535656142331}]
[58,{"$f":"A60/README!B$4","v":1.3151927437641724E-3},{"$f":"SIN(2*PI()*B60*README!B$5)","v":-0.73062452195587391}]
[59,{"$f":"A61/README!B$4","v":1.3378684807256237E-3},{"$f":"SIN(2*PI()*B61*README!B$5)","v":-0.89309915184835831}]
[60,{"$f":"A62/README!B$4","v":1.3605442176870747E-3},{"$f":"SIN(2*PI()*B62*README!B$5)","v":-0.98354574121055238}]
[61,{"$f":"A63/README!B$4","v":1.383219954648526E-3},{"$f":"SIN(2*PI()*B63*README!B$5)","v":-0.99466981373383534}]
[62,{"$f":"A64/README!B$4","v":1.4058956916099773E-3},{"$f":"SIN(2*PI()*B64*README!B$5)","v":-0.92557421802699602}]
[63,{"$f":"A65/README!B$4","v":1.4285714285714286E-3},{"$f":"SIN(2*PI()*B65*README!B$5)","v":-0.78183148246803025}]
[64,{"$f":"A66/README!B$4","v":1.4512471655328798E-3},{"$f":"SIN(2*PI()*B66*README!B$5)","v":-0.57503439332411554}]
[65,{"$f":"A67/README!B$4","v":1.4739229024943311E-3},{"$f":"SIN(2*PI()*B67*README!B$5)","v":-0.32186104181006714}]
[66,{"$f":"A68/README!B$4","v":1.4965986394557824E-3},{"$f":"SIN(2*PI()*B68*README!B$5)","v":-4.272974361491616E-2}]
[67,{"$f":"A69/README!B$4","v":1.5192743764172335E-3},{"$f":"SIN(2*PI()*B69*README!B$5)","v":0.23984768897479941}]
[68,{"$f":"A70/README!B$4","v":1.5419501133786847E-3},{"$f":"SIN(2*PI()*B70*README!B$5)","v":0.50308151450048777}]
[69,{"$f":"A71/README!B$4","v":1.564625850340136E-3},{"$f":"SIN(2*PI()*B71*README!B$5)","v":0.7257420446182834}]
[70,{"$f":"A72/README!B$4","v":1.5873015873015873E-3},{"$f":"SIN(2*PI()*B72*README!B$5)","v":0.88987180881146699}]
[71,{"$f":"A73/README!B$4","v":1.6099773242630386E-3},{"$f":"SIN(2*PI()*B73*README!B$5)","v":0.98223381622290928}]
[72,{"$f":"A74/README!B$4","v":1.6326530612244899E-3},{"$f":"SIN(2*PI()*B74*README!B$5)","v":0.99537911294919823}]
[73,{"$f":"A75/README!B$4","v":1.6553287981859411E-3},{"$f":"SIN(2*PI()*B75*README!B$5)","v":0.92824753678614369}]
[74,{"$f":"A76/README!B$4","v":1.6780045351473922E-3},{"$f":"SIN(2*PI()*B76*README!B$5)","v":0.78625321882851773}]
[75,{"$f":"A77/README!B$4","v":1.7006802721088435E-3},{"$f":"SIN(2*PI()*B77*README!B$5)","v":0.58084793625890485}]
[76,{"$f":"A78/README!B$4","v":1.7233560090702948E-3},{"$f":"SIN(2*PI()*B78*README!B$5)","v":0.3285975317247169}]
[77,{"$f":"A79/README!B$4","v":1.746031746031746E-3},{"$f":"SIN(2*PI()*B79*README!B$5)","v":4.9845885660699987E-2}]
[78,{"$f":"A80/README!B$4","v":1.7687074829931973E-3},{"$f":"SIN(2*PI()*B80*README!B$5)","v":-0.23292580841837743}]
[79,{"$f":"A81/README!B$4","v":1.7913832199546486E-3},{"$f":"SIN(2*PI()*B81*README!B$5)","v":-0.49691214195312122}]
[80,{"$f":"A82/README!B$4","v":1.8140589569160999E-3},{"$f":"SIN(2*PI()*B82*README!B$5)","v":-0.72082273717088263}]
[81,{"$f":"A83/README!B$4","v":1.8367346938775509E-3},{"$f":"SIN(2*PI()*B83*README!B$5)","v":-0.88659930637299844}]
[82,{"$f":"A84/README!B$4","v":1.8594104308390022E-3},{"$f":"SIN(2*PI()*B84*README!B$5)","v":-0.98087204462712363}]
[83,{"$f":"A85/README!B$4","v":1.8820861678004535E-3},{"$f":"SIN(2*PI()*B85*README!B$5)","v":-0.99603789845613744}]
[84,{"$f":"A86/README!B$4","v":1.9047619047619048E-3},{"$f":"SIN(2*PI()*B86*README!B$5)","v":-0.93087374864420369}]
[85,{"$f":"A87/README!B$4","v":1.927437641723356E-3},{"$f":"SIN(2*PI()*B87*README!B$5)","v":-0.79063505424540848}]
[86,{"$f":"A88/README!B$4","v":1.9501133786848073E-3},{"$f":"SIN(2*PI()*B88*README!B$5)","v":-0.58663200220054756}]
[87,{"$f":"A89/README!B$4","v":1.9727891156462586E-3},{"$f":"SIN(2*PI()*B89*README!B$5)","v":-0.33531734590276507}]
[88,{"$f":"A90/README!B$4","v":1.9954648526077099E-3},{"$f":"SIN(2*PI()*B90*README!B$5)","v":-5.6959498116995057E-2}]
[89,{"$f":"A91/README!B$4","v":2.0181405895691612E-3},{"$f":"SIN(2*PI()*B91*README!B$5)","v":0.22599210729407906}]
[90,{"$f":"A92/README!B$4","v":2.0408163265306124E-3},{"$f":"SIN(2*PI()*B92*README!B$5)","v":0.49071755200394146}]
[91,{"$f":"A93/README!B$4","v":2.0634920634920637E-3},{"$f":"SIN(2*PI()*B93*README!B$5)","v":0.71586684925971988}]
[92,{"$f":"A94/README!B$4","v":2.0861678004535146E-3},{"$f":"SIN(2*PI()*B94*README!B$5)","v":0.88328181060659272}]
[93,{"$f":"A95/README!B$4","v":2.1088435374149658E-3},{"$f":"SIN(2*PI()*B95*README!B$5)","v":0.97946049553066572}]
[94,{"$f":"A96/README!B$4","v":2.1315192743764171E-3},{"$f":"SIN(2*PI()*B96*README!B$5)","v":0.99664613682246783}]
[95,{"$f":"A97/README!B$4","v":2.1541950113378684E-3},{"$f":"SIN(2*PI()*B97*README!B$5)","v":0.93345272032562632}]
[96,{"$f":"A98/README!B$4","v":2.1768707482993197E-3},{"$f":"SIN(2*PI()*B98*README!B$5)","v":0.79497676634839798}]
[97,{"$f":"A99/README!B$4","v":2.1995464852607709E-3},{"$f":"SIN(2*PI()*B99*README!B$5)","v":0.59238629761804962}]
[98,{"$f":"A100/README!B$4","v":2.2222222222222222E-3},{"$f":"SIN(2*PI()*B100*README!B$5)","v":0.34202014332566938}]
[99,{"$f":"A101/README!B$4","v":2.2448979591836735E-3},{"$f":"SIN(2*PI()*B101*README!B$5)","v":6.4070219980715534E-2}]
[100,{"$f":"A102/README!B$4","v":2.2675736961451248E-3},{"$f":"SIN(2*PI()*B102*README!B$5)","v":-0.21904693747481582}]
[101,{"$f":"A103/README!B$4","v":2.2902494331065761E-3},{"$f":"SIN(2*PI()*B103*README!B$5)","v":-0.48449805901729182}]
[102,{"$f":"A104/README!B$4","v":2.3129251700680273E-3},{"$f":"SIN(2*PI()*B104*README!B$5)","v":-0.71087463238723658}]
[103,{"$f":"A105/README!B$4","v":2.3356009070294786E-3},{"$f":"SIN(2*PI()*B105*README!B$5)","v":-0.87991948986922386}]
[104,{"$f":"A106/README!B$4","v":2.3582766439909299E-3},{"$f":"SIN(2*PI()*B106*README!B$5)","v":-0.97799924056712861}]
[105,{"$f":"A107/README!B$4","v":2.3809523809523812E-3},{"$f":"SIN(2*PI()*B107*README!B$5)","v":-0.99720379718118013}]
[106,{"$f":"A108/README!B$4","v":2.403628117913832E-3},{"$f":"SIN(2*PI()*B108*README!B$5)","v":-0.93598432095221185}]
[107,{"$f":"A109/README!B$4","v":2.4263038548752833E-3},{"$f":"SIN(2*PI()*B109*README!B$5)","v":-0.79927813480336773}]
[108,{"$f":"A110/README!B$4","v":2.4489795918367346E-3},{"$f":"SIN(2*PI()*B110*README!B$5)","v":-0.59811053049122054}]
[109,{"$f":"A111/README!B$4","v":2.4716553287981858E-3},{"$f":"SIN(2*PI()*B111*README!B$5)","v":-0.34870558383846084}]
[110,{"$f":"A112/README!B$4","v":2.4943310657596371E-3},{"$f":"SIN(2*PI()*B112*README!B$5)","v":-7.1177690395439655E-2}]
[111,{"$f":"A113/README!B$4","v":2.5170068027210884E-3},{"$f":"SIN(2*PI()*B113*README!B$5)","v":0.21209065141553232}]
[112,{"$f":"A114/README!B$4","v":2.5396825396825397E-3},{"$f":"SIN(2*PI()*B114*README!B$5)","v":0.47825397862131575}]
[113,{"$f":"A115/README!B$4","v":2.562358276643991E-3},{"$f":"SIN(2*PI()*B115*README!B$5)","v":0.70584633989949874}]
[114,{"$f":"A116/README!B$4","v":2.5850340136054422E-3},{"$f":"SIN(2*PI()*B116*README!B$5)","v":0.87651251479264791}]
[115,{"$f":"A117/README!B$4","v":2.6077097505668935E-3},{"$f":"SIN(2*PI()*B117*README!B$5)","v":0.97648835389258193}]
[116,{"$f":"A118/README!B$4","v":2.6303854875283448E-3},{"$f":"SIN(2*PI()*B118*README!B$5)","v":0.99771085123200987}]
[117,{"$f":"A119/README!B$4","v":2.6530612244897961E-3},{"$f":"SIN(2*PI()*B119*README!B$5)","v":0.93846842204975978}]
[118,{"$f":"A120/README!B$4","v":2.6757369614512473E-3},{"$f":"SIN(2*PI()*B120*README!B$5)","v":0.8035389413235674}]
[119,{"$f":"A121/README!B$4","v":2.6984126984126986E-3},{"$f":"SIN(2*PI()*B121*README!B$5)","v":0.60380441032547338}]
[120,{"$f":"A122/README!B$4","v":2.7210884353741495E-3},{"$f":"SIN(2*PI()*B122*README!B$5)","v":0.35537332816699257}]
[121,{"$f":"A123/README!B$4","v":2.7437641723356007E-3},{"$f":"SIN(2*PI()*B123*README!B$5)","v":7.8281548669775644E-2}]
[122,{"$f":"A124/README!B$4","v":2.766439909297052E-3},{"$f":"SIN(2*PI()*B124*README!B$5)","v":-0.20512360213530245}]
[123,{"$f":"A125/README!B$4","v":2.7891156462585033E-3},{"$f":"SIN(2*PI()*B125*README!B$5)","v":-0.4719856276919206}]
[124,{"$f":"A126/README!B$4","v":2.8117913832199546E-3},{"$f":"SIN(2*PI()*B126*README!B$5)","v":-0.70078222697336523}]
[125,{"$f":"A127/README!B$4","v":2.8344671201814059E-3},{"$f":"SIN(2*PI()*B127*README!B$5)","v":-0.87306105827475033}]
[126,{"$f":"A128/README!B$4","v":2.8571428571428571E-3},{"$f":"SIN(2*PI()*B128*README!B$5)","v":-0.97492791218182329}]
[127,{"$f":"A129/README!B$4","v":2.8798185941043084E-3},{"$f":"SIN(2*PI()*B129*README!B$5)","v":-0.99816727324287224}]
[128,{"$f":"A130/README!B$4","v":2.9024943310657597E-3},{"$f":"SIN(2*PI()*B130*README!B$5)","v":-0.94090489755459039}]
[129,{"$f":"A131/README!B$4","v":2.925170068027211E-3},{"$f":"SIN(2*PI()*B131*README!B$5)","v":-0.80775896968069238}]
[130,{"$f":"A132/README!B$4","v":2.9478458049886623E-3},{"$f":"SIN(2*PI()*B132*README!B$5)","v":-0.60946764816662302}]
[131,{"$f":"A133/README!B$4","v":2.9705215419501135E-3},{"$f":"SIN(2*PI()*B133*README!B$5)","v":-0.36202303793517071}]
[132,{"$f":"A134/README!B$4","v":2.9931972789115648E-3},{"$f":"SIN(2*PI()*B134*README!B$5)","v":-8.5381434295627237E-2}]
[133,{"$f":"A135/README!B$4","v":3.0158730158730161E-3},{"$f":"SIN(2*PI()*B135*README!B$5)","v":0.19814614319939691}]
[134,{"$f":"A136/README!B$4","v":3.0385487528344669E-3},{"$f":"SIN(2*PI()*B136*README!B$5)","v":0.46569332433669369}]
[135,{"$f":"A137/README!B$4","v":3.0612244897959182E-3},{"$f":"SIN(2*PI()*B137*README!B$5)","v":0.69568255060348316}]
[136,{"$f":"A138/README!B$4","v":3.0839002267573695E-3},{"$f":"SIN(2*PI()*B138*README!B$5)","v":0.86956529547078243}]
[137,{"$f":"A139/README!B$4","v":3.1065759637188208E-3},{"$f":"SIN(2*PI()*B139*README!B$5)","v":0.97331799462447566}]
[138,{"$f":"A140/README!B$4","v":3.129251700680272E-3},{"$f":"SIN(2*PI()*B140*README!B$5)","v":0.99857304005116543}]
[139,{"$f":"A141/README!B$4","v":3.1519274376417233E-3},{"$f":"SIN(2*PI()*B141*README!B$5)","v":0.94329362381992432}]
[140,{"$f":"A142/README!B$4","v":3.1746031746031746E-3},{"$f":"SIN(2*PI()*B142*README!B$5)","v":0.81193800571586061}]
[141,{"$f":"A143/README!B$4","v":3.1972789115646259E-3},{"$f":"SIN(2*PI()*B143*README!B$5)","v":0.61509995661546546}]
[142,{"$f":"A144/README!B$4","v":3.2199546485260772E-3},{"$f":"SIN(2*PI()*B144*README!B$5)","v":0.36865437568214626}]
[143,{"$f":"A145/README!B$4","v":3.2426303854875284E-3},{"$f":"SIN(2*PI()*B145*README!B$5)","v":9.2476986966506511E-2}]
[144,{"$f":"A146/README!B$4","v":3.2653061224489797E-3},{"$f":"SIN(2*PI()*B146*README!B$5)","v":-0.19115862870137174}]
[145,{"$f":"A147/README!B$4","v":3.287981859410431E-3},{"$f":"SIN(2*PI()*B147*README!B$5)","v":-0.4593773878787682}]
[146,{"$f":"A148/README!B$4","v":3.3106575963718823E-3},{"$f":"SIN(2*PI()*B148*README!B$5)","v":-0.69054756958932095}]
[147,{"$f":"A149/README!B$4","v":3.3333333333333335E-3},{"$f":"SIN(2*PI()*B149*README!B$5)","v":-0.86602540378443904}]
[148,{"$f":"A150/README!B$4","v":3.3560090702947844E-3},{"$f":"SIN(2*PI()*B150*README!B$5)","v":-0.97165868292097379}]
[149,{"$f":"A151/README!B$4","v":3.3786848072562357E-3},{"$f":"SIN(2*PI()*B151*README!B$5)","v":-0.99892813106495182}]
[150,{"$f":"A152/README!B$4","v":3.4013605442176869E-3},{"$f":"SIN(2*PI()*B152*README!B$5)","v":-0.94563447962218838}]
[151,{"$f":"A153/README!B$4","v":3.4240362811791382E-3},{"$f":"SIN(2*PI()*B153*README!B$5)","v":-0.81607583735046074}]
[152,{"$f":"A154/README!B$4","v":3.4467120181405895E-3},{"$f":"SIN(2*PI()*B154*README!B$5)","v":-0.62070104984243346}]
[153,{"$f":"A155/README!B$4","v":3.4693877551020408E-3},{"$f":"SIN(2*PI()*B155*README!B$5)","v":-0.37526700487937098}]
[154,{"$f":"A156/README!B$4","v":3.4920634920634921E-3},{"$f":"SIN(2*PI()*B156*README!B$5)","v":-9.9567846595822282E-2}]
[155,{"$f":"A157/README!B$4","v":3.5147392290249433E-3},{"$f":"SIN(2*PI()*B157*README!B$5)","v":0.18416141324507423}]
[156,{"$f":"A158/README!B$4","v":3.5374149659863946E-3},{"$f":"SIN(2*PI()*B158*README!B$5)","v":0.45303813884061478}]
[157,{"$f":"A159/README!B$4","v":3.5600907029478459E-3},{"$f":"SIN(2*PI()*B159*README!B$5)","v":0.68537754452195399}]
[158,{"$f":"A160/README!B$4","v":3.5827664399092972E-3},{"$f":"SIN(2*PI()*B160*README!B$5)","v":0.86244156285889106}]
[159,{"$f":"A161/README!B$4","v":3.6054421768707485E-3},{"$f":"SIN(2*PI()*B161*README!B$5)","v":0.96995006127841654}]
[160,{"$f":"A162/README!B$4","v":3.6281179138321997E-3},{"$f":"SIN(2*PI()*B162*README!B$5)","v":0.99923252826399656}]
[161,{"$f":"A163/README!B$4","v":3.650793650793651E-3},{"$f":"SIN(2*PI()*B163*README!B$5)","v":0.94792734616713104}]
[162,{"$f":"A164/README!B$4","v":3.6734693877551019E-3},{"$f":"SIN(2*PI()*B164*README!B$5)","v":0.82017225459695986}]
[163,{"$f":"A165/README!B$4","v":3.6961451247165531E-3},{"$f":"SIN(2*PI()*B165*README!B$5)","v":0.62627064360207074}]
[164,{"$f":"A166/README!B$4","v":3.7188208616780044E-3},{"$f":"SIN(2*PI()*B166*README!B$5)","v":0.38186058994777511}]
[165,{"$f":"A167/README!B$4","v":3.7414965986394557E-3},{"$f":"SIN(2*PI()*B167*README!B$5)","v":0.10665365333511861}]
[166,{"$f":"A168/README!B$4","v":3.764172335600907E-3},{"$f":"SIN(2*PI()*B168*README!B$5)","v":-0.17715485192668598}]
[167,{"$f":"A169/README!B$4","v":3.7868480725623582E-3},{"$f":"SIN(2*PI()*B169*README!B$5)","v":-0.44667589892777609}]
[168,{"$f":"A170/README!B$4","v":3.8095238095238095E-3},{"$f":"SIN(2*PI()*B170*README!B$5)","v":-0.68017273777092147}]
[169,{"$f":"A171/README!B$4","v":3.8321995464852608E-3},{"$f":"SIN(2*PI()*B171*README!B$5)","v":-0.85881395456764731}]
[170,{"$f":"A172/README!B$4","v":3.8548752834467121E-3},{"$f":"SIN(2*PI()*B172*README!B$5)","v":-0.96819221640629427}]
[171,{"$f":"A173/README!B$4","v":3.8775510204081634E-3},{"$f":"SIN(2*PI()*B173*README!B$5)","v":-0.999486216200688}]
[172,{"$f":"A174/README!B$4","v":3.9002267573696146E-3},{"$f":"SIN(2*PI()*B174*README!B$5)","v":-0.95017210709588817}]
[173,{"$f":"A175/README!B$4","v":3.9229024943310655E-3},{"$f":"SIN(2*PI()*B175*README!B$5)","v":-0.8242270495695021}]
[174,{"$f":"A176/README!B$4","v":3.9455782312925172E-3},{"$f":"SIN(2*PI()*B176*README!B$5)","v":-0.63180845524746254}]
[175,{"$f":"A177/README!B$4","v":3.968253968253968E-3},{"$f":"SIN(2*PI()*B177*README!B$5)","v":-0.38843479627469796}]
[176,{"$f":"A178/README!B$4","v":3.9909297052154197E-3},{"$f":"SIN(2*PI()*B178*README!B$5)","v":-0.11373404759240707}]
[177,{"$f":"A179/README!B$4","v":4.0136054421768706E-3},{"$f":"SIN(2*PI()*B179*README!B$5)","v":0.17013930031662536}]
[178,{"$f":"A180/README!B$4","v":4.0362811791383223E-3},{"$f":"SIN(2*PI()*B180*README!B$5)","v":0.44029099101254665}]
[179,{"$f":"A181/README!B$4","v":4.0589569160997731E-3},{"$f":"SIN(2*PI()*B181*README!B$5)","v":0.67493341347082969}]
[180,{"$f":"A182/README!B$4","v":4.0816326530612249E-3},{"$f":"SIN(2*PI()*B182*README!B$5)","v":0.85514276300535041}]
[181,{"$f":"A183/README!B$4","v":4.1043083900226757E-3},{"$f":"SIN(2*PI()*B183*README!B$5)","v":0.96638523751208794}]
[182,{"$f":"A184/README!B$4","v":4.1269841269841274E-3},{"$f":"SIN(2*PI()*B184*README!B$5)","v":0.99968918200081613}]
[183,{"$f":"A185/README!B$4","v":4.1496598639455783E-3},{"$f":"SIN(2*PI()*B185*README!B$5)","v":0.95236864849085368}]
[184,{"$f":"A186/README!B$4","v":4.1723356009070291E-3},{"$f":"SIN(2*PI()*B186*README!B$5)","v":0.82824001649450429}]
[185,{"$f":"A187/README!B$4","v":4.1950113378684808E-3},{"$f":"SIN(2*PI()*B187*README!B$5)","v":0.63731420374457981}]
[186,{"$f":"A188/README!B$4","v":4.2176870748299317E-3},{"$f":"SIN(2*PI()*B188*README!B$5)","v":0.39498929023094831}]
[187,{"$f":"A189/README!B$4","v":4.2403628117913834E-3},{"$f":"SIN(2*PI()*B189*README!B$5)","v":0.12080867005034471}]
[188,{"$f":"A190/README!B$4","v":4.2630385487528342E-3},{"$f":"SIN(2*PI()*B190*README!B$5)","v":-0.16311511444160093}]
[189,{"$f":"A191/README!B$4","v":4.2857142857142859E-3},{"$f":"SIN(2*PI()*B191*README!B$5)","v":-0.43388373911755623}]
[190,{"$f":"A192/README!B$4","v":4.3083900226757368E-3},{"$f":"SIN(2*PI()*B192*README!B$5)","v":-0.66965983750802482}]
[191,{"$f":"A193/README!B$4","v":4.3310657596371885E-3},{"$f":"SIN(2*PI()*B193*README!B$5)","v":-0.85142817447837937}]
[192,{"$f":"A194/README!B$4","v":4.3537414965986393E-3},{"$f":"SIN(2*PI()*B194*README!B$5)","v":-0.96452921629674226}]
[193,{"$f":"A195/README!B$4","v":4.376417233560091E-3},{"$f":"SIN(2*PI()*B195*README!B$5)","v":-0.99984141536423088}]
[194,{"$f":"A196/README!B$4","v":4.3990929705215419E-3},{"$f":"SIN(2*PI()*B196*README!B$5)","v":-0.9545168588814853}]
[195,{"$f":"A197/README!B$4","v":4.4217687074829936E-3},{"$f":"SIN(2*PI()*B197*README!B$5)","v":-0.83221095172107351}]
[196,{"$f":"A198/README!B$4","v":4.4444444444444444E-3},{"$f":"SIN(2*PI()*B198*README!B$5)","v":-0.64278760968654036}]
[197,{"$f":"A199/README!B$4","v":4.4671201814058953E-3},{"$f":"SIN(2*PI()*B199*README!B$5)","v":-0.40152373918766965}]
[198,{"$f":"A200/README!B$4","v":4.489795918367347E-3},{"$f":"SIN(2*PI()*B200*README!B$5)","v":-0.12787716168451121}]
[199,{"$f":"A201/README!B$4","v":4.5124716553287978E-3},{"$f":"SIN(2*PI()*B201*README!B$5)","v":0.15608265076646677}]
[200,{"$f":"A202/README!B$4","v":4.5351473922902496E-3},{"$f":"SIN(2*PI()*B202*README!B$5)","v":0.42745446839938966}]
[201,{"$f":"A203/README!B$4","v":4.5578231292517004E-3},{"$f":"SIN(2*PI()*B203*README!B$5)","v":0.66435227750703785}]
[202,{"$f":"A204/README!B$4","v":4.5804988662131521E-3},{"$f":"SIN(2*PI()*B204*README!B$5)","v":0.84767037749546803}]
[203,{"$f":"A205/README!B$4","v":4.603174603174603E-3},{"$f":"SIN(2*PI()*B205*README!B$5)","v":0.96262424695000992}]
[204,{"$f":"A206/README!B$4","v":4.6258503401360547E-3},{"$f":"SIN(2*PI()*B206*README!B$5)","v":0.99994290856536094}]
[205,{"$f":"A207/README!B$4","v":4.6485260770975055E-3},{"$f":"SIN(2*PI()*B207*README!B$5)","v":0.95661662924995072}]
[206,{"$f":"A208/README!B$4","v":4.6712018140589572E-3},{"$f":"SIN(2*PI()*B208*README!B$5)","v":0.83613965373136212}]
[207,{"$f":"A209/README!B$4","v":4.6938775510204081E-3},{"$f":"SIN(2*PI()*B209*README!B$5)","v":0.64822839530778942}]
[208,{"$f":"A210/README!B$4","v":4.7165532879818598E-3},{"$f":"SIN(2*PI()*B210*README!B$5)","v":0.40803781153328611}]
[209,{"$f":"A211/README!B$4","v":4.7392290249433106E-3},{"$f":"SIN(2*PI()*B211*README!B$5)","v":0.13493916378158638}]
[210,{"$f":"A212/README!B$4","v":4.7619047619047623E-3},{"$f":"SIN(2*PI()*B212*README!B$5)","v":-0.14904226617617447}]
[211,{"$f":"A213/README!B$4","v":4.7845804988662132E-3},{"$f":"SIN(2*PI()*B213*README!B$5)","v":-0.42100350513202228}]
[212,{"$f":"A214/README!B$4","v":4.807256235827664E-3},{"$f":"SIN(2*PI()*B214*README!B$5)","v":-0.65901100281705494}]
[213,{"$f":"A215/README!B$4","v":4.8299319727891157E-3},{"$f":"SIN(2*PI()*B215*README!B$5)","v":-0.84386956275808023}]
[214,{"$f":"A216/README!B$4","v":4.8526077097505666E-3},{"$f":"SIN(2*PI()*B216*README!B$5)","v":-0.96067042614568166}]
[215,{"$f":"A217/README!B$4","v":4.8752834467120183E-3},{"$f":"SIN(2*PI()*B217*README!B$5)","v":-0.99999365645360838}]
[216,{"$f":"A218/README!B$4","v":4.8979591836734691E-3},{"$f":"SIN(2*PI()*B218*README!B$5)","v":-0.95866785303666391}]
[217,{"$f":"A219/README!B$4","v":4.9206349206349208E-3},{"$f":"SIN(2*PI()*B219*README!B$5)","v":-0.84002592315077107}]
[218,{"$f":"A220/README!B$4","v":4.9433106575963717E-3},{"$f":"SIN(2*PI()*B220*README!B$5)","v":-0.65363628449819988}]
[219,{"$f":"A221/README!B$4","v":4.9659863945578234E-3},{"$f":"SIN(2*PI()*B221*README!B$5)","v":-0.41453117669029177}]
[220,{"$f":"A222/README!B$4","v":4.9886621315192742E-3},{"$f":"SIN(2*PI()*B222*README!B$5)","v":-0.14199431795762474}]
[221,{"$f":"A223/README!B$4","v":5.011337868480726E-3},{"$f":"SIN(2*PI()*B223*README!B$5)","v":0.14199431795762693}]
[222,{"$f":"A224/README!B$4","v":5.0340136054421768E-3},{"$f":"SIN(2*PI()*B224*README!B$5)","v":0.41453117669028727}]
[223,{"$f":"A225/README!B$4","v":5.0566893424036285E-3},{"$f":"SIN(2*PI()*B225*README!B$5)","v":0.65363628449819622}]
[224,{"$f":"A226/README!B$4","v":5.0793650793650794E-3},{"$f":"SIN(2*PI()*B226*README!B$5)","v":0.84002592315076841}]
[225,{"$f":"A227/README!B$4","v":5.1020408163265302E-3},{"$f":"SIN(2*PI()*B227*README!B$5)","v":0.95866785303666047}]
[226,{"$f":"A228/README!B$4","v":5.1247165532879819E-3},{"$f":"SIN(2*PI()*B228*README!B$5)","v":0.99999365645360827}]
[227,{"$f":"A229/README!B$4","v":5.1473922902494328E-3},{"$f":"SIN(2*PI()*B229*README!B$5)","v":0.9606704261456831}]
[228,{"$f":"A230/README!B$4","v":5.1700680272108845E-3},{"$f":"SIN(2*PI()*B230*README!B$5)","v":0.84386956275808278}]
[229,{"$f":"A231/README!B$4","v":5.1927437641723353E-3},{"$f":"SIN(2*PI()*B231*README!B$5)","v":0.65901100281706393}]
[230,{"$f":"A232/README!B$4","v":5.215419501133787E-3},{"$f":"SIN(2*PI()*B232*README!B$5)","v":0.42100350513202672}]
[231,{"$f":"A233/README!B$4","v":5.2380952380952379E-3},{"$f":"SIN(2*PI()*B233*README!B$5)","v":0.14904226617617231}]
[232,{"$f":"A234/README!B$4","v":5.2607709750566896E-3},{"$f":"SIN(2*PI()*B234*README!B$5)","v":-0.13493916378159562}]
[233,{"$f":"A235/README!B$4","v":5.2834467120181404E-3},{"$f":"SIN(2*PI()*B235*README!B$5)","v":-0.40803781153328816}]
[234,{"$f":"A236/README!B$4","v":5.3061224489795921E-3},{"$f":"SIN(2*PI()*B236*README!B$5)","v":-0.64822839530779108}]
[235,{"$f":"A237/README!B$4","v":5.328798185941043E-3},{"$f":"SIN(2*PI()*B237*README!B$5)","v":-0.83613965373135946}]
[236,{"$f":"A238/README!B$4","v":5.3514739229024947E-3},{"$f":"SIN(2*PI()*B238*README!B$5)","v":-0.95661662924994928}]
[237,{"$f":"A239/README!B$4","v":5.3741496598639455E-3},{"$f":"SIN(2*PI()*B239*README!B$5)","v":-0.99994290856536094}]
[238,{"$f":"A240/README!B$4","v":5.3968253968253973E-3},{"$f":"SIN(2*PI()*B240*README!B$5)","v":-0.96262424695000937}]
[239,{"$f":"A241/README!B$4","v":5.4195011337868481E-3},{"$f":"SIN(2*PI()*B241*README!B$5)","v":-0.84767037749547447}]
[240,{"$f":"A242/README!B$4","v":5.4421768707482989E-3},{"$f":"SIN(2*PI()*B242*README!B$5)","v":-0.66435227750705206}]
[241,{"$f":"A243/README!B$4","v":5.4648526077097507E-3},{"$f":"SIN(2*PI()*B243*README!B$5)","v":-0.42745446839939411}]
[242,{"$f":"A244/README!B$4","v":5.4875283446712015E-3},{"$f":"SIN(2*PI()*B244*README!B$5)","v":-0.1560826507664716}]
[243,{"$f":"A245/README!B$4","v":5.5102040816326532E-3},{"$f":"SIN(2*PI()*B245*README!B$5)","v":0.12787716168449931}]
[244,{"$f":"A246/README!B$4","v":5.5328798185941041E-3},{"$f":"SIN(2*PI()*B246*README!B$5)","v":0.40152373918766515}]
[245,{"$f":"A247/README!B$4","v":5.5555555555555558E-3},{"$f":"SIN(2*PI()*B247*README!B$5)","v":0.64278760968654203}]
[246,{"$f":"A248/README!B$4","v":5.5782312925170066E-3},{"$f":"SIN(2*PI()*B248*README!B$5)","v":0.83221095172107074}]
[247,{"$f":"A249/README!B$4","v":5.6009070294784583E-3},{"$f":"SIN(2*PI()*B249*README!B$5)","v":0.95451685888148385}]
[248,{"$f":"A250/README!B$4","v":5.6235827664399092E-3},{"$f":"SIN(2*PI()*B250*README!B$5)","v":0.99984141536423099}]
[249,{"$f":"A251/README!B$4","v":5.6462585034013609E-3},{"$f":"SIN(2*PI()*B251*README!B$5)","v":0.96452921629674349}]
[250,{"$f":"A252/README!B$4","v":5.6689342403628117E-3},{"$f":"SIN(2*PI()*B252*README!B$5)","v":0.85142817447838559}]
[251,{"$f":"A253/README!B$4","v":5.6916099773242634E-3},{"$f":"SIN(2*PI()*B253*README!B$5)","v":0.66965983750802316}]
[252,{"$f":"A254/README!B$4","v":5.7142857142857143E-3},{"$f":"SIN(2*PI()*B254*README!B$5)","v":0.43388373911756062}]
[253,{"$f":"A255/README!B$4","v":5.7369614512471651E-3},{"$f":"SIN(2*PI()*B255*README!B$5)","v":0.16311511444161977}]
[254,{"$f":"A256/README!B$4","v":5.7596371882086168E-3},{"$f":"SIN(2*PI()*B256*README!B$5)","v":-0.12080867005033985}]
[255,{"$f":"A257/README!B$4","v":5.7823129251700677E-3},{"$f":"SIN(2*PI()*B257*README!B$5)","v":-0.39498929023093726}]
[256,{"$f":"A258/README!B$4","v":5.8049886621315194E-3},{"$f":"SIN(2*PI()*B258*README!B$5)","v":-0.63731420374457048}]
[257,{"$f":"A259/README!B$4","v":5.8276643990929702E-3},{"$f":"SIN(2*PI()*B259*README!B$5)","v":-0.82824001649449752}]
[258,{"$f":"A260/README!B$4","v":5.8503401360544219E-3},{"$f":"SIN(2*PI()*B260*README!B$5)","v":-0.95236864849085212}]
[259,{"$f":"A261/README!B$4","v":5.8730158730158728E-3},{"$f":"SIN(2*PI()*B261*README!B$5)","v":-0.99968918200081636}]
[260,{"$f":"A262/README!B$4","v":5.8956916099773245E-3},{"$f":"SIN(2*PI()*B262*README!B$5)","v":-0.96638523751208916}]
[261,{"$f":"A263/README!B$4","v":5.9183673469387754E-3},{"$f":"SIN(2*PI()*B263*README!B$5)","v":-0.85514276300534553}]
[262,{"$f":"A264/README!B$4","v":5.9410430839002271E-3},{"$f":"SIN(2*PI()*B264*README!B$5)","v":-0.67493341347082803}]
[263,{"$f":"A265/README!B$4","v":5.9637188208616779E-3},{"$f":"SIN(2*PI()*B265*README!B$5)","v":-0.44029099101254471}]
[264,{"$f":"A266/README!B$4","v":5.9863945578231296E-3},{"$f":"SIN(2*PI()*B266*README!B$5)","v":-0.17013930031663019}]
[265,{"$f":"A267/README!B$4","v":6.0090702947845805E-3},{"$f":"SIN(2*PI()*B267*README!B$5)","v":0.1137340475924022}]
[266,{"$f":"A268/README!B$4","v":6.0317460317460322E-3},{"$f":"SIN(2*PI()*B268*README!B$5)","v":0.38843479627469346}]
[267,{"$f":"A269/README!B$4","v":6.054421768707483E-3},{"$f":"SIN(2*PI()*B269*README!B$5)","v":0.63180845524745322}]
[268,{"$f":"A270/README!B$4","v":6.0770975056689339E-3},{"$f":"SIN(2*PI()*B270*README!B$5)","v":0.82422704956949533}]
[269,{"$f":"A271/README!B$4","v":6.0997732426303856E-3},{"$f":"SIN(2*PI()*B271*README!B$5)","v":0.95017210709588673}]
[270,{"$f":"A272/README!B$4","v":6.1224489795918364E-3},{"$f":"SIN(2*PI()*B272*README!B$5)","v":0.99948621620068756}]
[271,{"$f":"A273/README!B$4","v":6.1451247165532881E-3},{"$f":"SIN(2*PI()*B273*README!B$5)","v":0.96819221640629549}]
[272,{"$f":"A274/README!B$4","v":6.167800453514739E-3},{"$f":"SIN(2*PI()*B274*README!B$5)","v":0.85881395456764975}]
[273,{"$f":"A275/README!B$4","v":6.1904761904761907E-3},{"$f":"SIN(2*PI()*B275*README!B$5)","v":0.68017273777092513}]
[274,{"$f":"A276/README!B$4","v":6.2131519274376415E-3},{"$f":"SIN(2*PI()*B276*README!B$5)","v":0.44667589892778048}]
[275,{"$f":"A277/README!B$4","v":6.2358276643990932E-3},{"$f":"SIN(2*PI()*B277*README!B$5)","v":0.17715485192668382}]
[276,{"$f":"A278/README!B$4","v":6.2585034013605441E-3},{"$f":"SIN(2*PI()*B278*README!B$5)","v":-0.10665365333512787}]
[277,{"$f":"A279/README!B$4","v":6.2811791383219958E-3},{"$f":"SIN(2*PI()*B279*README!B$5)","v":-0.38186058994777056}]
[278,{"$f":"A280/README!B$4","v":6.3038548752834466E-3},{"$f":"SIN(2*PI()*B280*README!B$5)","v":-0.62627064360207241}]
[279,{"$f":"A281/README!B$4","v":6.3265306122448984E-3},{"$f":"SIN(2*PI()*B281*README!B$5)","v":-0.82017225459696108}]
[280,{"$f":"A282/README!B$4","v":6.3492063492063492E-3},{"$f":"SIN(2*PI()*B282*README!B$5)","v":-0.94792734616712726}]
[281,{"$f":"A283/README!B$4","v":6.3718820861678E-3},{"$f":"SIN(2*PI()*B283*README!B$5)","v":-0.99923252826399644}]
[282,{"$f":"A284/README!B$4","v":6.3945578231292518E-3},{"$f":"SIN(2*PI()*B284*README!B$5)","v":-0.96995006127841776}]
[283,{"$f":"A285/README!B$4","v":6.4172335600907026E-3},{"$f":"SIN(2*PI()*B285*README!B$5)","v":-0.86244156285889706}]
[284,{"$f":"A286/README!B$4","v":6.4399092970521543E-3},{"$f":"SIN(2*PI()*B286*README!B$5)","v":-0.68537754452196276}]
[285,{"$f":"A287/README!B$4","v":6.4625850340136052E-3},{"$f":"SIN(2*PI()*B287*README!B$5)","v":-0.45303813884061916}]
[286,{"$f":"A288/README!B$4","v":6.4852607709750569E-3},{"$f":"SIN(2*PI()*B288*README!B$5)","v":-0.18416141324507906}]
[287,{"$f":"A289/README!B$4","v":6.5079365079365077E-3},{"$f":"SIN(2*PI()*B289*README!B$5)","v":9.9567846595810347E-2}]
[288,{"$f":"A290/README!B$4","v":6.5306122448979594E-3},{"$f":"SIN(2*PI()*B290*README!B$5)","v":0.37526700487937303}]
[289,{"$f":"A291/README!B$4","v":6.5532879818594103E-3},{"$f":"SIN(2*PI()*B291*README!B$5)","v":0.62070104984243513}]
[290,{"$f":"A292/README!B$4","v":6.575963718820862E-3},{"$f":"SIN(2*PI()*B292*README!B$5)","v":0.81607583735045797}]
[291,{"$f":"A293/README!B$4","v":6.5986394557823128E-3},{"$f":"SIN(2*PI()*B293*README!B$5)","v":0.94563447962218683}]
[292,{"$f":"A294/README!B$4","v":6.6213151927437645E-3},{"$f":"SIN(2*PI()*B294*README!B$5)","v":0.99892813106495193}]
[293,{"$f":"A295/README!B$4","v":6.6439909297052154E-3},{"$f":"SIN(2*PI()*B295*README!B$5)","v":0.9716586829209749}]
[294,{"$f":"A296/README!B$4","v":6.6666666666666671E-3},{"$f":"SIN(2*PI()*B296*README!B$5)","v":0.86602540378443793}]
[295,{"$f":"A297/README!B$4","v":6.6893424036281179E-3},{"$f":"SIN(2*PI()*B297*README!B$5)","v":0.69054756958932451}]
[296,{"$f":"A298/README!B$4","v":6.7120181405895688E-3},{"$f":"SIN(2*PI()*B298*README!B$5)","v":0.45937738787877253}]
[297,{"$f":"A299/README!B$4","v":6.7346938775510205E-3},{"$f":"SIN(2*PI()*B299*README!B$5)","v":0.1911586287013835}]
[298,{"$f":"A300/README!B$4","v":6.7573696145124713E-3},{"$f":"SIN(2*PI()*B300*README!B$5)","v":-9.2476986966501626E-2}]
[299,{"$f":"A301/README!B$4","v":6.7800453514739231E-3},{"$f":"SIN(2*PI()*B301*README!B$5)","v":-0.36865437568214171}]
[300,{"$f":"A302/README!B$4","v":6.8027210884353739E-3},{"$f":"SIN(2*PI()*B302*README!B$5)","v":-0.61509995661545602}]
[301,{"$f":"A303/README!B$4","v":6.8253968253968256E-3},{"$f":"SIN(2*PI()*B303*README!B$5)","v":-0.81193800571585362}]
[302,{"$f":"A304/README!B$4","v":6.8480725623582765E-3},{"$f":"SIN(2*PI()*B304*README!B$5)","v":-0.94329362381992499}]
[303,{"$f":"A305/README!B$4","v":6.8707482993197282E-3},{"$f":"SIN(2*PI()*B305*README!B$5)","v":-0.99857304005116587}]
[304,{"$f":"A306/README!B$4","v":6.893424036281179E-3},{"$f":"SIN(2*PI()*B306*README!B$5)","v":-0.97331799462447688}]
[305,{"$f":"A307/README!B$4","v":6.9160997732426307E-3},{"$f":"SIN(2*PI()*B307*README!B$5)","v":-0.86956529547078132}]
[306,{"$f":"A308/README!B$4","v":6.9387755102040816E-3},{"$f":"SIN(2*PI()*B308*README!B$5)","v":-0.6956825506034815}]
[307,{"$f":"A309/README!B$4","v":6.9614512471655333E-3},{"$f":"SIN(2*PI()*B309*README!B$5)","v":-0.46569332433669802}]
[308,{"$f":"A310/README!B$4","v":6.9841269841269841E-3},{"$f":"SIN(2*PI()*B310*README!B$5)","v":-0.19814614319940868}]
[309,{"$f":"A311/README!B$4","v":7.006802721088435E-3},{"$f":"SIN(2*PI()*B311*README!B$5)","v":8.5381434295622366E-2}]
[310,{"$f":"A312/README!B$4","v":7.0294784580498867E-3},{"$f":"SIN(2*PI()*B312*README!B$5)","v":0.3620230379351595}]
[311,{"$f":"A313/README!B$4","v":7.0521541950113375E-3},{"$f":"SIN(2*PI()*B313*README!B$5)","v":0.60946764816661347}]
[312,{"$f":"A314/README!B$4","v":7.0748299319727892E-3},{"$f":"SIN(2*PI()*B314*README!B$5)","v":0.8077589696806895}]
[313,{"$f":"A315/README!B$4","v":7.0975056689342401E-3},{"$f":"SIN(2*PI()*B315*README!B$5)","v":0.94090489755458873}]
[314,{"$f":"A316/README!B$4","v":7.1201814058956918E-3},{"$f":"SIN(2*PI()*B316*README!B$5)","v":0.99816727324287147}]
[315,{"$f":"A317/README!B$4","v":7.1428571428571426E-3},{"$f":"SIN(2*PI()*B317*README!B$5)","v":0.9749279121818244}]
[316,{"$f":"A318/README!B$4","v":7.1655328798185943E-3},{"$f":"SIN(2*PI()*B318*README!B$5)","v":0.87306105827475278}]
[317,{"$f":"A319/README!B$4","v":7.1882086167800452E-3},{"$f":"SIN(2*PI()*B319*README!B$5)","v":0.70078222697336867}]
[318,{"$f":"A320/README!B$4","v":7.2108843537414969E-3},{"$f":"SIN(2*PI()*B320*README!B$5)","v":0.47198562769192492}]
[319,{"$f":"A321/README!B$4","v":7.2335600907029477E-3},{"$f":"SIN(2*PI()*B321*README!B$5)","v":0.20512360213530029}]
[320,{"$f":"A322/README!B$4","v":7.2562358276643995E-3},{"$f":"SIN(2*PI()*B322*README!B$5)","v":-7.8281548669784928E-2}]
[321,{"$f":"A323/README!B$4","v":7.2789115646258503E-3},{"$f":"SIN(2*PI()*B323*README!B$5)","v":-0.35537332816698802}]
[322,{"$f":"A324/README!B$4","v":7.301587301587302E-3},{"$f":"SIN(2*PI()*B324*README!B$5)","v":-0.60380441032548082}]
[323,{"$f":"A325/README!B$4","v":7.3242630385487529E-3},{"$f":"SIN(2*PI()*B325*README!B$5)","v":-0.80353894132356452}]
[324,{"$f":"A326/README!B$4","v":7.3469387755102037E-3},{"$f":"SIN(2*PI()*B326*README!B$5)","v":-0.93846842204975567}]
[325,{"$f":"A327/README!B$4","v":7.3696145124716554E-3},{"$f":"SIN(2*PI()*B327*README!B$5)","v":-0.99771085123200953}]
[326,{"$f":"A328/README!B$4","v":7.3922902494331063E-3},{"$f":"SIN(2*PI()*B328*README!B$5)","v":-0.97648835389258304}]
[327,{"$f":"A329/README!B$4","v":7.414965986394558E-3},{"$f":"SIN(2*PI()*B329*README!B$5)","v":-0.87651251479265369}]
[328,{"$f":"A330/README!B$4","v":7.4376417233560088E-3},{"$f":"SIN(2*PI()*B330*README!B$5)","v":-0.70584633989950718}]
[329,{"$f":"A331/README!B$4","v":7.4603174603174605E-3},{"$f":"SIN(2*PI()*B331*README!B$5)","v":-0.47825397862132002}]
[330,{"$f":"A332/README!B$4","v":7.4829931972789114E-3},{"$f":"SIN(2*PI()*B332*README!B$5)","v":-0.21209065141553365}]
[331,{"$f":"A333/README!B$4","v":7.5056689342403631E-3},{"$f":"SIN(2*PI()*B333*README!B$5)","v":7.117769039543477E-2}]
[332,{"$f":"A334/README!B$4","v":7.5283446712018139E-3},{"$f":"SIN(2*PI()*B334*README!B$5)","v":0.34870558383845629}]
[333,{"$f":"A335/README!B$4","v":7.5510204081632656E-3},{"$f":"SIN(2*PI()*B335*README!B$5)","v":0.59811053049121954}]
[334,{"$f":"A336/README!B$4","v":7.5736961451247165E-3},{"$f":"SIN(2*PI()*B336*README!B$5)","v":0.79927813480336474}]
[335,{"$f":"A337/README!B$4","v":7.5963718820861682E-3},{"$f":"SIN(2*PI()*B337*README!B$5)","v":0.9359843209522114}]
[336,{"$f":"A338/README!B$4","v":7.619047619047619E-3},{"$f":"SIN(2*PI()*B338*README!B$5)","v":0.99720379718118057}]
[337,{"$f":"A339/README!B$4","v":7.6417233560090699E-3},{"$f":"SIN(2*PI()*B339*README!B$5)","v":0.97799924056712884}]
[338,{"$f":"A340/README!B$4","v":7.6643990929705216E-3},{"$f":"SIN(2*PI()*B340*README!B$5)","v":0.87991948986922952}]
[339,{"$f":"A341/README!B$4","v":7.6870748299319724E-3},{"$f":"SIN(2*PI()*B341*README!B$5)","v":0.71087463238724002}]
[340,{"$f":"A342/README!B$4","v":7.7097505668934242E-3},{"$f":"SIN(2*PI()*B342*README!B$5)","v":0.48449805901729298}]
[341,{"$f":"A343/README!B$4","v":7.732426303854875E-3},{"$f":"SIN(2*PI()*B343*README!B$5)","v":0.21904693747482754}]
[342,{"$f":"A344/README!B$4","v":7.7551020408163267E-3},{"$f":"SIN(2*PI()*B344*README!B$5)","v":-6.407021998070711E-2}]
[343,{"$f":"A345/README!B$4","v":7.7777777777777776E-3},{"$f":"SIN(2*PI()*B345*README!B$5)","v":-0.3420201433256681}]
[344,{"$f":"A346/README!B$4","v":7.8004535147392293E-3},{"$f":"SIN(2*PI()*B346*README!B$5)","v":-0.59238629761803996}]
[345,{"$f":"A347/README!B$4","v":7.823129251700681E-3},{"$f":"SIN(2*PI()*B347*README!B$5)","v":-0.79497676634840353}]
[346,{"$f":"A348/README!B$4","v":7.845804988662131E-3},{"$f":"SIN(2*PI()*B348*README!B$5)","v":-0.93345272032562077}]
[347,{"$f":"A349/README!B$4","v":7.8684807256235827E-3},{"$f":"SIN(2*PI()*B349*README!B$5)","v":-0.99664613682246805}]
[348,{"$f":"A350/README!B$4","v":7.8911564625850344E-3},{"$f":"SIN(2*PI()*B350*README!B$5)","v":-0.97946049553066739}]
[349,{"$f":"A351/README!B$4","v":7.9138321995464861E-3},{"$f":"SIN(2*PI()*B351*README!B$5)","v":-0.88328181060659339}]
[350,{"$f":"A352/README!B$4","v":7.9365079365079361E-3},{"$f":"SIN(2*PI()*B352*README!B$5)","v":-0.71586684925972333}]
[351,{"$f":"A353/README!B$4","v":7.9591836734693878E-3},{"$f":"SIN(2*PI()*B353*README!B$5)","v":-0.49071755200393952}]
[352,{"$f":"A354/README!B$4","v":7.9818594104308395E-3},{"$f":"SIN(2*PI()*B354*README!B$5)","v":-0.22599210729407346}]
[353,{"$f":"A355/README!B$4","v":8.0045351473922895E-3},{"$f":"SIN(2*PI()*B355*README!B$5)","v":5.6959498116990158E-2}]
[354,{"$f":"A356/README!B$4","v":8.0272108843537412E-3},{"$f":"SIN(2*PI()*B356*README!B$5)","v":0.33531734590275042}]
[355,{"$f":"A357/README!B$4","v":8.0498866213151929E-3},{"$f":"SIN(2*PI()*B357*README!B$5)","v":0.58663200220053779}]
[356,{"$f":"A358/README!B$4","v":8.0725623582766446E-3},{"$f":"SIN(2*PI()*B358*README!B$5)","v":0.79063505424541425}]
[357,{"$f":"A359/README!B$4","v":8.0952380952380946E-3},{"$f":"SIN(2*PI()*B359*README!B$5)","v":0.93087374864419936}]
[358,{"$f":"A360/README!B$4","v":8.1179138321995463E-3},{"$f":"SIN(2*PI()*B360*README!B$5)","v":0.99603789845613666}]
[359,{"$f":"A361/README!B$4","v":8.140589569160998E-3},{"$f":"SIN(2*PI()*B361*README!B$5)","v":0.98087204462712452}]
[360,{"$f":"A362/README!B$4","v":8.1632653061224497E-3},{"$f":"SIN(2*PI()*B362*README!B$5)","v":0.88659930637299256}]
[361,{"$f":"A363/README!B$4","v":8.1859410430838997E-3},{"$f":"SIN(2*PI()*B363*README!B$5)","v":0.72082273717089584}]
[362,{"$f":"A364/README!B$4","v":8.2086167800453514E-3},{"$f":"SIN(2*PI()*B364*README!B$5)","v":0.49691214195312239}]
[363,{"$f":"A365/README!B$4","v":8.2312925170068031E-3},{"$f":"SIN(2*PI()*B365*README!B$5)","v":0.23292580841837529}]
[364,{"$f":"A366/README!B$4","v":8.2539682539682548E-3},{"$f":"SIN(2*PI()*B366*README!B$5)","v":-4.984588566070574E-2}]
[365,{"$f":"A367/README!B$4","v":8.2766439909297048E-3},{"$f":"SIN(2*PI()*B367*README!B$5)","v":-0.32859753172470219}]
[366,{"$f":"A368/README!B$4","v":8.2993197278911565E-3},{"$f":"SIN(2*PI()*B368*README!B$5)","v":-0.58084793625889508}]
[367,{"$f":"A369/README!B$4","v":8.3219954648526082E-3},{"$f":"SIN(2*PI()*B369*README!B$5)","v":-0.7862532188285235}]
[368,{"$f":"A370/README!B$4","v":8.3446712018140582E-3},{"$f":"SIN(2*PI()*B370*README!B$5)","v":-0.92824753678613914}]
[369,{"$f":"A371/README!B$4","v":8.3673469387755099E-3},{"$f":"SIN(2*PI()*B371*README!B$5)","v":-0.99537911294919745}]
[370,{"$f":"A372/README!B$4","v":8.3900226757369616E-3},{"$f":"SIN(2*PI()*B372*README!B$5)","v":-0.98223381622291028}]
[371,{"$f":"A373/README!B$4","v":8.4126984126984133E-3},{"$f":"SIN(2*PI()*B373*README!B$5)","v":-0.88987180881146766}]
[372,{"$f":"A374/README!B$4","v":8.4353741496598633E-3},{"$f":"SIN(2*PI()*B374*README!B$5)","v":-0.7257420446182965}]
[373,{"$f":"A375/README!B$4","v":8.458049886621315E-3},{"$f":"SIN(2*PI()*B375*README!B$5)","v":-0.50308151450048888}]
[374,{"$f":"A376/README!B$4","v":8.4807256235827667E-3},{"$f":"SIN(2*PI()*B376*README!B$5)","v":-0.23984768897479725}]
[375,{"$f":"A377/README!B$4","v":8.5034013605442185E-3},{"$f":"SIN(2*PI()*B377*README!B$5)","v":4.2729743614925465E-2}]
[376,{"$f":"A378/README!B$4","v":8.5260770975056684E-3},{"$f":"SIN(2*PI()*B378*README!B$5)","v":0.32186104181005237}]
[377,{"$f":"A379/README!B$4","v":8.5487528344671201E-3},{"$f":"SIN(2*PI()*B379*README!B$5)","v":0.57503439332411732}]
[378,{"$f":"A380/README!B$4","v":8.5714285714285719E-3},{"$f":"SIN(2*PI()*B380*README!B$5)","v":0.78183148246802714}]
[379,{"$f":"A381/README!B$4","v":8.5941043083900218E-3},{"$f":"SIN(2*PI()*B381*README!B$5)","v":0.92557421802699158}]
[380,{"$f":"A382/README!B$4","v":8.6167800453514735E-3},{"$f":"SIN(2*PI()*B382*README!B$5)","v":0.99466981373383445}]
[381,{"$f":"A383/README!B$4","v":8.6394557823129253E-3},{"$f":"SIN(2*PI()*B383*README!B$5)","v":0.98354574121055327}]
[382,{"$f":"A384/README!B$4","v":8.662131519274377E-3},{"$f":"SIN(2*PI()*B384*README!B$5)","v":0.89309915184835731}]
[383,{"$f":"A385/README!B$4","v":8.6848072562358269E-3},{"$f":"SIN(2*PI()*B385*README!B$5)","v":0.73062452195587724}]
[384,{"$f":"A386/README!B$4","v":8.7074829931972787E-3},{"$f":"SIN(2*PI()*B386*README!B$5)","v":0.50922535656142454}]
[385,{"$f":"A387/README!B$4","v":8.7301587301587304E-3},{"$f":"SIN(2*PI()*B387*README!B$5)","v":0.24675739769030391}]
[386,{"$f":"A388/README!B$4","v":8.7528344671201821E-3},{"$f":"SIN(2*PI()*B388*README!B$5)","v":-3.5611433111135668E-2}]
[387,{"$f":"A389/README!B$4","v":8.7755102040816321E-3},{"$f":"SIN(2*PI()*B389*README!B$5)","v":-0.315108218023607}]
[388,{"$f":"A390/README!B$4","v":8.7981859410430838E-3},{"$f":"SIN(2*PI()*B390*README!B$5)","v":-0.56919166842306845}]
[389,{"$f":"A391/README!B$4","v":8.8208616780045355E-3},{"$f":"SIN(2*PI()*B391*README!B$5)","v":-0.77737006955914911}]
[390,{"$f":"A392/README!B$4","v":8.8435374149659872E-3},{"$f":"SIN(2*PI()*B392*README!B$5)","v":-0.92285392803290411}]
[391,{"$f":"A393/README!B$4","v":8.8662131519274372E-3},{"$f":"SIN(2*PI()*B393*README!B$5)","v":-0.99391003680571344}]
[392,{"$f":"A394/README!B$4","v":8.8888888888888889E-3},{"$f":"SIN(2*PI()*B394*README!B$5)","v":-0.98480775301220858}]
[393,{"$f":"A395/README!B$4","v":8.9115646258503406E-3},{"$f":"SIN(2*PI()*B395*README!B$5)","v":-0.89628117170178567}]
[394,{"$f":"A396/README!B$4","v":8.9342403628117906E-3},{"$f":"SIN(2*PI()*B396*README!B$5)","v":-0.73546992140667156}]
[395,{"$f":"A397/README!B$4","v":8.9569160997732423E-3},{"$f":"SIN(2*PI()*B397*README!B$5)","v":-0.51534335634695305}]
[396,{"$f":"A398/README!B$4","v":8.979591836734694E-3},{"$f":"SIN(2*PI()*B398*README!B$5)","v":-0.25365458390951756}]
[397,{"$f":"A399/README!B$4","v":9.0022675736961457E-3},{"$f":"SIN(2*PI()*B399*README!B$5)","v":2.8491315390853859E-2}]
[398,{"$f":"A400/README!B$4","v":9.0249433106575957E-3},{"$f":"SIN(2*PI()*B400*README!B$5)","v":0.30833940305908669}]
[399,{"$f":"A401/README!B$4","v":9.0476190476190474E-3},{"$f":"SIN(2*PI()*B401*README!B$5)","v":0.5633200580636144}]
[400,{"$f":"A402/README!B$4","v":9.0702947845804991E-3},{"$f":"SIN(2*PI()*B402*README!B$5)","v":0.77286920651060054}]
[401,{"$f":"A403/README!B$4","v":9.0929705215419508E-3},{"$f":"SIN(2*PI()*B403*README!B$5)","v":0.92008680485371996}]
[402,{"$f":"A404/README!B$4","v":9.1156462585034008E-3},{"$f":"SIN(2*PI()*B404*README!B$5)","v":0.99309982072215197}]
[403,{"$f":"A405/README!B$4","v":9.1383219954648525E-3},{"$f":"SIN(2*PI()*B405*README!B$5)","v":0.98601978758303599}]
[404,{"$f":"A406/README!B$4","v":9.1609977324263042E-3},{"$f":"SIN(2*PI()*B406*README!B$5)","v":0.89941770688994016}]
[405,{"$f":"A407/README!B$4","v":9.1836734693877559E-3},{"$f":"SIN(2*PI()*B407*README!B$5)","v":0.74027799707531994}]
[406,{"$f":"A408/README!B$4","v":9.2063492063492059E-3},{"$f":"SIN(2*PI()*B408*README!B$5)","v":0.52143520337951133}]
[407,{"$f":"A409/README!B$4","v":9.2290249433106576E-3},{"$f":"SIN(2*PI()*B409*README!B$5)","v":0.26053889761258237}]
[408,{"$f":"A410/README!B$4","v":9.2517006802721093E-3},{"$f":"SIN(2*PI()*B410*README!B$5)","v":-2.1369751787310549E-2}]
[409,{"$f":"A411/README!B$4","v":9.2743764172335593E-3},{"$f":"SIN(2*PI()*B411*README!B$5)","v":-0.30155494042173603}]
[410,{"$f":"A412/README!B$4","v":9.297052154195011E-3},{"$f":"SIN(2*PI()*B412*README!B$5)","v":-0.55741986021946033}]
[411,{"$f":"A413/README!B$4","v":9.3197278911564627E-3},{"$f":"SIN(2*PI()*B413*README!B$5)","v":-0.76832912173312529}]
[412,{"$f":"A414/README!B$4","v":9.3424036281179144E-3},{"$f":"SIN(2*PI()*B414*README!B$5)","v":-0.91727298891597653}]
[413,{"$f":"A415/README!B$4","v":9.3650793650793644E-3},{"$f":"SIN(2*PI()*B415*README!B$5)","v":-0.99223920660017106}]
[414,{"$f":"A416/README!B$4","v":9.3877551020408161E-3},{"$f":"SIN(2*PI()*B416*README!B$5)","v":-0.98718178341445051}]
[415,{"$f":"A417/README!B$4","v":9.4104308390022678E-3},{"$f":"SIN(2*PI()*B417*README!B$5)","v":-0.90250859823928009}]
[416,{"$f":"A418/README!B$4","v":9.4331065759637196E-3},{"$f":"SIN(2*PI()*B418*README!B$5)","v":-0.74504850496057828}]
[417,{"$f":"A419/README!B$4","v":9.4557823129251695E-3},{"$f":"SIN(2*PI()*B419*README!B$5)","v":-0.52750058850877801}]
[418,{"$f":"A420/README!B$4","v":9.4784580498866212E-3},{"$f":"SIN(2*PI()*B420*README!B$5)","v":-0.26740998943292721}]
[419,{"$f":"A421/README!B$4","v":9.501133786848073E-3},{"$f":"SIN(2*PI()*B421*README!B$5)","v":1.4247103707098028E-2}]
[420,{"$f":"A422/README!B$4","v":9.5238095238095247E-3},{"$f":"SIN(2*PI()*B422*README!B$5)","v":0.29475517441090426}]
[421,{"$f":"A423/README!B$4","v":9.5464852607709746E-3},{"$f":"SIN(2*PI()*B423*README!B$5)","v":0.55149137431508644}]
[422,{"$f":"A424/README!B$4","v":9.5691609977324264E-3},{"$f":"SIN(2*PI()*B424*README!B$5)","v":0.76375004562789983}]
[423,{"$f":"A425/README!B$4","v":9.5918367346938781E-3},{"$f":"SIN(2*PI()*B425*README!B$5)","v":0.91441262301581305}]
[424,{"$f":"A426/README!B$4","v":9.614512471655328E-3},{"$f":"SIN(2*PI()*B426*README!B$5)","v":0.99132823811439219}]
[425,{"$f":"A427/README!B$4","v":9.6371882086167798E-3},{"$f":"SIN(2*PI()*B427*README!B$5)","v":0.9882936815372434}]
[426,{"$f":"A428/README!B$4","v":9.6598639455782315E-3},{"$f":"SIN(2*PI()*B428*README!B$5)","v":0.90555368889258925}]
[427,{"$f":"A429/README!B$4","v":9.6825396825396832E-3},{"$f":"SIN(2*PI()*B429*README!B$5)","v":0.74978120296772899}]
[428,{"$f":"A430/README!B$4","v":9.7052154195011332E-3},{"$f":"SIN(2*PI()*B430*README!B$5)","v":0.5335392039273017}]
[429,{"$f":"A431/README!B$4","v":9.7278911564625849E-3},{"$f":"SIN(2*PI()*B431*README!B$5)","v":0.27426751067494021}]
[430,{"$f":"A432/README!B$4","v":9.7505668934240366E-3},{"$f":"SIN(2*PI()*B432*README!B$5)","v":-7.123732611886458E-3}]
[431,{"$f":"A433/README!B$4","v":9.7732426303854883E-3},{"$f":"SIN(2*PI()*B433*README!B$5)","v":-0.28794045010253266}]
[432,{"$f":"A434/README!B$4","v":9.7959183673469383E-3},{"$f":"SIN(2*PI()*B434*README!B$5)","v":-0.54553490121052928}]
[433,{"$f":"A435/README!B$4","v":9.81859410430839E-3},{"$f":"SIN(2*PI()*B435*README!B$5)","v":-0.75913221057484082}]
[434,{"$f":"A436/README!B$4","v":9.8412698412698417E-3},{"$f":"SIN(2*PI()*B436*README!B$5)","v":-0.9115058523116738}]
[435,{"$f":"A437/README!B$4","v":9.8639455782312917E-3},{"$f":"SIN(2*PI()*B437*README!B$5)","v":-0.99036696149483705}]
[436,{"$f":"A438/README!B$4","v":9.8866213151927434E-3},{"$f":"SIN(2*PI()*B438*README!B$5)","v":-0.98935542552457711}]
[437,{"$f":"A439/README!B$4","v":9.9092970521541951E-3},{"$f":"SIN(2*PI()*B439*README!B$5)","v":-0.90855282431696749}]
[438,{"$f":"A440/README!B$4","v":9.9319727891156468E-3},{"$f":"SIN(2*PI()*B440*README!B$5)","v":-0.75447585092080915}]
[439,{"$f":"A441/README!B$4","v":9.9546485260770968E-3},{"$f":"SIN(2*PI()*B441*README!B$5)","v":-0.53955074318620599}]
[440,{"$f":"A442/README!B$4","v":9.9773242630385485E-3},{"$f":"SIN(2*PI()*B442*README!B$5)","v":-0.28111111333165106}]
[441,{"$f":"A443/README!B$4","v":0.01},{"$f":"SIN(2*PI()*B443*README!B$5)","v":9.3102608955675237E-15}]
[442,{"$f":"A444/README!B$4","v":1.0022675736961452E-2},{"$f":"SIN(2*PI()*B444*README!B$5)","v":0.28111111333165528}]
[443,{"$f":"A445/README!B$4","v":1.0045351473922902E-2},{"$f":"SIN(2*PI()*B445*README!B$5)","v":0.53955074318616192}]
[444,{"$f":"A446/README!B$4","v":1.0068027210884354E-2},{"$f":"SIN(2*PI()*B446*README!B$5)","v":0.75447585092080272}]
[445,{"$f":"A447/README!B$4","v":1.0090702947845805E-2},{"$f":"SIN(2*PI()*B447*README!B$5)","v":0.90855282431697526}]
[446,{"$f":"A448/README!B$4","v":1.0113378684807257E-2},{"$f":"SIN(2*PI()*B448*README!B$5)","v":0.98935542552457567}]
[447,{"$f":"A449/README!B$4","v":1.0136054421768707E-2},{"$f":"SIN(2*PI()*B449*README!B$5)","v":0.99036696149484038}]
[448,{"$f":"A450/README!B$4","v":1.0158730158730159E-2},{"$f":"SIN(2*PI()*B450*README!B$5)","v":0.9115058523116778}]
[449,{"$f":"A451/README!B$4","v":1.018140589569161E-2},{"$f":"SIN(2*PI()*B451*README!B$5)","v":0.75913221057483804}]
[450,{"$f":"A452/README!B$4","v":1.020408163265306E-2},{"$f":"SIN(2*PI()*B452*README!B$5)","v":0.54553490121054948}]
[451,{"$f":"A453/README!B$4","v":1.0226757369614512E-2},{"$f":"SIN(2*PI()*B453*README!B$5)","v":0.28794045010252844}]
[452,{"$f":"A454/README!B$4","v":1.0249433106575964E-2},{"$f":"SIN(2*PI()*B454*README!B$5)","v":7.12373261191047E-3}]
[453,{"$f":"A455/README!B$4","v":1.0272108843537416E-2},{"$f":"SIN(2*PI()*B455*README!B$5)","v":-0.27426751067493077}]
[454,{"$f":"A456/README!B$4","v":1.0294784580498866E-2},{"$f":"SIN(2*PI()*B456*README!B$5)","v":-0.53353920392729337}]
[455,{"$f":"A457/README!B$4","v":1.0317460317460317E-2},{"$f":"SIN(2*PI()*B457*README!B$5)","v":-0.74978120296772244}]
[456,{"$f":"A458/README!B$4","v":1.0340136054421769E-2},{"$f":"SIN(2*PI()*B458*README!B$5)","v":-0.90555368889258503}]
[457,{"$f":"A459/README!B$4","v":1.0362811791383221E-2},{"$f":"SIN(2*PI()*B459*README!B$5)","v":-0.98829368153724195}]
[458,{"$f":"A460/README!B$4","v":1.0385487528344671E-2},{"$f":"SIN(2*PI()*B460*README!B$5)","v":-0.9913282381143953}]
[459,{"$f":"A461/README!B$4","v":1.0408163265306122E-2},{"$f":"SIN(2*PI()*B461*README!B$5)","v":-0.91441262301581128}]
[460,{"$f":"A462/README!B$4","v":1.0430839002267574E-2},{"$f":"SIN(2*PI()*B462*README!B$5)","v":-0.76375004562790616}]
[461,{"$f":"A463/README!B$4","v":1.0453514739229026E-2},{"$f":"SIN(2*PI()*B463*README!B$5)","v":-0.55149137431510642}]
[462,{"$f":"A464/README!B$4","v":1.0476190476190476E-2},{"$f":"SIN(2*PI()*B464*README!B$5)","v":-0.29475517441090004}]
[463,{"$f":"A465/README!B$4","v":1.0498866213151927E-2},{"$f":"SIN(2*PI()*B465*README!B$5)","v":-1.4247103707107828E-2}]
[464,{"$f":"A466/README!B$4","v":1.0521541950113379E-2},{"$f":"SIN(2*PI()*B466*README!B$5)","v":0.26740998943294519}]
[465,{"$f":"A467/README!B$4","v":1.0544217687074829E-2},{"$f":"SIN(2*PI()*B467*README!B$5)","v":0.52750058850874548}]
[466,{"$f":"A468/README!B$4","v":1.0566893424036281E-2},{"$f":"SIN(2*PI()*B468*README!B$5)","v":0.74504850496058128}]
[467,{"$f":"A469/README!B$4","v":1.0589569160997733E-2},{"$f":"SIN(2*PI()*B469*README!B$5)","v":0.90250859823928198}]
[468,{"$f":"A470/README!B$4","v":1.0612244897959184E-2},{"$f":"SIN(2*PI()*B470*README!B$5)","v":0.98718178341445129}]
[469,{"$f":"A471/README!B$4","v":1.0634920634920634E-2},{"$f":"SIN(2*PI()*B471*README!B$5)","v":0.99223920660017584}]
[470,{"$f":"A472/README!B$4","v":1.0657596371882086E-2},{"$f":"SIN(2*PI()*B472*README!B$5)","v":0.91727298891598041}]
[471,{"$f":"A473/README!B$4","v":1.0680272108843538E-2},{"$f":"SIN(2*PI()*B473*README!B$5)","v":0.76832912173312251}]
[472,{"$f":"A474/README!B$4","v":1.0702947845804989E-2},{"$f":"SIN(2*PI()*B474*README!B$5)","v":0.55741986021946854}]
[473,{"$f":"A475/README!B$4","v":1.0725623582766439E-2},{"$f":"SIN(2*PI()*B475*README!B$5)","v":0.3015549404217589}]
[474,{"$f":"A476/README!B$4","v":1.0748299319727891E-2},{"$f":"SIN(2*PI()*B476*README!B$5)","v":2.1369751787320347E-2}]
[475,{"$f":"A477/README!B$4","v":1.0770975056689343E-2},{"$f":"SIN(2*PI()*B477*README!B$5)","v":-0.26053889761258664}]
[476,{"$f":"A478/README!B$4","v":1.0793650793650795E-2},{"$f":"SIN(2*PI()*B478*README!B$5)","v":-0.5214352033795151}]
[477,{"$f":"A479/README!B$4","v":1.0816326530612244E-2},{"$f":"SIN(2*PI()*B479*README!B$5)","v":-0.74027799707530384}]
[478,{"$f":"A480/README!B$4","v":1.0839002267573696E-2},{"$f":"SIN(2*PI()*B480*README!B$5)","v":-0.89941770688992961}]
[479,{"$f":"A481/README!B$4","v":1.0861678004535148E-2},{"$f":"SIN(2*PI()*B481*README!B$5)","v":-0.9860197875830391}]
[480,{"$f":"A482/README!B$4","v":1.0884353741496598E-2},{"$f":"SIN(2*PI()*B482*README!B$5)","v":-0.99309982072215652}]
[481,{"$f":"A483/README!B$4","v":1.090702947845805E-2},{"$f":"SIN(2*PI()*B483*README!B$5)","v":-0.92008680485371275}]
[482,{"$f":"A484/README!B$4","v":1.0929705215419501E-2},{"$f":"SIN(2*PI()*B484*README!B$5)","v":-0.77286920651060675}]
[483,{"$f":"A485/README!B$4","v":1.0952380952380953E-2},{"$f":"SIN(2*PI()*B485*README!B$5)","v":-0.56332005806363428}]
[484,{"$f":"A486/README!B$4","v":1.0975056689342403E-2},{"$f":"SIN(2*PI()*B486*README!B$5)","v":-0.30833940305909602}]
[485,{"$f":"A487/README!B$4","v":1.0997732426303855E-2},{"$f":"SIN(2*PI()*B487*README!B$5)","v":-2.849131539084945E-2}]
[486,{"$f":"A488/README!B$4","v":1.1020408163265306E-2},{"$f":"SIN(2*PI()*B488*README!B$5)","v":0.2536545839094943}]
[487,{"$f":"A489/README!B$4","v":1.1043083900226758E-2},{"$f":"SIN(2*PI()*B489*README!B$5)","v":0.51534335634694473}]
[488,{"$f":"A490/README!B$4","v":1.1065759637188208E-2},{"$f":"SIN(2*PI()*B490*README!B$5)","v":0.73546992140666489}]
[489,{"$f":"A491/README!B$4","v":1.108843537414966E-2},{"$f":"SIN(2*PI()*B491*README!B$5)","v":0.89628117170178134}]
[490,{"$f":"A492/README!B$4","v":1.1111111111111112E-2},{"$f":"SIN(2*PI()*B492*README!B$5)","v":0.98480775301220935}]
[491,{"$f":"A493/README!B$4","v":1.1133786848072562E-2},{"$f":"SIN(2*PI()*B493*README!B$5)","v":0.99391003680571766}]
[492,{"$f":"A494/README!B$4","v":1.1156462585034013E-2},{"$f":"SIN(2*PI()*B494*README!B$5)","v":0.92285392803290789}]
[493,{"$f":"A495/README!B$4","v":1.1179138321995465E-2},{"$f":"SIN(2*PI()*B495*README!B$5)","v":0.77737006955914634}]
[494,{"$f":"A496/README!B$4","v":1.1201814058956917E-2},{"$f":"SIN(2*PI()*B496*README!B$5)","v":0.56919166842307645}]
[495,{"$f":"A497/README!B$4","v":1.1224489795918367E-2},{"$f":"SIN(2*PI()*B497*README!B$5)","v":0.31510821802365674}]
[496,{"$f":"A498/README!B$4","v":1.1247165532879818E-2},{"$f":"SIN(2*PI()*B498*README!B$5)","v":3.5611433111117058E-2}]
[497,{"$f":"A499/README!B$4","v":1.126984126984127E-2},{"$f":"SIN(2*PI()*B499*README!B$5)","v":-0.24675739769029439}]
[498,{"$f":"A500/README!B$4","v":1.1292517006802722E-2},{"$f":"SIN(2*PI()*B500*README!B$5)","v":-0.5092253565614161}]
[499,{"$f":"A501/README!B$4","v":1.1315192743764172E-2},{"$f":"SIN(2*PI()*B501*README!B$5)","v":-0.73062452195586092}]
[500,{"$f":"A502/README!B$4","v":1.1337868480725623E-2},{"$f":"SIN(2*PI()*B502*README!B$5)","v":-0.89309915184834654}]
[501,{"$f":"A503/README!B$4","v":1.1360544217687075E-2},{"$f":"SIN(2*PI()*B503*README!B$5)","v":-0.9835457412105566}]
[502,{"$f":"A504/README!B$4","v":1.1383219954648527E-2},{"$f":"SIN(2*PI()*B504*README!B$5)","v":-0.99466981373383401}]
[503,{"$f":"A505/README!B$4","v":1.1405895691609977E-2},{"$f":"SIN(2*PI()*B505*README!B$5)","v":-0.92557421802700601}]
[504,{"$f":"A506/README!B$4","v":1.1428571428571429E-2},{"$f":"SIN(2*PI()*B506*README!B$5)","v":-0.78183148246803325}]
[505,{"$f":"A507/README!B$4","v":1.145124716553288E-2},{"$f":"SIN(2*PI()*B507*README!B$5)","v":-0.57503439332410211}]
[506,{"$f":"A508/README!B$4","v":1.147392290249433E-2},{"$f":"SIN(2*PI()*B508*README!B$5)","v":-0.32186104181008857}]
[507,{"$f":"A509/README!B$4","v":1.1496598639455782E-2},{"$f":"SIN(2*PI()*B509*README!B$5)","v":-4.2729743614921059E-2}]
[508,{"$f":"A510/README!B$4","v":1.1519274376417234E-2},{"$f":"SIN(2*PI()*B510*README!B$5)","v":0.23984768897478775}]
[509,{"$f":"A511/README!B$4","v":1.1541950113378685E-2},{"$f":"SIN(2*PI()*B511*README!B$5)","v":0.50308151450046823}]
[510,{"$f":"A512/README!B$4","v":1.1564625850340135E-2},{"$f":"SIN(2*PI()*B512*README!B$5)","v":0.72574204461827996}]
[511,{"$f":"A513/README!B$4","v":1.1587301587301587E-2},{"$f":"SIN(2*PI()*B513*README!B$5)","v":0.88987180881146311}]
[512,{"$f":"A514/README!B$4","v":1.1609977324263039E-2},{"$f":"SIN(2*PI()*B514*README!B$5)","v":0.98223381622290573}]
[513,{"$f":"A515/README!B$4","v":1.163265306122449E-2},{"$f":"SIN(2*PI()*B515*README!B$5)","v":0.99537911294919834}]
[514,{"$f":"A516/README!B$4","v":1.165532879818594E-2},{"$f":"SIN(2*PI()*B516*README!B$5)","v":0.92824753678614813}]
[515,{"$f":"A517/README!B$4","v":1.1678004535147392E-2},{"$f":"SIN(2*PI()*B517*README!B$5)","v":0.7862532188285295}]
[516,{"$f":"A518/README!B$4","v":1.1700680272108844E-2},{"$f":"SIN(2*PI()*B518*README!B$5)","v":0.58084793625890307}]
[517,{"$f":"A519/README!B$4","v":1.1723356009070296E-2},{"$f":"SIN(2*PI()*B519*README!B$5)","v":0.32859753172472489}]
[518,{"$f":"A520/README!B$4","v":1.1746031746031746E-2},{"$f":"SIN(2*PI()*B520*README!B$5)","v":4.9845885660687143E-2}]
[519,{"$f":"A521/README!B$4","v":1.1768707482993197E-2},{"$f":"SIN(2*PI()*B521*README!B$5)","v":-0.23292580841837957}]
[520,{"$f":"A522/README!B$4","v":1.1791383219954649E-2},{"$f":"SIN(2*PI()*B522*README!B$5)","v":-0.4969121419531139}]
[521,{"$f":"A523/README!B$4","v":1.1814058956916099E-2},{"$f":"SIN(2*PI()*B523*README!B$5)","v":-0.72082273717086942}]
[522,{"$f":"A524/README!B$4","v":1.1836734693877551E-2},{"$f":"SIN(2*PI()*B524*README!B$5)","v":-0.88659930637300111}]
[523,{"$f":"A525/README!B$4","v":1.1859410430839002E-2},{"$f":"SIN(2*PI()*B525*README!B$5)","v":-0.98087204462712263}]
[524,{"$f":"A526/README!B$4","v":1.1882086167800454E-2},{"$f":"SIN(2*PI()*B526*README!B$5)","v":-0.99603789845613633}]
[525,{"$f":"A527/README!B$4","v":1.1904761904761904E-2},{"$f":"SIN(2*PI()*B527*README!B$5)","v":-0.93087374864421335}]
[526,{"$f":"A528/README!B$4","v":1.1927437641723356E-2},{"$f":"SIN(2*PI()*B528*README!B$5)","v":-0.79063505424541147}]
[527,{"$f":"A529/README!B$4","v":1.1950113378684808E-2},{"$f":"SIN(2*PI()*B529*README!B$5)","v":-0.58663200220053424}]
[528,{"$f":"A530/README!B$4","v":1.1972789115646259E-2},{"$f":"SIN(2*PI()*B530*README!B$5)","v":-0.33531734590275963}]
[529,{"$f":"A531/README!B$4","v":1.1995464852607709E-2},{"$f":"SIN(2*PI()*B531*README!B$5)","v":-5.6959498117028322E-2}]
[530,{"$f":"A532/README!B$4","v":1.2018140589569161E-2},{"$f":"SIN(2*PI()*B532*README!B$5)","v":0.22599210729406391}]
[531,{"$f":"A533/README!B$4","v":1.2040816326530613E-2},{"$f":"SIN(2*PI()*B533*README!B$5)","v":0.49071755200394335}]
[532,{"$f":"A534/README!B$4","v":1.2063492063492064E-2},{"$f":"SIN(2*PI()*B534*README!B$5)","v":0.71586684925971655}]
[533,{"$f":"A535/README!B$4","v":1.2086167800453514E-2},{"$f":"SIN(2*PI()*B535*README!B$5)","v":0.88328181060658872}]
[534,{"$f":"A536/README!B$4","v":1.2108843537414966E-2},{"$f":"SIN(2*PI()*B536*README!B$5)","v":0.9794604955306625}]
[535,{"$f":"A537/README!B$4","v":1.2131519274376418E-2},{"$f":"SIN(2*PI()*B537*README!B$5)","v":0.99664613682246528}]
[536,{"$f":"A538/README!B$4","v":1.2154195011337868E-2},{"$f":"SIN(2*PI()*B538*README!B$5)","v":0.93345272032562931}]
[537,{"$f":"A539/README!B$4","v":1.2176870748299319E-2},{"$f":"SIN(2*PI()*B539*README!B$5)","v":0.79497676634840952}]
[538,{"$f":"A540/README!B$4","v":1.2199546485260771E-2},{"$f":"SIN(2*PI()*B540*README!B$5)","v":0.59238629761804784}]
[539,{"$f":"A541/README!B$4","v":1.2222222222222223E-2},{"$f":"SIN(2*PI()*B541*README!B$5)","v":0.34202014332567732}]
[540,{"$f":"A542/README!B$4","v":1.2244897959183673E-2},{"$f":"SIN(2*PI()*B542*README!B$5)","v":6.4070219980731064E-2}]
[541,{"$f":"A543/README!B$4","v":1.2267573696145125E-2},{"$f":"SIN(2*PI()*B543*README!B$5)","v":-0.21904693747481799}]
[542,{"$f":"A544/README!B$4","v":1.2290249433106576E-2},{"$f":"SIN(2*PI()*B544*README!B$5)","v":-0.48449805901728443}]
[543,{"$f":"A545/README!B$4","v":1.2312925170068028E-2},{"$f":"SIN(2*PI()*B545*README!B$5)","v":-0.71087463238722315}]
[544,{"$f":"A546/README!B$4","v":1.2335600907029478E-2},{"$f":"SIN(2*PI()*B546*README!B$5)","v":-0.87991948986922486}]
[545,{"$f":"A547/README!B$4","v":1.235827664399093E-2},{"$f":"SIN(2*PI()*B547*README!B$5)","v":-0.97799924056712684}]
[546,{"$f":"A548/README!B$4","v":1.2380952380952381E-2},{"$f":"SIN(2*PI()*B548*README!B$5)","v":-0.99720379718118135}]
[547,{"$f":"A549/README!B$4","v":1.2403628117913831E-2},{"$f":"SIN(2*PI()*B549*README!B$5)","v":-0.93598432095220985}]
[548,{"$f":"A550/README!B$4","v":1.2426303854875283E-2},{"$f":"SIN(2*PI()*B550*README!B$5)","v":-0.79927813480337062}]
[549,{"$f":"A551/README!B$4","v":1.2448979591836735E-2},{"$f":"SIN(2*PI()*B551*README!B$5)","v":-0.59811053049122731}]
[550,{"$f":"A552/README!B$4","v":1.2471655328798186E-2},{"$f":"SIN(2*PI()*B552*README!B$5)","v":-0.34870558383845213}]
[551,{"$f":"A553/README!B$4","v":1.2494331065759636E-2},{"$f":"SIN(2*PI()*B553*README!B$5)","v":-7.1177690395472892E-2}]
[552,{"$f":"A554/README!B$4","v":1.2517006802721088E-2},{"$f":"SIN(2*PI()*B554*README!B$5)","v":0.21209065141555183}]
[553,{"$f":"A555/README!B$4","v":1.253968253968254E-2},{"$f":"SIN(2*PI()*B555*README!B$5)","v":0.47825397862132391}]
[554,{"$f":"A556/README!B$4","v":1.2562358276643992E-2},{"$f":"SIN(2*PI()*B556*README!B$5)","v":0.7058463398995003}]
[555,{"$f":"A557/README!B$4","v":1.2585034013605442E-2},{"$f":"SIN(2*PI()*B557*README!B$5)","v":0.87651251479264214}]
[556,{"$f":"A558/README!B$4","v":1.2607709750566893E-2},{"$f":"SIN(2*PI()*B558*README!B$5)","v":0.97648835389258393}]
[557,{"$f":"A559/README!B$4","v":1.2630385487528345E-2},{"$f":"SIN(2*PI()*B559*README!B$5)","v":0.9977108512320102}]
[558,{"$f":"A560/README!B$4","v":1.2653061224489797E-2},{"$f":"SIN(2*PI()*B560*README!B$5)","v":0.93846842204975411}]
[559,{"$f":"A561/README!B$4","v":1.2675736961451247E-2},{"$f":"SIN(2*PI()*B561*README!B$5)","v":0.80353894132357884}]
[560,{"$f":"A562/README!B$4","v":1.2698412698412698E-2},{"$f":"SIN(2*PI()*B562*README!B$5)","v":0.60380441032549992}]
[561,{"$f":"A563/README!B$4","v":1.272108843537415E-2},{"$f":"SIN(2*PI()*B563*README!B$5)","v":0.35537332816697059}]
[562,{"$f":"A564/README!B$4","v":1.27437641723356E-2},{"$f":"SIN(2*PI()*B564*README!B$5)","v":7.8281548669794698E-2}]
[563,{"$f":"A565/README!B$4","v":1.2766439909297052E-2},{"$f":"SIN(2*PI()*B565*README!B$5)","v":-0.20512360213527678}]
[564,{"$f":"A566/README!B$4","v":1.2789115646258504E-2},{"$f":"SIN(2*PI()*B566*README!B$5)","v":-0.47198562769191627}]
[565,{"$f":"A567/README!B$4","v":1.2811791383219955E-2},{"$f":"SIN(2*PI()*B567*README!B$5)","v":-0.70078222697337189}]
[566,{"$f":"A568/README!B$4","v":1.2834467120181405E-2},{"$f":"SIN(2*PI()*B568*README!B$5)","v":-0.87306105827474101}]
[567,{"$f":"A569/README!B$4","v":1.2857142857142857E-2},{"$f":"SIN(2*PI()*B569*README!B$5)","v":-0.97492791218182218}]
[568,{"$f":"A570/README!B$4","v":1.2879818594104309E-2},{"$f":"SIN(2*PI()*B570*README!B$5)","v":-0.99816727324287291}]
[569,{"$f":"A571/README!B$4","v":1.290249433106576E-2},{"$f":"SIN(2*PI()*B571*README!B$5)","v":-0.94090489755458728}]
[570,{"$f":"A572/README!B$4","v":1.292517006802721E-2},{"$f":"SIN(2*PI()*B572*README!B$5)","v":-0.80775896968069527}]
[571,{"$f":"A573/README!B$4","v":1.2947845804988662E-2},{"$f":"SIN(2*PI()*B573*README!B$5)","v":-0.60946764816663257}]
[572,{"$f":"A574/README!B$4","v":1.2970521541950114E-2},{"$f":"SIN(2*PI()*B574*README!B$5)","v":-0.36202303793516866}]
[573,{"$f":"A575/README!B$4","v":1.2993197278911565E-2},{"$f":"SIN(2*PI()*B575*README!B$5)","v":-8.5381434295632122E-2}]
[574,{"$f":"A576/README!B$4","v":1.3015873015873015E-2},{"$f":"SIN(2*PI()*B576*README!B$5)","v":0.19814614319938514}]
[575,{"$f":"A577/README!B$4","v":1.3038548752834467E-2},{"$f":"SIN(2*PI()*B577*README!B$5)","v":0.46569332433670196}]
[576,{"$f":"A578/README!B$4","v":1.3061224489795919E-2},{"$f":"SIN(2*PI()*B578*README!B$5)","v":0.69568255060348472}]
[577,{"$f":"A579/README!B$4","v":1.3083900226757369E-2},{"$f":"SIN(2*PI()*B579*README!B$5)","v":0.86956529547076244}]
[578,{"$f":"A580/README!B$4","v":1.3106575963718821E-2},{"$f":"SIN(2*PI()*B580*README!B$5)","v":0.97331799462447788}]
[579,{"$f":"A581/README!B$4","v":1.3129251700680272E-2},{"$f":"SIN(2*PI()*B581*README!B$5)","v":0.99857304005116565}]
[580,{"$f":"A582/README!B$4","v":1.3151927437641724E-2},{"$f":"SIN(2*PI()*B582*README!B$5)","v":0.94329362381992832}]
[581,{"$f":"A583/README!B$4","v":1.3174603174603174E-2},{"$f":"SIN(2*PI()*B583*README!B$5)","v":0.81193800571586761}]
[582,{"$f":"A584/README!B$4","v":1.3197278911564626E-2},{"$f":"SIN(2*PI()*B584*README!B$5)","v":0.61509995661546368}]
[583,{"$f":"A585/README!B$4","v":1.3219954648526077E-2},{"$f":"SIN(2*PI()*B585*README!B$5)","v":0.36865437568215081}]
[584,{"$f":"A586/README!B$4","v":1.3242630385487529E-2},{"$f":"SIN(2*PI()*B586*README!B$5)","v":9.247698696649724E-2}]
[585,{"$f":"A587/README!B$4","v":1.3265306122448979E-2},{"$f":"SIN(2*PI()*B587*README!B$5)","v":-0.19115862870134601}]
[586,{"$f":"A588/README!B$4","v":1.3287981859410431E-2},{"$f":"SIN(2*PI()*B588*README!B$5)","v":-0.45937738787876381}]
[587,{"$f":"A589/README!B$4","v":1.3310657596371882E-2},{"$f":"SIN(2*PI()*B589*README!B$5)","v":-0.69054756958932773}]
[588,{"$f":"A590/README!B$4","v":1.3333333333333334E-2},{"$f":"SIN(2*PI()*B590*README!B$5)","v":-0.86602540378444015}]
[589,{"$f":"A591/README!B$4","v":1.3356009070294784E-2},{"$f":"SIN(2*PI()*B591*README!B$5)","v":-0.97165868292097257}]
[590,{"$f":"A592/README!B$4","v":1.3378684807256236E-2},{"$f":"SIN(2*PI()*B592*README!B$5)","v":-0.99892813106495237}]
[591,{"$f":"A593/README!B$4","v":1.3401360544217688E-2},{"$f":"SIN(2*PI()*B593*README!B$5)","v":-0.94563447962218539}]
[592,{"$f":"A594/README!B$4","v":1.3424036281179138E-2},{"$f":"SIN(2*PI()*B594*README!B$5)","v":-0.81607583735046363}]
[593,{"$f":"A595/README!B$4","v":1.3446712018140589E-2},{"$f":"SIN(2*PI()*B595*README!B$5)","v":-0.6207010498424429}]
[594,{"$f":"A596/README!B$4","v":1.3469387755102041E-2},{"$f":"SIN(2*PI()*B596*README!B$5)","v":-0.37526700487939529}]
[595,{"$f":"A597/README!B$4","v":1.3492063492063493E-2},{"$f":"SIN(2*PI()*B597*README!B$5)","v":-9.956784659579182E-2}]
[596,{"$f":"A598/README!B$4","v":1.3514739229024943E-2},{"$f":"SIN(2*PI()*B598*README!B$5)","v":0.18416141324506943}]
[597,{"$f":"A599/README!B$4","v":1.3537414965986394E-2},{"$f":"SIN(2*PI()*B599*README!B$5)","v":0.45303813884059774}]
[598,{"$f":"A600/README!B$4","v":1.3560090702947846E-2},{"$f":"SIN(2*PI()*B600*README!B$5)","v":0.68537754452195554}]
[599,{"$f":"A601/README!B$4","v":1.3582766439909298E-2},{"$f":"SIN(2*PI()*B601*README!B$5)","v":0.86244156285888496}]
[600,{"$f":"A602/README!B$4","v":1.3605442176870748E-2},{"$f":"SIN(2*PI()*B602*README!B$5)","v":0.96995006127841188}]
[601,{"$f":"A603/README!B$4","v":1.36281179138322E-2},{"$f":"SIN(2*PI()*B603*README!B$5)","v":0.99923252826399678}]
[602,{"$f":"A604/README!B$4","v":1.3650793650793651E-2},{"$f":"SIN(2*PI()*B604*README!B$5)","v":0.94792734616713492}]
[603,{"$f":"A605/README!B$4","v":1.3673469387755101E-2},{"$f":"SIN(2*PI()*B605*README!B$5)","v":0.82017225459696663}]
[604,{"$f":"A606/README!B$4","v":1.3696145124716553E-2},{"$f":"SIN(2*PI()*B606*README!B$5)","v":0.62627064360206897}]
[605,{"$f":"A607/README!B$4","v":1.3718820861678005E-2},{"$f":"SIN(2*PI()*B607*README!B$5)","v":0.38186058994777966}]
[606,{"$f":"A608/README!B$4","v":1.3741496598639456E-2},{"$f":"SIN(2*PI()*B608*README!B$5)","v":0.10665365333510936}]
[607,{"$f":"A609/README!B$4","v":1.3764172335600906E-2},{"$f":"SIN(2*PI()*B609*README!B$5)","v":-0.17715485192666017}]
[608,{"$f":"A610/README!B$4","v":1.3786848072562358E-2},{"$f":"SIN(2*PI()*B610*README!B$5)","v":-0.44667589892777171}]
[609,{"$f":"A611/README!B$4","v":1.380952380952381E-2},{"$f":"SIN(2*PI()*B611*README!B$5)","v":-0.68017273777092835}]
[610,{"$f":"A612/README!B$4","v":1.3832199546485261E-2},{"$f":"SIN(2*PI()*B612*README!B$5)","v":-0.85881395456765208}]
[611,{"$f":"A613/README!B$4","v":1.3854875283446711E-2},{"$f":"SIN(2*PI()*B613*README!B$5)","v":-0.96819221640628594}]
[612,{"$f":"A614/README!B$4","v":1.3877551020408163E-2},{"$f":"SIN(2*PI()*B614*README!B$5)","v":-0.99948621620068745}]
[613,{"$f":"A615/README!B$4","v":1.3900226757369615E-2},{"$f":"SIN(2*PI()*B615*README!B$5)","v":-0.95017210709588529}]
[614,{"$f":"A616/README!B$4","v":1.3922902494331067E-2},{"$f":"SIN(2*PI()*B616*README!B$5)","v":-0.82422704956950088}]
[615,{"$f":"A617/README!B$4","v":1.3945578231292517E-2},{"$f":"SIN(2*PI()*B617*README!B$5)","v":-0.63180845524747187}]
[616,{"$f":"A618/README!B$4","v":1.3968253968253968E-2},{"$f":"SIN(2*PI()*B618*README!B$5)","v":-0.38843479627471555}]
[617,{"$f":"A619/README!B$4","v":1.399092970521542E-2},{"$f":"SIN(2*PI()*B619*README!B$5)","v":-0.11373404759241194}]
[618,{"$f":"A620/README!B$4","v":1.401360544217687E-2},{"$f":"SIN(2*PI()*B620*README!B$5)","v":0.17013930031662053}]
[619,{"$f":"A621/README!B$4","v":1.4036281179138322E-2},{"$f":"SIN(2*PI()*B621*README!B$5)","v":0.44029099101252311}]
[620,{"$f":"A622/README!B$4","v":1.4058956916099773E-2},{"$f":"SIN(2*PI()*B622*README!B$5)","v":0.67493341347081026}]
[621,{"$f":"A623/README!B$4","v":1.4081632653061225E-2},{"$f":"SIN(2*PI()*B623*README!B$5)","v":0.85514276300535519}]
[622,{"$f":"A624/README!B$4","v":1.4104308390022675E-2},{"$f":"SIN(2*PI()*B624*README!B$5)","v":0.96638523751208294}]
[623,{"$f":"A625/README!B$4","v":1.4126984126984127E-2},{"$f":"SIN(2*PI()*B625*README!B$5)","v":0.99968918200081625}]
[624,{"$f":"A626/README!B$4","v":1.4149659863945578E-2},{"$f":"SIN(2*PI()*B626*README!B$5)","v":0.95236864849085512}]
[625,{"$f":"A627/README!B$4","v":1.417233560090703E-2},{"$f":"SIN(2*PI()*B627*README!B$5)","v":0.82824001649451107}]
[626,{"$f":"A628/README!B$4","v":1.419501133786848E-2},{"$f":"SIN(2*PI()*B628*README!B$5)","v":0.63731420374457803}]
[627,{"$f":"A629/README!B$4","v":1.4217687074829932E-2},{"$f":"SIN(2*PI()*B629*README!B$5)","v":0.39498929023094626}]
[628,{"$f":"A630/README!B$4","v":1.4240362811791384E-2},{"$f":"SIN(2*PI()*B630*README!B$5)","v":0.12080867005036368}]
[629,{"$f":"A631/README!B$4","v":1.4263038548752835E-2},{"$f":"SIN(2*PI()*B631*README!B$5)","v":-0.16311511444161012}]
[630,{"$f":"A632/README!B$4","v":1.4285714285714285E-2},{"$f":"SIN(2*PI()*B632*README!B$5)","v":-0.43388373911755179}]
[631,{"$f":"A633/README!B$4","v":1.4308390022675737E-2},{"$f":"SIN(2*PI()*B633*README!B$5)","v":-0.66965983750801594}]
[632,{"$f":"A634/README!B$4","v":1.4331065759637189E-2},{"$f":"SIN(2*PI()*B634*README!B$5)","v":-0.85142817447838048}]
[633,{"$f":"A635/README!B$4","v":1.4353741496598639E-2},{"$f":"SIN(2*PI()*B635*README!B$5)","v":-0.96452921629674093}]
[634,{"$f":"A636/README!B$4","v":1.437641723356009E-2},{"$f":"SIN(2*PI()*B636*README!B$5)","v":-0.99984141536423121}]
[635,{"$f":"A637/README!B$4","v":1.4399092970521542E-2},{"$f":"SIN(2*PI()*B637*README!B$5)","v":-0.95451685888148252}]
[636,{"$f":"A638/README!B$4","v":1.4421768707482994E-2},{"$f":"SIN(2*PI()*B638*README!B$5)","v":-0.83221095172107618}]
[637,{"$f":"A639/README!B$4","v":1.4444444444444444E-2},{"$f":"SIN(2*PI()*B639*README!B$5)","v":-0.64278760968657134}]
[638,{"$f":"A640/README!B$4","v":1.4467120181405895E-2},{"$f":"SIN(2*PI()*B640*README!B$5)","v":-0.4015237391876611}]
[639,{"$f":"A641/README!B$4","v":1.4489795918367347E-2},{"$f":"SIN(2*PI()*B641*README!B$5)","v":-0.12787716168450902}]
[640,{"$f":"A642/README!B$4","v":1.4512471655328799E-2},{"$f":"SIN(2*PI()*B642*README!B$5)","v":0.15608265076649}]
[641,{"$f":"A643/README!B$4","v":1.4535147392290249E-2},{"$f":"SIN(2*PI()*B643*README!B$5)","v":0.4274544683993724}]
[642,{"$f":"A644/README!B$4","v":1.4557823129251701E-2},{"$f":"SIN(2*PI()*B644*README!B$5)","v":0.66435227750704473}]
[643,{"$f":"A645/README!B$4","v":1.4580498866213152E-2},{"$f":"SIN(2*PI()*B645*README!B$5)","v":0.8476703774954768}]
[644,{"$f":"A646/README!B$4","v":1.4603174603174604E-2},{"$f":"SIN(2*PI()*B646*README!B$5)","v":0.96262424695001436}]
[645,{"$f":"A647/README!B$4","v":1.4625850340136054E-2},{"$f":"SIN(2*PI()*B647*README!B$5)","v":0.99994290856536139}]
[646,{"$f":"A648/README!B$4","v":1.4648526077097506E-2},{"$f":"SIN(2*PI()*B648*README!B$5)","v":0.95661662924995206}]
[647,{"$f":"A649/README!B$4","v":1.4671201814058957E-2},{"$f":"SIN(2*PI()*B649*README!B$5)","v":0.83613965373135701}]
[648,{"$f":"A650/README!B$4","v":1.4693877551020407E-2},{"$f":"SIN(2*PI()*B650*README!B$5)","v":0.64822839530780929}]
[649,{"$f":"A651/README!B$4","v":1.4716553287981859E-2},{"$f":"SIN(2*PI()*B651*README!B$5)","v":0.4080378115332971}]
[650,{"$f":"A652/README!B$4","v":1.4739229024943311E-2},{"$f":"SIN(2*PI()*B652*README!B$5)","v":0.13493916378160534}]
[651,{"$f":"A653/README!B$4","v":1.4761904761904763E-2},{"$f":"SIN(2*PI()*B653*README!B$5)","v":-0.14904226617617666}]
[652,{"$f":"A654/README!B$4","v":1.4784580498866213E-2},{"$f":"SIN(2*PI()*B654*README!B$5)","v":-0.42100350513201784}]
[653,{"$f":"A655/README!B$4","v":1.4807256235827664E-2},{"$f":"SIN(2*PI()*B655*README!B$5)","v":-0.65901100281704594}]
[654,{"$f":"A656/README!B$4","v":1.4829931972789116E-2},{"$f":"SIN(2*PI()*B656*README!B$5)","v":-0.8438695627580699}]
[655,{"$f":"A657/README!B$4","v":1.4852607709750568E-2},{"$f":"SIN(2*PI()*B657*README!B$5)","v":-0.96067042614568032}]
[656,{"$f":"A658/README!B$4","v":1.4875283446712018E-2},{"$f":"SIN(2*PI()*B658*README!B$5)","v":-0.99999365645360838}]
[657,{"$f":"A659/README!B$4","v":1.4897959183673469E-2},{"$f":"SIN(2*PI()*B659*README!B$5)","v":-0.95866785303665925}]
[658,{"$f":"A660/README!B$4","v":1.4920634920634921E-2},{"$f":"SIN(2*PI()*B660*README!B$5)","v":-0.84002592315077373}]
[659,{"$f":"A661/README!B$4","v":1.4943310657596371E-2},{"$f":"SIN(2*PI()*B661*README!B$5)","v":-0.65363628449820366}]
[660,{"$f":"A662/README!B$4","v":1.4965986394557823E-2},{"$f":"SIN(2*PI()*B662*README!B$5)","v":-0.41453117669028977}]
[661,{"$f":"A663/README!B$4","v":1.4988662131519274E-2},{"$f":"SIN(2*PI()*B663*README!B$5)","v":-0.1419943179576296}]
[662,{"$f":"A664/README!B$4","v":1.5011337868480726E-2},{"$f":"SIN(2*PI()*B664*README!B$5)","v":0.14199431795761505}]
[663,{"$f":"A665/README!B$4","v":1.5034013605442176E-2},{"$f":"SIN(2*PI()*B665*README!B$5)","v":0.41453117669030226}]
[664,{"$f":"A666/README!B$4","v":1.5056689342403628E-2},{"$f":"SIN(2*PI()*B666*README!B$5)","v":0.65363628449819244}]
[665,{"$f":"A667/README!B$4","v":1.507936507936508E-2},{"$f":"SIN(2*PI()*B667*README!B$5)","v":0.84002592315076574}]
[666,{"$f":"A668/README!B$4","v":1.5102040816326531E-2},{"$f":"SIN(2*PI()*B668*README!B$5)","v":0.95866785303666313}]
[667,{"$f":"A669/README!B$4","v":1.5124716553287981E-2},{"$f":"SIN(2*PI()*B669*README!B$5)","v":0.99999365645360827}]
[668,{"$f":"A670/README!B$4","v":1.5147392290249433E-2},{"$f":"SIN(2*PI()*B670*README!B$5)","v":0.96067042614568443}]
[669,{"$f":"A671/README!B$4","v":1.5170068027210885E-2},{"$f":"SIN(2*PI()*B671*README!B$5)","v":0.84386956275807778}]
[670,{"$f":"A672/README!B$4","v":1.5192743764172336E-2},{"$f":"SIN(2*PI()*B672*README!B$5)","v":0.65901100281705693}]
[671,{"$f":"A673/README!B$4","v":1.5215419501133786E-2},{"$f":"SIN(2*PI()*B673*README!B$5)","v":0.42100350513205698}]
[672,{"$f":"A674/README!B$4","v":1.5238095238095238E-2},{"$f":"SIN(2*PI()*B674*README!B$5)","v":0.14904226617616309}]
[673,{"$f":"A675/README!B$4","v":1.526077097505669E-2},{"$f":"SIN(2*PI()*B675*README!B$5)","v":-0.13493916378159077}]
[674,{"$f":"A676/README!B$4","v":1.528344671201814E-2},{"$f":"SIN(2*PI()*B676*README!B$5)","v":-0.40803781153328367}]
[675,{"$f":"A677/README!B$4","v":1.5306122448979591E-2},{"$f":"SIN(2*PI()*B677*README!B$5)","v":-0.64822839530777654}]
[676,{"$f":"A678/README!B$4","v":1.5328798185941043E-2},{"$f":"SIN(2*PI()*B678*README!B$5)","v":-0.83613965373134902}]
[677,{"$f":"A679/README!B$4","v":1.5351473922902495E-2},{"$f":"SIN(2*PI()*B679*README!B$5)","v":-0.95661662924995605}]
[678,{"$f":"A680/README!B$4","v":1.5374149659863945E-2},{"$f":"SIN(2*PI()*B680*README!B$5)","v":-0.99994290856536083}]
[679,{"$f":"A681/README!B$4","v":1.5396825396825397E-2},{"$f":"SIN(2*PI()*B681*README!B$5)","v":-0.96262424695001836}]
[680,{"$f":"A682/README!B$4","v":1.5419501133786848E-2},{"$f":"SIN(2*PI()*B682*README!B$5)","v":-0.84767037749546947}]
[681,{"$f":"A683/README!B$4","v":1.54421768707483E-2},{"$f":"SIN(2*PI()*B683*README!B$5)","v":-0.66435227750703452}]
[682,{"$f":"A684/README!B$4","v":1.546485260770975E-2},{"$f":"SIN(2*PI()*B684*README!B$5)","v":-0.42745446839941137}]
[683,{"$f":"A685/README!B$4","v":1.5487528344671202E-2},{"$f":"SIN(2*PI()*B685*README!B$5)","v":-0.15608265076647643}]
[684,{"$f":"A686/README!B$4","v":1.5510204081632653E-2},{"$f":"SIN(2*PI()*B686*README!B$5)","v":0.12787716168449445}]
[685,{"$f":"A687/README!B$4","v":1.5532879818594105E-2},{"$f":"SIN(2*PI()*B687*README!B$5)","v":0.40152373918764767}]
[686,{"$f":"A688/README!B$4","v":1.5555555555555555E-2},{"$f":"SIN(2*PI()*B688*README!B$5)","v":0.64278760968653836}]
[687,{"$f":"A689/README!B$4","v":1.5578231292517007E-2},{"$f":"SIN(2*PI()*B689*README!B$5)","v":0.83221095172106807}]
[688,{"$f":"A690/README!B$4","v":1.5600907029478459E-2},{"$f":"SIN(2*PI()*B690*README!B$5)","v":0.95451685888147808}]
[689,{"$f":"A691/README!B$4","v":1.5623582766439909E-2},{"$f":"SIN(2*PI()*B691*README!B$5)","v":0.99984141536423088}]
[690,{"$f":"A692/README!B$4","v":1.5646258503401362E-2},{"$f":"SIN(2*PI()*B692*README!B$5)","v":0.96452921629673727}]
[691,{"$f":"A693/README!B$4","v":1.5668934240362812E-2},{"$f":"SIN(2*PI()*B693*README!B$5)","v":0.85142817447838826}]
[692,{"$f":"A694/README!B$4","v":1.5691609977324262E-2},{"$f":"SIN(2*PI()*B694*README!B$5)","v":0.66965983750804792}]
[693,{"$f":"A695/README!B$4","v":1.5714285714285715E-2},{"$f":"SIN(2*PI()*B695*README!B$5)","v":0.43388373911756506}]
[694,{"$f":"A696/README!B$4","v":1.5736961451247165E-2},{"$f":"SIN(2*PI()*B696*README!B$5)","v":0.16311511444159657}]
[695,{"$f":"A697/README!B$4","v":1.5759637188208615E-2},{"$f":"SIN(2*PI()*B697*README!B$5)","v":-0.12080867005032088}]
[696,{"$f":"A698/README!B$4","v":1.5782312925170069E-2},{"$f":"SIN(2*PI()*B698*README!B$5)","v":-0.39498929023093277}]
[697,{"$f":"A699/README!B$4","v":1.5804988662131519E-2},{"$f":"SIN(2*PI()*B699*README!B$5)","v":-0.63731420374456671}]
[698,{"$f":"A700/README!B$4","v":1.5827664399092972E-2},{"$f":"SIN(2*PI()*B700*README!B$5)","v":-0.82824001649450274}]
[699,{"$f":"A701/README!B$4","v":1.5850340136054422E-2},{"$f":"SIN(2*PI()*B701*README!B$5)","v":-0.95236864849085068}]
[700,{"$f":"A702/README!B$4","v":1.5873015873015872E-2},{"$f":"SIN(2*PI()*B702*README!B$5)","v":-0.99968918200081591}]
[701,{"$f":"A703/README!B$4","v":1.5895691609977326E-2},{"$f":"SIN(2*PI()*B703*README!B$5)","v":-0.96638523751208683}]
[702,{"$f":"A704/README!B$4","v":1.5918367346938776E-2},{"$f":"SIN(2*PI()*B704*README!B$5)","v":-0.85514276300534808}]
[703,{"$f":"A705/README!B$4","v":1.5941043083900226E-2},{"$f":"SIN(2*PI()*B705*README!B$5)","v":-0.67493341347084213}]
[704,{"$f":"A706/README!B$4","v":1.5963718820861679E-2},{"$f":"SIN(2*PI()*B706*README!B$5)","v":-0.44029099101253633}]
[705,{"$f":"A707/README!B$4","v":1.5986394557823129E-2},{"$f":"SIN(2*PI()*B707*README!B$5)","v":-0.17013930031666302}]
[706,{"$f":"A708/README!B$4","v":1.6009070294784579E-2},{"$f":"SIN(2*PI()*B708*README!B$5)","v":0.11373404759239733}]
[707,{"$f":"A709/README!B$4","v":1.6031746031746032E-2},{"$f":"SIN(2*PI()*B709*README!B$5)","v":0.38843479627470201}]
[708,{"$f":"A710/README!B$4","v":1.6054421768707482E-2},{"$f":"SIN(2*PI()*B710*README!B$5)","v":0.63180845524743845}]
[709,{"$f":"A711/README!B$4","v":1.6077097505668936E-2},{"$f":"SIN(2*PI()*B711*README!B$5)","v":0.82422704956950865}]
[710,{"$f":"A712/README!B$4","v":1.6099773242630386E-2},{"$f":"SIN(2*PI()*B712*README!B$5)","v":0.95017210709588074}]
[711,{"$f":"A713/README!B$4","v":1.6122448979591836E-2},{"$f":"SIN(2*PI()*B713*README!B$5)","v":0.99948621620068789}]
[712,{"$f":"A714/README!B$4","v":1.6145124716553289E-2},{"$f":"SIN(2*PI()*B714*README!B$5)","v":0.96819221640628961}]
[713,{"$f":"A715/README!B$4","v":1.6167800453514739E-2},{"$f":"SIN(2*PI()*B715*README!B$5)","v":0.85881395456765963}]
[714,{"$f":"A716/README!B$4","v":1.6190476190476189E-2},{"$f":"SIN(2*PI()*B716*README!B$5)","v":0.68017273777093912}]
[715,{"$f":"A717/README!B$4","v":1.6213151927437643E-2},{"$f":"SIN(2*PI()*B717*README!B$5)","v":0.44667589892778486}]
[716,{"$f":"A718/README!B$4","v":1.6235827664399093E-2},{"$f":"SIN(2*PI()*B718*README!B$5)","v":0.17715485192670261}]
[717,{"$f":"A719/README!B$4","v":1.6258503401360543E-2},{"$f":"SIN(2*PI()*B719*README!B$5)","v":-0.10665365333509474}]
[718,{"$f":"A720/README!B$4","v":1.6281179138321996E-2},{"$f":"SIN(2*PI()*B720*README!B$5)","v":-0.38186058994776606}]
[719,{"$f":"A721/README!B$4","v":1.6303854875283446E-2},{"$f":"SIN(2*PI()*B721*README!B$5)","v":-0.62627064360205753}]
[720,{"$f":"A722/README!B$4","v":1.6326530612244899E-2},{"$f":"SIN(2*PI()*B722*README!B$5)","v":-0.82017225459697451}]
[721,{"$f":"A723/README!B$4","v":1.6349206349206349E-2},{"$f":"SIN(2*PI()*B723*README!B$5)","v":-0.94792734616713026}]
[722,{"$f":"A724/README!B$4","v":1.6371882086167799E-2},{"$f":"SIN(2*PI()*B724*README!B$5)","v":-0.99923252826399511}]
[723,{"$f":"A725/README!B$4","v":1.6394557823129253E-2},{"$f":"SIN(2*PI()*B725*README!B$5)","v":-0.96995006127841543}]
[724,{"$f":"A726/README!B$4","v":1.6417233560090703E-2},{"$f":"SIN(2*PI()*B726*README!B$5)","v":-0.8624415628588924}]
[725,{"$f":"A727/README!B$4","v":1.6439909297052153E-2},{"$f":"SIN(2*PI()*B727*README!B$5)","v":-0.68537754452198696}]
[726,{"$f":"A728/README!B$4","v":1.6462585034013606E-2},{"$f":"SIN(2*PI()*B728*README!B$5)","v":-0.45303813884061084}]
[727,{"$f":"A729/README!B$4","v":1.6485260770975056E-2},{"$f":"SIN(2*PI()*B729*README!B$5)","v":-0.18416141324511182}]
[728,{"$f":"A730/README!B$4","v":1.650793650793651E-2},{"$f":"SIN(2*PI()*B730*README!B$5)","v":9.9567846595833745E-2}]
[729,{"$f":"A731/README!B$4","v":1.653061224489796E-2},{"$f":"SIN(2*PI()*B731*README!B$5)","v":0.37526700487938169}]
[730,{"$f":"A732/README!B$4","v":1.655328798185941E-2},{"$f":"SIN(2*PI()*B732*README!B$5)","v":0.62070104984240904}]
[731,{"$f":"A733/README!B$4","v":1.6575963718820863E-2},{"$f":"SIN(2*PI()*B733*README!B$5)","v":0.81607583735047151}]
[732,{"$f":"A734/README!B$4","v":1.6598639455782313E-2},{"$f":"SIN(2*PI()*B734*README!B$5)","v":0.94563447962218061}]
[733,{"$f":"A735/README!B$4","v":1.6621315192743763E-2},{"$f":"SIN(2*PI()*B735*README!B$5)","v":0.99892813106495038}]
[734,{"$f":"A736/README!B$4","v":1.6643990929705216E-2},{"$f":"SIN(2*PI()*B736*README!B$5)","v":0.97165868292096935}]
[735,{"$f":"A737/README!B$4","v":1.6666666666666666E-2},{"$f":"SIN(2*PI()*B737*README!B$5)","v":0.86602540378444748}]
[736,{"$f":"A738/README!B$4","v":1.6689342403628116E-2},{"$f":"SIN(2*PI()*B738*README!B$5)","v":0.69054756958933838}]
[737,{"$f":"A739/README!B$4","v":1.671201814058957E-2},{"$f":"SIN(2*PI()*B739*README!B$5)","v":0.45937738787875165}]
[738,{"$f":"A740/README!B$4","v":1.673469387755102E-2},{"$f":"SIN(2*PI()*B740*README!B$5)","v":0.19115862870138833}]
[739,{"$f":"A741/README!B$4","v":1.6757369614512473E-2},{"$f":"SIN(2*PI()*B741*README!B$5)","v":-9.2476986966510896E-2}]
[740,{"$f":"A742/README!B$4","v":1.6780045351473923E-2},{"$f":"SIN(2*PI()*B742*README!B$5)","v":-0.3686543756821371}]
[741,{"$f":"A743/README!B$4","v":1.6802721088435373E-2},{"$f":"SIN(2*PI()*B743*README!B$5)","v":-0.61509995661545214}]
[742,{"$f":"A744/README!B$4","v":1.6825396825396827E-2},{"$f":"SIN(2*PI()*B744*README!B$5)","v":-0.81193800571585906}]
[743,{"$f":"A745/README!B$4","v":1.6848072562358277E-2},{"$f":"SIN(2*PI()*B745*README!B$5)","v":-0.94329362381992343}]
[744,{"$f":"A746/README!B$4","v":1.6870748299319727E-2},{"$f":"SIN(2*PI()*B746*README!B$5)","v":-0.99857304005116332}]
[745,{"$f":"A747/README!B$4","v":1.689342403628118E-2},{"$f":"SIN(2*PI()*B747*README!B$5)","v":-0.97331799462447466}]
[746,{"$f":"A748/README!B$4","v":1.691609977324263E-2},{"$f":"SIN(2*PI()*B748*README!B$5)","v":-0.86956529547078376}]
[747,{"$f":"A749/README!B$4","v":1.693877551020408E-2},{"$f":"SIN(2*PI()*B749*README!B$5)","v":-0.69568255060351569}]
[748,{"$f":"A750/README!B$4","v":1.6961451247165533E-2},{"$f":"SIN(2*PI()*B750*README!B$5)","v":-0.46569332433668981}]
[749,{"$f":"A751/README!B$4","v":1.6984126984126983E-2},{"$f":"SIN(2*PI()*B751*README!B$5)","v":-0.19814614319939955}]
[750,{"$f":"A752/README!B$4","v":1.7006802721088437E-2},{"$f":"SIN(2*PI()*B752*README!B$5)","v":8.5381434295645792E-2}]
[751,{"$f":"A753/README!B$4","v":1.7029478458049887E-2},{"$f":"SIN(2*PI()*B753*README!B$5)","v":0.36202303793518142}]
[752,{"$f":"A754/README!B$4","v":1.7052154195011337E-2},{"$f":"SIN(2*PI()*B754*README!B$5)","v":0.60946764816659837}]
[753,{"$f":"A755/README!B$4","v":1.707482993197279E-2},{"$f":"SIN(2*PI()*B755*README!B$5)","v":0.80775896968068661}]
[754,{"$f":"A756/README!B$4","v":1.709750566893424E-2},{"$f":"SIN(2*PI()*B756*README!B$5)","v":0.94090489755459195}]
[755,{"$f":"A757/README!B$4","v":1.712018140589569E-2},{"$f":"SIN(2*PI()*B757*README!B$5)","v":0.99816727324287036}]
[756,{"$f":"A758/README!B$4","v":1.7142857142857144E-2},{"$f":"SIN(2*PI()*B758*README!B$5)","v":0.97492791218182551}]
[757,{"$f":"A759/README!B$4","v":1.7165532879818594E-2},{"$f":"SIN(2*PI()*B759*README!B$5)","v":0.8730610582747621}]
[758,{"$f":"A760/README!B$4","v":1.7188208616780044E-2},{"$f":"SIN(2*PI()*B760*README!B$5)","v":0.70078222697338233}]
[759,{"$f":"A761/README!B$4","v":1.7210884353741497E-2},{"$f":"SIN(2*PI()*B761*README!B$5)","v":0.47198562769192925}]
[760,{"$f":"A762/README!B$4","v":1.7233560090702947E-2},{"$f":"SIN(2*PI()*B762*README!B$5)","v":0.20512360213531899}]
[761,{"$f":"A763/README!B$4","v":1.7256235827664401E-2},{"$f":"SIN(2*PI()*B763*README!B$5)","v":-7.8281548669780043E-2}]
[762,{"$f":"A764/README!B$4","v":1.7278911564625851E-2},{"$f":"SIN(2*PI()*B764*README!B$5)","v":-0.35537332816698342}]
[763,{"$f":"A765/README!B$4","v":1.73015873015873E-2},{"$f":"SIN(2*PI()*B765*README!B$5)","v":-0.60380441032546561}]
[764,{"$f":"A766/README!B$4","v":1.7324263038548754E-2},{"$f":"SIN(2*PI()*B766*README!B$5)","v":-0.80353894132357007}]
[765,{"$f":"A767/README!B$4","v":1.7346938775510204E-2},{"$f":"SIN(2*PI()*B767*README!B$5)","v":-0.93846842204975889}]
[766,{"$f":"A768/README!B$4","v":1.7369614512471654E-2},{"$f":"SIN(2*PI()*B768*README!B$5)","v":-0.9977108512320092}]
[767,{"$f":"A769/README!B$4","v":1.7392290249433107E-2},{"$f":"SIN(2*PI()*B769*README!B$5)","v":-0.97648835389258104}]
[768,{"$f":"A770/README!B$4","v":1.7414965986394557E-2},{"$f":"SIN(2*PI()*B770*README!B$5)","v":-0.87651251479264924}]
[769,{"$f":"A771/README!B$4","v":1.7437641723356011E-2},{"$f":"SIN(2*PI()*B771*README!B$5)","v":-0.70584633989949053}]
[770,{"$f":"A772/README!B$4","v":1.7460317460317461E-2},{"$f":"SIN(2*PI()*B772*README!B$5)","v":-0.47825397862133684}]
[771,{"$f":"A773/README!B$4","v":1.7482993197278911E-2},{"$f":"SIN(2*PI()*B773*README!B$5)","v":-0.21209065141553843}]
[772,{"$f":"A774/README!B$4","v":1.7505668934240364E-2},{"$f":"SIN(2*PI()*B774*README!B$5)","v":7.1177690395458237E-2}]
[773,{"$f":"A775/README!B$4","v":1.7528344671201814E-2},{"$f":"SIN(2*PI()*B775*README!B$5)","v":0.34870558383843836}]
[774,{"$f":"A776/README!B$4","v":1.7551020408163264E-2},{"$f":"SIN(2*PI()*B776*README!B$5)","v":0.59811053049119278}]
[775,{"$f":"A777/README!B$4","v":1.7573696145124718E-2},{"$f":"SIN(2*PI()*B777*README!B$5)","v":0.79927813480336185}]
[776,{"$f":"A778/README!B$4","v":1.7596371882086168E-2},{"$f":"SIN(2*PI()*B778*README!B$5)","v":0.93598432095220463}]
[777,{"$f":"A779/README!B$4","v":1.7619047619047618E-2},{"$f":"SIN(2*PI()*B779*README!B$5)","v":0.99720379718117813}]
[778,{"$f":"A780/README!B$4","v":1.7641723356009071E-2},{"$f":"SIN(2*PI()*B780*README!B$5)","v":0.97799924056712984}]
[779,{"$f":"A781/README!B$4","v":1.7664399092970521E-2},{"$f":"SIN(2*PI()*B781*README!B$5)","v":0.87991948986923185}]
[780,{"$f":"A782/README!B$4","v":1.7687074829931974E-2},{"$f":"SIN(2*PI()*B782*README!B$5)","v":0.71087463238723347}]
[781,{"$f":"A783/README!B$4","v":1.7709750566893424E-2},{"$f":"SIN(2*PI()*B783*README!B$5)","v":0.48449805901729726}]
[782,{"$f":"A784/README!B$4","v":1.7732426303854874E-2},{"$f":"SIN(2*PI()*B784*README!B$5)","v":0.21904693747483234}]
[783,{"$f":"A785/README!B$4","v":1.7755102040816328E-2},{"$f":"SIN(2*PI()*B785*README!B$5)","v":-6.4070219980716395E-2}]
[784,{"$f":"A786/README!B$4","v":1.7777777777777778E-2},{"$f":"SIN(2*PI()*B786*README!B$5)","v":-0.34202014332566349}]
[785,{"$f":"A787/README!B$4","v":1.7800453514739228E-2},{"$f":"SIN(2*PI()*B787*README!B$5)","v":-0.59238629761803596}]
[786,{"$f":"A788/README!B$4","v":1.7823129251700681E-2},{"$f":"SIN(2*PI()*B788*README!B$5)","v":-0.79497676634840064}]
[787,{"$f":"A789/README!B$4","v":1.7845804988662131E-2},{"$f":"SIN(2*PI()*B789*README!B$5)","v":-0.93345272032561388}]
[788,{"$f":"A790/README!B$4","v":1.7868480725623581E-2},{"$f":"SIN(2*PI()*B790*README!B$5)","v":-0.9966461368224665}]
[789,{"$f":"A791/README!B$4","v":1.7891156462585035E-2},{"$f":"SIN(2*PI()*B791*README!B$5)","v":-0.9794604955306655}]
[790,{"$f":"A792/README!B$4","v":1.7913832199546485E-2},{"$f":"SIN(2*PI()*B792*README!B$5)","v":-0.88328181060660893}]
[791,{"$f":"A793/README!B$4","v":1.7936507936507938E-2},{"$f":"SIN(2*PI()*B793*README!B$5)","v":-0.71586684925970689}]
[792,{"$f":"A794/README!B$4","v":1.7959183673469388E-2},{"$f":"SIN(2*PI()*B794*README!B$5)","v":-0.49071755200395617}]
[793,{"$f":"A795/README!B$4","v":1.7981859410430838E-2},{"$f":"SIN(2*PI()*B795*README!B$5)","v":-0.2259921072941059}]
[794,{"$f":"A796/README!B$4","v":1.8004535147392291E-2},{"$f":"SIN(2*PI()*B796*README!B$5)","v":5.6959498117013646E-2}]
[795,{"$f":"A797/README!B$4","v":1.8027210884353741E-2},{"$f":"SIN(2*PI()*B797*README!B$5)","v":0.33531734590274581}]
[796,{"$f":"A798/README!B$4","v":1.8049886621315191E-2},{"$f":"SIN(2*PI()*B798*README!B$5)","v":0.58663200220052236}]
[797,{"$f":"A799/README!B$4","v":1.8072562358276645E-2},{"$f":"SIN(2*PI()*B799*README!B$5)","v":0.79063505424541991}]
[798,{"$f":"A800/README!B$4","v":1.8095238095238095E-2},{"$f":"SIN(2*PI()*B800*README!B$5)","v":0.93087374864419759}]
[799,{"$f":"A801/README!B$4","v":1.8117913832199545E-2},{"$f":"SIN(2*PI()*B801*README!B$5)","v":0.996037898456135}]
[800,{"$f":"A802/README!B$4","v":1.8140589569160998E-2},{"$f":"SIN(2*PI()*B802*README!B$5)","v":0.98087204462712552}]
[801,{"$f":"A803/README!B$4","v":1.8163265306122448E-2},{"$f":"SIN(2*PI()*B803*README!B$5)","v":0.88659930637300788}]
[802,{"$f":"A804/README!B$4","v":1.8185941043083902E-2},{"$f":"SIN(2*PI()*B804*README!B$5)","v":0.72082273717085987}]
[803,{"$f":"A805/README!B$4","v":1.8208616780045352E-2},{"$f":"SIN(2*PI()*B805*README!B$5)","v":0.49691214195312666}]
[804,{"$f":"A806/README!B$4","v":1.8231292517006802E-2},{"$f":"SIN(2*PI()*B806*README!B$5)","v":0.2329258084184215}]
[805,{"$f":"A807/README!B$4","v":1.8253968253968255E-2},{"$f":"SIN(2*PI()*B807*README!B$5)","v":-4.9845885660700848E-2}]
[806,{"$f":"A808/README!B$4","v":1.8276643990929705E-2},{"$f":"SIN(2*PI()*B808*README!B$5)","v":-0.32859753172471101}]
[807,{"$f":"A809/README!B$4","v":1.8299319727891155E-2},{"$f":"SIN(2*PI()*B809*README!B$5)","v":-0.58084793625886799}]
[808,{"$f":"A810/README!B$4","v":1.8321995464852608E-2},{"$f":"SIN(2*PI()*B810*README!B$5)","v":-0.78625321882852039}]
[809,{"$f":"A811/README!B$4","v":1.8344671201814058E-2},{"$f":"SIN(2*PI()*B811*README!B$5)","v":-0.92824753678614258}]
[810,{"$f":"A812/README!B$4","v":1.8367346938775512E-2},{"$f":"SIN(2*PI()*B812*README!B$5)","v":-0.9953791129491969}]
[811,{"$f":"A813/README!B$4","v":1.8390022675736962E-2},{"$f":"SIN(2*PI()*B813*README!B$5)","v":-0.98223381622290851}]
[812,{"$f":"A814/README!B$4","v":1.8412698412698412E-2},{"$f":"SIN(2*PI()*B814*README!B$5)","v":-0.88987180881148276}]
[813,{"$f":"A815/README!B$4","v":1.8435374149659865E-2},{"$f":"SIN(2*PI()*B815*README!B$5)","v":-0.72574204461829006}]
[814,{"$f":"A816/README!B$4","v":1.8458049886621315E-2},{"$f":"SIN(2*PI()*B816*README!B$5)","v":-0.50308151450048089}]
[815,{"$f":"A817/README!B$4","v":1.8480725623582765E-2},{"$f":"SIN(2*PI()*B817*README!B$5)","v":-0.23984768897482961}]
[816,{"$f":"A818/README!B$4","v":1.8503401360544219E-2},{"$f":"SIN(2*PI()*B818*README!B$5)","v":4.2729743614934763E-2}]
[817,{"$f":"A819/README!B$4","v":1.8526077097505669E-2},{"$f":"SIN(2*PI()*B819*README!B$5)","v":0.32186104181004777}]
[818,{"$f":"A820/README!B$4","v":1.8548752834467119E-2},{"$f":"SIN(2*PI()*B820*README!B$5)","v":0.57503439332409012}]
[819,{"$f":"A821/README!B$4","v":1.8571428571428572E-2},{"$f":"SIN(2*PI()*B821*README!B$5)","v":0.78183148246804191}]
[820,{"$f":"A822/README!B$4","v":1.8594104308390022E-2},{"$f":"SIN(2*PI()*B822*README!B$5)","v":0.92557421802698969}]
[821,{"$f":"A823/README!B$4","v":1.8616780045351475E-2},{"$f":"SIN(2*PI()*B823*README!B$5)","v":0.99466981373383545}]
[822,{"$f":"A824/README!B$4","v":1.8639455782312925E-2},{"$f":"SIN(2*PI()*B824*README!B$5)","v":0.98354574121055416}]
[823,{"$f":"A825/README!B$4","v":1.8662131519274375E-2},{"$f":"SIN(2*PI()*B825*README!B$5)","v":0.89309915184836597}]
[824,{"$f":"A826/README!B$4","v":1.8684807256235829E-2},{"$f":"SIN(2*PI()*B826*README!B$5)","v":0.73062452195587091}]
[825,{"$f":"A827/README!B$4","v":1.8707482993197279E-2},{"$f":"SIN(2*PI()*B827*README!B$5)","v":0.50922535656142875}]
[826,{"$f":"A828/README!B$4","v":1.8730158730158729E-2},{"$f":"SIN(2*PI()*B828*README!B$5)","v":0.24675739769030866}]
[827,{"$f":"A829/README!B$4","v":1.8752834467120182E-2},{"$f":"SIN(2*PI()*B829*README!B$5)","v":-3.5611433111130769E-2}]
[828,{"$f":"A830/README!B$4","v":1.8775510204081632E-2},{"$f":"SIN(2*PI()*B830*README!B$5)","v":-0.31510821802361583}]
[829,{"$f":"A831/README!B$4","v":1.8798185941043082E-2},{"$f":"SIN(2*PI()*B831*README!B$5)","v":-0.56919166842304103}]
[830,{"$f":"A832/README!B$4","v":1.8820861678004536E-2},{"$f":"SIN(2*PI()*B832*README!B$5)","v":-0.77737006955913712}]
[831,{"$f":"A833/README!B$4","v":1.8843537414965986E-2},{"$f":"SIN(2*PI()*B833*README!B$5)","v":-0.92285392803290223}]
[832,{"$f":"A834/README!B$4","v":1.8866213151927439E-2},{"$f":"SIN(2*PI()*B834*README!B$5)","v":-0.9939100368057161}]
[833,{"$f":"A835/README!B$4","v":1.8888888888888889E-2},{"$f":"SIN(2*PI()*B835*README!B$5)","v":-0.98480775301220691}]
[834,{"$f":"A836/README!B$4","v":1.8911564625850339E-2},{"$f":"SIN(2*PI()*B836*README!B$5)","v":-0.89628117170180044}]
[835,{"$f":"A837/README!B$4","v":1.8934240362811793E-2},{"$f":"SIN(2*PI()*B837*README!B$5)","v":-0.73546992140667489}]
[836,{"$f":"A838/README!B$4","v":1.8956916099773242E-2},{"$f":"SIN(2*PI()*B838*README!B$5)","v":-0.51534335634693296}]
[837,{"$f":"A839/README!B$4","v":1.8979591836734692E-2},{"$f":"SIN(2*PI()*B839*README!B$5)","v":-0.25365458390953605}]
[838,{"$f":"A840/README!B$4","v":1.9002267573696146E-2},{"$f":"SIN(2*PI()*B840*README!B$5)","v":2.8491315390834757E-2}]
[839,{"$f":"A841/README!B$4","v":1.9024943310657596E-2},{"$f":"SIN(2*PI()*B841*README!B$5)","v":0.30833940305908203}]
[840,{"$f":"A842/README!B$4","v":1.9047619047619049E-2},{"$f":"SIN(2*PI()*B842*README!B$5)","v":0.56332005806362218}]
[841,{"$f":"A843/README!B$4","v":1.9070294784580499E-2},{"$f":"SIN(2*PI()*B843*README!B$5)","v":0.77286920651059743}]
[842,{"$f":"A844/README!B$4","v":1.9092970521541949E-2},{"$f":"SIN(2*PI()*B844*README!B$5)","v":0.92008680485370697}]
[843,{"$f":"A845/README!B$4","v":1.9115646258503403E-2},{"$f":"SIN(2*PI()*B845*README!B$5)","v":0.99309982072215475}]
[844,{"$f":"A846/README!B$4","v":1.9138321995464853E-2},{"$f":"SIN(2*PI()*B846*README!B$5)","v":0.98601978758303688}]
[845,{"$f":"A847/README!B$4","v":1.9160997732426303E-2},{"$f":"SIN(2*PI()*B847*README!B$5)","v":0.89941770688994849}]
[846,{"$f":"A848/README!B$4","v":1.9183673469387756E-2},{"$f":"SIN(2*PI()*B848*README!B$5)","v":0.74027799707531372}]
[847,{"$f":"A849/README!B$4","v":1.9206349206349206E-2},{"$f":"SIN(2*PI()*B849*README!B$5)","v":0.52143520337952765}]
[848,{"$f":"A850/README!B$4","v":1.9229024943310656E-2},{"$f":"SIN(2*PI()*B850*README!B$5)","v":0.26053889761260085}]
[849,{"$f":"A851/README!B$4","v":1.925170068027211E-2},{"$f":"SIN(2*PI()*B851*README!B$5)","v":-2.1369751787305651E-2}]
[850,{"$f":"A852/README!B$4","v":1.927437641723356E-2},{"$f":"SIN(2*PI()*B852*README!B$5)","v":-0.30155494042174485}]
[851,{"$f":"A853/README!B$4","v":1.9297052154195013E-2},{"$f":"SIN(2*PI()*B853*README!B$5)","v":-0.55741986021947987}]
[852,{"$f":"A854/README!B$4","v":1.9319727891156463E-2},{"$f":"SIN(2*PI()*B854*README!B$5)","v":-0.76832912173311307}]
[853,{"$f":"A855/README!B$4","v":1.9342403628117913E-2},{"$f":"SIN(2*PI()*B855*README!B$5)","v":-0.91727298891597464}]
[854,{"$f":"A856/README!B$4","v":1.9365079365079366E-2},{"$f":"SIN(2*PI()*B856*README!B$5)","v":-0.99223920660017406}]
[855,{"$f":"A857/README!B$4","v":1.9387755102040816E-2},{"$f":"SIN(2*PI()*B857*README!B$5)","v":-0.98718178341445362}]
[856,{"$f":"A858/README!B$4","v":1.9410430839002266E-2},{"$f":"SIN(2*PI()*B858*README!B$5)","v":-0.90250859823927609}]
[857,{"$f":"A859/README!B$4","v":1.943310657596372E-2},{"$f":"SIN(2*PI()*B859*README!B$5)","v":-0.74504850496057207}]
[858,{"$f":"A860/README!B$4","v":1.945578231292517E-2},{"$f":"SIN(2*PI()*B860*README!B$5)","v":-0.52750058850878212}]
[859,{"$f":"A861/README!B$4","v":1.947845804988662E-2},{"$f":"SIN(2*PI()*B861*README!B$5)","v":-0.26740998943295935}]
[860,{"$f":"A862/README!B$4","v":1.9501133786848073E-2},{"$f":"SIN(2*PI()*B862*README!B$5)","v":1.4247103707093128E-2}]
[861,{"$f":"A863/README!B$4","v":1.9523809523809523E-2},{"$f":"SIN(2*PI()*B863*README!B$5)","v":0.294755174410886}]
[862,{"$f":"A864/README!B$4","v":1.9546485260770977E-2},{"$f":"SIN(2*PI()*B864*README!B$5)","v":0.55149137431511785}]
[863,{"$f":"A865/README!B$4","v":1.9569160997732427E-2},{"$f":"SIN(2*PI()*B865*README!B$5)","v":0.76375004562789672}]
[864,{"$f":"A866/README!B$4","v":1.9591836734693877E-2},{"$f":"SIN(2*PI()*B866*README!B$5)","v":0.91441262301579385}]
[865,{"$f":"A867/README!B$4","v":1.961451247165533E-2},{"$f":"SIN(2*PI()*B867*README!B$5)","v":0.99132823811439341}]
[866,{"$f":"A868/README!B$4","v":1.963718820861678E-2},{"$f":"SIN(2*PI()*B868*README!B$5)","v":0.98829368153724417}]
[867,{"$f":"A869/README!B$4","v":1.965986394557823E-2},{"$f":"SIN(2*PI()*B869*README!B$5)","v":0.90555368889259136}]
[868,{"$f":"A870/README!B$4","v":1.9682539682539683E-2},{"$f":"SIN(2*PI()*B870*README!B$5)","v":0.74978120296773221}]
[869,{"$f":"A871/README!B$4","v":1.9705215419501133E-2},{"$f":"SIN(2*PI()*B871*README!B$5)","v":0.5335392039273299}]
[870,{"$f":"A872/README!B$4","v":1.9727891156462583E-2},{"$f":"SIN(2*PI()*B872*README!B$5)","v":0.27426751067494493}]
[871,{"$f":"A873/README!B$4","v":1.9750566893424037E-2},{"$f":"SIN(2*PI()*B873*README!B$5)","v":-7.1237326118957682E-3}]
[872,{"$f":"A874/README!B$4","v":1.9773242630385487E-2},{"$f":"SIN(2*PI()*B874*README!B$5)","v":-0.28794045010248714}]
[873,{"$f":"A875/README!B$4","v":1.979591836734694E-2},{"$f":"SIN(2*PI()*B875*README!B$5)","v":-0.54553490121056092}]
[874,{"$f":"A876/README!B$4","v":1.981859410430839E-2},{"$f":"SIN(2*PI()*B876*README!B$5)","v":-0.75913221057484692}]
[875,{"$f":"A877/README!B$4","v":1.984126984126984E-2},{"$f":"SIN(2*PI()*B877*README!B$5)","v":-0.91150585231166004}]
[876,{"$f":"A878/README!B$4","v":1.9863945578231294E-2},{"$f":"SIN(2*PI()*B878*README!B$5)","v":-0.99036696149484027}]
[877,{"$f":"A879/README!B$4","v":1.9886621315192744E-2},{"$f":"SIN(2*PI()*B879*README!B$5)","v":-0.98935542552457789}]
[878,{"$f":"A880/README!B$4","v":1.9909297052154194E-2},{"$f":"SIN(2*PI()*B880*README!B$5)","v":-0.90855282431699325}]
[879,{"$f":"A881/README!B$4","v":1.9931972789115647E-2},{"$f":"SIN(2*PI()*B881*README!B$5)","v":-0.7544758509208217}]
[880,{"$f":"A882/README!B$4","v":1.9954648526077097E-2},{"$f":"SIN(2*PI()*B882*README!B$5)","v":-0.53955074318617424}]
[881,{"$f":"A883/README!B$4","v":1.997732426303855E-2},{"$f":"SIN(2*PI()*B883*README!B$5)","v":-0.28111111333168304}]
[882,{"$f":"A884/README!B$4","v":0.02},{"$f":"SIN(2*PI()*B884*README!B$5)","v":1.8620521791135047E-14}]
[883,{"$f":"A885/README!B$4","v":2.002267573696145E-2},{"$f":"SIN(2*PI()*B885*README!B$5)","v":0.28111111333163691}]
[884,{"$f":"A886/README!B$4","v":2.0045351473922904E-2},{"$f":"SIN(2*PI()*B886*README!B$5)","v":0.53955074318618168}]
[885,{"$f":"A887/README!B$4","v":2.0068027210884354E-2},{"$f":"SIN(2*PI()*B887*README!B$5)","v":0.75447585092080882}]
[886,{"$f":"A888/README!B$4","v":2.0090702947845804E-2},{"$f":"SIN(2*PI()*B888*README!B$5)","v":0.9085528243169495}]
[887,{"$f":"A889/README!B$4","v":2.0113378684807257E-2},{"$f":"SIN(2*PI()*B889*README!B$5)","v":0.98935542552457501}]
[888,{"$f":"A890/README!B$4","v":2.0136054421768707E-2},{"$f":"SIN(2*PI()*B890*README!B$5)","v":0.99036696149484305}]
[889,{"$f":"A891/README!B$4","v":2.0158730158730157E-2},{"$f":"SIN(2*PI()*B891*README!B$5)","v":0.9115058523116798}]
[890,{"$f":"A892/README!B$4","v":2.0181405895691611E-2},{"$f":"SIN(2*PI()*B892*README!B$5)","v":0.75913221057482272}]
[891,{"$f":"A893/README!B$4","v":2.0204081632653061E-2},{"$f":"SIN(2*PI()*B893*README!B$5)","v":0.54553490121055359}]
[892,{"$f":"A894/README!B$4","v":2.0226757369614514E-2},{"$f":"SIN(2*PI()*B894*README!B$5)","v":0.28794045010250591}]
[893,{"$f":"A895/README!B$4","v":2.0249433106575964E-2},{"$f":"SIN(2*PI()*B895*README!B$5)","v":7.1237326118869489E-3}]
[894,{"$f":"A896/README!B$4","v":2.0272108843537414E-2},{"$f":"SIN(2*PI()*B896*README!B$5)","v":-0.27426751067489874}]
[895,{"$f":"A897/README!B$4","v":2.0294784580498867E-2},{"$f":"SIN(2*PI()*B897*README!B$5)","v":-0.53353920392728926}]
[896,{"$f":"A898/README!B$4","v":2.0317460317460317E-2},{"$f":"SIN(2*PI()*B898*README!B$5)","v":-0.74978120296771922}]
[897,{"$f":"A899/README!B$4","v":2.0340136054421767E-2},{"$f":"SIN(2*PI()*B899*README!B$5)","v":-0.90555368889258303}]
[898,{"$f":"A900/README!B$4","v":2.0362811791383221E-2},{"$f":"SIN(2*PI()*B900*README!B$5)","v":-0.98829368153724551}]
[899,{"$f":"A901/README!B$4","v":2.0385487528344671E-2},{"$f":"SIN(2*PI()*B901*README!B$5)","v":-0.99132823811439597}]
[900,{"$f":"A902/README!B$4","v":2.0408163265306121E-2},{"$f":"SIN(2*PI()*B902*README!B$5)","v":-0.91441262301581328}]
[901,{"$f":"A903/README!B$4","v":2.0430839002267574E-2},{"$f":"SIN(2*PI()*B903*README!B$5)","v":-0.76375004562789095}]
[902,{"$f":"A904/README!B$4","v":2.0453514739229024E-2},{"$f":"SIN(2*PI()*B904*README!B$5)","v":-0.55149137431511053}]
[903,{"$f":"A905/README!B$4","v":2.0476190476190478E-2},{"$f":"SIN(2*PI()*B905*README!B$5)","v":-0.29475517441090476}]
[904,{"$f":"A906/README!B$4","v":2.0498866213151928E-2},{"$f":"SIN(2*PI()*B906*README!B$5)","v":-1.4247103707141147E-2}]
[905,{"$f":"A907/README!B$4","v":2.0521541950113378E-2},{"$f":"SIN(2*PI()*B907*README!B$5)","v":0.26740998943285832}]
[906,{"$f":"A908/README!B$4","v":2.0544217687074831E-2},{"$f":"SIN(2*PI()*B908*README!B$5)","v":0.52750058850876547}]
[907,{"$f":"A909/README!B$4","v":2.0566893424036281E-2},{"$f":"SIN(2*PI()*B909*README!B$5)","v":0.74504850496059694}]
[908,{"$f":"A910/README!B$4","v":2.0589569160997731E-2},{"$f":"SIN(2*PI()*B910*README!B$5)","v":0.90250859823926766}]
[909,{"$f":"A911/README!B$4","v":2.0612244897959184E-2},{"$f":"SIN(2*PI()*B911*README!B$5)","v":0.98718178341445051}]
[910,{"$f":"A912/README!B$4","v":2.0634920634920634E-2},{"$f":"SIN(2*PI()*B912*README!B$5)","v":0.9922392066001765}]
[911,{"$f":"A913/README!B$4","v":2.0657596371882084E-2},{"$f":"SIN(2*PI()*B913*README!B$5)","v":0.91727298891598241}]
[912,{"$f":"A914/README!B$4","v":2.0680272108843538E-2},{"$f":"SIN(2*PI()*B914*README!B$5)","v":0.76832912173312562}]
[913,{"$f":"A915/README!B$4","v":2.0702947845804988E-2},{"$f":"SIN(2*PI()*B915*README!B$5)","v":0.55741986021949619}]
[914,{"$f":"A916/README!B$4","v":2.0725623582766441E-2},{"$f":"SIN(2*PI()*B916*README!B$5)","v":0.30155494042176356}]
[915,{"$f":"A917/README!B$4","v":2.0748299319727891E-2},{"$f":"SIN(2*PI()*B917*README!B$5)","v":2.1369751787296831E-2}]
[916,{"$f":"A918/README!B$4","v":2.0770975056689341E-2},{"$f":"SIN(2*PI()*B918*README!B$5)","v":-0.2605388976125545}]
[917,{"$f":"A919/README!B$4","v":2.0793650793650795E-2},{"$f":"SIN(2*PI()*B919*README!B$5)","v":-0.52143520337953519}]
[918,{"$f":"A920/README!B$4","v":2.0816326530612245E-2},{"$f":"SIN(2*PI()*B920*README!B$5)","v":-0.7402779970753196}]
[919,{"$f":"A921/README!B$4","v":2.0839002267573695E-2},{"$f":"SIN(2*PI()*B921*README!B$5)","v":-0.8994177068899275}]
[920,{"$f":"A922/README!B$4","v":2.0861678004535148E-2},{"$f":"SIN(2*PI()*B922*README!B$5)","v":-0.98601978758303355}]
[921,{"$f":"A923/README!B$4","v":2.0884353741496598E-2},{"$f":"SIN(2*PI()*B923*README!B$5)","v":-0.99309982072216041}]
[922,{"$f":"A924/README!B$4","v":2.0907029478458052E-2},{"$f":"SIN(2*PI()*B924*README!B$5)","v":-0.92008680485372574}]
[923,{"$f":"A925/README!B$4","v":2.0929705215419502E-2},{"$f":"SIN(2*PI()*B925*README!B$5)","v":-0.77286920651060986}]
[924,{"$f":"A926/README!B$4","v":2.0952380952380951E-2},{"$f":"SIN(2*PI()*B926*README!B$5)","v":-0.56332005806361485}]
[925,{"$f":"A927/README!B$4","v":2.0975056689342405E-2},{"$f":"SIN(2*PI()*B927*README!B$5)","v":-0.30833940305907365}]
[926,{"$f":"A928/README!B$4","v":2.0997732426303855E-2},{"$f":"SIN(2*PI()*B928*README!B$5)","v":-2.8491315390854349E-2}]
[927,{"$f":"A929/README!B$4","v":2.1020408163265305E-2},{"$f":"SIN(2*PI()*B929*README!B$5)","v":0.25365458390946205}]
[928,{"$f":"A930/README!B$4","v":2.1043083900226758E-2},{"$f":"SIN(2*PI()*B930*README!B$5)","v":0.51534335634696482}]
[929,{"$f":"A931/README!B$4","v":2.1065759637188208E-2},{"$f":"SIN(2*PI()*B931*README!B$5)","v":0.73546992140666156}]
[930,{"$f":"A932/README!B$4","v":2.1088435374149658E-2},{"$f":"SIN(2*PI()*B932*README!B$5)","v":0.89628117170176647}]
[931,{"$f":"A933/README!B$4","v":2.1111111111111112E-2},{"$f":"SIN(2*PI()*B933*README!B$5)","v":0.98480775301220347}]
[932,{"$f":"A934/README!B$4","v":2.1133786848072562E-2},{"$f":"SIN(2*PI()*B934*README!B$5)","v":0.9939100368057151}]
[933,{"$f":"A935/README!B$4","v":2.1156462585034015E-2},{"$f":"SIN(2*PI()*B935*README!B$5)","v":0.92285392803289878}]
[934,{"$f":"A936/README!B$4","v":2.1179138321995465E-2},{"$f":"SIN(2*PI()*B936*README!B$5)","v":0.77737006955913157}]
[935,{"$f":"A937/README!B$4","v":2.1201814058956915E-2},{"$f":"SIN(2*PI()*B937*README!B$5)","v":0.56919166842308055}]
[936,{"$f":"A938/README!B$4","v":2.1224489795918369E-2},{"$f":"SIN(2*PI()*B938*README!B$5)","v":0.31510821802360744}]
[937,{"$f":"A939/README!B$4","v":2.1247165532879819E-2},{"$f":"SIN(2*PI()*B939*README!B$5)","v":3.5611433111150358E-2}]
[938,{"$f":"A940/README!B$4","v":2.1269841269841269E-2},{"$f":"SIN(2*PI()*B940*README!B$5)","v":-0.24675739769023458}]
[939,{"$f":"A941/README!B$4","v":2.1292517006802722E-2},{"$f":"SIN(2*PI()*B941*README!B$5)","v":-0.50922535656138734}]
[940,{"$f":"A942/README!B$4","v":2.1315192743764172E-2},{"$f":"SIN(2*PI()*B942*README!B$5)","v":-0.73062452195585759}]
[941,{"$f":"A943/README!B$4","v":2.1337868480725622E-2},{"$f":"SIN(2*PI()*B943*README!B$5)","v":-0.8930991518483572}]
[942,{"$f":"A944/README!B$4","v":2.1360544217687075E-2},{"$f":"SIN(2*PI()*B944*README!B$5)","v":-0.98354574121055571}]
[943,{"$f":"A945/README!B$4","v":2.1383219954648525E-2},{"$f":"SIN(2*PI()*B945*README!B$5)","v":-0.99466981373383745}]
[944,{"$f":"A946/README!B$4","v":2.1405895691609979E-2},{"$f":"SIN(2*PI()*B946*README!B$5)","v":-0.92557421802699713}]
[945,{"$f":"A947/README!B$4","v":2.1428571428571429E-2},{"$f":"SIN(2*PI()*B947*README!B$5)","v":-0.78183148246801859}]
[946,{"$f":"A948/README!B$4","v":2.1451247165532879E-2},{"$f":"SIN(2*PI()*B948*README!B$5)","v":-0.57503439332412942}]
[947,{"$f":"A949/README!B$4","v":2.1473922902494332E-2},{"$f":"SIN(2*PI()*B949*README!B$5)","v":-0.32186104181006631}]
[948,{"$f":"A950/README!B$4","v":2.1496598639455782E-2},{"$f":"SIN(2*PI()*B950*README!B$5)","v":-4.2729743614954352E-2}]
[949,{"$f":"A951/README!B$4","v":2.1519274376417232E-2},{"$f":"SIN(2*PI()*B951*README!B$5)","v":0.23984768897478298}]
[950,{"$f":"A952/README!B$4","v":2.1541950113378686E-2},{"$f":"SIN(2*PI()*B952*README!B$5)","v":0.50308151450048855}]
[951,{"$f":"A953/README!B$4","v":2.1564625850340136E-2},{"$f":"SIN(2*PI()*B953*README!B$5)","v":0.72574204461829617}]
[952,{"$f":"A954/README!B$4","v":2.1587301587301589E-2},{"$f":"SIN(2*PI()*B954*README!B$5)","v":0.88987180881148686}]
[953,{"$f":"A955/README!B$4","v":2.1609977324263039E-2},{"$f":"SIN(2*PI()*B955*README!B$5)","v":0.98223381622291017}]
[954,{"$f":"A956/README!B$4","v":2.1632653061224489E-2},{"$f":"SIN(2*PI()*B956*README!B$5)","v":0.99537911294920156}]
[955,{"$f":"A957/README!B$4","v":2.1655328798185942E-2},{"$f":"SIN(2*PI()*B957*README!B$5)","v":0.92824753678614991}]
[956,{"$f":"A958/README!B$4","v":2.1678004535147392E-2},{"$f":"SIN(2*PI()*B958*README!B$5)","v":0.78625321882855015}]
[957,{"$f":"A959/README!B$4","v":2.1700680272108842E-2},{"$f":"SIN(2*PI()*B959*README!B$5)","v":0.58084793625888398}]
[958,{"$f":"A960/README!B$4","v":2.1723356009070296E-2},{"$f":"SIN(2*PI()*B960*README!B$5)","v":0.32859753172467582}]
[959,{"$f":"A961/README!B$4","v":2.1746031746031746E-2},{"$f":"SIN(2*PI()*B961*README!B$5)","v":4.9845885660692035E-2}]
[960,{"$f":"A962/README!B$4","v":2.1768707482993196E-2},{"$f":"SIN(2*PI()*B962*README!B$5)","v":-0.23292580841834715}]
[961,{"$f":"A963/README!B$4","v":2.1791383219954649E-2},{"$f":"SIN(2*PI()*B963*README!B$5)","v":-0.49691214195310962}]
[962,{"$f":"A964/README!B$4","v":2.1814058956916099E-2},{"$f":"SIN(2*PI()*B964*README!B$5)","v":-0.72082273717088563}]
[963,{"$f":"A965/README!B$4","v":2.1836734693877553E-2},{"$f":"SIN(2*PI()*B965*README!B$5)","v":-0.88659930637301199}]
[964,{"$f":"A966/README!B$4","v":2.1859410430839003E-2},{"$f":"SIN(2*PI()*B966*README!B$5)","v":-0.98087204462712174}]
[965,{"$f":"A967/README!B$4","v":2.1882086167800453E-2},{"$f":"SIN(2*PI()*B967*README!B$5)","v":-0.99603789845614177}]
[966,{"$f":"A968/README!B$4","v":2.1904761904761906E-2},{"$f":"SIN(2*PI()*B968*README!B$5)","v":-0.93087374864421513}]
[967,{"$f":"A969/README!B$4","v":2.1927437641723356E-2},{"$f":"SIN(2*PI()*B969*README!B$5)","v":-0.79063505424541447}]
[968,{"$f":"A970/README!B$4","v":2.1950113378684806E-2},{"$f":"SIN(2*PI()*B970*README!B$5)","v":-0.58663200220053824}]
[969,{"$f":"A971/README!B$4","v":2.1972789115646259E-2},{"$f":"SIN(2*PI()*B971*README!B$5)","v":-0.33531734590273748}]
[970,{"$f":"A972/README!B$4","v":2.1995464852607709E-2},{"$f":"SIN(2*PI()*B972*README!B$5)","v":-5.6959498117004841E-2}]
[971,{"$f":"A973/README!B$4","v":2.2018140589569159E-2},{"$f":"SIN(2*PI()*B973*README!B$5)","v":0.22599210729403144}]
[972,{"$f":"A974/README!B$4","v":2.2040816326530613E-2},{"$f":"SIN(2*PI()*B974*README!B$5)","v":0.49071755200391431}]
[973,{"$f":"A975/README!B$4","v":2.2063492063492063E-2},{"$f":"SIN(2*PI()*B975*README!B$5)","v":0.71586684925967337}]
[974,{"$f":"A976/README!B$4","v":2.2086167800453516E-2},{"$f":"SIN(2*PI()*B976*README!B$5)","v":0.88328181060659983}]
[975,{"$f":"A977/README!B$4","v":2.2108843537414966E-2},{"$f":"SIN(2*PI()*B977*README!B$5)","v":0.97946049553067305}]
[976,{"$f":"A978/README!B$4","v":2.2131519274376416E-2},{"$f":"SIN(2*PI()*B978*README!B$5)","v":0.99664613682246805}]
[977,{"$f":"A979/README!B$4","v":2.215419501133787E-2},{"$f":"SIN(2*PI()*B979*README!B$5)","v":0.93345272032562088}]
[978,{"$f":"A980/README!B$4","v":2.217687074829932E-2},{"$f":"SIN(2*PI()*B980*README!B$5)","v":0.79497676634841252}]
[979,{"$f":"A981/README!B$4","v":2.219954648526077E-2},{"$f":"SIN(2*PI()*B981*README!B$5)","v":0.59238629761805173}]
[980,{"$f":"A982/README!B$4","v":2.2222222222222223E-2},{"$f":"SIN(2*PI()*B982*README!B$5)","v":0.34202014332565522}]
[981,{"$f":"A983/README!B$4","v":2.2244897959183673E-2},{"$f":"SIN(2*PI()*B983*README!B$5)","v":6.4070219980735962E-2}]
[982,{"$f":"A984/README!B$4","v":2.2267573696145123E-2},{"$f":"SIN(2*PI()*B984*README!B$5)","v":-0.21904693747475773}]
[983,{"$f":"A985/README!B$4","v":2.2290249433106576E-2},{"$f":"SIN(2*PI()*B985*README!B$5)","v":-0.48449805901725523}]
[984,{"$f":"A986/README!B$4","v":2.2312925170068026E-2},{"$f":"SIN(2*PI()*B986*README!B$5)","v":-0.71087463238721971}]
[985,{"$f":"A987/README!B$4","v":2.233560090702948E-2},{"$f":"SIN(2*PI()*B987*README!B$5)","v":-0.87991948986924962}]
[986,{"$f":"A988/README!B$4","v":2.235827664399093E-2},{"$f":"SIN(2*PI()*B988*README!B$5)","v":-0.97799924056713172}]
[987,{"$f":"A989/README!B$4","v":2.238095238095238E-2},{"$f":"SIN(2*PI()*B989*README!B$5)","v":-0.99720379718118168}]
[988,{"$f":"A990/README!B$4","v":2.2403628117913833E-2},{"$f":"SIN(2*PI()*B990*README!B$5)","v":-0.93598432095221151}]
[989,{"$f":"A991/README!B$4","v":2.2426303854875283E-2},{"$f":"SIN(2*PI()*B991*README!B$5)","v":-0.79927813480339072}]
[990,{"$f":"A992/README!B$4","v":2.2448979591836733E-2},{"$f":"SIN(2*PI()*B992*README!B$5)","v":-0.59811053049127683}]
[991,{"$f":"A993/README!B$4","v":2.2471655328798187E-2},{"$f":"SIN(2*PI()*B993*README!B$5)","v":-0.34870558383845673}]
[992,{"$f":"A994/README!B$4","v":2.2494331065759637E-2},{"$f":"SIN(2*PI()*B994*README!B$5)","v":-7.1177690395421087E-2}]
[993,{"$f":"A995/README!B$4","v":2.251700680272109E-2},{"$f":"SIN(2*PI()*B995*README!B$5)","v":0.21209065141557484}]
[994,{"$f":"A996/README!B$4","v":2.253968253968254E-2},{"$f":"SIN(2*PI()*B996*README!B$5)","v":0.47825397862131963}]
[995,{"$f":"A997/README!B$4","v":2.256235827664399E-2},{"$f":"SIN(2*PI()*B997*README!B$5)","v":0.70584633989947665}]
[996,{"$f":"A998/README!B$4","v":2.2585034013605444E-2},{"$f":"SIN(2*PI()*B998*README!B$5)","v":0.87651251479263981}]
[997,{"$f":"A999/README!B$4","v":2.2607709750566893E-2},{"$f":"SIN(2*PI()*B999*README!B$5)","v":0.97648835389258293}]
[998,{"$f":"A1000/README!B$4","v":2.2630385487528343E-2},{"$f":"SIN(2*PI()*B1000*README!B$5)","v":0.99771085123201253}]
[999,{"$f":"A1001/README!B$4","v":2.2653061224489797E-2},{"$f":"SIN(2*PI()*B1001*README!B$5)","v":0.93846842204976566}]
[1000,{"$f":"A1002/README!B$4","v":2.2675736961451247E-2},{"$f":"SIN(2*PI()*B1002*README!B$5)","v":0.80353894132359871}]
[1001,{"$f":"A1003/README!B$4","v":2.2698412698412697E-2},{"$f":"SIN(2*PI()*B1003*README!B$5)","v":0.6038044103255038}]
[1002,{"$f":"A1004/README!B$4","v":2.272108843537415E-2},{"$f":"SIN(2*PI()*B1004*README!B$5)","v":0.35537332816694861}]
[1003,{"$f":"A1005/README!B$4","v":2.27437641723356E-2},{"$f":"SIN(2*PI()*B1005*README!B$5)","v":7.8281548669771259E-2}]
[1004,{"$f":"A1006/README!B$4","v":2.2766439909297054E-2},{"$f":"SIN(2*PI()*B1006*README!B$5)","v":-0.20512360213532763}]
[1005,{"$f":"A1007/README!B$4","v":2.2789115646258504E-2},{"$f":"SIN(2*PI()*B1007*README!B$5)","v":-0.47198562769191199}]
[1006,{"$f":"A1008/README!B$4","v":2.2811791383219954E-2},{"$f":"SIN(2*PI()*B1008*README!B$5)","v":-0.70078222697332782}]
[1007,{"$f":"A1009/README!B$4","v":2.2834467120181407E-2},{"$f":"SIN(2*PI()*B1009*README!B$5)","v":-0.87306105827473868}]
[1008,{"$f":"A1010/README!B$4","v":2.2857142857142857E-2},{"$f":"SIN(2*PI()*B1010*README!B$5)","v":-0.97492791218182107}]
[1009,{"$f":"A1011/README!B$4","v":2.2879818594104307E-2},{"$f":"SIN(2*PI()*B1011*README!B$5)","v":-0.99816727324287158}]
[1010,{"$f":"A1012/README!B$4","v":2.2902494331065761E-2},{"$f":"SIN(2*PI()*B1012*README!B$5)","v":-0.94090489755457929}]
[1011,{"$f":"A1013/README!B$4","v":2.2925170068027211E-2},{"$f":"SIN(2*PI()*B1013*README!B$5)","v":-0.80775896968069816}]
[1012,{"$f":"A1014/README!B$4","v":2.2947845804988661E-2},{"$f":"SIN(2*PI()*B1014*README!B$5)","v":-0.60946764816665899}]
[1013,{"$f":"A1015/README!B$4","v":2.2970521541950114E-2},{"$f":"SIN(2*PI()*B1015*README!B$5)","v":-0.36202303793519974}]
[1014,{"$f":"A1016/README!B$4","v":2.2993197278911564E-2},{"$f":"SIN(2*PI()*B1016*README!B$5)","v":-8.5381434295637007E-2}]
[1015,{"$f":"A1017/README!B$4","v":2.3015873015873017E-2},{"$f":"SIN(2*PI()*B1017*README!B$5)","v":0.19814614319940821}]
[1016,{"$f":"A1018/README!B$4","v":2.3038548752834467E-2},{"$f":"SIN(2*PI()*B1018*README!B$5)","v":0.46569332433667249}]
[1017,{"$f":"A1019/README!B$4","v":2.3061224489795917E-2},{"$f":"SIN(2*PI()*B1019*README!B$5)","v":0.69568255060348116}]
[1018,{"$f":"A1020/README!B$4","v":2.3083900226757371E-2},{"$f":"SIN(2*PI()*B1020*README!B$5)","v":0.86956529547076}]
[1019,{"$f":"A1021/README!B$4","v":2.3106575963718821E-2},{"$f":"SIN(2*PI()*B1021*README!B$5)","v":0.97331799462448321}]
[1020,{"$f":"A1022/README!B$4","v":2.3129251700680271E-2},{"$f":"SIN(2*PI()*B1022*README!B$5)","v":0.99857304005116587}]
[1021,{"$f":"A1023/README!B$4","v":2.3151927437641724E-2},{"$f":"SIN(2*PI()*B1023*README!B$5)","v":0.94329362381992043}]
[1022,{"$f":"A1024/README!B$4","v":2.3174603174603174E-2},{"$f":"SIN(2*PI()*B1024*README!B$5)","v":0.81193800571587049}]
[1023,{"$f":"A1025/README!B$4","v":2.3197278911564624E-2},{"$f":"SIN(2*PI()*B1025*README!B$5)","v":0.61509995661551242}]
[1024,{"$f":"A1026/README!B$4","v":2.3219954648526078E-2},{"$f":"SIN(2*PI()*B1026*README!B$5)","v":0.36865437568218179}]
[1025,{"$f":"A1027/README!B$4","v":2.3242630385487528E-2},{"$f":"SIN(2*PI()*B1027*README!B$5)","v":9.2476986966530408E-2}]
[1026,{"$f":"A1028/README!B$4","v":2.3265306122448981E-2},{"$f":"SIN(2*PI()*B1028*README!B$5)","v":-0.19115862870136907}]
[1027,{"$f":"A1029/README!B$4","v":2.3287981859410431E-2},{"$f":"SIN(2*PI()*B1029*README!B$5)","v":-0.45937738787878474}]
[1028,{"$f":"A1030/README!B$4","v":2.3310657596371881E-2},{"$f":"SIN(2*PI()*B1030*README!B$5)","v":-0.69054756958930363}]
[1029,{"$f":"A1031/README!B$4","v":2.3333333333333334E-2},{"$f":"SIN(2*PI()*B1031*README!B$5)","v":-0.86602540378443771}]
[1030,{"$f":"A1032/README!B$4","v":2.3356009070294784E-2},{"$f":"SIN(2*PI()*B1032*README!B$5)","v":-0.97165868292096469}]
[1031,{"$f":"A1033/README!B$4","v":2.3378684807256234E-2},{"$f":"SIN(2*PI()*B1033*README!B$5)","v":-0.9989281310649526}]
[1032,{"$f":"A1034/README!B$4","v":2.3401360544217688E-2},{"$f":"SIN(2*PI()*B1034*README!B$5)","v":-0.94563447962218694}]
[1033,{"$f":"A1035/README!B$4","v":2.3424036281179138E-2},{"$f":"SIN(2*PI()*B1035*README!B$5)","v":-0.81607583735048284}]
[1034,{"$f":"A1036/README!B$4","v":2.3446712018140591E-2},{"$f":"SIN(2*PI()*B1036*README!B$5)","v":-0.62070104984244667}]
[1035,{"$f":"A1037/README!B$4","v":2.3469387755102041E-2},{"$f":"SIN(2*PI()*B1037*README!B$5)","v":-0.37526700487937348}]
[1036,{"$f":"A1038/README!B$4","v":2.3492063492063491E-2},{"$f":"SIN(2*PI()*B1038*README!B$5)","v":-9.9567846595796691E-2}]
[1037,{"$f":"A1039/README!B$4","v":2.3514739229024945E-2},{"$f":"SIN(2*PI()*B1039*README!B$5)","v":0.18416141324512048}]
[1038,{"$f":"A1040/README!B$4","v":2.3537414965986395E-2},{"$f":"SIN(2*PI()*B1040*README!B$5)","v":0.45303813884061872}]
[1039,{"$f":"A1041/README!B$4","v":2.3560090702947845E-2},{"$f":"SIN(2*PI()*B1041*README!B$5)","v":0.68537754452193134}]
[1040,{"$f":"A1042/README!B$4","v":2.3582766439909298E-2},{"$f":"SIN(2*PI()*B1042*README!B$5)","v":0.86244156285888252}]
[1041,{"$f":"A1043/README!B$4","v":2.3605442176870748E-2},{"$f":"SIN(2*PI()*B1043*README!B$5)","v":0.96995006127840377}]
[1042,{"$f":"A1044/README!B$4","v":2.3628117913832198E-2},{"$f":"SIN(2*PI()*B1044*README!B$5)","v":0.99923252826399811}]
[1043,{"$f":"A1045/README!B$4","v":2.3650793650793651E-2},{"$f":"SIN(2*PI()*B1045*README!B$5)","v":0.94792734616713648}]
[1044,{"$f":"A1046/README!B$4","v":2.3673469387755101E-2},{"$f":"SIN(2*PI()*B1046*README!B$5)","v":0.8201722545969532}]
[1045,{"$f":"A1047/README!B$4","v":2.3696145124716555E-2},{"$f":"SIN(2*PI()*B1047*README!B$5)","v":0.62627064360205065}]
[1046,{"$f":"A1048/README!B$4","v":2.3718820861678005E-2},{"$f":"SIN(2*PI()*B1048*README!B$5)","v":0.38186058994778416}]
[1047,{"$f":"A1049/README!B$4","v":2.3741496598639455E-2},{"$f":"SIN(2*PI()*B1049*README!B$5)","v":0.10665365333517075}]
[1048,{"$f":"A1050/README!B$4","v":2.3764172335600908E-2},{"$f":"SIN(2*PI()*B1050*README!B$5)","v":-0.17715485192671129}]
[1049,{"$f":"A1051/README!B$4","v":2.3786848072562358E-2},{"$f":"SIN(2*PI()*B1051*README!B$5)","v":-0.44667589892776732}]
[1050,{"$f":"A1052/README!B$4","v":2.3809523809523808E-2},{"$f":"SIN(2*PI()*B1052*README!B$5)","v":-0.68017273777088305}]
[1051,{"$f":"A1053/README!B$4","v":2.3832199546485262E-2},{"$f":"SIN(2*PI()*B1053*README!B$5)","v":-0.85881395456763499}]
[1052,{"$f":"A1054/README!B$4","v":2.3854875283446712E-2},{"$f":"SIN(2*PI()*B1054*README!B$5)","v":-0.96819221640629183}]
[1053,{"$f":"A1055/README!B$4","v":2.3877551020408162E-2},{"$f":"SIN(2*PI()*B1055*README!B$5)","v":-0.99948621620068756}]
[1054,{"$f":"A1056/README!B$4","v":2.3900226757369615E-2},{"$f":"SIN(2*PI()*B1056*README!B$5)","v":-0.95017210709587796}]
[1055,{"$f":"A1057/README!B$4","v":2.3922902494331065E-2},{"$f":"SIN(2*PI()*B1057*README!B$5)","v":-0.82422704956950366}]
[1056,{"$f":"A1058/README!B$4","v":2.3945578231292518E-2},{"$f":"SIN(2*PI()*B1058*README!B$5)","v":-0.63180845524745366}]
[1057,{"$f":"A1059/README!B$4","v":2.3968253968253968E-2},{"$f":"SIN(2*PI()*B1059*README!B$5)","v":-0.38843479627472011}]
[1058,{"$f":"A1060/README!B$4","v":2.3990929705215418E-2},{"$f":"SIN(2*PI()*B1060*README!B$5)","v":-0.11373404759247328}]
[1059,{"$f":"A1061/README!B$4","v":2.4013605442176872E-2},{"$f":"SIN(2*PI()*B1061*README!B$5)","v":0.1701393003166437}]
[1060,{"$f":"A1062/README!B$4","v":2.4036281179138322E-2},{"$f":"SIN(2*PI()*B1062*README!B$5)","v":0.44029099101251873}]
[1061,{"$f":"A1063/README!B$4","v":2.4058956916099772E-2},{"$f":"SIN(2*PI()*B1063*README!B$5)","v":0.67493341347082769}]
[1062,{"$f":"A1064/README!B$4","v":2.4081632653061225E-2},{"$f":"SIN(2*PI()*B1064*README!B$5)","v":0.85514276300535264}]
[1063,{"$f":"A1065/README!B$4","v":2.4104308390022675E-2},{"$f":"SIN(2*PI()*B1065*README!B$5)","v":0.96638523751208172}]
[1064,{"$f":"A1066/README!B$4","v":2.4126984126984129E-2},{"$f":"SIN(2*PI()*B1066*README!B$5)","v":0.99968918200081647}]
[1065,{"$f":"A1067/README!B$4","v":2.4149659863945579E-2},{"$f":"SIN(2*PI()*B1067*README!B$5)","v":0.95236864849084801}]
[1066,{"$f":"A1068/README!B$4","v":2.4172335600907029E-2},{"$f":"SIN(2*PI()*B1068*README!B$5)","v":0.82824001649451373}]
[1067,{"$f":"A1069/README!B$4","v":2.4195011337868482E-2},{"$f":"SIN(2*PI()*B1069*README!B$5)","v":0.63731420374458181}]
[1068,{"$f":"A1070/README!B$4","v":2.4217687074829932E-2},{"$f":"SIN(2*PI()*B1070*README!B$5)","v":0.3949892902309769}]
[1069,{"$f":"A1071/README!B$4","v":2.4240362811791382E-2},{"$f":"SIN(2*PI()*B1071*README!B$5)","v":0.12080867005036855}]
[1070,{"$f":"A1072/README!B$4","v":2.4263038548752835E-2},{"$f":"SIN(2*PI()*B1072*README!B$5)","v":-0.16311511444166135}]
[1071,{"$f":"A1073/README!B$4","v":2.4285714285714285E-2},{"$f":"SIN(2*PI()*B1073*README!B$5)","v":-0.433883739117573}]
[1072,{"$f":"A1074/README!B$4","v":2.4308390022675735E-2},{"$f":"SIN(2*PI()*B1074*README!B$5)","v":-0.66965983750801228}]
[1073,{"$f":"A1075/README!B$4","v":2.4331065759637189E-2},{"$f":"SIN(2*PI()*B1075*README!B$5)","v":-0.85142817447837793}]
[1074,{"$f":"A1076/README!B$4","v":2.4353741496598639E-2},{"$f":"SIN(2*PI()*B1076*README!B$5)","v":-0.96452921629673216}]
[1075,{"$f":"A1077/README!B$4","v":2.4376417233560092E-2},{"$f":"SIN(2*PI()*B1077*README!B$5)","v":-0.99984141536423121}]
[1076,{"$f":"A1078/README!B$4","v":2.4399092970521542E-2},{"$f":"SIN(2*PI()*B1078*README!B$5)","v":-0.95451685888148396}]
[1077,{"$f":"A1079/README!B$4","v":2.4421768707482992E-2},{"$f":"SIN(2*PI()*B1079*README!B$5)","v":-0.83221095172109472}]
[1078,{"$f":"A1080/README!B$4","v":2.4444444444444446E-2},{"$f":"SIN(2*PI()*B1080*README!B$5)","v":-0.64278760968655335}]
[1079,{"$f":"A1081/README!B$4","v":2.4467120181405896E-2},{"$f":"SIN(2*PI()*B1081*README!B$5)","v":-0.4015237391876656}]
[1080,{"$f":"A1082/README!B$4","v":2.4489795918367346E-2},{"$f":"SIN(2*PI()*B1082*README!B$5)","v":-0.12787716168454208}]
[1081,{"$f":"A1083/README!B$4","v":2.4512471655328799E-2},{"$f":"SIN(2*PI()*B1083*README!B$5)","v":0.15608265076645708}]
[1082,{"$f":"A1084/README!B$4","v":2.4535147392290249E-2},{"$f":"SIN(2*PI()*B1084*README!B$5)","v":0.42745446839939366}]
[1083,{"$f":"A1085/README!B$4","v":2.4557823129251699E-2},{"$f":"SIN(2*PI()*B1085*README!B$5)","v":0.66435227750701986}]
[1084,{"$f":"A1086/README!B$4","v":2.4580498866213153E-2},{"$f":"SIN(2*PI()*B1086*README!B$5)","v":0.84767037749545915}]
[1085,{"$f":"A1087/README!B$4","v":2.4603174603174603E-2},{"$f":"SIN(2*PI()*B1087*README!B$5)","v":0.96262424694999771}]
[1086,{"$f":"A1088/README!B$4","v":2.4625850340136056E-2},{"$f":"SIN(2*PI()*B1088*README!B$5)","v":0.99994290856536139}]
[1087,{"$f":"A1089/README!B$4","v":2.4648526077097506E-2},{"$f":"SIN(2*PI()*B1089*README!B$5)","v":0.95661662924993696}]
[1088,{"$f":"A1090/README!B$4","v":2.4671201814058956E-2},{"$f":"SIN(2*PI()*B1090*README!B$5)","v":0.83613965373135979}]
[1089,{"$f":"A1091/README!B$4","v":2.4693877551020409E-2},{"$f":"SIN(2*PI()*B1091*README!B$5)","v":0.64822839530776977}]
[1090,{"$f":"A1092/README!B$4","v":2.4716553287981859E-2},{"$f":"SIN(2*PI()*B1092*README!B$5)","v":0.4080378115333016}]
[1091,{"$f":"A1093/README!B$4","v":2.4739229024943309E-2},{"$f":"SIN(2*PI()*B1093*README!B$5)","v":0.13493916378163834}]
[1092,{"$f":"A1094/README!B$4","v":2.4761904761904763E-2},{"$f":"SIN(2*PI()*B1094*README!B$5)","v":-0.14904226617614372}]
[1093,{"$f":"A1095/README!B$4","v":2.4784580498866213E-2},{"$f":"SIN(2*PI()*B1095*README!B$5)","v":-0.4210035051320134}]
[1094,{"$f":"A1096/README!B$4","v":2.4807256235827663E-2},{"$f":"SIN(2*PI()*B1096*README!B$5)","v":-0.6590110028170636}]
[1095,{"$f":"A1097/README!B$4","v":2.4829931972789116E-2},{"$f":"SIN(2*PI()*B1097*README!B$5)","v":-0.84386956275806735}]
[1096,{"$f":"A1098/README!B$4","v":2.4852607709750566E-2},{"$f":"SIN(2*PI()*B1098*README!B$5)","v":-0.96067042614567899}]
[1097,{"$f":"A1099/README!B$4","v":2.487528344671202E-2},{"$f":"SIN(2*PI()*B1099*README!B$5)","v":-0.99999365645360827}]
[1098,{"$f":"A1100/README!B$4","v":2.489795918367347E-2},{"$f":"SIN(2*PI()*B1100*README!B$5)","v":-0.95866785303666868}]
[1099,{"$f":"A1101/README!B$4","v":2.492063492063492E-2},{"$f":"SIN(2*PI()*B1101*README!B$5)","v":-0.8400259231507764}]
[1100,{"$f":"A1102/README!B$4","v":2.4943310657596373E-2},{"$f":"SIN(2*PI()*B1102*README!B$5)","v":-0.65363628449818578}]
[1101,{"$f":"A1103/README!B$4","v":2.4965986394557823E-2},{"$f":"SIN(2*PI()*B1103*README!B$5)","v":-0.41453117669032008}]
[1102,{"$f":"A1104/README!B$4","v":2.4988662131519273E-2},{"$f":"SIN(2*PI()*B1104*README!B$5)","v":-0.14199431795769071}]
[1103,{"$f":"A1105/README!B$4","v":2.5011337868480726E-2},{"$f":"SIN(2*PI()*B1105*README!B$5)","v":0.14199431795758205}]
[1104,{"$f":"A1106/README!B$4","v":2.5034013605442176E-2},{"$f":"SIN(2*PI()*B1106*README!B$5)","v":0.41453117669032363}]
[1105,{"$f":"A1107/README!B$4","v":2.505668934240363E-2},{"$f":"SIN(2*PI()*B1107*README!B$5)","v":0.65363628449823175}]
[1106,{"$f":"A1108/README!B$4","v":2.507936507936508E-2},{"$f":"SIN(2*PI()*B1108*README!B$5)","v":0.84002592315077851}]
[1107,{"$f":"A1109/README!B$4","v":2.510204081632653E-2},{"$f":"SIN(2*PI()*B1109*README!B$5)","v":0.95866785303665369}]
[1108,{"$f":"A1110/README!B$4","v":2.5124716553287983E-2},{"$f":"SIN(2*PI()*B1110*README!B$5)","v":0.99999365645360827}]
[1109,{"$f":"A1111/README!B$4","v":2.5147392290249433E-2},{"$f":"SIN(2*PI()*B1111*README!B$5)","v":0.96067042614569365}]
[1110,{"$f":"A1112/README!B$4","v":2.5170068027210883E-2},{"$f":"SIN(2*PI()*B1112*README!B$5)","v":0.84386956275809566}]
[1111,{"$f":"A1113/README!B$4","v":2.5192743764172337E-2},{"$f":"SIN(2*PI()*B1113*README!B$5)","v":0.6590110028170606}]
[1112,{"$f":"A1114/README!B$4","v":2.5215419501133787E-2},{"$f":"SIN(2*PI()*B1114*README!B$5)","v":0.42100350513200985}]
[1113,{"$f":"A1115/README!B$4","v":2.5238095238095237E-2},{"$f":"SIN(2*PI()*B1115*README!B$5)","v":0.14904226617619604}]
[1114,{"$f":"A1116/README!B$4","v":2.526077097505669E-2},{"$f":"SIN(2*PI()*B1116*README!B$5)","v":-0.13493916378158591}]
[1115,{"$f":"A1117/README!B$4","v":2.528344671201814E-2},{"$f":"SIN(2*PI()*B1117*README!B$5)","v":-0.40803781153325325}]
[1116,{"$f":"A1118/README!B$4","v":2.5306122448979593E-2},{"$f":"SIN(2*PI()*B1118*README!B$5)","v":-0.64822839530781606}]
[1117,{"$f":"A1119/README!B$4","v":2.5328798185941043E-2},{"$f":"SIN(2*PI()*B1119*README!B$5)","v":-0.8361396537313619}]
[1118,{"$f":"A1120/README!B$4","v":2.5351473922902493E-2},{"$f":"SIN(2*PI()*B1120*README!B$5)","v":-0.95661662924993807}]
[1119,{"$f":"A1121/README!B$4","v":2.5374149659863947E-2},{"$f":"SIN(2*PI()*B1121*README!B$5)","v":-0.99994290856536083}]
[1120,{"$f":"A1122/README!B$4","v":2.5396825396825397E-2},{"$f":"SIN(2*PI()*B1122*README!B$5)","v":-0.96262424695002746}]
[1121,{"$f":"A1123/README!B$4","v":2.5419501133786847E-2},{"$f":"SIN(2*PI()*B1123*README!B$5)","v":-0.84767037749545704}]
[1122,{"$f":"A1124/README!B$4","v":2.54421768707483E-2},{"$f":"SIN(2*PI()*B1124*README!B$5)","v":-0.66435227750701686}]
[1123,{"$f":"A1125/README!B$4","v":2.546485260770975E-2},{"$f":"SIN(2*PI()*B1125*README!B$5)","v":-0.42745446839939011}]
[1124,{"$f":"A1126/README!B$4","v":2.54875283446712E-2},{"$f":"SIN(2*PI()*B1126*README!B$5)","v":-0.15608265076650935}]
[1125,{"$f":"A1127/README!B$4","v":2.5510204081632654E-2},{"$f":"SIN(2*PI()*B1127*README!B$5)","v":0.12787716168448959}]
[1126,{"$f":"A1128/README!B$4","v":2.5532879818594104E-2},{"$f":"SIN(2*PI()*B1128*README!B$5)","v":0.40152373918761713}]
[1127,{"$f":"A1129/README!B$4","v":2.5555555555555557E-2},{"$f":"SIN(2*PI()*B1129*README!B$5)","v":0.64278760968655635}]
[1128,{"$f":"A1130/README!B$4","v":2.5578231292517007E-2},{"$f":"SIN(2*PI()*B1130*README!B$5)","v":0.8322109517210653}]
[1129,{"$f":"A1131/README!B$4","v":2.5600907029478457E-2},{"$f":"SIN(2*PI()*B1131*README!B$5)","v":0.95451685888148508}]
[1130,{"$f":"A1132/README!B$4","v":2.562358276643991E-2},{"$f":"SIN(2*PI()*B1132*README!B$5)","v":0.99984141536423132}]
[1131,{"$f":"A1133/README!B$4","v":2.564625850340136E-2},{"$f":"SIN(2*PI()*B1133*README!B$5)","v":0.96452921629674615}]
[1132,{"$f":"A1134/README!B$4","v":2.566893424036281E-2},{"$f":"SIN(2*PI()*B1134*README!B$5)","v":0.85142817447840569}]
[1133,{"$f":"A1135/README!B$4","v":2.5691609977324264E-2},{"$f":"SIN(2*PI()*B1135*README!B$5)","v":0.66965983750800939}]
[1134,{"$f":"A1136/README!B$4","v":2.5714285714285714E-2},{"$f":"SIN(2*PI()*B1136*README!B$5)","v":0.4338837391175695}]
[1135,{"$f":"A1137/README!B$4","v":2.5736961451247164E-2},{"$f":"SIN(2*PI()*B1137*README!B$5)","v":0.16311511444165749}]
[1136,{"$f":"A1138/README!B$4","v":2.5759637188208617E-2},{"$f":"SIN(2*PI()*B1138*README!B$5)","v":-0.12080867005031601}]
[1137,{"$f":"A1139/README!B$4","v":2.5782312925170067E-2},{"$f":"SIN(2*PI()*B1139*README!B$5)","v":-0.39498929023087603}]
[1138,{"$f":"A1140/README!B$4","v":2.5804988662131521E-2},{"$f":"SIN(2*PI()*B1140*README!B$5)","v":-0.63731420374458481}]
[1139,{"$f":"A1141/README!B$4","v":2.5827664399092971E-2},{"$f":"SIN(2*PI()*B1141*README!B$5)","v":-0.82824001649451595}]
[1140,{"$f":"A1142/README!B$4","v":2.5850340136054421E-2},{"$f":"SIN(2*PI()*B1142*README!B$5)","v":-0.95236864849084923}]
[1141,{"$f":"A1143/README!B$4","v":2.5873015873015874E-2},{"$f":"SIN(2*PI()*B1143*README!B$5)","v":-0.99968918200081647}]
[1142,{"$f":"A1144/README!B$4","v":2.5895691609977324E-2},{"$f":"SIN(2*PI()*B1144*README!B$5)","v":-0.96638523751209537}]
[1143,{"$f":"A1145/README!B$4","v":2.5918367346938774E-2},{"$f":"SIN(2*PI()*B1145*README!B$5)","v":-0.85514276300538006}]
[1144,{"$f":"A1146/README!B$4","v":2.5941043083900227E-2},{"$f":"SIN(2*PI()*B1146*README!B$5)","v":-0.67493341347082481}]
[1145,{"$f":"A1147/README!B$4","v":2.5963718820861677E-2},{"$f":"SIN(2*PI()*B1147*README!B$5)","v":-0.44029099101256625}]
[1146,{"$f":"A1148/README!B$4","v":2.5986394557823131E-2},{"$f":"SIN(2*PI()*B1148*README!B$5)","v":-0.17013930031663985}]
[1147,{"$f":"A1149/README!B$4","v":2.6009070294784581E-2},{"$f":"SIN(2*PI()*B1149*README!B$5)","v":0.1137340475924207}]
[1148,{"$f":"A1150/README!B$4","v":2.6031746031746031E-2},{"$f":"SIN(2*PI()*B1150*README!B$5)","v":0.38843479627467131}]
[1149,{"$f":"A1151/README!B$4","v":2.6054421768707484E-2},{"$f":"SIN(2*PI()*B1151*README!B$5)","v":0.63180845524745666}]
[1150,{"$f":"A1152/README!B$4","v":2.6077097505668934E-2},{"$f":"SIN(2*PI()*B1152*README!B$5)","v":0.82422704956950588}]
[1151,{"$f":"A1153/README!B$4","v":2.6099773242630384E-2},{"$f":"SIN(2*PI()*B1153*README!B$5)","v":0.95017210709587918}]
[1152,{"$f":"A1154/README!B$4","v":2.6122448979591838E-2},{"$f":"SIN(2*PI()*B1154*README!B$5)","v":0.99948621620068767}]
[1153,{"$f":"A1155/README!B$4","v":2.6145124716553288E-2},{"$f":"SIN(2*PI()*B1155*README!B$5)","v":0.96819221640630504}]
[1154,{"$f":"A1156/README!B$4","v":2.6167800453514738E-2},{"$f":"SIN(2*PI()*B1156*README!B$5)","v":0.85881395456769127}]
[1155,{"$f":"A1157/README!B$4","v":2.6190476190476191E-2},{"$f":"SIN(2*PI()*B1157*README!B$5)","v":0.68017273777092191}]
[1156,{"$f":"A1158/README!B$4","v":2.6213151927437641E-2},{"$f":"SIN(2*PI()*B1158*README!B$5)","v":0.44667589892776383}]
[1157,{"$f":"A1159/README!B$4","v":2.6235827664399095E-2},{"$f":"SIN(2*PI()*B1159*README!B$5)","v":0.17715485192665151}]
[1158,{"$f":"A1160/README!B$4","v":2.6258503401360545E-2},{"$f":"SIN(2*PI()*B1160*README!B$5)","v":-0.10665365333511813}]
[1159,{"$f":"A1161/README!B$4","v":2.6281179138321994E-2},{"$f":"SIN(2*PI()*B1161*README!B$5)","v":-0.38186058994773525}]
[1160,{"$f":"A1162/README!B$4","v":2.6303854875283448E-2},{"$f":"SIN(2*PI()*B1162*README!B$5)","v":-0.62627064360205376}]
[1161,{"$f":"A1163/README!B$4","v":2.6326530612244898E-2},{"$f":"SIN(2*PI()*B1163*README!B$5)","v":-0.82017225459695542}]
[1162,{"$f":"A1164/README!B$4","v":2.6349206349206348E-2},{"$f":"SIN(2*PI()*B1164*README!B$5)","v":-0.9479273461671196}]
[1163,{"$f":"A1165/README!B$4","v":2.6371882086167801E-2},{"$f":"SIN(2*PI()*B1165*README!B$5)","v":-0.999232528263996}]
[1164,{"$f":"A1166/README!B$4","v":2.6394557823129251E-2},{"$f":"SIN(2*PI()*B1166*README!B$5)","v":-0.96995006127841665}]
[1165,{"$f":"A1167/README!B$4","v":2.6417233560090701E-2},{"$f":"SIN(2*PI()*B1167*README!B$5)","v":-0.86244156285890927}]
[1166,{"$f":"A1168/README!B$4","v":2.6439909297052155E-2},{"$f":"SIN(2*PI()*B1168*README!B$5)","v":-0.68537754452196986}]
[1167,{"$f":"A1169/README!B$4","v":2.6462585034013605E-2},{"$f":"SIN(2*PI()*B1169*README!B$5)","v":-0.45303813884061522}]
[1168,{"$f":"A1170/README!B$4","v":2.6485260770975058E-2},{"$f":"SIN(2*PI()*B1170*README!B$5)","v":-0.18416141324506075}]
[1169,{"$f":"A1171/README!B$4","v":2.6507936507936508E-2},{"$f":"SIN(2*PI()*B1171*README!B$5)","v":9.9567846595800591E-2}]
[1170,{"$f":"A1172/README!B$4","v":2.6530612244897958E-2},{"$f":"SIN(2*PI()*B1172*README!B$5)","v":0.37526700487932446}]
[1171,{"$f":"A1173/README!B$4","v":2.6553287981859412E-2},{"$f":"SIN(2*PI()*B1173*README!B$5)","v":0.62070104984240526}]
[1172,{"$f":"A1174/README!B$4","v":2.6575963718820862E-2},{"$f":"SIN(2*PI()*B1174*README!B$5)","v":0.8160758373504523}]
[1173,{"$f":"A1175/README!B$4","v":2.6598639455782312E-2},{"$f":"SIN(2*PI()*B1175*README!B$5)","v":0.94563447962218816}]
[1174,{"$f":"A1176/README!B$4","v":2.6621315192743765E-2},{"$f":"SIN(2*PI()*B1176*README!B$5)","v":0.99892813106495271}]
[1175,{"$f":"A1177/README!B$4","v":2.6643990929705215E-2},{"$f":"SIN(2*PI()*B1177*README!B$5)","v":0.97165868292097723}]
[1176,{"$f":"A1178/README!B$4","v":2.6666666666666668E-2},{"$f":"SIN(2*PI()*B1178*README!B$5)","v":0.86602540378443571}]
[1177,{"$f":"A1179/README!B$4","v":2.6689342403628118E-2},{"$f":"SIN(2*PI()*B1179*README!B$5)","v":0.69054756958934183}]
[1178,{"$f":"A1180/README!B$4","v":2.6712018140589568E-2},{"$f":"SIN(2*PI()*B1180*README!B$5)","v":0.45937738787878124}]
[1179,{"$f":"A1181/README!B$4","v":2.6734693877551022E-2},{"$f":"SIN(2*PI()*B1181*README!B$5)","v":0.19115862870136524}]
[1180,{"$f":"A1182/README!B$4","v":2.6757369614512472E-2},{"$f":"SIN(2*PI()*B1182*README!B$5)","v":-9.2476986966477714E-2}]
[1181,{"$f":"A1183/README!B$4","v":2.6780045351473922E-2},{"$f":"SIN(2*PI()*B1183*README!B$5)","v":-0.36865437568213255}]
[1182,{"$f":"A1184/README!B$4","v":2.6802721088435375E-2},{"$f":"SIN(2*PI()*B1184*README!B$5)","v":-0.61509995661547068}]
[1183,{"$f":"A1185/README!B$4","v":2.6825396825396825E-2},{"$f":"SIN(2*PI()*B1185*README!B$5)","v":-0.81193800571583963}]
[1184,{"$f":"A1186/README!B$4","v":2.6848072562358275E-2},{"$f":"SIN(2*PI()*B1186*README!B$5)","v":-0.94329362381992177}]
[1185,{"$f":"A1187/README!B$4","v":2.6870748299319729E-2},{"$f":"SIN(2*PI()*B1187*README!B$5)","v":-0.99857304005116609}]
[1186,{"$f":"A1188/README!B$4","v":2.6893424036281179E-2},{"$f":"SIN(2*PI()*B1188*README!B$5)","v":-0.97331799462448232}]
[1187,{"$f":"A1189/README!B$4","v":2.6916099773242632E-2},{"$f":"SIN(2*PI()*B1189*README!B$5)","v":-0.86956529547078609}]
[1188,{"$f":"A1190/README!B$4","v":2.6938775510204082E-2},{"$f":"SIN(2*PI()*B1190*README!B$5)","v":-0.69568255060351925}]
[1189,{"$f":"A1191/README!B$4","v":2.6961451247165532E-2},{"$f":"SIN(2*PI()*B1191*README!B$5)","v":-0.46569332433671928}]
[1190,{"$f":"A1192/README!B$4","v":2.6984126984126985E-2},{"$f":"SIN(2*PI()*B1192*README!B$5)","v":-0.19814614319934865}]
[1191,{"$f":"A1193/README!B$4","v":2.7006802721088435E-2},{"$f":"SIN(2*PI()*B1193*README!B$5)","v":8.5381434295640907E-2}]
[1192,{"$f":"A1194/README!B$4","v":2.7029478458049885E-2},{"$f":"SIN(2*PI()*B1194*README!B$5)","v":0.36202303793515039}]
[1193,{"$f":"A1195/README!B$4","v":2.7052154195011339E-2},{"$f":"SIN(2*PI()*B1195*README!B$5)","v":0.60946764816661703}]
[1194,{"$f":"A1196/README!B$4","v":2.7074829931972789E-2},{"$f":"SIN(2*PI()*B1196*README!B$5)","v":0.80775896968066696}]
[1195,{"$f":"A1197/README!B$4","v":2.7097505668934239E-2},{"$f":"SIN(2*PI()*B1197*README!B$5)","v":0.94090489755458062}]
[1196,{"$f":"A1198/README!B$4","v":2.7120181405895692E-2},{"$f":"SIN(2*PI()*B1198*README!B$5)","v":0.9981672732428718}]
[1197,{"$f":"A1199/README!B$4","v":2.7142857142857142E-2},{"$f":"SIN(2*PI()*B1199*README!B$5)","v":0.97492791218183295}]
[1198,{"$f":"A1200/README!B$4","v":2.7165532879818596E-2},{"$f":"SIN(2*PI()*B1200*README!B$5)","v":0.87306105827476443}]
[1199,{"$f":"A1201/README!B$4","v":2.7188208616780046E-2},{"$f":"SIN(2*PI()*B1201*README!B$5)","v":0.70078222697336556}]
[1200,{"$f":"A1202/README!B$4","v":2.7210884353741496E-2},{"$f":"SIN(2*PI()*B1202*README!B$5)","v":0.47198562769195862}]
[1201,{"$f":"A1203/README!B$4","v":2.7233560090702949E-2},{"$f":"SIN(2*PI()*B1203*README!B$5)","v":0.20512360213526815}]
[1202,{"$f":"A1204/README!B$4","v":2.7256235827664399E-2},{"$f":"SIN(2*PI()*B1204*README!B$5)","v":-7.8281548669775158E-2}]
[1203,{"$f":"A1205/README!B$4","v":2.7278911564625849E-2},{"$f":"SIN(2*PI()*B1205*README!B$5)","v":-0.35537332816695227}]
[1204,{"$f":"A1206/README!B$4","v":2.7301587301587302E-2},{"$f":"SIN(2*PI()*B1206*README!B$5)","v":-0.60380441032546162}]
[1205,{"$f":"A1207/README!B$4","v":2.7324263038548752E-2},{"$f":"SIN(2*PI()*B1207*README!B$5)","v":-0.80353894132353332}]
[1206,{"$f":"A1208/README!B$4","v":2.7346938775510202E-2},{"$f":"SIN(2*PI()*B1208*README!B$5)","v":-0.93846842204974734}]
[1207,{"$f":"A1209/README!B$4","v":2.7369614512471656E-2},{"$f":"SIN(2*PI()*B1209*README!B$5)","v":-0.99771085123201275}]
[1208,{"$f":"A1210/README!B$4","v":2.7392290249433106E-2},{"$f":"SIN(2*PI()*B1210*README!B$5)","v":-0.97648835389258204}]
[1209,{"$f":"A1211/README!B$4","v":2.7414965986394559E-2},{"$f":"SIN(2*PI()*B1211*README!B$5)","v":-0.87651251479263792}]
[1210,{"$f":"A1212/README!B$4","v":2.7437641723356009E-2},{"$f":"SIN(2*PI()*B1212*README!B$5)","v":-0.70584633989951417}]
[1211,{"$f":"A1213/README!B$4","v":2.7460317460317459E-2},{"$f":"SIN(2*PI()*B1213*README!B$5)","v":-0.47825397862136609}]
[1212,{"$f":"A1214/README!B$4","v":2.7482993197278913E-2},{"$f":"SIN(2*PI()*B1214*README!B$5)","v":-0.21209065141551545}]
[1213,{"$f":"A1215/README!B$4","v":2.7505668934240363E-2},{"$f":"SIN(2*PI()*B1215*README!B$5)","v":7.1177690395424986E-2}]
[1214,{"$f":"A1216/README!B$4","v":2.7528344671201813E-2},{"$f":"SIN(2*PI()*B1216*README!B$5)","v":0.34870558383840711}]
[1215,{"$f":"A1217/README!B$4","v":2.7551020408163266E-2},{"$f":"SIN(2*PI()*B1217*README!B$5)","v":0.5981105304911889}]
[1216,{"$f":"A1218/README!B$4","v":2.7573696145124716E-2},{"$f":"SIN(2*PI()*B1218*README!B$5)","v":0.79927813480335885}]
[1217,{"$f":"A1219/README!B$4","v":2.7596371882086169E-2},{"$f":"SIN(2*PI()*B1219*README!B$5)","v":0.93598432095221296}]
[1218,{"$f":"A1220/README!B$4","v":2.7619047619047619E-2},{"$f":"SIN(2*PI()*B1220*README!B$5)","v":0.99720379718118202}]
[1219,{"$f":"A1221/README!B$4","v":2.7641723356009069E-2},{"$f":"SIN(2*PI()*B1221*README!B$5)","v":0.97799924056713095}]
[1220,{"$f":"A1222/README!B$4","v":2.7664399092970523E-2},{"$f":"SIN(2*PI()*B1222*README!B$5)","v":0.87991948986922075}]
[1221,{"$f":"A1223/README!B$4","v":2.7687074829931973E-2},{"$f":"SIN(2*PI()*B1223*README!B$5)","v":0.7108746323872569}]
[1222,{"$f":"A1224/README!B$4","v":2.7709750566893423E-2},{"$f":"SIN(2*PI()*B1224*README!B$5)","v":0.48449805901735127}]
[1223,{"$f":"A1225/README!B$4","v":2.7732426303854876E-2},{"$f":"SIN(2*PI()*B1225*README!B$5)","v":0.21904693747486484}]
[1224,{"$f":"A1226/README!B$4","v":2.7755102040816326E-2},{"$f":"SIN(2*PI()*B1226*README!B$5)","v":-6.4070219980739862E-2}]
[1225,{"$f":"A1227/README!B$4","v":2.7777777777777776E-2},{"$f":"SIN(2*PI()*B1227*README!B$5)","v":-0.34202014332565889}]
[1226,{"$f":"A1228/README!B$4","v":2.780045351473923E-2},{"$f":"SIN(2*PI()*B1228*README!B$5)","v":-0.59238629761805495}]
[1227,{"$f":"A1229/README!B$4","v":2.782312925170068E-2},{"$f":"SIN(2*PI()*B1229*README!B$5)","v":-0.79497676634838044}]
[1228,{"$f":"A1230/README!B$4","v":2.7845804988662133E-2},{"$f":"SIN(2*PI()*B1230*README!B$5)","v":-0.93345272032562232}]
[1229,{"$f":"A1231/README!B$4","v":2.7868480725623583E-2},{"$f":"SIN(2*PI()*B1231*README!B$5)","v":-0.99664613682246839}]
[1230,{"$f":"A1232/README!B$4","v":2.7891156462585033E-2},{"$f":"SIN(2*PI()*B1232*README!B$5)","v":-0.97946049553067216}]
[1231,{"$f":"A1233/README!B$4","v":2.7913832199546487E-2},{"$f":"SIN(2*PI()*B1233*README!B$5)","v":-0.88328181060659794}]
[1232,{"$f":"A1234/README!B$4","v":2.7936507936507936E-2},{"$f":"SIN(2*PI()*B1234*README!B$5)","v":-0.71586684925975008}]
[1233,{"$f":"A1235/README!B$4","v":2.7959183673469386E-2},{"$f":"SIN(2*PI()*B1235*README!B$5)","v":-0.49071755200396044}]
[1234,{"$f":"A1236/README!B$4","v":2.798185941043084E-2},{"$f":"SIN(2*PI()*B1236*README!B$5)","v":-0.22599210729408301}]
[1235,{"$f":"A1237/README!B$4","v":2.800453514739229E-2},{"$f":"SIN(2*PI()*B1237*README!B$5)","v":5.6959498117008754E-2}]
[1236,{"$f":"A1238/README!B$4","v":2.802721088435374E-2},{"$f":"SIN(2*PI()*B1238*README!B$5)","v":0.33531734590274115}]
[1237,{"$f":"A1239/README!B$4","v":2.8049886621315193E-2},{"$f":"SIN(2*PI()*B1239*README!B$5)","v":0.58663200220054146}]
[1238,{"$f":"A1240/README!B$4","v":2.8072562358276643E-2},{"$f":"SIN(2*PI()*B1240*README!B$5)","v":0.79063505424538205}]
[1239,{"$f":"A1241/README!B$4","v":2.8095238095238097E-2},{"$f":"SIN(2*PI()*B1241*README!B$5)","v":0.93087374864419581}]
[1240,{"$f":"A1242/README!B$4","v":2.8117913832199547E-2},{"$f":"SIN(2*PI()*B1242*README!B$5)","v":0.996037898456132}]
[1241,{"$f":"A1243/README!B$4","v":2.8140589569160997E-2},{"$f":"SIN(2*PI()*B1243*README!B$5)","v":0.98087204462712096}]
[1242,{"$f":"A1244/README!B$4","v":2.816326530612245E-2},{"$f":"SIN(2*PI()*B1244*README!B$5)","v":0.8865993063729839}]
[1243,{"$f":"A1245/README!B$4","v":2.81859410430839E-2},{"$f":"SIN(2*PI()*B1245*README!B$5)","v":0.72082273717088297}]
[1244,{"$f":"A1246/README!B$4","v":2.820861678004535E-2},{"$f":"SIN(2*PI()*B1246*README!B$5)","v":0.49691214195315553}]
[1245,{"$f":"A1247/README!B$4","v":2.8231292517006804E-2},{"$f":"SIN(2*PI()*B1247*README!B$5)","v":0.23292580841839863}]
[1246,{"$f":"A1248/README!B$4","v":2.8253968253968254E-2},{"$f":"SIN(2*PI()*B1248*README!B$5)","v":-4.9845885660695949E-2}]
[1247,{"$f":"A1249/README!B$4","v":2.8276643990929703E-2},{"$f":"SIN(2*PI()*B1249*README!B$5)","v":-0.32859753172467954}]
[1248,{"$f":"A1250/README!B$4","v":2.8299319727891157E-2},{"$f":"SIN(2*PI()*B1250*README!B$5)","v":-0.58084793625888709}]
[1249,{"$f":"A1251/README!B$4","v":2.8321995464852607E-2},{"$f":"SIN(2*PI()*B1251*README!B$5)","v":-0.7862532188285174}]
[1250,{"$f":"A1252/README!B$4","v":2.834467120181406E-2},{"$f":"SIN(2*PI()*B1252*README!B$5)","v":-0.92824753678613026}]
[1251,{"$f":"A1253/README!B$4","v":2.836734693877551E-2},{"$f":"SIN(2*PI()*B1253*README!B$5)","v":-0.99537911294919645}]
[1252,{"$f":"A1254/README!B$4","v":2.839002267573696E-2},{"$f":"SIN(2*PI()*B1254*README!B$5)","v":-0.98223381622290939}]
[1253,{"$f":"A1255/README!B$4","v":2.8412698412698414E-2},{"$f":"SIN(2*PI()*B1255*README!B$5)","v":-0.88987180881145911}]
[1254,{"$f":"A1256/README!B$4","v":2.8435374149659864E-2},{"$f":"SIN(2*PI()*B1256*README!B$5)","v":-0.7257420446182935}]
[1255,{"$f":"A1257/README!B$4","v":2.8458049886621314E-2},{"$f":"SIN(2*PI()*B1257*README!B$5)","v":-0.50308151450053429}]
[1256,{"$f":"A1258/README!B$4","v":2.8480725623582767E-2},{"$f":"SIN(2*PI()*B1258*README!B$5)","v":-0.23984768897483436}]
[1257,{"$f":"A1259/README!B$4","v":2.8503401360544217E-2},{"$f":"SIN(2*PI()*B1259*README!B$5)","v":4.2729743614844683E-2}]
[1258,{"$f":"A1260/README!B$4","v":2.8526077097505671E-2},{"$f":"SIN(2*PI()*B1260*README!B$5)","v":0.32186104181007003}]
[1259,{"$f":"A1261/README!B$4","v":2.8548752834467121E-2},{"$f":"SIN(2*PI()*B1261*README!B$5)","v":0.57503439332413253}]
[1260,{"$f":"A1262/README!B$4","v":2.8571428571428571E-2},{"$f":"SIN(2*PI()*B1262*README!B$5)","v":0.78183148246802103}]
[1261,{"$f":"A1263/README!B$4","v":2.8594104308390024E-2},{"$f":"SIN(2*PI()*B1263*README!B$5)","v":0.92557421802699857}]
[1262,{"$f":"A1264/README!B$4","v":2.8616780045351474E-2},{"$f":"SIN(2*PI()*B1264*README!B$5)","v":0.99466981373383201}]
[1263,{"$f":"A1265/README!B$4","v":2.8639455782312924E-2},{"$f":"SIN(2*PI()*B1265*README!B$5)","v":0.98354574121055505}]
[1264,{"$f":"A1266/README!B$4","v":2.8662131519274377E-2},{"$f":"SIN(2*PI()*B1266*README!B$5)","v":0.89309915184835542}]
[1265,{"$f":"A1267/README!B$4","v":2.8684807256235827E-2},{"$f":"SIN(2*PI()*B1267*README!B$5)","v":0.73062452195589367}]
[1266,{"$f":"A1268/README!B$4","v":2.8707482993197277E-2},{"$f":"SIN(2*PI()*B1268*README!B$5)","v":0.50922535656143297}]
[1267,{"$f":"A1269/README!B$4","v":2.8730158730158731E-2},{"$f":"SIN(2*PI()*B1269*README!B$5)","v":0.24675739769028587}]
[1268,{"$f":"A1270/README!B$4","v":2.8752834467120181E-2},{"$f":"SIN(2*PI()*B1270*README!B$5)","v":-3.5611433111097469E-2}]
[1269,{"$f":"A1271/README!B$4","v":2.8775510204081634E-2},{"$f":"SIN(2*PI()*B1271*README!B$5)","v":-0.31510821802366512}]
[1270,{"$f":"A1272/README!B$4","v":2.8798185941043084E-2},{"$f":"SIN(2*PI()*B1272*README!B$5)","v":-0.56919166842308377}]
[1271,{"$f":"A1273/README!B$4","v":2.8820861678004534E-2},{"$f":"SIN(2*PI()*B1273*README!B$5)","v":-0.77737006955913401}]
[1272,{"$f":"A1274/README!B$4","v":2.8843537414965988E-2},{"$f":"SIN(2*PI()*B1274*README!B$5)","v":-0.92285392803290034}]
[1273,{"$f":"A1275/README!B$4","v":2.8866213151927438E-2},{"$f":"SIN(2*PI()*B1275*README!B$5)","v":-0.99391003680570922}]
[1274,{"$f":"A1276/README!B$4","v":2.8888888888888888E-2},{"$f":"SIN(2*PI()*B1276*README!B$5)","v":-0.98480775301222256}]
[1275,{"$f":"A1277/README!B$4","v":2.8911564625850341E-2},{"$f":"SIN(2*PI()*B1277*README!B$5)","v":-0.89628117170179}]
[1276,{"$f":"A1278/README!B$4","v":2.8934240362811791E-2},{"$f":"SIN(2*PI()*B1278*README!B$5)","v":-0.73546992140665901}]
[1277,{"$f":"A1279/README!B$4","v":2.8956916099773241E-2},{"$f":"SIN(2*PI()*B1279*README!B$5)","v":-0.51534335634696149}]
[1278,{"$f":"A1280/README!B$4","v":2.8979591836734694E-2},{"$f":"SIN(2*PI()*B1280*README!B$5)","v":-0.25365458390951329}]
[1279,{"$f":"A1281/README!B$4","v":2.9002267573696144E-2},{"$f":"SIN(2*PI()*B1281*README!B$5)","v":2.8491315390801446E-2}]
[1280,{"$f":"A1282/README!B$4","v":2.9024943310657598E-2},{"$f":"SIN(2*PI()*B1282*README!B$5)","v":0.30833940305913143}]
[1281,{"$f":"A1283/README!B$4","v":2.9047619047619048E-2},{"$f":"SIN(2*PI()*B1283*README!B$5)","v":0.56332005806361807}]
[1282,{"$f":"A1284/README!B$4","v":2.9070294784580498E-2},{"$f":"SIN(2*PI()*B1284*README!B$5)","v":0.77286920651057633}]
[1283,{"$f":"A1285/README!B$4","v":2.9092970521541951E-2},{"$f":"SIN(2*PI()*B1285*README!B$5)","v":0.92008680485370509}]
[1284,{"$f":"A1286/README!B$4","v":2.9115646258503401E-2},{"$f":"SIN(2*PI()*B1286*README!B$5)","v":0.99309982072215419}]
[1285,{"$f":"A1287/README!B$4","v":2.9138321995464851E-2},{"$f":"SIN(2*PI()*B1287*README!B$5)","v":0.98601978758304243}]
[1286,{"$f":"A1288/README!B$4","v":2.9160997732426305E-2},{"$f":"SIN(2*PI()*B1288*README!B$5)","v":0.89941770688992584}]
[1287,{"$f":"A1289/README!B$4","v":2.9183673469387755E-2},{"$f":"SIN(2*PI()*B1289*README!B$5)","v":0.74027799707531694}]
[1288,{"$f":"A1290/README!B$4","v":2.9206349206349208E-2},{"$f":"SIN(2*PI()*B1290*README!B$5)","v":0.52143520337948335}]
[1289,{"$f":"A1291/README!B$4","v":2.9229024943310658E-2},{"$f":"SIN(2*PI()*B1291*README!B$5)","v":0.26053889761260557}]
[1290,{"$f":"A1292/README!B$4","v":2.9251700680272108E-2},{"$f":"SIN(2*PI()*B1292*README!B$5)","v":-2.1369751787243919E-2}]
[1291,{"$f":"A1293/README!B$4","v":2.9274376417233561E-2},{"$f":"SIN(2*PI()*B1293*README!B$5)","v":-0.3015549404217131}]
[1292,{"$f":"A1294/README!B$4","v":2.9297052154195011E-2},{"$f":"SIN(2*PI()*B1294*README!B$5)","v":-0.55741986021945222}]
[1293,{"$f":"A1295/README!B$4","v":2.9319727891156461E-2},{"$f":"SIN(2*PI()*B1295*README!B$5)","v":-0.76832912173312806}]
[1294,{"$f":"A1296/README!B$4","v":2.9342403628117915E-2},{"$f":"SIN(2*PI()*B1296*README!B$5)","v":-0.91727298891598397}]
[1295,{"$f":"A1297/README!B$4","v":2.9365079365079365E-2},{"$f":"SIN(2*PI()*B1297*README!B$5)","v":-0.99223920660016995}]
[1296,{"$f":"A1298/README!B$4","v":2.9387755102040815E-2},{"$f":"SIN(2*PI()*B1298*README!B$5)","v":-0.98718178341445895}]
[1297,{"$f":"A1299/README!B$4","v":2.9410430839002268E-2},{"$f":"SIN(2*PI()*B1299*README!B$5)","v":-0.90250859823926588}]
[1298,{"$f":"A1300/README!B$4","v":2.9433106575963718E-2},{"$f":"SIN(2*PI()*B1300*README!B$5)","v":-0.74504850496059427}]
[1299,{"$f":"A1301/README!B$4","v":2.9455782312925172E-2},{"$f":"SIN(2*PI()*B1301*README!B$5)","v":-0.52750058850876214}]
[1300,{"$f":"A1302/README!B$4","v":2.9478458049886622E-2},{"$f":"SIN(2*PI()*B1302*README!B$5)","v":-0.26740998943296407}]
[1301,{"$f":"A1303/README!B$4","v":2.9501133786848072E-2},{"$f":"SIN(2*PI()*B1303*README!B$5)","v":1.4247103707088227E-2}]
[1302,{"$f":"A1304/README!B$4","v":2.9523809523809525E-2},{"$f":"SIN(2*PI()*B1304*README!B$5)","v":0.29475517441090848}]
[1303,{"$f":"A1305/README!B$4","v":2.9546485260770975E-2},{"$f":"SIN(2*PI()*B1305*README!B$5)","v":0.55149137431511375}]
[1304,{"$f":"A1306/README!B$4","v":2.9569160997732425E-2},{"$f":"SIN(2*PI()*B1306*README!B$5)","v":0.7637500456278935}]
[1305,{"$f":"A1307/README!B$4","v":2.9591836734693878E-2},{"$f":"SIN(2*PI()*B1307*README!B$5)","v":0.91441262301581483}]
[1306,{"$f":"A1308/README!B$4","v":2.9614512471655328E-2},{"$f":"SIN(2*PI()*B1308*README!B$5)","v":0.99132823811438908}]
[1307,{"$f":"A1309/README!B$4","v":2.9637188208616778E-2},{"$f":"SIN(2*PI()*B1309*README!B$5)","v":0.98829368153725361}]
[1308,{"$f":"A1310/README!B$4","v":2.9659863945578232E-2},{"$f":"SIN(2*PI()*B1310*README!B$5)","v":0.90555368889260546}]
[1309,{"$f":"A1311/README!B$4","v":2.9682539682539682E-2},{"$f":"SIN(2*PI()*B1311*README!B$5)","v":0.74978120296775419}]
[1310,{"$f":"A1312/README!B$4","v":2.9705215419501135E-2},{"$f":"SIN(2*PI()*B1312*README!B$5)","v":0.53353920392731002}]
[1311,{"$f":"A1313/README!B$4","v":2.9727891156462585E-2},{"$f":"SIN(2*PI()*B1313*README!B$5)","v":0.27426751067492228}]
[1312,{"$f":"A1314/README!B$4","v":2.9750566893424035E-2},{"$f":"SIN(2*PI()*B1314*README!B$5)","v":-7.1237326118624468E-3}]
[1313,{"$f":"A1315/README!B$4","v":2.9773242630385489E-2},{"$f":"SIN(2*PI()*B1315*README!B$5)","v":-0.28794045010250963}]
[1314,{"$f":"A1316/README!B$4","v":2.9795918367346939E-2},{"$f":"SIN(2*PI()*B1316*README!B$5)","v":-0.54553490121055681}]
[1315,{"$f":"A1317/README!B$4","v":2.9818594104308389E-2},{"$f":"SIN(2*PI()*B1317*README!B$5)","v":-0.75913221057482527}]
[1316,{"$f":"A1318/README!B$4","v":2.9841269841269842E-2},{"$f":"SIN(2*PI()*B1318*README!B$5)","v":-0.9115058523116697}]
[1317,{"$f":"A1319/README!B$4","v":2.9863945578231292E-2},{"$f":"SIN(2*PI()*B1319*README!B$5)","v":-0.99036696149483172}]
[1318,{"$f":"A1320/README!B$4","v":2.9886621315192742E-2},{"$f":"SIN(2*PI()*B1320*README!B$5)","v":-0.98935542552457856}]
[1319,{"$f":"A1321/README!B$4","v":2.9909297052154196E-2},{"$f":"SIN(2*PI()*B1321*README!B$5)","v":-0.9085528243169716}]
[1320,{"$f":"A1322/README!B$4","v":2.9931972789115645E-2},{"$f":"SIN(2*PI()*B1322*README!B$5)","v":-0.75447585092080627}]
[1321,{"$f":"A1323/README!B$4","v":2.9954648526077099E-2},{"$f":"SIN(2*PI()*B1323*README!B$5)","v":-0.53955074318615448}]
[1322,{"$f":"A1324/README!B$4","v":2.9977324263038549E-2},{"$f":"SIN(2*PI()*B1324*README!B$5)","v":-0.28111111333166044}]
[1323,{"$f":"A1325/README!B$4","v":0.03},{"$f":"SIN(2*PI()*B1325*README!B$5)","v":-4.3123490889307448E-14}]
[1324,{"$f":"A1326/README!B$4","v":3.0022675736961452E-2},{"$f":"SIN(2*PI()*B1326*README!B$5)","v":0.28111111333163225}]
[1325,{"$f":"A1327/README!B$4","v":3.0045351473922902E-2},{"$f":"SIN(2*PI()*B1327*README!B$5)","v":0.53955074318612972}]
[1326,{"$f":"A1328/README!B$4","v":3.0068027210884352E-2},{"$f":"SIN(2*PI()*B1328*README!B$5)","v":0.75447585092082425}]
[1327,{"$f":"A1329/README!B$4","v":3.0090702947845806E-2},{"$f":"SIN(2*PI()*B1329*README!B$5)","v":0.90855282431695927}]
[1328,{"$f":"A1330/README!B$4","v":3.0113378684807256E-2},{"$f":"SIN(2*PI()*B1330*README!B$5)","v":0.98935542552457423}]
[1329,{"$f":"A1331/README!B$4","v":3.0136054421768709E-2},{"$f":"SIN(2*PI()*B1331*README!B$5)","v":0.99036696149483583}]
[1330,{"$f":"A1332/README!B$4","v":3.0158730158730159E-2},{"$f":"SIN(2*PI()*B1332*README!B$5)","v":0.9115058523116818}]
[1331,{"$f":"A1333/README!B$4","v":3.0181405895691609E-2},{"$f":"SIN(2*PI()*B1333*README!B$5)","v":0.75913221057484437}]
[1332,{"$f":"A1334/README!B$4","v":3.0204081632653063E-2},{"$f":"SIN(2*PI()*B1334*README!B$5)","v":0.54553490121053383}]
[1333,{"$f":"A1335/README!B$4","v":3.0226757369614513E-2},{"$f":"SIN(2*PI()*B1335*README!B$5)","v":0.28794045010253783}]
[1334,{"$f":"A1336/README!B$4","v":3.0249433106575963E-2},{"$f":"SIN(2*PI()*B1336*README!B$5)","v":7.123732611948692E-3}]
[1335,{"$f":"A1337/README!B$4","v":3.0272108843537416E-2},{"$f":"SIN(2*PI()*B1337*README!B$5)","v":-0.27426751067489402}]
[1336,{"$f":"A1338/README!B$4","v":3.0294784580498866E-2},{"$f":"SIN(2*PI()*B1338*README!B$5)","v":-0.53353920392728515}]
[1337,{"$f":"A1339/README!B$4","v":3.0317460317460316E-2},{"$f":"SIN(2*PI()*B1339*README!B$5)","v":-0.74978120296773476}]
[1338,{"$f":"A1340/README!B$4","v":3.0340136054421769E-2},{"$f":"SIN(2*PI()*B1340*README!B$5)","v":-0.90555368889259302}]
[1339,{"$f":"A1341/README!B$4","v":3.0362811791383219E-2},{"$f":"SIN(2*PI()*B1341*README!B$5)","v":-0.9882936815372404}]
[1340,{"$f":"A1342/README!B$4","v":3.0385487528344673E-2},{"$f":"SIN(2*PI()*B1342*README!B$5)","v":-0.99132823811439286}]
[1341,{"$f":"A1343/README!B$4","v":3.0408163265306123E-2},{"$f":"SIN(2*PI()*B1343*README!B$5)","v":-0.91441262301582671}]
[1342,{"$f":"A1344/README!B$4","v":3.0430839002267573E-2},{"$f":"SIN(2*PI()*B1344*README!B$5)","v":-0.76375004562794924}]
[1343,{"$f":"A1345/README!B$4","v":3.0453514739229026E-2},{"$f":"SIN(2*PI()*B1345*README!B$5)","v":-0.55149137431509088}]
[1344,{"$f":"A1346/README!B$4","v":3.0476190476190476E-2},{"$f":"SIN(2*PI()*B1346*README!B$5)","v":-0.29475517441088228}]
[1345,{"$f":"A1347/README!B$4","v":3.0498866213151926E-2},{"$f":"SIN(2*PI()*B1347*README!B$5)","v":-1.4247103707117629E-2}]
[1346,{"$f":"A1348/README!B$4","v":3.052154195011338E-2},{"$f":"SIN(2*PI()*B1348*README!B$5)","v":0.26740998943293576}]
[1347,{"$f":"A1349/README!B$4","v":3.054421768707483E-2},{"$f":"SIN(2*PI()*B1349*README!B$5)","v":0.52750058850873716}]
[1348,{"$f":"A1350/README!B$4","v":3.056689342403628E-2},{"$f":"SIN(2*PI()*B1350*README!B$5)","v":0.74504850496057473}]
[1349,{"$f":"A1351/README!B$4","v":3.0589569160997733E-2},{"$f":"SIN(2*PI()*B1351*README!B$5)","v":0.90250859823927776}]
[1350,{"$f":"A1352/README!B$4","v":3.0612244897959183E-2},{"$f":"SIN(2*PI()*B1352*README!B$5)","v":0.98718178341444518}]
[1351,{"$f":"A1353/README!B$4","v":3.0634920634920636E-2},{"$f":"SIN(2*PI()*B1353*README!B$5)","v":0.99223920660017351}]
[1352,{"$f":"A1354/README!B$4","v":3.0657596371882086E-2},{"$f":"SIN(2*PI()*B1354*README!B$5)","v":0.91727298891599574}]
[1353,{"$f":"A1355/README!B$4","v":3.0680272108843536E-2},{"$f":"SIN(2*PI()*B1355*README!B$5)","v":0.76832912173314694}]
[1354,{"$f":"A1356/README!B$4","v":3.070294784580499E-2},{"$f":"SIN(2*PI()*B1356*README!B$5)","v":0.55741986021942946}]
[1355,{"$f":"A1357/README!B$4","v":3.072562358276644E-2},{"$f":"SIN(2*PI()*B1357*README!B$5)","v":0.30155494042174114}]
[1356,{"$f":"A1358/README!B$4","v":3.074829931972789E-2},{"$f":"SIN(2*PI()*B1358*README!B$5)","v":2.1369751787330148E-2}]
[1357,{"$f":"A1359/README!B$4","v":3.0770975056689343E-2},{"$f":"SIN(2*PI()*B1359*README!B$5)","v":-0.2605388976125772}]
[1358,{"$f":"A1360/README!B$4","v":3.0793650793650793E-2},{"$f":"SIN(2*PI()*B1360*README!B$5)","v":-0.52143520337945826}]
[1359,{"$f":"A1361/README!B$4","v":3.0816326530612243E-2},{"$f":"SIN(2*PI()*B1361*README!B$5)","v":-0.74027799707525899}]
[1360,{"$f":"A1362/README!B$4","v":3.0839002267573697E-2},{"$f":"SIN(2*PI()*B1362*README!B$5)","v":-0.89941770688993783}]
[1361,{"$f":"A1363/README!B$4","v":3.0861678004535147E-2},{"$f":"SIN(2*PI()*B1363*README!B$5)","v":-0.98601978758303754}]
[1362,{"$f":"A1364/README!B$4","v":3.08843537414966E-2},{"$f":"SIN(2*PI()*B1364*README!B$5)","v":-0.99309982072215097}]
[1363,{"$f":"A1365/README!B$4","v":3.090702947845805E-2},{"$f":"SIN(2*PI()*B1365*README!B$5)","v":-0.92008680485371652}]
[1364,{"$f":"A1366/README!B$4","v":3.09297052154195E-2},{"$f":"SIN(2*PI()*B1366*README!B$5)","v":-0.77286920651063107}]
[1365,{"$f":"A1367/README!B$4","v":3.0952380952380953E-2},{"$f":"SIN(2*PI()*B1367*README!B$5)","v":-0.56332005806364238}]
[1366,{"$f":"A1368/README!B$4","v":3.0975056689342403E-2},{"$f":"SIN(2*PI()*B1368*README!B$5)","v":-0.30833940305910534}]
[1367,{"$f":"A1369/README!B$4","v":3.0997732426303853E-2},{"$f":"SIN(2*PI()*B1369*README!B$5)","v":-2.8491315390887659E-2}]
[1368,{"$f":"A1370/README!B$4","v":3.1020408163265307E-2},{"$f":"SIN(2*PI()*B1370*README!B$5)","v":0.25365458390948481}]
[1369,{"$f":"A1371/README!B$4","v":3.1043083900226757E-2},{"$f":"SIN(2*PI()*B1371*README!B$5)","v":0.51534335634688755}]
[1370,{"$f":"A1372/README!B$4","v":3.106575963718821E-2},{"$f":"SIN(2*PI()*B1372*README!B$5)","v":0.73546992140663903}]
[1371,{"$f":"A1373/README!B$4","v":3.108843537414966E-2},{"$f":"SIN(2*PI()*B1373*README!B$5)","v":0.8962811717018021}]
[1372,{"$f":"A1374/README!B$4","v":3.111111111111111E-2},{"$f":"SIN(2*PI()*B1374*README!B$5)","v":0.98480775301220758}]
[1373,{"$f":"A1375/README!B$4","v":3.1133786848072564E-2},{"$f":"SIN(2*PI()*B1375*README!B$5)","v":0.99391003680571255}]
[1374,{"$f":"A1376/README!B$4","v":3.1156462585034014E-2},{"$f":"SIN(2*PI()*B1376*README!B$5)","v":0.92285392803291166}]
[1375,{"$f":"A1377/README!B$4","v":3.1179138321995464E-2},{"$f":"SIN(2*PI()*B1377*README!B$5)","v":0.7773700695591883}]
[1376,{"$f":"A1378/README!B$4","v":3.1201814058956917E-2},{"$f":"SIN(2*PI()*B1378*README!B$5)","v":0.56919166842310787}]
[1377,{"$f":"A1379/README!B$4","v":3.1224489795918367E-2},{"$f":"SIN(2*PI()*B1379*README!B$5)","v":0.31510821802363909}]
[1378,{"$f":"A1380/README!B$4","v":3.1247165532879817E-2},{"$f":"SIN(2*PI()*B1380*README!B$5)","v":3.5611433111126856E-2}]
[1379,{"$f":"A1381/README!B$4","v":3.1269841269841267E-2},{"$f":"SIN(2*PI()*B1381*README!B$5)","v":-0.24675739769025737}]
[1380,{"$f":"A1382/README!B$4","v":3.1292517006802724E-2},{"$f":"SIN(2*PI()*B1382*README!B$5)","v":-0.50922535656145651}]
[1381,{"$f":"A1383/README!B$4","v":3.1315192743764174E-2},{"$f":"SIN(2*PI()*B1383*README!B$5)","v":-0.73062452195587357}]
[1382,{"$f":"A1384/README!B$4","v":3.1337868480725624E-2},{"$f":"SIN(2*PI()*B1384*README!B$5)","v":-0.8930991518483421}]
[1383,{"$f":"A1385/README!B$4","v":3.1360544217687074E-2},{"$f":"SIN(2*PI()*B1385*README!B$5)","v":-0.98354574121054972}]
[1384,{"$f":"A1386/README!B$4","v":3.1383219954648524E-2},{"$f":"SIN(2*PI()*B1386*README!B$5)","v":-0.99466981373384089}]
[1385,{"$f":"A1387/README!B$4","v":3.1405895691609981E-2},{"$f":"SIN(2*PI()*B1387*README!B$5)","v":-0.92557421802698814}]
[1386,{"$f":"A1388/README!B$4","v":3.1428571428571431E-2},{"$f":"SIN(2*PI()*B1388*README!B$5)","v":-0.78183148246803946}]
[1387,{"$f":"A1389/README!B$4","v":3.1451247165532881E-2},{"$f":"SIN(2*PI()*B1389*README!B$5)","v":-0.57503439332415662}]
[1388,{"$f":"A1390/README!B$4","v":3.1473922902494331E-2},{"$f":"SIN(2*PI()*B1390*README!B$5)","v":-0.32186104181004405}]
[1389,{"$f":"A1391/README!B$4","v":3.1496598639455781E-2},{"$f":"SIN(2*PI()*B1391*README!B$5)","v":-4.272974361493085E-2}]
[1390,{"$f":"A1392/README!B$4","v":3.1519274376417231E-2},{"$f":"SIN(2*PI()*B1392*README!B$5)","v":0.23984768897475064}]
[1391,{"$f":"A1393/README!B$4","v":3.1541950113378688E-2},{"$f":"SIN(2*PI()*B1393*README!B$5)","v":0.50308151450050886}]
[1392,{"$f":"A1394/README!B$4","v":3.1564625850340138E-2},{"$f":"SIN(2*PI()*B1394*README!B$5)","v":0.7257420446182733}]
[1393,{"$f":"A1395/README!B$4","v":3.1587301587301587E-2},{"$f":"SIN(2*PI()*B1395*README!B$5)","v":0.88987180881144567}]
[1394,{"$f":"A1396/README!B$4","v":3.1609977324263037E-2},{"$f":"SIN(2*PI()*B1396*README!B$5)","v":0.98223381622290384}]
[1395,{"$f":"A1397/README!B$4","v":3.1632653061224487E-2},{"$f":"SIN(2*PI()*B1397*README!B$5)","v":0.99537911294919934}]
[1396,{"$f":"A1398/README!B$4","v":3.1655328798185944E-2},{"$f":"SIN(2*PI()*B1398*README!B$5)","v":0.92824753678614114}]
[1397,{"$f":"A1399/README!B$4","v":3.1678004535147394E-2},{"$f":"SIN(2*PI()*B1399*README!B$5)","v":0.78625321882850041}]
[1398,{"$f":"A1400/README!B$4","v":3.1700680272108844E-2},{"$f":"SIN(2*PI()*B1400*README!B$5)","v":0.58084793625891107}]
[1399,{"$f":"A1401/README!B$4","v":3.1723356009070294E-2},{"$f":"SIN(2*PI()*B1401*README!B$5)","v":0.32859753172476097}]
[1400,{"$f":"A1402/README!B$4","v":3.1746031746031744E-2},{"$f":"SIN(2*PI()*B1402*README!B$5)","v":4.9845885660725314E-2}]
[1401,{"$f":"A1403/README!B$4","v":3.1768707482993194E-2},{"$f":"SIN(2*PI()*B1403*README!B$5)","v":-0.23292580841831476}]
[1402,{"$f":"A1404/README!B$4","v":3.1791383219954651E-2},{"$f":"SIN(2*PI()*B1404*README!B$5)","v":-0.49691214195313005}]
[1403,{"$f":"A1405/README!B$4","v":3.1814058956916101E-2},{"$f":"SIN(2*PI()*B1405*README!B$5)","v":-0.72082273717086254}]
[1404,{"$f":"A1406/README!B$4","v":3.1836734693877551E-2},{"$f":"SIN(2*PI()*B1406*README!B$5)","v":-0.88659930637299655}]
[1405,{"$f":"A1407/README!B$4","v":3.1859410430839001E-2},{"$f":"SIN(2*PI()*B1407*README!B$5)","v":-0.98087204462712629}]
[1406,{"$f":"A1408/README!B$4","v":3.1882086167800451E-2},{"$f":"SIN(2*PI()*B1408*README!B$5)","v":-0.99603789845613966}]
[1407,{"$f":"A1409/README!B$4","v":3.1904761904761908E-2},{"$f":"SIN(2*PI()*B1409*README!B$5)","v":-0.93087374864418571}]
[1408,{"$f":"A1410/README!B$4","v":3.1927437641723358E-2},{"$f":"SIN(2*PI()*B1410*README!B$5)","v":-0.79063505424540015}]
[1409,{"$f":"A1411/README!B$4","v":3.1950113378684808E-2},{"$f":"SIN(2*PI()*B1411*README!B$5)","v":-0.58663200220056522}]
[1410,{"$f":"A1412/README!B$4","v":3.1972789115646258E-2},{"$f":"SIN(2*PI()*B1412*README!B$5)","v":-0.33531734590282242}]
[1411,{"$f":"A1413/README!B$4","v":3.1995464852607708E-2},{"$f":"SIN(2*PI()*B1413*README!B$5)","v":-5.6959498117038106E-2}]
[1412,{"$f":"A1414/README!B$4","v":3.2018140589569158E-2},{"$f":"SIN(2*PI()*B1414*README!B$5)","v":0.22599210729405436}]
[1413,{"$f":"A1415/README!B$4","v":3.2040816326530615E-2},{"$f":"SIN(2*PI()*B1415*README!B$5)","v":0.4907175520039348}]
[1414,{"$f":"A1416/README!B$4","v":3.2063492063492065E-2},{"$f":"SIN(2*PI()*B1416*README!B$5)","v":0.71586684925972954}]
[1415,{"$f":"A1417/README!B$4","v":3.2086167800453515E-2},{"$f":"SIN(2*PI()*B1417*README!B$5)","v":0.88328181060658417}]
[1416,{"$f":"A1418/README!B$4","v":3.2108843537414965E-2},{"$f":"SIN(2*PI()*B1418*README!B$5)","v":0.97946049553065484}]
[1417,{"$f":"A1419/README!B$4","v":3.2131519274376415E-2},{"$f":"SIN(2*PI()*B1419*README!B$5)","v":0.99664613682247083}]
[1418,{"$f":"A1420/README!B$4","v":3.2154195011337872E-2},{"$f":"SIN(2*PI()*B1420*README!B$5)","v":0.93345272032561244}]
[1419,{"$f":"A1421/README!B$4","v":3.2176870748299322E-2},{"$f":"SIN(2*PI()*B1421*README!B$5)","v":0.7949767663483982}]
[1420,{"$f":"A1422/README!B$4","v":3.2199546485260772E-2},{"$f":"SIN(2*PI()*B1422*README!B$5)","v":0.59238629761807859}]
[1421,{"$f":"A1423/README!B$4","v":3.2222222222222222E-2},{"$f":"SIN(2*PI()*B1423*README!B$5)","v":0.34202014332568653}]
[1422,{"$f":"A1424/README!B$4","v":3.2244897959183672E-2},{"$f":"SIN(2*PI()*B1424*README!B$5)","v":6.4070219980712481E-2}]
[1423,{"$f":"A1425/README!B$4","v":3.2267573696145121E-2},{"$f":"SIN(2*PI()*B1425*README!B$5)","v":-0.21904693747478068}]
[1424,{"$f":"A1426/README!B$4","v":3.2290249433106578E-2},{"$f":"SIN(2*PI()*B1426*README!B$5)","v":-0.48449805901732557}]
[1425,{"$f":"A1427/README!B$4","v":3.2312925170068028E-2},{"$f":"SIN(2*PI()*B1427*README!B$5)","v":-0.71087463238723625}]
[1426,{"$f":"A1428/README!B$4","v":3.2335600907029478E-2},{"$f":"SIN(2*PI()*B1428*README!B$5)","v":-0.87991948986920676}]
[1427,{"$f":"A1429/README!B$4","v":3.2358276643990928E-2},{"$f":"SIN(2*PI()*B1429*README!B$5)","v":-0.97799924056711296}]
[1428,{"$f":"A1430/README!B$4","v":3.2380952380952378E-2},{"$f":"SIN(2*PI()*B1430*README!B$5)","v":-0.99720379718118413}]
[1429,{"$f":"A1431/README!B$4","v":3.2403628117913835E-2},{"$f":"SIN(2*PI()*B1431*README!B$5)","v":-0.9359843209522033}]
[1430,{"$f":"A1432/README!B$4","v":3.2426303854875285E-2},{"$f":"SIN(2*PI()*B1432*README!B$5)","v":-0.79927813480337651}]
[1431,{"$f":"A1433/README!B$4","v":3.2448979591836735E-2},{"$f":"SIN(2*PI()*B1433*README!B$5)","v":-0.59811053049121243}]
[1432,{"$f":"A1434/README!B$4","v":3.2471655328798185E-2},{"$f":"SIN(2*PI()*B1434*README!B$5)","v":-0.34870558383848793}]
[1433,{"$f":"A1435/README!B$4","v":3.2494331065759635E-2},{"$f":"SIN(2*PI()*B1435*README!B$5)","v":-7.1177690395511015E-2}]
[1434,{"$f":"A1436/README!B$4","v":3.2517006802721085E-2},{"$f":"SIN(2*PI()*B1436*README!B$5)","v":0.21209065141548672}]
[1435,{"$f":"A1437/README!B$4","v":3.2539682539682542E-2},{"$f":"SIN(2*PI()*B1437*README!B$5)","v":0.47825397862134028}]
[1436,{"$f":"A1438/README!B$4","v":3.2562358276643992E-2},{"$f":"SIN(2*PI()*B1438*README!B$5)","v":0.7058463398994933}]
[1437,{"$f":"A1439/README!B$4","v":3.2585034013605442E-2},{"$f":"SIN(2*PI()*B1439*README!B$5)","v":0.87651251479262371}]
[1438,{"$f":"A1440/README!B$4","v":3.2607709750566892E-2},{"$f":"SIN(2*PI()*B1440*README!B$5)","v":0.97648835389257571}]
[1439,{"$f":"A1441/README!B$4","v":3.2630385487528342E-2},{"$f":"SIN(2*PI()*B1441*README!B$5)","v":0.99771085123201086}]
[1440,{"$f":"A1442/README!B$4","v":3.2653061224489799E-2},{"$f":"SIN(2*PI()*B1442*README!B$5)","v":0.9384684220497379}]
[1441,{"$f":"A1443/README!B$4","v":3.2675736961451249E-2},{"$f":"SIN(2*PI()*B1443*README!B$5)","v":0.80353894132355086}]
[1442,{"$f":"A1444/README!B$4","v":3.2698412698412699E-2},{"$f":"SIN(2*PI()*B1444*README!B$5)","v":0.60380441032548515}]
[1443,{"$f":"A1445/README!B$4","v":3.2721088435374149E-2},{"$f":"SIN(2*PI()*B1445*README!B$5)","v":0.35537332816703288}]
[1444,{"$f":"A1446/README!B$4","v":3.2743764172335599E-2},{"$f":"SIN(2*PI()*B1446*README!B$5)","v":7.8281548669861145E-2}]
[1445,{"$f":"A1447/README!B$4","v":3.2766439909297049E-2},{"$f":"SIN(2*PI()*B1447*README!B$5)","v":-0.20512360213523936}]
[1446,{"$f":"A1448/README!B$4","v":3.2789115646258506E-2},{"$f":"SIN(2*PI()*B1448*README!B$5)","v":-0.4719856276919327}]
[1447,{"$f":"A1449/README!B$4","v":3.2811791383219956E-2},{"$f":"SIN(2*PI()*B1449*README!B$5)","v":-0.70078222697334458}]
[1448,{"$f":"A1450/README!B$4","v":3.2834467120181406E-2},{"$f":"SIN(2*PI()*B1450*README!B$5)","v":-0.87306105827475011}]
[1449,{"$f":"A1451/README!B$4","v":3.2857142857142856E-2},{"$f":"SIN(2*PI()*B1451*README!B$5)","v":-0.97492791218181374}]
[1450,{"$f":"A1452/README!B$4","v":3.2879818594104306E-2},{"$f":"SIN(2*PI()*B1452*README!B$5)","v":-0.99816727324287702}]
[1451,{"$f":"A1453/README!B$4","v":3.2902494331065762E-2},{"$f":"SIN(2*PI()*B1453*README!B$5)","v":-0.94090489755457141}]
[1452,{"$f":"A1454/README!B$4","v":3.2925170068027212E-2},{"$f":"SIN(2*PI()*B1454*README!B$5)","v":-0.80775896968068428}]
[1453,{"$f":"A1455/README!B$4","v":3.2947845804988662E-2},{"$f":"SIN(2*PI()*B1455*README!B$5)","v":-0.60946764816664034}]
[1454,{"$f":"A1456/README!B$4","v":3.2970521541950112E-2},{"$f":"SIN(2*PI()*B1456*README!B$5)","v":-0.36202303793523077}]
[1455,{"$f":"A1457/README!B$4","v":3.2993197278911562E-2},{"$f":"SIN(2*PI()*B1457*README!B$5)","v":-8.5381434295670203E-2}]
[1456,{"$f":"A1458/README!B$4","v":3.3015873015873019E-2},{"$f":"SIN(2*PI()*B1458*README!B$5)","v":0.19814614319943125}]
[1457,{"$f":"A1459/README!B$4","v":3.3038548752834469E-2},{"$f":"SIN(2*PI()*B1459*README!B$5)","v":0.4656933243367436}]
[1458,{"$f":"A1460/README!B$4","v":3.3061224489795919E-2},{"$f":"SIN(2*PI()*B1460*README!B$5)","v":0.69568255060349804}]
[1459,{"$f":"A1461/README!B$4","v":3.3083900226757369E-2},{"$f":"SIN(2*PI()*B1461*README!B$5)","v":0.86956529547077166}]
[1460,{"$f":"A1462/README!B$4","v":3.3106575963718819E-2},{"$f":"SIN(2*PI()*B1462*README!B$5)","v":0.97331799462446256}]
[1461,{"$f":"A1463/README!B$4","v":3.3129251700680269E-2},{"$f":"SIN(2*PI()*B1463*README!B$5)","v":0.99857304005117076}]
[1462,{"$f":"A1464/README!B$4","v":3.3151927437641726E-2},{"$f":"SIN(2*PI()*B1464*README!B$5)","v":0.94329362381991266}]
[1463,{"$f":"A1465/README!B$4","v":3.3174603174603176E-2},{"$f":"SIN(2*PI()*B1465*README!B$5)","v":0.81193800571585673}]
[1464,{"$f":"A1466/README!B$4","v":3.3197278911564626E-2},{"$f":"SIN(2*PI()*B1466*README!B$5)","v":0.61509995661549388}]
[1465,{"$f":"A1467/README!B$4","v":3.3219954648526076E-2},{"$f":"SIN(2*PI()*B1467*README!B$5)","v":0.36865437568215992}]
[1466,{"$f":"A1468/README!B$4","v":3.3242630385487526E-2},{"$f":"SIN(2*PI()*B1468*README!B$5)","v":9.247698696656359E-2}]
[1467,{"$f":"A1469/README!B$4","v":3.3265306122448983E-2},{"$f":"SIN(2*PI()*B1469*README!B$5)","v":-0.19115862870139216}]
[1468,{"$f":"A1470/README!B$4","v":3.3287981859410433E-2},{"$f":"SIN(2*PI()*B1470*README!B$5)","v":-0.45937738787880561}]
[1469,{"$f":"A1471/README!B$4","v":3.3310657596371883E-2},{"$f":"SIN(2*PI()*B1471*README!B$5)","v":-0.69054756958932062}]
[1470,{"$f":"A1472/README!B$4","v":3.3333333333333333E-2},{"$f":"SIN(2*PI()*B1472*README!B$5)","v":-0.86602540378442106}]
[1471,{"$f":"A1473/README!B$4","v":3.3356009070294783E-2},{"$f":"SIN(2*PI()*B1473*README!B$5)","v":-0.97165868292095681}]
[1472,{"$f":"A1474/README!B$4","v":3.3378684807256233E-2},{"$f":"SIN(2*PI()*B1474*README!B$5)","v":-0.99892813106495415}]
[1473,{"$f":"A1475/README!B$4","v":3.340136054421769E-2},{"$f":"SIN(2*PI()*B1475*README!B$5)","v":-0.94563447962217928}]
[1474,{"$f":"A1476/README!B$4","v":3.342403628117914E-2},{"$f":"SIN(2*PI()*B1476*README!B$5)","v":-0.81607583735043643}]
[1475,{"$f":"A1477/README!B$4","v":3.344671201814059E-2},{"$f":"SIN(2*PI()*B1477*README!B$5)","v":-0.62070104984242824}]
[1476,{"$f":"A1478/README!B$4","v":3.346938775510204E-2},{"$f":"SIN(2*PI()*B1478*README!B$5)","v":-0.3752670048794044}]
[1477,{"$f":"A1479/README!B$4","v":3.349206349206349E-2},{"$f":"SIN(2*PI()*B1479*README!B$5)","v":-9.9567846595886411E-2}]
[1478,{"$f":"A1480/README!B$4","v":3.3514739229024947E-2},{"$f":"SIN(2*PI()*B1480*README!B$5)","v":0.18416141324508772}]
[1479,{"$f":"A1481/README!B$4","v":3.3537414965986397E-2},{"$f":"SIN(2*PI()*B1481*README!B$5)","v":0.4530381388406397}]
[1480,{"$f":"A1482/README!B$4","v":3.3560090702947847E-2},{"$f":"SIN(2*PI()*B1482*README!B$5)","v":0.68537754452194843}]
[1481,{"$f":"A1483/README!B$4","v":3.3582766439909296E-2},{"$f":"SIN(2*PI()*B1483*README!B$5)","v":0.86244156285889439}]
[1482,{"$f":"A1484/README!B$4","v":3.3605442176870746E-2},{"$f":"SIN(2*PI()*B1484*README!B$5)","v":0.96995006127840955}]
[1483,{"$f":"A1485/README!B$4","v":3.3628117913832196E-2},{"$f":"SIN(2*PI()*B1485*README!B$5)","v":0.99923252826399944}]
[1484,{"$f":"A1486/README!B$4","v":3.3650793650793653E-2},{"$f":"SIN(2*PI()*B1486*README!B$5)","v":0.94792734616712893}]
[1485,{"$f":"A1487/README!B$4","v":3.3673469387755103E-2},{"$f":"SIN(2*PI()*B1487*README!B$5)","v":0.82017225459693976}]
[1486,{"$f":"A1488/README!B$4","v":3.3696145124716553E-2},{"$f":"SIN(2*PI()*B1488*README!B$5)","v":0.62627064360207663}]
[1487,{"$f":"A1489/README!B$4","v":3.3718820861678003E-2},{"$f":"SIN(2*PI()*B1489*README!B$5)","v":0.38186058994781497}]
[1488,{"$f":"A1490/README!B$4","v":3.3741496598639453E-2},{"$f":"SIN(2*PI()*B1490*README!B$5)","v":0.10665365333520388}]
[1489,{"$f":"A1491/README!B$4","v":3.376417233560091E-2},{"$f":"SIN(2*PI()*B1491*README!B$5)","v":-0.17715485192667851}]
[1490,{"$f":"A1492/README!B$4","v":3.378684807256236E-2},{"$f":"SIN(2*PI()*B1492*README!B$5)","v":-0.44667589892778836}]
[1491,{"$f":"A1493/README!B$4","v":3.380952380952381E-2},{"$f":"SIN(2*PI()*B1493*README!B$5)","v":-0.680172737770942}]
[1492,{"$f":"A1494/README!B$4","v":3.383219954648526E-2},{"$f":"SIN(2*PI()*B1494*README!B$5)","v":-0.85881395456764709}]
[1493,{"$f":"A1495/README!B$4","v":3.385487528344671E-2},{"$f":"SIN(2*PI()*B1495*README!B$5)","v":-0.9681922164062835}]
[1494,{"$f":"A1496/README!B$4","v":3.387755102040816E-2},{"$f":"SIN(2*PI()*B1496*README!B$5)","v":-0.99948621620069045}]
[1495,{"$f":"A1497/README!B$4","v":3.3900226757369617E-2},{"$f":"SIN(2*PI()*B1497*README!B$5)","v":-0.9501721070958884}]
[1496,{"$f":"A1498/README!B$4","v":3.3922902494331067E-2},{"$f":"SIN(2*PI()*B1498*README!B$5)","v":-0.82422704956949033}]
[1497,{"$f":"A1499/README!B$4","v":3.3945578231292517E-2},{"$f":"SIN(2*PI()*B1499*README!B$5)","v":-0.63180845524747953}]
[1498,{"$f":"A1500/README!B$4","v":3.3968253968253967E-2},{"$f":"SIN(2*PI()*B1500*README!B$5)","v":-0.3884347962746984}]
[1499,{"$f":"A1501/README!B$4","v":3.3990929705215417E-2},{"$f":"SIN(2*PI()*B1501*README!B$5)","v":-0.11373404759244991}]
[1500,{"$f":"A1502/README!B$4","v":3.4013605442176874E-2},{"$f":"SIN(2*PI()*B1502*README!B$5)","v":0.17013930031666688}]
[1501,{"$f":"A1503/README!B$4","v":3.4036281179138324E-2},{"$f":"SIN(2*PI()*B1503*README!B$5)","v":0.44029099101253982}]
[1502,{"$f":"A1504/README!B$4","v":3.4058956916099774E-2},{"$f":"SIN(2*PI()*B1504*README!B$5)","v":0.67493341347084501}]
[1503,{"$f":"A1505/README!B$4","v":3.4081632653061224E-2},{"$f":"SIN(2*PI()*B1505*README!B$5)","v":0.85514276300533543}]
[1504,{"$f":"A1506/README!B$4","v":3.4104308390022674E-2},{"$f":"SIN(2*PI()*B1506*README!B$5)","v":0.96638523751207317}]
[1505,{"$f":"A1507/README!B$4","v":3.4126984126984124E-2},{"$f":"SIN(2*PI()*B1507*README!B$5)","v":0.99968918200081869}]
[1506,{"$f":"A1508/README!B$4","v":3.4149659863945581E-2},{"$f":"SIN(2*PI()*B1508*README!B$5)","v":0.95236864849085812}]
[1507,{"$f":"A1509/README!B$4","v":3.4172335600907031E-2},{"$f":"SIN(2*PI()*B1509*README!B$5)","v":0.82824001649450063}]
[1508,{"$f":"A1510/README!B$4","v":3.4195011337868481E-2},{"$f":"SIN(2*PI()*B1510*README!B$5)","v":0.63731420374456371}]
[1509,{"$f":"A1511/README!B$4","v":3.4217687074829931E-2},{"$f":"SIN(2*PI()*B1511*README!B$5)","v":0.39498929023095525}]
[1510,{"$f":"A1512/README!B$4","v":3.4240362811791381E-2},{"$f":"SIN(2*PI()*B1512*README!B$5)","v":0.12080867005040162}]
[1511,{"$f":"A1513/README!B$4","v":3.4263038548752837E-2},{"$f":"SIN(2*PI()*B1513*README!B$5)","v":-0.16311511444162849}]
[1512,{"$f":"A1514/README!B$4","v":3.4285714285714287E-2},{"$f":"SIN(2*PI()*B1514*README!B$5)","v":-0.43388373911754297}]
[1513,{"$f":"A1515/README!B$4","v":3.4308390022675737E-2},{"$f":"SIN(2*PI()*B1515*README!B$5)","v":-0.66965983750802971}]
[1514,{"$f":"A1516/README!B$4","v":3.4331065759637187E-2},{"$f":"SIN(2*PI()*B1516*README!B$5)","v":-0.85142817447836039}]
[1515,{"$f":"A1517/README!B$4","v":3.4353741496598637E-2},{"$f":"SIN(2*PI()*B1517*README!B$5)","v":-0.96452921629673838}]
[1516,{"$f":"A1518/README!B$4","v":3.4376417233560087E-2},{"$f":"SIN(2*PI()*B1518*README!B$5)","v":-0.99984141536423188}]
[1517,{"$f":"A1519/README!B$4","v":3.4399092970521544E-2},{"$f":"SIN(2*PI()*B1519*README!B$5)","v":-0.95451685888147697}]
[1518,{"$f":"A1520/README!B$4","v":3.4421768707482994E-2},{"$f":"SIN(2*PI()*B1520*README!B$5)","v":-0.83221095172108162}]
[1519,{"$f":"A1521/README!B$4","v":3.4444444444444444E-2},{"$f":"SIN(2*PI()*B1521*README!B$5)","v":-0.64278760968653537}]
[1520,{"$f":"A1522/README!B$4","v":3.4467120181405894E-2},{"$f":"SIN(2*PI()*B1522*README!B$5)","v":-0.40152373918769613}]
[1521,{"$f":"A1523/README!B$4","v":3.4489795918367344E-2},{"$f":"SIN(2*PI()*B1523*README!B$5)","v":-0.12787716168457514}]
[1522,{"$f":"A1524/README!B$4","v":3.4512471655328801E-2},{"$f":"SIN(2*PI()*B1524*README!B$5)","v":0.15608265076648031}]
[1523,{"$f":"A1525/README!B$4","v":3.4535147392290251E-2},{"$f":"SIN(2*PI()*B1525*README!B$5)","v":0.42745446839936352}]
[1524,{"$f":"A1526/README!B$4","v":3.4557823129251701E-2},{"$f":"SIN(2*PI()*B1526*README!B$5)","v":0.6643522775070374}]
[1525,{"$f":"A1527/README!B$4","v":3.4580498866213151E-2},{"$f":"SIN(2*PI()*B1527*README!B$5)","v":0.84767037749547158}]
[1526,{"$f":"A1528/README!B$4","v":3.4603174603174601E-2},{"$f":"SIN(2*PI()*B1528*README!B$5)","v":0.96262424695000404}]
[1527,{"$f":"A1529/README!B$4","v":3.4625850340136058E-2},{"$f":"SIN(2*PI()*B1529*README!B$5)","v":0.9999429085653605}]
[1528,{"$f":"A1530/README!B$4","v":3.4648526077097508E-2},{"$f":"SIN(2*PI()*B1530*README!B$5)","v":0.95661662924994673}]
[1529,{"$f":"A1531/README!B$4","v":3.4671201814058958E-2},{"$f":"SIN(2*PI()*B1531*README!B$5)","v":0.836139653731378}]
[1530,{"$f":"A1532/README!B$4","v":3.4693877551020408E-2},{"$f":"SIN(2*PI()*B1532*README!B$5)","v":0.64822839530779519}]
[1531,{"$f":"A1533/README!B$4","v":3.4716553287981858E-2},{"$f":"SIN(2*PI()*B1533*README!B$5)","v":0.40803781153333202}]
[1532,{"$f":"A1534/README!B$4","v":3.4739229024943308E-2},{"$f":"SIN(2*PI()*B1534*README!B$5)","v":0.13493916378161505}]
[1533,{"$f":"A1535/README!B$4","v":3.4761904761904765E-2},{"$f":"SIN(2*PI()*B1535*README!B$5)","v":-0.14904226617616698}]
[1534,{"$f":"A1536/README!B$4","v":3.4784580498866215E-2},{"$f":"SIN(2*PI()*B1536*README!B$5)","v":-0.42100350513203472}]
[1535,{"$f":"A1537/README!B$4","v":3.4807256235827665E-2},{"$f":"SIN(2*PI()*B1537*README!B$5)","v":-0.6590110028170385}]
[1536,{"$f":"A1538/README!B$4","v":3.4829931972789115E-2},{"$f":"SIN(2*PI()*B1538*README!B$5)","v":-0.84386956275807989}]
[1537,{"$f":"A1539/README!B$4","v":3.4852607709750565E-2},{"$f":"SIN(2*PI()*B1539*README!B$5)","v":-0.96067042614566978}]
[1538,{"$f":"A1540/README!B$4","v":3.4875283446712022E-2},{"$f":"SIN(2*PI()*B1540*README!B$5)","v":-0.99999365645360827}]
[1539,{"$f":"A1541/README!B$4","v":3.4897959183673471E-2},{"$f":"SIN(2*PI()*B1541*README!B$5)","v":-0.95866785303666202}]
[1540,{"$f":"A1542/README!B$4","v":3.4920634920634921E-2},{"$f":"SIN(2*PI()*B1542*README!B$5)","v":-0.84002592315079438}]
[1541,{"$f":"A1543/README!B$4","v":3.4943310657596371E-2},{"$f":"SIN(2*PI()*B1543*README!B$5)","v":-0.65363628449821098}]
[1542,{"$f":"A1544/README!B$4","v":3.4965986394557821E-2},{"$f":"SIN(2*PI()*B1544*README!B$5)","v":-0.41453117669029865}]
[1543,{"$f":"A1545/README!B$4","v":3.4988662131519271E-2},{"$f":"SIN(2*PI()*B1545*README!B$5)","v":-0.14199431795766743}]
[1544,{"$f":"A1546/README!B$4","v":3.5011337868480728E-2},{"$f":"SIN(2*PI()*B1546*README!B$5)","v":0.1419943179576616}]
[1545,{"$f":"A1547/README!B$4","v":3.5034013605442178E-2},{"$f":"SIN(2*PI()*B1547*README!B$5)","v":0.41453117669029332}]
[1546,{"$f":"A1548/README!B$4","v":3.5056689342403628E-2},{"$f":"SIN(2*PI()*B1548*README!B$5)","v":0.65363628449816358}]
[1547,{"$f":"A1549/README!B$4","v":3.5079365079365078E-2},{"$f":"SIN(2*PI()*B1549*README!B$5)","v":0.84002592315076041}]
[1548,{"$f":"A1550/README!B$4","v":3.5102040816326528E-2},{"$f":"SIN(2*PI()*B1550*README!B$5)","v":0.95866785303664415}]
[1549,{"$f":"A1551/README!B$4","v":3.5124716553287985E-2},{"$f":"SIN(2*PI()*B1551*README!B$5)","v":0.99999365645360838}]
[1550,{"$f":"A1552/README!B$4","v":3.5147392290249435E-2},{"$f":"SIN(2*PI()*B1552*README!B$5)","v":0.96067042614568721}]
[1551,{"$f":"A1553/README!B$4","v":3.5170068027210885E-2},{"$f":"SIN(2*PI()*B1553*README!B$5)","v":0.84386956275808311}]
[1552,{"$f":"A1554/README!B$4","v":3.5192743764172335E-2},{"$f":"SIN(2*PI()*B1554*README!B$5)","v":0.65901100281708569}]
[1553,{"$f":"A1555/README!B$4","v":3.5215419501133785E-2},{"$f":"SIN(2*PI()*B1555*README!B$5)","v":0.42100350513204005}]
[1554,{"$f":"A1556/README!B$4","v":3.5238095238095235E-2},{"$f":"SIN(2*PI()*B1556*README!B$5)","v":0.14904226617622898}]
[1555,{"$f":"A1557/README!B$4","v":3.5260770975056692E-2},{"$f":"SIN(2*PI()*B1557*README!B$5)","v":-0.13493916378160922}]
[1556,{"$f":"A1558/README!B$4","v":3.5283446712018142E-2},{"$f":"SIN(2*PI()*B1558*README!B$5)","v":-0.40803781153327473}]
[1557,{"$f":"A1559/README!B$4","v":3.5306122448979592E-2},{"$f":"SIN(2*PI()*B1559*README!B$5)","v":-0.64822839530774745}]
[1558,{"$f":"A1560/README!B$4","v":3.5328798185941042E-2},{"$f":"SIN(2*PI()*B1560*README!B$5)","v":-0.83613965373134358}]
[1559,{"$f":"A1561/README!B$4","v":3.5351473922902492E-2},{"$f":"SIN(2*PI()*B1561*README!B$5)","v":-0.95661662924994495}]
[1560,{"$f":"A1562/README!B$4","v":3.5374149659863949E-2},{"$f":"SIN(2*PI()*B1562*README!B$5)","v":-0.99994290856536105}]
[1561,{"$f":"A1563/README!B$4","v":3.5396825396825399E-2},{"$f":"SIN(2*PI()*B1563*README!B$5)","v":-0.9626242469500057}]
[1562,{"$f":"A1564/README!B$4","v":3.5419501133786849E-2},{"$f":"SIN(2*PI()*B1564*README!B$5)","v":-0.84767037749547469}]
[1563,{"$f":"A1565/README!B$4","v":3.5442176870748299E-2},{"$f":"SIN(2*PI()*B1565*README!B$5)","v":-0.66435227750708437}]
[1564,{"$f":"A1566/README!B$4","v":3.5464852607709749E-2},{"$f":"SIN(2*PI()*B1566*README!B$5)","v":-0.42745446839942025}]
[1565,{"$f":"A1567/README!B$4","v":3.5487528344671199E-2},{"$f":"SIN(2*PI()*B1567*README!B$5)","v":-0.15608265076654226}]
[1566,{"$f":"A1568/README!B$4","v":3.5510204081632656E-2},{"$f":"SIN(2*PI()*B1568*README!B$5)","v":0.12787716168451291}]
[1567,{"$f":"A1569/README!B$4","v":3.5532879818594106E-2},{"$f":"SIN(2*PI()*B1569*README!B$5)","v":0.40152373918763867}]
[1568,{"$f":"A1570/README!B$4","v":3.5555555555555556E-2},{"$f":"SIN(2*PI()*B1570*README!B$5)","v":0.64278760968653081}]
[1569,{"$f":"A1571/README!B$4","v":3.5578231292517006E-2},{"$f":"SIN(2*PI()*B1571*README!B$5)","v":0.83221095172104687}]
[1570,{"$f":"A1572/README!B$4","v":3.5600907029478455E-2},{"$f":"SIN(2*PI()*B1572*README!B$5)","v":0.95451685888147519}]
[1571,{"$f":"A1573/README!B$4","v":3.5623582766439912E-2},{"$f":"SIN(2*PI()*B1573*README!B$5)","v":0.99984141536423177}]
[1572,{"$f":"A1574/README!B$4","v":3.5646258503401362E-2},{"$f":"SIN(2*PI()*B1574*README!B$5)","v":0.96452921629673993}]
[1573,{"$f":"A1575/README!B$4","v":3.5668934240362812E-2},{"$f":"SIN(2*PI()*B1575*README!B$5)","v":0.85142817447839336}]
[1574,{"$f":"A1576/README!B$4","v":3.5691609977324262E-2},{"$f":"SIN(2*PI()*B1576*README!B$5)","v":0.66965983750807634}]
[1575,{"$f":"A1577/README!B$4","v":3.5714285714285712E-2},{"$f":"SIN(2*PI()*B1577*README!B$5)","v":0.43388373911759948}]
[1576,{"$f":"A1578/README!B$4","v":3.5736961451247162E-2},{"$f":"SIN(2*PI()*B1578*README!B$5)","v":0.16311511444163429}]
[1577,{"$f":"A1579/README!B$4","v":3.5759637188208619E-2},{"$f":"SIN(2*PI()*B1579*README!B$5)","v":-0.12080867005039579}]
[1578,{"$f":"A1580/README!B$4","v":3.5782312925170069E-2},{"$f":"SIN(2*PI()*B1580*README!B$5)","v":-0.39498929023094986}]
[1579,{"$f":"A1581/README!B$4","v":3.5804988662131519E-2},{"$f":"SIN(2*PI()*B1581*README!B$5)","v":-0.63731420374455916}]
[1580,{"$f":"A1582/README!B$4","v":3.5827664399092969E-2},{"$f":"SIN(2*PI()*B1582*README!B$5)","v":-0.82824001649446544}]
[1581,{"$f":"A1583/README!B$4","v":3.5850340136054419E-2},{"$f":"SIN(2*PI()*B1583*README!B$5)","v":-0.95236864849083902}]
[1582,{"$f":"A1584/README!B$4","v":3.5873015873015876E-2},{"$f":"SIN(2*PI()*B1584*README!B$5)","v":-0.99968918200081713}]
[1583,{"$f":"A1585/README!B$4","v":3.5895691609977326E-2},{"$f":"SIN(2*PI()*B1585*README!B$5)","v":-0.96638523751208927}]
[1584,{"$f":"A1586/README!B$4","v":3.5918367346938776E-2},{"$f":"SIN(2*PI()*B1586*README!B$5)","v":-0.85514276300536796}]
[1585,{"$f":"A1587/README!B$4","v":3.5941043083900226E-2},{"$f":"SIN(2*PI()*B1587*README!B$5)","v":-0.67493341347084934}]
[1586,{"$f":"A1588/README!B$4","v":3.5963718820861676E-2},{"$f":"SIN(2*PI()*B1588*README!B$5)","v":-0.44029099101259617}]
[1587,{"$f":"A1589/README!B$4","v":3.5986394557823126E-2},{"$f":"SIN(2*PI()*B1589*README!B$5)","v":-0.17013930031667268}]
[1588,{"$f":"A1590/README!B$4","v":3.6009070294784583E-2},{"$f":"SIN(2*PI()*B1590*README!B$5)","v":0.11373404759244407}]
[1589,{"$f":"A1591/README!B$4","v":3.6031746031746033E-2},{"$f":"SIN(2*PI()*B1591*README!B$5)","v":0.38843479627469302}]
[1590,{"$f":"A1592/README!B$4","v":3.6054421768707483E-2},{"$f":"SIN(2*PI()*B1592*README!B$5)","v":0.6318084552474309}]
[1591,{"$f":"A1593/README!B$4","v":3.6077097505668933E-2},{"$f":"SIN(2*PI()*B1593*README!B$5)","v":0.82422704956945481}]
[1592,{"$f":"A1594/README!B$4","v":3.6099773242630383E-2},{"$f":"SIN(2*PI()*B1594*README!B$5)","v":0.95017210709586886}]
[1593,{"$f":"A1595/README!B$4","v":3.612244897959184E-2},{"$f":"SIN(2*PI()*B1595*README!B$5)","v":0.99948621620068845}]
[1594,{"$f":"A1596/README!B$4","v":3.614512471655329E-2},{"$f":"SIN(2*PI()*B1596*README!B$5)","v":0.96819221640628494}]
[1595,{"$f":"A1597/README!B$4","v":3.616780045351474E-2},{"$f":"SIN(2*PI()*B1597*README!B$5)","v":0.85881395456765008}]
[1596,{"$f":"A1598/README!B$4","v":3.619047619047619E-2},{"$f":"SIN(2*PI()*B1598*README!B$5)","v":0.68017273777094633}]
[1597,{"$f":"A1599/README!B$4","v":3.621315192743764E-2},{"$f":"SIN(2*PI()*B1599*README!B$5)","v":0.44667589892784448}]
[1598,{"$f":"A1600/README!B$4","v":3.623582766439909E-2},{"$f":"SIN(2*PI()*B1600*README!B$5)","v":0.17715485192674024}]
[1599,{"$f":"A1601/README!B$4","v":3.6258503401360546E-2},{"$f":"SIN(2*PI()*B1601*README!B$5)","v":-0.10665365333514151}]
[1600,{"$f":"A1602/README!B$4","v":3.6281179138321996E-2},{"$f":"SIN(2*PI()*B1602*README!B$5)","v":-0.38186058994775701}]
[1601,{"$f":"A1603/README!B$4","v":3.6303854875283446E-2},{"$f":"SIN(2*PI()*B1603*README!B$5)","v":-0.62627064360202778}]
[1602,{"$f":"A1604/README!B$4","v":3.6326530612244896E-2},{"$f":"SIN(2*PI()*B1604*README!B$5)","v":-0.82017225459693643}]
[1603,{"$f":"A1605/README!B$4","v":3.6349206349206346E-2},{"$f":"SIN(2*PI()*B1605*README!B$5)","v":-0.94792734616710894}]
[1604,{"$f":"A1606/README!B$4","v":3.6371882086167803E-2},{"$f":"SIN(2*PI()*B1606*README!B$5)","v":-0.99923252826399911}]
[1605,{"$f":"A1607/README!B$4","v":3.6394557823129253E-2},{"$f":"SIN(2*PI()*B1607*README!B$5)","v":-0.96995006127841099}]
[1606,{"$f":"A1608/README!B$4","v":3.6417233560090703E-2},{"$f":"SIN(2*PI()*B1608*README!B$5)","v":-0.86244156285889739}]
[1607,{"$f":"A1609/README!B$4","v":3.6439909297052153E-2},{"$f":"SIN(2*PI()*B1609*README!B$5)","v":-0.68537754452199418}]
[1608,{"$f":"A1610/README!B$4","v":3.6462585034013603E-2},{"$f":"SIN(2*PI()*B1610*README!B$5)","v":-0.4530381388406956}]
[1609,{"$f":"A1611/README!B$4","v":3.648526077097506E-2},{"$f":"SIN(2*PI()*B1611*README!B$5)","v":-0.1841614132450935}]
[1610,{"$f":"A1612/README!B$4","v":3.650793650793651E-2},{"$f":"SIN(2*PI()*B1612*README!B$5)","v":9.9567846595823989E-2}]
[1611,{"$f":"A1613/README!B$4","v":3.653061224489796E-2},{"$f":"SIN(2*PI()*B1613*README!B$5)","v":0.37526700487939896}]
[1612,{"$f":"A1614/README!B$4","v":3.655328798185941E-2},{"$f":"SIN(2*PI()*B1614*README!B$5)","v":0.62070104984242369}]
[1613,{"$f":"A1615/README!B$4","v":3.657596371882086E-2},{"$f":"SIN(2*PI()*B1615*README!B$5)","v":0.81607583735043299}]
[1614,{"$f":"A1616/README!B$4","v":3.659863945578231E-2},{"$f":"SIN(2*PI()*B1616*README!B$5)","v":0.94563447962215885}]
[1615,{"$f":"A1617/README!B$4","v":3.6621315192743767E-2},{"$f":"SIN(2*PI()*B1617*README!B$5)","v":0.99892813106495382}]
[1616,{"$f":"A1618/README!B$4","v":3.6643990929705217E-2},{"$f":"SIN(2*PI()*B1618*README!B$5)","v":0.97165868292097168}]
[1617,{"$f":"A1619/README!B$4","v":3.6666666666666667E-2},{"$f":"SIN(2*PI()*B1619*README!B$5)","v":0.86602540378445236}]
[1618,{"$f":"A1620/README!B$4","v":3.6689342403628117E-2},{"$f":"SIN(2*PI()*B1620*README!B$5)","v":0.69054756958932484}]
[1619,{"$f":"A1621/README!B$4","v":3.6712018140589567E-2},{"$f":"SIN(2*PI()*B1621*README!B$5)","v":0.45937738787881083}]
[1620,{"$f":"A1622/README!B$4","v":3.6734693877551024E-2},{"$f":"SIN(2*PI()*B1622*README!B$5)","v":0.19115862870139794}]
[1621,{"$f":"A1623/README!B$4","v":3.6757369614512474E-2},{"$f":"SIN(2*PI()*B1623*README!B$5)","v":-9.2476986966557734E-2}]
[1622,{"$f":"A1624/README!B$4","v":3.6780045351473924E-2},{"$f":"SIN(2*PI()*B1624*README!B$5)","v":-0.36865437568215442}]
[1623,{"$f":"A1625/README!B$4","v":3.6802721088435374E-2},{"$f":"SIN(2*PI()*B1625*README!B$5)","v":-0.61509995661544437}]
[1624,{"$f":"A1626/README!B$4","v":3.6825396825396824E-2},{"$f":"SIN(2*PI()*B1626*README!B$5)","v":-0.8119380057158202}]
[1625,{"$f":"A1627/README!B$4","v":3.6848072562358274E-2},{"$f":"SIN(2*PI()*B1627*README!B$5)","v":-0.9432936238198919}]
[1626,{"$f":"A1628/README!B$4","v":3.6870748299319731E-2},{"$f":"SIN(2*PI()*B1628*README!B$5)","v":-0.99857304005116432}]
[1627,{"$f":"A1629/README!B$4","v":3.6893424036281181E-2},{"$f":"SIN(2*PI()*B1629*README!B$5)","v":-0.97331799462447699}]
[1628,{"$f":"A1630/README!B$4","v":3.691609977324263E-2},{"$f":"SIN(2*PI()*B1630*README!B$5)","v":-0.86956529547077455}]
[1629,{"$f":"A1631/README!B$4","v":3.693877551020408E-2},{"$f":"SIN(2*PI()*B1631*README!B$5)","v":-0.69568255060350237}]
[1630,{"$f":"A1632/README!B$4","v":3.696145124716553E-2},{"$f":"SIN(2*PI()*B1632*README!B$5)","v":-0.46569332433674876}]
[1631,{"$f":"A1633/README!B$4","v":3.6984126984126987E-2},{"$f":"SIN(2*PI()*B1633*README!B$5)","v":-0.19814614319938129}]
[1632,{"$f":"A1634/README!B$4","v":3.7006802721088437E-2},{"$f":"SIN(2*PI()*B1634*README!B$5)","v":8.5381434295664346E-2}]
[1633,{"$f":"A1635/README!B$4","v":3.7029478458049887E-2},{"$f":"SIN(2*PI()*B1635*README!B$5)","v":0.36202303793517232}]
[1634,{"$f":"A1636/README!B$4","v":3.7052154195011337E-2},{"$f":"SIN(2*PI()*B1636*README!B$5)","v":0.6094676481665906}]
[1635,{"$f":"A1637/README!B$4","v":3.7074829931972787E-2},{"$f":"SIN(2*PI()*B1637*README!B$5)","v":0.80775896968068084}]
[1636,{"$f":"A1638/README!B$4","v":3.7097505668934237E-2},{"$f":"SIN(2*PI()*B1638*README!B$5)","v":0.94090489755456941}]
[1637,{"$f":"A1639/README!B$4","v":3.7120181405895694E-2},{"$f":"SIN(2*PI()*B1639*README!B$5)","v":0.9981672732428698}]
[1638,{"$f":"A1640/README!B$4","v":3.7142857142857144E-2},{"$f":"SIN(2*PI()*B1640*README!B$5)","v":0.97492791218181496}]
[1639,{"$f":"A1641/README!B$4","v":3.7165532879818594E-2},{"$f":"SIN(2*PI()*B1641*README!B$5)","v":0.873061058274753}]
[1640,{"$f":"A1642/README!B$4","v":3.7188208616780044E-2},{"$f":"SIN(2*PI()*B1642*README!B$5)","v":0.70078222697338932}]
[1641,{"$f":"A1643/README!B$4","v":3.7210884353741494E-2},{"$f":"SIN(2*PI()*B1643*README!B$5)","v":0.47198562769198799}]
[1642,{"$f":"A1644/README!B$4","v":3.7233560090702951E-2},{"$f":"SIN(2*PI()*B1644*README!B$5)","v":0.20512360213530076}]
[1643,{"$f":"A1645/README!B$4","v":3.7256235827664401E-2},{"$f":"SIN(2*PI()*B1645*README!B$5)","v":-7.8281548669741935E-2}]
[1644,{"$f":"A1646/README!B$4","v":3.7278911564625851E-2},{"$f":"SIN(2*PI()*B1646*README!B$5)","v":-0.35537332816697426}]
[1645,{"$f":"A1647/README!B$4","v":3.7301587301587301E-2},{"$f":"SIN(2*PI()*B1647*README!B$5)","v":-0.60380441032548038}]
[1646,{"$f":"A1648/README!B$4","v":3.7324263038548751E-2},{"$f":"SIN(2*PI()*B1648*README!B$5)","v":-0.80353894132354731}]
[1647,{"$f":"A1649/README!B$4","v":3.7346938775510201E-2},{"$f":"SIN(2*PI()*B1649*README!B$5)","v":-0.93846842204973591}]
[1648,{"$f":"A1650/README!B$4","v":3.7369614512471658E-2},{"$f":"SIN(2*PI()*B1650*README!B$5)","v":-0.99771085123201053}]
[1649,{"$f":"A1651/README!B$4","v":3.7392290249433108E-2},{"$f":"SIN(2*PI()*B1651*README!B$5)","v":-0.97648835389257704}]
[1650,{"$f":"A1652/README!B$4","v":3.7414965986394558E-2},{"$f":"SIN(2*PI()*B1652*README!B$5)","v":-0.87651251479265391}]
[1651,{"$f":"A1653/README!B$4","v":3.7437641723356008E-2},{"$f":"SIN(2*PI()*B1653*README!B$5)","v":-0.70584633989953771}]
[1652,{"$f":"A1654/README!B$4","v":3.7460317460317458E-2},{"$f":"SIN(2*PI()*B1654*README!B$5)","v":-0.47825397862134544}]
[1653,{"$f":"A1655/README!B$4","v":3.7482993197278915E-2},{"$f":"SIN(2*PI()*B1655*README!B$5)","v":-0.212090651415548}]
[1654,{"$f":"A1656/README!B$4","v":3.7505668934240365E-2},{"$f":"SIN(2*PI()*B1656*README!B$5)","v":7.1177690395448454E-2}]
[1655,{"$f":"A1657/README!B$4","v":3.7528344671201815E-2},{"$f":"SIN(2*PI()*B1657*README!B$5)","v":0.34870558383848244}]
[1656,{"$f":"A1658/README!B$4","v":3.7551020408163265E-2},{"$f":"SIN(2*PI()*B1658*README!B$5)","v":0.59811053049120777}]
[1657,{"$f":"A1659/README!B$4","v":3.7573696145124715E-2},{"$f":"SIN(2*PI()*B1659*README!B$5)","v":0.79927813480333887}]
[1658,{"$f":"A1660/README!B$4","v":3.7596371882086164E-2},{"$f":"SIN(2*PI()*B1660*README!B$5)","v":0.9359843209521812}]
[1659,{"$f":"A1661/README!B$4","v":3.7619047619047621E-2},{"$f":"SIN(2*PI()*B1661*README!B$5)","v":0.99720379718117946}]
[1660,{"$f":"A1662/README!B$4","v":3.7641723356009071E-2},{"$f":"SIN(2*PI()*B1662*README!B$5)","v":0.97799924056713783}]
[1661,{"$f":"A1663/README!B$4","v":3.7664399092970521E-2},{"$f":"SIN(2*PI()*B1663*README!B$5)","v":0.87991948986923652}]
[1662,{"$f":"A1664/README!B$4","v":3.7687074829931971E-2},{"$f":"SIN(2*PI()*B1664*README!B$5)","v":0.71087463238724036}]
[1663,{"$f":"A1665/README!B$4","v":3.7709750566893421E-2},{"$f":"SIN(2*PI()*B1665*README!B$5)","v":0.48449805901733073}]
[1664,{"$f":"A1666/README!B$4","v":3.7732426303854878E-2},{"$f":"SIN(2*PI()*B1666*README!B$5)","v":0.21904693747478643}]
[1665,{"$f":"A1667/README!B$4","v":3.7755102040816328E-2},{"$f":"SIN(2*PI()*B1667*README!B$5)","v":-6.4070219980706611E-2}]
[1666,{"$f":"A1668/README!B$4","v":3.7777777777777778E-2},{"$f":"SIN(2*PI()*B1668*README!B$5)","v":-0.34202014332568104}]
[1667,{"$f":"A1669/README!B$4","v":3.7800453514739228E-2},{"$f":"SIN(2*PI()*B1669*README!B$5)","v":-0.59238629761802808}]
[1668,{"$f":"A1670/README!B$4","v":3.7823129251700678E-2},{"$f":"SIN(2*PI()*B1670*README!B$5)","v":-0.79497676634836023}]
[1669,{"$f":"A1671/README!B$4","v":3.7845804988662128E-2},{"$f":"SIN(2*PI()*B1671*README!B$5)","v":-0.93345272032561033}]
[1670,{"$f":"A1672/README!B$4","v":3.7868480725623585E-2},{"$f":"SIN(2*PI()*B1672*README!B$5)","v":-0.99664613682246561}]
[1671,{"$f":"A1673/README!B$4","v":3.7891156462585035E-2},{"$f":"SIN(2*PI()*B1673*README!B$5)","v":-0.9794604955306675}]
[1672,{"$f":"A1674/README!B$4","v":3.7913832199546485E-2},{"$f":"SIN(2*PI()*B1674*README!B$5)","v":-0.88328181060658695}]
[1673,{"$f":"A1675/README!B$4","v":3.7936507936507935E-2},{"$f":"SIN(2*PI()*B1675*README!B$5)","v":-0.71586684925973365}]
[1674,{"$f":"A1676/README!B$4","v":3.7959183673469385E-2},{"$f":"SIN(2*PI()*B1676*README!B$5)","v":-0.49071755200398948}]
[1675,{"$f":"A1677/README!B$4","v":3.7981859410430842E-2},{"$f":"SIN(2*PI()*B1677*README!B$5)","v":-0.22599210729406008}]
[1676,{"$f":"A1678/README!B$4","v":3.8004535147392292E-2},{"$f":"SIN(2*PI()*B1678*README!B$5)","v":5.6959498116975482E-2}]
[1677,{"$f":"A1679/README!B$4","v":3.8027210884353742E-2},{"$f":"SIN(2*PI()*B1679*README!B$5)","v":0.33531734590270978}]
[1678,{"$f":"A1680/README!B$4","v":3.8049886621315192E-2},{"$f":"SIN(2*PI()*B1680*README!B$5)","v":0.58663200220051448}]
[1679,{"$f":"A1681/README!B$4","v":3.8072562358276642E-2},{"$f":"SIN(2*PI()*B1681*README!B$5)","v":0.79063505424539648}]
[1680,{"$f":"A1682/README!B$4","v":3.8095238095238099E-2},{"$f":"SIN(2*PI()*B1682*README!B$5)","v":0.93087374864420436}]
[1681,{"$f":"A1683/README!B$4","v":3.8117913832199549E-2},{"$f":"SIN(2*PI()*B1683*README!B$5)","v":0.9960378984561391}]
[1682,{"$f":"A1684/README!B$4","v":3.8140589569160999E-2},{"$f":"SIN(2*PI()*B1684*README!B$5)","v":0.9808720446271274}]
[1683,{"$f":"A1685/README!B$4","v":3.8163265306122449E-2},{"$f":"SIN(2*PI()*B1685*README!B$5)","v":0.88659930637299933}]
[1684,{"$f":"A1686/README!B$4","v":3.8185941043083899E-2},{"$f":"SIN(2*PI()*B1686*README!B$5)","v":0.72082273717090606}]
[1685,{"$f":"A1687/README!B$4","v":3.8208616780045349E-2},{"$f":"SIN(2*PI()*B1687*README!B$5)","v":0.49691214195318445}]
[1686,{"$f":"A1688/README!B$4","v":3.8231292517006805E-2},{"$f":"SIN(2*PI()*B1688*README!B$5)","v":0.23292580841837576}]
[1687,{"$f":"A1689/README!B$4","v":3.8253968253968255E-2},{"$f":"SIN(2*PI()*B1689*README!B$5)","v":-4.984588566066267E-2}]
[1688,{"$f":"A1690/README!B$4","v":3.8276643990929705E-2},{"$f":"SIN(2*PI()*B1690*README!B$5)","v":-0.32859753172470174}]
[1689,{"$f":"A1691/README!B$4","v":3.8299319727891155E-2},{"$f":"SIN(2*PI()*B1691*README!B$5)","v":-0.58084793625890629}]
[1690,{"$f":"A1692/README!B$4","v":3.8321995464852605E-2},{"$f":"SIN(2*PI()*B1692*README!B$5)","v":-0.78625321882849686}]
[1691,{"$f":"A1693/README!B$4","v":3.8344671201814062E-2},{"$f":"SIN(2*PI()*B1693*README!B$5)","v":-0.92824753678616012}]
[1692,{"$f":"A1694/README!B$4","v":3.8367346938775512E-2},{"$f":"SIN(2*PI()*B1694*README!B$5)","v":-0.99537911294919879}]
[1693,{"$f":"A1695/README!B$4","v":3.8390022675736962E-2},{"$f":"SIN(2*PI()*B1695*README!B$5)","v":-0.98223381622291561}]
[1694,{"$f":"A1696/README!B$4","v":3.8412698412698412E-2},{"$f":"SIN(2*PI()*B1696*README!B$5)","v":-0.8898718088115003}]
[1695,{"$f":"A1697/README!B$4","v":3.8435374149659862E-2},{"$f":"SIN(2*PI()*B1697*README!B$5)","v":-0.72574204461827729}]
[1696,{"$f":"A1698/README!B$4","v":3.8458049886621312E-2},{"$f":"SIN(2*PI()*B1698*README!B$5)","v":-0.50308151450051397}]
[1697,{"$f":"A1699/README!B$4","v":3.8480725623582769E-2},{"$f":"SIN(2*PI()*B1699*README!B$5)","v":-0.23984768897481154}]
[1698,{"$f":"A1700/README!B$4","v":3.8503401360544219E-2},{"$f":"SIN(2*PI()*B1700*README!B$5)","v":4.2729743614924973E-2}]
[1699,{"$f":"A1701/README!B$4","v":3.8526077097505669E-2},{"$f":"SIN(2*PI()*B1701*README!B$5)","v":0.3218610418100385}]
[1700,{"$f":"A1702/README!B$4","v":3.8548752834467119E-2},{"$f":"SIN(2*PI()*B1702*README!B$5)","v":0.57503439332410533}]
[1701,{"$f":"A1703/README!B$4","v":3.8571428571428569E-2},{"$f":"SIN(2*PI()*B1703*README!B$5)","v":0.78183148246800027}]
[1702,{"$f":"A1704/README!B$4","v":3.8594104308390026E-2},{"$f":"SIN(2*PI()*B1704*README!B$5)","v":0.92557421802700746}]
[1703,{"$f":"A1705/README!B$4","v":3.8616780045351476E-2},{"$f":"SIN(2*PI()*B1705*README!B$5)","v":0.99466981373383445}]
[1704,{"$f":"A1706/README!B$4","v":3.8639455782312926E-2},{"$f":"SIN(2*PI()*B1706*README!B$5)","v":0.98354574121056104}]
[1705,{"$f":"A1707/README!B$4","v":3.8662131519274376E-2},{"$f":"SIN(2*PI()*B1707*README!B$5)","v":0.89309915184837041}]
[1706,{"$f":"A1708/README!B$4","v":3.8684807256235826E-2},{"$f":"SIN(2*PI()*B1708*README!B$5)","v":0.73062452195587757}]
[1707,{"$f":"A1709/README!B$4","v":3.8707482993197276E-2},{"$f":"SIN(2*PI()*B1709*README!B$5)","v":0.50922535656146162}]
[1708,{"$f":"A1710/README!B$4","v":3.8730158730158733E-2},{"$f":"SIN(2*PI()*B1710*README!B$5)","v":0.24675739769026306}]
[1709,{"$f":"A1711/README!B$4","v":3.8752834467120183E-2},{"$f":"SIN(2*PI()*B1711*README!B$5)","v":-3.5611433111120978E-2}]
[1710,{"$f":"A1712/README!B$4","v":3.8775510204081633E-2},{"$f":"SIN(2*PI()*B1712*README!B$5)","v":-0.31510821802357952}]
[1711,{"$f":"A1713/README!B$4","v":3.8798185941043083E-2},{"$f":"SIN(2*PI()*B1713*README!B$5)","v":-0.56919166842300961}]
[1712,{"$f":"A1714/README!B$4","v":3.8820861678004533E-2},{"$f":"SIN(2*PI()*B1714*README!B$5)","v":-0.77737006955914889}]
[1713,{"$f":"A1715/README!B$4","v":3.884353741496599E-2},{"$f":"SIN(2*PI()*B1715*README!B$5)","v":-0.92285392803290944}]
[1714,{"$f":"A1716/README!B$4","v":3.886621315192744E-2},{"$f":"SIN(2*PI()*B1716*README!B$5)","v":-0.9939100368057181}]
[1715,{"$f":"A1717/README!B$4","v":3.888888888888889E-2},{"$f":"SIN(2*PI()*B1717*README!B$5)","v":-0.98480775301220858}]
[1716,{"$f":"A1718/README!B$4","v":3.8911564625850339E-2},{"$f":"SIN(2*PI()*B1718*README!B$5)","v":-0.89628117170180477}]
[1717,{"$f":"A1719/README!B$4","v":3.8934240362811789E-2},{"$f":"SIN(2*PI()*B1719*README!B$5)","v":-0.73546992140668155}]
[1718,{"$f":"A1720/README!B$4","v":3.8956916099773239E-2},{"$f":"SIN(2*PI()*B1720*README!B$5)","v":-0.51534335634699002}]
[1719,{"$f":"A1721/README!B$4","v":3.8979591836734696E-2},{"$f":"SIN(2*PI()*B1721*README!B$5)","v":-0.25365458390949053}]
[1720,{"$f":"A1722/README!B$4","v":3.9002267573696146E-2},{"$f":"SIN(2*PI()*B1722*README!B$5)","v":2.8491315390824959E-2}]
[1721,{"$f":"A1723/README!B$4","v":3.9024943310657596E-2},{"$f":"SIN(2*PI()*B1723*README!B$5)","v":0.30833940305904567}]
[1722,{"$f":"A1724/README!B$4","v":3.9047619047619046E-2},{"$f":"SIN(2*PI()*B1724*README!B$5)","v":0.56332005806359053}]
[1723,{"$f":"A1725/README!B$4","v":3.9070294784580496E-2},{"$f":"SIN(2*PI()*B1725*README!B$5)","v":0.77286920651059121}]
[1724,{"$f":"A1726/README!B$4","v":3.9092970521541953E-2},{"$f":"SIN(2*PI()*B1726*README!B$5)","v":0.92008680485373651}]
[1725,{"$f":"A1727/README!B$4","v":3.9115646258503403E-2},{"$f":"SIN(2*PI()*B1727*README!B$5)","v":0.99309982072215697}]
[1726,{"$f":"A1728/README!B$4","v":3.9138321995464853E-2},{"$f":"SIN(2*PI()*B1728*README!B$5)","v":0.98601978758303843}]
[1727,{"$f":"A1729/README!B$4","v":3.9160997732426303E-2},{"$f":"SIN(2*PI()*B1729*README!B$5)","v":0.89941770688996525}]
[1728,{"$f":"A1730/README!B$4","v":3.9183673469387753E-2},{"$f":"SIN(2*PI()*B1730*README!B$5)","v":0.74027799707537756}]
[1729,{"$f":"A1731/README!B$4","v":3.9206349206349203E-2},{"$f":"SIN(2*PI()*B1731*README!B$5)","v":0.52143520337951177}]
[1730,{"$f":"A1732/README!B$4","v":3.922902494331066E-2},{"$f":"SIN(2*PI()*B1732*README!B$5)","v":0.26053889761258286}]
[1731,{"$f":"A1733/README!B$4","v":3.925170068027211E-2},{"$f":"SIN(2*PI()*B1733*README!B$5)","v":-2.1369751787324268E-2}]
[1732,{"$f":"A1734/README!B$4","v":3.927437641723356E-2},{"$f":"SIN(2*PI()*B1734*README!B$5)","v":-0.30155494042173553}]
[1733,{"$f":"A1735/README!B$4","v":3.929705215419501E-2},{"$f":"SIN(2*PI()*B1735*README!B$5)","v":-0.55741986021942458}]
[1734,{"$f":"A1736/README!B$4","v":3.931972789115646E-2},{"$f":"SIN(2*PI()*B1736*README!B$5)","v":-0.76832912173310675}]
[1735,{"$f":"A1737/README!B$4","v":3.9342403628117917E-2},{"$f":"SIN(2*PI()*B1737*README!B$5)","v":-0.91727298891599329}]
[1736,{"$f":"A1738/README!B$4","v":3.9365079365079367E-2},{"$f":"SIN(2*PI()*B1738*README!B$5)","v":-0.99223920660017284}]
[1737,{"$f":"A1739/README!B$4","v":3.9387755102040817E-2},{"$f":"SIN(2*PI()*B1739*README!B$5)","v":-0.98718178341445517}]
[1738,{"$f":"A1740/README!B$4","v":3.9410430839002267E-2},{"$f":"SIN(2*PI()*B1740*README!B$5)","v":-0.90250859823930474}]
[1739,{"$f":"A1741/README!B$4","v":3.9433106575963717E-2},{"$f":"SIN(2*PI()*B1741*README!B$5)","v":-0.74504850496061659}]
[1740,{"$f":"A1742/README!B$4","v":3.9455782312925167E-2},{"$f":"SIN(2*PI()*B1742*README!B$5)","v":-0.52750058850879045}]
[1741,{"$f":"A1743/README!B$4","v":3.9478458049886624E-2},{"$f":"SIN(2*PI()*B1743*README!B$5)","v":-0.26740998943288663}]
[1742,{"$f":"A1744/README!B$4","v":3.9501133786848074E-2},{"$f":"SIN(2*PI()*B1744*README!B$5)","v":1.4247103707111746E-2}]
[1743,{"$f":"A1745/README!B$4","v":3.9523809523809524E-2},{"$f":"SIN(2*PI()*B1745*README!B$5)","v":0.29475517441087667}]
[1744,{"$f":"A1746/README!B$4","v":3.9546485260770974E-2},{"$f":"SIN(2*PI()*B1746*README!B$5)","v":0.55149137431503858}]
[1745,{"$f":"A1747/README!B$4","v":3.9569160997732424E-2},{"$f":"SIN(2*PI()*B1747*README!B$5)","v":0.76375004562783533}]
[1746,{"$f":"A1748/README!B$4","v":3.959183673469388E-2},{"$f":"SIN(2*PI()*B1748*README!B$5)","v":0.91441262301582438}]
[1747,{"$f":"A1749/README!B$4","v":3.961451247165533E-2},{"$f":"SIN(2*PI()*B1749*README!B$5)","v":0.99132823811439208}]
[1748,{"$f":"A1750/README!B$4","v":3.963718820861678E-2},{"$f":"SIN(2*PI()*B1750*README!B$5)","v":0.98829368153724129}]
[1749,{"$f":"A1751/README!B$4","v":3.965986394557823E-2},{"$f":"SIN(2*PI()*B1751*README!B$5)","v":0.90555368889259547}]
[1750,{"$f":"A1752/README!B$4","v":3.968253968253968E-2},{"$f":"SIN(2*PI()*B1752*README!B$5)","v":0.74978120296777628}]
[1751,{"$f":"A1753/README!B$4","v":3.9705215419501137E-2},{"$f":"SIN(2*PI()*B1753*README!B$5)","v":0.53353920392729004}]
[1752,{"$f":"A1754/README!B$4","v":3.9727891156462587E-2},{"$f":"SIN(2*PI()*B1754*README!B$5)","v":0.27426751067489968}]
[1753,{"$f":"A1755/README!B$4","v":3.9750566893424037E-2},{"$f":"SIN(2*PI()*B1755*README!B$5)","v":-7.123732611885967E-3}]
[1754,{"$f":"A1756/README!B$4","v":3.9773242630385487E-2},{"$f":"SIN(2*PI()*B1756*README!B$5)","v":-0.28794045010247776}]
[1755,{"$f":"A1757/README!B$4","v":3.9795918367346937E-2},{"$f":"SIN(2*PI()*B1757*README!B$5)","v":-0.54553490121048132}]
[1756,{"$f":"A1758/README!B$4","v":3.9818594104308387E-2},{"$f":"SIN(2*PI()*B1758*README!B$5)","v":-0.75913221057476654}]
[1757,{"$f":"A1759/README!B$4","v":3.9841269841269844E-2},{"$f":"SIN(2*PI()*B1759*README!B$5)","v":-0.91150585231167935}]
[1758,{"$f":"A1760/README!B$4","v":3.9863945578231294E-2},{"$f":"SIN(2*PI()*B1760*README!B$5)","v":-0.99036696149483505}]
[1759,{"$f":"A1761/README!B$4","v":3.9886621315192744E-2},{"$f":"SIN(2*PI()*B1761*README!B$5)","v":-0.98935542552458344}]
[1760,{"$f":"A1762/README!B$4","v":3.9909297052154194E-2},{"$f":"SIN(2*PI()*B1762*README!B$5)","v":-0.90855282431696172}]
[1761,{"$f":"A1763/README!B$4","v":3.9931972789115644E-2},{"$f":"SIN(2*PI()*B1763*README!B$5)","v":-0.75447585092082814}]
[1762,{"$f":"A1764/README!B$4","v":3.9954648526077101E-2},{"$f":"SIN(2*PI()*B1764*README!B$5)","v":-0.53955074318623042}]
[1763,{"$f":"A1765/README!B$4","v":3.9977324263038551E-2},{"$f":"SIN(2*PI()*B1765*README!B$5)","v":-0.28111111333158334}]
[1764,{"$f":"A1766/README!B$4","v":0.04},{"$f":"SIN(2*PI()*B1766*README!B$5)","v":3.7241043582270095E-14}]
[1765,{"$f":"A1767/README!B$4","v":4.0022675736961451E-2},{"$f":"SIN(2*PI()*B1767*README!B$5)","v":0.28111111333165478}]
[1766,{"$f":"A1768/README!B$4","v":4.0045351473922901E-2},{"$f":"SIN(2*PI()*B1768*README!B$5)","v":0.53955074318614948}]
[1767,{"$f":"A1769/README!B$4","v":4.0068027210884351E-2},{"$f":"SIN(2*PI()*B1769*README!B$5)","v":0.75447585092076508}]
[1768,{"$f":"A1770/README!B$4","v":4.0090702947845808E-2},{"$f":"SIN(2*PI()*B1770*README!B$5)","v":0.90855282431696915}]
[1769,{"$f":"A1771/README!B$4","v":4.0113378684807258E-2},{"$f":"SIN(2*PI()*B1771*README!B$5)","v":0.98935542552457767}]
[1770,{"$f":"A1772/README!B$4","v":4.0136054421768708E-2},{"$f":"SIN(2*PI()*B1772*README!B$5)","v":0.99036696149484049}]
[1771,{"$f":"A1773/README!B$4","v":4.0158730158730158E-2},{"$f":"SIN(2*PI()*B1773*README!B$5)","v":0.91150585231169556}]
[1772,{"$f":"A1774/README!B$4","v":4.0181405895691608E-2},{"$f":"SIN(2*PI()*B1774*README!B$5)","v":0.7591322105749031}]
[1773,{"$f":"A1775/README!B$4","v":4.0204081632653065E-2},{"$f":"SIN(2*PI()*B1775*README!B$5)","v":0.54553490121056181}]
[1774,{"$f":"A1776/README!B$4","v":4.0226757369614514E-2},{"$f":"SIN(2*PI()*B1776*README!B$5)","v":0.28794045010251529}]
[1775,{"$f":"A1777/README!B$4","v":4.0249433106575964E-2},{"$f":"SIN(2*PI()*B1777*README!B$5)","v":7.1237326119251709E-3}]
[1776,{"$f":"A1778/README!B$4","v":4.0272108843537414E-2},{"$f":"SIN(2*PI()*B1778*README!B$5)","v":-0.27426751067486199}]
[1777,{"$f":"A1779/README!B$4","v":4.0294784580498864E-2},{"$f":"SIN(2*PI()*B1779*README!B$5)","v":-0.53353920392730503}]
[1778,{"$f":"A1780/README!B$4","v":4.0317460317460314E-2},{"$f":"SIN(2*PI()*B1780*README!B$5)","v":-0.74978120296771278}]
[1779,{"$f":"A1781/README!B$4","v":4.0340136054421771E-2},{"$f":"SIN(2*PI()*B1781*README!B$5)","v":-0.9055536888926029}]
[1780,{"$f":"A1782/README!B$4","v":4.0362811791383221E-2},{"$f":"SIN(2*PI()*B1782*README!B$5)","v":-0.98829368153725272}]
[1781,{"$f":"A1783/README!B$4","v":4.0385487528344671E-2},{"$f":"SIN(2*PI()*B1783*README!B$5)","v":-0.99132823811438986}]
[1782,{"$f":"A1784/README!B$4","v":4.0408163265306121E-2},{"$f":"SIN(2*PI()*B1784*README!B$5)","v":-0.91441262301581716}]
[1783,{"$f":"A1785/README!B$4","v":4.0430839002267571E-2},{"$f":"SIN(2*PI()*B1785*README!B$5)","v":-0.76375004562793403}]
[1784,{"$f":"A1786/README!B$4","v":4.0453514739229028E-2},{"$f":"SIN(2*PI()*B1786*README!B$5)","v":-0.55149137431507123}]
[1785,{"$f":"A1787/README!B$4","v":4.0476190476190478E-2},{"$f":"SIN(2*PI()*B1787*README!B$5)","v":-0.29475517441091414}]
[1786,{"$f":"A1788/README!B$4","v":4.0498866213151928E-2},{"$f":"SIN(2*PI()*B1788*README!B$5)","v":-1.424710370709411E-2}]
[1787,{"$f":"A1789/README!B$4","v":4.0521541950113378E-2},{"$f":"SIN(2*PI()*B1789*README!B$5)","v":0.26740998943290362}]
[1788,{"$f":"A1790/README!B$4","v":4.0544217687074828E-2},{"$f":"SIN(2*PI()*B1790*README!B$5)","v":0.52750058850870885}]
[1789,{"$f":"A1791/README!B$4","v":4.0566893424036278E-2},{"$f":"SIN(2*PI()*B1791*README!B$5)","v":0.74504850496051456}]
[1790,{"$f":"A1792/README!B$4","v":4.0589569160997735E-2},{"$f":"SIN(2*PI()*B1792*README!B$5)","v":0.90250859823926344}]
[1791,{"$f":"A1793/README!B$4","v":4.0612244897959185E-2},{"$f":"SIN(2*PI()*B1793*README!B$5)","v":0.98718178341444895}]
[1792,{"$f":"A1794/README!B$4","v":4.0634920634920635E-2},{"$f":"SIN(2*PI()*B1794*README!B$5)","v":0.99223920660017773}]
[1793,{"$f":"A1795/README!B$4","v":4.0657596371882085E-2},{"$f":"SIN(2*PI()*B1795*README!B$5)","v":0.91727298891600895}]
[1794,{"$f":"A1796/README!B$4","v":4.0680272108843535E-2},{"$f":"SIN(2*PI()*B1796*README!B$5)","v":0.76832912173313184}]
[1795,{"$f":"A1797/README!B$4","v":4.0702947845804992E-2},{"$f":"SIN(2*PI()*B1797*README!B$5)","v":0.55741986021950429}]
[1796,{"$f":"A1798/README!B$4","v":4.0725623582766442E-2},{"$f":"SIN(2*PI()*B1798*README!B$5)","v":0.30155494042171871}]
[1797,{"$f":"A1799/README!B$4","v":4.0748299319727892E-2},{"$f":"SIN(2*PI()*B1799*README!B$5)","v":2.1369751787249803E-2}]
[1798,{"$f":"A1800/README!B$4","v":4.0770975056689342E-2},{"$f":"SIN(2*PI()*B1800*README!B$5)","v":-0.26053889761254501}]
[1799,{"$f":"A1801/README!B$4","v":4.0793650793650792E-2},{"$f":"SIN(2*PI()*B1801*README!B$5)","v":-0.52143520337947835}]
[1800,{"$f":"A1802/README!B$4","v":4.0816326530612242E-2},{"$f":"SIN(2*PI()*B1802*README!B$5)","v":-0.74027799707531305}]
[1801,{"$f":"A1803/README!B$4","v":4.0839002267573699E-2},{"$f":"SIN(2*PI()*B1803*README!B$5)","v":-0.89941770688994804}]
[1802,{"$f":"A1804/README!B$4","v":4.0861678004535149E-2},{"$f":"SIN(2*PI()*B1804*README!B$5)","v":-0.98601978758304143}]
[1803,{"$f":"A1805/README!B$4","v":4.0884353741496599E-2},{"$f":"SIN(2*PI()*B1805*README!B$5)","v":-0.99309982072216152}]
[1804,{"$f":"A1806/README!B$4","v":4.0907029478458048E-2},{"$f":"SIN(2*PI()*B1806*README!B$5)","v":-0.92008680485372962}]
[1805,{"$f":"A1807/README!B$4","v":4.0929705215419498E-2},{"$f":"SIN(2*PI()*B1807*README!B$5)","v":-0.77286920651061608}]
[1806,{"$f":"A1808/README!B$4","v":4.0952380952380955E-2},{"$f":"SIN(2*PI()*B1808*README!B$5)","v":-0.56332005806362295}]
[1807,{"$f":"A1809/README!B$4","v":4.0975056689342405E-2},{"$f":"SIN(2*PI()*B1809*README!B$5)","v":-0.30833940305908297}]
[1808,{"$f":"A1810/README!B$4","v":4.0997732426303855E-2},{"$f":"SIN(2*PI()*B1810*README!B$5)","v":-2.8491315390920969E-2}]
[1809,{"$f":"A1811/README!B$4","v":4.1020408163265305E-2},{"$f":"SIN(2*PI()*B1811*README!B$5)","v":0.25365458390945261}]
[1810,{"$f":"A1812/README!B$4","v":4.1043083900226755E-2},{"$f":"SIN(2*PI()*B1812*README!B$5)","v":0.51534335634681028}]
[1811,{"$f":"A1813/README!B$4","v":4.1065759637188205E-2},{"$f":"SIN(2*PI()*B1813*README!B$5)","v":0.73546992140665501}]
[1812,{"$f":"A1814/README!B$4","v":4.1088435374149662E-2},{"$f":"SIN(2*PI()*B1814*README!B$5)","v":0.89628117170178734}]
[1813,{"$f":"A1815/README!B$4","v":4.1111111111111112E-2},{"$f":"SIN(2*PI()*B1815*README!B$5)","v":0.98480775301221168}]
[1814,{"$f":"A1816/README!B$4","v":4.1133786848072562E-2},{"$f":"SIN(2*PI()*B1816*README!B$5)","v":0.99391003680570988}]
[1815,{"$f":"A1817/README!B$4","v":4.1156462585034012E-2},{"$f":"SIN(2*PI()*B1817*README!B$5)","v":0.92285392803292454}]
[1816,{"$f":"A1818/README!B$4","v":4.1179138321995462E-2},{"$f":"SIN(2*PI()*B1818*README!B$5)","v":0.77737006955917354}]
[1817,{"$f":"A1819/README!B$4","v":4.1201814058956919E-2},{"$f":"SIN(2*PI()*B1819*README!B$5)","v":0.56919166842299507}]
[1818,{"$f":"A1820/README!B$4","v":4.1224489795918369E-2},{"$f":"SIN(2*PI()*B1820*README!B$5)","v":0.31510821802361672}]
[1819,{"$f":"A1821/README!B$4","v":4.1247165532879819E-2},{"$f":"SIN(2*PI()*B1821*README!B$5)","v":3.5611433111103347E-2}]
[1820,{"$f":"A1822/README!B$4","v":4.1269841269841269E-2},{"$f":"SIN(2*PI()*B1822*README!B$5)","v":-0.24675739769022506}]
[1821,{"$f":"A1823/README!B$4","v":4.1292517006802719E-2},{"$f":"SIN(2*PI()*B1823*README!B$5)","v":-0.50922535656137891}]
[1822,{"$f":"A1824/README!B$4","v":4.1315192743764169E-2},{"$f":"SIN(2*PI()*B1824*README!B$5)","v":-0.73062452195585081}]
[1823,{"$f":"A1825/README!B$4","v":4.1337868480725626E-2},{"$f":"SIN(2*PI()*B1825*README!B$5)","v":-0.89309915184835276}]
[1824,{"$f":"A1826/README!B$4","v":4.1360544217687076E-2},{"$f":"SIN(2*PI()*B1826*README!B$5)","v":-0.98354574121055394}]
[1825,{"$f":"A1827/README!B$4","v":4.1383219954648526E-2},{"$f":"SIN(2*PI()*B1827*README!B$5)","v":-0.99466981373384433}]
[1826,{"$f":"A1828/README!B$4","v":4.1405895691609976E-2},{"$f":"SIN(2*PI()*B1828*README!B$5)","v":-0.92557421802702233}]
[1827,{"$f":"A1829/README!B$4","v":4.1428571428571426E-2},{"$f":"SIN(2*PI()*B1829*README!B$5)","v":-0.78183148246813106}]
[1828,{"$f":"A1830/README!B$4","v":4.1451247165532883E-2},{"$f":"SIN(2*PI()*B1830*README!B$5)","v":-0.57503439332413742}]
[1829,{"$f":"A1831/README!B$4","v":4.1473922902494333E-2},{"$f":"SIN(2*PI()*B1831*README!B$5)","v":-0.32186104181007558}]
[1830,{"$f":"A1832/README!B$4","v":4.1496598639455783E-2},{"$f":"SIN(2*PI()*B1832*README!B$5)","v":-4.2729743614907348E-2}]
[1831,{"$f":"A1833/README!B$4","v":4.1519274376417233E-2},{"$f":"SIN(2*PI()*B1833*README!B$5)","v":0.23984768897482867}]
[1832,{"$f":"A1834/README!B$4","v":4.1541950113378683E-2},{"$f":"SIN(2*PI()*B1834*README!B$5)","v":0.50308151450043093}]
[1833,{"$f":"A1835/README!B$4","v":4.1564625850340139E-2},{"$f":"SIN(2*PI()*B1835*README!B$5)","v":0.72574204461832859}]
[1834,{"$f":"A1836/README!B$4","v":4.1587301587301589E-2},{"$f":"SIN(2*PI()*B1836*README!B$5)","v":0.88987180881150829}]
[1835,{"$f":"A1837/README!B$4","v":4.1609977324263039E-2},{"$f":"SIN(2*PI()*B1837*README!B$5)","v":0.98223381622290828}]
[1836,{"$f":"A1838/README!B$4","v":4.1632653061224489E-2},{"$f":"SIN(2*PI()*B1838*README!B$5)","v":0.99537911294919701}]
[1837,{"$f":"A1839/README!B$4","v":4.1655328798185939E-2},{"$f":"SIN(2*PI()*B1839*README!B$5)","v":0.92824753678617467}]
[1838,{"$f":"A1840/README!B$4","v":4.1678004535147389E-2},{"$f":"SIN(2*PI()*B1840*README!B$5)","v":0.78625321882855614}]
[1839,{"$f":"A1841/README!B$4","v":4.1700680272108846E-2},{"$f":"SIN(2*PI()*B1841*README!B$5)","v":0.58084793625884568}]
[1840,{"$f":"A1842/README!B$4","v":4.1723356009070296E-2},{"$f":"SIN(2*PI()*B1842*README!B$5)","v":0.32859753172473877}]
[1841,{"$f":"A1843/README!B$4","v":4.1746031746031746E-2},{"$f":"SIN(2*PI()*B1843*README!B$5)","v":4.9845885660701826E-2}]
[1842,{"$f":"A1844/README!B$4","v":4.1768707482993196E-2},{"$f":"SIN(2*PI()*B1844*README!B$5)","v":-0.23292580841828234}]
[1843,{"$f":"A1845/README!B$4","v":4.1791383219954646E-2},{"$f":"SIN(2*PI()*B1845*README!B$5)","v":-0.49691214195305178}]
[1844,{"$f":"A1846/README!B$4","v":4.1814058956916103E-2},{"$f":"SIN(2*PI()*B1846*README!B$5)","v":-0.72082273717083944}]
[1845,{"$f":"A1847/README!B$4","v":4.1836734693877553E-2},{"$f":"SIN(2*PI()*B1847*README!B$5)","v":-0.88659930637298123}]
[1846,{"$f":"A1848/README!B$4","v":4.1859410430839003E-2},{"$f":"SIN(2*PI()*B1848*README!B$5)","v":-0.98087204462711985}]
[1847,{"$f":"A1849/README!B$4","v":4.1882086167800453E-2},{"$f":"SIN(2*PI()*B1849*README!B$5)","v":-0.99603789845613755}]
[1848,{"$f":"A1850/README!B$4","v":4.1904761904761903E-2},{"$f":"SIN(2*PI()*B1850*README!B$5)","v":-0.93087374864419792}]
[1849,{"$f":"A1851/README!B$4","v":4.1927437641723353E-2},{"$f":"SIN(2*PI()*B1851*README!B$5)","v":-0.79063505424545533}]
[1850,{"$f":"A1852/README!B$4","v":4.195011337868481E-2},{"$f":"SIN(2*PI()*B1852*README!B$5)","v":-0.58663200220050016}]
[1851,{"$f":"A1853/README!B$4","v":4.197278911564626E-2},{"$f":"SIN(2*PI()*B1853*README!B$5)","v":-0.33531734590269313}]
[1852,{"$f":"A1854/README!B$4","v":4.199546485260771E-2},{"$f":"SIN(2*PI()*B1854*README!B$5)","v":-5.6959498117014624E-2}]
[1853,{"$f":"A1855/README!B$4","v":4.201814058956916E-2},{"$f":"SIN(2*PI()*B1855*README!B$5)","v":0.22599210729407726}]
[1854,{"$f":"A1856/README!B$4","v":4.204081632653061E-2},{"$f":"SIN(2*PI()*B1856*README!B$5)","v":0.49071755200385625}]
[1855,{"$f":"A1857/README!B$4","v":4.2063492063492067E-2},{"$f":"SIN(2*PI()*B1857*README!B$5)","v":0.71586684925974597}]
[1856,{"$f":"A1858/README!B$4","v":4.2086167800453517E-2},{"$f":"SIN(2*PI()*B1858*README!B$5)","v":0.88328181060662181}]
[1857,{"$f":"A1859/README!B$4","v":4.2108843537414967E-2},{"$f":"SIN(2*PI()*B1859*README!B$5)","v":0.97946049553065961}]
[1858,{"$f":"A1860/README!B$4","v":4.2131519274376417E-2},{"$f":"SIN(2*PI()*B1860*README!B$5)","v":0.99664613682246883}]
[1859,{"$f":"A1861/README!B$4","v":4.2154195011337867E-2},{"$f":"SIN(2*PI()*B1861*README!B$5)","v":0.93345272032566518}]
[1860,{"$f":"A1862/README!B$4","v":4.2176870748299317E-2},{"$f":"SIN(2*PI()*B1862*README!B$5)","v":0.79497676634845293}]
[1861,{"$f":"A1863/README!B$4","v":4.2199546485260774E-2},{"$f":"SIN(2*PI()*B1863*README!B$5)","v":0.59238629761810546}]
[1862,{"$f":"A1864/README!B$4","v":4.2222222222222223E-2},{"$f":"SIN(2*PI()*B1864*README!B$5)","v":0.34202014332571784}]
[1863,{"$f":"A1865/README!B$4","v":4.2244897959183673E-2},{"$f":"SIN(2*PI()*B1865*README!B$5)","v":6.4070219980745732E-2}]
[1864,{"$f":"A1866/README!B$4","v":4.2267573696145123E-2},{"$f":"SIN(2*PI()*B1866*README!B$5)","v":-0.21904693747480364}]
[1865,{"$f":"A1867/README!B$4","v":4.2290249433106573E-2},{"$f":"SIN(2*PI()*B1867*README!B$5)","v":-0.48449805901729642}]
[1866,{"$f":"A1868/README!B$4","v":4.231292517006803E-2},{"$f":"SIN(2*PI()*B1868*README!B$5)","v":-0.71087463238725279}]
[1867,{"$f":"A1869/README!B$4","v":4.233560090702948E-2},{"$f":"SIN(2*PI()*B1869*README!B$5)","v":-0.87991948986924495}]
[1868,{"$f":"A1870/README!B$4","v":4.235827664399093E-2},{"$f":"SIN(2*PI()*B1870*README!B$5)","v":-0.97799924056714149}]
[1869,{"$f":"A1871/README!B$4","v":4.238095238095238E-2},{"$f":"SIN(2*PI()*B1871*README!B$5)","v":-0.99720379718118246}]
[1870,{"$f":"A1872/README!B$4","v":4.240362811791383E-2},{"$f":"SIN(2*PI()*B1872*README!B$5)","v":-0.93598432095221495}]
[1871,{"$f":"A1873/README!B$4","v":4.242630385487528E-2},{"$f":"SIN(2*PI()*B1873*README!B$5)","v":-0.79927813480343068}]
[1872,{"$f":"A1874/README!B$4","v":4.2448979591836737E-2},{"$f":"SIN(2*PI()*B1874*README!B$5)","v":-0.59811053049119356}]
[1873,{"$f":"A1875/README!B$4","v":4.2471655328798187E-2},{"$f":"SIN(2*PI()*B1875*README!B$5)","v":-0.34870558383841266}]
[1874,{"$f":"A1876/README!B$4","v":4.2494331065759637E-2},{"$f":"SIN(2*PI()*B1876*README!B$5)","v":-7.1177690395487561E-2}]
[1875,{"$f":"A1877/README!B$4","v":4.2517006802721087E-2},{"$f":"SIN(2*PI()*B1877*README!B$5)","v":0.2120906514155097}]
[1876,{"$f":"A1878/README!B$4","v":4.2539682539682537E-2},{"$f":"SIN(2*PI()*B1878*README!B$5)","v":0.47825397862121116}]
[1877,{"$f":"A1879/README!B$4","v":4.2562358276643994E-2},{"$f":"SIN(2*PI()*B1879*README!B$5)","v":0.70584633989950996}]
[1878,{"$f":"A1880/README!B$4","v":4.2585034013605444E-2},{"$f":"SIN(2*PI()*B1880*README!B$5)","v":0.87651251479260772}]
[1879,{"$f":"A1881/README!B$4","v":4.2607709750566894E-2},{"$f":"SIN(2*PI()*B1881*README!B$5)","v":0.97648835389256861}]
[1880,{"$f":"A1882/README!B$4","v":4.2630385487528344E-2},{"$f":"SIN(2*PI()*B1882*README!B$5)","v":0.9977108512320132}]
[1881,{"$f":"A1883/README!B$4","v":4.2653061224489794E-2},{"$f":"SIN(2*PI()*B1883*README!B$5)","v":0.93846842204976899}]
[1882,{"$f":"A1884/README!B$4","v":4.2675736961451244E-2},{"$f":"SIN(2*PI()*B1884*README!B$5)","v":0.80353894132357062}]
[1883,{"$f":"A1885/README!B$4","v":4.2698412698412701E-2},{"$f":"SIN(2*PI()*B1885*README!B$5)","v":0.60380441032546639}]
[1884,{"$f":"A1886/README!B$4","v":4.2721088435374151E-2},{"$f":"SIN(2*PI()*B1886*README!B$5)","v":0.35537332816695777}]
[1885,{"$f":"A1887/README!B$4","v":4.2743764172335601E-2},{"$f":"SIN(2*PI()*B1887*README!B$5)","v":7.8281548669724352E-2}]
[1886,{"$f":"A1888/README!B$4","v":4.2766439909297051E-2},{"$f":"SIN(2*PI()*B1888*README!B$5)","v":-0.2051236021352624}]
[1887,{"$f":"A1889/README!B$4","v":4.2789115646258501E-2},{"$f":"SIN(2*PI()*B1889*README!B$5)","v":-0.47198562769190333}]
[1888,{"$f":"A1890/README!B$4","v":4.2811791383219958E-2},{"$f":"SIN(2*PI()*B1890*README!B$5)","v":-0.70078222697336134}]
[1889,{"$f":"A1891/README!B$4","v":4.2834467120181408E-2},{"$f":"SIN(2*PI()*B1891*README!B$5)","v":-0.87306105827476166}]
[1890,{"$f":"A1892/README!B$4","v":4.2857142857142858E-2},{"$f":"SIN(2*PI()*B1892*README!B$5)","v":-0.97492791218183161}]
[1891,{"$f":"A1893/README!B$4","v":4.2879818594104308E-2},{"$f":"SIN(2*PI()*B1893*README!B$5)","v":-0.99816727324287557}]
[1892,{"$f":"A1894/README!B$4","v":4.2902494331065757E-2},{"$f":"SIN(2*PI()*B1894*README!B$5)","v":-0.94090489755460194}]
[1893,{"$f":"A1895/README!B$4","v":4.2925170068027207E-2},{"$f":"SIN(2*PI()*B1895*README!B$5)","v":-0.80775896968077099}]
[1894,{"$f":"A1896/README!B$4","v":4.2947845804988664E-2},{"$f":"SIN(2*PI()*B1896*README!B$5)","v":-0.60946764816662169}]
[1895,{"$f":"A1897/README!B$4","v":4.2970521541950114E-2},{"$f":"SIN(2*PI()*B1897*README!B$5)","v":-0.36202303793526186}]
[1896,{"$f":"A1898/README!B$4","v":4.2993197278911564E-2},{"$f":"SIN(2*PI()*B1898*README!B$5)","v":-8.5381434295703412E-2}]
[1897,{"$f":"A1899/README!B$4","v":4.3015873015873014E-2},{"$f":"SIN(2*PI()*B1899*README!B$5)","v":0.19814614319945431}]
[1898,{"$f":"A1900/README!B$4","v":4.3038548752834464E-2},{"$f":"SIN(2*PI()*B1900*README!B$5)","v":0.46569332433666377}]
[1899,{"$f":"A1901/README!B$4","v":4.3061224489795921E-2},{"$f":"SIN(2*PI()*B1901*README!B$5)","v":0.69568255060347417}]
[1900,{"$f":"A1902/README!B$4","v":4.3083900226757371E-2},{"$f":"SIN(2*PI()*B1902*README!B$5)","v":0.86956529547078321}]
[1901,{"$f":"A1903/README!B$4","v":4.3106575963718821E-2},{"$f":"SIN(2*PI()*B1903*README!B$5)","v":0.97331799462448099}]
[1902,{"$f":"A1904/README!B$4","v":4.3129251700680271E-2},{"$f":"SIN(2*PI()*B1904*README!B$5)","v":0.99857304005116343}]
[1903,{"$f":"A1905/README!B$4","v":4.3151927437641721E-2},{"$f":"SIN(2*PI()*B1905*README!B$5)","v":0.94329362381994264}]
[1904,{"$f":"A1906/README!B$4","v":4.3174603174603178E-2},{"$f":"SIN(2*PI()*B1906*README!B$5)","v":0.81193800571580987}]
[1905,{"$f":"A1907/README!B$4","v":4.3197278911564628E-2},{"$f":"SIN(2*PI()*B1907*README!B$5)","v":0.61509995661547534}]
[1906,{"$f":"A1908/README!B$4","v":4.3219954648526078E-2},{"$f":"SIN(2*PI()*B1908*README!B$5)","v":0.36865437568213805}]
[1907,{"$f":"A1909/README!B$4","v":4.3242630385487528E-2},{"$f":"SIN(2*PI()*B1909*README!B$5)","v":9.2476986966483571E-2}]
[1908,{"$f":"A1910/README!B$4","v":4.3265306122448978E-2},{"$f":"SIN(2*PI()*B1910*README!B$5)","v":-0.19115862870130368}]
[1909,{"$f":"A1911/README!B$4","v":4.3287981859410428E-2},{"$f":"SIN(2*PI()*B1911*README!B$5)","v":-0.45937738787872551}]
[1910,{"$f":"A1912/README!B$4","v":4.3310657596371885E-2},{"$f":"SIN(2*PI()*B1912*README!B$5)","v":-0.69054756958929653}]
[1911,{"$f":"A1913/README!B$4","v":4.3333333333333335E-2},{"$f":"SIN(2*PI()*B1913*README!B$5)","v":-0.86602540378443271}]
[1912,{"$f":"A1914/README!B$4","v":4.3356009070294785E-2},{"$f":"SIN(2*PI()*B1914*README!B$5)","v":-0.97165868292094904}]
[1913,{"$f":"A1915/README!B$4","v":4.3378684807256235E-2},{"$f":"SIN(2*PI()*B1915*README!B$5)","v":-0.9989281310649557}]
[1914,{"$f":"A1916/README!B$4","v":4.3401360544217685E-2},{"$f":"SIN(2*PI()*B1916*README!B$5)","v":-0.94563447962217162}]
[1915,{"$f":"A1917/README!B$4","v":4.3424036281179142E-2},{"$f":"SIN(2*PI()*B1917*README!B$5)","v":-0.8160758373504885}]
[1916,{"$f":"A1918/README!B$4","v":4.3446712018140592E-2},{"$f":"SIN(2*PI()*B1918*README!B$5)","v":-0.62070104984236529}]
[1917,{"$f":"A1919/README!B$4","v":4.3469387755102042E-2},{"$f":"SIN(2*PI()*B1919*README!B$5)","v":-0.37526700487938258}]
[1918,{"$f":"A1920/README!B$4","v":4.3492063492063492E-2},{"$f":"SIN(2*PI()*B1920*README!B$5)","v":-9.9567846595806447E-2}]
[1919,{"$f":"A1921/README!B$4","v":4.3514739229024942E-2},{"$f":"SIN(2*PI()*B1921*README!B$5)","v":0.18416141324511084}]
[1920,{"$f":"A1922/README!B$4","v":4.3537414965986392E-2},{"$f":"SIN(2*PI()*B1922*README!B$5)","v":0.45303813884055932}]
[1921,{"$f":"A1923/README!B$4","v":4.3560090702947848E-2},{"$f":"SIN(2*PI()*B1923*README!B$5)","v":0.68537754452200694}]
[1922,{"$f":"A1924/README!B$4","v":4.3582766439909298E-2},{"$f":"SIN(2*PI()*B1924*README!B$5)","v":0.86244156285887752}]
[1923,{"$f":"A1925/README!B$4","v":4.3605442176870748E-2},{"$f":"SIN(2*PI()*B1925*README!B$5)","v":0.96995006127841521}]
[1924,{"$f":"A1926/README!B$4","v":4.3628117913832198E-2},{"$f":"SIN(2*PI()*B1926*README!B$5)","v":0.99923252826399622}]
[1925,{"$f":"A1927/README!B$4","v":4.3650793650793648E-2},{"$f":"SIN(2*PI()*B1927*README!B$5)","v":0.94792734616715768}]
[1926,{"$f":"A1928/README!B$4","v":4.3673469387755105E-2},{"$f":"SIN(2*PI()*B1928*README!B$5)","v":0.82017225459692633}]
[1927,{"$f":"A1929/README!B$4","v":4.3696145124716555E-2},{"$f":"SIN(2*PI()*B1929*README!B$5)","v":0.62627064360210261}]
[1928,{"$f":"A1930/README!B$4","v":4.3718820861678005E-2},{"$f":"SIN(2*PI()*B1930*README!B$5)","v":0.38186058994779321}]
[1929,{"$f":"A1931/README!B$4","v":4.3741496598639455E-2},{"$f":"SIN(2*PI()*B1931*README!B$5)","v":0.10665365333523702}]
[1930,{"$f":"A1932/README!B$4","v":4.3764172335600905E-2},{"$f":"SIN(2*PI()*B1932*README!B$5)","v":-0.17715485192658975}]
[1931,{"$f":"A1933/README!B$4","v":4.3786848072562355E-2},{"$f":"SIN(2*PI()*B1933*README!B$5)","v":-0.4466758989278094}]
[1932,{"$f":"A1934/README!B$4","v":4.3809523809523812E-2},{"$f":"SIN(2*PI()*B1934*README!B$5)","v":-0.68017273777087583}]
[1933,{"$f":"A1935/README!B$4","v":4.3832199546485262E-2},{"$f":"SIN(2*PI()*B1935*README!B$5)","v":-0.85881395456768816}]
[1934,{"$f":"A1936/README!B$4","v":4.3854875283446712E-2},{"$f":"SIN(2*PI()*B1936*README!B$5)","v":-0.96819221640628939}]
[1935,{"$f":"A1937/README!B$4","v":4.3877551020408162E-2},{"$f":"SIN(2*PI()*B1937*README!B$5)","v":-0.99948621620068789}]
[1936,{"$f":"A1938/README!B$4","v":4.3900226757369612E-2},{"$f":"SIN(2*PI()*B1938*README!B$5)","v":-0.95017210709588107}]
[1937,{"$f":"A1939/README!B$4","v":4.3922902494331069E-2},{"$f":"SIN(2*PI()*B1939*README!B$5)","v":-0.82422704956947701}]
[1938,{"$f":"A1940/README!B$4","v":4.3945578231292519E-2},{"$f":"SIN(2*PI()*B1940*README!B$5)","v":-0.63180845524741713}]
[1939,{"$f":"A1941/README!B$4","v":4.3968253968253969E-2},{"$f":"SIN(2*PI()*B1941*README!B$5)","v":-0.3884347962747291}]
[1940,{"$f":"A1942/README!B$4","v":4.3990929705215419E-2},{"$f":"SIN(2*PI()*B1942*README!B$5)","v":-0.11373404759242654}]
[1941,{"$f":"A1943/README!B$4","v":4.4013605442176869E-2},{"$f":"SIN(2*PI()*B1943*README!B$5)","v":0.17013930031663405}]
[1942,{"$f":"A1944/README!B$4","v":4.4036281179138319E-2},{"$f":"SIN(2*PI()*B1944*README!B$5)","v":0.44029099101245889}]
[1943,{"$f":"A1945/README!B$4","v":4.4058956916099776E-2},{"$f":"SIN(2*PI()*B1945*README!B$5)","v":0.67493341347086233}]
[1944,{"$f":"A1946/README!B$4","v":4.4081632653061226E-2},{"$f":"SIN(2*PI()*B1946*README!B$5)","v":0.85514276300531811}]
[1945,{"$f":"A1947/README!B$4","v":4.4104308390022676E-2},{"$f":"SIN(2*PI()*B1947*README!B$5)","v":0.96638523751207916}]
[1946,{"$f":"A1948/README!B$4","v":4.4126984126984126E-2},{"$f":"SIN(2*PI()*B1948*README!B$5)","v":0.99968918200081947}]
[1947,{"$f":"A1949/README!B$4","v":4.4149659863945576E-2},{"$f":"SIN(2*PI()*B1949*README!B$5)","v":0.95236864849088565}]
[1948,{"$f":"A1950/README!B$4","v":4.4172335600907033E-2},{"$f":"SIN(2*PI()*B1950*README!B$5)","v":0.82824001649448742}]
[1949,{"$f":"A1951/README!B$4","v":4.4195011337868483E-2},{"$f":"SIN(2*PI()*B1951*README!B$5)","v":0.63731420374463321}]
[1950,{"$f":"A1952/README!B$4","v":4.4217687074829932E-2},{"$f":"SIN(2*PI()*B1952*README!B$5)","v":0.39498929023088142}]
[1951,{"$f":"A1953/README!B$4","v":4.4240362811791382E-2},{"$f":"SIN(2*PI()*B1953*README!B$5)","v":0.12080867005037828}]
[1952,{"$f":"A1954/README!B$4","v":4.4263038548752832E-2},{"$f":"SIN(2*PI()*B1954*README!B$5)","v":-0.1631151144415956}]
[1953,{"$f":"A1955/README!B$4","v":4.4285714285714282E-2},{"$f":"SIN(2*PI()*B1955*README!B$5)","v":-0.43388373911756417}]
[1954,{"$f":"A1956/README!B$4","v":4.4308390022675739E-2},{"$f":"SIN(2*PI()*B1956*README!B$5)","v":-0.66965983750804725}]
[1955,{"$f":"A1957/README!B$4","v":4.4331065759637189E-2},{"$f":"SIN(2*PI()*B1957*README!B$5)","v":-0.85142817447840258}]
[1956,{"$f":"A1958/README!B$4","v":4.4353741496598639E-2},{"$f":"SIN(2*PI()*B1958*README!B$5)","v":-0.9645292162967295}]
[1957,{"$f":"A1959/README!B$4","v":4.4376417233560089E-2},{"$f":"SIN(2*PI()*B1959*README!B$5)","v":-0.99984141536423143}]
[1958,{"$f":"A1960/README!B$4","v":4.4399092970521539E-2},{"$f":"SIN(2*PI()*B1960*README!B$5)","v":-0.95451685888148685}]
[1959,{"$f":"A1961/README!B$4","v":4.4421768707482996E-2},{"$f":"SIN(2*PI()*B1961*README!B$5)","v":-0.83221095172106863}]
[1960,{"$f":"A1962/README!B$4","v":4.4444444444444446E-2},{"$f":"SIN(2*PI()*B1962*README!B$5)","v":-0.64278760968651727}]
[1961,{"$f":"A1963/README!B$4","v":4.4467120181405896E-2},{"$f":"SIN(2*PI()*B1963*README!B$5)","v":-0.40152373918772666}]
[1962,{"$f":"A1964/README!B$4","v":4.4489795918367346E-2},{"$f":"SIN(2*PI()*B1964*README!B$5)","v":-0.12787716168455179}]
[1963,{"$f":"A1965/README!B$4","v":4.4512471655328796E-2},{"$f":"SIN(2*PI()*B1965*README!B$5)","v":0.1560826507663351}]
[1964,{"$f":"A1966/README!B$4","v":4.4535147392290246E-2},{"$f":"SIN(2*PI()*B1966*README!B$5)","v":0.42745446839928203}]
[1965,{"$f":"A1967/README!B$4","v":4.4557823129251703E-2},{"$f":"SIN(2*PI()*B1967*README!B$5)","v":0.66435227750705506}]
[1966,{"$f":"A1968/README!B$4","v":4.4580498866213153E-2},{"$f":"SIN(2*PI()*B1968*README!B$5)","v":0.84767037749542373}]
[1967,{"$f":"A1969/README!B$4","v":4.4603174603174603E-2},{"$f":"SIN(2*PI()*B1969*README!B$5)","v":0.9626242469500258}]
[1968,{"$f":"A1970/README!B$4","v":4.4625850340136053E-2},{"$f":"SIN(2*PI()*B1970*README!B$5)","v":0.9999429085653615}]
[1969,{"$f":"A1971/README!B$4","v":4.4648526077097503E-2},{"$f":"SIN(2*PI()*B1971*README!B$5)","v":0.95661662924995639}]
[1970,{"$f":"A1972/README!B$4","v":4.467120181405896E-2},{"$f":"SIN(2*PI()*B1972*README!B$5)","v":0.83613965373130272}]
[1971,{"$f":"A1973/README!B$4","v":4.469387755102041E-2},{"$f":"SIN(2*PI()*B1973*README!B$5)","v":0.64822839530777721}]
[1972,{"$f":"A1974/README!B$4","v":4.471655328798186E-2},{"$f":"SIN(2*PI()*B1974*README!B$5)","v":0.40803781153325863}]
[1973,{"$f":"A1975/README!B$4","v":4.473922902494331E-2},{"$f":"SIN(2*PI()*B1975*README!B$5)","v":0.13493916378164805}]
[1974,{"$f":"A1976/README!B$4","v":4.476190476190476E-2},{"$f":"SIN(2*PI()*B1976*README!B$5)","v":-0.14904226617613403}]
[1975,{"$f":"A1977/README!B$4","v":4.4784580498866217E-2},{"$f":"SIN(2*PI()*B1977*README!B$5)","v":-0.42100350513200452}]
[1976,{"$f":"A1978/README!B$4","v":4.4807256235827667E-2},{"$f":"SIN(2*PI()*B1978*README!B$5)","v":-0.65901100281705616}]
[1977,{"$f":"A1979/README!B$4","v":4.4829931972789117E-2},{"$f":"SIN(2*PI()*B1979*README!B$5)","v":-0.84386956275809255}]
[1978,{"$f":"A1980/README!B$4","v":4.4852607709750567E-2},{"$f":"SIN(2*PI()*B1980*README!B$5)","v":-0.96067042614566045}]
[1979,{"$f":"A1981/README!B$4","v":4.4875283446712017E-2},{"$f":"SIN(2*PI()*B1981*README!B$5)","v":-0.99999365645360849}]
[1980,{"$f":"A1982/README!B$4","v":4.4897959183673466E-2},{"$f":"SIN(2*PI()*B1982*README!B$5)","v":-0.95866785303670388}]
[1981,{"$f":"A1983/README!B$4","v":4.4920634920634923E-2},{"$f":"SIN(2*PI()*B1983*README!B$5)","v":-0.84002592315078173}]
[1982,{"$f":"A1984/README!B$4","v":4.4943310657596373E-2},{"$f":"SIN(2*PI()*B1984*README!B$5)","v":-0.65363628449819322}]
[1983,{"$f":"A1985/README!B$4","v":4.4965986394557823E-2},{"$f":"SIN(2*PI()*B1985*README!B$5)","v":-0.4145311766903807}]
[1984,{"$f":"A1986/README!B$4","v":4.4988662131519273E-2},{"$f":"SIN(2*PI()*B1986*README!B$5)","v":-0.14199431795758788}]
[1985,{"$f":"A1987/README!B$4","v":4.5011337868480723E-2},{"$f":"SIN(2*PI()*B1987*README!B$5)","v":0.14199431795757236}]
[1986,{"$f":"A1988/README!B$4","v":4.503401360544218E-2},{"$f":"SIN(2*PI()*B1988*README!B$5)","v":0.41453117669036643}]
[1987,{"$f":"A1989/README!B$4","v":4.505668934240363E-2},{"$f":"SIN(2*PI()*B1989*README!B$5)","v":0.65363628449826738}]
[1988,{"$f":"A1990/README!B$4","v":4.507936507936508E-2},{"$f":"SIN(2*PI()*B1990*README!B$5)","v":0.84002592315077318}]
[1989,{"$f":"A1991/README!B$4","v":4.510204081632653E-2},{"$f":"SIN(2*PI()*B1991*README!B$5)","v":0.95866785303666702}]
[1990,{"$f":"A1992/README!B$4","v":4.512471655328798E-2},{"$f":"SIN(2*PI()*B1992*README!B$5)","v":0.99999365645360805}]
[1991,{"$f":"A1993/README!B$4","v":4.514739229024943E-2},{"$f":"SIN(2*PI()*B1993*README!B$5)","v":0.96067042614569642}]
[1992,{"$f":"A1994/README!B$4","v":4.5170068027210887E-2},{"$f":"SIN(2*PI()*B1994*README!B$5)","v":0.84386956275810099}]
[1993,{"$f":"A1995/README!B$4","v":4.5192743764172337E-2},{"$f":"SIN(2*PI()*B1995*README!B$5)","v":0.65901100281706804}]
[1994,{"$f":"A1996/README!B$4","v":4.5215419501133787E-2},{"$f":"SIN(2*PI()*B1996*README!B$5)","v":0.42100350513201873}]
[1995,{"$f":"A1997/README!B$4","v":4.5238095238095237E-2},{"$f":"SIN(2*PI()*B1997*README!B$5)","v":0.14904226617626196}]
[1996,{"$f":"A1998/README!B$4","v":4.5260770975056687E-2},{"$f":"SIN(2*PI()*B1998*README!B$5)","v":-0.13493916378151988}]
[1997,{"$f":"A1999/README!B$4","v":4.5283446712018144E-2},{"$f":"SIN(2*PI()*B1999*README!B$5)","v":-0.40803781153324431}]
[1998,{"$f":"A2000/README!B$4","v":4.5306122448979594E-2},{"$f":"SIN(2*PI()*B2000*README!B$5)","v":-0.64822839530776533}]
[1999,{"$f":"A2001/README!B$4","v":4.5328798185941044E-2},{"$f":"SIN(2*PI()*B2001*README!B$5)","v":-0.83613965373135657}]
[2000,{"$f":"A2002/README!B$4","v":4.5351473922902494E-2},{"$f":"SIN(2*PI()*B2002*README!B$5)","v":-0.95661662924991864}]
[2001,{"$f":"A2003/README!B$4","v":4.5374149659863944E-2},{"$f":"SIN(2*PI()*B2003*README!B$5)","v":-0.99994290856536128}]
[2002,{"$f":"A2004/README!B$4","v":4.5396825396825394E-2},{"$f":"SIN(2*PI()*B2004*README!B$5)","v":-0.96262424695003013}]
[2003,{"$f":"A2005/README!B$4","v":4.5419501133786851E-2},{"$f":"SIN(2*PI()*B2005*README!B$5)","v":-0.84767037749543206}]
[2004,{"$f":"A2006/README!B$4","v":4.5442176870748301E-2},{"$f":"SIN(2*PI()*B2006*README!B$5)","v":-0.66435227750698178}]
[2005,{"$f":"A2007/README!B$4","v":4.5464852607709751E-2},{"$f":"SIN(2*PI()*B2007*README!B$5)","v":-0.42745446839939899}]
[2006,{"$f":"A2008/README!B$4","v":4.5487528344671201E-2},{"$f":"SIN(2*PI()*B2008*README!B$5)","v":-0.15608265076646288}]
[2007,{"$f":"A2009/README!B$4","v":4.5510204081632651E-2},{"$f":"SIN(2*PI()*B2009*README!B$5)","v":0.12787716168442348}]
[2008,{"$f":"A2010/README!B$4","v":4.5532879818594107E-2},{"$f":"SIN(2*PI()*B2010*README!B$5)","v":0.40152373918771228}]
[2009,{"$f":"A2011/README!B$4","v":4.5555555555555557E-2},{"$f":"SIN(2*PI()*B2011*README!B$5)","v":0.64278760968650528}]
[2010,{"$f":"A2012/README!B$4","v":4.5578231292517007E-2},{"$f":"SIN(2*PI()*B2012*README!B$5)","v":0.83221095172105986}]
[2011,{"$f":"A2013/README!B$4","v":4.5600907029478457E-2},{"$f":"SIN(2*PI()*B2013*README!B$5)","v":0.95451685888148219}]
[2012,{"$f":"A2014/README!B$4","v":4.5623582766439907E-2},{"$f":"SIN(2*PI()*B2014*README!B$5)","v":0.9998414153642291}]
[2013,{"$f":"A2015/README!B$4","v":4.5646258503401357E-2},{"$f":"SIN(2*PI()*B2015*README!B$5)","v":0.96452921629676369}]
[2014,{"$f":"A2016/README!B$4","v":4.5668934240362814E-2},{"$f":"SIN(2*PI()*B2016*README!B$5)","v":0.85142817447841079}]
[2015,{"$f":"A2017/README!B$4","v":4.5691609977324264E-2},{"$f":"SIN(2*PI()*B2017*README!B$5)","v":0.66965983750805891}]
[2016,{"$f":"A2018/README!B$4","v":4.5714285714285714E-2},{"$f":"SIN(2*PI()*B2018*README!B$5)","v":0.43388373911757833}]
[2017,{"$f":"A2019/README!B$4","v":4.5736961451247164E-2},{"$f":"SIN(2*PI()*B2019*README!B$5)","v":0.16311511444172325}]
[2018,{"$f":"A2020/README!B$4","v":4.5759637188208614E-2},{"$f":"SIN(2*PI()*B2020*README!B$5)","v":-0.12080867005036271}]
[2019,{"$f":"A2021/README!B$4","v":4.5782312925170071E-2},{"$f":"SIN(2*PI()*B2021*README!B$5)","v":-0.39498929023086704}]
[2020,{"$f":"A2022/README!B$4","v":4.5804988662131521E-2},{"$f":"SIN(2*PI()*B2022*README!B$5)","v":-0.63731420374462111}]
[2021,{"$f":"A2023/README!B$4","v":4.5827664399092971E-2},{"$f":"SIN(2*PI()*B2023*README!B$5)","v":-0.82824001649454226}]
[2022,{"$f":"A2024/README!B$4","v":4.5850340136054421E-2},{"$f":"SIN(2*PI()*B2024*README!B$5)","v":-0.95236864849084624}]
[2023,{"$f":"A2025/README!B$4","v":4.5873015873015871E-2},{"$f":"SIN(2*PI()*B2025*README!B$5)","v":-0.99968918200081625}]
[2024,{"$f":"A2026/README!B$4","v":4.5895691609977321E-2},{"$f":"SIN(2*PI()*B2026*README!B$5)","v":-0.96638523751211247}]
[2025,{"$f":"A2027/README!B$4","v":4.5918367346938778E-2},{"$f":"SIN(2*PI()*B2027*README!B$5)","v":-0.85514276300532621}]
[2026,{"$f":"A2028/README!B$4","v":4.5941043083900228E-2},{"$f":"SIN(2*PI()*B2028*README!B$5)","v":-0.67493341347087399}]
[2027,{"$f":"A2029/README!B$4","v":4.5963718820861678E-2},{"$f":"SIN(2*PI()*B2029*README!B$5)","v":-0.44029099101257507}]
[2028,{"$f":"A2030/README!B$4","v":4.5986394557823128E-2},{"$f":"SIN(2*PI()*B2030*README!B$5)","v":-0.17013930031664951}]
[2029,{"$f":"A2031/README!B$4","v":4.6009070294784578E-2},{"$f":"SIN(2*PI()*B2031*README!B$5)","v":0.11373404759229801}]
[2030,{"$f":"A2032/README!B$4","v":4.6031746031746035E-2},{"$f":"SIN(2*PI()*B2032*README!B$5)","v":0.38843479627471467}]
[2031,{"$f":"A2033/README!B$4","v":4.6054421768707485E-2},{"$f":"SIN(2*PI()*B2033*README!B$5)","v":0.63180845524740503}]
[2032,{"$f":"A2034/README!B$4","v":4.6077097505668935E-2},{"$f":"SIN(2*PI()*B2034*README!B$5)","v":0.82422704956946813}]
[2033,{"$f":"A2035/README!B$4","v":4.6099773242630385E-2},{"$f":"SIN(2*PI()*B2035*README!B$5)","v":0.95017210709587618}]
[2034,{"$f":"A2036/README!B$4","v":4.6122448979591835E-2},{"$f":"SIN(2*PI()*B2036*README!B$5)","v":0.99948621620068745}]
[2035,{"$f":"A2037/README!B$4","v":4.6145124716553285E-2},{"$f":"SIN(2*PI()*B2037*README!B$5)","v":0.96819221640629327}]
[2036,{"$f":"A2038/README!B$4","v":4.6167800453514742E-2},{"$f":"SIN(2*PI()*B2038*README!B$5)","v":0.85881395456769627}]
[2037,{"$f":"A2039/README!B$4","v":4.6190476190476192E-2},{"$f":"SIN(2*PI()*B2039*README!B$5)","v":0.68017273777088738}]
[2038,{"$f":"A2040/README!B$4","v":4.6213151927437641E-2},{"$f":"SIN(2*PI()*B2040*README!B$5)","v":0.44667589892772169}]
[2039,{"$f":"A2041/README!B$4","v":4.6235827664399091E-2},{"$f":"SIN(2*PI()*B2041*README!B$5)","v":0.17715485192671709}]
[2040,{"$f":"A2042/README!B$4","v":4.6258503401360541E-2},{"$f":"SIN(2*PI()*B2042*README!B$5)","v":-0.10665365333510839}]
[2041,{"$f":"A2043/README!B$4","v":4.6281179138321998E-2},{"$f":"SIN(2*PI()*B2043*README!B$5)","v":-0.38186058994777872}]
[2042,{"$f":"A2044/README!B$4","v":4.6303854875283448E-2},{"$f":"SIN(2*PI()*B2044*README!B$5)","v":-0.62627064360209039}]
[2043,{"$f":"A2045/README!B$4","v":4.6326530612244898E-2},{"$f":"SIN(2*PI()*B2045*README!B$5)","v":-0.82017225459691734}]
[2044,{"$f":"A2046/README!B$4","v":4.6349206349206348E-2},{"$f":"SIN(2*PI()*B2046*README!B$5)","v":-0.94792734616711649}]
[2045,{"$f":"A2047/README!B$4","v":4.6371882086167798E-2},{"$f":"SIN(2*PI()*B2047*README!B$5)","v":-0.99923252826399567}]
[2046,{"$f":"A2048/README!B$4","v":4.6394557823129248E-2},{"$f":"SIN(2*PI()*B2048*README!B$5)","v":-0.96995006127844674}]
[2047,{"$f":"A2049/README!B$4","v":4.6417233560090705E-2},{"$f":"SIN(2*PI()*B2049*README!B$5)","v":-0.8624415628588854}]

{"sheet":"io-impulse","index":3,"n_rows":2049,"n_cols":6,"rows_kept":2049,"cut":false,"hidden":false,"merged":[]}
["index","Time","x[n]","y[n]"]
[0,{"$f":"A2/README!B$4","v":0},1]
[1,{"$f":"A3/README!B$4","v":2.2675736961451248E-5},0]
[2,{"$f":"A4/README!B$4","v":4.5351473922902495E-5},0]
[3,{"$f":"A5/README!B$4","v":6.802721088435374E-5},0]
[4,{"$f":"A6/README!B$4","v":9.0702947845804991E-5},0]
[5,{"$f":"A7/README!B$4","v":1.1337868480725624E-4},0]
[6,{"$f":"A8/README!B$4","v":1.3605442176870748E-4},0]
[7,{"$f":"A9/README!B$4","v":1.5873015873015873E-4},0]
[8,{"$f":"A10/README!B$4","v":1.8140589569160998E-4},0]
[9,{"$f":"A11/README!B$4","v":2.0408163265306123E-4},0]
[10,{"$f":"A12/README!B$4","v":2.2675736961451248E-4},0]
[11,{"$f":"A13/README!B$4","v":2.4943310657596373E-4},0]
[12,{"$f":"A14/README!B$4","v":2.7210884353741496E-4},0]
[13,{"$f":"A15/README!B$4","v":2.9478458049886624E-4},0]
[14,{"$f":"A16/README!B$4","v":3.1746031746031746E-4},0]
[15,{"$f":"A17/README!B$4","v":3.4013605442176868E-4},0]
[16,{"$f":"A18/README!B$4","v":3.6281179138321996E-4},0]
[17,{"$f":"A19/README!B$4","v":3.8548752834467119E-4},0,null,null,"出力の計算にはVBAを使います（詳しくは弊社サイトhttp://digitalfilter.comの「スマホとEXCELで学ぶ！実践ディジタル信号処理入門」ご参照）"]
[18,{"$f":"A20/README!B$4","v":4.0816326530612246E-4},0]
[19,{"$f":"A21/README!B$4","v":4.3083900226757369E-4},0]
[20,{"$f":"A22/README!B$4","v":4.5351473922902497E-4},0]
[21,{"$f":"A23/README!B$4","v":4.7619047619047619E-4},0]
[22,{"$f":"A24/README!B$4","v":4.9886621315192747E-4},0]
[23,{"$f":"A25/README!B$4","v":5.2154195011337864E-4},0]
[24,{"$f":"A26/README!B$4","v":5.4421768707482992E-4},0]
[25,{"$f":"A27/README!B$4","v":5.6689342403628119E-4},0]
[26,{"$f":"A28/README!B$4","v":5.8956916099773247E-4},0]
[27,{"$f":"A29/README!B$4","v":6.1224489795918364E-4},0]
[28,{"$f":"A30/README!B$4","v":6.3492063492063492E-4},0]
[29,{"$f":"A31/README!B$4","v":6.575963718820862E-4},0]
[30,{"$f":"A32/README!B$4","v":6.8027210884353737E-4},0]
[31,{"$f":"A33/README!B$4","v":7.0294784580498865E-4},0]
[32,{"$f":"A34/README!B$4","v":7.2562358276643992E-4},0]
[33,{"$f":"A35/README!B$4","v":7.482993197278912E-4},0]
[34,{"$f":"A36/README!B$4","v":7.7097505668934237E-4},0]
[35,{"$f":"A37/README!B$4","v":7.9365079365079365E-4},0]
[36,{"$f":"A38/README!B$4","v":8.1632653061224493E-4},0]
[37,{"$f":"A39/README!B$4","v":8.390022675736961E-4},0]
[38,{"$f":"A40/README!B$4","v":8.6167800453514738E-4},0]
[39,{"$f":"A41/README!B$4","v":8.8435374149659865E-4},0]
[40,{"$f":"A42/README!B$4","v":9.0702947845804993E-4},0]
[41,{"$f":"A43/README!B$4","v":9.297052154195011E-4},0]
[42,{"$f":"A44/README!B$4","v":9.5238095238095238E-4},0]
[43,{"$f":"A45/README!B$4","v":9.7505668934240366E-4},0]
[44,{"$f":"A46/README!B$4","v":9.9773242630385494E-4},0]
[45,{"$f":"A47/README!B$4","v":1.0204081632653062E-3},0]
[46,{"$f":"A48/README!B$4","v":1.0430839002267573E-3},0]
[47,{"$f":"A49/README!B$4","v":1.0657596371882086E-3},0]
[48,{"$f":"A50/README!B$4","v":1.0884353741496598E-3},0]
[49,{"$f":"A51/README!B$4","v":1.1111111111111111E-3},0]
[50,{"$f":"A52/README!B$4","v":1.1337868480725624E-3},0]
[51,{"$f":"A53/README!B$4","v":1.1564625850340137E-3},0]
[52,{"$f":"A54/README!B$4","v":1.1791383219954649E-3},0]
[53,{"$f":"A55/README!B$4","v":1.201814058956916E-3},0]
[54,{"$f":"A56/README!B$4","v":1.2244897959183673E-3},0]
[55,{"$f":"A57/README!B$4","v":1.2471655328798186E-3},0]
[56,{"$f":"A58/README!B$4","v":1.2698412698412698E-3},0]
[57,{"$f":"A59/README!B$4","v":1.2925170068027211E-3},0]
[58,{"$f":"A60/README!B$4","v":1.3151927437641724E-3},0]
[59,{"$f":"A61/README!B$4","v":1.3378684807256237E-3},0]
[60,{"$f":"A62/README!B$4","v":1.3605442176870747E-3},0]
[61,{"$f":"A63/README!B$4","v":1.383219954648526E-3},0]
[62,{"$f":"A64/README!B$4","v":1.4058956916099773E-3},0]
[63,{"$f":"A65/README!B$4","v":1.4285714285714286E-3},0]
[64,{"$f":"A66/README!B$4","v":1.4512471655328798E-3},0]
[65,{"$f":"A67/README!B$4","v":1.4739229024943311E-3},0]
[66,{"$f":"A68/README!B$4","v":1.4965986394557824E-3},0]
[67,{"$f":"A69/README!B$4","v":1.5192743764172335E-3},0]
[68,{"$f":"A70/README!B$4","v":1.5419501133786847E-3},0]
[69,{"$f":"A71/README!B$4","v":1.564625850340136E-3},0]
[70,{"$f":"A72/README!B$4","v":1.5873015873015873E-3},0]
[71,{"$f":"A73/README!B$4","v":1.6099773242630386E-3},0]
[72,{"$f":"A74/README!B$4","v":1.6326530612244899E-3},0]
[73,{"$f":"A75/README!B$4","v":1.6553287981859411E-3},0]
[74,{"$f":"A76/README!B$4","v":1.6780045351473922E-3},0]
[75,{"$f":"A77/README!B$4","v":1.7006802721088435E-3},0]
[76,{"$f":"A78/README!B$4","v":1.7233560090702948E-3},0]
[77,{"$f":"A79/README!B$4","v":1.746031746031746E-3},0]
[78,{"$f":"A80/README!B$4","v":1.7687074829931973E-3},0]
[79,{"$f":"A81/README!B$4","v":1.7913832199546486E-3},0]
[80,{"$f":"A82/README!B$4","v":1.8140589569160999E-3},0]
[81,{"$f":"A83/README!B$4","v":1.8367346938775509E-3},0]
[82,{"$f":"A84/README!B$4","v":1.8594104308390022E-3},0]
[83,{"$f":"A85/README!B$4","v":1.8820861678004535E-3},0]
[84,{"$f":"A86/README!B$4","v":1.9047619047619048E-3},0]
[85,{"$f":"A87/README!B$4","v":1.927437641723356E-3},0]
[86,{"$f":"A88/README!B$4","v":1.9501133786848073E-3},0]
[87,{"$f":"A89/README!B$4","v":1.9727891156462586E-3},0]
[88,{"$f":"A90/README!B$4","v":1.9954648526077099E-3},0]
[89,{"$f":"A91/README!B$4","v":2.0181405895691612E-3},0]
[90,{"$f":"A92/README!B$4","v":2.0408163265306124E-3},0]
[91,{"$f":"A93/README!B$4","v":2.0634920634920637E-3},0]
[92,{"$f":"A94/README!B$4","v":2.0861678004535146E-3},0]
[93,{"$f":"A95/README!B$4","v":2.1088435374149658E-3},0]
[94,{"$f":"A96/README!B$4","v":2.1315192743764171E-3},0]
[95,{"$f":"A97/README!B$4","v":2.1541950113378684E-3},0]
[96,{"$f":"A98/README!B$4","v":2.1768707482993197E-3},0]
[97,{"$f":"A99/README!B$4","v":2.1995464852607709E-3},0]
[98,{"$f":"A100/README!B$4","v":2.2222222222222222E-3},0]
[99,{"$f":"A101/README!B$4","v":2.2448979591836735E-3},0]
[100,{"$f":"A102/README!B$4","v":2.2675736961451248E-3},0]
[101,{"$f":"A103/README!B$4","v":2.2902494331065761E-3},0]
[102,{"$f":"A104/README!B$4","v":2.3129251700680273E-3},0]
[103,{"$f":"A105/README!B$4","v":2.3356009070294786E-3},0]
[104,{"$f":"A106/README!B$4","v":2.3582766439909299E-3},0]
[105,{"$f":"A107/README!B$4","v":2.3809523809523812E-3},0]
[106,{"$f":"A108/README!B$4","v":2.403628117913832E-3},0]
[107,{"$f":"A109/README!B$4","v":2.4263038548752833E-3},0]
[108,{"$f":"A110/README!B$4","v":2.4489795918367346E-3},0]
[109,{"$f":"A111/README!B$4","v":2.4716553287981858E-3},0]
[110,{"$f":"A112/README!B$4","v":2.4943310657596371E-3},0]
[111,{"$f":"A113/README!B$4","v":2.5170068027210884E-3},0]
[112,{"$f":"A114/README!B$4","v":2.5396825396825397E-3},0]
[113,{"$f":"A115/README!B$4","v":2.562358276643991E-3},0]
[114,{"$f":"A116/README!B$4","v":2.5850340136054422E-3},0]
[115,{"$f":"A117/README!B$4","v":2.6077097505668935E-3},0]
[116,{"$f":"A118/README!B$4","v":2.6303854875283448E-3},0]
[117,{"$f":"A119/README!B$4","v":2.6530612244897961E-3},0]
[118,{"$f":"A120/README!B$4","v":2.6757369614512473E-3},0]
[119,{"$f":"A121/README!B$4","v":2.6984126984126986E-3},0]
[120,{"$f":"A122/README!B$4","v":2.7210884353741495E-3},0]
[121,{"$f":"A123/README!B$4","v":2.7437641723356007E-3},0]
[122,{"$f":"A124/README!B$4","v":2.766439909297052E-3},0]
[123,{"$f":"A125/README!B$4","v":2.7891156462585033E-3},0]
[124,{"$f":"A126/README!B$4","v":2.8117913832199546E-3},0]
[125,{"$f":"A127/README!B$4","v":2.8344671201814059E-3},0]
[126,{"$f":"A128/README!B$4","v":2.8571428571428571E-3},0]
[127,{"$f":"A129/README!B$4","v":2.8798185941043084E-3},0]
[128,{"$f":"A130/README!B$4","v":2.9024943310657597E-3},0]
[129,{"$f":"A131/README!B$4","v":2.925170068027211E-3},0]
[130,{"$f":"A132/README!B$4","v":2.9478458049886623E-3},0]
[131,{"$f":"A133/README!B$4","v":2.9705215419501135E-3},0]
[132,{"$f":"A134/README!B$4","v":2.9931972789115648E-3},0]
[133,{"$f":"A135/README!B$4","v":3.0158730158730161E-3},0]
[134,{"$f":"A136/README!B$4","v":3.0385487528344669E-3},0]
[135,{"$f":"A137/README!B$4","v":3.0612244897959182E-3},0]
[136,{"$f":"A138/README!B$4","v":3.0839002267573695E-3},0]
[137,{"$f":"A139/README!B$4","v":3.1065759637188208E-3},0]
[138,{"$f":"A140/README!B$4","v":3.129251700680272E-3},0]
[139,{"$f":"A141/README!B$4","v":3.1519274376417233E-3},0]
[140,{"$f":"A142/README!B$4","v":3.1746031746031746E-3},0]
[141,{"$f":"A143/README!B$4","v":3.1972789115646259E-3},0]
[142,{"$f":"A144/README!B$4","v":3.2199546485260772E-3},0]
[143,{"$f":"A145/README!B$4","v":3.2426303854875284E-3},0]
[144,{"$f":"A146/README!B$4","v":3.2653061224489797E-3},0]
[145,{"$f":"A147/README!B$4","v":3.287981859410431E-3},0]
[146,{"$f":"A148/README!B$4","v":3.3106575963718823E-3},0]
[147,{"$f":"A149/README!B$4","v":3.3333333333333335E-3},0]
[148,{"$f":"A150/README!B$4","v":3.3560090702947844E-3},0]
[149,{"$f":"A151/README!B$4","v":3.3786848072562357E-3},0]
[150,{"$f":"A152/README!B$4","v":3.4013605442176869E-3},0]
[151,{"$f":"A153/README!B$4","v":3.4240362811791382E-3},0]
[152,{"$f":"A154/README!B$4","v":3.4467120181405895E-3},0]
[153,{"$f":"A155/README!B$4","v":3.4693877551020408E-3},0]
[154,{"$f":"A156/README!B$4","v":3.4920634920634921E-3},0]
[155,{"$f":"A157/README!B$4","v":3.5147392290249433E-3},0]
[156,{"$f":"A158/README!B$4","v":3.5374149659863946E-3},0]
[157,{"$f":"A159/README!B$4","v":3.5600907029478459E-3},0]
[158,{"$f":"A160/README!B$4","v":3.5827664399092972E-3},0]
[159,{"$f":"A161/README!B$4","v":3.6054421768707485E-3},0]
[160,{"$f":"A162/README!B$4","v":3.6281179138321997E-3},0]
[161,{"$f":"A163/README!B$4","v":3.650793650793651E-3},0]
[162,{"$f":"A164/README!B$4","v":3.6734693877551019E-3},0]
[163,{"$f":"A165/README!B$4","v":3.6961451247165531E-3},0]
[164,{"$f":"A166/README!B$4","v":3.7188208616780044E-3},0]
[165,{"$f":"A167/README!B$4","v":3.7414965986394557E-3},0]
[166,{"$f":"A168/README!B$4","v":3.764172335600907E-3},0]
[167,{"$f":"A169/README!B$4","v":3.7868480725623582E-3},0]
[168,{"$f":"A170/README!B$4","v":3.8095238095238095E-3},0]
[169,{"$f":"A171/README!B$4","v":3.8321995464852608E-3},0]
[170,{"$f":"A172/README!B$4","v":3.8548752834467121E-3},0]
[171,{"$f":"A173/README!B$4","v":3.8775510204081634E-3},0]
[172,{"$f":"A174/README!B$4","v":3.9002267573696146E-3},0]
[173,{"$f":"A175/README!B$4","v":3.9229024943310655E-3},0]
[174,{"$f":"A176/README!B$4","v":3.9455782312925172E-3},0]
[175,{"$f":"A177/README!B$4","v":3.968253968253968E-3},0]
[176,{"$f":"A178/README!B$4","v":3.9909297052154197E-3},0]
[177,{"$f":"A179/README!B$4","v":4.0136054421768706E-3},0]
[178,{"$f":"A180/README!B$4","v":4.0362811791383223E-3},0]
[179,{"$f":"A181/README!B$4","v":4.0589569160997731E-3},0]
[180,{"$f":"A182/README!B$4","v":4.0816326530612249E-3},0]
[181,{"$f":"A183/README!B$4","v":4.1043083900226757E-3},0]
[182,{"$f":"A184/README!B$4","v":4.1269841269841274E-3},0]
[183,{"$f":"A185/README!B$4","v":4.1496598639455783E-3},0]
[184,{"$f":"A186/README!B$4","v":4.1723356009070291E-3},0]
[185,{"$f":"A187/README!B$4","v":4.1950113378684808E-3},0]
[186,{"$f":"A188/README!B$4","v":4.2176870748299317E-3},0]
[187,{"$f":"A189/README!B$4","v":4.2403628117913834E-3},0]
[188,{"$f":"A190/README!B$4","v":4.2630385487528342E-3},0]
[189,{"$f":"A191/README!B$4","v":4.2857142857142859E-3},0]
[190,{"$f":"A192/README!B$4","v":4.3083900226757368E-3},0]
[191,{"$f":"A193/README!B$4","v":4.3310657596371885E-3},0]
[192,{"$f":"A194/README!B$4","v":4.3537414965986393E-3},0]
[193,{"$f":"A195/README!B$4","v":4.376417233560091E-3},0]
[194,{"$f":"A196/README!B$4","v":4.3990929705215419E-3},0]
[195,{"$f":"A197/README!B$4","v":4.4217687074829936E-3},0]
[196,{"$f":"A198/README!B$4","v":4.4444444444444444E-3},0]
[197,{"$f":"A199/README!B$4","v":4.4671201814058953E-3},0]
[198,{"$f":"A200/README!B$4","v":4.489795918367347E-3},0]
[199,{"$f":"A201/README!B$4","v":4.5124716553287978E-3},0]
[200,{"$f":"A202/README!B$4","v":4.5351473922902496E-3},0]
[201,{"$f":"A203/README!B$4","v":4.5578231292517004E-3},0]
[202,{"$f":"A204/README!B$4","v":4.5804988662131521E-3},0]
[203,{"$f":"A205/README!B$4","v":4.603174603174603E-3},0]
[204,{"$f":"A206/README!B$4","v":4.6258503401360547E-3},0]
[205,{"$f":"A207/README!B$4","v":4.6485260770975055E-3},0]
[206,{"$f":"A208/README!B$4","v":4.6712018140589572E-3},0]
[207,{"$f":"A209/README!B$4","v":4.6938775510204081E-3},0]
[208,{"$f":"A210/README!B$4","v":4.7165532879818598E-3},0]
[209,{"$f":"A211/README!B$4","v":4.7392290249433106E-3},0]
[210,{"$f":"A212/README!B$4","v":4.7619047619047623E-3},0]
[211,{"$f":"A213/README!B$4","v":4.7845804988662132E-3},0]
[212,{"$f":"A214/README!B$4","v":4.807256235827664E-3},0]
[213,{"$f":"A215/README!B$4","v":4.8299319727891157E-3},0]
[214,{"$f":"A216/README!B$4","v":4.8526077097505666E-3},0]
[215,{"$f":"A217/README!B$4","v":4.8752834467120183E-3},0]
[216,{"$f":"A218/README!B$4","v":4.8979591836734691E-3},0]
[217,{"$f":"A219/README!B$4","v":4.9206349206349208E-3},0]
[218,{"$f":"A220/README!B$4","v":4.9433106575963717E-3},0]
[219,{"$f":"A221/README!B$4","v":4.9659863945578234E-3},0]
[220,{"$f":"A222/README!B$4","v":4.9886621315192742E-3},0]
[221,{"$f":"A223/README!B$4","v":5.011337868480726E-3},0]
[222,{"$f":"A224/README!B$4","v":5.0340136054421768E-3},0]
[223,{"$f":"A225/README!B$4","v":5.0566893424036285E-3},0]
[224,{"$f":"A226/README!B$4","v":5.0793650793650794E-3},0]
[225,{"$f":"A227/README!B$4","v":5.1020408163265302E-3},0]
[226,{"$f":"A228/README!B$4","v":5.1247165532879819E-3},0]
[227,{"$f":"A229/README!B$4","v":5.1473922902494328E-3},0]
[228,{"$f":"A230/README!B$4","v":5.1700680272108845E-3},0]
[229,{"$f":"A231/README!B$4","v":5.1927437641723353E-3},0]
[230,{"$f":"A232/README!B$4","v":5.215419501133787E-3},0]
[231,{"$f":"A233/README!B$4","v":5.2380952380952379E-3},0]
[232,{"$f":"A234/README!B$4","v":5.2607709750566896E-3},0]
[233,{"$f":"A235/README!B$4","v":5.2834467120181404E-3},0]
[234,{"$f":"A236/README!B$4","v":5.3061224489795921E-3},0]
[235,{"$f":"A237/README!B$4","v":5.328798185941043E-3},0]
[236,{"$f":"A238/README!B$4","v":5.3514739229024947E-3},0]
[237,{"$f":"A239/README!B$4","v":5.3741496598639455E-3},0]
[238,{"$f":"A240/README!B$4","v":5.3968253968253973E-3},0]
[239,{"$f":"A241/README!B$4","v":5.4195011337868481E-3},0]
[240,{"$f":"A242/README!B$4","v":5.4421768707482989E-3},0]
[241,{"$f":"A243/README!B$4","v":5.4648526077097507E-3},0]
[242,{"$f":"A244/README!B$4","v":5.4875283446712015E-3},0]
[243,{"$f":"A245/README!B$4","v":5.5102040816326532E-3},0]
[244,{"$f":"A246/README!B$4","v":5.5328798185941041E-3},0]
[245,{"$f":"A247/README!B$4","v":5.5555555555555558E-3},0]
[246,{"$f":"A248/README!B$4","v":5.5782312925170066E-3},0]
[247,{"$f":"A249/README!B$4","v":5.6009070294784583E-3},0]
[248,{"$f":"A250/README!B$4","v":5.6235827664399092E-3},0]
[249,{"$f":"A251/README!B$4","v":5.6462585034013609E-3},0]
[250,{"$f":"A252/README!B$4","v":5.6689342403628117E-3},0]
[251,{"$f":"A253/README!B$4","v":5.6916099773242634E-3},0]
[252,{"$f":"A254/README!B$4","v":5.7142857142857143E-3},0]
[253,{"$f":"A255/README!B$4","v":5.7369614512471651E-3},0]
[254,{"$f":"A256/README!B$4","v":5.7596371882086168E-3},0]
[255,{"$f":"A257/README!B$4","v":5.7823129251700677E-3},0]
[256,{"$f":"A258/README!B$4","v":5.8049886621315194E-3},0]
[257,{"$f":"A259/README!B$4","v":5.8276643990929702E-3},0]
[258,{"$f":"A260/README!B$4","v":5.8503401360544219E-3},0]
[259,{"$f":"A261/README!B$4","v":5.8730158730158728E-3},0]
[260,{"$f":"A262/README!B$4","v":5.8956916099773245E-3},0]
[261,{"$f":"A263/README!B$4","v":5.9183673469387754E-3},0]
[262,{"$f":"A264/README!B$4","v":5.9410430839002271E-3},0]
[263,{"$f":"A265/README!B$4","v":5.9637188208616779E-3},0]
[264,{"$f":"A266/README!B$4","v":5.9863945578231296E-3},0]
[265,{"$f":"A267/README!B$4","v":6.0090702947845805E-3},0]
[266,{"$f":"A268/README!B$4","v":6.0317460317460322E-3},0]
[267,{"$f":"A269/README!B$4","v":6.054421768707483E-3},0]
[268,{"$f":"A270/README!B$4","v":6.0770975056689339E-3},0]
[269,{"$f":"A271/README!B$4","v":6.0997732426303856E-3},0]
[270,{"$f":"A272/README!B$4","v":6.1224489795918364E-3},0]
[271,{"$f":"A273/README!B$4","v":6.1451247165532881E-3},0]
[272,{"$f":"A274/README!B$4","v":6.167800453514739E-3},0]
[273,{"$f":"A275/README!B$4","v":6.1904761904761907E-3},0]
[274,{"$f":"A276/README!B$4","v":6.2131519274376415E-3},0]
[275,{"$f":"A277/README!B$4","v":6.2358276643990932E-3},0]
[276,{"$f":"A278/README!B$4","v":6.2585034013605441E-3},0]
[277,{"$f":"A279/README!B$4","v":6.2811791383219958E-3},0]
[278,{"$f":"A280/README!B$4","v":6.3038548752834466E-3},0]
[279,{"$f":"A281/README!B$4","v":6.3265306122448984E-3},0]
[280,{"$f":"A282/README!B$4","v":6.3492063492063492E-3},0]
[281,{"$f":"A283/README!B$4","v":6.3718820861678E-3},0]
[282,{"$f":"A284/README!B$4","v":6.3945578231292518E-3},0]
[283,{"$f":"A285/README!B$4","v":6.4172335600907026E-3},0]
[284,{"$f":"A286/README!B$4","v":6.4399092970521543E-3},0]
[285,{"$f":"A287/README!B$4","v":6.4625850340136052E-3},0]
[286,{"$f":"A288/README!B$4","v":6.4852607709750569E-3},0]
[287,{"$f":"A289/README!B$4","v":6.5079365079365077E-3},0]
[288,{"$f":"A290/README!B$4","v":6.5306122448979594E-3},0]
[289,{"$f":"A291/README!B$4","v":6.5532879818594103E-3},0]
[290,{"$f":"A292/README!B$4","v":6.575963718820862E-3},0]
[291,{"$f":"A293/README!B$4","v":6.5986394557823128E-3},0]
[292,{"$f":"A294/README!B$4","v":6.6213151927437645E-3},0]
[293,{"$f":"A295/README!B$4","v":6.6439909297052154E-3},0]
[294,{"$f":"A296/README!B$4","v":6.6666666666666671E-3},0]
[295,{"$f":"A297/README!B$4","v":6.6893424036281179E-3},0]
[296,{"$f":"A298/README!B$4","v":6.7120181405895688E-3},0]
[297,{"$f":"A299/README!B$4","v":6.7346938775510205E-3},0]
[298,{"$f":"A300/README!B$4","v":6.7573696145124713E-3},0]
[299,{"$f":"A301/README!B$4","v":6.7800453514739231E-3},0]
[300,{"$f":"A302/README!B$4","v":6.8027210884353739E-3},0]
[301,{"$f":"A303/README!B$4","v":6.8253968253968256E-3},0]
[302,{"$f":"A304/README!B$4","v":6.8480725623582765E-3},0]
[303,{"$f":"A305/README!B$4","v":6.8707482993197282E-3},0]
[304,{"$f":"A306/README!B$4","v":6.893424036281179E-3},0]
[305,{"$f":"A307/README!B$4","v":6.9160997732426307E-3},0]
[306,{"$f":"A308/README!B$4","v":6.9387755102040816E-3},0]
[307,{"$f":"A309/README!B$4","v":6.9614512471655333E-3},0]
[308,{"$f":"A310/README!B$4","v":6.9841269841269841E-3},0]
[309,{"$f":"A311/README!B$4","v":7.006802721088435E-3},0]
[310,{"$f":"A312/README!B$4","v":7.0294784580498867E-3},0]
[311,{"$f":"A313/README!B$4","v":7.0521541950113375E-3},0]
[312,{"$f":"A314/README!B$4","v":7.0748299319727892E-3},0]
[313,{"$f":"A315/README!B$4","v":7.0975056689342401E-3},0]
[314,{"$f":"A316/README!B$4","v":7.1201814058956918E-3},0]
[315,{"$f":"A317/README!B$4","v":7.1428571428571426E-3},0]
[316,{"$f":"A318/README!B$4","v":7.1655328798185943E-3},0]
[317,{"$f":"A319/README!B$4","v":7.1882086167800452E-3},0]
[318,{"$f":"A320/README!B$4","v":7.2108843537414969E-3},0]
[319,{"$f":"A321/README!B$4","v":7.2335600907029477E-3},0]
[320,{"$f":"A322/README!B$4","v":7.2562358276643995E-3},0]
[321,{"$f":"A323/README!B$4","v":7.2789115646258503E-3},0]
[322,{"$f":"A324/README!B$4","v":7.301587301587302E-3},0]
[323,{"$f":"A325/README!B$4","v":7.3242630385487529E-3},0]
[324,{"$f":"A326/README!B$4","v":7.3469387755102037E-3},0]
[325,{"$f":"A327/README!B$4","v":7.3696145124716554E-3},0]
[326,{"$f":"A328/README!B$4","v":7.3922902494331063E-3},0]
[327,{"$f":"A329/README!B$4","v":7.414965986394558E-3},0]
[328,{"$f":"A330/README!B$4","v":7.4376417233560088E-3},0]
[329,{"$f":"A331/README!B$4","v":7.4603174603174605E-3},0]
[330,{"$f":"A332/README!B$4","v":7.4829931972789114E-3},0]
[331,{"$f":"A333/README!B$4","v":7.5056689342403631E-3},0]
[332,{"$f":"A334/README!B$4","v":7.5283446712018139E-3},0]
[333,{"$f":"A335/README!B$4","v":7.5510204081632656E-3},0]
[334,{"$f":"A336/README!B$4","v":7.5736961451247165E-3},0]
[335,{"$f":"A337/README!B$4","v":7.5963718820861682E-3},0]
[336,{"$f":"A338/README!B$4","v":7.619047619047619E-3},0]
[337,{"$f":"A339/README!B$4","v":7.6417233560090699E-3},0]
[338,{"$f":"A340/README!B$4","v":7.6643990929705216E-3},0]
[339,{"$f":"A341/README!B$4","v":7.6870748299319724E-3},0]
[340,{"$f":"A342/README!B$4","v":7.7097505668934242E-3},0]
[341,{"$f":"A343/README!B$4","v":7.732426303854875E-3},0]
[342,{"$f":"A344/README!B$4","v":7.7551020408163267E-3},0]
[343,{"$f":"A345/README!B$4","v":7.7777777777777776E-3},0]
[344,{"$f":"A346/README!B$4","v":7.8004535147392293E-3},0]
[345,{"$f":"A347/README!B$4","v":7.823129251700681E-3},0]
[346,{"$f":"A348/README!B$4","v":7.845804988662131E-3},0]
[347,{"$f":"A349/README!B$4","v":7.8684807256235827E-3},0]
[348,{"$f":"A350/README!B$4","v":7.8911564625850344E-3},0]
[349,{"$f":"A351/README!B$4","v":7.9138321995464861E-3},0]
[350,{"$f":"A352/README!B$4","v":7.9365079365079361E-3},0]
[351,{"$f":"A353/README!B$4","v":7.9591836734693878E-3},0]
[352,{"$f":"A354/README!B$4","v":7.9818594104308395E-3},0]
[353,{"$f":"A355/README!B$4","v":8.0045351473922895E-3},0]
[354,{"$f":"A356/README!B$4","v":8.0272108843537412E-3},0]
[355,{"$f":"A357/README!B$4","v":8.0498866213151929E-3},0]
[356,{"$f":"A358/README!B$4","v":8.0725623582766446E-3},0]
[357,{"$f":"A359/README!B$4","v":8.0952380952380946E-3},0]
[358,{"$f":"A360/README!B$4","v":8.1179138321995463E-3},0]
[359,{"$f":"A361/README!B$4","v":8.140589569160998E-3},0]
[360,{"$f":"A362/README!B$4","v":8.1632653061224497E-3},0]
[361,{"$f":"A363/README!B$4","v":8.1859410430838997E-3},0]
[362,{"$f":"A364/README!B$4","v":8.2086167800453514E-3},0]
[363,{"$f":"A365/README!B$4","v":8.2312925170068031E-3},0]
[364,{"$f":"A366/README!B$4","v":8.2539682539682548E-3},0]
[365,{"$f":"A367/README!B$4","v":8.2766439909297048E-3},0]
[366,{"$f":"A368/README!B$4","v":8.2993197278911565E-3},0]
[367,{"$f":"A369/README!B$4","v":8.3219954648526082E-3},0]
[368,{"$f":"A370/README!B$4","v":8.3446712018140582E-3},0]
[369,{"$f":"A371/README!B$4","v":8.3673469387755099E-3},0]
[370,{"$f":"A372/README!B$4","v":8.3900226757369616E-3},0]
[371,{"$f":"A373/README!B$4","v":8.4126984126984133E-3},0]
[372,{"$f":"A374/README!B$4","v":8.4353741496598633E-3},0]
[373,{"$f":"A375/README!B$4","v":8.458049886621315E-3},0]
[374,{"$f":"A376/README!B$4","v":8.4807256235827667E-3},0]
[375,{"$f":"A377/README!B$4","v":8.5034013605442185E-3},0]
[376,{"$f":"A378/README!B$4","v":8.5260770975056684E-3},0]
[377,{"$f":"A379/README!B$4","v":8.5487528344671201E-3},0]
[378,{"$f":"A380/README!B$4","v":8.5714285714285719E-3},0]
[379,{"$f":"A381/README!B$4","v":8.5941043083900218E-3},0]
[380,{"$f":"A382/README!B$4","v":8.6167800453514735E-3},0]
[381,{"$f":"A383/README!B$4","v":8.6394557823129253E-3},0]
[382,{"$f":"A384/README!B$4","v":8.662131519274377E-3},0]
[383,{"$f":"A385/README!B$4","v":8.6848072562358269E-3},0]
[384,{"$f":"A386/README!B$4","v":8.7074829931972787E-3},0]
[385,{"$f":"A387/README!B$4","v":8.7301587301587304E-3},0]
[386,{"$f":"A388/README!B$4","v":8.7528344671201821E-3},0]
[387,{"$f":"A389/README!B$4","v":8.7755102040816321E-3},0]
[388,{"$f":"A390/README!B$4","v":8.7981859410430838E-3},0]
[389,{"$f":"A391/README!B$4","v":8.8208616780045355E-3},0]
[390,{"$f":"A392/README!B$4","v":8.8435374149659872E-3},0]
[391,{"$f":"A393/README!B$4","v":8.8662131519274372E-3},0]
[392,{"$f":"A394/README!B$4","v":8.8888888888888889E-3},0]
[393,{"$f":"A395/README!B$4","v":8.9115646258503406E-3},0]
[394,{"$f":"A396/README!B$4","v":8.9342403628117906E-3},0]
[395,{"$f":"A397/README!B$4","v":8.9569160997732423E-3},0]
[396,{"$f":"A398/README!B$4","v":8.979591836734694E-3},0]
[397,{"$f":"A399/README!B$4","v":9.0022675736961457E-3},0]
[398,{"$f":"A400/README!B$4","v":9.0249433106575957E-3},0]
[399,{"$f":"A401/README!B$4","v":9.0476190476190474E-3},0]
[400,{"$f":"A402/README!B$4","v":9.0702947845804991E-3},0]
[401,{"$f":"A403/README!B$4","v":9.0929705215419508E-3},0]
[402,{"$f":"A404/README!B$4","v":9.1156462585034008E-3},0]
[403,{"$f":"A405/README!B$4","v":9.1383219954648525E-3},0]
[404,{"$f":"A406/README!B$4","v":9.1609977324263042E-3},0]
[405,{"$f":"A407/README!B$4","v":9.1836734693877559E-3},0]
[406,{"$f":"A408/README!B$4","v":9.2063492063492059E-3},0]
[407,{"$f":"A409/README!B$4","v":9.2290249433106576E-3},0]
[408,{"$f":"A410/README!B$4","v":9.2517006802721093E-3},0]
[409,{"$f":"A411/README!B$4","v":9.2743764172335593E-3},0]
[410,{"$f":"A412/README!B$4","v":9.297052154195011E-3},0]
[411,{"$f":"A413/README!B$4","v":9.3197278911564627E-3},0]
[412,{"$f":"A414/README!B$4","v":9.3424036281179144E-3},0]
[413,{"$f":"A415/README!B$4","v":9.3650793650793644E-3},0]
[414,{"$f":"A416/README!B$4","v":9.3877551020408161E-3},0]
[415,{"$f":"A417/README!B$4","v":9.4104308390022678E-3},0]
[416,{"$f":"A418/README!B$4","v":9.4331065759637196E-3},0]
[417,{"$f":"A419/README!B$4","v":9.4557823129251695E-3},0]
[418,{"$f":"A420/README!B$4","v":9.4784580498866212E-3},0]
[419,{"$f":"A421/README!B$4","v":9.501133786848073E-3},0]
[420,{"$f":"A422/README!B$4","v":9.5238095238095247E-3},0]
[421,{"$f":"A423/README!B$4","v":9.5464852607709746E-3},0]
[422,{"$f":"A424/README!B$4","v":9.5691609977324264E-3},0]
[423,{"$f":"A425/README!B$4","v":9.5918367346938781E-3},0]
[424,{"$f":"A426/README!B$4","v":9.614512471655328E-3},0]
[425,{"$f":"A427/README!B$4","v":9.6371882086167798E-3},0]
[426,{"$f":"A428/README!B$4","v":9.6598639455782315E-3},0]
[427,{"$f":"A429/README!B$4","v":9.6825396825396832E-3},0]
[428,{"$f":"A430/README!B$4","v":9.7052154195011332E-3},0]
[429,{"$f":"A431/README!B$4","v":9.7278911564625849E-3},0]
[430,{"$f":"A432/README!B$4","v":9.7505668934240366E-3},0]
[431,{"$f":"A433/README!B$4","v":9.7732426303854883E-3},0]
[432,{"$f":"A434/README!B$4","v":9.7959183673469383E-3},0]
[433,{"$f":"A435/README!B$4","v":9.81859410430839E-3},0]
[434,{"$f":"A436/README!B$4","v":9.8412698412698417E-3},0]
[435,{"$f":"A437/README!B$4","v":9.8639455782312917E-3},0]
[436,{"$f":"A438/README!B$4","v":9.8866213151927434E-3},0]
[437,{"$f":"A439/README!B$4","v":9.9092970521541951E-3},0]
[438,{"$f":"A440/README!B$4","v":9.9319727891156468E-3},0]
[439,{"$f":"A441/README!B$4","v":9.9546485260770968E-3},0]
[440,{"$f":"A442/README!B$4","v":9.9773242630385485E-3},0]
[441,{"$f":"A443/README!B$4","v":0.01},0]
[442,{"$f":"A444/README!B$4","v":1.0022675736961452E-2},0]
[443,{"$f":"A445/README!B$4","v":1.0045351473922902E-2},0]
[444,{"$f":"A446/README!B$4","v":1.0068027210884354E-2},0]
[445,{"$f":"A447/README!B$4","v":1.0090702947845805E-2},0]
[446,{"$f":"A448/README!B$4","v":1.0113378684807257E-2},0]
[447,{"$f":"A449/README!B$4","v":1.0136054421768707E-2},0]
[448,{"$f":"A450/README!B$4","v":1.0158730158730159E-2},0]
[449,{"$f":"A451/README!B$4","v":1.018140589569161E-2},0]
[450,{"$f":"A452/README!B$4","v":1.020408163265306E-2},0]
[451,{"$f":"A453/README!B$4","v":1.0226757369614512E-2},0]
[452,{"$f":"A454/README!B$4","v":1.0249433106575964E-2},0]
[453,{"$f":"A455/README!B$4","v":1.0272108843537416E-2},0]
[454,{"$f":"A456/README!B$4","v":1.0294784580498866E-2},0]
[455,{"$f":"A457/README!B$4","v":1.0317460317460317E-2},0]
[456,{"$f":"A458/README!B$4","v":1.0340136054421769E-2},0]
[457,{"$f":"A459/README!B$4","v":1.0362811791383221E-2},0]
[458,{"$f":"A460/README!B$4","v":1.0385487528344671E-2},0]
[459,{"$f":"A461/README!B$4","v":1.0408163265306122E-2},0]
[460,{"$f":"A462/README!B$4","v":1.0430839002267574E-2},0]
[461,{"$f":"A463/README!B$4","v":1.0453514739229026E-2},0]
[462,{"$f":"A464/README!B$4","v":1.0476190476190476E-2},0]
[463,{"$f":"A465/README!B$4","v":1.0498866213151927E-2},0]
[464,{"$f":"A466/README!B$4","v":1.0521541950113379E-2},0]
[465,{"$f":"A467/README!B$4","v":1.0544217687074829E-2},0]
[466,{"$f":"A468/README!B$4","v":1.0566893424036281E-2},0]
[467,{"$f":"A469/README!B$4","v":1.0589569160997733E-2},0]
[468,{"$f":"A470/README!B$4","v":1.0612244897959184E-2},0]
[469,{"$f":"A471/README!B$4","v":1.0634920634920634E-2},0]
[470,{"$f":"A472/README!B$4","v":1.0657596371882086E-2},0]
[471,{"$f":"A473/README!B$4","v":1.0680272108843538E-2},0]
[472,{"$f":"A474/README!B$4","v":1.0702947845804989E-2},0]
[473,{"$f":"A475/README!B$4","v":1.0725623582766439E-2},0]
[474,{"$f":"A476/README!B$4","v":1.0748299319727891E-2},0]
[475,{"$f":"A477/README!B$4","v":1.0770975056689343E-2},0]
[476,{"$f":"A478/README!B$4","v":1.0793650793650795E-2},0]
[477,{"$f":"A479/README!B$4","v":1.0816326530612244E-2},0]
[478,{"$f":"A480/README!B$4","v":1.0839002267573696E-2},0]
[479,{"$f":"A481/README!B$4","v":1.0861678004535148E-2},0]
[480,{"$f":"A482/README!B$4","v":1.0884353741496598E-2},0]
[481,{"$f":"A483/README!B$4","v":1.090702947845805E-2},0]
[482,{"$f":"A484/README!B$4","v":1.0929705215419501E-2},0]
[483,{"$f":"A485/README!B$4","v":1.0952380952380953E-2},0]
[484,{"$f":"A486/README!B$4","v":1.0975056689342403E-2},0]
[485,{"$f":"A487/README!B$4","v":1.0997732426303855E-2},0]
[486,{"$f":"A488/README!B$4","v":1.1020408163265306E-2},0]
[487,{"$f":"A489/README!B$4","v":1.1043083900226758E-2},0]
[488,{"$f":"A490/README!B$4","v":1.1065759637188208E-2},0]
[489,{"$f":"A491/README!B$4","v":1.108843537414966E-2},0]
[490,{"$f":"A492/README!B$4","v":1.1111111111111112E-2},0]
[491,{"$f":"A493/README!B$4","v":1.1133786848072562E-2},0]
[492,{"$f":"A494/README!B$4","v":1.1156462585034013E-2},0]
[493,{"$f":"A495/README!B$4","v":1.1179138321995465E-2},0]
[494,{"$f":"A496/README!B$4","v":1.1201814058956917E-2},0]
[495,{"$f":"A497/README!B$4","v":1.1224489795918367E-2},0]
[496,{"$f":"A498/README!B$4","v":1.1247165532879818E-2},0]
[497,{"$f":"A499/README!B$4","v":1.126984126984127E-2},0]
[498,{"$f":"A500/README!B$4","v":1.1292517006802722E-2},0]
[499,{"$f":"A501/README!B$4","v":1.1315192743764172E-2},0]
[500,{"$f":"A502/README!B$4","v":1.1337868480725623E-2},0]
[501,{"$f":"A503/README!B$4","v":1.1360544217687075E-2},0]
[502,{"$f":"A504/README!B$4","v":1.1383219954648527E-2},0]
[503,{"$f":"A505/README!B$4","v":1.1405895691609977E-2},0]
[504,{"$f":"A506/README!B$4","v":1.1428571428571429E-2},0]
[505,{"$f":"A507/README!B$4","v":1.145124716553288E-2},0]
[506,{"$f":"A508/README!B$4","v":1.147392290249433E-2},0]
[507,{"$f":"A509/README!B$4","v":1.1496598639455782E-2},0]
[508,{"$f":"A510/README!B$4","v":1.1519274376417234E-2},0]
[509,{"$f":"A511/README!B$4","v":1.1541950113378685E-2},0]
[510,{"$f":"A512/README!B$4","v":1.1564625850340135E-2},0]
[511,{"$f":"A513/README!B$4","v":1.1587301587301587E-2},0]
[512,{"$f":"A514/README!B$4","v":1.1609977324263039E-2},0]
[513,{"$f":"A515/README!B$4","v":1.163265306122449E-2},0]
[514,{"$f":"A516/README!B$4","v":1.165532879818594E-2},0]
[515,{"$f":"A517/README!B$4","v":1.1678004535147392E-2},0]
[516,{"$f":"A518/README!B$4","v":1.1700680272108844E-2},0]
[517,{"$f":"A519/README!B$4","v":1.1723356009070296E-2},0]
[518,{"$f":"A520/README!B$4","v":1.1746031746031746E-2},0]
[519,{"$f":"A521/README!B$4","v":1.1768707482993197E-2},0]
[520,{"$f":"A522/README!B$4","v":1.1791383219954649E-2},0]
[521,{"$f":"A523/README!B$4","v":1.1814058956916099E-2},0]
[522,{"$f":"A524/README!B$4","v":1.1836734693877551E-2},0]
[523,{"$f":"A525/README!B$4","v":1.1859410430839002E-2},0]
[524,{"$f":"A526/README!B$4","v":1.1882086167800454E-2},0]
[525,{"$f":"A527/README!B$4","v":1.1904761904761904E-2},0]
[526,{"$f":"A528/README!B$4","v":1.1927437641723356E-2},0]
[527,{"$f":"A529/README!B$4","v":1.1950113378684808E-2},0]
[528,{"$f":"A530/README!B$4","v":1.1972789115646259E-2},0]
[529,{"$f":"A531/README!B$4","v":1.1995464852607709E-2},0]
[530,{"$f":"A532/README!B$4","v":1.2018140589569161E-2},0]
[531,{"$f":"A533/README!B$4","v":1.2040816326530613E-2},0]
[532,{"$f":"A534/README!B$4","v":1.2063492063492064E-2},0]
[533,{"$f":"A535/README!B$4","v":1.2086167800453514E-2},0]
[534,{"$f":"A536/README!B$4","v":1.2108843537414966E-2},0]
[535,{"$f":"A537/README!B$4","v":1.2131519274376418E-2},0]
[536,{"$f":"A538/README!B$4","v":1.2154195011337868E-2},0]
[537,{"$f":"A539/README!B$4","v":1.2176870748299319E-2},0]
[538,{"$f":"A540/README!B$4","v":1.2199546485260771E-2},0]
[539,{"$f":"A541/README!B$4","v":1.2222222222222223E-2},0]
[540,{"$f":"A542/README!B$4","v":1.2244897959183673E-2},0]
[541,{"$f":"A543/README!B$4","v":1.2267573696145125E-2},0]
[542,{"$f":"A544/README!B$4","v":1.2290249433106576E-2},0]
[543,{"$f":"A545/README!B$4","v":1.2312925170068028E-2},0]
[544,{"$f":"A546/README!B$4","v":1.2335600907029478E-2},0]
[545,{"$f":"A547/README!B$4","v":1.235827664399093E-2},0]
[546,{"$f":"A548/README!B$4","v":1.2380952380952381E-2},0]
[547,{"$f":"A549/README!B$4","v":1.2403628117913831E-2},0]
[548,{"$f":"A550/README!B$4","v":1.2426303854875283E-2},0]
[549,{"$f":"A551/README!B$4","v":1.2448979591836735E-2},0]
[550,{"$f":"A552/README!B$4","v":1.2471655328798186E-2},0]
[551,{"$f":"A553/README!B$4","v":1.2494331065759636E-2},0]
[552,{"$f":"A554/README!B$4","v":1.2517006802721088E-2},0]
[553,{"$f":"A555/README!B$4","v":1.253968253968254E-2},0]
[554,{"$f":"A556/README!B$4","v":1.2562358276643992E-2},0]
[555,{"$f":"A557/README!B$4","v":1.2585034013605442E-2},0]
[556,{"$f":"A558/README!B$4","v":1.2607709750566893E-2},0]
[557,{"$f":"A559/README!B$4","v":1.2630385487528345E-2},0]
[558,{"$f":"A560/README!B$4","v":1.2653061224489797E-2},0]
[559,{"$f":"A561/README!B$4","v":1.2675736961451247E-2},0]
[560,{"$f":"A562/README!B$4","v":1.2698412698412698E-2},0]
[561,{"$f":"A563/README!B$4","v":1.272108843537415E-2},0]
[562,{"$f":"A564/README!B$4","v":1.27437641723356E-2},0]
[563,{"$f":"A565/README!B$4","v":1.2766439909297052E-2},0]
[564,{"$f":"A566/README!B$4","v":1.2789115646258504E-2},0]
[565,{"$f":"A567/README!B$4","v":1.2811791383219955E-2},0]
[566,{"$f":"A568/README!B$4","v":1.2834467120181405E-2},0]
[567,{"$f":"A569/README!B$4","v":1.2857142857142857E-2},0]
[568,{"$f":"A570/README!B$4","v":1.2879818594104309E-2},0]
[569,{"$f":"A571/README!B$4","v":1.290249433106576E-2},0]
[570,{"$f":"A572/README!B$4","v":1.292517006802721E-2},0]
[571,{"$f":"A573/README!B$4","v":1.2947845804988662E-2},0]
[572,{"$f":"A574/README!B$4","v":1.2970521541950114E-2},0]
[573,{"$f":"A575/README!B$4","v":1.2993197278911565E-2},0]
[574,{"$f":"A576/README!B$4","v":1.3015873015873015E-2},0]
[575,{"$f":"A577/README!B$4","v":1.3038548752834467E-2},0]
[576,{"$f":"A578/README!B$4","v":1.3061224489795919E-2},0]
[577,{"$f":"A579/README!B$4","v":1.3083900226757369E-2},0]
[578,{"$f":"A580/README!B$4","v":1.3106575963718821E-2},0]
[579,{"$f":"A581/README!B$4","v":1.3129251700680272E-2},0]
[580,{"$f":"A582/README!B$4","v":1.3151927437641724E-2},0]
[581,{"$f":"A583/README!B$4","v":1.3174603174603174E-2},0]
[582,{"$f":"A584/README!B$4","v":1.3197278911564626E-2},0]
[583,{"$f":"A585/README!B$4","v":1.3219954648526077E-2},0]
[584,{"$f":"A586/README!B$4","v":1.3242630385487529E-2},0]
[585,{"$f":"A587/README!B$4","v":1.3265306122448979E-2},0]
[586,{"$f":"A588/README!B$4","v":1.3287981859410431E-2},0]
[587,{"$f":"A589/README!B$4","v":1.3310657596371882E-2},0]
[588,{"$f":"A590/README!B$4","v":1.3333333333333334E-2},0]
[589,{"$f":"A591/README!B$4","v":1.3356009070294784E-2},0]
[590,{"$f":"A592/README!B$4","v":1.3378684807256236E-2},0]
[591,{"$f":"A593/README!B$4","v":1.3401360544217688E-2},0]
[592,{"$f":"A594/README!B$4","v":1.3424036281179138E-2},0]
[593,{"$f":"A595/README!B$4","v":1.3446712018140589E-2},0]
[594,{"$f":"A596/README!B$4","v":1.3469387755102041E-2},0]
[595,{"$f":"A597/README!B$4","v":1.3492063492063493E-2},0]
[596,{"$f":"A598/README!B$4","v":1.3514739229024943E-2},0]
[597,{"$f":"A599/README!B$4","v":1.3537414965986394E-2},0]
[598,{"$f":"A600/README!B$4","v":1.3560090702947846E-2},0]
[599,{"$f":"A601/README!B$4","v":1.3582766439909298E-2},0]
[600,{"$f":"A602/README!B$4","v":1.3605442176870748E-2},0]
[601,{"$f":"A603/README!B$4","v":1.36281179138322E-2},0]
[602,{"$f":"A604/README!B$4","v":1.3650793650793651E-2},0]
[603,{"$f":"A605/README!B$4","v":1.3673469387755101E-2},0]
[604,{"$f":"A606/README!B$4","v":1.3696145124716553E-2},0]
[605,{"$f":"A607/README!B$4","v":1.3718820861678005E-2},0]
[606,{"$f":"A608/README!B$4","v":1.3741496598639456E-2},0]
[607,{"$f":"A609/README!B$4","v":1.3764172335600906E-2},0]
[608,{"$f":"A610/README!B$4","v":1.3786848072562358E-2},0]
[609,{"$f":"A611/README!B$4","v":1.380952380952381E-2},0]
[610,{"$f":"A612/README!B$4","v":1.3832199546485261E-2},0]
[611,{"$f":"A613/README!B$4","v":1.3854875283446711E-2},0]
[612,{"$f":"A614/README!B$4","v":1.3877551020408163E-2},0]
[613,{"$f":"A615/README!B$4","v":1.3900226757369615E-2},0]
[614,{"$f":"A616/README!B$4","v":1.3922902494331067E-2},0]
[615,{"$f":"A617/README!B$4","v":1.3945578231292517E-2},0]
[616,{"$f":"A618/README!B$4","v":1.3968253968253968E-2},0]
[617,{"$f":"A619/README!B$4","v":1.399092970521542E-2},0]
[618,{"$f":"A620/README!B$4","v":1.401360544217687E-2},0]
[619,{"$f":"A621/README!B$4","v":1.4036281179138322E-2},0]
[620,{"$f":"A622/README!B$4","v":1.4058956916099773E-2},0]
[621,{"$f":"A623/README!B$4","v":1.4081632653061225E-2},0]
[622,{"$f":"A624/README!B$4","v":1.4104308390022675E-2},0]
[623,{"$f":"A625/README!B$4","v":1.4126984126984127E-2},0]
[624,{"$f":"A626/README!B$4","v":1.4149659863945578E-2},0]
[625,{"$f":"A627/README!B$4","v":1.417233560090703E-2},0]
[626,{"$f":"A628/README!B$4","v":1.419501133786848E-2},0]
[627,{"$f":"A629/README!B$4","v":1.4217687074829932E-2},0]
[628,{"$f":"A630/README!B$4","v":1.4240362811791384E-2},0]
[629,{"$f":"A631/README!B$4","v":1.4263038548752835E-2},0]
[630,{"$f":"A632/README!B$4","v":1.4285714285714285E-2},0]
[631,{"$f":"A633/README!B$4","v":1.4308390022675737E-2},0]
[632,{"$f":"A634/README!B$4","v":1.4331065759637189E-2},0]
[633,{"$f":"A635/README!B$4","v":1.4353741496598639E-2},0]
[634,{"$f":"A636/README!B$4","v":1.437641723356009E-2},0]
[635,{"$f":"A637/README!B$4","v":1.4399092970521542E-2},0]
[636,{"$f":"A638/README!B$4","v":1.4421768707482994E-2},0]
[637,{"$f":"A639/README!B$4","v":1.4444444444444444E-2},0]
[638,{"$f":"A640/README!B$4","v":1.4467120181405895E-2},0]
[639,{"$f":"A641/README!B$4","v":1.4489795918367347E-2},0]
[640,{"$f":"A642/README!B$4","v":1.4512471655328799E-2},0]
[641,{"$f":"A643/README!B$4","v":1.4535147392290249E-2},0]
[642,{"$f":"A644/README!B$4","v":1.4557823129251701E-2},0]
[643,{"$f":"A645/README!B$4","v":1.4580498866213152E-2},0]
[644,{"$f":"A646/README!B$4","v":1.4603174603174604E-2},0]
[645,{"$f":"A647/README!B$4","v":1.4625850340136054E-2},0]
[646,{"$f":"A648/README!B$4","v":1.4648526077097506E-2},0]
[647,{"$f":"A649/README!B$4","v":1.4671201814058957E-2},0]
[648,{"$f":"A650/README!B$4","v":1.4693877551020407E-2},0]
[649,{"$f":"A651/README!B$4","v":1.4716553287981859E-2},0]
[650,{"$f":"A652/README!B$4","v":1.4739229024943311E-2},0]
[651,{"$f":"A653/README!B$4","v":1.4761904761904763E-2},0]
[652,{"$f":"A654/README!B$4","v":1.4784580498866213E-2},0]
[653,{"$f":"A655/README!B$4","v":1.4807256235827664E-2},0]
[654,{"$f":"A656/README!B$4","v":1.4829931972789116E-2},0]
[655,{"$f":"A657/README!B$4","v":1.4852607709750568E-2},0]
[656,{"$f":"A658/README!B$4","v":1.4875283446712018E-2},0]
[657,{"$f":"A659/README!B$4","v":1.4897959183673469E-2},0]
[658,{"$f":"A660/README!B$4","v":1.4920634920634921E-2},0]
[659,{"$f":"A661/README!B$4","v":1.4943310657596371E-2},0]
[660,{"$f":"A662/README!B$4","v":1.4965986394557823E-2},0]
[661,{"$f":"A663/README!B$4","v":1.4988662131519274E-2},0]
[662,{"$f":"A664/README!B$4","v":1.5011337868480726E-2},0]
[663,{"$f":"A665/README!B$4","v":1.5034013605442176E-2},0]
[664,{"$f":"A666/README!B$4","v":1.5056689342403628E-2},0]
[665,{"$f":"A667/README!B$4","v":1.507936507936508E-2},0]
[666,{"$f":"A668/README!B$4","v":1.5102040816326531E-2},0]
[667,{"$f":"A669/README!B$4","v":1.5124716553287981E-2},0]
[668,{"$f":"A670/README!B$4","v":1.5147392290249433E-2},0]
[669,{"$f":"A671/README!B$4","v":1.5170068027210885E-2},0]
[670,{"$f":"A672/README!B$4","v":1.5192743764172336E-2},0]
[671,{"$f":"A673/README!B$4","v":1.5215419501133786E-2},0]
[672,{"$f":"A674/README!B$4","v":1.5238095238095238E-2},0]
[673,{"$f":"A675/README!B$4","v":1.526077097505669E-2},0]
[674,{"$f":"A676/README!B$4","v":1.528344671201814E-2},0]
[675,{"$f":"A677/README!B$4","v":1.5306122448979591E-2},0]
[676,{"$f":"A678/README!B$4","v":1.5328798185941043E-2},0]
[677,{"$f":"A679/README!B$4","v":1.5351473922902495E-2},0]
[678,{"$f":"A680/README!B$4","v":1.5374149659863945E-2},0]
[679,{"$f":"A681/README!B$4","v":1.5396825396825397E-2},0]
[680,{"$f":"A682/README!B$4","v":1.5419501133786848E-2},0]
[681,{"$f":"A683/README!B$4","v":1.54421768707483E-2},0]
[682,{"$f":"A684/README!B$4","v":1.546485260770975E-2},0]
[683,{"$f":"A685/README!B$4","v":1.5487528344671202E-2},0]
[684,{"$f":"A686/README!B$4","v":1.5510204081632653E-2},0]
[685,{"$f":"A687/README!B$4","v":1.5532879818594105E-2},0]
[686,{"$f":"A688/README!B$4","v":1.5555555555555555E-2},0]
[687,{"$f":"A689/README!B$4","v":1.5578231292517007E-2},0]
[688,{"$f":"A690/README!B$4","v":1.5600907029478459E-2},0]
[689,{"$f":"A691/README!B$4","v":1.5623582766439909E-2},0]
[690,{"$f":"A692/README!B$4","v":1.5646258503401362E-2},0]
[691,{"$f":"A693/README!B$4","v":1.5668934240362812E-2},0]
[692,{"$f":"A694/README!B$4","v":1.5691609977324262E-2},0]
[693,{"$f":"A695/README!B$4","v":1.5714285714285715E-2},0]
[694,{"$f":"A696/README!B$4","v":1.5736961451247165E-2},0]
[695,{"$f":"A697/README!B$4","v":1.5759637188208615E-2},0]
[696,{"$f":"A698/README!B$4","v":1.5782312925170069E-2},0]
[697,{"$f":"A699/README!B$4","v":1.5804988662131519E-2},0]
[698,{"$f":"A700/README!B$4","v":1.5827664399092972E-2},0]
[699,{"$f":"A701/README!B$4","v":1.5850340136054422E-2},0]
[700,{"$f":"A702/README!B$4","v":1.5873015873015872E-2},0]
[701,{"$f":"A703/README!B$4","v":1.5895691609977326E-2},0]
[702,{"$f":"A704/README!B$4","v":1.5918367346938776E-2},0]
[703,{"$f":"A705/README!B$4","v":1.5941043083900226E-2},0]
[704,{"$f":"A706/README!B$4","v":1.5963718820861679E-2},0]
[705,{"$f":"A707/README!B$4","v":1.5986394557823129E-2},0]
[706,{"$f":"A708/README!B$4","v":1.6009070294784579E-2},0]
[707,{"$f":"A709/README!B$4","v":1.6031746031746032E-2},0]
[708,{"$f":"A710/README!B$4","v":1.6054421768707482E-2},0]
[709,{"$f":"A711/README!B$4","v":1.6077097505668936E-2},0]
[710,{"$f":"A712/README!B$4","v":1.6099773242630386E-2},0]
[711,{"$f":"A713/README!B$4","v":1.6122448979591836E-2},0]
[712,{"$f":"A714/README!B$4","v":1.6145124716553289E-2},0]
[713,{"$f":"A715/README!B$4","v":1.6167800453514739E-2},0]
[714,{"$f":"A716/README!B$4","v":1.6190476190476189E-2},0]
[715,{"$f":"A717/README!B$4","v":1.6213151927437643E-2},0]
[716,{"$f":"A718/README!B$4","v":1.6235827664399093E-2},0]
[717,{"$f":"A719/README!B$4","v":1.6258503401360543E-2},0]
[718,{"$f":"A720/README!B$4","v":1.6281179138321996E-2},0]
[719,{"$f":"A721/README!B$4","v":1.6303854875283446E-2},0]
[720,{"$f":"A722/README!B$4","v":1.6326530612244899E-2},0]
[721,{"$f":"A723/README!B$4","v":1.6349206349206349E-2},0]
[722,{"$f":"A724/README!B$4","v":1.6371882086167799E-2},0]
[723,{"$f":"A725/README!B$4","v":1.6394557823129253E-2},0]
[724,{"$f":"A726/README!B$4","v":1.6417233560090703E-2},0]
[725,{"$f":"A727/README!B$4","v":1.6439909297052153E-2},0]
[726,{"$f":"A728/README!B$4","v":1.6462585034013606E-2},0]
[727,{"$f":"A729/README!B$4","v":1.6485260770975056E-2},0]
[728,{"$f":"A730/README!B$4","v":1.650793650793651E-2},0]
[729,{"$f":"A731/README!B$4","v":1.653061224489796E-2},0]
[730,{"$f":"A732/README!B$4","v":1.655328798185941E-2},0]
[731,{"$f":"A733/README!B$4","v":1.6575963718820863E-2},0]
[732,{"$f":"A734/README!B$4","v":1.6598639455782313E-2},0]
[733,{"$f":"A735/README!B$4","v":1.6621315192743763E-2},0]
[734,{"$f":"A736/README!B$4","v":1.6643990929705216E-2},0]
[735,{"$f":"A737/README!B$4","v":1.6666666666666666E-2},0]
[736,{"$f":"A738/README!B$4","v":1.6689342403628116E-2},0]
[737,{"$f":"A739/README!B$4","v":1.671201814058957E-2},0]
[738,{"$f":"A740/README!B$4","v":1.673469387755102E-2},0]
[739,{"$f":"A741/README!B$4","v":1.6757369614512473E-2},0]
[740,{"$f":"A742/README!B$4","v":1.6780045351473923E-2},0]
[741,{"$f":"A743/README!B$4","v":1.6802721088435373E-2},0]
[742,{"$f":"A744/README!B$4","v":1.6825396825396827E-2},0]
[743,{"$f":"A745/README!B$4","v":1.6848072562358277E-2},0]
[744,{"$f":"A746/README!B$4","v":1.6870748299319727E-2},0]
[745,{"$f":"A747/README!B$4","v":1.689342403628118E-2},0]
[746,{"$f":"A748/README!B$4","v":1.691609977324263E-2},0]
[747,{"$f":"A749/README!B$4","v":1.693877551020408E-2},0]
[748,{"$f":"A750/README!B$4","v":1.6961451247165533E-2},0]
[749,{"$f":"A751/README!B$4","v":1.6984126984126983E-2},0]
[750,{"$f":"A752/README!B$4","v":1.7006802721088437E-2},0]
[751,{"$f":"A753/README!B$4","v":1.7029478458049887E-2},0]
[752,{"$f":"A754/README!B$4","v":1.7052154195011337E-2},0]
[753,{"$f":"A755/README!B$4","v":1.707482993197279E-2},0]
[754,{"$f":"A756/README!B$4","v":1.709750566893424E-2},0]
[755,{"$f":"A757/README!B$4","v":1.712018140589569E-2},0]
[756,{"$f":"A758/README!B$4","v":1.7142857142857144E-2},0]
[757,{"$f":"A759/README!B$4","v":1.7165532879818594E-2},0]
[758,{"$f":"A760/README!B$4","v":1.7188208616780044E-2},0]
[759,{"$f":"A761/README!B$4","v":1.7210884353741497E-2},0]
[760,{"$f":"A762/README!B$4","v":1.7233560090702947E-2},0]
[761,{"$f":"A763/README!B$4","v":1.7256235827664401E-2},0]
[762,{"$f":"A764/README!B$4","v":1.7278911564625851E-2},0]
[763,{"$f":"A765/README!B$4","v":1.73015873015873E-2},0]
[764,{"$f":"A766/README!B$4","v":1.7324263038548754E-2},0]
[765,{"$f":"A767/README!B$4","v":1.7346938775510204E-2},0]
[766,{"$f":"A768/README!B$4","v":1.7369614512471654E-2},0]
[767,{"$f":"A769/README!B$4","v":1.7392290249433107E-2},0]
[768,{"$f":"A770/README!B$4","v":1.7414965986394557E-2},0]
[769,{"$f":"A771/README!B$4","v":1.7437641723356011E-2},0]
[770,{"$f":"A772/README!B$4","v":1.7460317460317461E-2},0]
[771,{"$f":"A773/README!B$4","v":1.7482993197278911E-2},0]
[772,{"$f":"A774/README!B$4","v":1.7505668934240364E-2},0]
[773,{"$f":"A775/README!B$4","v":1.7528344671201814E-2},0]
[774,{"$f":"A776/README!B$4","v":1.7551020408163264E-2},0]
[775,{"$f":"A777/README!B$4","v":1.7573696145124718E-2},0]
[776,{"$f":"A778/README!B$4","v":1.7596371882086168E-2},0]
[777,{"$f":"A779/README!B$4","v":1.7619047619047618E-2},0]
[778,{"$f":"A780/README!B$4","v":1.7641723356009071E-2},0]
[779,{"$f":"A781/README!B$4","v":1.7664399092970521E-2},0]
[780,{"$f":"A782/README!B$4","v":1.7687074829931974E-2},0]
[781,{"$f":"A783/README!B$4","v":1.7709750566893424E-2},0]
[782,{"$f":"A784/README!B$4","v":1.7732426303854874E-2},0]
[783,{"$f":"A785/README!B$4","v":1.7755102040816328E-2},0]
[784,{"$f":"A786/README!B$4","v":1.7777777777777778E-2},0]
[785,{"$f":"A787/README!B$4","v":1.7800453514739228E-2},0]
[786,{"$f":"A788/README!B$4","v":1.7823129251700681E-2},0]
[787,{"$f":"A789/README!B$4","v":1.7845804988662131E-2},0]
[788,{"$f":"A790/README!B$4","v":1.7868480725623581E-2},0]
[789,{"$f":"A791/README!B$4","v":1.7891156462585035E-2},0]
[790,{"$f":"A792/README!B$4","v":1.7913832199546485E-2},0]
[791,{"$f":"A793/README!B$4","v":1.7936507936507938E-2},0]
[792,{"$f":"A794/README!B$4","v":1.7959183673469388E-2},0]
[793,{"$f":"A795/README!B$4","v":1.7981859410430838E-2},0]
[794,{"$f":"A796/README!B$4","v":1.8004535147392291E-2},0]
[795,{"$f":"A797/README!B$4","v":1.8027210884353741E-2},0]
[796,{"$f":"A798/README!B$4","v":1.8049886621315191E-2},0]
[797,{"$f":"A799/README!B$4","v":1.8072562358276645E-2},0]
[798,{"$f":"A800/README!B$4","v":1.8095238095238095E-2},0]
[799,{"$f":"A801/README!B$4","v":1.8117913832199545E-2},0]
[800,{"$f":"A802/README!B$4","v":1.8140589569160998E-2},0]
[801,{"$f":"A803/README!B$4","v":1.8163265306122448E-2},0]
[802,{"$f":"A804/README!B$4","v":1.8185941043083902E-2},0]
[803,{"$f":"A805/README!B$4","v":1.8208616780045352E-2},0]
[804,{"$f":"A806/README!B$4","v":1.8231292517006802E-2},0]
[805,{"$f":"A807/README!B$4","v":1.8253968253968255E-2},0]
[806,{"$f":"A808/README!B$4","v":1.8276643990929705E-2},0]
[807,{"$f":"A809/README!B$4","v":1.8299319727891155E-2},0]
[808,{"$f":"A810/README!B$4","v":1.8321995464852608E-2},0]
[809,{"$f":"A811/README!B$4","v":1.8344671201814058E-2},0]
[810,{"$f":"A812/README!B$4","v":1.8367346938775512E-2},0]
[811,{"$f":"A813/README!B$4","v":1.8390022675736962E-2},0]
[812,{"$f":"A814/README!B$4","v":1.8412698412698412E-2},0]
[813,{"$f":"A815/README!B$4","v":1.8435374149659865E-2},0]
[814,{"$f":"A816/README!B$4","v":1.8458049886621315E-2},0]
[815,{"$f":"A817/README!B$4","v":1.8480725623582765E-2},0]
[816,{"$f":"A818/README!B$4","v":1.8503401360544219E-2},0]
[817,{"$f":"A819/README!B$4","v":1.8526077097505669E-2},0]
[818,{"$f":"A820/README!B$4","v":1.8548752834467119E-2},0]
[819,{"$f":"A821/README!B$4","v":1.8571428571428572E-2},0]
[820,{"$f":"A822/README!B$4","v":1.8594104308390022E-2},0]
[821,{"$f":"A823/README!B$4","v":1.8616780045351475E-2},0]
[822,{"$f":"A824/README!B$4","v":1.8639455782312925E-2},0]
[823,{"$f":"A825/README!B$4","v":1.8662131519274375E-2},0]
[824,{"$f":"A826/README!B$4","v":1.8684807256235829E-2},0]
[825,{"$f":"A827/README!B$4","v":1.8707482993197279E-2},0]
[826,{"$f":"A828/README!B$4","v":1.8730158730158729E-2},0]
[827,{"$f":"A829/README!B$4","v":1.8752834467120182E-2},0]
[828,{"$f":"A830/README!B$4","v":1.8775510204081632E-2},0]
[829,{"$f":"A831/README!B$4","v":1.8798185941043082E-2},0]
[830,{"$f":"A832/README!B$4","v":1.8820861678004536E-2},0]
[831,{"$f":"A833/README!B$4","v":1.8843537414965986E-2},0]
[832,{"$f":"A834/README!B$4","v":1.8866213151927439E-2},0]
[833,{"$f":"A835/README!B$4","v":1.8888888888888889E-2},0]
[834,{"$f":"A836/README!B$4","v":1.8911564625850339E-2},0]
[835,{"$f":"A837/README!B$4","v":1.8934240362811793E-2},0]
[836,{"$f":"A838/README!B$4","v":1.8956916099773242E-2},0]
[837,{"$f":"A839/README!B$4","v":1.8979591836734692E-2},0]
[838,{"$f":"A840/README!B$4","v":1.9002267573696146E-2},0]
[839,{"$f":"A841/README!B$4","v":1.9024943310657596E-2},0]
[840,{"$f":"A842/README!B$4","v":1.9047619047619049E-2},0]
[841,{"$f":"A843/README!B$4","v":1.9070294784580499E-2},0]
[842,{"$f":"A844/README!B$4","v":1.9092970521541949E-2},0]
[843,{"$f":"A845/README!B$4","v":1.9115646258503403E-2},0]
[844,{"$f":"A846/README!B$4","v":1.9138321995464853E-2},0]
[845,{"$f":"A847/README!B$4","v":1.9160997732426303E-2},0]
[846,{"$f":"A848/README!B$4","v":1.9183673469387756E-2},0]
[847,{"$f":"A849/README!B$4","v":1.9206349206349206E-2},0]
[848,{"$f":"A850/README!B$4","v":1.9229024943310656E-2},0]
[849,{"$f":"A851/README!B$4","v":1.925170068027211E-2},0]
[850,{"$f":"A852/README!B$4","v":1.927437641723356E-2},0]
[851,{"$f":"A853/README!B$4","v":1.9297052154195013E-2},0]
[852,{"$f":"A854/README!B$4","v":1.9319727891156463E-2},0]
[853,{"$f":"A855/README!B$4","v":1.9342403628117913E-2},0]
[854,{"$f":"A856/README!B$4","v":1.9365079365079366E-2},0]
[855,{"$f":"A857/README!B$4","v":1.9387755102040816E-2},0]
[856,{"$f":"A858/README!B$4","v":1.9410430839002266E-2},0]
[857,{"$f":"A859/README!B$4","v":1.943310657596372E-2},0]
[858,{"$f":"A860/README!B$4","v":1.945578231292517E-2},0]
[859,{"$f":"A861/README!B$4","v":1.947845804988662E-2},0]
[860,{"$f":"A862/README!B$4","v":1.9501133786848073E-2},0]
[861,{"$f":"A863/README!B$4","v":1.9523809523809523E-2},0]
[862,{"$f":"A864/README!B$4","v":1.9546485260770977E-2},0]
[863,{"$f":"A865/README!B$4","v":1.9569160997732427E-2},0]
[864,{"$f":"A866/README!B$4","v":1.9591836734693877E-2},0]
[865,{"$f":"A867/README!B$4","v":1.961451247165533E-2},0]
[866,{"$f":"A868/README!B$4","v":1.963718820861678E-2},0]
[867,{"$f":"A869/README!B$4","v":1.965986394557823E-2},0]
[868,{"$f":"A870/README!B$4","v":1.9682539682539683E-2},0]
[869,{"$f":"A871/README!B$4","v":1.9705215419501133E-2},0]
[870,{"$f":"A872/README!B$4","v":1.9727891156462583E-2},0]
[871,{"$f":"A873/README!B$4","v":1.9750566893424037E-2},0]
[872,{"$f":"A874/README!B$4","v":1.9773242630385487E-2},0]
[873,{"$f":"A875/README!B$4","v":1.979591836734694E-2},0]
[874,{"$f":"A876/README!B$4","v":1.981859410430839E-2},0]
[875,{"$f":"A877/README!B$4","v":1.984126984126984E-2},0]
[876,{"$f":"A878/README!B$4","v":1.9863945578231294E-2},0]
[877,{"$f":"A879/README!B$4","v":1.9886621315192744E-2},0]
[878,{"$f":"A880/README!B$4","v":1.9909297052154194E-2},0]
[879,{"$f":"A881/README!B$4","v":1.9931972789115647E-2},0]
[880,{"$f":"A882/README!B$4","v":1.9954648526077097E-2},0]
[881,{"$f":"A883/README!B$4","v":1.997732426303855E-2},0]
[882,{"$f":"A884/README!B$4","v":0.02},0]
[883,{"$f":"A885/README!B$4","v":2.002267573696145E-2},0]
[884,{"$f":"A886/README!B$4","v":2.0045351473922904E-2},0]
[885,{"$f":"A887/README!B$4","v":2.0068027210884354E-2},0]
[886,{"$f":"A888/README!B$4","v":2.0090702947845804E-2},0]
[887,{"$f":"A889/README!B$4","v":2.0113378684807257E-2},0]
[888,{"$f":"A890/README!B$4","v":2.0136054421768707E-2},0]
[889,{"$f":"A891/README!B$4","v":2.0158730158730157E-2},0]
[890,{"$f":"A892/README!B$4","v":2.0181405895691611E-2},0]
[891,{"$f":"A893/README!B$4","v":2.0204081632653061E-2},0]
[892,{"$f":"A894/README!B$4","v":2.0226757369614514E-2},0]
[893,{"$f":"A895/README!B$4","v":2.0249433106575964E-2},0]
[894,{"$f":"A896/README!B$4","v":2.0272108843537414E-2},0]
[895,{"$f":"A897/README!B$4","v":2.0294784580498867E-2},0]
[896,{"$f":"A898/README!B$4","v":2.0317460317460317E-2},0]
[897,{"$f":"A899/README!B$4","v":2.0340136054421767E-2},0]
[898,{"$f":"A900/README!B$4","v":2.0362811791383221E-2},0]
[899,{"$f":"A901/README!B$4","v":2.0385487528344671E-2},0]
[900,{"$f":"A902/README!B$4","v":2.0408163265306121E-2},0]
[901,{"$f":"A903/README!B$4","v":2.0430839002267574E-2},0]
[902,{"$f":"A904/README!B$4","v":2.0453514739229024E-2},0]
[903,{"$f":"A905/README!B$4","v":2.0476190476190478E-2},0]
[904,{"$f":"A906/README!B$4","v":2.0498866213151928E-2},0]
[905,{"$f":"A907/README!B$4","v":2.0521541950113378E-2},0]
[906,{"$f":"A908/README!B$4","v":2.0544217687074831E-2},0]
[907,{"$f":"A909/README!B$4","v":2.0566893424036281E-2},0]
[908,{"$f":"A910/README!B$4","v":2.0589569160997731E-2},0]
[909,{"$f":"A911/README!B$4","v":2.0612244897959184E-2},0]
[910,{"$f":"A912/README!B$4","v":2.0634920634920634E-2},0]
[911,{"$f":"A913/README!B$4","v":2.0657596371882084E-2},0]
[912,{"$f":"A914/README!B$4","v":2.0680272108843538E-2},0]
[913,{"$f":"A915/README!B$4","v":2.0702947845804988E-2},0]
[914,{"$f":"A916/README!B$4","v":2.0725623582766441E-2},0]
[915,{"$f":"A917/README!B$4","v":2.0748299319727891E-2},0]
[916,{"$f":"A918/README!B$4","v":2.0770975056689341E-2},0]
[917,{"$f":"A919/README!B$4","v":2.0793650793650795E-2},0]
[918,{"$f":"A920/README!B$4","v":2.0816326530612245E-2},0]
[919,{"$f":"A921/README!B$4","v":2.0839002267573695E-2},0]
[920,{"$f":"A922/README!B$4","v":2.0861678004535148E-2},0]
[921,{"$f":"A923/README!B$4","v":2.0884353741496598E-2},0]
[922,{"$f":"A924/README!B$4","v":2.0907029478458052E-2},0]
[923,{"$f":"A925/README!B$4","v":2.0929705215419502E-2},0]
[924,{"$f":"A926/README!B$4","v":2.0952380952380951E-2},0]
[925,{"$f":"A927/README!B$4","v":2.0975056689342405E-2},0]
[926,{"$f":"A928/README!B$4","v":2.0997732426303855E-2},0]
[927,{"$f":"A929/README!B$4","v":2.1020408163265305E-2},0]
[928,{"$f":"A930/README!B$4","v":2.1043083900226758E-2},0]
[929,{"$f":"A931/README!B$4","v":2.1065759637188208E-2},0]
[930,{"$f":"A932/README!B$4","v":2.1088435374149658E-2},0]
[931,{"$f":"A933/README!B$4","v":2.1111111111111112E-2},0]
[932,{"$f":"A934/README!B$4","v":2.1133786848072562E-2},0]
[933,{"$f":"A935/README!B$4","v":2.1156462585034015E-2},0]
[934,{"$f":"A936/README!B$4","v":2.1179138321995465E-2},0]
[935,{"$f":"A937/README!B$4","v":2.1201814058956915E-2},0]
[936,{"$f":"A938/README!B$4","v":2.1224489795918369E-2},0]
[937,{"$f":"A939/README!B$4","v":2.1247165532879819E-2},0]
[938,{"$f":"A940/README!B$4","v":2.1269841269841269E-2},0]
[939,{"$f":"A941/README!B$4","v":2.1292517006802722E-2},0]
[940,{"$f":"A942/README!B$4","v":2.1315192743764172E-2},0]
[941,{"$f":"A943/README!B$4","v":2.1337868480725622E-2},0]
[942,{"$f":"A944/README!B$4","v":2.1360544217687075E-2},0]
[943,{"$f":"A945/README!B$4","v":2.1383219954648525E-2},0]
[944,{"$f":"A946/README!B$4","v":2.1405895691609979E-2},0]
[945,{"$f":"A947/README!B$4","v":2.1428571428571429E-2},0]
[946,{"$f":"A948/README!B$4","v":2.1451247165532879E-2},0]
[947,{"$f":"A949/README!B$4","v":2.1473922902494332E-2},0]
[948,{"$f":"A950/README!B$4","v":2.1496598639455782E-2},0]
[949,{"$f":"A951/README!B$4","v":2.1519274376417232E-2},0]
[950,{"$f":"A952/README!B$4","v":2.1541950113378686E-2},0]
[951,{"$f":"A953/README!B$4","v":2.1564625850340136E-2},0]
[952,{"$f":"A954/README!B$4","v":2.1587301587301589E-2},0]
[953,{"$f":"A955/README!B$4","v":2.1609977324263039E-2},0]
[954,{"$f":"A956/README!B$4","v":2.1632653061224489E-2},0]
[955,{"$f":"A957/README!B$4","v":2.1655328798185942E-2},0]
[956,{"$f":"A958/README!B$4","v":2.1678004535147392E-2},0]
[957,{"$f":"A959/README!B$4","v":2.1700680272108842E-2},0]
[958,{"$f":"A960/README!B$4","v":2.1723356009070296E-2},0]
[959,{"$f":"A961/README!B$4","v":2.1746031746031746E-2},0]
[960,{"$f":"A962/README!B$4","v":2.1768707482993196E-2},0]
[961,{"$f":"A963/README!B$4","v":2.1791383219954649E-2},0]
[962,{"$f":"A964/README!B$4","v":2.1814058956916099E-2},0]
[963,{"$f":"A965/README!B$4","v":2.1836734693877553E-2},0]
[964,{"$f":"A966/README!B$4","v":2.1859410430839003E-2},0]
[965,{"$f":"A967/README!B$4","v":2.1882086167800453E-2},0]
[966,{"$f":"A968/README!B$4","v":2.1904761904761906E-2},0]
[967,{"$f":"A969/README!B$4","v":2.1927437641723356E-2},0]
[968,{"$f":"A970/README!B$4","v":2.1950113378684806E-2},0]
[969,{"$f":"A971/README!B$4","v":2.1972789115646259E-2},0]
[970,{"$f":"A972/README!B$4","v":2.1995464852607709E-2},0]
[971,{"$f":"A973/README!B$4","v":2.2018140589569159E-2},0]
[972,{"$f":"A974/README!B$4","v":2.2040816326530613E-2},0]
[973,{"$f":"A975/README!B$4","v":2.2063492063492063E-2},0]
[974,{"$f":"A976/README!B$4","v":2.2086167800453516E-2},0]
[975,{"$f":"A977/README!B$4","v":2.2108843537414966E-2},0]
[976,{"$f":"A978/README!B$4","v":2.2131519274376416E-2},0]
[977,{"$f":"A979/README!B$4","v":2.215419501133787E-2},0]
[978,{"$f":"A980/README!B$4","v":2.217687074829932E-2},0]
[979,{"$f":"A981/README!B$4","v":2.219954648526077E-2},0]
[980,{"$f":"A982/README!B$4","v":2.2222222222222223E-2},0]
[981,{"$f":"A983/README!B$4","v":2.2244897959183673E-2},0]
[982,{"$f":"A984/README!B$4","v":2.2267573696145123E-2},0]
[983,{"$f":"A985/README!B$4","v":2.2290249433106576E-2},0]
[984,{"$f":"A986/README!B$4","v":2.2312925170068026E-2},0]
[985,{"$f":"A987/README!B$4","v":2.233560090702948E-2},0]
[986,{"$f":"A988/README!B$4","v":2.235827664399093E-2},0]
[987,{"$f":"A989/README!B$4","v":2.238095238095238E-2},0]
[988,{"$f":"A990/README!B$4","v":2.2403628117913833E-2},0]
[989,{"$f":"A991/README!B$4","v":2.2426303854875283E-2},0]
[990,{"$f":"A992/README!B$4","v":2.2448979591836733E-2},0]
[991,{"$f":"A993/README!B$4","v":2.2471655328798187E-2},0]
[992,{"$f":"A994/README!B$4","v":2.2494331065759637E-2},0]
[993,{"$f":"A995/README!B$4","v":2.251700680272109E-2},0]
[994,{"$f":"A996/README!B$4","v":2.253968253968254E-2},0]
[995,{"$f":"A997/README!B$4","v":2.256235827664399E-2},0]
[996,{"$f":"A998/README!B$4","v":2.2585034013605444E-2},0]
[997,{"$f":"A999/README!B$4","v":2.2607709750566893E-2},0]
[998,{"$f":"A1000/README!B$4","v":2.2630385487528343E-2},0]
[999,{"$f":"A1001/README!B$4","v":2.2653061224489797E-2},0]
[1000,{"$f":"A1002/README!B$4","v":2.2675736961451247E-2},0]
[1001,{"$f":"A1003/README!B$4","v":2.2698412698412697E-2},0]
[1002,{"$f":"A1004/README!B$4","v":2.272108843537415E-2},0]
[1003,{"$f":"A1005/README!B$4","v":2.27437641723356E-2},0]
[1004,{"$f":"A1006/README!B$4","v":2.2766439909297054E-2},0]
[1005,{"$f":"A1007/README!B$4","v":2.2789115646258504E-2},0]
[1006,{"$f":"A1008/README!B$4","v":2.2811791383219954E-2},0]
[1007,{"$f":"A1009/README!B$4","v":2.2834467120181407E-2},0]
[1008,{"$f":"A1010/README!B$4","v":2.2857142857142857E-2},0]
[1009,{"$f":"A1011/README!B$4","v":2.2879818594104307E-2},0]
[1010,{"$f":"A1012/README!B$4","v":2.2902494331065761E-2},0]
[1011,{"$f":"A1013/README!B$4","v":2.2925170068027211E-2},0]
[1012,{"$f":"A1014/README!B$4","v":2.2947845804988661E-2},0]
[1013,{"$f":"A1015/README!B$4","v":2.2970521541950114E-2},0]
[1014,{"$f":"A1016/README!B$4","v":2.2993197278911564E-2},0]
[1015,{"$f":"A1017/README!B$4","v":2.3015873015873017E-2},0]
[1016,{"$f":"A1018/README!B$4","v":2.3038548752834467E-2},0]
[1017,{"$f":"A1019/README!B$4","v":2.3061224489795917E-2},0]
[1018,{"$f":"A1020/README!B$4","v":2.3083900226757371E-2},0]
[1019,{"$f":"A1021/README!B$4","v":2.3106575963718821E-2},0]
[1020,{"$f":"A1022/README!B$4","v":2.3129251700680271E-2},0]
[1021,{"$f":"A1023/README!B$4","v":2.3151927437641724E-2},0]
[1022,{"$f":"A1024/README!B$4","v":2.3174603174603174E-2},0]
[1023,{"$f":"A1025/README!B$4","v":2.3197278911564624E-2},0]
[1024,{"$f":"A1026/README!B$4","v":2.3219954648526078E-2},0]
[1025,{"$f":"A1027/README!B$4","v":2.3242630385487528E-2},0]
[1026,{"$f":"A1028/README!B$4","v":2.3265306122448981E-2},0]
[1027,{"$f":"A1029/README!B$4","v":2.3287981859410431E-2},0]
[1028,{"$f":"A1030/README!B$4","v":2.3310657596371881E-2},0]
[1029,{"$f":"A1031/README!B$4","v":2.3333333333333334E-2},0]
[1030,{"$f":"A1032/README!B$4","v":2.3356009070294784E-2},0]
[1031,{"$f":"A1033/README!B$4","v":2.3378684807256234E-2},0]
[1032,{"$f":"A1034/README!B$4","v":2.3401360544217688E-2},0]
[1033,{"$f":"A1035/README!B$4","v":2.3424036281179138E-2},0]
[1034,{"$f":"A1036/README!B$4","v":2.3446712018140591E-2},0]
[1035,{"$f":"A1037/README!B$4","v":2.3469387755102041E-2},0]
[1036,{"$f":"A1038/README!B$4","v":2.3492063492063491E-2},0]
[1037,{"$f":"A1039/README!B$4","v":2.3514739229024945E-2},0]
[1038,{"$f":"A1040/README!B$4","v":2.3537414965986395E-2},0]
[1039,{"$f":"A1041/README!B$4","v":2.3560090702947845E-2},0]
[1040,{"$f":"A1042/README!B$4","v":2.3582766439909298E-2},0]
[1041,{"$f":"A1043/README!B$4","v":2.3605442176870748E-2},0]
[1042,{"$f":"A1044/README!B$4","v":2.3628117913832198E-2},0]
[1043,{"$f":"A1045/README!B$4","v":2.3650793650793651E-2},0]
[1044,{"$f":"A1046/README!B$4","v":2.3673469387755101E-2},0]
[1045,{"$f":"A1047/README!B$4","v":2.3696145124716555E-2},0]
[1046,{"$f":"A1048/README!B$4","v":2.3718820861678005E-2},0]
[1047,{"$f":"A1049/README!B$4","v":2.3741496598639455E-2},0]
[1048,{"$f":"A1050/README!B$4","v":2.3764172335600908E-2},0]
[1049,{"$f":"A1051/README!B$4","v":2.3786848072562358E-2},0]
[1050,{"$f":"A1052/README!B$4","v":2.3809523809523808E-2},0]
[1051,{"$f":"A1053/README!B$4","v":2.3832199546485262E-2},0]
[1052,{"$f":"A1054/README!B$4","v":2.3854875283446712E-2},0]
[1053,{"$f":"A1055/README!B$4","v":2.3877551020408162E-2},0]
[1054,{"$f":"A1056/README!B$4","v":2.3900226757369615E-2},0]
[1055,{"$f":"A1057/README!B$4","v":2.3922902494331065E-2},0]
[1056,{"$f":"A1058/README!B$4","v":2.3945578231292518E-2},0]
[1057,{"$f":"A1059/README!B$4","v":2.3968253968253968E-2},0]
[1058,{"$f":"A1060/README!B$4","v":2.3990929705215418E-2},0]
[1059,{"$f":"A1061/README!B$4","v":2.4013605442176872E-2},0]
[1060,{"$f":"A1062/README!B$4","v":2.4036281179138322E-2},0]
[1061,{"$f":"A1063/README!B$4","v":2.4058956916099772E-2},0]
[1062,{"$f":"A1064/README!B$4","v":2.4081632653061225E-2},0]
[1063,{"$f":"A1065/README!B$4","v":2.4104308390022675E-2},0]
[1064,{"$f":"A1066/README!B$4","v":2.4126984126984129E-2},0]
[1065,{"$f":"A1067/README!B$4","v":2.4149659863945579E-2},0]
[1066,{"$f":"A1068/README!B$4","v":2.4172335600907029E-2},0]
[1067,{"$f":"A1069/README!B$4","v":2.4195011337868482E-2},0]
[1068,{"$f":"A1070/README!B$4","v":2.4217687074829932E-2},0]
[1069,{"$f":"A1071/README!B$4","v":2.4240362811791382E-2},0]
[1070,{"$f":"A1072/README!B$4","v":2.4263038548752835E-2},0]
[1071,{"$f":"A1073/README!B$4","v":2.4285714285714285E-2},0]
[1072,{"$f":"A1074/README!B$4","v":2.4308390022675735E-2},0]
[1073,{"$f":"A1075/README!B$4","v":2.4331065759637189E-2},0]
[1074,{"$f":"A1076/README!B$4","v":2.4353741496598639E-2},0]
[1075,{"$f":"A1077/README!B$4","v":2.4376417233560092E-2},0]
[1076,{"$f":"A1078/README!B$4","v":2.4399092970521542E-2},0]
[1077,{"$f":"A1079/README!B$4","v":2.4421768707482992E-2},0]
[1078,{"$f":"A1080/README!B$4","v":2.4444444444444446E-2},0]
[1079,{"$f":"A1081/README!B$4","v":2.4467120181405896E-2},0]
[1080,{"$f":"A1082/README!B$4","v":2.4489795918367346E-2},0]
[1081,{"$f":"A1083/README!B$4","v":2.4512471655328799E-2},0]
[1082,{"$f":"A1084/README!B$4","v":2.4535147392290249E-2},0]
[1083,{"$f":"A1085/README!B$4","v":2.4557823129251699E-2},0]
[1084,{"$f":"A1086/README!B$4","v":2.4580498866213153E-2},0]
[1085,{"$f":"A1087/README!B$4","v":2.4603174603174603E-2},0]
[1086,{"$f":"A1088/README!B$4","v":2.4625850340136056E-2},0]
[1087,{"$f":"A1089/README!B$4","v":2.4648526077097506E-2},0]
[1088,{"$f":"A1090/README!B$4","v":2.4671201814058956E-2},0]
[1089,{"$f":"A1091/README!B$4","v":2.4693877551020409E-2},0]
[1090,{"$f":"A1092/README!B$4","v":2.4716553287981859E-2},0]
[1091,{"$f":"A1093/README!B$4","v":2.4739229024943309E-2},0]
[1092,{"$f":"A1094/README!B$4","v":2.4761904761904763E-2},0]
[1093,{"$f":"A1095/README!B$4","v":2.4784580498866213E-2},0]
[1094,{"$f":"A1096/README!B$4","v":2.4807256235827663E-2},0]
[1095,{"$f":"A1097/README!B$4","v":2.4829931972789116E-2},0]
[1096,{"$f":"A1098/README!B$4","v":2.4852607709750566E-2},0]
[1097,{"$f":"A1099/README!B$4","v":2.487528344671202E-2},0]
[1098,{"$f":"A1100/README!B$4","v":2.489795918367347E-2},0]
[1099,{"$f":"A1101/README!B$4","v":2.492063492063492E-2},0]
[1100,{"$f":"A1102/README!B$4","v":2.4943310657596373E-2},0]
[1101,{"$f":"A1103/README!B$4","v":2.4965986394557823E-2},0]
[1102,{"$f":"A1104/README!B$4","v":2.4988662131519273E-2},0]
[1103,{"$f":"A1105/README!B$4","v":2.5011337868480726E-2},0]
[1104,{"$f":"A1106/README!B$4","v":2.5034013605442176E-2},0]
[1105,{"$f":"A1107/README!B$4","v":2.505668934240363E-2},0]
[1106,{"$f":"A1108/README!B$4","v":2.507936507936508E-2},0]
[1107,{"$f":"A1109/README!B$4","v":2.510204081632653E-2},0]
[1108,{"$f":"A1110/README!B$4","v":2.5124716553287983E-2},0]
[1109,{"$f":"A1111/README!B$4","v":2.5147392290249433E-2},0]
[1110,{"$f":"A1112/README!B$4","v":2.5170068027210883E-2},0]
[1111,{"$f":"A1113/README!B$4","v":2.5192743764172337E-2},0]
[1112,{"$f":"A1114/README!B$4","v":2.5215419501133787E-2},0]
[1113,{"$f":"A1115/README!B$4","v":2.5238095238095237E-2},0]
[1114,{"$f":"A1116/README!B$4","v":2.526077097505669E-2},0]
[1115,{"$f":"A1117/README!B$4","v":2.528344671201814E-2},0]
[1116,{"$f":"A1118/README!B$4","v":2.5306122448979593E-2},0]
[1117,{"$f":"A1119/README!B$4","v":2.5328798185941043E-2},0]
[1118,{"$f":"A1120/README!B$4","v":2.5351473922902493E-2},0]
[1119,{"$f":"A1121/README!B$4","v":2.5374149659863947E-2},0]
[1120,{"$f":"A1122/README!B$4","v":2.5396825396825397E-2},0]
[1121,{"$f":"A1123/README!B$4","v":2.5419501133786847E-2},0]
[1122,{"$f":"A1124/README!B$4","v":2.54421768707483E-2},0]
[1123,{"$f":"A1125/README!B$4","v":2.546485260770975E-2},0]
[1124,{"$f":"A1126/README!B$4","v":2.54875283446712E-2},0]
[1125,{"$f":"A1127/README!B$4","v":2.5510204081632654E-2},0]
[1126,{"$f":"A1128/README!B$4","v":2.5532879818594104E-2},0]
[1127,{"$f":"A1129/README!B$4","v":2.5555555555555557E-2},0]
[1128,{"$f":"A1130/README!B$4","v":2.5578231292517007E-2},0]
[1129,{"$f":"A1131/README!B$4","v":2.5600907029478457E-2},0]
[1130,{"$f":"A1132/README!B$4","v":2.562358276643991E-2},0]
[1131,{"$f":"A1133/README!B$4","v":2.564625850340136E-2},0]
[1132,{"$f":"A1134/README!B$4","v":2.566893424036281E-2},0]
[1133,{"$f":"A1135/README!B$4","v":2.5691609977324264E-2},0]
[1134,{"$f":"A1136/README!B$4","v":2.5714285714285714E-2},0]
[1135,{"$f":"A1137/README!B$4","v":2.5736961451247164E-2},0]
[1136,{"$f":"A1138/README!B$4","v":2.5759637188208617E-2},0]
[1137,{"$f":"A1139/README!B$4","v":2.5782312925170067E-2},0]
[1138,{"$f":"A1140/README!B$4","v":2.5804988662131521E-2},0]
[1139,{"$f":"A1141/README!B$4","v":2.5827664399092971E-2},0]
[1140,{"$f":"A1142/README!B$4","v":2.5850340136054421E-2},0]
[1141,{"$f":"A1143/README!B$4","v":2.5873015873015874E-2},0]
[1142,{"$f":"A1144/README!B$4","v":2.5895691609977324E-2},0]
[1143,{"$f":"A1145/README!B$4","v":2.5918367346938774E-2},0]
[1144,{"$f":"A1146/README!B$4","v":2.5941043083900227E-2},0]
[1145,{"$f":"A1147/README!B$4","v":2.5963718820861677E-2},0]
[1146,{"$f":"A1148/README!B$4","v":2.5986394557823131E-2},0]
[1147,{"$f":"A1149/README!B$4","v":2.6009070294784581E-2},0]
[1148,{"$f":"A1150/README!B$4","v":2.6031746031746031E-2},0]
[1149,{"$f":"A1151/README!B$4","v":2.6054421768707484E-2},0]
[1150,{"$f":"A1152/README!B$4","v":2.6077097505668934E-2},0]
[1151,{"$f":"A1153/README!B$4","v":2.6099773242630384E-2},0]
[1152,{"$f":"A1154/README!B$4","v":2.6122448979591838E-2},0]
[1153,{"$f":"A1155/README!B$4","v":2.6145124716553288E-2},0]
[1154,{"$f":"A1156/README!B$4","v":2.6167800453514738E-2},0]
[1155,{"$f":"A1157/README!B$4","v":2.6190476190476191E-2},0]
[1156,{"$f":"A1158/README!B$4","v":2.6213151927437641E-2},0]
[1157,{"$f":"A1159/README!B$4","v":2.6235827664399095E-2},0]
[1158,{"$f":"A1160/README!B$4","v":2.6258503401360545E-2},0]
[1159,{"$f":"A1161/README!B$4","v":2.6281179138321994E-2},0]
[1160,{"$f":"A1162/README!B$4","v":2.6303854875283448E-2},0]
[1161,{"$f":"A1163/README!B$4","v":2.6326530612244898E-2},0]
[1162,{"$f":"A1164/README!B$4","v":2.6349206349206348E-2},0]
[1163,{"$f":"A1165/README!B$4","v":2.6371882086167801E-2},0]
[1164,{"$f":"A1166/README!B$4","v":2.6394557823129251E-2},0]
[1165,{"$f":"A1167/README!B$4","v":2.6417233560090701E-2},0]
[1166,{"$f":"A1168/README!B$4","v":2.6439909297052155E-2},0]
[1167,{"$f":"A1169/README!B$4","v":2.6462585034013605E-2},0]
[1168,{"$f":"A1170/README!B$4","v":2.6485260770975058E-2},0]
[1169,{"$f":"A1171/README!B$4","v":2.6507936507936508E-2},0]
[1170,{"$f":"A1172/README!B$4","v":2.6530612244897958E-2},0]
[1171,{"$f":"A1173/README!B$4","v":2.6553287981859412E-2},0]
[1172,{"$f":"A1174/README!B$4","v":2.6575963718820862E-2},0]
[1173,{"$f":"A1175/README!B$4","v":2.6598639455782312E-2},0]
[1174,{"$f":"A1176/README!B$4","v":2.6621315192743765E-2},0]
[1175,{"$f":"A1177/README!B$4","v":2.6643990929705215E-2},0]
[1176,{"$f":"A1178/README!B$4","v":2.6666666666666668E-2},0]
[1177,{"$f":"A1179/README!B$4","v":2.6689342403628118E-2},0]
[1178,{"$f":"A1180/README!B$4","v":2.6712018140589568E-2},0]
[1179,{"$f":"A1181/README!B$4","v":2.6734693877551022E-2},0]
[1180,{"$f":"A1182/README!B$4","v":2.6757369614512472E-2},0]
[1181,{"$f":"A1183/README!B$4","v":2.6780045351473922E-2},0]
[1182,{"$f":"A1184/README!B$4","v":2.6802721088435375E-2},0]
[1183,{"$f":"A1185/README!B$4","v":2.6825396825396825E-2},0]
[1184,{"$f":"A1186/README!B$4","v":2.6848072562358275E-2},0]
[1185,{"$f":"A1187/README!B$4","v":2.6870748299319729E-2},0]
[1186,{"$f":"A1188/README!B$4","v":2.6893424036281179E-2},0]
[1187,{"$f":"A1189/README!B$4","v":2.6916099773242632E-2},0]
[1188,{"$f":"A1190/README!B$4","v":2.6938775510204082E-2},0]
[1189,{"$f":"A1191/README!B$4","v":2.6961451247165532E-2},0]
[1190,{"$f":"A1192/README!B$4","v":2.6984126984126985E-2},0]
[1191,{"$f":"A1193/README!B$4","v":2.7006802721088435E-2},0]
[1192,{"$f":"A1194/README!B$4","v":2.7029478458049885E-2},0]
[1193,{"$f":"A1195/README!B$4","v":2.7052154195011339E-2},0]
[1194,{"$f":"A1196/README!B$4","v":2.7074829931972789E-2},0]
[1195,{"$f":"A1197/README!B$4","v":2.7097505668934239E-2},0]
[1196,{"$f":"A1198/README!B$4","v":2.7120181405895692E-2},0]
[1197,{"$f":"A1199/README!B$4","v":2.7142857142857142E-2},0]
[1198,{"$f":"A1200/README!B$4","v":2.7165532879818596E-2},0]
[1199,{"$f":"A1201/README!B$4","v":2.7188208616780046E-2},0]
[1200,{"$f":"A1202/README!B$4","v":2.7210884353741496E-2},0]
[1201,{"$f":"A1203/README!B$4","v":2.7233560090702949E-2},0]
[1202,{"$f":"A1204/README!B$4","v":2.7256235827664399E-2},0]
[1203,{"$f":"A1205/README!B$4","v":2.7278911564625849E-2},0]
[1204,{"$f":"A1206/README!B$4","v":2.7301587301587302E-2},0]
[1205,{"$f":"A1207/README!B$4","v":2.7324263038548752E-2},0]
[1206,{"$f":"A1208/README!B$4","v":2.7346938775510202E-2},0]
[1207,{"$f":"A1209/README!B$4","v":2.7369614512471656E-2},0]
[1208,{"$f":"A1210/README!B$4","v":2.7392290249433106E-2},0]
[1209,{"$f":"A1211/README!B$4","v":2.7414965986394559E-2},0]
[1210,{"$f":"A1212/README!B$4","v":2.7437641723356009E-2},0]
[1211,{"$f":"A1213/README!B$4","v":2.7460317460317459E-2},0]
[1212,{"$f":"A1214/README!B$4","v":2.7482993197278913E-2},0]
[1213,{"$f":"A1215/README!B$4","v":2.7505668934240363E-2},0]
[1214,{"$f":"A1216/README!B$4","v":2.7528344671201813E-2},0]
[1215,{"$f":"A1217/README!B$4","v":2.7551020408163266E-2},0]
[1216,{"$f":"A1218/README!B$4","v":2.7573696145124716E-2},0]
[1217,{"$f":"A1219/README!B$4","v":2.7596371882086169E-2},0]
[1218,{"$f":"A1220/README!B$4","v":2.7619047619047619E-2},0]
[1219,{"$f":"A1221/README!B$4","v":2.7641723356009069E-2},0]
[1220,{"$f":"A1222/README!B$4","v":2.7664399092970523E-2},0]
[1221,{"$f":"A1223/README!B$4","v":2.7687074829931973E-2},0]
[1222,{"$f":"A1224/README!B$4","v":2.7709750566893423E-2},0]
[1223,{"$f":"A1225/README!B$4","v":2.7732426303854876E-2},0]
[1224,{"$f":"A1226/README!B$4","v":2.7755102040816326E-2},0]
[1225,{"$f":"A1227/README!B$4","v":2.7777777777777776E-2},0]
[1226,{"$f":"A1228/README!B$4","v":2.780045351473923E-2},0]
[1227,{"$f":"A1229/README!B$4","v":2.782312925170068E-2},0]
[1228,{"$f":"A1230/README!B$4","v":2.7845804988662133E-2},0]
[1229,{"$f":"A1231/README!B$4","v":2.7868480725623583E-2},0]
[1230,{"$f":"A1232/README!B$4","v":2.7891156462585033E-2},0]
[1231,{"$f":"A1233/README!B$4","v":2.7913832199546487E-2},0]
[1232,{"$f":"A1234/README!B$4","v":2.7936507936507936E-2},0]
[1233,{"$f":"A1235/README!B$4","v":2.7959183673469386E-2},0]
[1234,{"$f":"A1236/README!B$4","v":2.798185941043084E-2},0]
[1235,{"$f":"A1237/README!B$4","v":2.800453514739229E-2},0]
[1236,{"$f":"A1238/README!B$4","v":2.802721088435374E-2},0]
[1237,{"$f":"A1239/README!B$4","v":2.8049886621315193E-2},0]
[1238,{"$f":"A1240/README!B$4","v":2.8072562358276643E-2},0]
[1239,{"$f":"A1241/README!B$4","v":2.8095238095238097E-2},0]
[1240,{"$f":"A1242/README!B$4","v":2.8117913832199547E-2},0]
[1241,{"$f":"A1243/README!B$4","v":2.8140589569160997E-2},0]
[1242,{"$f":"A1244/README!B$4","v":2.816326530612245E-2},0]
[1243,{"$f":"A1245/README!B$4","v":2.81859410430839E-2},0]
[1244,{"$f":"A1246/README!B$4","v":2.820861678004535E-2},0]
[1245,{"$f":"A1247/README!B$4","v":2.8231292517006804E-2},0]
[1246,{"$f":"A1248/README!B$4","v":2.8253968253968254E-2},0]
[1247,{"$f":"A1249/README!B$4","v":2.8276643990929703E-2},0]
[1248,{"$f":"A1250/README!B$4","v":2.8299319727891157E-2},0]
[1249,{"$f":"A1251/README!B$4","v":2.8321995464852607E-2},0]
[1250,{"$f":"A1252/README!B$4","v":2.834467120181406E-2},0]
[1251,{"$f":"A1253/README!B$4","v":2.836734693877551E-2},0]
[1252,{"$f":"A1254/README!B$4","v":2.839002267573696E-2},0]
[1253,{"$f":"A1255/README!B$4","v":2.8412698412698414E-2},0]
[1254,{"$f":"A1256/README!B$4","v":2.8435374149659864E-2},0]
[1255,{"$f":"A1257/README!B$4","v":2.8458049886621314E-2},0]
[1256,{"$f":"A1258/README!B$4","v":2.8480725623582767E-2},0]
[1257,{"$f":"A1259/README!B$4","v":2.8503401360544217E-2},0]
[1258,{"$f":"A1260/README!B$4","v":2.8526077097505671E-2},0]
[1259,{"$f":"A1261/README!B$4","v":2.8548752834467121E-2},0]
[1260,{"$f":"A1262/README!B$4","v":2.8571428571428571E-2},0]
[1261,{"$f":"A1263/README!B$4","v":2.8594104308390024E-2},0]
[1262,{"$f":"A1264/README!B$4","v":2.8616780045351474E-2},0]
[1263,{"$f":"A1265/README!B$4","v":2.8639455782312924E-2},0]
[1264,{"$f":"A1266/README!B$4","v":2.8662131519274377E-2},0]
[1265,{"$f":"A1267/README!B$4","v":2.8684807256235827E-2},0]
[1266,{"$f":"A1268/README!B$4","v":2.8707482993197277E-2},0]
[1267,{"$f":"A1269/README!B$4","v":2.8730158730158731E-2},0]
[1268,{"$f":"A1270/README!B$4","v":2.8752834467120181E-2},0]
[1269,{"$f":"A1271/README!B$4","v":2.8775510204081634E-2},0]
[1270,{"$f":"A1272/README!B$4","v":2.8798185941043084E-2},0]
[1271,{"$f":"A1273/README!B$4","v":2.8820861678004534E-2},0]
[1272,{"$f":"A1274/README!B$4","v":2.8843537414965988E-2},0]
[1273,{"$f":"A1275/README!B$4","v":2.8866213151927438E-2},0]
[1274,{"$f":"A1276/README!B$4","v":2.8888888888888888E-2},0]
[1275,{"$f":"A1277/README!B$4","v":2.8911564625850341E-2},0]
[1276,{"$f":"A1278/README!B$4","v":2.8934240362811791E-2},0]
[1277,{"$f":"A1279/README!B$4","v":2.8956916099773241E-2},0]
[1278,{"$f":"A1280/README!B$4","v":2.8979591836734694E-2},0]
[1279,{"$f":"A1281/README!B$4","v":2.9002267573696144E-2},0]
[1280,{"$f":"A1282/README!B$4","v":2.9024943310657598E-2},0]
[1281,{"$f":"A1283/README!B$4","v":2.9047619047619048E-2},0]
[1282,{"$f":"A1284/README!B$4","v":2.9070294784580498E-2},0]
[1283,{"$f":"A1285/README!B$4","v":2.9092970521541951E-2},0]
[1284,{"$f":"A1286/README!B$4","v":2.9115646258503401E-2},0]
[1285,{"$f":"A1287/README!B$4","v":2.9138321995464851E-2},0]
[1286,{"$f":"A1288/README!B$4","v":2.9160997732426305E-2},0]
[1287,{"$f":"A1289/README!B$4","v":2.9183673469387755E-2},0]
[1288,{"$f":"A1290/README!B$4","v":2.9206349206349208E-2},0]
[1289,{"$f":"A1291/README!B$4","v":2.9229024943310658E-2},0]
[1290,{"$f":"A1292/README!B$4","v":2.9251700680272108E-2},0]
[1291,{"$f":"A1293/README!B$4","v":2.9274376417233561E-2},0]
[1292,{"$f":"A1294/README!B$4","v":2.9297052154195011E-2},0]
[1293,{"$f":"A1295/README!B$4","v":2.9319727891156461E-2},0]
[1294,{"$f":"A1296/README!B$4","v":2.9342403628117915E-2},0]
[1295,{"$f":"A1297/README!B$4","v":2.9365079365079365E-2},0]
[1296,{"$f":"A1298/README!B$4","v":2.9387755102040815E-2},0]
[1297,{"$f":"A1299/README!B$4","v":2.9410430839002268E-2},0]
[1298,{"$f":"A1300/README!B$4","v":2.9433106575963718E-2},0]
[1299,{"$f":"A1301/README!B$4","v":2.9455782312925172E-2},0]
[1300,{"$f":"A1302/README!B$4","v":2.9478458049886622E-2},0]
[1301,{"$f":"A1303/README!B$4","v":2.9501133786848072E-2},0]
[1302,{"$f":"A1304/README!B$4","v":2.9523809523809525E-2},0]
[1303,{"$f":"A1305/README!B$4","v":2.9546485260770975E-2},0]
[1304,{"$f":"A1306/README!B$4","v":2.9569160997732425E-2},0]
[1305,{"$f":"A1307/README!B$4","v":2.9591836734693878E-2},0]
[1306,{"$f":"A1308/README!B$4","v":2.9614512471655328E-2},0]
[1307,{"$f":"A1309/README!B$4","v":2.9637188208616778E-2},0]
[1308,{"$f":"A1310/README!B$4","v":2.9659863945578232E-2},0]
[1309,{"$f":"A1311/README!B$4","v":2.9682539682539682E-2},0]
[1310,{"$f":"A1312/README!B$4","v":2.9705215419501135E-2},0]
[1311,{"$f":"A1313/README!B$4","v":2.9727891156462585E-2},0]
[1312,{"$f":"A1314/README!B$4","v":2.9750566893424035E-2},0]
[1313,{"$f":"A1315/README!B$4","v":2.9773242630385489E-2},0]
[1314,{"$f":"A1316/README!B$4","v":2.9795918367346939E-2},0]
[1315,{"$f":"A1317/README!B$4","v":2.9818594104308389E-2},0]
[1316,{"$f":"A1318/README!B$4","v":2.9841269841269842E-2},0]
[1317,{"$f":"A1319/README!B$4","v":2.9863945578231292E-2},0]
[1318,{"$f":"A1320/README!B$4","v":2.9886621315192742E-2},0]
[1319,{"$f":"A1321/README!B$4","v":2.9909297052154196E-2},0]
[1320,{"$f":"A1322/README!B$4","v":2.9931972789115645E-2},0]
[1321,{"$f":"A1323/README!B$4","v":2.9954648526077099E-2},0]
[1322,{"$f":"A1324/README!B$4","v":2.9977324263038549E-2},0]
[1323,{"$f":"A1325/README!B$4","v":0.03},0]
[1324,{"$f":"A1326/README!B$4","v":3.0022675736961452E-2},0]
[1325,{"$f":"A1327/README!B$4","v":3.0045351473922902E-2},0]
[1326,{"$f":"A1328/README!B$4","v":3.0068027210884352E-2},0]
[1327,{"$f":"A1329/README!B$4","v":3.0090702947845806E-2},0]
[1328,{"$f":"A1330/README!B$4","v":3.0113378684807256E-2},0]
[1329,{"$f":"A1331/README!B$4","v":3.0136054421768709E-2},0]
[1330,{"$f":"A1332/README!B$4","v":3.0158730158730159E-2},0]
[1331,{"$f":"A1333/README!B$4","v":3.0181405895691609E-2},0]
[1332,{"$f":"A1334/README!B$4","v":3.0204081632653063E-2},0]
[1333,{"$f":"A1335/README!B$4","v":3.0226757369614513E-2},0]
[1334,{"$f":"A1336/README!B$4","v":3.0249433106575963E-2},0]
[1335,{"$f":"A1337/README!B$4","v":3.0272108843537416E-2},0]
[1336,{"$f":"A1338/README!B$4","v":3.0294784580498866E-2},0]
[1337,{"$f":"A1339/README!B$4","v":3.0317460317460316E-2},0]
[1338,{"$f":"A1340/README!B$4","v":3.0340136054421769E-2},0]
[1339,{"$f":"A1341/README!B$4","v":3.0362811791383219E-2},0]
[1340,{"$f":"A1342/README!B$4","v":3.0385487528344673E-2},0]
[1341,{"$f":"A1343/README!B$4","v":3.0408163265306123E-2},0]
[1342,{"$f":"A1344/README!B$4","v":3.0430839002267573E-2},0]
[1343,{"$f":"A1345/README!B$4","v":3.0453514739229026E-2},0]
[1344,{"$f":"A1346/README!B$4","v":3.0476190476190476E-2},0]
[1345,{"$f":"A1347/README!B$4","v":3.0498866213151926E-2},0]
[1346,{"$f":"A1348/README!B$4","v":3.052154195011338E-2},0]
[1347,{"$f":"A1349/README!B$4","v":3.054421768707483E-2},0]
[1348,{"$f":"A1350/README!B$4","v":3.056689342403628E-2},0]
[1349,{"$f":"A1351/README!B$4","v":3.0589569160997733E-2},0]
[1350,{"$f":"A1352/README!B$4","v":3.0612244897959183E-2},0]
[1351,{"$f":"A1353/README!B$4","v":3.0634920634920636E-2},0]
[1352,{"$f":"A1354/README!B$4","v":3.0657596371882086E-2},0]
[1353,{"$f":"A1355/README!B$4","v":3.0680272108843536E-2},0]
[1354,{"$f":"A1356/README!B$4","v":3.070294784580499E-2},0]
[1355,{"$f":"A1357/README!B$4","v":3.072562358276644E-2},0]
[1356,{"$f":"A1358/README!B$4","v":3.074829931972789E-2},0]
[1357,{"$f":"A1359/README!B$4","v":3.0770975056689343E-2},0]
[1358,{"$f":"A1360/README!B$4","v":3.0793650793650793E-2},0]
[1359,{"$f":"A1361/README!B$4","v":3.0816326530612243E-2},0]
[1360,{"$f":"A1362/README!B$4","v":3.0839002267573697E-2},0]
[1361,{"$f":"A1363/README!B$4","v":3.0861678004535147E-2},0]
[1362,{"$f":"A1364/README!B$4","v":3.08843537414966E-2},0]
[1363,{"$f":"A1365/README!B$4","v":3.090702947845805E-2},0]
[1364,{"$f":"A1366/README!B$4","v":3.09297052154195E-2},0]
[1365,{"$f":"A1367/README!B$4","v":3.0952380952380953E-2},0]
[1366,{"$f":"A1368/README!B$4","v":3.0975056689342403E-2},0]
[1367,{"$f":"A1369/README!B$4","v":3.0997732426303853E-2},0]
[1368,{"$f":"A1370/README!B$4","v":3.1020408163265307E-2},0]
[1369,{"$f":"A1371/README!B$4","v":3.1043083900226757E-2},0]
[1370,{"$f":"A1372/README!B$4","v":3.106575963718821E-2},0]
[1371,{"$f":"A1373/README!B$4","v":3.108843537414966E-2},0]
[1372,{"$f":"A1374/README!B$4","v":3.111111111111111E-2},0]
[1373,{"$f":"A1375/README!B$4","v":3.1133786848072564E-2},0]
[1374,{"$f":"A1376/README!B$4","v":3.1156462585034014E-2},0]
[1375,{"$f":"A1377/README!B$4","v":3.1179138321995464E-2},0]
[1376,{"$f":"A1378/README!B$4","v":3.1201814058956917E-2},0]
[1377,{"$f":"A1379/README!B$4","v":3.1224489795918367E-2},0]
[1378,{"$f":"A1380/README!B$4","v":3.1247165532879817E-2},0]
[1379,{"$f":"A1381/README!B$4","v":3.1269841269841267E-2},0]
[1380,{"$f":"A1382/README!B$4","v":3.1292517006802724E-2},0]
[1381,{"$f":"A1383/README!B$4","v":3.1315192743764174E-2},0]
[1382,{"$f":"A1384/README!B$4","v":3.1337868480725624E-2},0]
[1383,{"$f":"A1385/README!B$4","v":3.1360544217687074E-2},0]
[1384,{"$f":"A1386/README!B$4","v":3.1383219954648524E-2},0]
[1385,{"$f":"A1387/README!B$4","v":3.1405895691609981E-2},0]
[1386,{"$f":"A1388/README!B$4","v":3.1428571428571431E-2},0]
[1387,{"$f":"A1389/README!B$4","v":3.1451247165532881E-2},0]
[1388,{"$f":"A1390/README!B$4","v":3.1473922902494331E-2},0]
[1389,{"$f":"A1391/README!B$4","v":3.1496598639455781E-2},0]
[1390,{"$f":"A1392/README!B$4","v":3.1519274376417231E-2},0]
[1391,{"$f":"A1393/README!B$4","v":3.1541950113378688E-2},0]
[1392,{"$f":"A1394/README!B$4","v":3.1564625850340138E-2},0]
[1393,{"$f":"A1395/README!B$4","v":3.1587301587301587E-2},0]
[1394,{"$f":"A1396/README!B$4","v":3.1609977324263037E-2},0]
[1395,{"$f":"A1397/README!B$4","v":3.1632653061224487E-2},0]
[1396,{"$f":"A1398/README!B$4","v":3.1655328798185944E-2},0]
[1397,{"$f":"A1399/README!B$4","v":3.1678004535147394E-2},0]
[1398,{"$f":"A1400/README!B$4","v":3.1700680272108844E-2},0]
[1399,{"$f":"A1401/README!B$4","v":3.1723356009070294E-2},0]
[1400,{"$f":"A1402/README!B$4","v":3.1746031746031744E-2},0]
[1401,{"$f":"A1403/README!B$4","v":3.1768707482993194E-2},0]
[1402,{"$f":"A1404/README!B$4","v":3.1791383219954651E-2},0]
[1403,{"$f":"A1405/README!B$4","v":3.1814058956916101E-2},0]
[1404,{"$f":"A1406/README!B$4","v":3.1836734693877551E-2},0]
[1405,{"$f":"A1407/README!B$4","v":3.1859410430839001E-2},0]
[1406,{"$f":"A1408/README!B$4","v":3.1882086167800451E-2},0]
[1407,{"$f":"A1409/README!B$4","v":3.1904761904761908E-2},0]
[1408,{"$f":"A1410/README!B$4","v":3.1927437641723358E-2},0]
[1409,{"$f":"A1411/README!B$4","v":3.1950113378684808E-2},0]
[1410,{"$f":"A1412/README!B$4","v":3.1972789115646258E-2},0]
[1411,{"$f":"A1413/README!B$4","v":3.1995464852607708E-2},0]
[1412,{"$f":"A1414/README!B$4","v":3.2018140589569158E-2},0]
[1413,{"$f":"A1415/README!B$4","v":3.2040816326530615E-2},0]
[1414,{"$f":"A1416/README!B$4","v":3.2063492063492065E-2},0]
[1415,{"$f":"A1417/README!B$4","v":3.2086167800453515E-2},0]
[1416,{"$f":"A1418/README!B$4","v":3.2108843537414965E-2},0]
[1417,{"$f":"A1419/README!B$4","v":3.2131519274376415E-2},0]
[1418,{"$f":"A1420/README!B$4","v":3.2154195011337872E-2},0]
[1419,{"$f":"A1421/README!B$4","v":3.2176870748299322E-2},0]
[1420,{"$f":"A1422/README!B$4","v":3.2199546485260772E-2},0]
[1421,{"$f":"A1423/README!B$4","v":3.2222222222222222E-2},0]
[1422,{"$f":"A1424/README!B$4","v":3.2244897959183672E-2},0]
[1423,{"$f":"A1425/README!B$4","v":3.2267573696145121E-2},0]
[1424,{"$f":"A1426/README!B$4","v":3.2290249433106578E-2},0]
[1425,{"$f":"A1427/README!B$4","v":3.2312925170068028E-2},0]
[1426,{"$f":"A1428/README!B$4","v":3.2335600907029478E-2},0]
[1427,{"$f":"A1429/README!B$4","v":3.2358276643990928E-2},0]
[1428,{"$f":"A1430/README!B$4","v":3.2380952380952378E-2},0]
[1429,{"$f":"A1431/README!B$4","v":3.2403628117913835E-2},0]
[1430,{"$f":"A1432/README!B$4","v":3.2426303854875285E-2},0]
[1431,{"$f":"A1433/README!B$4","v":3.2448979591836735E-2},0]
[1432,{"$f":"A1434/README!B$4","v":3.2471655328798185E-2},0]
[1433,{"$f":"A1435/README!B$4","v":3.2494331065759635E-2},0]
[1434,{"$f":"A1436/README!B$4","v":3.2517006802721085E-2},0]
[1435,{"$f":"A1437/README!B$4","v":3.2539682539682542E-2},0]
[1436,{"$f":"A1438/README!B$4","v":3.2562358276643992E-2},0]
[1437,{"$f":"A1439/README!B$4","v":3.2585034013605442E-2},0]
[1438,{"$f":"A1440/README!B$4","v":3.2607709750566892E-2},0]
[1439,{"$f":"A1441/README!B$4","v":3.2630385487528342E-2},0]
[1440,{"$f":"A1442/README!B$4","v":3.2653061224489799E-2},0]
[1441,{"$f":"A1443/README!B$4","v":3.2675736961451249E-2},0]
[1442,{"$f":"A1444/README!B$4","v":3.2698412698412699E-2},0]
[1443,{"$f":"A1445/README!B$4","v":3.2721088435374149E-2},0]
[1444,{"$f":"A1446/README!B$4","v":3.2743764172335599E-2},0]
[1445,{"$f":"A1447/README!B$4","v":3.2766439909297049E-2},0]
[1446,{"$f":"A1448/README!B$4","v":3.2789115646258506E-2},0]
[1447,{"$f":"A1449/README!B$4","v":3.2811791383219956E-2},0]
[1448,{"$f":"A1450/README!B$4","v":3.2834467120181406E-2},0]
[1449,{"$f":"A1451/README!B$4","v":3.2857142857142856E-2},0]
[1450,{"$f":"A1452/README!B$4","v":3.2879818594104306E-2},0]
[1451,{"$f":"A1453/README!B$4","v":3.2902494331065762E-2},0]
[1452,{"$f":"A1454/README!B$4","v":3.2925170068027212E-2},0]
[1453,{"$f":"A1455/README!B$4","v":3.2947845804988662E-2},0]
[1454,{"$f":"A1456/README!B$4","v":3.2970521541950112E-2},0]
[1455,{"$f":"A1457/README!B$4","v":3.2993197278911562E-2},0]
[1456,{"$f":"A1458/README!B$4","v":3.3015873015873019E-2},0]
[1457,{"$f":"A1459/README!B$4","v":3.3038548752834469E-2},0]
[1458,{"$f":"A1460/README!B$4","v":3.3061224489795919E-2},0]
[1459,{"$f":"A1461/README!B$4","v":3.3083900226757369E-2},0]
[1460,{"$f":"A1462/README!B$4","v":3.3106575963718819E-2},0]
[1461,{"$f":"A1463/README!B$4","v":3.3129251700680269E-2},0]
[1462,{"$f":"A1464/README!B$4","v":3.3151927437641726E-2},0]
[1463,{"$f":"A1465/README!B$4","v":3.3174603174603176E-2},0]
[1464,{"$f":"A1466/README!B$4","v":3.3197278911564626E-2},0]
[1465,{"$f":"A1467/README!B$4","v":3.3219954648526076E-2},0]
[1466,{"$f":"A1468/README!B$4","v":3.3242630385487526E-2},0]
[1467,{"$f":"A1469/README!B$4","v":3.3265306122448983E-2},0]
[1468,{"$f":"A1470/README!B$4","v":3.3287981859410433E-2},0]
[1469,{"$f":"A1471/README!B$4","v":3.3310657596371883E-2},0]
[1470,{"$f":"A1472/README!B$4","v":3.3333333333333333E-2},0]
[1471,{"$f":"A1473/README!B$4","v":3.3356009070294783E-2},0]
[1472,{"$f":"A1474/README!B$4","v":3.3378684807256233E-2},0]
[1473,{"$f":"A1475/README!B$4","v":3.340136054421769E-2},0]
[1474,{"$f":"A1476/README!B$4","v":3.342403628117914E-2},0]
[1475,{"$f":"A1477/README!B$4","v":3.344671201814059E-2},0]
[1476,{"$f":"A1478/README!B$4","v":3.346938775510204E-2},0]
[1477,{"$f":"A1479/README!B$4","v":3.349206349206349E-2},0]
[1478,{"$f":"A1480/README!B$4","v":3.3514739229024947E-2},0]
[1479,{"$f":"A1481/README!B$4","v":3.3537414965986397E-2},0]
[1480,{"$f":"A1482/README!B$4","v":3.3560090702947847E-2},0]
[1481,{"$f":"A1483/README!B$4","v":3.3582766439909296E-2},0]
[1482,{"$f":"A1484/README!B$4","v":3.3605442176870746E-2},0]
[1483,{"$f":"A1485/README!B$4","v":3.3628117913832196E-2},0]
[1484,{"$f":"A1486/README!B$4","v":3.3650793650793653E-2},0]
[1485,{"$f":"A1487/README!B$4","v":3.3673469387755103E-2},0]
[1486,{"$f":"A1488/README!B$4","v":3.3696145124716553E-2},0]
[1487,{"$f":"A1489/README!B$4","v":3.3718820861678003E-2},0]
[1488,{"$f":"A1490/README!B$4","v":3.3741496598639453E-2},0]
[1489,{"$f":"A1491/README!B$4","v":3.376417233560091E-2},0]
[1490,{"$f":"A1492/README!B$4","v":3.378684807256236E-2},0]
[1491,{"$f":"A1493/README!B$4","v":3.380952380952381E-2},0]
[1492,{"$f":"A1494/README!B$4","v":3.383219954648526E-2},0]
[1493,{"$f":"A1495/README!B$4","v":3.385487528344671E-2},0]
[1494,{"$f":"A1496/README!B$4","v":3.387755102040816E-2},0]
[1495,{"$f":"A1497/README!B$4","v":3.3900226757369617E-2},0]
[1496,{"$f":"A1498/README!B$4","v":3.3922902494331067E-2},0]
[1497,{"$f":"A1499/README!B$4","v":3.3945578231292517E-2},0]
[1498,{"$f":"A1500/README!B$4","v":3.3968253968253967E-2},0]
[1499,{"$f":"A1501/README!B$4","v":3.3990929705215417E-2},0]
[1500,{"$f":"A1502/README!B$4","v":3.4013605442176874E-2},0]
[1501,{"$f":"A1503/README!B$4","v":3.4036281179138324E-2},0]
[1502,{"$f":"A1504/README!B$4","v":3.4058956916099774E-2},0]
[1503,{"$f":"A1505/README!B$4","v":3.4081632653061224E-2},0]
[1504,{"$f":"A1506/README!B$4","v":3.4104308390022674E-2},0]
[1505,{"$f":"A1507/README!B$4","v":3.4126984126984124E-2},0]
[1506,{"$f":"A1508/README!B$4","v":3.4149659863945581E-2},0]
[1507,{"$f":"A1509/README!B$4","v":3.4172335600907031E-2},0]
[1508,{"$f":"A1510/README!B$4","v":3.4195011337868481E-2},0]
[1509,{"$f":"A1511/README!B$4","v":3.4217687074829931E-2},0]
[1510,{"$f":"A1512/README!B$4","v":3.4240362811791381E-2},0]
[1511,{"$f":"A1513/README!B$4","v":3.4263038548752837E-2},0]
[1512,{"$f":"A1514/README!B$4","v":3.4285714285714287E-2},0]
[1513,{"$f":"A1515/README!B$4","v":3.4308390022675737E-2},0]
[1514,{"$f":"A1516/README!B$4","v":3.4331065759637187E-2},0]
[1515,{"$f":"A1517/README!B$4","v":3.4353741496598637E-2},0]
[1516,{"$f":"A1518/README!B$4","v":3.4376417233560087E-2},0]
[1517,{"$f":"A1519/README!B$4","v":3.4399092970521544E-2},0]
[1518,{"$f":"A1520/README!B$4","v":3.4421768707482994E-2},0]
[1519,{"$f":"A1521/README!B$4","v":3.4444444444444444E-2},0]
[1520,{"$f":"A1522/README!B$4","v":3.4467120181405894E-2},0]
[1521,{"$f":"A1523/README!B$4","v":3.4489795918367344E-2},0]
[1522,{"$f":"A1524/README!B$4","v":3.4512471655328801E-2},0]
[1523,{"$f":"A1525/README!B$4","v":3.4535147392290251E-2},0]
[1524,{"$f":"A1526/README!B$4","v":3.4557823129251701E-2},0]
[1525,{"$f":"A1527/README!B$4","v":3.4580498866213151E-2},0]
[1526,{"$f":"A1528/README!B$4","v":3.4603174603174601E-2},0]
[1527,{"$f":"A1529/README!B$4","v":3.4625850340136058E-2},0]
[1528,{"$f":"A1530/README!B$4","v":3.4648526077097508E-2},0]
[1529,{"$f":"A1531/README!B$4","v":3.4671201814058958E-2},0]
[1530,{"$f":"A1532/README!B$4","v":3.4693877551020408E-2},0]
[1531,{"$f":"A1533/README!B$4","v":3.4716553287981858E-2},0]
[1532,{"$f":"A1534/README!B$4","v":3.4739229024943308E-2},0]
[1533,{"$f":"A1535/README!B$4","v":3.4761904761904765E-2},0]
[1534,{"$f":"A1536/README!B$4","v":3.4784580498866215E-2},0]
[1535,{"$f":"A1537/README!B$4","v":3.4807256235827665E-2},0]
[1536,{"$f":"A1538/README!B$4","v":3.4829931972789115E-2},0]
[1537,{"$f":"A1539/README!B$4","v":3.4852607709750565E-2},0]
[1538,{"$f":"A1540/README!B$4","v":3.4875283446712022E-2},0]
[1539,{"$f":"A1541/README!B$4","v":3.4897959183673471E-2},0]
[1540,{"$f":"A1542/README!B$4","v":3.4920634920634921E-2},0]
[1541,{"$f":"A1543/README!B$4","v":3.4943310657596371E-2},0]
[1542,{"$f":"A1544/README!B$4","v":3.4965986394557821E-2},0]
[1543,{"$f":"A1545/README!B$4","v":3.4988662131519271E-2},0]
[1544,{"$f":"A1546/README!B$4","v":3.5011337868480728E-2},0]
[1545,{"$f":"A1547/README!B$4","v":3.5034013605442178E-2},0]
[1546,{"$f":"A1548/README!B$4","v":3.5056689342403628E-2},0]
[1547,{"$f":"A1549/README!B$4","v":3.5079365079365078E-2},0]
[1548,{"$f":"A1550/README!B$4","v":3.5102040816326528E-2},0]
[1549,{"$f":"A1551/README!B$4","v":3.5124716553287985E-2},0]
[1550,{"$f":"A1552/README!B$4","v":3.5147392290249435E-2},0]
[1551,{"$f":"A1553/README!B$4","v":3.5170068027210885E-2},0]
[1552,{"$f":"A1554/README!B$4","v":3.5192743764172335E-2},0]
[1553,{"$f":"A1555/README!B$4","v":3.5215419501133785E-2},0]
[1554,{"$f":"A1556/README!B$4","v":3.5238095238095235E-2},0]
[1555,{"$f":"A1557/README!B$4","v":3.5260770975056692E-2},0]
[1556,{"$f":"A1558/README!B$4","v":3.5283446712018142E-2},0]
[1557,{"$f":"A1559/README!B$4","v":3.5306122448979592E-2},0]
[1558,{"$f":"A1560/README!B$4","v":3.5328798185941042E-2},0]
[1559,{"$f":"A1561/README!B$4","v":3.5351473922902492E-2},0]
[1560,{"$f":"A1562/README!B$4","v":3.5374149659863949E-2},0]
[1561,{"$f":"A1563/README!B$4","v":3.5396825396825399E-2},0]
[1562,{"$f":"A1564/README!B$4","v":3.5419501133786849E-2},0]
[1563,{"$f":"A1565/README!B$4","v":3.5442176870748299E-2},0]
[1564,{"$f":"A1566/README!B$4","v":3.5464852607709749E-2},0]
[1565,{"$f":"A1567/README!B$4","v":3.5487528344671199E-2},0]
[1566,{"$f":"A1568/README!B$4","v":3.5510204081632656E-2},0]
[1567,{"$f":"A1569/README!B$4","v":3.5532879818594106E-2},0]
[1568,{"$f":"A1570/README!B$4","v":3.5555555555555556E-2},0]
[1569,{"$f":"A1571/README!B$4","v":3.5578231292517006E-2},0]
[1570,{"$f":"A1572/README!B$4","v":3.5600907029478455E-2},0]
[1571,{"$f":"A1573/README!B$4","v":3.5623582766439912E-2},0]
[1572,{"$f":"A1574/README!B$4","v":3.5646258503401362E-2},0]
[1573,{"$f":"A1575/README!B$4","v":3.5668934240362812E-2},0]
[1574,{"$f":"A1576/README!B$4","v":3.5691609977324262E-2},0]
[1575,{"$f":"A1577/README!B$4","v":3.5714285714285712E-2},0]
[1576,{"$f":"A1578/README!B$4","v":3.5736961451247162E-2},0]
[1577,{"$f":"A1579/README!B$4","v":3.5759637188208619E-2},0]
[1578,{"$f":"A1580/README!B$4","v":3.5782312925170069E-2},0]
[1579,{"$f":"A1581/README!B$4","v":3.5804988662131519E-2},0]
[1580,{"$f":"A1582/README!B$4","v":3.5827664399092969E-2},0]
[1581,{"$f":"A1583/README!B$4","v":3.5850340136054419E-2},0]
[1582,{"$f":"A1584/README!B$4","v":3.5873015873015876E-2},0]
[1583,{"$f":"A1585/README!B$4","v":3.5895691609977326E-2},0]
[1584,{"$f":"A1586/README!B$4","v":3.5918367346938776E-2},0]
[1585,{"$f":"A1587/README!B$4","v":3.5941043083900226E-2},0]
[1586,{"$f":"A1588/README!B$4","v":3.5963718820861676E-2},0]
[1587,{"$f":"A1589/README!B$4","v":3.5986394557823126E-2},0]
[1588,{"$f":"A1590/README!B$4","v":3.6009070294784583E-2},0]
[1589,{"$f":"A1591/README!B$4","v":3.6031746031746033E-2},0]
[1590,{"$f":"A1592/README!B$4","v":3.6054421768707483E-2},0]
[1591,{"$f":"A1593/README!B$4","v":3.6077097505668933E-2},0]
[1592,{"$f":"A1594/README!B$4","v":3.6099773242630383E-2},0]
[1593,{"$f":"A1595/README!B$4","v":3.612244897959184E-2},0]
[1594,{"$f":"A1596/README!B$4","v":3.614512471655329E-2},0]
[1595,{"$f":"A1597/README!B$4","v":3.616780045351474E-2},0]
[1596,{"$f":"A1598/README!B$4","v":3.619047619047619E-2},0]
[1597,{"$f":"A1599/README!B$4","v":3.621315192743764E-2},0]
[1598,{"$f":"A1600/README!B$4","v":3.623582766439909E-2},0]
[1599,{"$f":"A1601/README!B$4","v":3.6258503401360546E-2},0]
[1600,{"$f":"A1602/README!B$4","v":3.6281179138321996E-2},0]
[1601,{"$f":"A1603/README!B$4","v":3.6303854875283446E-2},0]
[1602,{"$f":"A1604/README!B$4","v":3.6326530612244896E-2},0]
[1603,{"$f":"A1605/README!B$4","v":3.6349206349206346E-2},0]
[1604,{"$f":"A1606/README!B$4","v":3.6371882086167803E-2},0]
[1605,{"$f":"A1607/README!B$4","v":3.6394557823129253E-2},0]
[1606,{"$f":"A1608/README!B$4","v":3.6417233560090703E-2},0]
[1607,{"$f":"A1609/README!B$4","v":3.6439909297052153E-2},0]
[1608,{"$f":"A1610/README!B$4","v":3.6462585034013603E-2},0]
[1609,{"$f":"A1611/README!B$4","v":3.648526077097506E-2},0]
[1610,{"$f":"A1612/README!B$4","v":3.650793650793651E-2},0]
[1611,{"$f":"A1613/README!B$4","v":3.653061224489796E-2},0]
[1612,{"$f":"A1614/README!B$4","v":3.655328798185941E-2},0]
[1613,{"$f":"A1615/README!B$4","v":3.657596371882086E-2},0]
[1614,{"$f":"A1616/README!B$4","v":3.659863945578231E-2},0]
[1615,{"$f":"A1617/README!B$4","v":3.6621315192743767E-2},0]
[1616,{"$f":"A1618/README!B$4","v":3.6643990929705217E-2},0]
[1617,{"$f":"A1619/README!B$4","v":3.6666666666666667E-2},0]
[1618,{"$f":"A1620/README!B$4","v":3.6689342403628117E-2},0]
[1619,{"$f":"A1621/README!B$4","v":3.6712018140589567E-2},0]
[1620,{"$f":"A1622/README!B$4","v":3.6734693877551024E-2},0]
[1621,{"$f":"A1623/README!B$4","v":3.6757369614512474E-2},0]
[1622,{"$f":"A1624/README!B$4","v":3.6780045351473924E-2},0]
[1623,{"$f":"A1625/README!B$4","v":3.6802721088435374E-2},0]
[1624,{"$f":"A1626/README!B$4","v":3.6825396825396824E-2},0]
[1625,{"$f":"A1627/README!B$4","v":3.6848072562358274E-2},0]
[1626,{"$f":"A1628/README!B$4","v":3.6870748299319731E-2},0]
[1627,{"$f":"A1629/README!B$4","v":3.6893424036281181E-2},0]
[1628,{"$f":"A1630/README!B$4","v":3.691609977324263E-2},0]
[1629,{"$f":"A1631/README!B$4","v":3.693877551020408E-2},0]
[1630,{"$f":"A1632/README!B$4","v":3.696145124716553E-2},0]
[1631,{"$f":"A1633/README!B$4","v":3.6984126984126987E-2},0]
[1632,{"$f":"A1634/README!B$4","v":3.7006802721088437E-2},0]
[1633,{"$f":"A1635/README!B$4","v":3.7029478458049887E-2},0]
[1634,{"$f":"A1636/README!B$4","v":3.7052154195011337E-2},0]
[1635,{"$f":"A1637/README!B$4","v":3.7074829931972787E-2},0]
[1636,{"$f":"A1638/README!B$4","v":3.7097505668934237E-2},0]
[1637,{"$f":"A1639/README!B$4","v":3.7120181405895694E-2},0]
[1638,{"$f":"A1640/README!B$4","v":3.7142857142857144E-2},0]
[1639,{"$f":"A1641/README!B$4","v":3.7165532879818594E-2},0]
[1640,{"$f":"A1642/README!B$4","v":3.7188208616780044E-2},0]
[1641,{"$f":"A1643/README!B$4","v":3.7210884353741494E-2},0]
[1642,{"$f":"A1644/README!B$4","v":3.7233560090702951E-2},0]
[1643,{"$f":"A1645/README!B$4","v":3.7256235827664401E-2},0]
[1644,{"$f":"A1646/README!B$4","v":3.7278911564625851E-2},0]
[1645,{"$f":"A1647/README!B$4","v":3.7301587301587301E-2},0]
[1646,{"$f":"A1648/README!B$4","v":3.7324263038548751E-2},0]
[1647,{"$f":"A1649/README!B$4","v":3.7346938775510201E-2},0]
[1648,{"$f":"A1650/README!B$4","v":3.7369614512471658E-2},0]
[1649,{"$f":"A1651/README!B$4","v":3.7392290249433108E-2},0]
[1650,{"$f":"A1652/README!B$4","v":3.7414965986394558E-2},0]
[1651,{"$f":"A1653/README!B$4","v":3.7437641723356008E-2},0]
[1652,{"$f":"A1654/README!B$4","v":3.7460317460317458E-2},0]
[1653,{"$f":"A1655/README!B$4","v":3.7482993197278915E-2},0]
[1654,{"$f":"A1656/README!B$4","v":3.7505668934240365E-2},0]
[1655,{"$f":"A1657/README!B$4","v":3.7528344671201815E-2},0]
[1656,{"$f":"A1658/README!B$4","v":3.7551020408163265E-2},0]
[1657,{"$f":"A1659/README!B$4","v":3.7573696145124715E-2},0]
[1658,{"$f":"A1660/README!B$4","v":3.7596371882086164E-2},0]
[1659,{"$f":"A1661/README!B$4","v":3.7619047619047621E-2},0]
[1660,{"$f":"A1662/README!B$4","v":3.7641723356009071E-2},0]
[1661,{"$f":"A1663/README!B$4","v":3.7664399092970521E-2},0]
[1662,{"$f":"A1664/README!B$4","v":3.7687074829931971E-2},0]
[1663,{"$f":"A1665/README!B$4","v":3.7709750566893421E-2},0]
[1664,{"$f":"A1666/README!B$4","v":3.7732426303854878E-2},0]
[1665,{"$f":"A1667/README!B$4","v":3.7755102040816328E-2},0]
[1666,{"$f":"A1668/README!B$4","v":3.7777777777777778E-2},0]
[1667,{"$f":"A1669/README!B$4","v":3.7800453514739228E-2},0]
[1668,{"$f":"A1670/README!B$4","v":3.7823129251700678E-2},0]
[1669,{"$f":"A1671/README!B$4","v":3.7845804988662128E-2},0]
[1670,{"$f":"A1672/README!B$4","v":3.7868480725623585E-2},0]
[1671,{"$f":"A1673/README!B$4","v":3.7891156462585035E-2},0]
[1672,{"$f":"A1674/README!B$4","v":3.7913832199546485E-2},0]
[1673,{"$f":"A1675/README!B$4","v":3.7936507936507935E-2},0]
[1674,{"$f":"A1676/README!B$4","v":3.7959183673469385E-2},0]
[1675,{"$f":"A1677/README!B$4","v":3.7981859410430842E-2},0]
[1676,{"$f":"A1678/README!B$4","v":3.8004535147392292E-2},0]
[1677,{"$f":"A1679/README!B$4","v":3.8027210884353742E-2},0]
[1678,{"$f":"A1680/README!B$4","v":3.8049886621315192E-2},0]
[1679,{"$f":"A1681/README!B$4","v":3.8072562358276642E-2},0]
[1680,{"$f":"A1682/README!B$4","v":3.8095238095238099E-2},0]
[1681,{"$f":"A1683/README!B$4","v":3.8117913832199549E-2},0]
[1682,{"$f":"A1684/README!B$4","v":3.8140589569160999E-2},0]
[1683,{"$f":"A1685/README!B$4","v":3.8163265306122449E-2},0]
[1684,{"$f":"A1686/README!B$4","v":3.8185941043083899E-2},0]
[1685,{"$f":"A1687/README!B$4","v":3.8208616780045349E-2},0]
[1686,{"$f":"A1688/README!B$4","v":3.8231292517006805E-2},0]
[1687,{"$f":"A1689/README!B$4","v":3.8253968253968255E-2},0]
[1688,{"$f":"A1690/README!B$4","v":3.8276643990929705E-2},0]
[1689,{"$f":"A1691/README!B$4","v":3.8299319727891155E-2},0]
[1690,{"$f":"A1692/README!B$4","v":3.8321995464852605E-2},0]
[1691,{"$f":"A1693/README!B$4","v":3.8344671201814062E-2},0]
[1692,{"$f":"A1694/README!B$4","v":3.8367346938775512E-2},0]
[1693,{"$f":"A1695/README!B$4","v":3.8390022675736962E-2},0]
[1694,{"$f":"A1696/README!B$4","v":3.8412698412698412E-2},0]
[1695,{"$f":"A1697/README!B$4","v":3.8435374149659862E-2},0]
[1696,{"$f":"A1698/README!B$4","v":3.8458049886621312E-2},0]
[1697,{"$f":"A1699/README!B$4","v":3.8480725623582769E-2},0]
[1698,{"$f":"A1700/README!B$4","v":3.8503401360544219E-2},0]
[1699,{"$f":"A1701/README!B$4","v":3.8526077097505669E-2},0]
[1700,{"$f":"A1702/README!B$4","v":3.8548752834467119E-2},0]
[1701,{"$f":"A1703/README!B$4","v":3.8571428571428569E-2},0]
[1702,{"$f":"A1704/README!B$4","v":3.8594104308390026E-2},0]
[1703,{"$f":"A1705/README!B$4","v":3.8616780045351476E-2},0]
[1704,{"$f":"A1706/README!B$4","v":3.8639455782312926E-2},0]
[1705,{"$f":"A1707/README!B$4","v":3.8662131519274376E-2},0]
[1706,{"$f":"A1708/README!B$4","v":3.8684807256235826E-2},0]
[1707,{"$f":"A1709/README!B$4","v":3.8707482993197276E-2},0]
[1708,{"$f":"A1710/README!B$4","v":3.8730158730158733E-2},0]
[1709,{"$f":"A1711/README!B$4","v":3.8752834467120183E-2},0]
[1710,{"$f":"A1712/README!B$4","v":3.8775510204081633E-2},0]
[1711,{"$f":"A1713/README!B$4","v":3.8798185941043083E-2},0]
[1712,{"$f":"A1714/README!B$4","v":3.8820861678004533E-2},0]
[1713,{"$f":"A1715/README!B$4","v":3.884353741496599E-2},0]
[1714,{"$f":"A1716/README!B$4","v":3.886621315192744E-2},0]
[1715,{"$f":"A1717/README!B$4","v":3.888888888888889E-2},0]
[1716,{"$f":"A1718/README!B$4","v":3.8911564625850339E-2},0]
[1717,{"$f":"A1719/README!B$4","v":3.8934240362811789E-2},0]
[1718,{"$f":"A1720/README!B$4","v":3.8956916099773239E-2},0]
[1719,{"$f":"A1721/README!B$4","v":3.8979591836734696E-2},0]
[1720,{"$f":"A1722/README!B$4","v":3.9002267573696146E-2},0]
[1721,{"$f":"A1723/README!B$4","v":3.9024943310657596E-2},0]
[1722,{"$f":"A1724/README!B$4","v":3.9047619047619046E-2},0]
[1723,{"$f":"A1725/README!B$4","v":3.9070294784580496E-2},0]
[1724,{"$f":"A1726/README!B$4","v":3.9092970521541953E-2},0]
[1725,{"$f":"A1727/README!B$4","v":3.9115646258503403E-2},0]
[1726,{"$f":"A1728/README!B$4","v":3.9138321995464853E-2},0]
[1727,{"$f":"A1729/README!B$4","v":3.9160997732426303E-2},0]
[1728,{"$f":"A1730/README!B$4","v":3.9183673469387753E-2},0]
[1729,{"$f":"A1731/README!B$4","v":3.9206349206349203E-2},0]
[1730,{"$f":"A1732/README!B$4","v":3.922902494331066E-2},0]
[1731,{"$f":"A1733/README!B$4","v":3.925170068027211E-2},0]
[1732,{"$f":"A1734/README!B$4","v":3.927437641723356E-2},0]
[1733,{"$f":"A1735/README!B$4","v":3.929705215419501E-2},0]
[1734,{"$f":"A1736/README!B$4","v":3.931972789115646E-2},0]
[1735,{"$f":"A1737/README!B$4","v":3.9342403628117917E-2},0]
[1736,{"$f":"A1738/README!B$4","v":3.9365079365079367E-2},0]
[1737,{"$f":"A1739/README!B$4","v":3.9387755102040817E-2},0]
[1738,{"$f":"A1740/README!B$4","v":3.9410430839002267E-2},0]
[1739,{"$f":"A1741/README!B$4","v":3.9433106575963717E-2},0]
[1740,{"$f":"A1742/README!B$4","v":3.9455782312925167E-2},0]
[1741,{"$f":"A1743/README!B$4","v":3.9478458049886624E-2},0]
[1742,{"$f":"A1744/README!B$4","v":3.9501133786848074E-2},0]
[1743,{"$f":"A1745/README!B$4","v":3.9523809523809524E-2},0]
[1744,{"$f":"A1746/README!B$4","v":3.9546485260770974E-2},0]
[1745,{"$f":"A1747/README!B$4","v":3.9569160997732424E-2},0]
[1746,{"$f":"A1748/README!B$4","v":3.959183673469388E-2},0]
[1747,{"$f":"A1749/README!B$4","v":3.961451247165533E-2},0]
[1748,{"$f":"A1750/README!B$4","v":3.963718820861678E-2},0]
[1749,{"$f":"A1751/README!B$4","v":3.965986394557823E-2},0]
[1750,{"$f":"A1752/README!B$4","v":3.968253968253968E-2},0]
[1751,{"$f":"A1753/README!B$4","v":3.9705215419501137E-2},0]
[1752,{"$f":"A1754/README!B$4","v":3.9727891156462587E-2},0]
[1753,{"$f":"A1755/README!B$4","v":3.9750566893424037E-2},0]
[1754,{"$f":"A1756/README!B$4","v":3.9773242630385487E-2},0]
[1755,{"$f":"A1757/README!B$4","v":3.9795918367346937E-2},0]
[1756,{"$f":"A1758/README!B$4","v":3.9818594104308387E-2},0]
[1757,{"$f":"A1759/README!B$4","v":3.9841269841269844E-2},0]
[1758,{"$f":"A1760/README!B$4","v":3.9863945578231294E-2},0]
[1759,{"$f":"A1761/README!B$4","v":3.9886621315192744E-2},0]
[1760,{"$f":"A1762/README!B$4","v":3.9909297052154194E-2},0]
[1761,{"$f":"A1763/README!B$4","v":3.9931972789115644E-2},0]
[1762,{"$f":"A1764/README!B$4","v":3.9954648526077101E-2},0]
[1763,{"$f":"A1765/README!B$4","v":3.9977324263038551E-2},0]
[1764,{"$f":"A1766/README!B$4","v":0.04},0]
[1765,{"$f":"A1767/README!B$4","v":4.0022675736961451E-2},0]
[1766,{"$f":"A1768/README!B$4","v":4.0045351473922901E-2},0]
[1767,{"$f":"A1769/README!B$4","v":4.0068027210884351E-2},0]
[1768,{"$f":"A1770/README!B$4","v":4.0090702947845808E-2},0]
[1769,{"$f":"A1771/README!B$4","v":4.0113378684807258E-2},0]
[1770,{"$f":"A1772/README!B$4","v":4.0136054421768708E-2},0]
[1771,{"$f":"A1773/README!B$4","v":4.0158730158730158E-2},0]
[1772,{"$f":"A1774/README!B$4","v":4.0181405895691608E-2},0]
[1773,{"$f":"A1775/README!B$4","v":4.0204081632653065E-2},0]
[1774,{"$f":"A1776/README!B$4","v":4.0226757369614514E-2},0]
[1775,{"$f":"A1777/README!B$4","v":4.0249433106575964E-2},0]
[1776,{"$f":"A1778/README!B$4","v":4.0272108843537414E-2},0]
[1777,{"$f":"A1779/README!B$4","v":4.0294784580498864E-2},0]
[1778,{"$f":"A1780/README!B$4","v":4.0317460317460314E-2},0]
[1779,{"$f":"A1781/README!B$4","v":4.0340136054421771E-2},0]
[1780,{"$f":"A1782/README!B$4","v":4.0362811791383221E-2},0]
[1781,{"$f":"A1783/README!B$4","v":4.0385487528344671E-2},0]
[1782,{"$f":"A1784/README!B$4","v":4.0408163265306121E-2},0]
[1783,{"$f":"A1785/README!B$4","v":4.0430839002267571E-2},0]
[1784,{"$f":"A1786/README!B$4","v":4.0453514739229028E-2},0]
[1785,{"$f":"A1787/README!B$4","v":4.0476190476190478E-2},0]
[1786,{"$f":"A1788/README!B$4","v":4.0498866213151928E-2},0]
[1787,{"$f":"A1789/README!B$4","v":4.0521541950113378E-2},0]
[1788,{"$f":"A1790/README!B$4","v":4.0544217687074828E-2},0]
[1789,{"$f":"A1791/README!B$4","v":4.0566893424036278E-2},0]
[1790,{"$f":"A1792/README!B$4","v":4.0589569160997735E-2},0]
[1791,{"$f":"A1793/README!B$4","v":4.0612244897959185E-2},0]
[1792,{"$f":"A1794/README!B$4","v":4.0634920634920635E-2},0]
[1793,{"$f":"A1795/README!B$4","v":4.0657596371882085E-2},0]
[1794,{"$f":"A1796/README!B$4","v":4.0680272108843535E-2},0]
[1795,{"$f":"A1797/README!B$4","v":4.0702947845804992E-2},0]
[1796,{"$f":"A1798/README!B$4","v":4.0725623582766442E-2},0]
[1797,{"$f":"A1799/README!B$4","v":4.0748299319727892E-2},0]
[1798,{"$f":"A1800/README!B$4","v":4.0770975056689342E-2},0]
[1799,{"$f":"A1801/README!B$4","v":4.0793650793650792E-2},0]
[1800,{"$f":"A1802/README!B$4","v":4.0816326530612242E-2},0]
[1801,{"$f":"A1803/README!B$4","v":4.0839002267573699E-2},0]
[1802,{"$f":"A1804/README!B$4","v":4.0861678004535149E-2},0]
[1803,{"$f":"A1805/README!B$4","v":4.0884353741496599E-2},0]
[1804,{"$f":"A1806/README!B$4","v":4.0907029478458048E-2},0]
[1805,{"$f":"A1807/README!B$4","v":4.0929705215419498E-2},0]
[1806,{"$f":"A1808/README!B$4","v":4.0952380952380955E-2},0]
[1807,{"$f":"A1809/README!B$4","v":4.0975056689342405E-2},0]
[1808,{"$f":"A1810/README!B$4","v":4.0997732426303855E-2},0]
[1809,{"$f":"A1811/README!B$4","v":4.1020408163265305E-2},0]
[1810,{"$f":"A1812/README!B$4","v":4.1043083900226755E-2},0]
[1811,{"$f":"A1813/README!B$4","v":4.1065759637188205E-2},0]
[1812,{"$f":"A1814/README!B$4","v":4.1088435374149662E-2},0]
[1813,{"$f":"A1815/README!B$4","v":4.1111111111111112E-2},0]
[1814,{"$f":"A1816/README!B$4","v":4.1133786848072562E-2},0]
[1815,{"$f":"A1817/README!B$4","v":4.1156462585034012E-2},0]
[1816,{"$f":"A1818/README!B$4","v":4.1179138321995462E-2},0]
[1817,{"$f":"A1819/README!B$4","v":4.1201814058956919E-2},0]
[1818,{"$f":"A1820/README!B$4","v":4.1224489795918369E-2},0]
[1819,{"$f":"A1821/README!B$4","v":4.1247165532879819E-2},0]
[1820,{"$f":"A1822/README!B$4","v":4.1269841269841269E-2},0]
[1821,{"$f":"A1823/README!B$4","v":4.1292517006802719E-2},0]
[1822,{"$f":"A1824/README!B$4","v":4.1315192743764169E-2},0]
[1823,{"$f":"A1825/README!B$4","v":4.1337868480725626E-2},0]
[1824,{"$f":"A1826/README!B$4","v":4.1360544217687076E-2},0]
[1825,{"$f":"A1827/README!B$4","v":4.1383219954648526E-2},0]
[1826,{"$f":"A1828/README!B$4","v":4.1405895691609976E-2},0]
[1827,{"$f":"A1829/README!B$4","v":4.1428571428571426E-2},0]
[1828,{"$f":"A1830/README!B$4","v":4.1451247165532883E-2},0]
[1829,{"$f":"A1831/README!B$4","v":4.1473922902494333E-2},0]
[1830,{"$f":"A1832/README!B$4","v":4.1496598639455783E-2},0]
[1831,{"$f":"A1833/README!B$4","v":4.1519274376417233E-2},0]
[1832,{"$f":"A1834/README!B$4","v":4.1541950113378683E-2},0]
[1833,{"$f":"A1835/README!B$4","v":4.1564625850340139E-2},0]
[1834,{"$f":"A1836/README!B$4","v":4.1587301587301589E-2},0]
[1835,{"$f":"A1837/README!B$4","v":4.1609977324263039E-2},0]
[1836,{"$f":"A1838/README!B$4","v":4.1632653061224489E-2},0]
[1837,{"$f":"A1839/README!B$4","v":4.1655328798185939E-2},0]
[1838,{"$f":"A1840/README!B$4","v":4.1678004535147389E-2},0]
[1839,{"$f":"A1841/README!B$4","v":4.1700680272108846E-2},0]
[1840,{"$f":"A1842/README!B$4","v":4.1723356009070296E-2},0]
[1841,{"$f":"A1843/README!B$4","v":4.1746031746031746E-2},0]
[1842,{"$f":"A1844/README!B$4","v":4.1768707482993196E-2},0]
[1843,{"$f":"A1845/README!B$4","v":4.1791383219954646E-2},0]
[1844,{"$f":"A1846/README!B$4","v":4.1814058956916103E-2},0]
[1845,{"$f":"A1847/README!B$4","v":4.1836734693877553E-2},0]
[1846,{"$f":"A1848/README!B$4","v":4.1859410430839003E-2},0]
[1847,{"$f":"A1849/README!B$4","v":4.1882086167800453E-2},0]
[1848,{"$f":"A1850/README!B$4","v":4.1904761904761903E-2},0]
[1849,{"$f":"A1851/README!B$4","v":4.1927437641723353E-2},0]
[1850,{"$f":"A1852/README!B$4","v":4.195011337868481E-2},0]
[1851,{"$f":"A1853/README!B$4","v":4.197278911564626E-2},0]
[1852,{"$f":"A1854/README!B$4","v":4.199546485260771E-2},0]
[1853,{"$f":"A1855/README!B$4","v":4.201814058956916E-2},0]
[1854,{"$f":"A1856/README!B$4","v":4.204081632653061E-2},0]
[1855,{"$f":"A1857/README!B$4","v":4.2063492063492067E-2},0]
[1856,{"$f":"A1858/README!B$4","v":4.2086167800453517E-2},0]
[1857,{"$f":"A1859/README!B$4","v":4.2108843537414967E-2},0]
[1858,{"$f":"A1860/README!B$4","v":4.2131519274376417E-2},0]
[1859,{"$f":"A1861/README!B$4","v":4.2154195011337867E-2},0]
[1860,{"$f":"A1862/README!B$4","v":4.2176870748299317E-2},0]
[1861,{"$f":"A1863/README!B$4","v":4.2199546485260774E-2},0]
[1862,{"$f":"A1864/README!B$4","v":4.2222222222222223E-2},0]
[1863,{"$f":"A1865/README!B$4","v":4.2244897959183673E-2},0]
[1864,{"$f":"A1866/README!B$4","v":4.2267573696145123E-2},0]
[1865,{"$f":"A1867/README!B$4","v":4.2290249433106573E-2},0]
[1866,{"$f":"A1868/README!B$4","v":4.231292517006803E-2},0]
[1867,{"$f":"A1869/README!B$4","v":4.233560090702948E-2},0]
[1868,{"$f":"A1870/README!B$4","v":4.235827664399093E-2},0]
[1869,{"$f":"A1871/README!B$4","v":4.238095238095238E-2},0]
[1870,{"$f":"A1872/README!B$4","v":4.240362811791383E-2},0]
[1871,{"$f":"A1873/README!B$4","v":4.242630385487528E-2},0]
[1872,{"$f":"A1874/README!B$4","v":4.2448979591836737E-2},0]
[1873,{"$f":"A1875/README!B$4","v":4.2471655328798187E-2},0]
[1874,{"$f":"A1876/README!B$4","v":4.2494331065759637E-2},0]
[1875,{"$f":"A1877/README!B$4","v":4.2517006802721087E-2},0]
[1876,{"$f":"A1878/README!B$4","v":4.2539682539682537E-2},0]
[1877,{"$f":"A1879/README!B$4","v":4.2562358276643994E-2},0]
[1878,{"$f":"A1880/README!B$4","v":4.2585034013605444E-2},0]
[1879,{"$f":"A1881/README!B$4","v":4.2607709750566894E-2},0]
[1880,{"$f":"A1882/README!B$4","v":4.2630385487528344E-2},0]
[1881,{"$f":"A1883/README!B$4","v":4.2653061224489794E-2},0]
[1882,{"$f":"A1884/README!B$4","v":4.2675736961451244E-2},0]
[1883,{"$f":"A1885/README!B$4","v":4.2698412698412701E-2},0]
[1884,{"$f":"A1886/README!B$4","v":4.2721088435374151E-2},0]
[1885,{"$f":"A1887/README!B$4","v":4.2743764172335601E-2},0]
[1886,{"$f":"A1888/README!B$4","v":4.2766439909297051E-2},0]
[1887,{"$f":"A1889/README!B$4","v":4.2789115646258501E-2},0]
[1888,{"$f":"A1890/README!B$4","v":4.2811791383219958E-2},0]
[1889,{"$f":"A1891/README!B$4","v":4.2834467120181408E-2},0]
[1890,{"$f":"A1892/README!B$4","v":4.2857142857142858E-2},0]
[1891,{"$f":"A1893/README!B$4","v":4.2879818594104308E-2},0]
[1892,{"$f":"A1894/README!B$4","v":4.2902494331065757E-2},0]
[1893,{"$f":"A1895/README!B$4","v":4.2925170068027207E-2},0]
[1894,{"$f":"A1896/README!B$4","v":4.2947845804988664E-2},0]
[1895,{"$f":"A1897/README!B$4","v":4.2970521541950114E-2},0]
[1896,{"$f":"A1898/README!B$4","v":4.2993197278911564E-2},0]
[1897,{"$f":"A1899/README!B$4","v":4.3015873015873014E-2},0]
[1898,{"$f":"A1900/README!B$4","v":4.3038548752834464E-2},0]
[1899,{"$f":"A1901/README!B$4","v":4.3061224489795921E-2},0]
[1900,{"$f":"A1902/README!B$4","v":4.3083900226757371E-2},0]
[1901,{"$f":"A1903/README!B$4","v":4.3106575963718821E-2},0]
[1902,{"$f":"A1904/README!B$4","v":4.3129251700680271E-2},0]
[1903,{"$f":"A1905/README!B$4","v":4.3151927437641721E-2},0]
[1904,{"$f":"A1906/README!B$4","v":4.3174603174603178E-2},0]
[1905,{"$f":"A1907/README!B$4","v":4.3197278911564628E-2},0]
[1906,{"$f":"A1908/README!B$4","v":4.3219954648526078E-2},0]
[1907,{"$f":"A1909/README!B$4","v":4.3242630385487528E-2},0]
[1908,{"$f":"A1910/README!B$4","v":4.3265306122448978E-2},0]
[1909,{"$f":"A1911/README!B$4","v":4.3287981859410428E-2},0]
[1910,{"$f":"A1912/README!B$4","v":4.3310657596371885E-2},0]
[1911,{"$f":"A1913/README!B$4","v":4.3333333333333335E-2},0]
[1912,{"$f":"A1914/README!B$4","v":4.3356009070294785E-2},0]
[1913,{"$f":"A1915/README!B$4","v":4.3378684807256235E-2},0]
[1914,{"$f":"A1916/README!B$4","v":4.3401360544217685E-2},0]
[1915,{"$f":"A1917/README!B$4","v":4.3424036281179142E-2},0]
[1916,{"$f":"A1918/README!B$4","v":4.3446712018140592E-2},0]
[1917,{"$f":"A1919/README!B$4","v":4.3469387755102042E-2},0]
[1918,{"$f":"A1920/README!B$4","v":4.3492063492063492E-2},0]
[1919,{"$f":"A1921/README!B$4","v":4.3514739229024942E-2},0]
[1920,{"$f":"A1922/README!B$4","v":4.3537414965986392E-2},0]
[1921,{"$f":"A1923/README!B$4","v":4.3560090702947848E-2},0]
[1922,{"$f":"A1924/README!B$4","v":4.3582766439909298E-2},0]
[1923,{"$f":"A1925/README!B$4","v":4.3605442176870748E-2},0]
[1924,{"$f":"A1926/README!B$4","v":4.3628117913832198E-2},0]
[1925,{"$f":"A1927/README!B$4","v":4.3650793650793648E-2},0]
[1926,{"$f":"A1928/README!B$4","v":4.3673469387755105E-2},0]
[1927,{"$f":"A1929/README!B$4","v":4.3696145124716555E-2},0]
[1928,{"$f":"A1930/README!B$4","v":4.3718820861678005E-2},0]
[1929,{"$f":"A1931/README!B$4","v":4.3741496598639455E-2},0]
[1930,{"$f":"A1932/README!B$4","v":4.3764172335600905E-2},0]
[1931,{"$f":"A1933/README!B$4","v":4.3786848072562355E-2},0]
[1932,{"$f":"A1934/README!B$4","v":4.3809523809523812E-2},0]
[1933,{"$f":"A1935/README!B$4","v":4.3832199546485262E-2},0]
[1934,{"$f":"A1936/README!B$4","v":4.3854875283446712E-2},0]
[1935,{"$f":"A1937/README!B$4","v":4.3877551020408162E-2},0]
[1936,{"$f":"A1938/README!B$4","v":4.3900226757369612E-2},0]
[1937,{"$f":"A1939/README!B$4","v":4.3922902494331069E-2},0]
[1938,{"$f":"A1940/README!B$4","v":4.3945578231292519E-2},0]
[1939,{"$f":"A1941/README!B$4","v":4.3968253968253969E-2},0]
[1940,{"$f":"A1942/README!B$4","v":4.3990929705215419E-2},0]
[1941,{"$f":"A1943/README!B$4","v":4.4013605442176869E-2},0]
[1942,{"$f":"A1944/README!B$4","v":4.4036281179138319E-2},0]
[1943,{"$f":"A1945/README!B$4","v":4.4058956916099776E-2},0]
[1944,{"$f":"A1946/README!B$4","v":4.4081632653061226E-2},0]
[1945,{"$f":"A1947/README!B$4","v":4.4104308390022676E-2},0]
[1946,{"$f":"A1948/README!B$4","v":4.4126984126984126E-2},0]
[1947,{"$f":"A1949/README!B$4","v":4.4149659863945576E-2},0]
[1948,{"$f":"A1950/README!B$4","v":4.4172335600907033E-2},0]
[1949,{"$f":"A1951/README!B$4","v":4.4195011337868483E-2},0]
[1950,{"$f":"A1952/README!B$4","v":4.4217687074829932E-2},0]
[1951,{"$f":"A1953/README!B$4","v":4.4240362811791382E-2},0]
[1952,{"$f":"A1954/README!B$4","v":4.4263038548752832E-2},0]
[1953,{"$f":"A1955/README!B$4","v":4.4285714285714282E-2},0]
[1954,{"$f":"A1956/README!B$4","v":4.4308390022675739E-2},0]
[1955,{"$f":"A1957/README!B$4","v":4.4331065759637189E-2},0]
[1956,{"$f":"A1958/README!B$4","v":4.4353741496598639E-2},0]
[1957,{"$f":"A1959/README!B$4","v":4.4376417233560089E-2},0]
[1958,{"$f":"A1960/README!B$4","v":4.4399092970521539E-2},0]
[1959,{"$f":"A1961/README!B$4","v":4.4421768707482996E-2},0]
[1960,{"$f":"A1962/README!B$4","v":4.4444444444444446E-2},0]
[1961,{"$f":"A1963/README!B$4","v":4.4467120181405896E-2},0]
[1962,{"$f":"A1964/README!B$4","v":4.4489795918367346E-2},0]
[1963,{"$f":"A1965/README!B$4","v":4.4512471655328796E-2},0]
[1964,{"$f":"A1966/README!B$4","v":4.4535147392290246E-2},0]
[1965,{"$f":"A1967/README!B$4","v":4.4557823129251703E-2},0]
[1966,{"$f":"A1968/README!B$4","v":4.4580498866213153E-2},0]
[1967,{"$f":"A1969/README!B$4","v":4.4603174603174603E-2},0]
[1968,{"$f":"A1970/README!B$4","v":4.4625850340136053E-2},0]
[1969,{"$f":"A1971/README!B$4","v":4.4648526077097503E-2},0]
[1970,{"$f":"A1972/README!B$4","v":4.467120181405896E-2},0]
[1971,{"$f":"A1973/README!B$4","v":4.469387755102041E-2},0]
[1972,{"$f":"A1974/README!B$4","v":4.471655328798186E-2},0]
[1973,{"$f":"A1975/README!B$4","v":4.473922902494331E-2},0]
[1974,{"$f":"A1976/README!B$4","v":4.476190476190476E-2},0]
[1975,{"$f":"A1977/README!B$4","v":4.4784580498866217E-2},0]
[1976,{"$f":"A1978/README!B$4","v":4.4807256235827667E-2},0]
[1977,{"$f":"A1979/README!B$4","v":4.4829931972789117E-2},0]
[1978,{"$f":"A1980/README!B$4","v":4.4852607709750567E-2},0]
[1979,{"$f":"A1981/README!B$4","v":4.4875283446712017E-2},0]
[1980,{"$f":"A1982/README!B$4","v":4.4897959183673466E-2},0]
[1981,{"$f":"A1983/README!B$4","v":4.4920634920634923E-2},0]
[1982,{"$f":"A1984/README!B$4","v":4.4943310657596373E-2},0]
[1983,{"$f":"A1985/README!B$4","v":4.4965986394557823E-2},0]
[1984,{"$f":"A1986/README!B$4","v":4.4988662131519273E-2},0]
[1985,{"$f":"A1987/README!B$4","v":4.5011337868480723E-2},0]
[1986,{"$f":"A1988/README!B$4","v":4.503401360544218E-2},0]
[1987,{"$f":"A1989/README!B$4","v":4.505668934240363E-2},0]
[1988,{"$f":"A1990/README!B$4","v":4.507936507936508E-2},0]
[1989,{"$f":"A1991/README!B$4","v":4.510204081632653E-2},0]
[1990,{"$f":"A1992/README!B$4","v":4.512471655328798E-2},0]
[1991,{"$f":"A1993/README!B$4","v":4.514739229024943E-2},0]
[1992,{"$f":"A1994/README!B$4","v":4.5170068027210887E-2},0]
[1993,{"$f":"A1995/README!B$4","v":4.5192743764172337E-2},0]
[1994,{"$f":"A1996/README!B$4","v":4.5215419501133787E-2},0]
[1995,{"$f":"A1997/README!B$4","v":4.5238095238095237E-2},0]
[1996,{"$f":"A1998/README!B$4","v":4.5260770975056687E-2},0]
[1997,{"$f":"A1999/README!B$4","v":4.5283446712018144E-2},0]
[1998,{"$f":"A2000/README!B$4","v":4.5306122448979594E-2},0]
[1999,{"$f":"A2001/README!B$4","v":4.5328798185941044E-2},0]
[2000,{"$f":"A2002/README!B$4","v":4.5351473922902494E-2},0]
[2001,{"$f":"A2003/README!B$4","v":4.5374149659863944E-2},0]
[2002,{"$f":"A2004/README!B$4","v":4.5396825396825394E-2},0]
[2003,{"$f":"A2005/README!B$4","v":4.5419501133786851E-2},0]
[2004,{"$f":"A2006/README!B$4","v":4.5442176870748301E-2},0]
[2005,{"$f":"A2007/README!B$4","v":4.5464852607709751E-2},0]
[2006,{"$f":"A2008/README!B$4","v":4.5487528344671201E-2},0]
[2007,{"$f":"A2009/README!B$4","v":4.5510204081632651E-2},0]
[2008,{"$f":"A2010/README!B$4","v":4.5532879818594107E-2},0]
[2009,{"$f":"A2011/README!B$4","v":4.5555555555555557E-2},0]
[2010,{"$f":"A2012/README!B$4","v":4.5578231292517007E-2},0]
[2011,{"$f":"A2013/README!B$4","v":4.5600907029478457E-2},0]
[2012,{"$f":"A2014/README!B$4","v":4.5623582766439907E-2},0]
[2013,{"$f":"A2015/README!B$4","v":4.5646258503401357E-2},0]
[2014,{"$f":"A2016/README!B$4","v":4.5668934240362814E-2},0]
[2015,{"$f":"A2017/README!B$4","v":4.5691609977324264E-2},0]
[2016,{"$f":"A2018/README!B$4","v":4.5714285714285714E-2},0]
[2017,{"$f":"A2019/README!B$4","v":4.5736961451247164E-2},0]
[2018,{"$f":"A2020/README!B$4","v":4.5759637188208614E-2},0]
[2019,{"$f":"A2021/README!B$4","v":4.5782312925170071E-2},0]
[2020,{"$f":"A2022/README!B$4","v":4.5804988662131521E-2},0]
[2021,{"$f":"A2023/README!B$4","v":4.5827664399092971E-2},0]
[2022,{"$f":"A2024/README!B$4","v":4.5850340136054421E-2},0]
[2023,{"$f":"A2025/README!B$4","v":4.5873015873015871E-2},0]
[2024,{"$f":"A2026/README!B$4","v":4.5895691609977321E-2},0]
[2025,{"$f":"A2027/README!B$4","v":4.5918367346938778E-2},0]
[2026,{"$f":"A2028/README!B$4","v":4.5941043083900228E-2},0]
[2027,{"$f":"A2029/README!B$4","v":4.5963718820861678E-2},0]
[2028,{"$f":"A2030/README!B$4","v":4.5986394557823128E-2},0]
[2029,{"$f":"A2031/README!B$4","v":4.6009070294784578E-2},0]
[2030,{"$f":"A2032/README!B$4","v":4.6031746031746035E-2},0]
[2031,{"$f":"A2033/README!B$4","v":4.6054421768707485E-2},0]
[2032,{"$f":"A2034/README!B$4","v":4.6077097505668935E-2},0]
[2033,{"$f":"A2035/README!B$4","v":4.6099773242630385E-2},0]
[2034,{"$f":"A2036/README!B$4","v":4.6122448979591835E-2},0]
[2035,{"$f":"A2037/README!B$4","v":4.6145124716553285E-2},0]
[2036,{"$f":"A2038/README!B$4","v":4.6167800453514742E-2},0]
[2037,{"$f":"A2039/README!B$4","v":4.6190476190476192E-2},0]
[2038,{"$f":"A2040/README!B$4","v":4.6213151927437641E-2},0]
[2039,{"$f":"A2041/README!B$4","v":4.6235827664399091E-2},0]
[2040,{"$f":"A2042/README!B$4","v":4.6258503401360541E-2},0]
[2041,{"$f":"A2043/README!B$4","v":4.6281179138321998E-2},0]
[2042,{"$f":"A2044/README!B$4","v":4.6303854875283448E-2},0]
[2043,{"$f":"A2045/README!B$4","v":4.6326530612244898E-2},0]
[2044,{"$f":"A2046/README!B$4","v":4.6349206349206348E-2},0]
[2045,{"$f":"A2047/README!B$4","v":4.6371882086167798E-2},0]
[2046,{"$f":"A2048/README!B$4","v":4.6394557823129248E-2},0]
[2047,{"$f":"A2049/README!B$4","v":4.6417233560090705E-2},0]